Workbook

Sheet Rekapitulace zakázky
A1: Export Komplet | AZ1: VZ | BA1: 2.0 | BB1: ZAMOK | BT1: False | BU1: False | BV1: {269d8519-8e37-4799-b8d5-72f4bf6755da}
BS2: 0 | BT2: 21
BS3: 0 | BT3: 15
D4: REKAPITULACE ZAKÁZKY | AS4: v --- níže se nacházejí doplnkové a pomocné údaje k sestavám --- v | BE4: Návod na vyplnění | BS4: 0
D5: Kód: | K5: 2019_10_15 | BE5: Měnit lze pouze buňky se žlutým podbarvením!_x000D_ _x000D_ 1) v Rekapitulaci zakázky vyplňte údaje o Uchazeči (přenesou se do ostatních sestav i v jiných listech)_x000D_ _x000D_ 2) na vybraných listech vyplňte v sestavě Soupis prací ceny u položek | BS5: 0
D6: Zakázka: | K6: Zimní údržba a odstraňování sněhu u ST Hradec Králové 2019 - 2020 | BS6: 0
D7: KSO: | AK7: CC-CZ: | BS7: 0
D8: Místo: | K8: ST Hradec Králové | AK8: Datum: | AN8: 15. 10. 2019 | BS8: 0
BS9: 0
D10: Zadavatel: | AK10: IČ: | BS10: 0
AK11: DIČ: | BS11: 0
BS12: 0
D13: Uchazeč: | AK13: IČ: | AN13: Vyplň údaj | BS13: 0
E14: Vyplň údaj | AK14: DIČ: | AN14: Vyplň údaj | BS14: 0
BS15: False
D16: Projektant: | AK16: IČ: | BS16: False
AK17: DIČ: | BS17: True
BS18: 0
D19: Zpracovatel: | AK19: IČ: | BS19: 0
AK20: DIČ: | BS20: True
D22: Poznámka:
E23: Soupis prací je sestaven s využitím Cenové soustavy ÚRS. Položky, které pochází z této cenové soustavy, jsou ve sloupci 'Cenová soustava' označeny popisem 'CS ÚRS' a úrovní příslušného kalendářního pololetí. Veškeré další informace vymezující popis a podmínky použití těchto položek z Cenové soustavy, které nejsou uvedeny přímo v soupisu prací, jsou neomezeně dálkově k dispozici na www.cs-urs.cz, sekce Cenové a technické podmínky.
D26: Cena bez DPH | AK26: =ROUND(AG54,15) -> 0
L28: Sazba daně | W28: Základ daně | AK28: Výše daně
D29: DPH | F29: základní | L29: 0.21 | W29: =ROUND(AZ54, 15) -> 0 | AK29: =ROUND(AV54, 15) -> 0
F30: snížená | L30: 0.15 | W30: =ROUND(BA54, 15) -> 0 | AK30: =ROUND(AW54, 15) -> 0
F31: zákl. přenesená | L31: 0.21 | W31: =ROUND(BB54, 15) -> 0 | AK31: 0
F32: sníž. přenesená | L32: 0.15 | W32: =ROUND(BC54, 15) -> 0 | AK32: 0
F33: nulová | L33: 0 | W33: =ROUND(BD54, 15) -> 0 | AK33: 0
D35: Cena s DPH | T35: v | X35: CZK | AK35: =SUM(AK26:AK33) -> 0
C42: REKAPITULACE OBJEKTŮ ZAKÁZKY A SOUPISŮ PRACÍ
C44: Kód: | L44: =K5 -> 2019_10_15
C45: Zakázka: | L45: =K6 -> Zimní údržba a odstraňování sněhu u ST Hradec Králové 2019 - 2020
C47: Místo: | L47: =IF(K8="","",K8) -> ST Hradec Králové | AI47: Datum: | AM47: =IF(AN8= "","",AN8) -> 15. 10. 2019
C49: Zadavatel: | L49: =IF(E11= "","",E11) | AI49: Projektant: | AM49: =IF(E17="","",E17) | AS49: Informatívní údaje z listů zakázek
C50: Uchazeč: | L50: =IF(E14= "Vyplň údaj","",E14) | AI50: Zpracovatel: | AM50: =IF(E20="","",E20)
C52: Kód | I52: Popis | AG52: Cena bez DPH [CZK] | AN52: Cena s DPH [CZK] | AQ52: Typ | AS52: z toho Ostat._x000D_ náklady [CZK] | AT52: DPH [CZK] | AU52: Normohodiny [h] | AV52: DPH základní [CZK] | AW52: DPH snížená [CZK] | AX52: DPH základní přenesená_x000D_ [CZK] | AY52: DPH snížená přenesená_x000D_ [CZK] | AZ52: Základna_x000D_ DPH základní | BA52: Základna_x000D_ DPH snížená | BB52: Základna_x000D_ DPH zákl. přenesená | BC52: Základna_x000D_ DPH sníž. přenesená | BD52: Základna_x000D_ DPH nulová
C54: Náklady zakázky celkem | AG54: =ROUND(SUM(AG55:AG57),15) -> 0 | AN54: =SUM(AG54,AT54) -> 0 | AS54: =ROUND(SUM(AS55:AS57),15) -> 0 | AT54: =ROUND(SUM(AV54:AW54),15) -> 0 | AU54: =ROUND(SUM(AU55:AU57),5) -> 0 | AV54: =ROUND(AZ54*L29,15) -> 0 | AW54: =ROUND(BA54*L30,15) -> 0 | AX54: =ROUND(BB54*L29,15) -> 0 | AY54: =ROUND(BC54*L30,15) -> 0 | AZ54: =ROUND(SUM(AZ55:AZ57),15) -> 0 | BA54: =ROUND(SUM(BA55:BA57),15) -> 0 | BB54: =ROUND(SUM(BB55:BB57),15) -> 0 | BC54: =ROUND(SUM(BC55:BC57),15) -> 0 | BD54: =ROUND(SUM(BD55:BD57),15) -> 0 | BS54: D | BT54: 0 | BU54: ###NOIMPORT### | BV54: IMPORT | BW54: {269d8519-8e37-4799-b8d5-72f4bf6755da} | BX54: {00000000-0000-0000-0000-000000000000}
A55: / | D55: SO 01 | J55: Zimní údržba | AG55: ='SO 01 - Zimní údržba'!J30 -> 0 | AN55: =SUM(AG55,AT55) -> 0 | AQ55: STA | AS55: 0 | AT55: =ROUND(SUM(AV55:AW55),15) -> 0 | AU55: ='SO 01 - Zimní údržba'!P79 -> 0 | AV55: ='SO 01 - Zimní údržba'!J33 -> 0 | AW55: ='SO 01 - Zimní údržba'!J34 -> 0 | AX55: ='SO 01 - Zimní údržba'!J35 -> 0 | AY55: ='SO 01 - Zimní údržba'!J36 -> 0 | AZ55: ='SO 01 - Zimní údržba'!F33 -> 0 | BA55: ='SO 01 - Zimní údržba'!F34 -> 0 | BB55: ='SO 01 - Zimní údržba'!F35 -> 0 | BC55: ='SO 01 - Zimní údržba'!F36 -> 0 | BD55: ='SO 01 - Zimní údržba'!F37 -> 0 | BT55: 1 | BV55: IMPORT | BW55: {107462f7-94c6-48a3-88bf-d04f33ed9c5c} | BX55: {269d8519-8e37-4799-b8d5-72f4bf6755da} | CM55: 2
A56: / | D56: SO 02 | J56: Zimní údržba R-položky | AG56: ='SO 02 - Zimní údržba R-po...'!J30 -> 0 | AN56: =SUM(AG56,AT56) -> 0 | AQ56: STA | AS56: 0 | AT56: =ROUND(SUM(AV56:AW56),15) -> 0 | AU56: ='SO 02 - Zimní údržba R-po...'!P79 -> 0 | AV56: ='SO 02 - Zimní údržba R-po...'!J33 -> 0 | AW56: ='SO 02 - Zimní údržba R-po...'!J34 -> 0 | AX56: ='SO 02 - Zimní údržba R-po...'!J35 -> 0 | AY56: ='SO 02 - Zimní údržba R-po...'!J36 -> 0 | AZ56: ='SO 02 - Zimní údržba R-po...'!F33 -> 0 | BA56: ='SO 02 - Zimní údržba R-po...'!F34 -> 0 | BB56: ='SO 02 - Zimní údržba R-po...'!F35 -> 0 | BC56: ='SO 02 - Zimní údržba R-po...'!F36 -> 0 | BD56: ='SO 02 - Zimní údržba R-po...'!F37 -> 0 | BT56: 1 | BV56: IMPORT | BW56: {4062f519-c6ff-4a65-9403-e8a6cfdcbb52} | BX56: {269d8519-8e37-4799-b8d5-72f4bf6755da} | CM56: 2
A57: / | D57: VON | J57: Vedlejší a ostatní náklady | AG57: ='VON - Vedlejší a ostatní ...'!J30 -> 0 | AN57: =SUM(AG57,AT57) -> 0 | AQ57: STA | AS57: 0 | AT57: =ROUND(SUM(AV57:AW57),15) -> 0 | AU57: ='VON - Vedlejší a ostatní ...'!P79 -> 0 | AV57: ='VON - Vedlejší a ostatní ...'!J33 -> 0 | AW57: ='VON - Vedlejší a ostatní ...'!J34 -> 0 | AX57: ='VON - Vedlejší a ostatní ...'!J35 -> 0 | AY57: ='VON - Vedlejší a ostatní ...'!J36 -> 0 | AZ57: ='VON - Vedlejší a ostatní ...'!F33 -> 0 | BA57: ='VON - Vedlejší a ostatní ...'!F34 -> 0 | BB57: ='VON - Vedlejší a ostatní ...'!F35 -> 0 | BC57: ='VON - Vedlejší a ostatní ...'!F36 -> 0 | BD57: ='VON - Vedlejší a ostatní ...'!F37 -> 0 | BT57: 1 | BV57: IMPORT | BW57: {008b177e-0c55-4069-8f5b-9b37c060bd8f} | BX57: {269d8519-8e37-4799-b8d5-72f4bf6755da} | CM57: 2

Sheet SO 01 - Zimní údržba
AT2: {107462f7-94c6-48a3-88bf-d04f33ed9c5c}
AT3: 2
D4: KRYCÍ LIST SOUPISU PRACÍ | M4: v --- níže se nacházejí doplnkové a pomocné údaje k sestavám --- v | AT4: False
D6: Zakázka:
E7: ='Rekapitulace zakázky'!K6 -> Zimní údržba a odstraňování sněhu u ST Hradec Králové 2019 - 2020
D8: Objekt:
E9: SO 01 - Zimní údržba
D11: KSO: | I11: CC-CZ:
D12: Místo: | F12: ST Hradec Králové | I12: Datum: | J12: ='Rekapitulace zakázky'!AN8 -> 15. 10. 2019
D14: Zadavatel: | I14: IČ: | J14: =IF('Rekapitulace zakázky'!AN10="","",'Rekapitulace zakázky'!AN10)
E15: =IF('Rekapitulace zakázky'!E11="","",'Rekapitulace zakázky'!E11) | I15: DIČ: | J15: =IF('Rekapitulace zakázky'!AN11="","",'Rekapitulace zakázky'!AN11)
D17: Uchazeč: | I17: IČ: | J17: ='Rekapitulace zakázky'!AN13 -> Vyplň údaj
E18: ='Rekapitulace zakázky'!E14 -> Vyplň údaj | I18: DIČ: | J18: ='Rekapitulace zakázky'!AN14 -> Vyplň údaj
D20: Projektant: | I20: IČ: | J20: =IF('Rekapitulace zakázky'!AN16="","",'Rekapitulace zakázky'!AN16)
E21: =IF('Rekapitulace zakázky'!E17="","",'Rekapitulace zakázky'!E17) | I21: DIČ: | J21: =IF('Rekapitulace zakázky'!AN17="","",'Rekapitulace zakázky'!AN17)
D23: Zpracovatel: | I23: IČ: | J23: =IF('Rekapitulace zakázky'!AN19="","",'Rekapitulace zakázky'!AN19)
E24: =IF('Rekapitulace zakázky'!E20="","",'Rekapitulace zakázky'!E20) | I24: DIČ: | J24: =IF('Rekapitulace zakázky'!AN20="","",'Rekapitulace zakázky'!AN20)
D26: Poznámka:
D30: Cena bez DPH | J30: =ROUND(J79, 15) -> 0
F32: Základ daně | I32: Sazba daně | J32: Výše daně
D33: DPH | E33: základní | F33: =ROUND((SUM(BE79:BE151)), 15) -> 0 | I33: 0.21 | J33: =ROUND(((SUM(BE79:BE151))*I33), 15) -> 0
E34: snížená | F34: =ROUND((SUM(BF79:BF151)), 15) -> 0 | I34: 0.15 | J34: =ROUND(((SUM(BF79:BF151))*I34), 15) -> 0
E35: zákl. přenesená | F35: =ROUND((SUM(BG79:BG151)), 15) -> 0 | I35: 0.21 | J35: =0 -> 0
E36: sníž. přenesená | F36: =ROUND((SUM(BH79:BH151)), 15) -> 0 | I36: 0.15 | J36: =0 -> 0
E37: nulová | F37: =ROUND((SUM(BI79:BI151)), 15) -> 0 | I37: 0 | J37: =0 -> 0
D39: Cena s DPH | G39: v | H39: CZK | J39: =SUM(J30:J37) -> 0
C45: REKAPITULACE ČLENĚNÍ SOUPISU PRACÍ
C47: Zakázka:
E48: =E7 -> Zimní údržba a odstraňování sněhu u ST Hradec Králové 2019 - 2020
C49: Objekt:
E50: =E9 -> SO 01 - Zimní údržba
C52: Místo: | F52: =F12 -> ST Hradec Králové | I52: Datum: | J52: =IF(J12="","",J12) -> 15. 10. 2019
C54: Zadavatel: | F54: =E15 | I54: Projektant: | J54: =E21
C55: Uchazeč: | F55: =IF(E18="","",E18) -> Vyplň údaj | I55: Zpracovatel: | J55: =E24
C57: Kód dílu - Popis | J57: Cena celkem [CZK]
C59: Náklady zakázky celkem | J59: =J79 -> 0 | AU59: -1
C66: SOUPIS PRACÍ
C68: Zakázka:
E69: =E7 -> Zimní údržba a odstraňování sněhu u ST Hradec Králové 2019 - 2020
C70: Objekt:
E71: =E9 -> SO 01 - Zimní údržba
C73: Místo: | F73: =F12 -> ST Hradec Králové | I73: Datum: | J73: =IF(J12="","",J12) -> 15. 10. 2019
C75: Zadavatel: | F75: =E15 | I75: Projektant: | J75: =E21
C76: Uchazeč: | F76: =IF(E18="","",E18) -> Vyplň údaj | I76: Zpracovatel: | J76: =E24
C78: PČ | D78: Typ | E78: Kód | F78: Popis | G78: MJ | H78: Množství | I78: J.cena [CZK] | J78: Cena celkem [CZK] | K78: Cenová soustava | N78: DPH | O78: J. Nh [h] | P78: Nh celkem [h] | Q78: J. hmotnost [t] | R78: Hmotnost celkem [t] | S78: J. suť [t] | T78: Suť Celkem [t]
C79: Náklady soupisu celkem | J79: =BK79 -> 0 | P79: =SUM(P80:P151) -> 0 | R79: =SUM(R80:R151) -> 575.01 | T79: =SUM(T80:T151) -> 0 | AT79: D | AU79: -1 | BK79: =SUM(BK80:BK151) -> 0
C80: 1 | D80: K | E80: 5903005010 | F80: Příprava výhybky jednoduché na provoz v zimě s jedním závěrem 1:5,7 až 1:12; 14° až 4,5° | G80: kus | H80: 20 | J80: =ROUND(I80*H80,15) -> 0 | N80: základní | P80: =O80*H80 -> 0 | Q80: 0 | R80: =Q80*H80 -> 0 | S80: 0 | T80: =S80*H80 -> 0 | AR80: 4 | AT80: K | AU80: 0 | AY80: ROZPOCET | BE80: =IF(N80="základní",J80,0) -> 0 | BF80: =IF(N80="snížená",J80,0) -> 0 | BG80: =IF(N80="zákl. přenesená",J80,0) -> 0 | BH80: =IF(N80="sníž. přenesená",J80,0) -> 0 | BI80: =IF(N80="nulová",J80,0) -> 0 | BJ80: 1 | BK80: =ROUND(I80*H80,15) -> 0 | BL80: 4 | BM80: -2105674629
D81: PP | F81: Příprava výhybky jednoduché na provoz v zimě s jedním závěrem 1:5,7 až 1:12; 14° až 4,5° | AT81: PP | AU81: 0
C82: 2 | D82: K | E82: 5903005020 | F82: Příprava výhybky jednoduché na provoz v zimě s více závěry 1:7,5 až 1:11; 14° až 5° | G82: kus | H82: 20 | J82: =ROUND(I82*H82,15) -> 0 | N82: základní | P82: =O82*H82 -> 0 | Q82: 0 | R82: =Q82*H82 -> 0 | S82: 0 | T82: =S82*H82 -> 0 | AR82: 4 | AT82: K | AU82: 0 | AY82: ROZPOCET | BE82: =IF(N82="základní",J82,0) -> 0 | BF82: =IF(N82="snížená",J82,0) -> 0 | BG82: =IF(N82="zákl. přenesená",J82,0) -> 0 | BH82: =IF(N82="sníž. přenesená",J82,0) -> 0 | BI82: =IF(N82="nulová",J82,0) -> 0 | BJ82: 1 | BK82: =ROUND(I82*H82,15) -> 0 | BL82: 4 | BM82: 2105884014
D83: PP | F83: Příprava výhybky jednoduché na provoz v zimě s více závěry 1:7,5 až 1:11; 14° až 5° | AT83: PP | AU83: 0
C84: 3 | D84: K | E84: 5903005030 | F84: Příprava výhybky jednoduché na provoz v zimě s více závěry 1:12 až 1:18,5; 4,5°až 3° | G84: kus | H84: 10 | J84: =ROUND(I84*H84,15) -> 0 | N84: základní | P84: =O84*H84 -> 0 | Q84: 0 | R84: =Q84*H84 -> 0 | S84: 0 | T84: =S84*H84 -> 0 | AR84: 4 | AT84: K | AU84: 0 | AY84: ROZPOCET | BE84: =IF(N84="základní",J84,0) -> 0 | BF84: =IF(N84="snížená",J84,0) -> 0 | BG84: =IF(N84="zákl. přenesená",J84,0) -> 0 | BH84: =IF(N84="sníž. přenesená",J84,0) -> 0 | BI84: =IF(N84="nulová",J84,0) -> 0 | BJ84: 1 | BK84: =ROUND(I84*H84,15) -> 0 | BL84: 4 | BM84: 1192378690
D85: PP | F85: Příprava výhybky jednoduché na provoz v zimě s více závěry 1:12 až 1:18,5; 4,5°až 3° | AT85: PP | AU85: 0
C86: 4 | D86: K | E86: 5903005050 | F86: Příprava výhybky jednoduché na provoz v zimě s více závěry a PHS 1:11 a 1:12 | G86: kus | H86: 10 | J86: =ROUND(I86*H86,15) -> 0 | N86: základní | P86: =O86*H86 -> 0 | Q86: 0 | R86: =Q86*H86 -> 0 | S86: 0 | T86: =S86*H86 -> 0 | AR86: 4 | AT86: K | AU86: 0 | AY86: ROZPOCET | BE86: =IF(N86="základní",J86,0) -> 0 | BF86: =IF(N86="snížená",J86,0) -> 0 | BG86: =IF(N86="zákl. přenesená",J86,0) -> 0 | BH86: =IF(N86="sníž. přenesená",J86,0) -> 0 | BI86: =IF(N86="nulová",J86,0) -> 0 | BJ86: 1 | BK86: =ROUND(I86*H86,15) -> 0 | BL86: 4 | BM86: 1079055015
D87: PP | F87: Příprava výhybky jednoduché na provoz v zimě s více závěry a PHS 1:11 a 1:12 | AT87: PP | AU87: 0
C88: 5 | D88: K | E88: 5903005070 | F88: Příprava výhybky jednoduché na provoz v zimě s více závěry a PHS 1:26,5 a menším | G88: kus | H88: 5 | J88: =ROUND(I88*H88,15) -> 0 | N88: základní | P88: =O88*H88 -> 0 | Q88: 0 | R88: =Q88*H88 -> 0 | S88: 0 | T88: =S88*H88 -> 0 | AR88: 4 | AT88: K | AU88: 0 | AY88: ROZPOCET | BE88: =IF(N88="základní",J88,0) -> 0 | BF88: =IF(N88="snížená",J88,0) -> 0 | BG88: =IF(N88="zákl. přenesená",J88,0) -> 0 | BH88: =IF(N88="sníž. přenesená",J88,0) -> 0 | BI88: =IF(N88="nulová",J88,0) -> 0 | BJ88: 1 | BK88: =ROUND(I88*H88,15) -> 0 | BL88: 4 | BM88: 1106819130
D89: PP | F89: Příprava výhybky jednoduché na provoz v zimě s více závěry a PHS 1:26,5 a menším | AT89: PP | AU89: 0
C90: 6 | D90: K | E90: 5903007010 | F90: Příprava výhybky křižovatkové na provoz v zimě celé | G90: kus | H90: 3 | J90: =ROUND(I90*H90,15) -> 0 | N90: základní | P90: =O90*H90 -> 0 | Q90: 0 | R90: =Q90*H90 -> 0 | S90: 0 | T90: =S90*H90 -> 0 | AR90: 4 | AT90: K | AU90: 0 | AY90: ROZPOCET | BE90: =IF(N90="základní",J90,0) -> 0 | BF90: =IF(N90="snížená",J90,0) -> 0 | BG90: =IF(N90="zákl. přenesená",J90,0) -> 0 | BH90: =IF(N90="sníž. přenesená",J90,0) -> 0 | BI90: =IF(N90="nulová",J90,0) -> 0 | BJ90: 1 | BK90: =ROUND(I90*H90,15) -> 0 | BL90: 4 | BM90: 881693424
D91: PP | F91: Příprava výhybky křižovatkové na provoz v zimě celé | AT91: PP | AU91: 0
C92: 7 | D92: K | E92: 5903007030 | F92: Příprava výhybky křižovatkové na provoz v zimě celé s PHS | G92: kus | H92: 3 | J92: =ROUND(I92*H92,15) -> 0 | N92: základní | P92: =O92*H92 -> 0 | Q92: 0 | R92: =Q92*H92 -> 0 | S92: 0 | T92: =S92*H92 -> 0 | AR92: 4 | AT92: K | AU92: 0 | AY92: ROZPOCET | BE92: =IF(N92="základní",J92,0) -> 0 | BF92: =IF(N92="snížená",J92,0) -> 0 | BG92: =IF(N92="zákl. přenesená",J92,0) -> 0 | BH92: =IF(N92="sníž. přenesená",J92,0) -> 0 | BI92: =IF(N92="nulová",J92,0) -> 0 | BJ92: 1 | BK92: =ROUND(I92*H92,15) -> 0 | BL92: 4 | BM92: -592925254
D93: PP | F93: Příprava výhybky křižovatkové na provoz v zimě celé s PHS | AT93: PP | AU93: 0
C94: 8 | D94: K | E94: 5903010010 | F94: Uložení posypového materiálu na místo potřeby | G94: m3 | H94: 140 | J94: =ROUND(I94*H94,15) -> 0 | N94: základní | P94: =O94*H94 -> 0 | Q94: 0 | R94: =Q94*H94 -> 0 | S94: 0 | T94: =S94*H94 -> 0 | AR94: 4 | AT94: K | AU94: 0 | AY94: ROZPOCET | BE94: =IF(N94="základní",J94,0) -> 0 | BF94: =IF(N94="snížená",J94,0) -> 0 | BG94: =IF(N94="zákl. přenesená",J94,0) -> 0 | BH94: =IF(N94="sníž. přenesená",J94,0) -> 0 | BI94: =IF(N94="nulová",J94,0) -> 0 | BJ94: 1 | BK94: =ROUND(I94*H94,15) -> 0 | BL94: 4 | BM94: -188118163
D95: PP | F95: Uložení posypového materiálu na místo potřeby | AT95: PP | AU95: 0
C96: 9 | D96: K | E96: 5903015010 | F96: Protisněhové zábrany zásněžky montáž | G96: kus | H96: 30 | J96: =ROUND(I96*H96,15) -> 0 | N96: základní | P96: =O96*H96 -> 0 | Q96: 0 | R96: =Q96*H96 -> 0 | S96: 0 | T96: =S96*H96 -> 0 | AR96: 4 | AT96: K | AU96: 0 | AY96: ROZPOCET | BE96: =IF(N96="základní",J96,0) -> 0 | BF96: =IF(N96="snížená",J96,0) -> 0 | BG96: =IF(N96="zákl. přenesená",J96,0) -> 0 | BH96: =IF(N96="sníž. přenesená",J96,0) -> 0 | BI96: =IF(N96="nulová",J96,0) -> 0 | BJ96: 1 | BK96: =ROUND(I96*H96,15) -> 0 | BL96: 4 | BM96: 1448581268
D97: PP | F97: Protisněhové zábrany zásněžky montáž | AT97: PP | AU97: 0
C98: 10 | D98: K | E98: 5903015020 | F98: Protisněhové zábrany zásněžky demontáž | G98: kus | H98: 30 | J98: =ROUND(I98*H98,15) -> 0 | N98: základní | P98: =O98*H98 -> 0 | Q98: 0 | R98: =Q98*H98 -> 0 | S98: 0 | T98: =S98*H98 -> 0 | AR98: 4 | AT98: K | AU98: 0 | AY98: ROZPOCET | BE98: =IF(N98="základní",J98,0) -> 0 | BF98: =IF(N98="snížená",J98,0) -> 0 | BG98: =IF(N98="zákl. přenesená",J98,0) -> 0 | BH98: =IF(N98="sníž. přenesená",J98,0) -> 0 | BI98: =IF(N98="nulová",J98,0) -> 0 | BJ98: 1 | BK98: =ROUND(I98*H98,15) -> 0 | BL98: 4 | BM98: -1557620615
D99: PP | F99: Protisněhové zábrany zásněžky demontáž | AT99: PP | AU99: 0
C100: 11 | D100: K | E100: 5903015030 | F100: Protisněhové zábrany ploty montáž | G100: m | H100: 30 | J100: =ROUND(I100*H100,15) -> 0 | N100: základní | P100: =O100*H100 -> 0 | Q100: 0 | R100: =Q100*H100 -> 0 | S100: 0 | T100: =S100*H100 -> 0 | AR100: 4 | AT100: K | AU100: 0 | AY100: ROZPOCET | BE100: =IF(N100="základní",J100,0) -> 0 | BF100: =IF(N100="snížená",J100,0) -> 0 | BG100: =IF(N100="zákl. přenesená",J100,0) -> 0 | BH100: =IF(N100="sníž. přenesená",J100,0) -> 0 | BI100: =IF(N100="nulová",J100,0) -> 0 | BJ100: 1 | BK100: =ROUND(I100*H100,15) -> 0 | BL100: 4 | BM100: -891415631
D101: PP | F101: Protisněhové zábrany ploty montáž | AT101: PP | AU101: 0
C102: 12 | D102: K | E102: 5903015040 | F102: Protisněhové zábrany ploty demontáž | G102: m | H102: 30 | J102: =ROUND(I102*H102,15) -> 0 | N102: základní | P102: =O102*H102 -> 0 | Q102: 0 | R102: =Q102*H102 -> 0 | S102: 0 | T102: =S102*H102 -> 0 | AR102: 4 | AT102: K | AU102: 0 | AY102: ROZPOCET | BE102: =IF(N102="základní",J102,0) -> 0 | BF102: =IF(N102="snížená",J102,0) -> 0 | BG102: =IF(N102="zákl. přenesená",J102,0) -> 0 | BH102: =IF(N102="sníž. přenesená",J102,0) -> 0 | BI102: =IF(N102="nulová",J102,0) -> 0 | BJ102: 1 | BK102: =ROUND(I102*H102,15) -> 0 | BL102: 4 | BM102: 1977134745
D103: PP | F103: Protisněhové zábrany ploty demontáž | AT103: PP | AU103: 0
C104: 13 | D104: K | E104: 5903020010 | F104: Odstranění sněhu a ledu z nástupišť a komunikací ručně | G104: hod | H104: 400 | J104: =ROUND(I104*H104,15) -> 0 | N104: základní | P104: =O104*H104 -> 0 | Q104: 0 | R104: =Q104*H104 -> 0 | S104: 0 | T104: =S104*H104 -> 0 | AR104: 4 | AT104: K | AU104: 0 | AY104: ROZPOCET | BE104: =IF(N104="základní",J104,0) -> 0 | BF104: =IF(N104="snížená",J104,0) -> 0 | BG104: =IF(N104="zákl. přenesená",J104,0) -> 0 | BH104: =IF(N104="sníž. přenesená",J104,0) -> 0 | BI104: =IF(N104="nulová",J104,0) -> 0 | BJ104: 1 | BK104: =ROUND(I104*H104,15) -> 0 | BL104: 4 | BM104: 2083721374
D105: PP | F105: Odstranění sněhu a ledu z nástupišť a komunikací ručně | AT105: PP | AU105: 0
C106: 14 | D106: K | E106: 5903020020 | F106: Odstranění sněhu a ledu z kolejí ručně | G106: hod | H106: 400 | J106: =ROUND(I106*H106,15) -> 0 | N106: základní | P106: =O106*H106 -> 0 | Q106: 0 | R106: =Q106*H106 -> 0 | S106: 0 | T106: =S106*H106 -> 0 | AR106: 4 | AT106: K | AU106: 0 | AY106: ROZPOCET | BE106: =IF(N106="základní",J106,0) -> 0 | BF106: =IF(N106="snížená",J106,0) -> 0 | BG106: =IF(N106="zákl. přenesená",J106,0) -> 0 | BH106: =IF(N106="sníž. přenesená",J106,0) -> 0 | BI106: =IF(N106="nulová",J106,0) -> 0 | BJ106: 1 | BK106: =ROUND(I106*H106,15) -> 0 | BL106: 4 | BM106: -663971888
D107: PP | F107: Odstranění sněhu a ledu z kolejí ručně | AT107: PP | AU107: 0
C108: 15 | D108: K | E108: 5903020110 | F108: Odstranění sněhu a ledu z výhybek ručně | G108: hod | H108: 400 | J108: =ROUND(I108*H108,15) -> 0 | N108: základní | P108: =O108*H108 -> 0 | Q108: 0 | R108: =Q108*H108 -> 0 | S108: 0 | T108: =S108*H108 -> 0 | AR108: 4 | AT108: K | AU108: 0 | AY108: ROZPOCET | BE108: =IF(N108="základní",J108,0) -> 0 | BF108: =IF(N108="snížená",J108,0) -> 0 | BG108: =IF(N108="zákl. přenesená",J108,0) -> 0 | BH108: =IF(N108="sníž. přenesená",J108,0) -> 0 | BI108: =IF(N108="nulová",J108,0) -> 0 | BJ108: 1 | BK108: =ROUND(I108*H108,15) -> 0 | BL108: 4 | BM108: -750872754
D109: PP | F109: Odstranění sněhu a ledu z výhybek ručně | AT109: PP | AU109: 0
C110: 16 | D110: M | E110: 5955101025 | F110: Železniční svršek-kolejové lože (KL) Kamenivo drcené drť frakce 4/8 | G110: t | H110: 25 | J110: =ROUND(I110*H110,15) -> 0 | N110: základní | P110: =O110*H110 -> 0 | Q110: 1 | R110: =Q110*H110 -> 25 | S110: 0 | T110: =S110*H110 -> 0 | AR110: 8 | AT110: M | AU110: 0 | AY110: ROZPOCET | BE110: =IF(N110="základní",J110,0) -> 0 | BF110: =IF(N110="snížená",J110,0) -> 0 | BG110: =IF(N110="zákl. přenesená",J110,0) -> 0 | BH110: =IF(N110="sníž. přenesená",J110,0) -> 0 | BI110: =IF(N110="nulová",J110,0) -> 0 | BJ110: 1 | BK110: =ROUND(I110*H110,15) -> 0 | BL110: 4 | BM110: -704289290
D111: PP | F111: Železniční svršek-kolejové lože (KL) Kamenivo drcené drť frakce 4/8 | AT111: PP | AU111: 0
C112: 17 | D112: M | E112: 5955101025.1 | F112: Štěrkopísek s přídavkem chloridu sodného | G112: t | H112: 550 | J112: =ROUND(I112*H112,15) -> 0 | N112: základní | P112: =O112*H112 -> 0 | Q112: 1 | R112: =Q112*H112 -> 550 | S112: 0 | T112: =S112*H112 -> 0 | AR112: 8 | AT112: M | AU112: 0 | AY112: ROZPOCET | BE112: =IF(N112="základní",J112,0) -> 0 | BF112: =IF(N112="snížená",J112,0) -> 0 | BG112: =IF(N112="zákl. přenesená",J112,0) -> 0 | BH112: =IF(N112="sníž. přenesená",J112,0) -> 0 | BI112: =IF(N112="nulová",J112,0) -> 0 | BJ112: 1 | BK112: =ROUND(I112*H112,15) -> 0 | BL112: 4 | BM112: 785861178
D113: PP | F113: Štěrkopísek s přídavkem chloridu sodného | AT113: PP | AU113: 0
C114: 18 | D114: K | E114: 5903025010 | F114: Odstranění posypu nástupišť ručně smetením | G114: m2 | H114: 280 | J114: =ROUND(I114*H114,15) -> 0 | N114: základní | P114: =O114*H114 -> 0 | Q114: 0 | R114: =Q114*H114 -> 0 | S114: 0 | T114: =S114*H114 -> 0 | AR114: 4 | AT114: K | AU114: 0 | AY114: ROZPOCET | BE114: =IF(N114="základní",J114,0) -> 0 | BF114: =IF(N114="snížená",J114,0) -> 0 | BG114: =IF(N114="zákl. přenesená",J114,0) -> 0 | BH114: =IF(N114="sníž. přenesená",J114,0) -> 0 | BI114: =IF(N114="nulová",J114,0) -> 0 | BJ114: 1 | BK114: =ROUND(I114*H114,15) -> 0 | BL114: 4 | BM114: 1082073025
D115: PP | F115: Odstranění posypu nástupišť ručně smetením | AT115: PP | AU115: 0
C116: 34 | D116: M | E116: 5953107000 | F116: Zásobník na posypový materiál kovový | G116: kus | H116: 1 | J116: =ROUND(I116*H116,15) -> 0 | N116: základní | P116: =O116*H116 -> 0 | Q116: 0 | R116: =Q116*H116 -> 0 | S116: 0 | T116: =S116*H116 -> 0 | AR116: 8 | AT116: M | AU116: 0 | AY116: ROZPOCET | BE116: =IF(N116="základní",J116,0) -> 0 | BF116: =IF(N116="snížená",J116,0) -> 0 | BG116: =IF(N116="zákl. přenesená",J116,0) -> 0 | BH116: =IF(N116="sníž. přenesená",J116,0) -> 0 | BI116: =IF(N116="nulová",J116,0) -> 0 | BJ116: 1 | BK116: =ROUND(I116*H116,15) -> 0 | BL116: 4 | BM116: 2049472704
D117: PP | F117: Zásobník na posypový materiál kovový | AT117: PP | AU117: 0
C118: 35 | D118: M | E118: 5953107005 | F118: Zásobník na posypový materiál plastový | G118: kus | H118: 1 | J118: =ROUND(I118*H118,15) -> 0 | N118: základní | P118: =O118*H118 -> 0 | Q118: 0 | R118: =Q118*H118 -> 0 | S118: 0 | T118: =S118*H118 -> 0 | AR118: 8 | AT118: M | AU118: 0 | AY118: ROZPOCET | BE118: =IF(N118="základní",J118,0) -> 0 | BF118: =IF(N118="snížená",J118,0) -> 0 | BG118: =IF(N118="zákl. přenesená",J118,0) -> 0 | BH118: =IF(N118="sníž. přenesená",J118,0) -> 0 | BI118: =IF(N118="nulová",J118,0) -> 0 | BJ118: 1 | BK118: =ROUND(I118*H118,15) -> 0 | BL118: 4 | BM118: -1993474101
D119: PP | F119: Zásobník na posypový materiál plastový | AT119: PP | AU119: 0
C120: 36 | D120: M | E120: 5953104000 | F120: Protisněhové ploty plastové | G120: m | H120: 1 | J120: =ROUND(I120*H120,15) -> 0 | N120: základní | P120: =O120*H120 -> 0 | Q120: 0.01 | R120: =Q120*H120 -> 0.01 | S120: 0 | T120: =S120*H120 -> 0 | AR120: 8 | AT120: M | AU120: 0 | AY120: ROZPOCET | BE120: =IF(N120="základní",J120,0) -> 0 | BF120: =IF(N120="snížená",J120,0) -> 0 | BG120: =IF(N120="zákl. přenesená",J120,0) -> 0 | BH120: =IF(N120="sníž. přenesená",J120,0) -> 0 | BI120: =IF(N120="nulová",J120,0) -> 0 | BJ120: 1 | BK120: =ROUND(I120*H120,15) -> 0 | BL120: 4 | BM120: 1075062770
D121: PP | F121: Protisněhové ploty plastové | AT121: PP | AU121: 0
C122: 19 | D122: K | E122: 938906311 | F122: Osekání ledu z koleje nebo průjezdného profilu ručně | G122: hod | H122: 150 | J122: =ROUND(I122*H122,15) -> 0 | N122: základní | P122: =O122*H122 -> 0 | Q122: 0 | R122: =Q122*H122 -> 0 | S122: 0 | T122: =S122*H122 -> 0 | AR122: 4 | AT122: K | AU122: 0 | AY122: ROZPOCET | BE122: =IF(N122="základní",J122,0) -> 0 | BF122: =IF(N122="snížená",J122,0) -> 0 | BG122: =IF(N122="zákl. přenesená",J122,0) -> 0 | BH122: =IF(N122="sníž. přenesená",J122,0) -> 0 | BI122: =IF(N122="nulová",J122,0) -> 0 | BJ122: 1 | BK122: =ROUND(I122*H122,15) -> 0 | BL122: 4 | BM122: -1745290752
D123: PP | F123: Osekání ledu z koleje nebo průjezdného profilu ručně | AT123: PP | AU123: 0
C124: 20 | D124: K | E124: 9902100100 | F124: Doprava dodávek zhotovitele, dodávek objednatele nebo výzisku mechanizací přes 3,5 t sypanin do 10 km | G124: t | H124: 60 | J124: =ROUND(I124*H124,15) -> 0 | N124: základní | P124: =O124*H124 -> 0 | Q124: 0 | R124: =Q124*H124 -> 0 | S124: 0 | T124: =S124*H124 -> 0 | AR124: 4 | AT124: K | AU124: 0 | AY124: ROZPOCET | BE124: =IF(N124="základní",J124,0) -> 0 | BF124: =IF(N124="snížená",J124,0) -> 0 | BG124: =IF(N124="zákl. přenesená",J124,0) -> 0 | BH124: =IF(N124="sníž. přenesená",J124,0) -> 0 | BI124: =IF(N124="nulová",J124,0) -> 0 | BJ124: 1 | BK124: =ROUND(I124*H124,15) -> 0 | BL124: 4 | BM124: 1070619538
D125: PP | F125: Doprava dodávek zhotovitele, dodávek objednatele nebo výzisku mechanizací přes 3,5 t sypanin do 10 km | AT125: PP | AU125: 0
C126: 21 | D126: K | E126: 9902100200 | F126: Doprava dodávek zhotovitele, dodávek objednatele nebo výzisku mechanizací přes 3,5 t sypanin do 20 km | G126: t | H126: 60 | J126: =ROUND(I126*H126,15) -> 0 | N126: základní | P126: =O126*H126 -> 0 | Q126: 0 | R126: =Q126*H126 -> 0 | S126: 0 | T126: =S126*H126 -> 0 | AR126: 4 | AT126: K | AU126: 0 | AY126: ROZPOCET | BE126: =IF(N126="základní",J126,0) -> 0 | BF126: =IF(N126="snížená",J126,0) -> 0 | BG126: =IF(N126="zákl. přenesená",J126,0) -> 0 | BH126: =IF(N126="sníž. přenesená",J126,0) -> 0 | BI126: =IF(N126="nulová",J126,0) -> 0 | BJ126: 1 | BK126: =ROUND(I126*H126,15) -> 0 | BL126: 4 | BM126: 915097508
D127: PP | F127: Doprava dodávek zhotovitele, dodávek objednatele nebo výzisku mechanizací přes 3,5 t sypanin do 20 km | AT127: PP | AU127: 0
C128: 22 | D128: K | E128: 9902100300 | F128: Doprava dodávek zhotovitele, dodávek objednatele nebo výzisku mechanizací přes 3,5 t sypanin do 30 km | G128: t | H128: 60 | J128: =ROUND(I128*H128,15) -> 0 | N128: základní | P128: =O128*H128 -> 0 | Q128: 0 | R128: =Q128*H128 -> 0 | S128: 0 | T128: =S128*H128 -> 0 | AR128: 4 | AT128: K | AU128: 0 | AY128: ROZPOCET | BE128: =IF(N128="základní",J128,0) -> 0 | BF128: =IF(N128="snížená",J128,0) -> 0 | BG128: =IF(N128="zákl. přenesená",J128,0) -> 0 | BH128: =IF(N128="sníž. přenesená",J128,0) -> 0 | BI128: =IF(N128="nulová",J128,0) -> 0 | BJ128: 1 | BK128: =ROUND(I128*H128,15) -> 0 | BL128: 4 | BM128: -1363122639
D129: PP | F129: Doprava dodávek zhotovitele, dodávek objednatele nebo výzisku mechanizací přes 3,5 t sypanin do 30 km | AT129: PP | AU129: 0
C130: 23 | D130: K | E130: 9902100400 | F130: Doprava dodávek zhotovitele, dodávek objednatele nebo výzisku mechanizací přes 3,5 t sypanin do 40 km | G130: t | H130: 40 | J130: =ROUND(I130*H130,15) -> 0 | N130: základní | P130: =O130*H130 -> 0 | Q130: 0 | R130: =Q130*H130 -> 0 | S130: 0 | T130: =S130*H130 -> 0 | AR130: 4 | AT130: K | AU130: 0 | AY130: ROZPOCET | BE130: =IF(N130="základní",J130,0) -> 0 | BF130: =IF(N130="snížená",J130,0) -> 0 | BG130: =IF(N130="zákl. přenesená",J130,0) -> 0 | BH130: =IF(N130="sníž. přenesená",J130,0) -> 0 | BI130: =IF(N130="nulová",J130,0) -> 0 | BJ130: 1 | BK130: =ROUND(I130*H130,15) -> 0 | BL130: 4 | BM130: 449817299
D131: PP | F131: Doprava dodávek zhotovitele, dodávek objednatele nebo výzisku mechanizací přes 3,5 t sypanin do 40 km | AT131: PP | AU131: 0
C132: 24 | D132: K | E132: 9902100500 | F132: Doprava dodávek zhotovitele, dodávek objednatele nebo výzisku mechanizací přes 3,5 t sypanin do 60 km | G132: t | H132: 40 | J132: =ROUND(I132*H132,15) -> 0 | N132: základní | P132: =O132*H132 -> 0 | Q132: 0 | R132: =Q132*H132 -> 0 | S132: 0 | T132: =S132*H132 -> 0 | AR132: 4 | AT132: K | AU132: 0 | AY132: ROZPOCET | BE132: =IF(N132="základní",J132,0) -> 0 | BF132: =IF(N132="snížená",J132,0) -> 0 | BG132: =IF(N132="zákl. přenesená",J132,0) -> 0 | BH132: =IF(N132="sníž. přenesená",J132,0) -> 0 | BI132: =IF(N132="nulová",J132,0) -> 0 | BJ132: 1 | BK132: =ROUND(I132*H132,15) -> 0 | BL132: 4 | BM132: -261946851
D133: PP | F133: Doprava dodávek zhotovitele, dodávek objednatele nebo výzisku mechanizací přes 3,5 t sypanin do 60 km | AT133: PP | AU133: 0
...

Sheet SO 02 - Zimní údržba R-po...
AT2: {4062f519-c6ff-4a65-9403-e8a6cfdcbb52}
AT3: 2
D4: KRYCÍ LIST SOUPISU PRACÍ | M4: v --- níže se nacházejí doplnkové a pomocné údaje k sestavám --- v | AT4: False
D6: Zakázka:
E7: ='Rekapitulace zakázky'!K6 -> Zimní údržba a odstraňování sněhu u ST Hradec Králové 2019 - 2020
D8: Objekt:
E9: SO 02 - Zimní údržba R-položky
D11: KSO: | I11: CC-CZ:
D12: Místo: | F12: ST Hradec Králové | I12: Datum: | J12: ='Rekapitulace zakázky'!AN8 -> 15. 10. 2019
D14: Zadavatel: | I14: IČ: | J14: =IF('Rekapitulace zakázky'!AN10="","",'Rekapitulace zakázky'!AN10)
E15: =IF('Rekapitulace zakázky'!E11="","",'Rekapitulace zakázky'!E11) | I15: DIČ: | J15: =IF('Rekapitulace zakázky'!AN11="","",'Rekapitulace zakázky'!AN11)
D17: Uchazeč: | I17: IČ: | J17: ='Rekapitulace zakázky'!AN13 -> Vyplň údaj
E18: ='Rekapitulace zakázky'!E14 -> Vyplň údaj | I18: DIČ: | J18: ='Rekapitulace zakázky'!AN14 -> Vyplň údaj
D20: Projektant: | I20: IČ: | J20: =IF('Rekapitulace zakázky'!AN16="","",'Rekapitulace zakázky'!AN16)
E21: =IF('Rekapitulace zakázky'!E17="","",'Rekapitulace zakázky'!E17) | I21: DIČ: | J21: =IF('Rekapitulace zakázky'!AN17="","",'Rekapitulace zakázky'!AN17)
D23: Zpracovatel: | I23: IČ: | J23: =IF('Rekapitulace zakázky'!AN19="","",'Rekapitulace zakázky'!AN19)
E24: =IF('Rekapitulace zakázky'!E20="","",'Rekapitulace zakázky'!E20) | I24: DIČ: | J24: =IF('Rekapitulace zakázky'!AN20="","",'Rekapitulace zakázky'!AN20)
D26: Poznámka:
D30: Cena bez DPH | J30: =ROUND(J79, 15) -> 0
F32: Základ daně | I32: Sazba daně | J32: Výše daně
D33: DPH | E33: základní | F33: =ROUND((SUM(BE79:BE89)), 15) -> 0 | I33: 0.21 | J33: =ROUND(((SUM(BE79:BE89))*I33), 15) -> 0
E34: snížená | F34: =ROUND((SUM(BF79:BF89)), 15) -> 0 | I34: 0.15 | J34: =ROUND(((SUM(BF79:BF89))*I34), 15) -> 0
E35: zákl. přenesená | F35: =ROUND((SUM(BG79:BG89)), 15) -> 0 | I35: 0.21 | J35: =0 -> 0
E36: sníž. přenesená | F36: =ROUND((SUM(BH79:BH89)), 15) -> 0 | I36: 0.15 | J36: =0 -> 0
E37: nulová | F37: =ROUND((SUM(BI79:BI89)), 15) -> 0 | I37: 0 | J37: =0 -> 0
D39: Cena s DPH | G39: v | H39: CZK | J39: =SUM(J30:J37) -> 0
C45: REKAPITULACE ČLENĚNÍ SOUPISU PRACÍ
C47: Zakázka:
E48: =E7 -> Zimní údržba a odstraňování sněhu u ST Hradec Králové 2019 - 2020
C49: Objekt:
E50: =E9 -> SO 02 - Zimní údržba R-položky
C52: Místo: | F52: =F12 -> ST Hradec Králové | I52: Datum: | J52: =IF(J12="","",J12) -> 15. 10. 2019
C54: Zadavatel: | F54: =E15 | I54: Projektant: | J54: =E21
C55: Uchazeč: | F55: =IF(E18="","",E18) -> Vyplň údaj | I55: Zpracovatel: | J55: =E24
C57: Kód dílu - Popis | J57: Cena celkem [CZK]
C59: Náklady zakázky celkem | J59: =J79 -> 0 | AU59: -1
C66: SOUPIS PRACÍ
C68: Zakázka:
E69: =E7 -> Zimní údržba a odstraňování sněhu u ST Hradec Králové 2019 - 2020
C70: Objekt:
E71: =E9 -> SO 02 - Zimní údržba R-položky
C73: Místo: | F73: =F12 -> ST Hradec Králové | I73: Datum: | J73: =IF(J12="","",J12) -> 15. 10. 2019
C75: Zadavatel: | F75: =E15 | I75: Projektant: | J75: =E21
C76: Uchazeč: | F76: =IF(E18="","",E18) -> Vyplň údaj | I76: Zpracovatel: | J76: =E24
C78: PČ | D78: Typ | E78: Kód | F78: Popis | G78: MJ | H78: Množství | I78: J.cena [CZK] | J78: Cena celkem [CZK] | K78: Cenová soustava | N78: DPH | O78: J. Nh [h] | P78: Nh celkem [h] | Q78: J. hmotnost [t] | R78: Hmotnost celkem [t] | S78: J. suť [t] | T78: Suť Celkem [t]
C79: Náklady soupisu celkem | J79: =BK79 -> 0 | P79: =SUM(P80:P89) -> 0 | R79: =SUM(R80:R89) -> 0 | T79: =SUM(T80:T89) -> 0 | AT79: D | AU79: -1 | BK79: =SUM(BK80:BK89) -> 0
C80: 1 | D80: K | E80: R1 | F80: Práce nakladače | G80: hod | H80: 200 | J80: =ROUND(I80*H80,15) -> 0 | N80: základní | P80: =O80*H80 -> 0 | Q80: 0 | R80: =Q80*H80 -> 0 | S80: 0 | T80: =S80*H80 -> 0 | AR80: 4 | AT80: K | AU80: 0 | AY80: ROZPOCET | BE80: =IF(N80="základní",J80,0) -> 0 | BF80: =IF(N80="snížená",J80,0) -> 0 | BG80: =IF(N80="zákl. přenesená",J80,0) -> 0 | BH80: =IF(N80="sníž. přenesená",J80,0) -> 0 | BI80: =IF(N80="nulová",J80,0) -> 0 | BJ80: 1 | BK80: =ROUND(I80*H80,15) -> 0 | BL80: 4 | BM80: -227672841
D81: PP | F81: Práce nakladače | AT81: PP | AU81: 0
C82: 2 | D82: K | E82: R2 | F82: Práce dvoucestného bagru dle dispozic objednatele | G82: hod | H82: 250 | J82: =ROUND(I82*H82,15) -> 0 | N82: základní | P82: =O82*H82 -> 0 | Q82: 0 | R82: =Q82*H82 -> 0 | S82: 0 | T82: =S82*H82 -> 0 | AR82: 4 | AT82: K | AU82: 0 | AY82: ROZPOCET | BE82: =IF(N82="základní",J82,0) -> 0 | BF82: =IF(N82="snížená",J82,0) -> 0 | BG82: =IF(N82="zákl. přenesená",J82,0) -> 0 | BH82: =IF(N82="sníž. přenesená",J82,0) -> 0 | BI82: =IF(N82="nulová",J82,0) -> 0 | BJ82: 1 | BK82: =ROUND(I82*H82,15) -> 0 | BL82: 4 | BM82: -1599272573
D83: PP | F83: Práce dvoucestného bagru dle dispozic objednatele | AT83: PP | AU83: 0
C84: 3 | D84: K | E84: R7 | F84: Odstranění sněhu a ledu z přístupových cest a komunikací strojně. Poznámka: 1. V cenách jsou započteny náklady na práce v zimních podmínkách, manipulaci, naložení sněhu na dopravní prostředek a uložení na úložišti. | G84: m2 | H84: 2000 | J84: =ROUND(I84*H84,15) -> 0 | N84: základní | P84: =O84*H84 -> 0 | Q84: 0 | R84: =Q84*H84 -> 0 | S84: 0 | T84: =S84*H84 -> 0 | AR84: 4 | AT84: K | AU84: 0 | AY84: ROZPOCET | BE84: =IF(N84="základní",J84,0) -> 0 | BF84: =IF(N84="snížená",J84,0) -> 0 | BG84: =IF(N84="zákl. přenesená",J84,0) -> 0 | BH84: =IF(N84="sníž. přenesená",J84,0) -> 0 | BI84: =IF(N84="nulová",J84,0) -> 0 | BJ84: 1 | BK84: =ROUND(I84*H84,15) -> 0 | BL84: 4 | BM84: -1721939621
D85: PP | F85: Odstranění sněhu a ledu z přístupových cest a komunikací strojně. Poznámka: 1. V cenách jsou započteny náklady na práce v zimních podmínkách, manipulaci, naložení sněhu na dopravní prostředek a uložení na úložišti. | AT85: PP | AU85: 0
C86: 4 | D86: K | E86: R8 | F86: Ošetření komunikací posypem strojně. V cenách jsou započteny materiálové náklady na posypový materiál -inertní drť. | G86: m2 | H86: 2000 | J86: =ROUND(I86*H86,15) -> 0 | N86: základní | P86: =O86*H86 -> 0 | Q86: 0 | R86: =Q86*H86 -> 0 | S86: 0 | T86: =S86*H86 -> 0 | AR86: 4 | AT86: K | AU86: 0 | AY86: ROZPOCET | BE86: =IF(N86="základní",J86,0) -> 0 | BF86: =IF(N86="snížená",J86,0) -> 0 | BG86: =IF(N86="zákl. přenesená",J86,0) -> 0 | BH86: =IF(N86="sníž. přenesená",J86,0) -> 0 | BI86: =IF(N86="nulová",J86,0) -> 0 | BJ86: 1 | BK86: =ROUND(I86*H86,15) -> 0 | BL86: 4 | BM86: -1098498013
D87: PP | F87: Ošetření komunikací posypem strojně. V cenách jsou započteny materiálové náklady na posypový materiál -inertní drť | AT87: PP | AU87: 0
C88: 5 | D88: K | E88: R6 | F88: Ošetření ploch posypem ručně. | G88: m2 | H88: 60000 | J88: =ROUND(I88*H88,15) -> 0 | N88: základní | P88: =O88*H88 -> 0 | Q88: 0 | R88: =Q88*H88 -> 0 | S88: 0 | T88: =S88*H88 -> 0 | AR88: 4 | AT88: K | AU88: 0 | AY88: ROZPOCET | BE88: =IF(N88="základní",J88,0) -> 0 | BF88: =IF(N88="snížená",J88,0) -> 0 | BG88: =IF(N88="zákl. přenesená",J88,0) -> 0 | BH88: =IF(N88="sníž. přenesená",J88,0) -> 0 | BI88: =IF(N88="nulová",J88,0) -> 0 | BJ88: 1 | BK88: =ROUND(I88*H88,15) -> 0 | BL88: 4 | BM88: 118526373
D89: PP | F89: Ošetření ploch posypem ručně. | AT89: PP | AU89: 0

Sheet VON - Vedlejší a ostatní ...
AT2: {008b177e-0c55-4069-8f5b-9b37c060bd8f}
AT3: 2
D4: KRYCÍ LIST SOUPISU PRACÍ | M4: v --- níže se nacházejí doplnkové a pomocné údaje k sestavám --- v | AT4: False
D6: Zakázka:
E7: ='Rekapitulace zakázky'!K6 -> Zimní údržba a odstraňování sněhu u ST Hradec Králové 2019 - 2020
D8: Objekt:
E9: VON - Vedlejší a ostatní náklady
D11: KSO: | I11: CC-CZ:
D12: Místo: | F12: ST Hradec Králové | I12: Datum: | J12: ='Rekapitulace zakázky'!AN8 -> 15. 10. 2019
D14: Zadavatel: | I14: IČ: | J14: =IF('Rekapitulace zakázky'!AN10="","",'Rekapitulace zakázky'!AN10)
E15: =IF('Rekapitulace zakázky'!E11="","",'Rekapitulace zakázky'!E11) | I15: DIČ: | J15: =IF('Rekapitulace zakázky'!AN11="","",'Rekapitulace zakázky'!AN11)
D17: Uchazeč: | I17: IČ: | J17: ='Rekapitulace zakázky'!AN13 -> Vyplň údaj
E18: ='Rekapitulace zakázky'!E14 -> Vyplň údaj | I18: DIČ: | J18: ='Rekapitulace zakázky'!AN14 -> Vyplň údaj
D20: Projektant: | I20: IČ: | J20: =IF('Rekapitulace zakázky'!AN16="","",'Rekapitulace zakázky'!AN16)
E21: =IF('Rekapitulace zakázky'!E17="","",'Rekapitulace zakázky'!E17) | I21: DIČ: | J21: =IF('Rekapitulace zakázky'!AN17="","",'Rekapitulace zakázky'!AN17)
D23: Zpracovatel: | I23: IČ: | J23: =IF('Rekapitulace zakázky'!AN19="","",'Rekapitulace zakázky'!AN19)
E24: =IF('Rekapitulace zakázky'!E20="","",'Rekapitulace zakázky'!E20) | I24: DIČ: | J24: =IF('Rekapitulace zakázky'!AN20="","",'Rekapitulace zakázky'!AN20)
D26: Poznámka:
D30: Cena bez DPH | J30: =ROUND(J79, 15) -> 0
F32: Základ daně | I32: Sazba daně | J32: Výše daně
D33: DPH | E33: základní | F33: =ROUND((SUM(BE79:BE87)), 15) -> 0 | I33: 0.21 | J33: =ROUND(((SUM(BE79:BE87))*I33), 15) -> 0
E34: snížená | F34: =ROUND((SUM(BF79:BF87)), 15) -> 0 | I34: 0.15 | J34: =ROUND(((SUM(BF79:BF87))*I34), 15) -> 0
E35: zákl. přenesená | F35: =ROUND((SUM(BG79:BG87)), 15) -> 0 | I35: 0.21 | J35: =0 -> 0
E36: sníž. přenesená | F36: =ROUND((SUM(BH79:BH87)), 15) -> 0 | I36: 0.15 | J36: =0 -> 0
E37: nulová | F37: =ROUND((SUM(BI79:BI87)), 15) -> 0 | I37: 0 | J37: =0 -> 0
D39: Cena s DPH | G39: v | H39: CZK | J39: =SUM(J30:J37) -> 0
C45: REKAPITULACE ČLENĚNÍ SOUPISU PRACÍ
C47: Zakázka:
E48: =E7 -> Zimní údržba a odstraňování sněhu u ST Hradec Králové 2019 - 2020
C49: Objekt:
E50: =E9 -> VON - Vedlejší a ostatní náklady
C52: Místo: | F52: =F12 -> ST Hradec Králové | I52: Datum: | J52: =IF(J12="","",J12) -> 15. 10. 2019
C54: Zadavatel: | F54: =E15 | I54: Projektant: | J54: =E21
C55: Uchazeč: | F55: =IF(E18="","",E18) -> Vyplň údaj | I55: Zpracovatel: | J55: =E24
C57: Kód dílu - Popis | J57: Cena celkem [CZK]
C59: Náklady zakázky celkem | J59: =J79 -> 0 | AU59: -1
C66: SOUPIS PRACÍ
C68: Zakázka:
E69: =E7 -> Zimní údržba a odstraňování sněhu u ST Hradec Králové 2019 - 2020
C70: Objekt:
E71: =E9 -> VON - Vedlejší a ostatní náklady
C73: Místo: | F73: =F12 -> ST Hradec Králové | I73: Datum: | J73: =IF(J12="","",J12) -> 15. 10. 2019
C75: Zadavatel: | F75: =E15 | I75: Projektant: | J75: =E21
C76: Uchazeč: | F76: =IF(E18="","",E18) -> Vyplň údaj | I76: Zpracovatel: | J76: =E24
C78: PČ | D78: Typ | E78: Kód | F78: Popis | G78: MJ | H78: Množství | I78: J.cena [CZK] | J78: Cena celkem [CZK] | K78: Cenová soustava | N78: DPH | O78: J. Nh [h] | P78: Nh celkem [h] | Q78: J. hmotnost [t] | R78: Hmotnost celkem [t] | S78: J. suť [t] | T78: Suť Celkem [t]
C79: Náklady soupisu celkem | J79: =BK79 -> 0 | P79: =SUM(P80:P87) -> 0 | R79: =SUM(R80:R87) -> 0 | T79: =SUM(T80:T87) -> 0 | AT79: D | AU79: -1 | BK79: =SUM(BK80:BK87) -> 0
C80: 1 | D80: K | E80: 083002001 | F80: Náklady na pracovní pohotovost zaměstnanců na 1 pracovníka | G80: Kč/hod | H80: 1600 | J80: =ROUND(I80*H80,15) -> 0 | N80: základní | P80: =O80*H80 -> 0 | Q80: 0 | R80: =Q80*H80 -> 0 | S80: 0 | T80: =S80*H80 -> 0 | AR80: 1024 | AT80: K | AU80: 0 | AY80: ROZPOCET | BE80: =IF(N80="základní",J80,0) -> 0 | BF80: =IF(N80="snížená",J80,0) -> 0 | BG80: =IF(N80="zákl. přenesená",J80,0) -> 0 | BH80: =IF(N80="sníž. přenesená",J80,0) -> 0 | BI80: =IF(N80="nulová",J80,0) -> 0 | BJ80: 1 | BK80: =ROUND(I80*H80,15) -> 0 | BL80: 1024 | BM80: 1495626330
D81: PP | F81: Náklady na pracovní pohotovost zaměstnanců na 1 pracovníka | AT81: PP | AU81: 0
C82: 2 | D82: K | E82: 084002001 | F82: Zákonné příplatky ke mzdě za práci o sobotách, nedělích a státem uznaných svátcích | G82: Kč/hod | H82: 450 | J82: =ROUND(I82*H82,15) -> 0 | N82: základní | P82: =O82*H82 -> 0 | Q82: 0 | R82: =Q82*H82 -> 0 | S82: 0 | T82: =S82*H82 -> 0 | AR82: 1024 | AT82: K | AU82: 0 | AY82: ROZPOCET | BE82: =IF(N82="základní",J82,0) -> 0 | BF82: =IF(N82="snížená",J82,0) -> 0 | BG82: =IF(N82="zákl. přenesená",J82,0) -> 0 | BH82: =IF(N82="sníž. přenesená",J82,0) -> 0 | BI82: =IF(N82="nulová",J82,0) -> 0 | BJ82: 1 | BK82: =ROUND(I82*H82,15) -> 0 | BL82: 1024 | BM82: 1176101300
D83: PP | F83: Zákonné příplatky ke mzdě za práci o sobotách, nedělích a státem uznaných svátcích | AT83: PP | AU83: 0
C84: 3 | D84: K | E84: 034111011 | F84: Další náklady na pracovníky Zákonné příplatky ke mzdě za práci v noci | G84: Kč/hod | H84: 450 | J84: =ROUND(I84*H84,15) -> 0 | N84: základní | P84: =O84*H84 -> 0 | Q84: 0 | R84: =Q84*H84 -> 0 | S84: 0 | T84: =S84*H84 -> 0 | AR84: 1024 | AT84: K | AU84: 0 | AY84: ROZPOCET | BE84: =IF(N84="základní",J84,0) -> 0 | BF84: =IF(N84="snížená",J84,0) -> 0 | BG84: =IF(N84="zákl. přenesená",J84,0) -> 0 | BH84: =IF(N84="sníž. přenesená",J84,0) -> 0 | BI84: =IF(N84="nulová",J84,0) -> 0 | BJ84: 1 | BK84: =ROUND(I84*H84,15) -> 0 | BL84: 1024 | BM84: 1234306859
D85: PP | F85: Další náklady na pracovníky Zákonné příplatky ke mzdě za práci v noci | AT85: PP | AU85: 0
C86: 4 | D86: K | E86: Kalkulace | F86: Náklady na pracovní pohotovost v období 21. 12. 2019 do 2. 1. 2020 | G86: kpl. | H86: 1 | J86: =ROUND(I86*H86,15) -> 0 | N86: základní | P86: =O86*H86 -> 0 | Q86: 0 | R86: =Q86*H86 -> 0 | S86: 0 | T86: =S86*H86 -> 0 | AR86: 512 | AT86: K | AU86: 0 | AY86: ROZPOCET | BE86: =IF(N86="základní",J86,0) -> 0 | BF86: =IF(N86="snížená",J86,0) -> 0 | BG86: =IF(N86="zákl. přenesená",J86,0) -> 0 | BH86: =IF(N86="sníž. přenesená",J86,0) -> 0 | BI86: =IF(N86="nulová",J86,0) -> 0 | BJ86: 1 | BK86: =ROUND(I86*H86,15) -> 0 | BL86: 512 | BM86: 976582960
D87: PP | F87: Náklady na pracovní pohotovost v období 21. 12. 2019 do 2. 1. 2020 | AT87: PP | AU87: 0

Sheet Pokyny pro vyplnění
C3: Struktura údajů, formát souboru a metodika pro zpracování
C4: Struktura
C6: Soubor je složen ze záložky Rekapitulace rekonstrukce a záložek s názvem soupisu prací pro jednotlivé objekty ve formátu XLS. Každá ze záložek přitom obsahuje
C7: ještě samostatné sestavy vymezené orámovaním a nadpisem sestavy.
C9: Rekapitulace rekonstrukce obsahuje sestavu Rekapitulace rekonstrukce a Rekapitulace objektů rekonstrukce a soupisů prací.
D10: V sestavě Rekapitulace rekonstrukce jsou uvedeny informace identifikující předmět veřejné zakázky na stavební práce, KSO, CC-CZ, CZ-CPV, CZ-CPA a rekapitulaci
D11: celkové nabídkové ceny uchazeče.
D13: Termínem "uchazeč" (resp. zhotovitel) se myslí "účastník zadávacího řízení" ve smyslu zákona o zadávání veřejných zakázek.
D15: V sestavě Rekapitulace objektů rekonstrukce a soupisů prací je uvedena rekapitulace stavebních objektů, inženýrských objektů, provozních souborů,
D16: vedlejších a ostatních nákladů a ostatních nákladů s rekapitulací nabídkové ceny za jednotlivé soupisy prací. Na základě údaje Typ je možné
D17: identifikovat, zda se jedná o objekt nebo soupis prací pro daný objekt:
E18: STA | F18: Stavební objekt pozemní
E19: ING | F19: Stavební objekt inženýrský
E20: PRO | F20: Provozní soubor
E21: VON | F21: Vedlejší a ostatní náklady
E22: OST | F22: Ostatní
E23: Soupis | F23: Soupis prací pro daný typ objektu
C25: Soupis prací pro jednotlivé objekty obsahuje sestavy Krycí list soupisu prací, Rekapitulace členění soupisu prací, Soupis prací. Za soupis prací může být považován
C26: i objekt rekonstrukce v případě, že neobsahuje podřízenou zakázku.
D27: Krycí list soupisu obsahuje rekapitulaci informací o předmětu veřejné zakázky ze sestavy Rekapitulace rekonstrukce, informaci o zařazení objektu do KSO,
D28: CC-CZ, CZ-CPV, CZ-CPA a rekapitulaci celkové nabídkové ceny uchazeče za aktuální soupis prací.
D30: Rekapitulace členění soupisu prací obsahuje rekapitulaci soupisu prací ve všech úrovních členění soupisu tak, jak byla tato členění použita (např.
D31: stavební díly, funkční díly, případně jiné členění) s rekapitulací nabídkové ceny.
D33: Soupis prací obsahuje položky veškerých stavebních nebo montážních prací, dodávek materiálů a služeb nezbytných pro zhotovení stavebního objektu,
D34: inženýrského objektu, provozního souboru, vedlejších a ostatních nákladů.
D35: Pro položky soupisu prací se zobrazují následující informace:
E36: PČ | G36: Pořadové číslo položky v aktuálním soupisu
E37: TYP | G37: Typ položky: K - konstrukce, M - materiál, PP - plný popis, PSC - poznámka k souboru cen, P - poznámka k položce, VV - výkaz výměr
E38: Kód | G38: Kód položky
E39: Popis | G39: Zkrácený popis položky
E40: MJ | G40: Měrná jednotka položky
E41: Množství | G41: Množství v měrné jednotce
E42: J.cena | G42: Jednotková cena položky. Zadaní může obsahovat namísto J.ceny sloupce J.materiál a J.montáž, jejichž součet definuje
G43: J.cenu položky.
E44: Cena celkem | G44: Celková cena položky daná jako součin množství a j.ceny
E45: Cenová soustava | G45: Příslušnost položky do cenové soustavy
D47: Ke každé položce soupisu prací se na samostatných řádcích může zobrazovat:
E48: Plný popis položky
E49: Poznámka k souboru cen a poznámka zadavatele
E50: Výkaz výměr
D51: Pokud je k řádku výkazu výměr evidovaný údaj ve sloupci Kód, jedná se o definovaný odkaz, na který se může odvolávat výkaz výměr z jiné položky.
C52: Metodika pro zpracování
C54: Jednotlivé sestavy jsou v souboru provázány. Editovatelné pole jsou zvýrazněny žlutým podbarvením, ostatní pole neslouží k editaci a nesmí být jakkoliv
C55: modifikovány.
C57: Uchazeč je pro podání nabídky povinen vyplnit žlutě podbarvená pole:
D58: Pole Uchazeč v sestavě Rekapitulace rekonstrukce - zde uchazeč vyplní svůj název (název subjektu)
D59: Pole IČ a DIČ v sestavě Rekapitulace rekonstrukce - zde uchazeč vyplní svoje IČ a DIČ
D60: Datum v sestavě Rekapitulace rekonstrukce - zde uchazeč vyplní datum vytvoření nabídky
D61: J.cena = jednotková cena v sestavě Soupis prací o maximálním počtu desetinných míst uvedených v poli
D62: - pokud sestavy soupisů prací obsahují pole J.cena, měla by být všechna tato pole vyplněna nenulovými kladnými číslicemi
D63: Poznámka - nepovinný údaj pro položku soupisu
D65: V případě, že sestavy soupisů prací neobsahují pole J.cena, potom ve všech soupisech prací obsahují pole:
D66: - J.materiál - jednotková cena materiálu
D67: - J.montáž - jednotková cena montáže
D68: Uchazeč v tomto případě by měl vyplnit všechna pole J.materiál a pole J.montáž nenulovými kladnými číslicemi. V případech, kdy položka
D69: neobsahuje žádný materiál je přípustné, aby pole J.materiál bylo vyplněno nulou. V případech, kdy položka neobsahuje žádnou montáž je přípustné,
D70: aby pole J.montáž bylo vyplněno nulou. Obě pole - J.materiál, J.Montáž u jedné položky by však neměly být vyplněny nulou.
C75: Rekapitulace rekonstrukce
C76: Název | F76: Povinný | H76: Popis | I76: Typ | J76: Max. počet
C77: atributu | F77: (A/N) | J77: znaků
C79: Kód | F79: A | H79: Kód rekonstrukce | I79: String | J79: 20
C80: Rekonstrukce | F80: A | H80: Název rekonstrukce | I80: String | J80: 120
C81: Místo | F81: N | H81: Místo rekonstrukce | I81: String | J81: 50
C82: Datum | F82: A | H82: Datum vykonaného exportu | I82: Date
C83: KSO | F83: N | H83: Klasifikace stavebního objektu | I83: String | J83: 15
C84: CC-CZ | F84: N | H84: Klasifikace stavbeních děl | I84: String | J84: 15
C85: CZ-CPV | F85: N | H85: Společný slovník pro veřejné zakázky | I85: String | J85: 20
C86: CZ-CPA | F86: N | H86: Klasifikace produkce podle činností | I86: String | J86: 20
C87: Zadavatel | F87: N | H87: Zadavatel zadaní | I87: String | J87: 50
C88: IČ | F88: N | H88: IČ zadavatele zadaní | I88: String | J88: 20
C89: DIČ | F89: N | H89: DIČ zadavatele zadaní | I89: String | J89: 20
C90: Uchazeč | F90: N | H90: Uchazeč veřejné zakázky | I90: String | J90: 50
C91: Projektant | F91: N | H91: Projektant | I91: String | J91: 50
C92: Poznámka | F92: N | H92: Poznámka k zadání | I92: String | J92: 255
C93: Sazba DPH | F93: A | H93: Rekapitulace sazeb DPH u položek soupisů | I93: eGSazbaDph
C94: Základna DPH | F94: A | H94: Základna DPH určena součtem celkové ceny z položek soupisů | I94: Double
C95: Hodnota DPH | F95: A | H95: Hodnota DPH | I95: Double
C96: Cena bez DPH | F96: A | H96: Celková cena bez DPH za celou rekonstrukci. Sčítává se ze všech listů. | I96: Double
C97: Cena s DPH | F97: A | H97: Celková cena s DPH za celou rekonstrukci | I97: Double
C102: Rekapitulace objektů rekonstrukce a soupisů prací
C103: Název | F103: Povinný | H103: Popis | I103: Typ | J103: Max. počet
C104: atributu | F104: (A/N) | J104: znaků
C106: Kód | F106: A | H106: Přebírá se z Rekapitulace rekonstrukce | I106: String | J106: 20
C107: Rekonstrukce | F107: A | H107: Přebírá se z Rekapitulace rekonstrukce | I107: String | J107: 120
C108: Místo | F108: N | H108: Přebírá se z Rekapitulace rekonstrukce | I108: String | J108: 50
C109: Datum | F109: A | H109: Přebírá se z Rekapitulace rekonstrukce | I109: Date
C110: Zadavatel | F110: N | H110: Přebírá se z Rekapitulace rekonstrukce | I110: String | J110: 50
C111: Projektant | F111: N | H111: Přebírá se z Rekapitulace rekonstrukce | I111: String | J111: 50
C112: Uchazeč | F112: N | H112: Přebírá se z Rekapitulace rekonstrukce | I112: String | J112: 50
C113: Kód | F113: A | H113: Kód objektu | I113: String | J113: 20
C114: Objektu, Soupis prací | F114: A | H114: Název objektu | I114: String | J114: 120
C115: Cena bez DPH | F115: A | H115: Cena bez DPH za daný objekt | I115: Double
C116: Cena s DPH | F116: A | H116: Cena spolu s DPH za daný objekt | I116: Double
C117: Typ | F117: A | H117: Typ zakázky | I117: eGTypZakazky
C122: Krycí list soupisu
C123: Název | F123: Povinný | H123: Popis | I123: Typ | J123: Max. počet
C124: atributu | F124: (A/N) | J124: znaků
C126: Rekonstrukce | F126: A | H126: Přebírá se z Rekapitulace rekonstrukce | I126: String | J126: 120
C127: Objekt | F127: A | H127: Kód a název objektu | I127: String | J127: 20 + 120
C128: Soupis | F128: A | H128: Kód a název soupisu | I128: String | J128: 20 + 120
...
