Workbook

Sheet Rekapitulace zakázky
A1: Export Komplet | AZ1: VZ | BA1: 2.0 | BB1: ZAMOK | BT1: False | BU1: False | BV1: {269d8519-8e37-4799-b8d5-72f4bf6755da}
BS2: 0 | BT2: 21
BS3: 0 | BT3: 15
D4: REKAPITULACE ZAKÁZKY | AS4: v --- níže se nacházejí doplnkové a pomocné údaje k sestavám --- v | BE4: Návod na vyplnění | BS4: 0
D5: Kód: | K5: 2019_10_15 | BE5: Měnit lze pouze buňky se žlutým podbarvením!_x000D_ _x000D_ 1) v Rekapitulaci zakázky vyplňte údaje o Uchazeči (přenesou se do ostatních sestav i v jiných listech)_x000D_ _x000D_ 2) na vybraných listech vyplňte v sestavě Soupis prací ceny u položek | BS5: 0
D6: Zakázka: | K6: Zimní údržba a odstraňování sněhu u ST Hradec Králové 2019 - 2020 | BS6: 0
D7: KSO: | AK7: CC-CZ: | BS7: 0
D8: Místo: | K8: ST Hradec Králové | AK8: Datum: | AN8: 15. 10. 2019 | BS8: 0
BS9: 0
D10: Zadavatel: | AK10: IČ: | BS10: 0
AK11: DIČ: | BS11: 0
BS12: 0
D13: Uchazeč: | AK13: IČ: | AN13: Vyplň údaj | BS13: 0
E14: Vyplň údaj | AK14: DIČ: | AN14: Vyplň údaj | BS14: 0
BS15: False
D16: Projektant: | AK16: IČ: | BS16: False
AK17: DIČ: | BS17: True
BS18: 0
D19: Zpracovatel: | AK19: IČ: | BS19: 0
AK20: DIČ: | BS20: True
D22: Poznámka:
E23: Soupis prací je sestaven s využitím Cenové soustavy ÚRS. Položky, které pochází z této cenové soustavy, jsou ve sloupci 'Cenová soustava' označeny popisem 'CS ÚRS' a úrovní příslušného kalendářního pololetí. Veškeré další informace vymezující popis a podmínky použití těchto položek z Cenové soustavy, které nejsou uvedeny přímo v soupisu prací, jsou neomezeně dálkově k dispozici na www.cs-urs.cz, sekce Cenové a technické podmínky.
D26: Cena bez DPH | AK26: =ROUND(AG54,15) -> 0
L28: Sazba daně | W28: Základ daně | AK28: Výše daně
D29: DPH | F29: základní | L29: 0.21 | W29: =ROUND(AZ54, 15) -> 0 | AK29: =ROUND(AV54, 15) -> 0
F30: snížená | L30: 0.15 | W30: =ROUND(BA54, 15) -> 0 | AK30: =ROUND(AW54, 15) -> 0
F31: zákl. přenesená | L31: 0.21 | W31: =ROUND(BB54, 15) -> 0 | AK31: 0
F32: sníž. přenesená | L32: 0.15 | W32: =ROUND(BC54, 15) -> 0 | AK32: 0
F33: nulová | L33: 0 | W33: =ROUND(BD54, 15) -> 0 | AK33: 0
D35: Cena s DPH | T35: v | X35: CZK | AK35: =SUM(AK26:AK33) -> 0
C42: REKAPITULACE OBJEKTŮ ZAKÁZKY A SOUPISŮ PRACÍ
C44: Kód: | L44: =K5 -> 2019_10_15
C45: Zakázka: | L45: =K6 -> Zimní údržba a odstraňování sněhu u ST Hradec Králové 2019 - 2020
C47: Místo: | L47: =IF(K8="","",K8) -> ST Hradec Králové | AI47: Datum: | AM47: =IF(AN8= "","",AN8) -> 15. 10. 2019
C49: Zadavatel: | L49: =IF(E11= "","",E11) | AI49: Projektant: | AM49: =IF(E17="","",E17) | AS49: Informatívní údaje z listů zakázek
C50: Uchazeč: | L50: =IF(E14= "Vyplň údaj","",E14) | AI50: Zpracovatel: | AM50: =IF(E20="","",E20)
C52: Kód | I52: Popis | AG52: Cena bez DPH [CZK] | AN52: Cena s DPH [CZK] | AQ52: Typ | AS52: z toho Ostat._x000D_ náklady [CZK] | AT52: DPH [CZK] | AU52: Normohodiny [h] | AV52: DPH základní [CZK] | AW52: DPH snížená [CZK] | AX52: DPH základní přenesená_x000D_ [CZK] | AY52: DPH snížená přenesená_x000D_ [CZK] | AZ52: Základna_x000D_ DPH základní | BA52: Základna_x000D_ DPH snížená | BB52: Základna_x000D_ DPH zákl. přenesená | BC52: Základna_x000D_ DPH sníž. přenesená | BD52: Základna_x000D_ DPH nulová
C54: Náklady zakázky celkem | AG54: =ROUND(SUM(AG55:AG57),15) -> 0 | AN54: =SUM(AG54,AT54) -> 0 | AS54: =ROUND(SUM(AS55:AS57),15) -> 0 | AT54: =ROUND(SUM(AV54:AW54),15) -> 0 | AU54: =ROUND(SUM(AU55:AU57),5) -> 0 | AV54: =ROUND(AZ54*L29,15) -> 0 | AW54: =ROUND(BA54*L30,15) -> 0 | AX54: =ROUND(BB54*L29,15) -> 0 | AY54: =ROUND(BC54*L30,15) -> 0 | AZ54: =ROUND(SUM(AZ55:AZ57),15) -> 0 | BA54: =ROUND(SUM(BA55:BA57),15) -> 0 | BB54: =ROUND(SUM(BB55:BB57),15) -> 0 | BC54: =ROUND(SUM(BC55:BC57),15) -> 0 | BD54: =ROUND(SUM(BD55:BD57),15) -> 0 | BS54: D | BT54: 0 | BU54: ###NOIMPORT### | BV54: IMPORT | BW54: {269d8519-8e37-4799-b8d5-72f4bf6755da} | BX54: {00000000-0000-0000-0000-000000000000}
A55: / | D55: SO 01 | J55: Zimní údržba | AG55: ='SO 01 - Zimní údržba'!J30 -> 0 | AN55: =SUM(AG55,AT55) -> 0 | AQ55: STA | AS55: 0 | AT55: =ROUND(SUM(AV55:AW55),15) -> 0 | AU55: ='SO 01 - Zimní údržba'!P79 -> 0 | AV55: ='SO 01 - Zimní údržba'!J33 -> 0 | AW55: ='SO 01 - Zimní údržba'!J34 -> 0 | AX55: ='SO 01 - Zimní údržba'!J35 -> 0 | AY55: ='SO 01 - Zimní údržba'!J36 -> 0 | AZ55: ='SO 01 - Zimní údržba'!F33 -> 0 | BA55: ='SO 01 - Zimní údržba'!F34 -> 0 | BB55: ='SO 01 - Zimní údržba'!F35 -> 0 | BC55: ='SO 01 - Zimní údržba'!F36 -> 0 | BD55: ='SO 01 - Zimní údržba'!F37 -> 0 | BT55: 1 | BV55: IMPORT | BW55: {107462f7-94c6-48a3-88bf-d04f33ed9c5c} | BX55: {269d8519-8e37-4799-b8d5-72f4bf6755da} | CM55: 2
A56: / | D56: SO 02 | J56: Zimní údržba R-položky | AG56: ='SO 02 - Zimní údržba R-po...'!J30 -> 0 | AN56: =SUM(AG56,AT56) -> 0 | AQ56: STA | AS56: 0 | AT56: =ROUND(SUM(AV56:AW56),15) -> 0 | AU56: ='SO 02 - Zimní údržba R-po...'!P79 -> 0 | AV56: ='SO 02 - Zimní údržba R-po...'!J33 -> 0 | AW56: ='SO 02 - Zimní údržba R-po...'!J34 -> 0 | AX56: ='SO 02 - Zimní údržba R-po...'!J35 -> 0 | AY56: ='SO 02 - Zimní údržba R-po...'!J36 -> 0 | AZ56: ='SO 02 - Zimní údržba R-po...'!F33 -> 0 | BA56: ='SO 02 - Zimní údržba R-po...'!F34 -> 0 | BB56: ='SO 02 - Zimní údržba R-po...'!F35 -> 0 | BC56: ='SO 02 - Zimní údržba R-po...'!F36 -> 0 | BD56: ='SO 02 - Zimní údržba R-po...'!F37 -> 0 | BT56: 1 | BV56: IMPORT | BW56: {4062f519-c6ff-4a65-9403-e8a6cfdcbb52} | BX56: {269d8519-8e37-4799-b8d5-72f4bf6755da} | CM56: 2
...

Sheet SO 01 - Zimní údržba
AT2: {107462f7-94c6-48a3-88bf-d04f33ed9c5c}
AT3: 2
D4: KRYCÍ LIST SOUPISU PRACÍ | M4: v --- níže se nacházejí doplnkové a pomocné údaje k sestavám --- v | AT4: False
D6: Zakázka:
E7: ='Rekapitulace zakázky'!K6 -> Zimní údržba a odstraňování sněhu u ST Hradec Králové 2019 - 2020
D8: Objekt:
E9: SO 01 - Zimní údržba
D11: KSO: | I11: CC-CZ:
D12: Místo: | F12: ST Hradec Králové | I12: Datum: | J12: ='Rekapitulace zakázky'!AN8 -> 15. 10. 2019
D14: Zadavatel: | I14: IČ: | J14: =IF('Rekapitulace zakázky'!AN10="","",'Rekapitulace zakázky'!AN10)
E15: =IF('Rekapitulace zakázky'!E11="","",'Rekapitulace zakázky'!E11) | I15: DIČ: | J15: =IF('Rekapitulace zakázky'!AN11="","",'Rekapitulace zakázky'!AN11)
D17: Uchazeč: | I17: IČ: | J17: ='Rekapitulace zakázky'!AN13 -> Vyplň údaj
E18: ='Rekapitulace zakázky'!E14 -> Vyplň údaj | I18: DIČ: | J18: ='Rekapitulace zakázky'!AN14 -> Vyplň údaj
D20: Projektant: | I20: IČ: | J20: =IF('Rekapitulace zakázky'!AN16="","",'Rekapitulace zakázky'!AN16)
E21: =IF('Rekapitulace zakázky'!E17="","",'Rekapitulace zakázky'!E17) | I21: DIČ: | J21: =IF('Rekapitulace zakázky'!AN17="","",'Rekapitulace zakázky'!AN17)
D23: Zpracovatel: | I23: IČ: | J23: =IF('Rekapitulace zakázky'!AN19="","",'Rekapitulace zakázky'!AN19)
E24: =IF('Rekapitulace zakázky'!E20="","",'Rekapitulace zakázky'!E20) | I24: DIČ: | J24: =IF('Rekapitulace zakázky'!AN20="","",'Rekapitulace zakázky'!AN20)
D26: Poznámka:
D30: Cena bez DPH | J30: =ROUND(J79, 15) -> 0
F32: Základ daně | I32: Sazba daně | J32: Výše daně
D33: DPH | E33: základní | F33: =ROUND((SUM(BE79:BE151)), 15) -> 0 | I33: 0.21 | J33: =ROUND(((SUM(BE79:BE151))*I33), 15) -> 0
E34: snížená | F34: =ROUND((SUM(BF79:BF151)), 15) -> 0 | I34: 0.15 | J34: =ROUND(((SUM(BF79:BF151))*I34), 15) -> 0
E35: zákl. přenesená | F35: =ROUND((SUM(BG79:BG151)), 15) -> 0 | I35: 0.21 | J35: =0 -> 0
E36: sníž. přenesená | F36: =ROUND((SUM(BH79:BH151)), 15) -> 0 | I36: 0.15 | J36: =0 -> 0
E37: nulová | F37: =ROUND((SUM(BI79:BI151)), 15) -> 0 | I37: 0 | J37: =0 -> 0
D39: Cena s DPH | G39: v | H39: CZK | J39: =SUM(J30:J37) -> 0
C45: REKAPITULACE ČLENĚNÍ SOUPISU PRACÍ
C47: Zakázka:
E48: =E7 -> Zimní údržba a odstraňování sněhu u ST Hradec Králové 2019 - 2020
C49: Objekt:
E50: =E9 -> SO 01 - Zimní údržba
C52: Místo: | F52: =F12 -> ST Hradec Králové | I52: Datum: | J52: =IF(J12="","",J12) -> 15. 10. 2019
C54: Zadavatel: | F54: =E15 | I54: Projektant: | J54: =E21
C55: Uchazeč: | F55: =IF(E18="","",E18) -> Vyplň údaj | I55: Zpracovatel: | J55: =E24
C57: Kód dílu - Popis | J57: Cena celkem [CZK]
C59: Náklady zakázky celkem | J59: =J79 -> 0 | AU59: -1
C66: SOUPIS PRACÍ
C68: Zakázka:
E69: =E7 -> Zimní údržba a odstraňování sněhu u ST Hradec Králové 2019 - 2020
C70: Objekt:
...

Sheet SO 02 - Zimní údržba R-po...
AT2: {4062f519-c6ff-4a65-9403-e8a6cfdcbb52}
AT3: 2
D4: KRYCÍ LIST SOUPISU PRACÍ | M4: v --- níže se nacházejí doplnkové a pomocné údaje k sestavám --- v | AT4: False
D6: Zakázka:
E7: ='Rekapitulace zakázky'!K6 -> Zimní údržba a odstraňování sněhu u ST Hradec Králové 2019 - 2020
D8: Objekt:
E9: SO 02 - Zimní údržba R-položky
D11: KSO: | I11: CC-CZ:
D12: Místo: | F12: ST Hradec Králové | I12: Datum: | J12: ='Rekapitulace zakázky'!AN8 -> 15. 10. 2019
D14: Zadavatel: | I14: IČ: | J14: =IF('Rekapitulace zakázky'!AN10="","",'Rekapitulace zakázky'!AN10)
E15: =IF('Rekapitulace zakázky'!E11="","",'Rekapitulace zakázky'!E11) | I15: DIČ: | J15: =IF('Rekapitulace zakázky'!AN11="","",'Rekapitulace zakázky'!AN11)
D17: Uchazeč: | I17: IČ: | J17: ='Rekapitulace zakázky'!AN13 -> Vyplň údaj
E18: ='Rekapitulace zakázky'!E14 -> Vyplň údaj | I18: DIČ: | J18: ='Rekapitulace zakázky'!AN14 -> Vyplň údaj
D20: Projektant: | I20: IČ: | J20: =IF('Rekapitulace zakázky'!AN16="","",'Rekapitulace zakázky'!AN16)
E21: =IF('Rekapitulace zakázky'!E17="","",'Rekapitulace zakázky'!E17) | I21: DIČ: | J21: =IF('Rekapitulace zakázky'!AN17="","",'Rekapitulace zakázky'!AN17)
D23: Zpracovatel: | I23: IČ: | J23: =IF('Rekapitulace zakázky'!AN19="","",'Rekapitulace zakázky'!AN19)
E24: =IF('Rekapitulace zakázky'!E20="","",'Rekapitulace zakázky'!E20) | I24: DIČ: | J24: =IF('Rekapitulace zakázky'!AN20="","",'Rekapitulace zakázky'!AN20)
D26: Poznámka:
D30: Cena bez DPH | J30: =ROUND(J79, 15) -> 0
F32: Základ daně | I32: Sazba daně | J32: Výše daně
D33: DPH | E33: základní | F33: =ROUND((SUM(BE79:BE89)), 15) -> 0 | I33: 0.21 | J33: =ROUND(((SUM(BE79:BE89))*I33), 15) -> 0
E34: snížená | F34: =ROUND((SUM(BF79:BF89)), 15) -> 0 | I34: 0.15 | J34: =ROUND(((SUM(BF79:BF89))*I34), 15) -> 0
E35: zákl. přenesená | F35: =ROUND((SUM(BG79:BG89)), 15) -> 0 | I35: 0.21 | J35: =0 -> 0
E36: sníž. přenesená | F36: =ROUND((SUM(BH79:BH89)), 15) -> 0 | I36: 0.15 | J36: =0 -> 0
E37: nulová | F37: =ROUND((SUM(BI79:BI89)), 15) -> 0 | I37: 0 | J37: =0 -> 0
D39: Cena s DPH | G39: v | H39: CZK | J39: =SUM(J30:J37) -> 0
C45: REKAPITULACE ČLENĚNÍ SOUPISU PRACÍ
C47: Zakázka:
E48: =E7 -> Zimní údržba a odstraňování sněhu u ST Hradec Králové 2019 - 2020
C49: Objekt:
E50: =E9 -> SO 02 - Zimní údržba R-položky
C52: Místo: | F52: =F12 -> ST Hradec Králové | I52: Datum: | J52: =IF(J12="","",J12) -> 15. 10. 2019
C54: Zadavatel: | F54: =E15 | I54: Projektant: | J54: =E21
C55: Uchazeč: | F55: =IF(E18="","",E18) -> Vyplň údaj | I55: Zpracovatel: | J55: =E24
C57: Kód dílu - Popis | J57: Cena celkem [CZK]
C59: Náklady zakázky celkem | J59: =J79 -> 0 | AU59: -1
C66: SOUPIS PRACÍ
C68: Zakázka:
E69: =E7 -> Zimní údržba a odstraňování sněhu u ST Hradec Králové 2019 - 2020
C70: Objekt:
...

Sheet VON - Vedlejší a ostatní ...
AT2: {008b177e-0c55-4069-8f5b-9b37c060bd8f}
AT3: 2
D4: KRYCÍ LIST SOUPISU PRACÍ | M4: v --- níže se nacházejí doplnkové a pomocné údaje k sestavám --- v | AT4: False
D6: Zakázka:
E7: ='Rekapitulace zakázky'!K6 -> Zimní údržba a odstraňování sněhu u ST Hradec Králové 2019 - 2020
D8: Objekt:
E9: VON - Vedlejší a ostatní náklady
D11: KSO: | I11: CC-CZ:
D12: Místo: | F12: ST Hradec Králové | I12: Datum: | J12: ='Rekapitulace zakázky'!AN8 -> 15. 10. 2019
D14: Zadavatel: | I14: IČ: | J14: =IF('Rekapitulace zakázky'!AN10="","",'Rekapitulace zakázky'!AN10)
E15: =IF('Rekapitulace zakázky'!E11="","",'Rekapitulace zakázky'!E11) | I15: DIČ: | J15: =IF('Rekapitulace zakázky'!AN11="","",'Rekapitulace zakázky'!AN11)
D17: Uchazeč: | I17: IČ: | J17: ='Rekapitulace zakázky'!AN13 -> Vyplň údaj
E18: ='Rekapitulace zakázky'!E14 -> Vyplň údaj | I18: DIČ: | J18: ='Rekapitulace zakázky'!AN14 -> Vyplň údaj
D20: Projektant: | I20: IČ: | J20: =IF('Rekapitulace zakázky'!AN16="","",'Rekapitulace zakázky'!AN16)
E21: =IF('Rekapitulace zakázky'!E17="","",'Rekapitulace zakázky'!E17) | I21: DIČ: | J21: =IF('Rekapitulace zakázky'!AN17="","",'Rekapitulace zakázky'!AN17)
D23: Zpracovatel: | I23: IČ: | J23: =IF('Rekapitulace zakázky'!AN19="","",'Rekapitulace zakázky'!AN19)
E24: =IF('Rekapitulace zakázky'!E20="","",'Rekapitulace zakázky'!E20) | I24: DIČ: | J24: =IF('Rekapitulace zakázky'!AN20="","",'Rekapitulace zakázky'!AN20)
D26: Poznámka:
D30: Cena bez DPH | J30: =ROUND(J79, 15) -> 0
F32: Základ daně | I32: Sazba daně | J32: Výše daně
D33: DPH | E33: základní | F33: =ROUND((SUM(BE79:BE87)), 15) -> 0 | I33: 0.21 | J33: =ROUND(((SUM(BE79:BE87))*I33), 15) -> 0
E34: snížená | F34: =ROUND((SUM(BF79:BF87)), 15) -> 0 | I34: 0.15 | J34: =ROUND(((SUM(BF79:BF87))*I34), 15) -> 0
E35: zákl. přenesená | F35: =ROUND((SUM(BG79:BG87)), 15) -> 0 | I35: 0.21 | J35: =0 -> 0
E36: sníž. přenesená | F36: =ROUND((SUM(BH79:BH87)), 15) -> 0 | I36: 0.15 | J36: =0 -> 0
E37: nulová | F37: =ROUND((SUM(BI79:BI87)), 15) -> 0 | I37: 0 | J37: =0 -> 0
D39: Cena s DPH | G39: v | H39: CZK | J39: =SUM(J30:J37) -> 0
C45: REKAPITULACE ČLENĚNÍ SOUPISU PRACÍ
C47: Zakázka:
E48: =E7 -> Zimní údržba a odstraňování sněhu u ST Hradec Králové 2019 - 2020
C49: Objekt:
E50: =E9 -> VON - Vedlejší a ostatní náklady
C52: Místo: | F52: =F12 -> ST Hradec Králové | I52: Datum: | J52: =IF(J12="","",J12) -> 15. 10. 2019
C54: Zadavatel: | F54: =E15 | I54: Projektant: | J54: =E21
C55: Uchazeč: | F55: =IF(E18="","",E18) -> Vyplň údaj | I55: Zpracovatel: | J55: =E24
C57: Kód dílu - Popis | J57: Cena celkem [CZK]
C59: Náklady zakázky celkem | J59: =J79 -> 0 | AU59: -1
C66: SOUPIS PRACÍ
C68: Zakázka:
E69: =E7 -> Zimní údržba a odstraňování sněhu u ST Hradec Králové 2019 - 2020
C70: Objekt:
...

Sheet Pokyny pro vyplnění
C3: Struktura údajů, formát souboru a metodika pro zpracování
C4: Struktura
C6: Soubor je složen ze záložky Rekapitulace rekonstrukce a záložek s názvem soupisu prací pro jednotlivé objekty ve formátu XLS. Každá ze záložek přitom obsahuje
C7: ještě samostatné sestavy vymezené orámovaním a nadpisem sestavy.
C9: Rekapitulace rekonstrukce obsahuje sestavu Rekapitulace rekonstrukce a Rekapitulace objektů rekonstrukce a soupisů prací.
D10: V sestavě Rekapitulace rekonstrukce jsou uvedeny informace identifikující předmět veřejné zakázky na stavební práce, KSO, CC-CZ, CZ-CPV, CZ-CPA a rekapitulaci
D11: celkové nabídkové ceny uchazeče.
D13: Termínem "uchazeč" (resp. zhotovitel) se myslí "účastník zadávacího řízení" ve smyslu zákona o zadávání veřejných zakázek.
D15: V sestavě Rekapitulace objektů rekonstrukce a soupisů prací je uvedena rekapitulace stavebních objektů, inženýrských objektů, provozních souborů,
D16: vedlejších a ostatních nákladů a ostatních nákladů s rekapitulací nabídkové ceny za jednotlivé soupisy prací. Na základě údaje Typ je možné
D17: identifikovat, zda se jedná o objekt nebo soupis prací pro daný objekt:
E18: STA | F18: Stavební objekt pozemní
E19: ING | F19: Stavební objekt inženýrský
E20: PRO | F20: Provozní soubor
E21: VON | F21: Vedlejší a ostatní náklady
E22: OST | F22: Ostatní
E23: Soupis | F23: Soupis prací pro daný typ objektu
C25: Soupis prací pro jednotlivé objekty obsahuje sestavy Krycí list soupisu prací, Rekapitulace členění soupisu prací, Soupis prací. Za soupis prací může být považován
C26: i objekt rekonstrukce v případě, že neobsahuje podřízenou zakázku.
D27: Krycí list soupisu obsahuje rekapitulaci informací o předmětu veřejné zakázky ze sestavy Rekapitulace rekonstrukce, informaci o zařazení objektu do KSO,
D28: CC-CZ, CZ-CPV, CZ-CPA a rekapitulaci celkové nabídkové ceny uchazeče za aktuální soupis prací.
D30: Rekapitulace členění soupisu prací obsahuje rekapitulaci soupisu prací ve všech úrovních členění soupisu tak, jak byla tato členění použita (např.
D31: stavební díly, funkční díly, případně jiné členění) s rekapitulací nabídkové ceny.
D33: Soupis prací obsahuje položky veškerých stavebních nebo montážních prací, dodávek materiálů a služeb nezbytných pro zhotovení stavebního objektu,
D34: inženýrského objektu, provozního souboru, vedlejších a ostatních nákladů.
D35: Pro položky soupisu prací se zobrazují následující informace:
E36: PČ | G36: Pořadové číslo položky v aktuálním soupisu
E37: TYP | G37: Typ položky: K - konstrukce, M - materiál, PP - plný popis, PSC - poznámka k souboru cen, P - poznámka k položce, VV - výkaz výměr
E38: Kód | G38: Kód položky
E39: Popis | G39: Zkrácený popis položky
E40: MJ | G40: Měrná jednotka položky
E41: Množství | G41: Množství v měrné jednotce
E42: J.cena | G42: Jednotková cena položky. Zadaní může obsahovat namísto J.ceny sloupce J.materiál a J.montáž, jejichž součet definuje
G43: J.cenu položky.
E44: Cena celkem | G44: Celková cena položky daná jako součin množství a j.ceny
E45: Cenová soustava | G45: Příslušnost položky do cenové soustavy
D47: Ke každé položce soupisu prací se na samostatných řádcích může zobrazovat:
E48: Plný popis položky
E49: Poznámka k souboru cen a poznámka zadavatele
E50: Výkaz výměr
...
