Workbook

Sheet Rekapitulace stavby
A1: Export Komplet | AZ1: VZ | BA1: 2.0 | BB1: ZAMOK | BT1: False | BU1: False | BV1: {8b91ade0-f658-4b5f-8a16-1575cccbb1bd}
BS2: 0,01 | BT2: 21
BS3: 0,01 | BT3: 15
D4: REKAPITULACE STAVBY | AS4: v --- níže se nacházejí doplnkové a pomocné údaje k sestavám --- v | BE4: Návod na vyplnění | BS4: 0,001
D5: Kód: | K5: 64019039 | BE5: Měnit lze pouze buňky se žlutým podbarvením!_x000D_ _x000D_ 1) v Rekapitulaci stavby vyplňte údaje o Uchazeči (přenesou se do ostatních sestav i v jiných listech)_x000D_ _x000D_ 2) na vybraných listech vyplňte v sestavě Soupis prací ceny u položek | BS5: 0,01
D6: Stavba: | K6: Oprava traťového úseku Železný Brod - Tanvald | BS6: 0,01
D7: KSO: | AK7: CC-CZ: | BS7: 0,01
D8: Místo: | K8: Železný Brod - Tanvald | AK8: Datum: | AN8: 11. 2. 2019 | BS8: 0,01
BS9: 0,01
D10: Zadavatel: | AK10: IČ: | AN10: 70994234 | BS10: 0,01
E11: Správa Železniční dopravní cesty, státní organizace | AK11: DIČ: | AN11: CZ70994234 | BS11: 0,01
BS12: 0,01
D13: Uchazeč: | AK13: IČ: | AN13: Vyplň údaj | BS13: 0,01
AK14: DIČ: | AN14: Vyplň údaj | BS14: 0,01
BS15: False
D16: Projektant: | AK16: IČ: | AN16: 25292161 | BS16: False
E17: Prodin a.s. | AK17: DIČ: | AN17: CZ25292161 | BS17: True
BS18: 0,01
D19: Zpracovatel: | AK19: IČ: | AN19: 25292161 | BS19: 0,01
E20: Prodin a.s. | AK20: DIČ: | AN20: CZ25292161 | BS20: False
D22: Poznámka:
E23: Cenové soustavy ÚRS. Položky, které pochází z této cenové soustavy, jsou ve sloupci 'Cenová soustava' označeny popisem 'CS ÚRS' a úrovní příslušného kalendářního pololetí. Veškeré další informace vymezující popis a podmínky použití těchto položek z Cenové soustavy, které nejsou uvedeny přímo v soupisu prací, jsou neomezeně dálkově k dispozici na www.cs-urs.cz, sekce Cenové a technické podmínky.Soupis prací je také sestaven s využitím cenové soustavy Sborníku ÚOŽI 2019. Položky, které pochází z této cenové soustavy, jsou ve sloupci 'Cenová soustava' označeny popisem "ÚOŽI 2019 01".
D26: Cena bez DPH | AK26: =ROUND(AG54,2) -> 44731700
L28: Sazba daně | W28: Základ daně | AK28: Výše daně
D29: DPH | F29: základní | L29: 0.21 | W29: =ROUND(AZ54, 2) -> 44731700 | AK29: =ROUND(AV54, 2) -> 9393657
F30: snížená | L30: 0.15 | W30: =ROUND(BA54, 2) -> 0 | AK30: =ROUND(AW54, 2) -> 0
F31: zákl. přenesená | L31: 0.21 | W31: =ROUND(BB54, 2) -> 0 | AK31: 0
F32: sníž. přenesená | L32: 0.15 | W32: =ROUND(BC54, 2) -> 0 | AK32: 0
F33: nulová | L33: 0 | W33: =ROUND(BD54, 2) -> 0 | AK33: 0
D35: Cena s DPH | T35: v | X35: CZK | AK35: =SUM(AK26:AK33) -> 54125357
C42: REKAPITULACE OBJEKTŮ STAVBY A SOUPISŮ PRACÍ
C44: Kód: | L44: =K5 -> 64019039
C45: Stavba: | L45: =K6 -> Oprava traťového úseku Železný Brod - Tanvald
C47: Místo: | L47: =IF(K8="","",K8) -> Železný Brod - Tanvald | AI47: Datum: | AM47: =IF(AN8= "","",AN8) -> 11. 2. 2019
C49: Zadavatel: | L49: =IF(E11= "","",E11) -> Správa Železniční dopravní cesty, státní organizace | AI49: Projektant: | AM49: =IF(E17="","",E17) -> Prodin a.s. | AS49: Informatívní údaje z listů zakázek
C50: Uchazeč: | L50: =IF(E14= "Vyplň údaj","",E14) -> 0 | AI50: Zpracovatel: | AM50: =IF(E20="","",E20) -> Prodin a.s.
C52: Kód | I52: Popis | AG52: Cena bez DPH [CZK] | AN52: Cena s DPH [CZK] | AQ52: Typ | AS52: z toho Ostat._x000D_ náklady [CZK] | AT52: DPH [CZK] | AU52: Normohodiny [h] | AV52: DPH základní [CZK] | AW52: DPH snížená [CZK] | AX52: DPH základní přenesená_x000D_ [CZK] | AY52: DPH snížená přenesená_x000D_ [CZK] | AZ52: Základna_x000D_ DPH základní | BA52: Základna_x000D_ DPH snížená | BB52: Základna_x000D_ DPH zákl. přenesená | BC52: Základna_x000D_ DPH sníž. přenesená | BD52: Základna_x000D_ DPH nulová
C54: Náklady stavby celkem | AG54: =ROUND(AG55+SUM(AG56:AG74)+AG76+AG78+AG80+AG82+AG84+AG86+AG88+AG90+AG92+AG94+AG96+AG98+AG100+AG102+AG104+AG105,2) -> 44731700 | AN54: =SUM(AG54,AT54) -> 54125357 | AS54: =ROUND(AS55+SUM(AS56:AS74)+AS76+AS78+AS80+AS82+AS84+AS86+AS88+AS90+AS92+AS94+AS96+AS98+AS100+AS102+AS104+AS105,2) -> 0 | AT54: =ROUND(SUM(AV54:AW54),2) -> 9393657 | AU54: =ROUND(AU55+SUM(AU56:AU74)+AU76+AU78+AU80+AU82+AU84+AU86+AU88+AU90+AU92+AU94+AU96+AU98+AU100+AU102+AU104+AU105,5) -> 0 | AV54: =ROUND(AZ54*L29,2) -> 9393657 | AW54: =ROUND(BA54*L30,2) -> 0 | AX54: =ROUND(BB54*L29,2) -> 0 | AY54: =ROUND(BC54*L30,2) -> 0 | AZ54: =ROUND(AZ55+SUM(AZ56:AZ74)+AZ76+AZ78+AZ80+AZ82+AZ84+AZ86+AZ88+AZ90+AZ92+AZ94+AZ96+AZ98+AZ100+AZ102+AZ104+AZ105,2) -> 44731700 | BA54: =ROUND(BA55+SUM(BA56:BA74)+BA76+BA78+BA80+BA82+BA84+BA86+BA88+BA90+BA92+BA94+BA96+BA98+BA100+BA102+BA104+BA105,2) -> 0 | BB54: =ROUND(BB55+SUM(BB56:BB74)+BB76+BB78+BB80+BB82+BB84+BB86+BB88+BB90+BB92+BB94+BB96+BB98+BB100+BB102+BB104+BB105,2) -> 0 | BC54: =ROUND(BC55+SUM(BC56:BC74)+BC76+BC78+BC80+BC82+BC84+BC86+BC88+BC90+BC92+BC94+BC96+BC98+BC100+BC102+BC104+BC105,2) -> 0 | BD54: =ROUND(BD55+SUM(BD56:BD74)+BD76+BD78+BD80+BD82+BD84+BD86+BD88+BD90+BD92+BD94+BD96+BD98+BD100+BD102+BD104+BD105,2) -> 0 | BS54: D | BT54: 0 | BU54: ###NOIMPORT### | BV54: IMPORT | BW54: {8b91ade0-f658-4b5f-8a16-1575cccbb1bd} | BX54: {00000000-0000-0000-0000-000000000000}
A55: / | D55: PS 01-01-01 | J55: Úpravy zabezpečovacího zařízení | AG55: ='PS 01-01-01 - Úpravy zabe...'!J30 -> 0 | AN55: =SUM(AG55,AT55) -> 0 | AQ55: STA | AS55: 0 | AT55: =ROUND(SUM(AV55:AW55),2) -> 0 | AU55: ='PS 01-01-01 - Úpravy zabe...'!P82 -> 0 | AV55: ='PS 01-01-01 - Úpravy zabe...'!J33 -> 0 | AW55: ='PS 01-01-01 - Úpravy zabe...'!J34 -> 0 | AX55: ='PS 01-01-01 - Úpravy zabe...'!J35 -> 0 | AY55: ='PS 01-01-01 - Úpravy zabe...'!J36 -> 0 | AZ55: ='PS 01-01-01 - Úpravy zabe...'!F33 -> 0 | BA55: ='PS 01-01-01 - Úpravy zabe...'!F34 -> 0 | BB55: ='PS 01-01-01 - Úpravy zabe...'!F35 -> 0 | BC55: ='PS 01-01-01 - Úpravy zabe...'!F36 -> 0 | BD55: ='PS 01-01-01 - Úpravy zabe...'!F37 -> 0 | BT55: 1 | BV55: IMPORT | BW55: {2e48bfb0-61d6-4b5f-b124-b7fc98216322} | BX55: {8b91ade0-f658-4b5f-8a16-1575cccbb1bd} | CM55: 2
A56: / | D56: SO 01-10-01 | J56: Železniční svršek km 0,148 - km 5,590 | AG56: ='SO 01-10-01 - Železniční ...'!J30 -> 12524400 | AN56: =SUM(AG56,AT56) -> 15154524 | AQ56: STA | AS56: 0 | AT56: =ROUND(SUM(AV56:AW56),2) -> 2630124 | AU56: ='SO 01-10-01 - Železniční ...'!P87 -> 0 | AV56: ='SO 01-10-01 - Železniční ...'!J33 -> 2630124 | AW56: ='SO 01-10-01 - Železniční ...'!J34 -> 0 | AX56: ='SO 01-10-01 - Železniční ...'!J35 -> 0 | AY56: ='SO 01-10-01 - Železniční ...'!J36 -> 0 | AZ56: ='SO 01-10-01 - Železniční ...'!F33 -> 12524400 | BA56: ='SO 01-10-01 - Železniční ...'!F34 -> 0 | BB56: ='SO 01-10-01 - Železniční ...'!F35 -> 0 | BC56: ='SO 01-10-01 - Železniční ...'!F36 -> 0 | BD56: ='SO 01-10-01 - Železniční ...'!F37 -> 0 | BT56: 1 | BV56: IMPORT | BW56: {09a7ae61-2c41-4460-a31e-0a9c0453ead6} | BX56: {8b91ade0-f658-4b5f-8a16-1575cccbb1bd} | CM56: 2
A57: / | D57: SO 01-10-01.1 | J57: Náskedná úprava GPK a obnova BK v km 0,148 - km 5,590 | AG57: ='SO 01-10-01.1 - Náskedná ...'!J30 -> 0 | AN57: =SUM(AG57,AT57) -> 0 | AQ57: STA | AS57: 0 | AT57: =ROUND(SUM(AV57:AW57),2) -> 0 | AU57: ='SO 01-10-01.1 - Náskedná ...'!P83 -> 0 | AV57: ='SO 01-10-01.1 - Náskedná ...'!J33 -> 0 | AW57: ='SO 01-10-01.1 - Náskedná ...'!J34 -> 0 | AX57: ='SO 01-10-01.1 - Náskedná ...'!J35 -> 0 | AY57: ='SO 01-10-01.1 - Náskedná ...'!J36 -> 0 | AZ57: ='SO 01-10-01.1 - Náskedná ...'!F33 -> 0 | BA57: ='SO 01-10-01.1 - Náskedná ...'!F34 -> 0 | BB57: ='SO 01-10-01.1 - Náskedná ...'!F35 -> 0 | BC57: ='SO 01-10-01.1 - Náskedná ...'!F36 -> 0 | BD57: ='SO 01-10-01.1 - Náskedná ...'!F37 -> 0 | BT57: 1 | BV57: IMPORT | BW57: {62b0e46c-ea1c-404e-aa31-534155cd1abf} | BX57: {8b91ade0-f658-4b5f-8a16-1575cccbb1bd} | CM57: 2
A58: / | D58: SO 01-10-02 | J58: Železniční svršek km 5,590 - km 11,560 | AG58: ='SO 01-10-02 - Železniční ...'!J30 -> 24353600 | AN58: =SUM(AG58,AT58) -> 29467856 | AQ58: STA | AS58: 0 | AT58: =ROUND(SUM(AV58:AW58),2) -> 5114256 | AU58: ='SO 01-10-02 - Železniční ...'!P87 -> 0 | AV58: ='SO 01-10-02 - Železniční ...'!J33 -> 5114256 | AW58: ='SO 01-10-02 - Železniční ...'!J34 -> 0 | AX58: ='SO 01-10-02 - Železniční ...'!J35 -> 0 | AY58: ='SO 01-10-02 - Železniční ...'!J36 -> 0 | AZ58: ='SO 01-10-02 - Železniční ...'!F33 -> 24353600 | BA58: ='SO 01-10-02 - Železniční ...'!F34 -> 0 | BB58: ='SO 01-10-02 - Železniční ...'!F35 -> 0 | BC58: ='SO 01-10-02 - Železniční ...'!F36 -> 0 | BD58: ='SO 01-10-02 - Železniční ...'!F37 -> 0 | BT58: 1 | BV58: IMPORT | BW58: {a6a585c0-9601-4d4d-8c75-68dfe7c53906} | BX58: {8b91ade0-f658-4b5f-8a16-1575cccbb1bd} | CM58: 2
A59: / | D59: SO 01-10-02.1 | J59: Následná úprava GPK a obnova BK v km 5,590 - km 11,560 | AG59: ='SO 01-10-02.1 - Následná ...'!J30 -> 0 | AN59: =SUM(AG59,AT59) -> 0 | AQ59: STA | AS59: 0 | AT59: =ROUND(SUM(AV59:AW59),2) -> 0 | AU59: ='SO 01-10-02.1 - Následná ...'!P83 -> 0 | AV59: ='SO 01-10-02.1 - Následná ...'!J33 -> 0 | AW59: ='SO 01-10-02.1 - Následná ...'!J34 -> 0 | AX59: ='SO 01-10-02.1 - Následná ...'!J35 -> 0 | AY59: ='SO 01-10-02.1 - Následná ...'!J36 -> 0 | AZ59: ='SO 01-10-02.1 - Následná ...'!F33 -> 0 | BA59: ='SO 01-10-02.1 - Následná ...'!F34 -> 0 | BB59: ='SO 01-10-02.1 - Následná ...'!F35 -> 0 | BC59: ='SO 01-10-02.1 - Následná ...'!F36 -> 0 | BD59: ='SO 01-10-02.1 - Následná ...'!F37 -> 0 | BT59: 1 | BV59: IMPORT | BW59: {dc7180a2-5f77-46ab-b2b1-d1568d2e0db4} | BX59: {8b91ade0-f658-4b5f-8a16-1575cccbb1bd} | CM59: 2
A60: / | D60: SO 01-10-03 | J60: Železniční svršek, km 11,560 - 13,149 | AG60: ='SO 01-10-03 - Železniční ...'!J30 -> 0 | AN60: =SUM(AG60,AT60) -> 0 | AQ60: STA | AS60: 0 | AT60: =ROUND(SUM(AV60:AW60),2) -> 0 | AU60: ='SO 01-10-03 - Železniční ...'!P87 -> 0 | AV60: ='SO 01-10-03 - Železniční ...'!J33 -> 0 | AW60: ='SO 01-10-03 - Železniční ...'!J34 -> 0 | AX60: ='SO 01-10-03 - Železniční ...'!J35 -> 0 | AY60: ='SO 01-10-03 - Železniční ...'!J36 -> 0 | AZ60: ='SO 01-10-03 - Železniční ...'!F33 -> 0 | BA60: ='SO 01-10-03 - Železniční ...'!F34 -> 0 | BB60: ='SO 01-10-03 - Železniční ...'!F35 -> 0 | BC60: ='SO 01-10-03 - Železniční ...'!F36 -> 0 | BD60: ='SO 01-10-03 - Železniční ...'!F37 -> 0 | BT60: 1 | BV60: IMPORT | BW60: {51dcfd11-d90f-4f26-a20c-bcf4978c43c0} | BX60: {8b91ade0-f658-4b5f-8a16-1575cccbb1bd} | CM60: 2
A61: / | D61: SO 01-10-03.1 | J61: Následná úprava GPK a obnova BK v km 11,560 - 13,149 | AG61: ='SO 01-10-03.1 - Následná ...'!J30 -> 0 | AN61: =SUM(AG61,AT61) -> 0 | AQ61: STA | AS61: 0 | AT61: =ROUND(SUM(AV61:AW61),2) -> 0 | AU61: ='SO 01-10-03.1 - Následná ...'!P83 -> 0 | AV61: ='SO 01-10-03.1 - Následná ...'!J33 -> 0 | AW61: ='SO 01-10-03.1 - Následná ...'!J34 -> 0 | AX61: ='SO 01-10-03.1 - Následná ...'!J35 -> 0 | AY61: ='SO 01-10-03.1 - Následná ...'!J36 -> 0 | AZ61: ='SO 01-10-03.1 - Následná ...'!F33 -> 0 | BA61: ='SO 01-10-03.1 - Následná ...'!F34 -> 0 | BB61: ='SO 01-10-03.1 - Následná ...'!F35 -> 0 | BC61: ='SO 01-10-03.1 - Následná ...'!F36 -> 0 | BD61: ='SO 01-10-03.1 - Následná ...'!F37 -> 0 | BT61: 1 | BV61: IMPORT | BW61: {e60172b6-f20d-4cef-b49e-d6169a743353} | BX61: {8b91ade0-f658-4b5f-8a16-1575cccbb1bd} | CM61: 2
A62: / | D62: SO 01-10-04 | J62: Železniční svršek, km 13,149 - km 16,824 | AG62: ='SO 01-10-04 - Železniční ...'!J30 -> 6581700 | AN62: =SUM(AG62,AT62) -> 7963857 | AQ62: STA | AS62: 0 | AT62: =ROUND(SUM(AV62:AW62),2) -> 1382157 | AU62: ='SO 01-10-04 - Železniční ...'!P88 -> 0 | AV62: ='SO 01-10-04 - Železniční ...'!J33 -> 1382157 | AW62: ='SO 01-10-04 - Železniční ...'!J34 -> 0 | AX62: ='SO 01-10-04 - Železniční ...'!J35 -> 0 | AY62: ='SO 01-10-04 - Železniční ...'!J36 -> 0 | AZ62: ='SO 01-10-04 - Železniční ...'!F33 -> 6581700 | BA62: ='SO 01-10-04 - Železniční ...'!F34 -> 0 | BB62: ='SO 01-10-04 - Železniční ...'!F35 -> 0 | BC62: ='SO 01-10-04 - Železniční ...'!F36 -> 0 | BD62: ='SO 01-10-04 - Železniční ...'!F37 -> 0 | BT62: 1 | BV62: IMPORT | BW62: {2782bf55-6279-4a88-9f0c-eeb9538f9355} | BX62: {8b91ade0-f658-4b5f-8a16-1575cccbb1bd} | CM62: 2
A63: / | D63: SO 01-10-04.1 | J63: Následná úprava GPK a obnova BK v km 13,149 - km 16,824 | AG63: ='SO 01-10-04.1 - Následná ...'!J30 -> 0 | AN63: =SUM(AG63,AT63) -> 0 | AQ63: STA | AS63: 0 | AT63: =ROUND(SUM(AV63:AW63),2) -> 0 | AU63: ='SO 01-10-04.1 - Následná ...'!P83 -> 0 | AV63: ='SO 01-10-04.1 - Následná ...'!J33 -> 0 | AW63: ='SO 01-10-04.1 - Následná ...'!J34 -> 0 | AX63: ='SO 01-10-04.1 - Následná ...'!J35 -> 0 | AY63: ='SO 01-10-04.1 - Následná ...'!J36 -> 0 | AZ63: ='SO 01-10-04.1 - Následná ...'!F33 -> 0 | BA63: ='SO 01-10-04.1 - Následná ...'!F34 -> 0 | BB63: ='SO 01-10-04.1 - Následná ...'!F35 -> 0 | BC63: ='SO 01-10-04.1 - Následná ...'!F36 -> 0 | BD63: ='SO 01-10-04.1 - Následná ...'!F37 -> 0 | BT63: 1 | BV63: IMPORT | BW63: {67694fd0-8e49-4f6d-bc01-79649ce5a1a4} | BX63: {8b91ade0-f658-4b5f-8a16-1575cccbb1bd} | CM63: 2
A64: / | D64: SO 01-11-01 | J64: Zastávka Spálov, nástupiště | AG64: ='SO 01-11-01 - Zastávka Sp...'!J30 -> 0 | AN64: =SUM(AG64,AT64) -> 0 | AQ64: STA | AS64: 0 | AT64: =ROUND(SUM(AV64:AW64),2) -> 0 | AU64: ='SO 01-11-01 - Zastávka Sp...'!P87 -> 0 | AV64: ='SO 01-11-01 - Zastávka Sp...'!J33 -> 0 | AW64: ='SO 01-11-01 - Zastávka Sp...'!J34 -> 0 | AX64: ='SO 01-11-01 - Zastávka Sp...'!J35 -> 0 | AY64: ='SO 01-11-01 - Zastávka Sp...'!J36 -> 0 | AZ64: ='SO 01-11-01 - Zastávka Sp...'!F33 -> 0 | BA64: ='SO 01-11-01 - Zastávka Sp...'!F34 -> 0 | BB64: ='SO 01-11-01 - Zastávka Sp...'!F35 -> 0 | BC64: ='SO 01-11-01 - Zastávka Sp...'!F36 -> 0 | BD64: ='SO 01-11-01 - Zastávka Sp...'!F37 -> 0 | BT64: 1 | BV64: IMPORT | BW64: {0bc1b90f-e30a-49c5-bbe2-77450e0c8f69} | BX64: {8b91ade0-f658-4b5f-8a16-1575cccbb1bd} | CM64: 2
A65: / | D65: SO 01-11-02 | J65: Zastávka Jesenný, nástupiště | AG65: ='SO 01-11-02 - Zastávka Je...'!J30 -> 0 | AN65: =SUM(AG65,AT65) -> 0 | AQ65: STA | AS65: 0 | AT65: =ROUND(SUM(AV65:AW65),2) -> 0 | AU65: ='SO 01-11-02 - Zastávka Je...'!P85 -> 0 | AV65: ='SO 01-11-02 - Zastávka Je...'!J33 -> 0 | AW65: ='SO 01-11-02 - Zastávka Je...'!J34 -> 0 | AX65: ='SO 01-11-02 - Zastávka Je...'!J35 -> 0 | AY65: ='SO 01-11-02 - Zastávka Je...'!J36 -> 0 | AZ65: ='SO 01-11-02 - Zastávka Je...'!F33 -> 0 | BA65: ='SO 01-11-02 - Zastávka Je...'!F34 -> 0 | BB65: ='SO 01-11-02 - Zastávka Je...'!F35 -> 0 | BC65: ='SO 01-11-02 - Zastávka Je...'!F36 -> 0 | BD65: ='SO 01-11-02 - Zastávka Je...'!F37 -> 0 | BT65: 1 | BV65: IMPORT | BW65: {a8dc22b6-a0b8-4e8c-a579-acca1021ae11} | BX65: {8b91ade0-f658-4b5f-8a16-1575cccbb1bd} | CM65: 2
A66: / | D66: SO 01-11-03 | J66: Zastávka Návarov, nástupiště | AG66: ='SO 01-11-03 - Zastávka Ná...'!J30 -> 0 | AN66: =SUM(AG66,AT66) -> 0 | AQ66: STA | AS66: 0 | AT66: =ROUND(SUM(AV66:AW66),2) -> 0 | AU66: ='SO 01-11-03 - Zastávka Ná...'!P85 -> 0 | AV66: ='SO 01-11-03 - Zastávka Ná...'!J33 -> 0 | AW66: ='SO 01-11-03 - Zastávka Ná...'!J34 -> 0 | AX66: ='SO 01-11-03 - Zastávka Ná...'!J35 -> 0 | AY66: ='SO 01-11-03 - Zastávka Ná...'!J36 -> 0 | AZ66: ='SO 01-11-03 - Zastávka Ná...'!F33 -> 0 | BA66: ='SO 01-11-03 - Zastávka Ná...'!F34 -> 0 | BB66: ='SO 01-11-03 - Zastávka Ná...'!F35 -> 0 | BC66: ='SO 01-11-03 - Zastávka Ná...'!F36 -> 0 | BD66: ='SO 01-11-03 - Zastávka Ná...'!F37 -> 0 | BT66: 1 | BV66: IMPORT | BW66: {00a152cf-264f-438b-b80a-c9126e2f88c3} | BX66: {8b91ade0-f658-4b5f-8a16-1575cccbb1bd} | CM66: 2
A67: / | D67: SO 01-11-04 | J67: ŽST Velké Hamry, nástupiště 1. a 2. | AG67: ='SO 01-11-04 - ŽST Velké H...'!J30 -> 0 | AN67: =SUM(AG67,AT67) -> 0 | AQ67: STA | AS67: 0 | AT67: =ROUND(SUM(AV67:AW67),2) -> 0 | AU67: ='SO 01-11-04 - ŽST Velké H...'!P85 -> 0 | AV67: ='SO 01-11-04 - ŽST Velké H...'!J33 -> 0 | AW67: ='SO 01-11-04 - ŽST Velké H...'!J34 -> 0 | AX67: ='SO 01-11-04 - ŽST Velké H...'!J35 -> 0 | AY67: ='SO 01-11-04 - ŽST Velké H...'!J36 -> 0 | AZ67: ='SO 01-11-04 - ŽST Velké H...'!F33 -> 0 | BA67: ='SO 01-11-04 - ŽST Velké H...'!F34 -> 0 | BB67: ='SO 01-11-04 - ŽST Velké H...'!F35 -> 0 | BC67: ='SO 01-11-04 - ŽST Velké H...'!F36 -> 0 | BD67: ='SO 01-11-04 - ŽST Velké H...'!F37 -> 0 | BT67: 1 | BV67: IMPORT | BW67: {7d4840b9-0983-4988-82e1-1cbc9952fa67} | BX67: {8b91ade0-f658-4b5f-8a16-1575cccbb1bd} | CM67: 2
A68: / | D68: SO 01-13-01 | J68: Přejezd v ev. km 2,256 | AG68: ='SO 01-13-01 - Přejezd v e...'!J30 -> 0 | AN68: =SUM(AG68,AT68) -> 0 | AQ68: STA | AS68: 0 | AT68: =ROUND(SUM(AV68:AW68),2) -> 0 | AU68: ='SO 01-13-01 - Přejezd v e...'!P85 -> 0 | AV68: ='SO 01-13-01 - Přejezd v e...'!J33 -> 0 | AW68: ='SO 01-13-01 - Přejezd v e...'!J34 -> 0 | AX68: ='SO 01-13-01 - Přejezd v e...'!J35 -> 0 | AY68: ='SO 01-13-01 - Přejezd v e...'!J36 -> 0 | AZ68: ='SO 01-13-01 - Přejezd v e...'!F33 -> 0 | BA68: ='SO 01-13-01 - Přejezd v e...'!F34 -> 0 | BB68: ='SO 01-13-01 - Přejezd v e...'!F35 -> 0 | BC68: ='SO 01-13-01 - Přejezd v e...'!F36 -> 0 | BD68: ='SO 01-13-01 - Přejezd v e...'!F37 -> 0 | BT68: 1 | BV68: IMPORT | BW68: {e7962ff1-868d-49fe-aacb-21f790e1d4e8} | BX68: {8b91ade0-f658-4b5f-8a16-1575cccbb1bd} | CM68: 2
A69: / | D69: SO 01-13-02 | J69: Přejezd v ev. km 12,223 | AG69: ='SO 01-13-02 - Přejezd v e...'!J30 -> 0 | AN69: =SUM(AG69,AT69) -> 0 | AQ69: STA | AS69: 0 | AT69: =ROUND(SUM(AV69:AW69),2) -> 0 | AU69: ='SO 01-13-02 - Přejezd v e...'!P85 -> 0 | AV69: ='SO 01-13-02 - Přejezd v e...'!J33 -> 0 | AW69: ='SO 01-13-02 - Přejezd v e...'!J34 -> 0 | AX69: ='SO 01-13-02 - Přejezd v e...'!J35 -> 0 | AY69: ='SO 01-13-02 - Přejezd v e...'!J36 -> 0 | AZ69: ='SO 01-13-02 - Přejezd v e...'!F33 -> 0 | BA69: ='SO 01-13-02 - Přejezd v e...'!F34 -> 0 | BB69: ='SO 01-13-02 - Přejezd v e...'!F35 -> 0 | BC69: ='SO 01-13-02 - Přejezd v e...'!F36 -> 0 | BD69: ='SO 01-13-02 - Přejezd v e...'!F37 -> 0 | BT69: 1 | BV69: IMPORT | BW69: {2b87e243-ab4a-4fca-9022-6bf2c4c96a7f} | BX69: {8b91ade0-f658-4b5f-8a16-1575cccbb1bd} | CM69: 2
A70: / | D70: SO 01-13-03 | J70: Přejezd v ev. km 12,927 | AG70: ='SO 01-13-03 - Přejezd v e...'!J30 -> 0 | AN70: =SUM(AG70,AT70) -> 0 | AQ70: STA | AS70: 0 | AT70: =ROUND(SUM(AV70:AW70),2) -> 0 | AU70: ='SO 01-13-03 - Přejezd v e...'!P85 -> 0 | AV70: ='SO 01-13-03 - Přejezd v e...'!J33 -> 0 | AW70: ='SO 01-13-03 - Přejezd v e...'!J34 -> 0 | AX70: ='SO 01-13-03 - Přejezd v e...'!J35 -> 0 | AY70: ='SO 01-13-03 - Přejezd v e...'!J36 -> 0 | AZ70: ='SO 01-13-03 - Přejezd v e...'!F33 -> 0 | BA70: ='SO 01-13-03 - Přejezd v e...'!F34 -> 0 | BB70: ='SO 01-13-03 - Přejezd v e...'!F35 -> 0 | BC70: ='SO 01-13-03 - Přejezd v e...'!F36 -> 0 | BD70: ='SO 01-13-03 - Přejezd v e...'!F37 -> 0 | BT70: 1 | BV70: IMPORT | BW70: {0a30ac42-1426-4113-9080-5540dc430d6f} | BX70: {8b91ade0-f658-4b5f-8a16-1575cccbb1bd} | CM70: 2
A71: / | D71: SO 01-13-04 | J71: Přejezd v ev. km 13,091 | AG71: ='SO 01-13-04 - Přejezd v e...'!J30 -> 0 | AN71: =SUM(AG71,AT71) -> 0 | AQ71: STA | AS71: 0 | AT71: =ROUND(SUM(AV71:AW71),2) -> 0 | AU71: ='SO 01-13-04 - Přejezd v e...'!P85 -> 0 | AV71: ='SO 01-13-04 - Přejezd v e...'!J33 -> 0 | AW71: ='SO 01-13-04 - Přejezd v e...'!J34 -> 0 | AX71: ='SO 01-13-04 - Přejezd v e...'!J35 -> 0 | AY71: ='SO 01-13-04 - Přejezd v e...'!J36 -> 0 | AZ71: ='SO 01-13-04 - Přejezd v e...'!F33 -> 0 | BA71: ='SO 01-13-04 - Přejezd v e...'!F34 -> 0 | BB71: ='SO 01-13-04 - Přejezd v e...'!F35 -> 0 | BC71: ='SO 01-13-04 - Přejezd v e...'!F36 -> 0 | BD71: ='SO 01-13-04 - Přejezd v e...'!F37 -> 0 | BT71: 1 | BV71: IMPORT | BW71: {b66e837a-dfe1-4c91-a551-fc112e1c9d1f} | BX71: {8b91ade0-f658-4b5f-8a16-1575cccbb1bd} | CM71: 2
A72: / | D72: SO 01-13-05 | J72: Přejezd v ev. km 13,782 | AG72: ='SO 01-13-05 - Přejezd v e...'!J30 -> 0 | AN72: =SUM(AG72,AT72) -> 0 | AQ72: STA | AS72: 0 | AT72: =ROUND(SUM(AV72:AW72),2) -> 0 | AU72: ='SO 01-13-05 - Přejezd v e...'!P85 -> 0 | AV72: ='SO 01-13-05 - Přejezd v e...'!J33 -> 0 | AW72: ='SO 01-13-05 - Přejezd v e...'!J34 -> 0 | AX72: ='SO 01-13-05 - Přejezd v e...'!J35 -> 0 | AY72: ='SO 01-13-05 - Přejezd v e...'!J36 -> 0 | AZ72: ='SO 01-13-05 - Přejezd v e...'!F33 -> 0 | BA72: ='SO 01-13-05 - Přejezd v e...'!F34 -> 0 | BB72: ='SO 01-13-05 - Přejezd v e...'!F35 -> 0 | BC72: ='SO 01-13-05 - Přejezd v e...'!F36 -> 0 | BD72: ='SO 01-13-05 - Přejezd v e...'!F37 -> 0 | BT72: 1 | BV72: IMPORT | BW72: {298c43e0-6f67-49ce-9484-f9b0145d8aa9} | BX72: {8b91ade0-f658-4b5f-8a16-1575cccbb1bd} | CM72: 2
A73: / | D73: SO 01-13-06 | J73: Přejezd v ev. km 14,410 | AG73: ='SO 01-13-06 - Přejezd v e...'!J30 -> 0 | AN73: =SUM(AG73,AT73) -> 0 | AQ73: STA | AS73: 0 | AT73: =ROUND(SUM(AV73:AW73),2) -> 0 | AU73: ='SO 01-13-06 - Přejezd v e...'!P85 -> 0 | AV73: ='SO 01-13-06 - Přejezd v e...'!J33 -> 0 | AW73: ='SO 01-13-06 - Přejezd v e...'!J34 -> 0 | AX73: ='SO 01-13-06 - Přejezd v e...'!J35 -> 0 | AY73: ='SO 01-13-06 - Přejezd v e...'!J36 -> 0 | AZ73: ='SO 01-13-06 - Přejezd v e...'!F33 -> 0 | BA73: ='SO 01-13-06 - Přejezd v e...'!F34 -> 0 | BB73: ='SO 01-13-06 - Přejezd v e...'!F35 -> 0 | BC73: ='SO 01-13-06 - Přejezd v e...'!F36 -> 0 | BD73: ='SO 01-13-06 - Přejezd v e...'!F37 -> 0 | BT73: 1 | BV73: IMPORT | BW73: {a740d457-8746-46ec-adbc-f2ebea9a4acc} | BX73: {8b91ade0-f658-4b5f-8a16-1575cccbb1bd} | CM73: 2
D74: SO 01-20-01 | J74: Železniční most v ev. km 1,224 | AG74: =ROUND(AG75,2) -> 0 | AN74: =SUM(AG74,AT74) -> 0 | AQ74: STA | AS74: =ROUND(AS75,2) -> 0 | AT74: =ROUND(SUM(AV74:AW74),2) -> 0 | AU74: =ROUND(AU75,5) -> 0 | AV74: =ROUND(AZ74*L29,2) -> 0 | AW74: =ROUND(BA74*L30,2) -> 0 | AX74: =ROUND(BB74*L29,2) -> 0 | AY74: =ROUND(BC74*L30,2) -> 0 | AZ74: =ROUND(AZ75,2) -> 0 | BA74: =ROUND(BA75,2) -> 0 | BB74: =ROUND(BB75,2) -> 0 | BC74: =ROUND(BC75,2) -> 0 | BD74: =ROUND(BD75,2) -> 0 | BS74: D | BT74: 1 | BU74: ###NOIMPORT### | BV74: IMPORT | BW74: {4ab307b7-8f15-4bc1-b08d-61b1e8695ec1} | BX74: {8b91ade0-f658-4b5f-8a16-1575cccbb1bd} | CM74: 0
A75: / | E75: 3110-16-074-01/01 | K75: Železniční most v ev. km 1,224 | AG75: ='3110-16-074-01-01 - Želez...'!J32 -> 0 | AN75: =SUM(AG75,AT75) -> 0 | AQ75: Soupis | AS75: 0 | AT75: =ROUND(SUM(AV75:AW75),2) -> 0 | AU75: ='3110-16-074-01-01 - Želez...'!P101 -> 0 | AV75: ='3110-16-074-01-01 - Želez...'!J35 -> 0 | AW75: ='3110-16-074-01-01 - Želez...'!J36 -> 0 | AX75: ='3110-16-074-01-01 - Želez...'!J37 -> 0 | AY75: ='3110-16-074-01-01 - Želez...'!J38 -> 0 | AZ75: ='3110-16-074-01-01 - Želez...'!F35 -> 0 | BA75: ='3110-16-074-01-01 - Želez...'!F36 -> 0 | BB75: ='3110-16-074-01-01 - Želez...'!F37 -> 0 | BC75: ='3110-16-074-01-01 - Želez...'!F38 -> 0 | BD75: ='3110-16-074-01-01 - Želez...'!F39 -> 0 | BT75: 2 | BV75: IMPORT | BW75: {1bc26317-c26e-4ae2-9914-d439a6b6b1f9} | BX75: {4ab307b7-8f15-4bc1-b08d-61b1e8695ec1} | CL75: 821
D76: SO 01-20-02 | J76: Železniční most v ev. km 3,230 | AG76: =ROUND(AG77,2) -> 0 | AN76: =SUM(AG76,AT76) -> 0 | AQ76: STA | AS76: =ROUND(AS77,2) -> 0 | AT76: =ROUND(SUM(AV76:AW76),2) -> 0 | AU76: =ROUND(AU77,5) -> 0 | AV76: =ROUND(AZ76*L29,2) -> 0 | AW76: =ROUND(BA76*L30,2) -> 0 | AX76: =ROUND(BB76*L29,2) -> 0 | AY76: =ROUND(BC76*L30,2) -> 0 | AZ76: =ROUND(AZ77,2) -> 0 | BA76: =ROUND(BA77,2) -> 0 | BB76: =ROUND(BB77,2) -> 0 | BC76: =ROUND(BC77,2) -> 0 | BD76: =ROUND(BD77,2) -> 0 | BS76: D | BT76: 1 | BU76: ###NOIMPORT### | BV76: IMPORT | BW76: {56f38386-47b0-4509-a48f-0ec20fc38187} | BX76: {8b91ade0-f658-4b5f-8a16-1575cccbb1bd} | CM76: 0
A77: / | E77: 3110-16-074-02/01 | K77: Železniční most v ev. km 3,230 | AG77: ='3110-16-074-02-01 - Želez...'!J32 -> 0 | AN77: =SUM(AG77,AT77) -> 0 | AQ77: Soupis | AS77: 0 | AT77: =ROUND(SUM(AV77:AW77),2) -> 0 | AU77: ='3110-16-074-02-01 - Želez...'!P92 -> 0 | AV77: ='3110-16-074-02-01 - Želez...'!J35 -> 0 | AW77: ='3110-16-074-02-01 - Želez...'!J36 -> 0 | AX77: ='3110-16-074-02-01 - Želez...'!J37 -> 0 | AY77: ='3110-16-074-02-01 - Želez...'!J38 -> 0 | AZ77: ='3110-16-074-02-01 - Želez...'!F35 -> 0 | BA77: ='3110-16-074-02-01 - Želez...'!F36 -> 0 | BB77: ='3110-16-074-02-01 - Želez...'!F37 -> 0 | BC77: ='3110-16-074-02-01 - Želez...'!F38 -> 0 | BD77: ='3110-16-074-02-01 - Želez...'!F39 -> 0 | BT77: 2 | BV77: IMPORT | BW77: {3185806f-1ac8-47d0-8758-12f283cc89db} | BX77: {56f38386-47b0-4509-a48f-0ec20fc38187} | CL77: 821
D78: SO 01-20-03 | J78: Železniční most v ev. km 6,472 | AG78: =ROUND(AG79,2) -> 0 | AN78: =SUM(AG78,AT78) -> 0 | AQ78: STA | AS78: =ROUND(AS79,2) -> 0 | AT78: =ROUND(SUM(AV78:AW78),2) -> 0 | AU78: =ROUND(AU79,5) -> 0 | AV78: =ROUND(AZ78*L29,2) -> 0 | AW78: =ROUND(BA78*L30,2) -> 0 | AX78: =ROUND(BB78*L29,2) -> 0 | AY78: =ROUND(BC78*L30,2) -> 0 | AZ78: =ROUND(AZ79,2) -> 0 | BA78: =ROUND(BA79,2) -> 0 | BB78: =ROUND(BB79,2) -> 0 | BC78: =ROUND(BC79,2) -> 0 | BD78: =ROUND(BD79,2) -> 0 | BS78: D | BT78: 1 | BU78: ###NOIMPORT### | BV78: IMPORT | BW78: {7fe6d5af-8663-45cc-b110-3779a7b9261f} | BX78: {8b91ade0-f658-4b5f-8a16-1575cccbb1bd} | CM78: 0
A79: / | E79: 3110-16-074-03/01 | K79: Železniční most v ev. km 6,472 | AG79: ='3110-16-074-03-01 - Želez...'!J32 -> 0 | AN79: =SUM(AG79,AT79) -> 0 | AQ79: Soupis | AS79: 0 | AT79: =ROUND(SUM(AV79:AW79),2) -> 0 | AU79: ='3110-16-074-03-01 - Želez...'!P102 -> 0 | AV79: ='3110-16-074-03-01 - Želez...'!J35 -> 0 | AW79: ='3110-16-074-03-01 - Želez...'!J36 -> 0 | AX79: ='3110-16-074-03-01 - Želez...'!J37 -> 0 | AY79: ='3110-16-074-03-01 - Želez...'!J38 -> 0 | AZ79: ='3110-16-074-03-01 - Želez...'!F35 -> 0 | BA79: ='3110-16-074-03-01 - Želez...'!F36 -> 0 | BB79: ='3110-16-074-03-01 - Želez...'!F37 -> 0 | BC79: ='3110-16-074-03-01 - Želez...'!F38 -> 0 | BD79: ='3110-16-074-03-01 - Želez...'!F39 -> 0 | BT79: 2 | BV79: IMPORT | BW79: {3f44b5b2-989d-4c1a-b359-ca0b1892a207} | BX79: {7fe6d5af-8663-45cc-b110-3779a7b9261f}
D80: SO 01-20-04 | J80: Železniční most v ev. km 10,667 | AG80: =ROUND(AG81,2) -> 0 | AN80: =SUM(AG80,AT80) -> 0 | AQ80: STA | AS80: =ROUND(AS81,2) -> 0 | AT80: =ROUND(SUM(AV80:AW80),2) -> 0 | AU80: =ROUND(AU81,5) -> 0 | AV80: =ROUND(AZ80*L29,2) -> 0 | AW80: =ROUND(BA80*L30,2) -> 0 | AX80: =ROUND(BB80*L29,2) -> 0 | AY80: =ROUND(BC80*L30,2) -> 0 | AZ80: =ROUND(AZ81,2) -> 0 | BA80: =ROUND(BA81,2) -> 0 | BB80: =ROUND(BB81,2) -> 0 | BC80: =ROUND(BC81,2) -> 0 | BD80: =ROUND(BD81,2) -> 0 | BS80: D | BT80: 1 | BU80: ###NOIMPORT### | BV80: IMPORT | BW80: {3430c506-365d-4f36-9bd8-691eb4cf6481} | BX80: {8b91ade0-f658-4b5f-8a16-1575cccbb1bd} | CM80: 0
A81: / | E81: 3110-16-074-04/01 | K81: Železniční most v ev. km 10,667 | AG81: ='3110-16-074-04-01 - Želez...'!J32 -> 0 | AN81: =SUM(AG81,AT81) -> 0 | AQ81: Soupis | AS81: 0 | AT81: =ROUND(SUM(AV81:AW81),2) -> 0 | AU81: ='3110-16-074-04-01 - Želez...'!P97 -> 0 | AV81: ='3110-16-074-04-01 - Želez...'!J35 -> 0 | AW81: ='3110-16-074-04-01 - Želez...'!J36 -> 0 | AX81: ='3110-16-074-04-01 - Želez...'!J37 -> 0 | AY81: ='3110-16-074-04-01 - Želez...'!J38 -> 0 | AZ81: ='3110-16-074-04-01 - Želez...'!F35 -> 0 | BA81: ='3110-16-074-04-01 - Želez...'!F36 -> 0 | BB81: ='3110-16-074-04-01 - Želez...'!F37 -> 0 | BC81: ='3110-16-074-04-01 - Želez...'!F38 -> 0 | BD81: ='3110-16-074-04-01 - Želez...'!F39 -> 0 | BT81: 2 | BV81: IMPORT | BW81: {f629d526-f9a7-4895-92cc-3e93e0060d34} | BX81: {3430c506-365d-4f36-9bd8-691eb4cf6481} | CL81: 821
D82: SO 01-20-05 | J82: Železniční most v ev. km 11,035 | AG82: =ROUND(AG83,2) -> 0 | AN82: =SUM(AG82,AT82) -> 0 | AQ82: STA | AS82: =ROUND(AS83,2) -> 0 | AT82: =ROUND(SUM(AV82:AW82),2) -> 0 | AU82: =ROUND(AU83,5) -> 0 | AV82: =ROUND(AZ82*L29,2) -> 0 | AW82: =ROUND(BA82*L30,2) -> 0 | AX82: =ROUND(BB82*L29,2) -> 0 | AY82: =ROUND(BC82*L30,2) -> 0 | AZ82: =ROUND(AZ83,2) -> 0 | BA82: =ROUND(BA83,2) -> 0 | BB82: =ROUND(BB83,2) -> 0 | BC82: =ROUND(BC83,2) -> 0 | BD82: =ROUND(BD83,2) -> 0 | BS82: D | BT82: 1 | BU82: ###NOIMPORT### | BV82: IMPORT | BW82: {39c4777c-04b6-407c-a30b-ee84bffb64ee} | BX82: {8b91ade0-f658-4b5f-8a16-1575cccbb1bd} | CM82: 0
A83: / | E83: 3110-16-074-05/01 | K83: Železniční most v ev. km 11,035 | AG83: ='3110-16-074-05-01 - Želez...'!J32 -> 0 | AN83: =SUM(AG83,AT83) -> 0 | AQ83: Soupis | AS83: 0 | AT83: =ROUND(SUM(AV83:AW83),2) -> 0 | AU83: ='3110-16-074-05-01 - Želez...'!P96 -> 0 | AV83: ='3110-16-074-05-01 - Želez...'!J35 -> 0 | AW83: ='3110-16-074-05-01 - Želez...'!J36 -> 0 | AX83: ='3110-16-074-05-01 - Želez...'!J37 -> 0 | AY83: ='3110-16-074-05-01 - Želez...'!J38 -> 0 | AZ83: ='3110-16-074-05-01 - Želez...'!F35 -> 0 | BA83: ='3110-16-074-05-01 - Želez...'!F36 -> 0 | BB83: ='3110-16-074-05-01 - Želez...'!F37 -> 0 | BC83: ='3110-16-074-05-01 - Želez...'!F38 -> 0 | BD83: ='3110-16-074-05-01 - Želez...'!F39 -> 0 | BT83: 2 | BV83: IMPORT | BW83: {8e0dfe6e-8ece-4a58-92f2-b6a0bd7c5fb2} | BX83: {39c4777c-04b6-407c-a30b-ee84bffb64ee} | CL83: 821 2
D84: SO 01-20-06 | J84: Železniční most v ev. km 12,510 | AG84: =ROUND(AG85,2) -> 0 | AN84: =SUM(AG84,AT84) -> 0 | AQ84: STA | AS84: =ROUND(AS85,2) -> 0 | AT84: =ROUND(SUM(AV84:AW84),2) -> 0 | AU84: =ROUND(AU85,5) -> 0 | AV84: =ROUND(AZ84*L29,2) -> 0 | AW84: =ROUND(BA84*L30,2) -> 0 | AX84: =ROUND(BB84*L29,2) -> 0 | AY84: =ROUND(BC84*L30,2) -> 0 | AZ84: =ROUND(AZ85,2) -> 0 | BA84: =ROUND(BA85,2) -> 0 | BB84: =ROUND(BB85,2) -> 0 | BC84: =ROUND(BC85,2) -> 0 | BD84: =ROUND(BD85,2) -> 0 | BS84: D | BT84: 1 | BU84: ###NOIMPORT### | BV84: IMPORT | BW84: {f6359623-af33-4e5b-a2c6-46959d0482ec} | BX84: {8b91ade0-f658-4b5f-8a16-1575cccbb1bd} | CM84: 0
A85: / | E85: 3110-16-074-06/01 | K85: Železniční most v ev. km 12,510 | AG85: ='3110-16-074-06-01 - Želez...'!J32 -> 0 | AN85: =SUM(AG85,AT85) -> 0 | AQ85: Soupis | AS85: 0 | AT85: =ROUND(SUM(AV85:AW85),2) -> 0 | AU85: ='3110-16-074-06-01 - Želez...'!P99 -> 0 | AV85: ='3110-16-074-06-01 - Želez...'!J35 -> 0 | AW85: ='3110-16-074-06-01 - Želez...'!J36 -> 0 | AX85: ='3110-16-074-06-01 - Želez...'!J37 -> 0 | AY85: ='3110-16-074-06-01 - Želez...'!J38 -> 0 | AZ85: ='3110-16-074-06-01 - Želez...'!F35 -> 0 | BA85: ='3110-16-074-06-01 - Želez...'!F36 -> 0 | BB85: ='3110-16-074-06-01 - Želez...'!F37 -> 0 | BC85: ='3110-16-074-06-01 - Želez...'!F38 -> 0 | BD85: ='3110-16-074-06-01 - Želez...'!F39 -> 0 | BT85: 2 | BV85: IMPORT | BW85: {8e22f4b7-0654-4cfd-b655-534ba5a786e6} | BX85: {f6359623-af33-4e5b-a2c6-46959d0482ec} | CL85: 821 2
D86: SO 01-20-07 | J86: Železniční most v ev. km 15,912 | AG86: =ROUND(AG87,2) -> 1192500 | AN86: =SUM(AG86,AT86) -> 1442925 | AQ86: STA | AS86: =ROUND(AS87,2) -> 0 | AT86: =ROUND(SUM(AV86:AW86),2) -> 250425 | AU86: =ROUND(AU87,5) -> 0 | AV86: =ROUND(AZ86*L29,2) -> 250425 | AW86: =ROUND(BA86*L30,2) -> 0 | AX86: =ROUND(BB86*L29,2) -> 0 | AY86: =ROUND(BC86*L30,2) -> 0 | AZ86: =ROUND(AZ87,2) -> 1192500 | BA86: =ROUND(BA87,2) -> 0 | BB86: =ROUND(BB87,2) -> 0 | BC86: =ROUND(BC87,2) -> 0 | BD86: =ROUND(BD87,2) -> 0 | BS86: D | BT86: 1 | BU86: ###NOIMPORT### | BV86: IMPORT | BW86: {9d20ed02-c826-4b51-a5d2-117a9ccc1ad9} | BX86: {8b91ade0-f658-4b5f-8a16-1575cccbb1bd} | CM86: 0
A87: / | E87: 3110-16-074-07/01 | K87: Železniční most v ev. km 15,912 | AG87: ='3110-16-074-07-01 - Želez...'!J32 -> 1192500 | AN87: =SUM(AG87,AT87) -> 1442925 | AQ87: Soupis | AS87: 0 | AT87: =ROUND(SUM(AV87:AW87),2) -> 250425 | AU87: ='3110-16-074-07-01 - Želez...'!P94 -> 0 | AV87: ='3110-16-074-07-01 - Želez...'!J35 -> 250425 | AW87: ='3110-16-074-07-01 - Želez...'!J36 -> 0 | AX87: ='3110-16-074-07-01 - Želez...'!J37 -> 0 | AY87: ='3110-16-074-07-01 - Želez...'!J38 -> 0 | AZ87: ='3110-16-074-07-01 - Želez...'!F35 -> 1192500 | BA87: ='3110-16-074-07-01 - Želez...'!F36 -> 0 | BB87: ='3110-16-074-07-01 - Želez...'!F37 -> 0 | BC87: ='3110-16-074-07-01 - Želez...'!F38 -> 0 | BD87: ='3110-16-074-07-01 - Želez...'!F39 -> 0 | BT87: 2 | BV87: IMPORT | BW87: {d2872164-ccd9-4b1b-89d1-c1f84ccb0162} | BX87: {9d20ed02-c826-4b51-a5d2-117a9ccc1ad9} | CL87: 821
D88: SO 01-21-01 | J88: Propustek v ev. km 2,470 | AG88: =ROUND(AG89,2) -> 0 | AN88: =SUM(AG88,AT88) -> 0 | AQ88: STA | AS88: =ROUND(AS89,2) -> 0 | AT88: =ROUND(SUM(AV88:AW88),2) -> 0 | AU88: =ROUND(AU89,5) -> 0 | AV88: =ROUND(AZ88*L29,2) -> 0 | AW88: =ROUND(BA88*L30,2) -> 0 | AX88: =ROUND(BB88*L29,2) -> 0 | AY88: =ROUND(BC88*L30,2) -> 0 | AZ88: =ROUND(AZ89,2) -> 0 | BA88: =ROUND(BA89,2) -> 0 | BB88: =ROUND(BB89,2) -> 0 | BC88: =ROUND(BC89,2) -> 0 | BD88: =ROUND(BD89,2) -> 0 | BS88: D | BT88: 1 | BU88: ###NOIMPORT### | BV88: IMPORT | BW88: {e3d2e244-3131-47bb-988c-84e142043b00} | BX88: {8b91ade0-f658-4b5f-8a16-1575cccbb1bd} | CM88: 0
A89: / | E89: 3110-16-074-08/01 | K89: Propustek v ev. km 2,470 | AG89: ='3110-16-074-08-01 - Propu...'!J32 -> 0 | AN89: =SUM(AG89,AT89) -> 0 | AQ89: Soupis | AS89: 0 | AT89: =ROUND(SUM(AV89:AW89),2) -> 0 | AU89: ='3110-16-074-08-01 - Propu...'!P95 -> 0 | AV89: ='3110-16-074-08-01 - Propu...'!J35 -> 0 | AW89: ='3110-16-074-08-01 - Propu...'!J36 -> 0 | AX89: ='3110-16-074-08-01 - Propu...'!J37 -> 0 | AY89: ='3110-16-074-08-01 - Propu...'!J38 -> 0 | AZ89: ='3110-16-074-08-01 - Propu...'!F35 -> 0 | BA89: ='3110-16-074-08-01 - Propu...'!F36 -> 0 | BB89: ='3110-16-074-08-01 - Propu...'!F37 -> 0 | BC89: ='3110-16-074-08-01 - Propu...'!F38 -> 0 | BD89: ='3110-16-074-08-01 - Propu...'!F39 -> 0 | BT89: 2 | BV89: IMPORT | BW89: {07345330-bf93-4591-8d11-decf3b7669d5} | BX89: {e3d2e244-3131-47bb-988c-84e142043b00} | CL89: 821 2
D90: SO 01-21-02 | J90: Propustek v ev. km 2,939 | AG90: =ROUND(AG91,2) -> 0 | AN90: =SUM(AG90,AT90) -> 0 | AQ90: STA | AS90: =ROUND(AS91,2) -> 0 | AT90: =ROUND(SUM(AV90:AW90),2) -> 0 | AU90: =ROUND(AU91,5) -> 0 | AV90: =ROUND(AZ90*L29,2) -> 0 | AW90: =ROUND(BA90*L30,2) -> 0 | AX90: =ROUND(BB90*L29,2) -> 0 | AY90: =ROUND(BC90*L30,2) -> 0 | AZ90: =ROUND(AZ91,2) -> 0 | BA90: =ROUND(BA91,2) -> 0 | BB90: =ROUND(BB91,2) -> 0 | BC90: =ROUND(BC91,2) -> 0 | BD90: =ROUND(BD91,2) -> 0 | BS90: D | BT90: 1 | BU90: ###NOIMPORT### | BV90: IMPORT | BW90: {5dbbb16e-227d-4e3e-ba40-4ea1218447a7} | BX90: {8b91ade0-f658-4b5f-8a16-1575cccbb1bd} | CM90: 0
A91: / | E91: 3110-16-074-09/01 | K91: Propustek v ev. km 2,939 | AG91: ='3110-16-074-09-01 - Propu...'!J32 -> 0 | AN91: =SUM(AG91,AT91) -> 0 | AQ91: Soupis | AS91: 0 | AT91: =ROUND(SUM(AV91:AW91),2) -> 0 | AU91: ='3110-16-074-09-01 - Propu...'!P90 -> 0 | AV91: ='3110-16-074-09-01 - Propu...'!J35 -> 0 | AW91: ='3110-16-074-09-01 - Propu...'!J36 -> 0 | AX91: ='3110-16-074-09-01 - Propu...'!J37 -> 0 | AY91: ='3110-16-074-09-01 - Propu...'!J38 -> 0 | AZ91: ='3110-16-074-09-01 - Propu...'!F35 -> 0 | BA91: ='3110-16-074-09-01 - Propu...'!F36 -> 0 | BB91: ='3110-16-074-09-01 - Propu...'!F37 -> 0 | BC91: ='3110-16-074-09-01 - Propu...'!F38 -> 0 | BD91: ='3110-16-074-09-01 - Propu...'!F39 -> 0 | BT91: 2 | BV91: IMPORT | BW91: {1248bc93-f247-4aec-a42b-360166688f47} | BX91: {5dbbb16e-227d-4e3e-ba40-4ea1218447a7} | CL91: 821 2
D92: SO 01-21-03 | J92: Propustek v ev. km 3,036 | AG92: =ROUND(AG93,2) -> 0 | AN92: =SUM(AG92,AT92) -> 0 | AQ92: STA | AS92: =ROUND(AS93,2) -> 0 | AT92: =ROUND(SUM(AV92:AW92),2) -> 0 | AU92: =ROUND(AU93,5) -> 0 | AV92: =ROUND(AZ92*L29,2) -> 0 | AW92: =ROUND(BA92*L30,2) -> 0 | AX92: =ROUND(BB92*L29,2) -> 0 | AY92: =ROUND(BC92*L30,2) -> 0 | AZ92: =ROUND(AZ93,2) -> 0 | BA92: =ROUND(BA93,2) -> 0 | BB92: =ROUND(BB93,2) -> 0 | BC92: =ROUND(BC93,2) -> 0 | BD92: =ROUND(BD93,2) -> 0 | BS92: D | BT92: 1 | BU92: ###NOIMPORT### | BV92: IMPORT | BW92: {f3572602-4296-4a4e-b335-575c05ecc6c4} | BX92: {8b91ade0-f658-4b5f-8a16-1575cccbb1bd} | CM92: 0
A93: / | E93: 3110-16-074-10/01 | K93: Propustek v ev. km 3,036 | AG93: ='3110-16-074-10-01 - Propu...'!J32 -> 0 | AN93: =SUM(AG93,AT93) -> 0 | AQ93: Soupis | AS93: 0 | AT93: =ROUND(SUM(AV93:AW93),2) -> 0 | AU93: ='3110-16-074-10-01 - Propu...'!P94 -> 0 | AV93: ='3110-16-074-10-01 - Propu...'!J35 -> 0 | AW93: ='3110-16-074-10-01 - Propu...'!J36 -> 0 | AX93: ='3110-16-074-10-01 - Propu...'!J37 -> 0 | AY93: ='3110-16-074-10-01 - Propu...'!J38 -> 0 | AZ93: ='3110-16-074-10-01 - Propu...'!F35 -> 0 | BA93: ='3110-16-074-10-01 - Propu...'!F36 -> 0 | BB93: ='3110-16-074-10-01 - Propu...'!F37 -> 0 | BC93: ='3110-16-074-10-01 - Propu...'!F38 -> 0 | BD93: ='3110-16-074-10-01 - Propu...'!F39 -> 0 | BT93: 2 | BV93: IMPORT | BW93: {01597b24-df00-48eb-b5b9-242d8aa21f66} | BX93: {f3572602-4296-4a4e-b335-575c05ecc6c4} | CL93: 821 2
D94: SO 01-21-04 | J94: Propustek v ev. km 8,998 | AG94: =ROUND(AG95,2) -> 0 | AN94: =SUM(AG94,AT94) -> 0 | AQ94: STA | AS94: =ROUND(AS95,2) -> 0 | AT94: =ROUND(SUM(AV94:AW94),2) -> 0 | AU94: =ROUND(AU95,5) -> 0 | AV94: =ROUND(AZ94*L29,2) -> 0 | AW94: =ROUND(BA94*L30,2) -> 0 | AX94: =ROUND(BB94*L29,2) -> 0 | AY94: =ROUND(BC94*L30,2) -> 0 | AZ94: =ROUND(AZ95,2) -> 0 | BA94: =ROUND(BA95,2) -> 0 | BB94: =ROUND(BB95,2) -> 0 | BC94: =ROUND(BC95,2) -> 0 | BD94: =ROUND(BD95,2) -> 0 | BS94: D | BT94: 1 | BU94: ###NOIMPORT### | BV94: IMPORT | BW94: {966fec41-307e-4822-9067-cf6f2cd9f09e} | BX94: {8b91ade0-f658-4b5f-8a16-1575cccbb1bd} | CM94: 0
A95: / | E95: 3110-16-074-11/01 | K95: Propustek v ev. km 8,998 | AG95: ='3110-16-074-11-01 - Propu...'!J32 -> 0 | AN95: =SUM(AG95,AT95) -> 0 | AQ95: Soupis | AS95: 0 | AT95: =ROUND(SUM(AV95:AW95),2) -> 0 | AU95: ='3110-16-074-11-01 - Propu...'!P94 -> 0 | AV95: ='3110-16-074-11-01 - Propu...'!J35 -> 0 | AW95: ='3110-16-074-11-01 - Propu...'!J36 -> 0 | AX95: ='3110-16-074-11-01 - Propu...'!J37 -> 0 | AY95: ='3110-16-074-11-01 - Propu...'!J38 -> 0 | AZ95: ='3110-16-074-11-01 - Propu...'!F35 -> 0 | BA95: ='3110-16-074-11-01 - Propu...'!F36 -> 0 | BB95: ='3110-16-074-11-01 - Propu...'!F37 -> 0 | BC95: ='3110-16-074-11-01 - Propu...'!F38 -> 0 | BD95: ='3110-16-074-11-01 - Propu...'!F39 -> 0 | BT95: 2 | BV95: IMPORT | BW95: {971377a8-a389-4af6-83cc-49872a2ebf41} | BX95: {966fec41-307e-4822-9067-cf6f2cd9f09e} | CL95: 821 2
D96: SO 01-21-05 | J96: Propustek v ev. km 9,388 | AG96: =ROUND(AG97,2) -> 0 | AN96: =SUM(AG96,AT96) -> 0 | AQ96: STA | AS96: =ROUND(AS97,2) -> 0 | AT96: =ROUND(SUM(AV96:AW96),2) -> 0 | AU96: =ROUND(AU97,5) -> 0 | AV96: =ROUND(AZ96*L29,2) -> 0 | AW96: =ROUND(BA96*L30,2) -> 0 | AX96: =ROUND(BB96*L29,2) -> 0 | AY96: =ROUND(BC96*L30,2) -> 0 | AZ96: =ROUND(AZ97,2) -> 0 | BA96: =ROUND(BA97,2) -> 0 | BB96: =ROUND(BB97,2) -> 0 | BC96: =ROUND(BC97,2) -> 0 | BD96: =ROUND(BD97,2) -> 0 | BS96: D | BT96: 1 | BU96: ###NOIMPORT### | BV96: IMPORT | BW96: {56b8e590-94aa-473f-97ca-d723b5ce3075} | BX96: {8b91ade0-f658-4b5f-8a16-1575cccbb1bd} | CM96: 0
A97: / | E97: 3110-16-074-12/01 | K97: Propustek v ev. km 9,388 | AG97: ='3110-16-074-12-01 - Propu...'!J32 -> 0 | AN97: =SUM(AG97,AT97) -> 0 | AQ97: Soupis | AS97: 0 | AT97: =ROUND(SUM(AV97:AW97),2) -> 0 | AU97: ='3110-16-074-12-01 - Propu...'!P94 -> 0 | AV97: ='3110-16-074-12-01 - Propu...'!J35 -> 0 | AW97: ='3110-16-074-12-01 - Propu...'!J36 -> 0 | AX97: ='3110-16-074-12-01 - Propu...'!J37 -> 0 | AY97: ='3110-16-074-12-01 - Propu...'!J38 -> 0 | AZ97: ='3110-16-074-12-01 - Propu...'!F35 -> 0 | BA97: ='3110-16-074-12-01 - Propu...'!F36 -> 0 | BB97: ='3110-16-074-12-01 - Propu...'!F37 -> 0 | BC97: ='3110-16-074-12-01 - Propu...'!F38 -> 0 | BD97: ='3110-16-074-12-01 - Propu...'!F39 -> 0 | BT97: 2 | BV97: IMPORT | BW97: {bad9d32f-8dbb-41cc-8c6b-73517cea33fe} | BX97: {56b8e590-94aa-473f-97ca-d723b5ce3075} | CL97: 821 2
D98: SO 01-21-06 | J98: Propustek v ev. km 11,966 | AG98: =ROUND(AG99,2) -> 0 | AN98: =SUM(AG98,AT98) -> 0 | AQ98: STA | AS98: =ROUND(AS99,2) -> 0 | AT98: =ROUND(SUM(AV98:AW98),2) -> 0 | AU98: =ROUND(AU99,5) -> 0 | AV98: =ROUND(AZ98*L29,2) -> 0 | AW98: =ROUND(BA98*L30,2) -> 0 | AX98: =ROUND(BB98*L29,2) -> 0 | AY98: =ROUND(BC98*L30,2) -> 0 | AZ98: =ROUND(AZ99,2) -> 0 | BA98: =ROUND(BA99,2) -> 0 | BB98: =ROUND(BB99,2) -> 0 | BC98: =ROUND(BC99,2) -> 0 | BD98: =ROUND(BD99,2) -> 0 | BS98: D | BT98: 1 | BU98: ###NOIMPORT### | BV98: IMPORT | BW98: {234dfccf-31a1-4487-bc35-4da11cf08293} | BX98: {8b91ade0-f658-4b5f-8a16-1575cccbb1bd} | CM98: 0
A99: / | E99: 3110-16-074-13/01 | K99: Propustek v ev. km 11,966 | AG99: ='3110-16-074-13-01 - Propu...'!J32 -> 0 | AN99: =SUM(AG99,AT99) -> 0 | AQ99: Soupis | AS99: 0 | AT99: =ROUND(SUM(AV99:AW99),2) -> 0 | AU99: ='3110-16-074-13-01 - Propu...'!P97 -> 0 | AV99: ='3110-16-074-13-01 - Propu...'!J35 -> 0 | AW99: ='3110-16-074-13-01 - Propu...'!J36 -> 0 | AX99: ='3110-16-074-13-01 - Propu...'!J37 -> 0 | AY99: ='3110-16-074-13-01 - Propu...'!J38 -> 0 | AZ99: ='3110-16-074-13-01 - Propu...'!F35 -> 0 | BA99: ='3110-16-074-13-01 - Propu...'!F36 -> 0 | BB99: ='3110-16-074-13-01 - Propu...'!F37 -> 0 | BC99: ='3110-16-074-13-01 - Propu...'!F38 -> 0 | BD99: ='3110-16-074-13-01 - Propu...'!F39 -> 0 | BT99: 2 | BV99: IMPORT | BW99: {65221093-ae58-46e8-8c40-b35b5571db23} | BX99: {234dfccf-31a1-4487-bc35-4da11cf08293} | CL99: 821 2
D100: SO 01-21-07 | J100: Propustek v ev. km 14,705 | AG100: =ROUND(AG101,2) -> 79500 | AN100: =SUM(AG100,AT100) -> 96195 | AQ100: STA | AS100: =ROUND(AS101,2) -> 0 | AT100: =ROUND(SUM(AV100:AW100),2) -> 16695 | AU100: =ROUND(AU101,5) -> 0 | AV100: =ROUND(AZ100*L29,2) -> 16695 | AW100: =ROUND(BA100*L30,2) -> 0 | AX100: =ROUND(BB100*L29,2) -> 0 | AY100: =ROUND(BC100*L30,2) -> 0 | AZ100: =ROUND(AZ101,2) -> 79500 | BA100: =ROUND(BA101,2) -> 0 | BB100: =ROUND(BB101,2) -> 0 | BC100: =ROUND(BC101,2) -> 0 | BD100: =ROUND(BD101,2) -> 0 | BS100: D | BT100: 1 | BU100: ###NOIMPORT### | BV100: IMPORT | BW100: {7edc5695-38fb-429d-bdeb-9c46754e3fd2} | BX100: {8b91ade0-f658-4b5f-8a16-1575cccbb1bd} | CM100: 0
A101: / | E101: 3110-16-074-14/01 | K101: Propustek v ev. km 14,705 | AG101: ='3110-16-074-14-01 - Propu...'!J32 -> 79500 | AN101: =SUM(AG101,AT101) -> 96195 | AQ101: Soupis | AS101: 0 | AT101: =ROUND(SUM(AV101:AW101),2) -> 16695 | AU101: ='3110-16-074-14-01 - Propu...'!P98 -> 0 | AV101: ='3110-16-074-14-01 - Propu...'!J35 -> 16695 | AW101: ='3110-16-074-14-01 - Propu...'!J36 -> 0 | AX101: ='3110-16-074-14-01 - Propu...'!J37 -> 0 | AY101: ='3110-16-074-14-01 - Propu...'!J38 -> 0 | AZ101: ='3110-16-074-14-01 - Propu...'!F35 -> 79500 | BA101: ='3110-16-074-14-01 - Propu...'!F36 -> 0 | BB101: ='3110-16-074-14-01 - Propu...'!F37 -> 0 | BC101: ='3110-16-074-14-01 - Propu...'!F38 -> 0 | BD101: ='3110-16-074-14-01 - Propu...'!F39 -> 0 | BT101: 2 | BV101: IMPORT | BW101: {5adb7318-f544-4083-a3c3-4a68fcffd380} | BX101: {7edc5695-38fb-429d-bdeb-9c46754e3fd2} | CL101: 821 2
D102: SO 01-22-01 | J102: Opěrná zeď v km 6,303-6,390 | AG102: =ROUND(AG103,2) -> 0 | AN102: =SUM(AG102,AT102) -> 0 | AQ102: STA | AS102: =ROUND(AS103,2) -> 0 | AT102: =ROUND(SUM(AV102:AW102),2) -> 0 | AU102: =ROUND(AU103,5) -> 0 | AV102: =ROUND(AZ102*L29,2) -> 0 | AW102: =ROUND(BA102*L30,2) -> 0 | AX102: =ROUND(BB102*L29,2) -> 0 | AY102: =ROUND(BC102*L30,2) -> 0 | AZ102: =ROUND(AZ103,2) -> 0 | BA102: =ROUND(BA103,2) -> 0 | BB102: =ROUND(BB103,2) -> 0 | BC102: =ROUND(BC103,2) -> 0 | BD102: =ROUND(BD103,2) -> 0 | BS102: D | BT102: 1 | BU102: ###NOIMPORT### | BV102: IMPORT | BW102: {5af952d7-2b1c-45d6-80e8-5202297f69bb} | BX102: {8b91ade0-f658-4b5f-8a16-1575cccbb1bd} | CM102: 0
A103: / | E103: 3110-16-074-15/01 | K103: Opěrná zeď v km 6,303-6,390 | AG103: ='3110-16-074-15-01 - Opěrn...'!J32 -> 0 | AN103: =SUM(AG103,AT103) -> 0 | AQ103: Soupis | AS103: 0 | AT103: =ROUND(SUM(AV103:AW103),2) -> 0 | AU103: ='3110-16-074-15-01 - Opěrn...'!P92 -> 0 | AV103: ='3110-16-074-15-01 - Opěrn...'!J35 -> 0 | AW103: ='3110-16-074-15-01 - Opěrn...'!J36 -> 0 | AX103: ='3110-16-074-15-01 - Opěrn...'!J37 -> 0 | AY103: ='3110-16-074-15-01 - Opěrn...'!J38 -> 0 | AZ103: ='3110-16-074-15-01 - Opěrn...'!F35 -> 0 | BA103: ='3110-16-074-15-01 - Opěrn...'!F36 -> 0 | BB103: ='3110-16-074-15-01 - Opěrn...'!F37 -> 0 | BC103: ='3110-16-074-15-01 - Opěrn...'!F38 -> 0 | BD103: ='3110-16-074-15-01 - Opěrn...'!F39 -> 0 | BT103: 2 | BV103: IMPORT | BW103: {40711a72-75a5-4383-abb6-06dfe53b9236} | BX103: {5af952d7-2b1c-45d6-80e8-5202297f69bb} | CL103: 821 2
A104: / | D104: SO 90-01-01 | J104: Značení a výstroj trati | AG104: ='SO 90-01-01 - Značení a v...'!J30 -> 0 | AN104: =SUM(AG104,AT104) -> 0 | AQ104: STA | AS104: 0 | AT104: =ROUND(SUM(AV104:AW104),2) -> 0 | AU104: ='SO 90-01-01 - Značení a v...'!P82 -> 0 | AV104: ='SO 90-01-01 - Značení a v...'!J33 -> 0 | AW104: ='SO 90-01-01 - Značení a v...'!J34 -> 0 | AX104: ='SO 90-01-01 - Značení a v...'!J35 -> 0 | AY104: ='SO 90-01-01 - Značení a v...'!J36 -> 0 | AZ104: ='SO 90-01-01 - Značení a v...'!F33 -> 0 | BA104: ='SO 90-01-01 - Značení a v...'!F34 -> 0 | BB104: ='SO 90-01-01 - Značení a v...'!F35 -> 0 | BC104: ='SO 90-01-01 - Značení a v...'!F36 -> 0 | BD104: ='SO 90-01-01 - Značení a v...'!F37 -> 0 | BT104: 1 | BV104: IMPORT | BW104: {bb7f2e08-dc12-4c6d-aa0a-fae3175d5773} | BX104: {8b91ade0-f658-4b5f-8a16-1575cccbb1bd} | CM104: 2
A105: / | D105: SO 98-98 | J105: Všeobecný stavební objekt | AG105: ='SO 98-98 - Všeobecný stav...'!J30 -> 0 | AN105: =SUM(AG105,AT105) -> 0 | AQ105: STA | AS105: 0 | AT105: =ROUND(SUM(AV105:AW105),2) -> 0 | AU105: ='SO 98-98 - Všeobecný stav...'!P81 -> 0 | AV105: ='SO 98-98 - Všeobecný stav...'!J33 -> 0 | AW105: ='SO 98-98 - Všeobecný stav...'!J34 -> 0 | AX105: ='SO 98-98 - Všeobecný stav...'!J35 -> 0 | AY105: ='SO 98-98 - Všeobecný stav...'!J36 -> 0 | AZ105: ='SO 98-98 - Všeobecný stav...'!F33 -> 0 | BA105: ='SO 98-98 - Všeobecný stav...'!F34 -> 0 | BB105: ='SO 98-98 - Všeobecný stav...'!F35 -> 0 | BC105: ='SO 98-98 - Všeobecný stav...'!F36 -> 0 | BD105: ='SO 98-98 - Všeobecný stav...'!F37 -> 0 | BT105: 1 | BV105: IMPORT | BW105: {405d5abb-aca2-4e7c-a237-6f671ede52ea} | BX105: {8b91ade0-f658-4b5f-8a16-1575cccbb1bd} | CM105: 2

Sheet PS 01-01-01 - Úpravy zabe...
AT2: {2e48bfb0-61d6-4b5f-b124-b7fc98216322}
AT3: 2
D4: KRYCÍ LIST SOUPISU PRACÍ | M4: v --- níže se nacházejí doplnkové a pomocné údaje k sestavám --- v | AT4: False
D6: Stavba:
E7: ='Rekapitulace stavby'!K6 -> Oprava traťového úseku Železný Brod - Tanvald
D8: Objekt:
E9: PS 01-01-01 - Úpravy zabezpečovacího zařízení
D11: KSO: | I11: CC-CZ:
D12: Místo: | I12: Datum: | J12: ='Rekapitulace stavby'!AN8 -> 11. 2. 2019
D14: Zadavatel: | I14: IČ: | J14: =IF('Rekapitulace stavby'!AN10="","",'Rekapitulace stavby'!AN10) -> 70994234
E15: =IF('Rekapitulace stavby'!E11="","",'Rekapitulace stavby'!E11) -> Správa Železniční dopravní cesty, státní organizace | I15: DIČ: | J15: =IF('Rekapitulace stavby'!AN11="","",'Rekapitulace stavby'!AN11) -> CZ70994234
D17: Uchazeč: | I17: IČ: | J17: ='Rekapitulace stavby'!AN13 -> Vyplň údaj
E18: ='Rekapitulace stavby'!E14 -> 0 | I18: DIČ: | J18: ='Rekapitulace stavby'!AN14 -> Vyplň údaj
D20: Projektant: | I20: IČ: | J20: =IF('Rekapitulace stavby'!AN16="","",'Rekapitulace stavby'!AN16) -> 25292161
E21: =IF('Rekapitulace stavby'!E17="","",'Rekapitulace stavby'!E17) -> Prodin a.s. | I21: DIČ: | J21: =IF('Rekapitulace stavby'!AN17="","",'Rekapitulace stavby'!AN17) -> CZ25292161
D23: Zpracovatel: | I23: IČ: | J23: =IF('Rekapitulace stavby'!AN19="","",'Rekapitulace stavby'!AN19) -> 25292161
E24: =IF('Rekapitulace stavby'!E20="","",'Rekapitulace stavby'!E20) -> Prodin a.s. | I24: DIČ: | J24: =IF('Rekapitulace stavby'!AN20="","",'Rekapitulace stavby'!AN20) -> CZ25292161
D26: Poznámka:
D30: Cena bez DPH | J30: =ROUND(J82, 2) -> 0
F32: Základ daně | I32: Sazba daně | J32: Výše daně
D33: DPH | E33: základní | F33: =ROUND((SUM(BE82:BE124)), 2) -> 0 | I33: 0.21 | J33: =ROUND(((SUM(BE82:BE124))*I33), 2) -> 0
E34: snížená | F34: =ROUND((SUM(BF82:BF124)), 2) -> 0 | I34: 0.15 | J34: =ROUND(((SUM(BF82:BF124))*I34), 2) -> 0
E35: zákl. přenesená | F35: =ROUND((SUM(BG82:BG124)), 2) -> 0 | I35: 0.21 | J35: =0 -> 0
E36: sníž. přenesená | F36: =ROUND((SUM(BH82:BH124)), 2) -> 0 | I36: 0.15 | J36: =0 -> 0
E37: nulová | F37: =ROUND((SUM(BI82:BI124)), 2) -> 0 | I37: 0 | J37: =0 -> 0
D39: Cena s DPH | G39: v | H39: CZK | J39: =SUM(J30:J37) -> 0
C45: REKAPITULACE ČLENĚNÍ SOUPISU PRACÍ
C47: Stavba:
E48: =E7 -> Oprava traťového úseku Železný Brod - Tanvald
C49: Objekt:
E50: =E9 -> PS 01-01-01 - Úpravy zabezpečovacího zařízení
C52: Místo: | F52: =F12 | I52: Datum: | J52: =IF(J12="","",J12) -> 11. 2. 2019
C54: Zadavatel: | F54: =E15 -> Správa Železniční dopravní cesty, státní organizace | I54: Projektant: | J54: =E21 -> Prodin a.s.
C55: Uchazeč: | F55: =IF(E18="","",E18) -> 0 | I55: Zpracovatel: | J55: =E24 -> Prodin a.s.
C57: Kód dílu - Popis | J57: Cena celkem [CZK]
C59: Náklady stavby celkem | J59: =J82 -> 0 | AU59: -1
D60: M - Práce a dodávky M | J60: =J88 -> 0
D61: 46-M - Zemní práce při extr.mont.pracích | J61: =J89 -> 0
D62: OST - Ostatní | J62: =J92 -> 0
C69: SOUPIS PRACÍ
C71: Stavba:
E72: =E7 -> Oprava traťového úseku Železný Brod - Tanvald
C73: Objekt:
E74: =E9 -> PS 01-01-01 - Úpravy zabezpečovacího zařízení
C76: Místo: | F76: =F12 | I76: Datum: | J76: =IF(J12="","",J12) -> 11. 2. 2019
C78: Zadavatel: | F78: =E15 -> Správa Železniční dopravní cesty, státní organizace | I78: Projektant: | J78: =E21 -> Prodin a.s.
C79: Uchazeč: | F79: =IF(E18="","",E18) -> 0 | I79: Zpracovatel: | J79: =E24 -> Prodin a.s.
C81: PČ | D81: Typ | E81: Kód | F81: Popis | G81: MJ | H81: Množství | I81: J.cena [CZK] | J81: Cena celkem [CZK] | K81: Cenová soustava | N81: DPH | O81: J. Nh [h] | P81: Nh celkem [h] | Q81: J. hmotnost [t] | R81: Hmotnost celkem [t] | S81: J. suť [t] | T81: Suť Celkem [t]
C82: Náklady soupisu celkem | J82: =BK82 -> 0 | P82: =P83+SUM(P84:P88)+P92 -> 0 | R82: =R83+SUM(R84:R88)+R92 -> 0 | T82: =T83+SUM(T84:T88)+T92 -> 0 | AT82: D | AU82: -1 | BK82: =BK83+SUM(BK84:BK88)+BK92 -> 0
C83: 1 | D83: M | E83: 7590521514 | F83: Venkovní vedení kabelová - metalické sítě Plněné, párované s ochr. vodičem TCEKPFLEY 3 P 1,0 D | G83: m | H83: 80 | J83: =ROUND(I83*H83,2) -> 0 | N83: základní | P83: =O83*H83 -> 0 | Q83: 0 | R83: =Q83*H83 -> 0 | S83: 0 | T83: =S83*H83 -> 0 | AR83: 8 | AT83: M | AU83: 0 | AY83: ROZPOCET | BE83: =IF(N83="základní",J83,0) -> 0 | BF83: =IF(N83="snížená",J83,0) -> 0 | BG83: =IF(N83="zákl. přenesená",J83,0) -> 0 | BH83: =IF(N83="sníž. přenesená",J83,0) -> 0 | BI83: =IF(N83="nulová",J83,0) -> 0 | BJ83: 1 | BK83: =ROUND(I83*H83,2) -> 0 | BL83: 4 | BM83: 376855009
C84: 2 | D84: M | E84: 7491100120 | F84: Trubková vedení Ohebné elektroinstalační trubky KOPOFLEX 50 rudá | G84: m | H84: 80 | J84: =ROUND(I84*H84,2) -> 0 | N84: základní | P84: =O84*H84 -> 0 | Q84: 0 | R84: =Q84*H84 -> 0 | S84: 0 | T84: =S84*H84 -> 0 | AR84: 8 | AT84: M | AU84: 0 | AY84: ROZPOCET | BE84: =IF(N84="základní",J84,0) -> 0 | BF84: =IF(N84="snížená",J84,0) -> 0 | BG84: =IF(N84="zákl. přenesená",J84,0) -> 0 | BH84: =IF(N84="sníž. přenesená",J84,0) -> 0 | BI84: =IF(N84="nulová",J84,0) -> 0 | BJ84: 1 | BK84: =ROUND(I84*H84,2) -> 0 | BL84: 4 | BM84: 966133688
C85: 3 | D85: M | E85: 7590105426R | F85: Ball Marker - kabelový označník | G85: ks | H85: 2 | J85: =ROUND(I85*H85,2) -> 0 | N85: základní | P85: =O85*H85 -> 0 | Q85: 0 | R85: =Q85*H85 -> 0 | S85: 0 | T85: =S85*H85 -> 0 | AR85: 512 | AT85: M | AU85: 0 | AY85: ROZPOCET | BE85: =IF(N85="základní",J85,0) -> 0 | BF85: =IF(N85="snížená",J85,0) -> 0 | BG85: =IF(N85="zákl. přenesená",J85,0) -> 0 | BH85: =IF(N85="sníž. přenesená",J85,0) -> 0 | BI85: =IF(N85="nulová",J85,0) -> 0 | BJ85: 1 | BK85: =ROUND(I85*H85,2) -> 0 | BL85: 512 | BM85: 958900532
C86: 4 | D86: M | E86: 7590150030 | F86: Uzemnění, ukolejnění Tyč zemnící se svorkou l=1,5m (HM0354405211015) | G86: kus | H86: 3 | J86: =ROUND(I86*H86,2) -> 0 | N86: základní | P86: =O86*H86 -> 0 | Q86: 0 | R86: =Q86*H86 -> 0 | S86: 0 | T86: =S86*H86 -> 0 | AR86: 512 | AT86: M | AU86: 0 | AY86: ROZPOCET | BE86: =IF(N86="základní",J86,0) -> 0 | BF86: =IF(N86="snížená",J86,0) -> 0 | BG86: =IF(N86="zákl. přenesená",J86,0) -> 0 | BH86: =IF(N86="sníž. přenesená",J86,0) -> 0 | BI86: =IF(N86="nulová",J86,0) -> 0 | BJ86: 1 | BK86: =ROUND(I86*H86,2) -> 0 | BL86: 512 | BM86: 700573277
C87: 5 | D87: M | E87: 7590541419 | F87: Slaboproudé rozvody, kabely pro přívod a vnitřní instalaci Spojky metalických kabelů a příslušenství Teplem smrštitelná zesílená spojka pro netlakované kabely XAGA 500-125/30-460/EY | G87: kus | H87: 1 | J87: =ROUND(I87*H87,2) -> 0 | K87: ÚOŽI 2019 01 | N87: základní | P87: =O87*H87 -> 0 | Q87: 0 | R87: =Q87*H87 -> 0 | S87: 0 | T87: =S87*H87 -> 0 | AR87: 128 | AT87: M | AU87: 0 | AY87: ROZPOCET | BE87: =IF(N87="základní",J87,0) -> 0 | BF87: =IF(N87="snížená",J87,0) -> 0 | BG87: =IF(N87="zákl. přenesená",J87,0) -> 0 | BH87: =IF(N87="sníž. přenesená",J87,0) -> 0 | BI87: =IF(N87="nulová",J87,0) -> 0 | BJ87: 1 | BK87: =ROUND(I87*H87,2) -> 0 | BL87: 128 | BM87: -1387847340
D88: D | E88: M | F88: Práce a dodávky M | J88: =BK88 -> 0 | P88: =P89 -> 0 | R88: =R89 -> 0 | T88: =T89 -> 0 | AR88: 3 | AT88: D | AU88: 0 | AY88: ROZPOCET | BK88: =BK89 -> 0
D89: D | E89: 46-M | F89: Zemní práce při extr.mont.pracích | J89: =BK89 -> 0 | P89: =SUM(P90:P91) -> 0 | R89: =SUM(R90:R91) -> 0 | T89: =SUM(T90:T91) -> 0 | AR89: 3 | AT89: D | AU89: 1 | AY89: ROZPOCET | BK89: =SUM(BK90:BK91) -> 0
C90: 6 | D90: K | E90: 460150063 | F90: Hloubení zapažených i nezapažených kabelových rýh ručně včetně urovnání dna s přemístěním výkopku do vzdálenosti 3 m od okraje jámy nebo naložením na dopravní prostředek šířky 40 cm, hloubky 80 cm, v hornině třídy 3 | G90: m | H90: 80 | J90: =ROUND(I90*H90,2) -> 0 | N90: základní | P90: =O90*H90 -> 0 | Q90: 0 | R90: =Q90*H90 -> 0 | S90: 0 | T90: =S90*H90 -> 0 | AR90: 64 | AT90: K | AU90: 2 | AY90: ROZPOCET | BE90: =IF(N90="základní",J90,0) -> 0 | BF90: =IF(N90="snížená",J90,0) -> 0 | BG90: =IF(N90="zákl. přenesená",J90,0) -> 0 | BH90: =IF(N90="sníž. přenesená",J90,0) -> 0 | BI90: =IF(N90="nulová",J90,0) -> 0 | BJ90: 1 | BK90: =ROUND(I90*H90,2) -> 0 | BL90: 64 | BM90: -539905857
C91: 7 | D91: K | E91: 460560163 | F91: Zásyp kabelových rýh ručně s uložením výkopku ve vrstvách včetně zhutnění a urovnání povrchu šířky 35 cm hloubky 80 cm, v hornině třídy 3 | G91: m | H91: 80 | J91: =ROUND(I91*H91,2) -> 0 | N91: základní | P91: =O91*H91 -> 0 | Q91: 0 | R91: =Q91*H91 -> 0 | S91: 0 | T91: =S91*H91 -> 0 | AR91: 64 | AT91: K | AU91: 2 | AY91: ROZPOCET | BE91: =IF(N91="základní",J91,0) -> 0 | BF91: =IF(N91="snížená",J91,0) -> 0 | BG91: =IF(N91="zákl. přenesená",J91,0) -> 0 | BH91: =IF(N91="sníž. přenesená",J91,0) -> 0 | BI91: =IF(N91="nulová",J91,0) -> 0 | BJ91: 1 | BK91: =ROUND(I91*H91,2) -> 0 | BL91: 64 | BM91: 1900471595
D92: D | E92: OST | F92: Ostatní | J92: =BK92 -> 0 | P92: =SUM(P93:P124) -> 0 | R92: =SUM(R93:R124) -> 0 | T92: =SUM(T93:T124) -> 0 | AR92: 4 | AT92: D | AU92: 0 | AY92: ROZPOCET | BK92: =SUM(BK93:BK124) -> 0
C93: 8 | D93: K | E93: 7491654010 | F93: Montáž svorek spojovacích se 2 šrouby (typ SS, SO, SR03, aj.) | G93: kus | H93: 1 | J93: =ROUND(I93*H93,2) -> 0 | N93: základní | P93: =O93*H93 -> 0 | Q93: 0 | R93: =Q93*H93 -> 0 | S93: 0 | T93: =S93*H93 -> 0 | AR93: 512 | AT93: K | AU93: 1 | AY93: ROZPOCET | BE93: =IF(N93="základní",J93,0) -> 0 | BF93: =IF(N93="snížená",J93,0) -> 0 | BG93: =IF(N93="zákl. přenesená",J93,0) -> 0 | BH93: =IF(N93="sníž. přenesená",J93,0) -> 0 | BI93: =IF(N93="nulová",J93,0) -> 0 | BJ93: 1 | BK93: =ROUND(I93*H93,2) -> 0 | BL93: 512 | BM93: -1067832866
C94: 9 | D94: K | E94: 7492756030 | F94: Pomocné práce pro montáž kabelů vyhledání stávajících kabelů ( měření, sonda ) - v obvodu žel. stanice nebo na na trati včetně provedení sondy | G94: kus | H94: 1 | J94: =ROUND(I94*H94,2) -> 0 | N94: základní | P94: =O94*H94 -> 0 | Q94: 0 | R94: =Q94*H94 -> 0 | S94: 0 | T94: =S94*H94 -> 0 | AR94: 512 | AT94: K | AU94: 1 | AY94: ROZPOCET | BE94: =IF(N94="základní",J94,0) -> 0 | BF94: =IF(N94="snížená",J94,0) -> 0 | BG94: =IF(N94="zákl. přenesená",J94,0) -> 0 | BH94: =IF(N94="sníž. přenesená",J94,0) -> 0 | BI94: =IF(N94="nulová",J94,0) -> 0 | BJ94: 1 | BK94: =ROUND(I94*H94,2) -> 0 | BL94: 512 | BM94: 1286030449
C95: 10 | D95: K | E95: 7492756040 | F95: Pomocné práce pro montáž kabelů zatažení kabelů do chráničky do 4 kg/m | G95: m | H95: 60 | J95: =ROUND(I95*H95,2) -> 0 | N95: základní | P95: =O95*H95 -> 0 | Q95: 0 | R95: =Q95*H95 -> 0 | S95: 0 | T95: =S95*H95 -> 0 | AR95: 512 | AT95: K | AU95: 1 | AY95: ROZPOCET | BE95: =IF(N95="základní",J95,0) -> 0 | BF95: =IF(N95="snížená",J95,0) -> 0 | BG95: =IF(N95="zákl. přenesená",J95,0) -> 0 | BH95: =IF(N95="sníž. přenesená",J95,0) -> 0 | BI95: =IF(N95="nulová",J95,0) -> 0 | BJ95: 1 | BK95: =ROUND(I95*H95,2) -> 0 | BL95: 512 | BM95: 1873268040
C96: 11 | D96: K | E96: 7498451010 | F96: Měření zemničů zemních odporů - zemniče prvního nebo samostatného - včetně vyhotovení protokolu | G96: kus | H96: 1 | J96: =ROUND(I96*H96,2) -> 0 | N96: základní | P96: =O96*H96 -> 0 | Q96: 0 | R96: =Q96*H96 -> 0 | S96: 0 | T96: =S96*H96 -> 0 | AR96: 512 | AT96: K | AU96: 1 | AY96: ROZPOCET | BE96: =IF(N96="základní",J96,0) -> 0 | BF96: =IF(N96="snížená",J96,0) -> 0 | BG96: =IF(N96="zákl. přenesená",J96,0) -> 0 | BH96: =IF(N96="sníž. přenesená",J96,0) -> 0 | BI96: =IF(N96="nulová",J96,0) -> 0 | BJ96: 1 | BK96: =ROUND(I96*H96,2) -> 0 | BL96: 512 | BM96: 1902296825
C97: 12 | D97: K | E97: 7590525230 | F97: Montáž kabelu návěstního volně uloženého s jádrem 1 mm Cu TCEKEZE, TCEKFE, TCEKPFLEY, TCEKPFLEZE do 7 P - příprava kabelového bubnu a přistavení na místo tažení, odvinutí, naměření, odřezání a uložení kabelu do kabelového lože nebo žlabu, protažení překážkami, včetně přípravných a závěrečných prací, přeměření izolačního stavu kabelu, uzavření konců kabelu, přemístění kabelového bubnu | G97: m | H97: 60 | J97: =ROUND(I97*H97,2) -> 0 | N97: základní | P97: =O97*H97 -> 0 | Q97: 0 | R97: =Q97*H97 -> 0 | S97: 0 | T97: =S97*H97 -> 0 | AR97: 512 | AT97: K | AU97: 1 | AY97: ROZPOCET | BE97: =IF(N97="základní",J97,0) -> 0 | BF97: =IF(N97="snížená",J97,0) -> 0 | BG97: =IF(N97="zákl. přenesená",J97,0) -> 0 | BH97: =IF(N97="sníž. přenesená",J97,0) -> 0 | BI97: =IF(N97="nulová",J97,0) -> 0 | BJ97: 1 | BK97: =ROUND(I97*H97,2) -> 0 | BL97: 512 | BM97: 1180131825
C98: 13 | D98: K | E98: 7590525463 | F98: Montáž spojky rovné pro plastové kabely párové Raychem XAGA s konektory UDW2 2 plášť bez pancíře do 10 žil - nasazení manžety, spojení žil, převlečení manžety, nahřátí pro její tepelné smrštění, uložení spojky v jámě | G98: kus | H98: 1 | J98: =ROUND(I98*H98,2) -> 0 | K98: ÚOŽI 2019 01 | N98: základní | P98: =O98*H98 -> 0 | Q98: 0 | R98: =Q98*H98 -> 0 | S98: 0 | T98: =S98*H98 -> 0 | AR98: 512 | AT98: K | AU98: 1 | AY98: ROZPOCET | BE98: =IF(N98="základní",J98,0) -> 0 | BF98: =IF(N98="snížená",J98,0) -> 0 | BG98: =IF(N98="zákl. přenesená",J98,0) -> 0 | BH98: =IF(N98="sníž. přenesená",J98,0) -> 0 | BI98: =IF(N98="nulová",J98,0) -> 0 | BJ98: 1 | BK98: =ROUND(I98*H98,2) -> 0 | BL98: 512 | BM98: 867782783
C99: 14 | D99: K | E99: 7590555132 | F99: Montáž forma pro kabely TCEKPFLE, TCEKPFLEY, TCEKPFLEZE, TCEKPFLEZY do 3 P 1,0 - odstranění pláště na jednom konci kabelu, odstranění izolace z konců žil na svorkovnici, zhotovení vodní zábrany, zformování a konečná úprava kabelu, kontrolní a závěrečné měření na kabelu, zapojení po měření, montáž příchytky a štítku kabelové formy | G99: kus | H99: 2 | J99: =ROUND(I99*H99,2) -> 0 | N99: základní | P99: =O99*H99 -> 0 | Q99: 0 | R99: =Q99*H99 -> 0 | S99: 0 | T99: =S99*H99 -> 0 | AR99: 512 | AT99: K | AU99: 1 | AY99: ROZPOCET | BE99: =IF(N99="základní",J99,0) -> 0 | BF99: =IF(N99="snížená",J99,0) -> 0 | BG99: =IF(N99="zákl. přenesená",J99,0) -> 0 | BH99: =IF(N99="sníž. přenesená",J99,0) -> 0 | BI99: =IF(N99="nulová",J99,0) -> 0 | BJ99: 1 | BK99: =ROUND(I99*H99,2) -> 0 | BL99: 512 | BM99: 664631690
C100: 15 | D100: K | E100: 7591505110 | F100: Kompletace, propojení a testování elektronické výstroje PZZ | G100: kus | H100: 6 | J100: =ROUND(I100*H100,2) -> 0 | K100: ÚOŽI 2019 01 | N100: základní | P100: =O100*H100 -> 0 | Q100: 0 | R100: =Q100*H100 -> 0 | S100: 0 | T100: =S100*H100 -> 0 | AR100: 512 | AT100: K | AU100: 1 | AY100: ROZPOCET | BE100: =IF(N100="základní",J100,0) -> 0 | BF100: =IF(N100="snížená",J100,0) -> 0 | BG100: =IF(N100="zákl. přenesená",J100,0) -> 0 | BH100: =IF(N100="sníž. přenesená",J100,0) -> 0 | BI100: =IF(N100="nulová",J100,0) -> 0 | BJ100: 1 | BK100: =ROUND(I100*H100,2) -> 0 | BL100: 512 | BM100: 464126696
C101: 16 | D101: K | E101: 7592005050 | F101: Montáž počítacího bodu (senzoru) RSR 180 - uložení a připevnění na určené místo, seřízení polohy, přezkoušení | G101: kus | H101: 1 | J101: =ROUND(I101*H101,2) -> 0 | N101: základní | P101: =O101*H101 -> 0 | Q101: 0 | R101: =Q101*H101 -> 0 | S101: 0 | T101: =S101*H101 -> 0 | AR101: 512 | AT101: K | AU101: 1 | AY101: ROZPOCET | BE101: =IF(N101="základní",J101,0) -> 0 | BF101: =IF(N101="snížená",J101,0) -> 0 | BG101: =IF(N101="zákl. přenesená",J101,0) -> 0 | BH101: =IF(N101="sníž. přenesená",J101,0) -> 0 | BI101: =IF(N101="nulová",J101,0) -> 0 | BJ101: 1 | BK101: =ROUND(I101*H101,2) -> 0 | BL101: 512 | BM101: -1251424602
C102: 17 | D102: K | E102: 7593505270 | F102: Montáž kabelového označníku Ball Marker - upevnění kabelového označníku na plášť kabelu upevňovacími prvky | G102: kus | H102: 2 | J102: =ROUND(I102*H102,2) -> 0 | N102: základní | P102: =O102*H102 -> 0 | Q102: 0 | R102: =Q102*H102 -> 0 | S102: 0 | T102: =S102*H102 -> 0 | AR102: 512 | AT102: K | AU102: 1 | AY102: ROZPOCET | BE102: =IF(N102="základní",J102,0) -> 0 | BF102: =IF(N102="snížená",J102,0) -> 0 | BG102: =IF(N102="zákl. přenesená",J102,0) -> 0 | BH102: =IF(N102="sníž. přenesená",J102,0) -> 0 | BI102: =IF(N102="nulová",J102,0) -> 0 | BJ102: 1 | BK102: =ROUND(I102*H102,2) -> 0 | BL102: 512 | BM102: -1878239465
C103: 18 | D103: K | E103: 7594305015 | F103: Montáž součástí počítače náprav neoprénové ochranné hadice se soupravou pro upevnění k pražci | G103: kus | H103: 1 | J103: =ROUND(I103*H103,2) -> 0 | N103: základní | P103: =O103*H103 -> 0 | Q103: 0 | R103: =Q103*H103 -> 0 | S103: 0 | T103: =S103*H103 -> 0 | AR103: 512 | AT103: K | AU103: 1 | AY103: ROZPOCET | BE103: =IF(N103="základní",J103,0) -> 0 | BF103: =IF(N103="snížená",J103,0) -> 0 | BG103: =IF(N103="zákl. přenesená",J103,0) -> 0 | BH103: =IF(N103="sníž. přenesená",J103,0) -> 0 | BI103: =IF(N103="nulová",J103,0) -> 0 | BJ103: 1 | BK103: =ROUND(I103*H103,2) -> 0 | BL103: 512 | BM103: 981890353
C104: 19 | D104: K | E104: 7594305020 | F104: Montáž součástí počítače náprav bleskojistkové svorkovnice | G104: kus | H104: 1 | J104: =ROUND(I104*H104,2) -> 0 | N104: základní | P104: =O104*H104 -> 0 | Q104: 0 | R104: =Q104*H104 -> 0 | S104: 0 | T104: =S104*H104 -> 0 | AR104: 512 | AT104: K | AU104: 1 | AY104: ROZPOCET | BE104: =IF(N104="základní",J104,0) -> 0 | BF104: =IF(N104="snížená",J104,0) -> 0 | BG104: =IF(N104="zákl. přenesená",J104,0) -> 0 | BH104: =IF(N104="sníž. přenesená",J104,0) -> 0 | BI104: =IF(N104="nulová",J104,0) -> 0 | BJ104: 1 | BK104: =ROUND(I104*H104,2) -> 0 | BL104: 512 | BM104: 546004185
C105: 20 | D105: K | E105: 7594305035 | F105: Montáž součástí počítače náprav kabelového závěru KSL-FP pro RSR | G105: kus | H105: 1 | J105: =ROUND(I105*H105,2) -> 0 | N105: základní | P105: =O105*H105 -> 0 | Q105: 0 | R105: =Q105*H105 -> 0 | S105: 0 | T105: =S105*H105 -> 0 | AR105: 512 | AT105: K | AU105: 1 | AY105: ROZPOCET | BE105: =IF(N105="základní",J105,0) -> 0 | BF105: =IF(N105="snížená",J105,0) -> 0 | BG105: =IF(N105="zákl. přenesená",J105,0) -> 0 | BH105: =IF(N105="sníž. přenesená",J105,0) -> 0 | BI105: =IF(N105="nulová",J105,0) -> 0 | BJ105: 1 | BK105: =ROUND(I105*H105,2) -> 0 | BL105: 512 | BM105: -2145092673
C106: 21 | D106: K | E106: 7594305040 | F106: Montáž součástí počítače náprav upevňovací kolejnicové čelisti SK 140 | G106: kus | H106: 1 | J106: =ROUND(I106*H106,2) -> 0 | K106: ÚOŽI 2019 01 | N106: základní | P106: =O106*H106 -> 0 | Q106: 0 | R106: =Q106*H106 -> 0 | S106: 0 | T106: =S106*H106 -> 0 | AR106: 512 | AT106: K | AU106: 1 | AY106: ROZPOCET | BE106: =IF(N106="základní",J106,0) -> 0 | BF106: =IF(N106="snížená",J106,0) -> 0 | BG106: =IF(N106="zákl. přenesená",J106,0) -> 0 | BH106: =IF(N106="sníž. přenesená",J106,0) -> 0 | BI106: =IF(N106="nulová",J106,0) -> 0 | BJ106: 1 | BK106: =ROUND(I106*H106,2) -> 0 | BL106: 512 | BM106: 2143029748
C107: 22 | D107: K | E107: 7594307035 | F107: Demontáž součástí počítače náprav kabelového závěru KSL-FP pro RSR | G107: kus | H107: 1 | J107: =ROUND(I107*H107,2) -> 0 | K107: ÚOŽI 2019 01 | N107: základní | P107: =O107*H107 -> 0 | Q107: 0 | R107: =Q107*H107 -> 0 | S107: 0 | T107: =S107*H107 -> 0 | AR107: 512 | AT107: K | AU107: 1 | AY107: ROZPOCET | BE107: =IF(N107="základní",J107,0) -> 0 | BF107: =IF(N107="snížená",J107,0) -> 0 | BG107: =IF(N107="zákl. přenesená",J107,0) -> 0 | BH107: =IF(N107="sníž. přenesená",J107,0) -> 0 | BI107: =IF(N107="nulová",J107,0) -> 0 | BJ107: 1 | BK107: =ROUND(I107*H107,2) -> 0 | BL107: 512 | BM107: 2101656326
C108: 23 | D108: K | E108: 7598015005 | F108: Přeměření izolačního stavu kabelu závlačného 10 žil | G108: kus | H108: 1 | J108: =ROUND(I108*H108,2) -> 0 | N108: základní | P108: =O108*H108 -> 0 | Q108: 0 | R108: =Q108*H108 -> 0 | S108: 0 | T108: =S108*H108 -> 0 | AR108: 512 | AT108: K | AU108: 1 | AY108: ROZPOCET | BE108: =IF(N108="základní",J108,0) -> 0 | BF108: =IF(N108="snížená",J108,0) -> 0 | BG108: =IF(N108="zákl. přenesená",J108,0) -> 0 | BH108: =IF(N108="sníž. přenesená",J108,0) -> 0 | BI108: =IF(N108="nulová",J108,0) -> 0 | BJ108: 1 | BK108: =ROUND(I108*H108,2) -> 0 | BL108: 512 | BM108: 1340423998
C109: 24 | D109: K | E109: 7598095085 | F109: Přezkoušení a regulace senzoru počítacího bodu - kontrola (nastavení) mechanických parametrů polohy, regulace napájení, kalibrace, kontrola funkce a započítávání, kontrola indikace | G109: kus | H109: 1 | J109: =ROUND(I109*H109,2) -> 0 | N109: základní | P109: =O109*H109 -> 0 | Q109: 0 | R109: =Q109*H109 -> 0 | S109: 0 | T109: =S109*H109 -> 0 | AR109: 512 | AT109: K | AU109: 1 | AY109: ROZPOCET | BE109: =IF(N109="základní",J109,0) -> 0 | BF109: =IF(N109="snížená",J109,0) -> 0 | BG109: =IF(N109="zákl. přenesená",J109,0) -> 0 | BH109: =IF(N109="sníž. přenesená",J109,0) -> 0 | BI109: =IF(N109="nulová",J109,0) -> 0 | BJ109: 1 | BK109: =ROUND(I109*H109,2) -> 0 | BL109: 512 | BM109: 1762844935
C110: 25 | D110: K | E110: 7598095090 | F110: Přezkoušení a regulace počítače náprav včetně vyhotovení protokolu za 1 úsek - provedení příslušných měření, nastavení zařízení, přezkoušení funkce a vyhotovení protokolu | G110: kus | H110: 1 | J110: =ROUND(I110*H110,2) -> 0 | N110: základní | P110: =O110*H110 -> 0 | Q110: 0 | R110: =Q110*H110 -> 0 | S110: 0 | T110: =S110*H110 -> 0 | AR110: 512 | AT110: K | AU110: 1 | AY110: ROZPOCET | BE110: =IF(N110="základní",J110,0) -> 0 | BF110: =IF(N110="snížená",J110,0) -> 0 | BG110: =IF(N110="zákl. přenesená",J110,0) -> 0 | BH110: =IF(N110="sníž. přenesená",J110,0) -> 0 | BI110: =IF(N110="nulová",J110,0) -> 0 | BJ110: 1 | BK110: =ROUND(I110*H110,2) -> 0 | BL110: 512 | BM110: 1351726032
C111: 26 | D111: K | E111: 7598095120 | F111: Přezkoušení a regulace časové jednotky - kontrola zapojení včetně příslušného zkoušení hodnot zařízení | G111: kus | H111: 10 | J111: =ROUND(I111*H111,2) -> 0 | N111: základní | P111: =O111*H111 -> 0 | Q111: 0 | R111: =Q111*H111 -> 0 | S111: 0 | T111: =S111*H111 -> 0 | AR111: 512 | AT111: K | AU111: 1 | AY111: ROZPOCET | BE111: =IF(N111="základní",J111,0) -> 0 | BF111: =IF(N111="snížená",J111,0) -> 0 | BG111: =IF(N111="zákl. přenesená",J111,0) -> 0 | BH111: =IF(N111="sníž. přenesená",J111,0) -> 0 | BI111: =IF(N111="nulová",J111,0) -> 0 | BJ111: 1 | BK111: =ROUND(I111*H111,2) -> 0 | BL111: 512 | BM111: 876784901
C112: 27 | D112: K | E112: 7598095150 | F112: Regulovaní a aktivování automatického přejezdového zařízení se závorami - regulování proudokruhů výstražníku, závorových břeven, regulování chodu břeven, směrovaní výstražníku, kontrola napájecích zdrojů a relé, přezkoušení činnosti zařízení a kontrolní skříňky (indikací a ovládání) | G112: kus | H112: 3 | J112: =ROUND(I112*H112,2) -> 0 | K112: ÚOŽI 2019 01 | N112: základní | P112: =O112*H112 -> 0 | Q112: 0 | R112: =Q112*H112 -> 0 | S112: 0 | T112: =S112*H112 -> 0 | AR112: 512 | AT112: K | AU112: 1 | AY112: ROZPOCET | BE112: =IF(N112="základní",J112,0) -> 0 | BF112: =IF(N112="snížená",J112,0) -> 0 | BG112: =IF(N112="zákl. přenesená",J112,0) -> 0 | BH112: =IF(N112="sníž. přenesená",J112,0) -> 0 | BI112: =IF(N112="nulová",J112,0) -> 0 | BJ112: 1 | BK112: =ROUND(I112*H112,2) -> 0 | BL112: 512 | BM112: 297558337
C113: 28 | D113: K | E113: 7598095155 | F113: Regulovaní a aktivování automatického přejezdového zařízení bez závor - regulování proudokruhů výstražníku, závorových břeven, regulování chodu břeven, směrovaní výstražníku, kontrola napájecích zdrojů a relé, přezkoušení činnosti zařízení a kontrolní skříňky (indikací a ovládání) | G113: kus | H113: 3 | J113: =ROUND(I113*H113,2) -> 0 | N113: základní | P113: =O113*H113 -> 0 | Q113: 0 | R113: =Q113*H113 -> 0 | S113: 0 | T113: =S113*H113 -> 0 | AR113: 512 | AT113: K | AU113: 1 | AY113: ROZPOCET | BE113: =IF(N113="základní",J113,0) -> 0 | BF113: =IF(N113="snížená",J113,0) -> 0 | BG113: =IF(N113="zákl. přenesená",J113,0) -> 0 | BH113: =IF(N113="sníž. přenesená",J113,0) -> 0 | BI113: =IF(N113="nulová",J113,0) -> 0 | BJ113: 1 | BK113: =ROUND(I113*H113,2) -> 0 | BL113: 512 | BM113: -108737469
C114: 29 | D114: K | E114: 7598095390 | F114: Příprava ke komplexním zkouškám za 1 jízdní cestu do 30 výhybek - oživení, seřízení a nastavení zařízení s ohledem na postup jeho uvádění do provozu | G114: kus | H114: 23 | J114: =ROUND(I114*H114,2) -> 0 | K114: ÚOŽI 2019 01 | N114: základní | P114: =O114*H114 -> 0 | Q114: 0 | R114: =Q114*H114 -> 0 | S114: 0 | T114: =S114*H114 -> 0 | AR114: 512 | AT114: K | AU114: 1 | AY114: ROZPOCET | BE114: =IF(N114="základní",J114,0) -> 0 | BF114: =IF(N114="snížená",J114,0) -> 0 | BG114: =IF(N114="zákl. přenesená",J114,0) -> 0 | BH114: =IF(N114="sníž. přenesená",J114,0) -> 0 | BI114: =IF(N114="nulová",J114,0) -> 0 | BJ114: 1 | BK114: =ROUND(I114*H114,2) -> 0 | BL114: 512 | BM114: -1520808378
C115: 30 | D115: K | E115: 7598095435 | F115: Příprava ke komplexním zkouškám automatických přejezdových zabezpečovacích zařízení se závorami jednokolejné - oživení, seřízení a nastavení zařízení s ohledem na postup jeho uvádění do provozu | G115: kus | H115: 3 | J115: =ROUND(I115*H115,2) -> 0 | K115: ÚOŽI 2019 01 | N115: základní | P115: =O115*H115 -> 0 | Q115: 0 | R115: =Q115*H115 -> 0 | S115: 0 | T115: =S115*H115 -> 0 | AR115: 512 | AT115: K | AU115: 1 | AY115: ROZPOCET | BE115: =IF(N115="základní",J115,0) -> 0 | BF115: =IF(N115="snížená",J115,0) -> 0 | BG115: =IF(N115="zákl. přenesená",J115,0) -> 0 | BH115: =IF(N115="sníž. přenesená",J115,0) -> 0 | BI115: =IF(N115="nulová",J115,0) -> 0 | BJ115: 1 | BK115: =ROUND(I115*H115,2) -> 0 | BL115: 512 | BM115: -1806537514
C116: 31 | D116: K | E116: 7598095445 | F116: Příprava ke komplexním zkouškám automatických přejezdových zabezpečovacích zařízení bez závor jednokolejné - oživení, seřízení a nastavení zařízení s ohledem na postup jeho uvádění do provozu | G116: kus | H116: 3 | J116: =ROUND(I116*H116,2) -> 0 | N116: základní | P116: =O116*H116 -> 0 | Q116: 0 | R116: =Q116*H116 -> 0 | S116: 0 | T116: =S116*H116 -> 0 | AR116: 512 | AT116: K | AU116: 1 | AY116: ROZPOCET | BE116: =IF(N116="základní",J116,0) -> 0 | BF116: =IF(N116="snížená",J116,0) -> 0 | BG116: =IF(N116="zákl. přenesená",J116,0) -> 0 | BH116: =IF(N116="sníž. přenesená",J116,0) -> 0 | BI116: =IF(N116="nulová",J116,0) -> 0 | BJ116: 1 | BK116: =ROUND(I116*H116,2) -> 0 | BL116: 512 | BM116: -1159881762
C117: 32 | D117: K | E117: 7598095460 | F117: Komplexní zkouška za 1 jízdní cestu do 30 výhybek - vyzkoušení zařízení podle projektové dokumentace, provedení funkčních zkoušek zařízení dle předpisu SŽDC T200, včetně zkoušek vzájemných vazeb jednotlivých zařízení, provedení dalších specifických zkoušek stanovených např. Drážním úřadem, uvedených v souhlasu s provozem nezavedeného zařízení, v souhlasu s ověřovacím provozem či vyplývajících ze smluvních ustanovení mezi odběratelem a zhotovitelem | G117: kus | H117: 23 | J117: =ROUND(I117*H117,2) -> 0 | K117: ÚOŽI 2019 01 | N117: základní | P117: =O117*H117 -> 0 | Q117: 0 | R117: =Q117*H117 -> 0 | S117: 0 | T117: =S117*H117 -> 0 | AR117: 512 | AT117: K | AU117: 1 | AY117: ROZPOCET | BE117: =IF(N117="základní",J117,0) -> 0 | BF117: =IF(N117="snížená",J117,0) -> 0 | BG117: =IF(N117="zákl. přenesená",J117,0) -> 0 | BH117: =IF(N117="sníž. přenesená",J117,0) -> 0 | BI117: =IF(N117="nulová",J117,0) -> 0 | BJ117: 1 | BK117: =ROUND(I117*H117,2) -> 0 | BL117: 512 | BM117: 272871542
C118: 33 | D118: K | E118: 7598095460R | F118: Úprava adresného SW zařízení ESA, simulování stavů | G118: kpl | H118: 1 | J118: =ROUND(I118*H118,2) -> 0 | N118: základní | P118: =O118*H118 -> 0 | Q118: 0 | R118: =Q118*H118 -> 0 | S118: 0 | T118: =S118*H118 -> 0 | AR118: 512 | AT118: K | AU118: 1 | AY118: ROZPOCET | BE118: =IF(N118="základní",J118,0) -> 0 | BF118: =IF(N118="snížená",J118,0) -> 0 | BG118: =IF(N118="zákl. přenesená",J118,0) -> 0 | BH118: =IF(N118="sníž. přenesená",J118,0) -> 0 | BI118: =IF(N118="nulová",J118,0) -> 0 | BJ118: 1 | BK118: =ROUND(I118*H118,2) -> 0 | BL118: 512 | BM118: 267901865
C119: 34 | D119: K | E119: 7598095505 | F119: Komplexní zkouška automatických přejezdových zabezpečovacích zařízení se závorami jednokolejné - vyzkoušení zařízení podle projektové dokumentace, provedení funkčních zkoušek zařízení dle předpisu SŽDC T200, včetně zkoušek vzájemných vazeb jednotlivých zařízení, provedení dalších specifických zkoušek stanovených např. Drážním úřadem, uvedených v souhlasu s provozem nezavedeného zařízení, v souhlasu s ověřovacím provozem či vyplývajících ze smluvních ustanovení mezi odběratelem a zhotovitelem | G119: kus | H119: 3 | J119: =ROUND(I119*H119,2) -> 0 | K119: ÚOŽI 2019 01 | N119: základní | P119: =O119*H119 -> 0 | Q119: 0 | R119: =Q119*H119 -> 0 | S119: 0 | T119: =S119*H119 -> 0 | AR119: 512 | AT119: K | AU119: 1 | AY119: ROZPOCET | BE119: =IF(N119="základní",J119,0) -> 0 | BF119: =IF(N119="snížená",J119,0) -> 0 | BG119: =IF(N119="zákl. přenesená",J119,0) -> 0 | BH119: =IF(N119="sníž. přenesená",J119,0) -> 0 | BI119: =IF(N119="nulová",J119,0) -> 0 | BJ119: 1 | BK119: =ROUND(I119*H119,2) -> 0 | BL119: 512 | BM119: -1224149435
C120: 35 | D120: K | E120: 7598095515 | F120: Komplexní zkouška automatických přejezdových zabezpečovacích zařízení bez závor jednokolejné - vyzkoušení zařízení podle projektové dokumentace, provedení funkčních zkoušek zařízení dle předpisu SŽDC T200, včetně zkoušek vzájemných vazeb jednotlivých zařízení, provedení dalších specifických zkoušek stanovených např. Drážním úřadem, uvedených v souhlasu s provozem nezavedeného zařízení, v souhlasu s ověřovacím provozem či vyplývajících ze smluvních ustanovení mezi odběratelem a zhotovitelem | G120: kus | H120: 3 | J120: =ROUND(I120*H120,2) -> 0 | N120: základní | P120: =O120*H120 -> 0 | Q120: 0 | R120: =Q120*H120 -> 0 | S120: 0 | T120: =S120*H120 -> 0 | AR120: 512 | AT120: K | AU120: 1 | AY120: ROZPOCET | BE120: =IF(N120="základní",J120,0) -> 0 | BF120: =IF(N120="snížená",J120,0) -> 0 | BG120: =IF(N120="zákl. přenesená",J120,0) -> 0 | BH120: =IF(N120="sníž. přenesená",J120,0) -> 0 | BI120: =IF(N120="nulová",J120,0) -> 0 | BJ120: 1 | BK120: =ROUND(I120*H120,2) -> 0 | BL120: 512 | BM120: -782899336
C121: 36 | D121: K | E121: 7598095546 | F121: Vyhotovení protokolu UTZ pro SZZ reléové a elektronické do 10 výhybkových jednotek - vykonání prohlídky a zkoušky včetně vyhotovení protokolu podle vyhl. 100/1995 Sb., Výhybkovou jednotkou (VJ) je jednoduchá výhybka bez rozlišení počtu přestavníků, spojka jsou 2 VJ, křižovatková výhybka 2 VJ, křižovatková s PHS 4 VJ, výkolejka s motorem 1 VJ. | G121: kus | H121: 3 | J121: =ROUND(I121*H121,2) -> 0 | K121: ÚOŽI 2019 01 | N121: základní | P121: =O121*H121 -> 0 | Q121: 0 | R121: =Q121*H121 -> 0 | S121: 0 | T121: =S121*H121 -> 0 | AR121: 512 | AT121: K | AU121: 1 | AY121: ROZPOCET | BE121: =IF(N121="základní",J121,0) -> 0 | BF121: =IF(N121="snížená",J121,0) -> 0 | BG121: =IF(N121="zákl. přenesená",J121,0) -> 0 | BH121: =IF(N121="sníž. přenesená",J121,0) -> 0 | BI121: =IF(N121="nulová",J121,0) -> 0 | BJ121: 1 | BK121: =ROUND(I121*H121,2) -> 0 | BL121: 512 | BM121: 90170646
C122: 37 | D122: K | E122: 7598095550 | F122: Vyhotovení protokolu UTZ pro PZZ bez závor jedna kolej - vykonání prohlídky a zkoušky včetně vyhotovení protokolu podle vyhl. 100/1995 Sb. | G122: kus | H122: 3 | J122: =ROUND(I122*H122,2) -> 0 | N122: základní | P122: =O122*H122 -> 0 | Q122: 0 | R122: =Q122*H122 -> 0 | S122: 0 | T122: =S122*H122 -> 0 | AR122: 512 | AT122: K | AU122: 1 | AY122: ROZPOCET | BE122: =IF(N122="základní",J122,0) -> 0 | BF122: =IF(N122="snížená",J122,0) -> 0 | BG122: =IF(N122="zákl. přenesená",J122,0) -> 0 | BH122: =IF(N122="sníž. přenesená",J122,0) -> 0 | BI122: =IF(N122="nulová",J122,0) -> 0 | BJ122: 1 | BK122: =ROUND(I122*H122,2) -> 0 | BL122: 512 | BM122: -1924554099
C123: 38 | D123: K | E123: 7598095560 | F123: Vyhotovení protokolu UTZ pro PZZ se závorou jedna kolej - vykonání prohlídky a zkoušky včetně vyhotovení protokolu podle vyhl. 100/1995 Sb. | G123: kus | H123: 3 | J123: =ROUND(I123*H123,2) -> 0 | K123: ÚOŽI 2019 01 | N123: základní | P123: =O123*H123 -> 0 | Q123: 0 | R123: =Q123*H123 -> 0 | S123: 0 | T123: =S123*H123 -> 0 | AR123: 512 | AT123: K | AU123: 1 | AY123: ROZPOCET | BE123: =IF(N123="základní",J123,0) -> 0 | BF123: =IF(N123="snížená",J123,0) -> 0 | BG123: =IF(N123="zákl. přenesená",J123,0) -> 0 | BH123: =IF(N123="sníž. přenesená",J123,0) -> 0 | BI123: =IF(N123="nulová",J123,0) -> 0 | BJ123: 1 | BK123: =ROUND(I123*H123,2) -> 0 | BL123: 512 | BM123: -720935177
C124: 39 | D124: K | E124: 7598095700 | F124: Dozor pracovníků provozovatele při práci na živém zařízení | G124: hod | H124: 50 | J124: =ROUND(I124*H124,2) -> 0 | K124: ÚOŽI 2019 01 | N124: základní | P124: =O124*H124 -> 0 | Q124: 0 | R124: =Q124*H124 -> 0 | S124: 0 | T124: =S124*H124 -> 0 | AR124: 512 | AT124: K | AU124: 1 | AY124: ROZPOCET | BE124: =IF(N124="základní",J124,0) -> 0 | BF124: =IF(N124="snížená",J124,0) -> 0 | BG124: =IF(N124="zákl. přenesená",J124,0) -> 0 | BH124: =IF(N124="sníž. přenesená",J124,0) -> 0 | BI124: =IF(N124="nulová",J124,0) -> 0 | BJ124: 1 | BK124: =ROUND(I124*H124,2) -> 0 | BL124: 512 | BM124: -11624224

Sheet SO 01-10-01 - Železniční ...
AT2: {09a7ae61-2c41-4460-a31e-0a9c0453ead6}
AT3: 2
D4: KRYCÍ LIST SOUPISU PRACÍ | M4: v --- níže se nacházejí doplnkové a pomocné údaje k sestavám --- v | AT4: False
D6: Stavba:
E7: ='Rekapitulace stavby'!K6 -> Oprava traťového úseku Železný Brod - Tanvald
D8: Objekt:
E9: SO 01-10-01 - Železniční svršek km 0,148 - km 5,590
D11: KSO: | I11: CC-CZ:
D12: Místo: | I12: Datum: | J12: ='Rekapitulace stavby'!AN8 -> 11. 2. 2019
D14: Zadavatel: | I14: IČ: | J14: =IF('Rekapitulace stavby'!AN10="","",'Rekapitulace stavby'!AN10) -> 70994234
E15: =IF('Rekapitulace stavby'!E11="","",'Rekapitulace stavby'!E11) -> Správa Železniční dopravní cesty, státní organizace | I15: DIČ: | J15: =IF('Rekapitulace stavby'!AN11="","",'Rekapitulace stavby'!AN11) -> CZ70994234
D17: Uchazeč: | I17: IČ: | J17: ='Rekapitulace stavby'!AN13 -> Vyplň údaj
E18: ='Rekapitulace stavby'!E14 -> 0 | I18: DIČ: | J18: ='Rekapitulace stavby'!AN14 -> Vyplň údaj
D20: Projektant: | I20: IČ: | J20: =IF('Rekapitulace stavby'!AN16="","",'Rekapitulace stavby'!AN16) -> 25292161
E21: =IF('Rekapitulace stavby'!E17="","",'Rekapitulace stavby'!E17) -> Prodin a.s. | I21: DIČ: | J21: =IF('Rekapitulace stavby'!AN17="","",'Rekapitulace stavby'!AN17) -> CZ25292161
D23: Zpracovatel: | I23: IČ: | J23: =IF('Rekapitulace stavby'!AN19="","",'Rekapitulace stavby'!AN19) -> 25292161
E24: =IF('Rekapitulace stavby'!E20="","",'Rekapitulace stavby'!E20) -> Prodin a.s. | I24: DIČ: | J24: =IF('Rekapitulace stavby'!AN20="","",'Rekapitulace stavby'!AN20) -> CZ25292161
D26: Poznámka:
D30: Cena bez DPH | J30: =ROUND(J87, 2) -> 12524400
F32: Základ daně | I32: Sazba daně | J32: Výše daně
D33: DPH | E33: základní | F33: =ROUND((SUM(BE87:BE271)), 2) -> 12524400 | I33: 0.21 | J33: =ROUND(((SUM(BE87:BE271))*I33), 2) -> 2630124
E34: snížená | F34: =ROUND((SUM(BF87:BF271)), 2) -> 0 | I34: 0.15 | J34: =ROUND(((SUM(BF87:BF271))*I34), 2) -> 0
E35: zákl. přenesená | F35: =ROUND((SUM(BG87:BG271)), 2) -> 0 | I35: 0.21 | J35: =0 -> 0
E36: sníž. přenesená | F36: =ROUND((SUM(BH87:BH271)), 2) -> 0 | I36: 0.15 | J36: =0 -> 0
E37: nulová | F37: =ROUND((SUM(BI87:BI271)), 2) -> 0 | I37: 0 | J37: =0 -> 0
D39: Cena s DPH | G39: v | H39: CZK | J39: =SUM(J30:J37) -> 15154524
C45: REKAPITULACE ČLENĚNÍ SOUPISU PRACÍ
C47: Stavba:
E48: =E7 -> Oprava traťového úseku Železný Brod - Tanvald
C49: Objekt:
E50: =E9 -> SO 01-10-01 - Železniční svršek km 0,148 - km 5,590
C52: Místo: | F52: =F12 | I52: Datum: | J52: =IF(J12="","",J12) -> 11. 2. 2019
C54: Zadavatel: | F54: =E15 -> Správa Železniční dopravní cesty, státní organizace | I54: Projektant: | J54: =E21 -> Prodin a.s.
C55: Uchazeč: | F55: =IF(E18="","",E18) -> 0 | I55: Zpracovatel: | J55: =E24 -> Prodin a.s.
C57: Kód dílu - Popis | J57: Cena celkem [CZK]
C59: Náklady stavby celkem | J59: =J87 -> 12524400 | AU59: -1
D60: HSV - Práce a dodávky HSV | J60: =J88 -> 12524400
D61: Položky dle ÚOŽI - 2019 | J61: =J89 -> 12524400
D62: 5 - Komunikace pozemní | J62: =J90 -> 12524400
D63: 9 - Ostatní | J63: =J225 -> 0
D64: Položky dle ÚRS - 2019 | J64: =J263 -> 0
D65: 1 - Zemní práce | J65: =J264 -> 0
D66: Položky R: - Položky "R": | J66: =J269 -> 0
D67: 90 - Ostatní | J67: =J270 -> 0
C74: SOUPIS PRACÍ
C76: Stavba:
E77: =E7 -> Oprava traťového úseku Železný Brod - Tanvald
C78: Objekt:
E79: =E9 -> SO 01-10-01 - Železniční svršek km 0,148 - km 5,590
C81: Místo: | F81: =F12 | I81: Datum: | J81: =IF(J12="","",J12) -> 11. 2. 2019
C83: Zadavatel: | F83: =E15 -> Správa Železniční dopravní cesty, státní organizace | I83: Projektant: | J83: =E21 -> Prodin a.s.
C84: Uchazeč: | F84: =IF(E18="","",E18) -> 0 | I84: Zpracovatel: | J84: =E24 -> Prodin a.s.
C86: PČ | D86: Typ | E86: Kód | F86: Popis | G86: MJ | H86: Množství | I86: J.cena [CZK] | J86: Cena celkem [CZK] | K86: Cenová soustava | N86: DPH | O86: J. Nh [h] | P86: Nh celkem [h] | Q86: J. hmotnost [t] | R86: Hmotnost celkem [t] | S86: J. suť [t] | T86: Suť Celkem [t]
C87: Náklady soupisu celkem | J87: =BK87 -> 12524400 | P87: =P88 -> 0 | R87: =R88 -> 12853.617 | T87: =T88 -> 0 | AT87: D | AU87: -1 | BK87: =BK88 -> 12524400
D88: D | E88: HSV | F88: Práce a dodávky HSV | J88: =BK88 -> 12524400 | P88: =P89+P263+P269 -> 0 | R88: =R89+R263+R269 -> 12853.617 | T88: =T89+T263+T269 -> 0 | AR88: 1 | AT88: D | AU88: 0 | AY88: ROZPOCET | BK88: =BK89+BK263+BK269 -> 12524400
D89: D | E89: Položky dle ÚOŽI | F89: 2019 | J89: =BK89 -> 12524400 | P89: =P90+P225 -> 0 | R89: =R90+R225 -> 12853.617 | T89: =T90+T225 -> 0 | AR89: 1 | AT89: D | AU89: 1 | AY89: ROZPOCET | BK89: =BK90+BK225 -> 12524400
D90: D | E90: 5 | F90: Komunikace pozemní | J90: =BK90 -> 12524400 | P90: =SUM(P91:P224) -> 0 | R90: =SUM(R91:R224) -> 12853.617 | T90: =SUM(T91:T224) -> 0 | AR90: 1 | AT90: D | AU90: 2 | AY90: ROZPOCET | BK90: =SUM(BK91:BK224) -> 12524400
C91: 1 | D91: K | E91: 5905020010 | F91: Oprava stezky strojně s odstraněním drnu a nánosu do 10 cm. Poznámka: 1. V cenách jsou započteny náklady na odtěžení nánosu stezky a rozprostření výzisku na terén nebo naložení na dopravní prostředek a úprava povrchu stezky. | G91: m2 | H91: 4353.6 | J91: =ROUND(I91*H91,2) -> 0 | K91: ÚOŽI 2019 01 | N91: základní | P91: =O91*H91 -> 0 | Q91: 0 | R91: =Q91*H91 -> 0 | S91: 0 | T91: =S91*H91 -> 0 | AR91: 4 | AT91: K | AU91: 3 | AY91: ROZPOCET | BE91: =IF(N91="základní",J91,0) -> 0 | BF91: =IF(N91="snížená",J91,0) -> 0 | BG91: =IF(N91="zákl. přenesená",J91,0) -> 0 | BH91: =IF(N91="sníž. přenesená",J91,0) -> 0 | BI91: =IF(N91="nulová",J91,0) -> 0 | BJ91: 1 | BK91: =ROUND(I91*H91,2) -> 0 | BL91: 4 | BM91: 2
D92: PSC | F92: Poznámka k souboru cen:_x000D_ 1. V cenách jsou započteny náklady na odtěžení nánosu stezky a rozprostření výzisku na terén nebo naložení na dopravní prostředek a úprava povrchu stezky. | AT92: PSC | AU92: 3
C93: 2 | D93: K | E93: 5905035110 | F93: Výměna KL malou těžící mechanizací včetně lavičky lože otevřené. Poznámka: 1. V cenách jsou započteny náklady na odtěžení KL s použitím minirypadla, rozprostření výzisku na terén nebo naložení na dopravní prostředek, přehození kameniva, úprava KL do profilu a jeho případné snížení pod patou kolejnice. U výměny KL v celém profilu je v ceně započteno případné uvolnění, posun a dotažení pražce. 2. V cenách nejsou obsaženy náklady na podbití pražce, dodávku a doplnění kameniva. | G93: m3 | H93: 118.25 | J93: =ROUND(I93*H93,2) -> 0 | K93: ÚOŽI 2019 01 | N93: základní | P93: =O93*H93 -> 0 | Q93: 0 | R93: =Q93*H93 -> 0 | S93: 0 | T93: =S93*H93 -> 0 | AR93: 4 | AT93: K | AU93: 3 | AY93: ROZPOCET | BE93: =IF(N93="základní",J93,0) -> 0 | BF93: =IF(N93="snížená",J93,0) -> 0 | BG93: =IF(N93="zákl. přenesená",J93,0) -> 0 | BH93: =IF(N93="sníž. přenesená",J93,0) -> 0 | BI93: =IF(N93="nulová",J93,0) -> 0 | BJ93: 1 | BK93: =ROUND(I93*H93,2) -> 0 | BL93: 4 | BM93: 4
D94: PSC | F94: Poznámka k souboru cen:_x000D_ 1. V cenách jsou započteny náklady na odtěžení KL s použitím minirypadla, rozprostření výzisku na terén nebo naložení na dopravní prostředek, přehození kameniva, úprava KL do profilu a jeho případné snížení pod patou kolejnice. U výměny KL v celém profilu je v ceně započteno případné uvolnění, posun a dotažení pražce._x000D_ 2. V cenách nejsou obsaženy náklady na podbití pražce, dodávku a doplnění kameniva. | AT94: PSC | AU94: 3
C95: 3 | D95: K | E95: 5905070010 | F95: Odsunutí koleje od osy do 0,50 m. Poznámka: 1. V cenách jsou započteny náklady na odstranění kameniva za hlavami, podél pražců a odsun koleje od osy. | G95: m | H95: 361 | J95: =ROUND(I95*H95,2) -> 0 | K95: ÚOŽI 2019 01 | N95: základní | P95: =O95*H95 -> 0 | Q95: 0 | R95: =Q95*H95 -> 0 | S95: 0 | T95: =S95*H95 -> 0 | AR95: 4 | AT95: K | AU95: 3 | AY95: ROZPOCET | BE95: =IF(N95="základní",J95,0) -> 0 | BF95: =IF(N95="snížená",J95,0) -> 0 | BG95: =IF(N95="zákl. přenesená",J95,0) -> 0 | BH95: =IF(N95="sníž. přenesená",J95,0) -> 0 | BI95: =IF(N95="nulová",J95,0) -> 0 | BJ95: 1 | BK95: =ROUND(I95*H95,2) -> 0 | BL95: 4 | BM95: 6
D96: PSC | F96: Poznámka k souboru cen:_x000D_ 1. V cenách jsou započteny náklady na odstranění kameniva za hlavami, podél pražců a odsun koleje od osy. | AT96: PSC | AU96: 3
C97: 4 | D97: K | E97: 5905085040 | F97: Souvislé čištění KL strojně koleje pražce betonové rozdělení "c". Poznámka: 1. V cenách jsou započteny náklady na kontinuální čištění KL strojní čističkou, případné vložení geosyntetika, rozprostření výzisku na terén nebo naložení na dopravní prostředek, zdvih, úpravu směrového a výškového uspořádání včetně měření mezních stavebních odchylek dle ČSN a technologických veličin, předání tištěných výstupů a úpravu KL do profilu. Platí i pro čištění KL současně s výměnou pražců. 2. V cenách nejsou obsaženy náklady na snížení KL pod patou kolejnice, následnou úpravu směrového a výškového uspořádání dodávku a doplnění kameniva. | G97: km | H97: 4.763 | J97: =ROUND(I97*H97,2) -> 0 | K97: ÚOŽI 2019 01 | N97: základní | P97: =O97*H97 -> 0 | Q97: 0 | R97: =Q97*H97 -> 0 | S97: 0 | T97: =S97*H97 -> 0 | AR97: 4 | AT97: K | AU97: 3 | AY97: ROZPOCET | BE97: =IF(N97="základní",J97,0) -> 0 | BF97: =IF(N97="snížená",J97,0) -> 0 | BG97: =IF(N97="zákl. přenesená",J97,0) -> 0 | BH97: =IF(N97="sníž. přenesená",J97,0) -> 0 | BI97: =IF(N97="nulová",J97,0) -> 0 | BJ97: 1 | BK97: =ROUND(I97*H97,2) -> 0 | BL97: 4 | BM97: 8
D98: PSC | F98: Poznámka k souboru cen:_x000D_ 1. V cenách jsou započteny náklady na kontinuální čištění KL strojní čističkou, případné vložení geosyntetika, rozprostření výzisku na terén nebo naložení na dopravní prostředek, zdvih, úpravu směrového a výškového uspořádání včetně měření mezních stavebních odchylek dle ČSN a technologických veličin, předání tištěných výstupů a úpravu KL do profilu. Platí i pro čištění KL současně s výměnou pražců._x000D_ 2. V cenách nejsou obsaženy náklady na snížení KL pod patou kolejnice, následnou úpravu směrového a výškového uspořádání dodávku a doplnění kameniva. | AT98: PSC | AU98: 3
C99: 5 | D99: K | E99: 5905105030 | F99: Doplnění KL kamenivem souvisle strojně v koleji. Poznámka: 1. V cenách jsou započteny náklady na doplnění kameniva ojediněle ručně vidlemi a/nebo souvisle strojně z výsypných vozů případně nakladačem. 2. V cenách nejsou obsaženy náklady na dodávku kameniva. | G99: m3 | H99: 6022.75 | J99: =ROUND(I99*H99,2) -> 0 | K99: ÚOŽI 2019 01 | N99: základní | P99: =O99*H99 -> 0 | Q99: 0 | R99: =Q99*H99 -> 0 | S99: 0 | T99: =S99*H99 -> 0 | AR99: 4 | AT99: K | AU99: 3 | AY99: ROZPOCET | BE99: =IF(N99="základní",J99,0) -> 0 | BF99: =IF(N99="snížená",J99,0) -> 0 | BG99: =IF(N99="zákl. přenesená",J99,0) -> 0 | BH99: =IF(N99="sníž. přenesená",J99,0) -> 0 | BI99: =IF(N99="nulová",J99,0) -> 0 | BJ99: 1 | BK99: =ROUND(I99*H99,2) -> 0 | BL99: 4 | BM99: 10
D100: PSC | F100: Poznámka k souboru cen:_x000D_ 1. V cenách jsou započteny náklady na doplnění kameniva ojediněle ručně vidlemi a/nebo souvisle strojně z výsypných vozů případně nakladačem._x000D_ 2. V cenách nejsou obsaženy náklady na dodávku kameniva. | AT100: PSC | AU100: 3
C101: 6 | D101: M | E101: 5955101000 | F101: Kamenivo drcené štěrk frakce 31,5/63 třídy BI | G101: t | H101: 12255.393 | J101: =ROUND(I101*H101,2) -> 0 | K101: ÚOŽI 2019 01 | N101: základní | P101: =O101*H101 -> 0 | Q101: 1 | R101: =Q101*H101 -> 12255.393 | S101: 0 | T101: =S101*H101 -> 0 | AR101: 8 | AT101: M | AU101: 3 | AY101: ROZPOCET | BE101: =IF(N101="základní",J101,0) -> 0 | BF101: =IF(N101="snížená",J101,0) -> 0 | BG101: =IF(N101="zákl. přenesená",J101,0) -> 0 | BH101: =IF(N101="sníž. přenesená",J101,0) -> 0 | BI101: =IF(N101="nulová",J101,0) -> 0 | BJ101: 1 | BK101: =ROUND(I101*H101,2) -> 0 | BL101: 4 | BM101: 12
C102: 7 | D102: K | E102: 5905110010 | F102: Snížení KL pod patou kolejnice v koleji. Poznámka: 1. V cenách jsou započteny náklady na snížení KL pod patou kolejnice ručně vidlemi. 2. V cenách nejsou obsaženy náklady na doplnění a dodávku kameniva. | G102: km | H102: 4.763 | J102: =ROUND(I102*H102,2) -> 0 | K102: ÚOŽI 2019 01 | N102: základní | P102: =O102*H102 -> 0 | Q102: 0 | R102: =Q102*H102 -> 0 | S102: 0 | T102: =S102*H102 -> 0 | AR102: 4 | AT102: K | AU102: 3 | AY102: ROZPOCET | BE102: =IF(N102="základní",J102,0) -> 0 | BF102: =IF(N102="snížená",J102,0) -> 0 | BG102: =IF(N102="zákl. přenesená",J102,0) -> 0 | BH102: =IF(N102="sníž. přenesená",J102,0) -> 0 | BI102: =IF(N102="nulová",J102,0) -> 0 | BJ102: 1 | BK102: =ROUND(I102*H102,2) -> 0 | BL102: 4 | BM102: 14
D103: PSC | F103: Poznámka k souboru cen:_x000D_ 1. V cenách jsou započteny náklady na snížení KL pod patou kolejnice ručně vidlemi._x000D_ 2. V cenách nejsou obsaženy náklady na doplnění a dodávku kameniva. | AT103: PSC | AU103: 3
D104: P | F104: Poznámka k položce:_x000D_ Kilometr koleje=km | AT104: P | AU104: 3
C105: 8 | D105: K | E105: 5906105010 | F105: Demontáž pražce dřevěný. Poznámka: 1. V cenách jsou započteny náklady na manipulaci, demontáž, odstrojení do součástí a uložení pražců. | G105: kus | H105: 17 | J105: =ROUND(I105*H105,2) -> 0 | K105: ÚOŽI 2019 01 | N105: základní | P105: =O105*H105 -> 0 | Q105: 0 | R105: =Q105*H105 -> 0 | S105: 0 | T105: =S105*H105 -> 0 | AR105: 4 | AT105: K | AU105: 3 | AY105: ROZPOCET | BE105: =IF(N105="základní",J105,0) -> 0 | BF105: =IF(N105="snížená",J105,0) -> 0 | BG105: =IF(N105="zákl. přenesená",J105,0) -> 0 | BH105: =IF(N105="sníž. přenesená",J105,0) -> 0 | BI105: =IF(N105="nulová",J105,0) -> 0 | BJ105: 1 | BK105: =ROUND(I105*H105,2) -> 0 | BL105: 4 | BM105: 16
D106: PSC | F106: Poznámka k souboru cen:_x000D_ 1. V cenách jsou započteny náklady na manipulaci, demontáž, odstrojení do součástí a uložení pražců. | AT106: PSC | AU106: 3
C107: 9 | D107: K | E107: 5906110020 | F107: Oprava rozdělení pražců příčných betonových posun přes 10 cm. Poznámka: 1. V cenách jsou započteny náklady na uvolnění upevňovadel, odstranění kameniva v míře dostatečné pro posun pražce, jeho posunutí, dotažení upevňovadel, dohození a úprava KL. 2. V cenách nejsou obsaženy náklady na podbití pražce, doplnění a dodávku kameniva. | G107: kus | H107: 388 | J107: =ROUND(I107*H107,2) -> 0 | K107: ÚOŽI 2019 01 | N107: základní | P107: =O107*H107 -> 0 | Q107: 0 | R107: =Q107*H107 -> 0 | S107: 0 | T107: =S107*H107 -> 0 | AR107: 4 | AT107: K | AU107: 3 | AY107: ROZPOCET | BE107: =IF(N107="základní",J107,0) -> 0 | BF107: =IF(N107="snížená",J107,0) -> 0 | BG107: =IF(N107="zákl. přenesená",J107,0) -> 0 | BH107: =IF(N107="sníž. přenesená",J107,0) -> 0 | BI107: =IF(N107="nulová",J107,0) -> 0 | BJ107: 1 | BK107: =ROUND(I107*H107,2) -> 0 | BL107: 4 | BM107: 18
D108: PSC | F108: Poznámka k souboru cen:_x000D_ 1. V cenách jsou započteny náklady na uvolnění upevňovadel, odstranění kameniva v míře dostatečné pro posun pražce, jeho posunutí, dotažení upevňovadel, dohození a úprava KL._x000D_ 2. V cenách nejsou obsaženy náklady na podbití pražce, doplnění a dodávku kameniva. | AT108: PSC | AU108: 3
C109: 10 | D109: K | E109: 5906125360 | F109: Montáž kolejového roštu na úložišti pražce betonové vystrojené tv. S49 rozdělení "c". Poznámka: 1. V cenách jsou započteny náklady na úpravu plochy pro montáž, vrtání pražců dřevěných nevystrojených, manipulaci a montáž KR. 2. V cenách nejsou obsaženy náklady na dodávku materiálu. | G109: km | H109: 0.063 | J109: =ROUND(I109*H109,2) -> 0 | K109: ÚOŽI 2019 01 | N109: základní | P109: =O109*H109 -> 0 | Q109: 0 | R109: =Q109*H109 -> 0 | S109: 0 | T109: =S109*H109 -> 0 | AR109: 4 | AT109: K | AU109: 3 | AY109: ROZPOCET | BE109: =IF(N109="základní",J109,0) -> 0 | BF109: =IF(N109="snížená",J109,0) -> 0 | BG109: =IF(N109="zákl. přenesená",J109,0) -> 0 | BH109: =IF(N109="sníž. přenesená",J109,0) -> 0 | BI109: =IF(N109="nulová",J109,0) -> 0 | BJ109: 1 | BK109: =ROUND(I109*H109,2) -> 0 | BL109: 4 | BM109: 20
D110: PSC | F110: Poznámka k souboru cen:_x000D_ 1. V cenách jsou započteny náklady na úpravu plochy pro montáž, vrtání pražců dřevěných nevystrojených, manipulaci a montáž KR._x000D_ 2. V cenách nejsou obsaženy náklady na dodávku materiálu. | AT110: PSC | AU110: 3
C111: 11 | D111: M | E111: 5957201010 | F111: Kolejnice užité tv. S49 | G111: m | H111: 126 | I111: 0 | J111: =ROUND(I111*H111,2) -> 0 | K111: ÚOŽI 2019 01 | N111: základní | P111: =O111*H111 -> 0 | Q111: 0 | R111: =Q111*H111 -> 0 | S111: 0 | T111: =S111*H111 -> 0 | AR111: 8 | AT111: M | AU111: 3 | AY111: ROZPOCET | BE111: =IF(N111="základní",J111,0) -> 0 | BF111: =IF(N111="snížená",J111,0) -> 0 | BG111: =IF(N111="zákl. přenesená",J111,0) -> 0 | BH111: =IF(N111="sníž. přenesená",J111,0) -> 0 | BI111: =IF(N111="nulová",J111,0) -> 0 | BJ111: 1 | BK111: =ROUND(I111*H111,2) -> 0 | BL111: 4 | BM111: 22
D112: P | F112: Poznámka k položce:_x000D_ viz výkaz výměr. DODÁVKA MATERIÁLU SŽDC, S.O. - POLOŽKU NEOCEŇOVAT!!! | AT112: P | AU112: 3
C113: 12 | D113: M | E113: 5956213065 | F113: Pražec betonový příčný vystrojený užitý tv. SB 8 P | G113: kus | H113: 96 | I113: 0 | J113: =ROUND(I113*H113,2) -> 0 | K113: ÚOŽI 2019 01 | N113: základní | P113: =O113*H113 -> 0 | Q113: 0 | R113: =Q113*H113 -> 0 | S113: 0 | T113: =S113*H113 -> 0 | AR113: 8 | AT113: M | AU113: 3 | AY113: ROZPOCET | BE113: =IF(N113="základní",J113,0) -> 0 | BF113: =IF(N113="snížená",J113,0) -> 0 | BG113: =IF(N113="zákl. přenesená",J113,0) -> 0 | BH113: =IF(N113="sníž. přenesená",J113,0) -> 0 | BI113: =IF(N113="nulová",J113,0) -> 0 | BJ113: 1 | BK113: =ROUND(I113*H113,2) -> 0 | BL113: 4 | BM113: 24
D114: P | F114: Poznámka k položce:_x000D_ viz výkaz výměr. DODÁVKA MATERIÁLU SŽDC, S.O. - POLOŽKU NEOCEŇOVAT!!! | AT114: P | AU114: 3
C115: 13 | D115: M | E115: 5958128005 | F115: Komplety Skl 24 (šroub RS 0, matice M 22, podložka Uls 6) | G115: kus | H115: 348 | I115: 0 | J115: =ROUND(I115*H115,2) -> 0 | K115: ÚOŽI 2019 01 | N115: základní | P115: =O115*H115 -> 0 | Q115: 0.00111 | R115: =Q115*H115 -> 0.38628 | S115: 0 | T115: =S115*H115 -> 0 | AR115: 8 | AT115: M | AU115: 3 | AY115: ROZPOCET | BE115: =IF(N115="základní",J115,0) -> 0 | BF115: =IF(N115="snížená",J115,0) -> 0 | BG115: =IF(N115="zákl. přenesená",J115,0) -> 0 | BH115: =IF(N115="sníž. přenesená",J115,0) -> 0 | BI115: =IF(N115="nulová",J115,0) -> 0 | BJ115: 1 | BK115: =ROUND(I115*H115,2) -> 0 | BL115: 4 | BM115: 26
D116: P | F116: Poznámka k položce:_x000D_ DODÁVKA MATERIÁLU SŽDC, S.O. - POLOŽKU NEOCEŇOVAT!!! | AT116: P | AU116: 3
C117: 14 | D117: M | E117: 5958125005 | F117: Komplety s antikorozní úpravou Skl 24 (svěrka Skl24, šroub RS0, matice M22, podložka Uls6) | G117: kus | H117: 36 | I117: 0 | J117: =ROUND(I117*H117,2) -> 0 | K117: ÚOŽI 2019 01 | N117: základní | P117: =O117*H117 -> 0 | Q117: 0.00111 | R117: =Q117*H117 -> 0.03996 | S117: 0 | T117: =S117*H117 -> 0 | AR117: 8 | AT117: M | AU117: 3 | AY117: ROZPOCET | BE117: =IF(N117="základní",J117,0) -> 0 | BF117: =IF(N117="snížená",J117,0) -> 0 | BG117: =IF(N117="zákl. přenesená",J117,0) -> 0 | BH117: =IF(N117="sníž. přenesená",J117,0) -> 0 | BI117: =IF(N117="nulová",J117,0) -> 0 | BJ117: 1 | BK117: =ROUND(I117*H117,2) -> 0 | BL117: 4 | BM117: 28
D118: P | F118: Poznámka k položce:_x000D_ DODÁVKA MATERIÁLU SŽDC, S.O. - POLOŽKU NEOCEŇOVAT!!! | AT118: P | AU118: 3
C119: 15 | D119: M | E119: 5958158005 | F119: Podložka pryžová pod patu kolejnice S49 183/126/6 | G119: kus | H119: 192 | I119: 0 | J119: =ROUND(I119*H119,2) -> 0 | K119: ÚOŽI 2019 01 | N119: základní | P119: =O119*H119 -> 0 | Q119: 0.00018 | R119: =Q119*H119 -> 0.03456 | S119: 0 | T119: =S119*H119 -> 0 | AR119: 8 | AT119: M | AU119: 3 | AY119: ROZPOCET | BE119: =IF(N119="základní",J119,0) -> 0 | BF119: =IF(N119="snížená",J119,0) -> 0 | BG119: =IF(N119="zákl. přenesená",J119,0) -> 0 | BH119: =IF(N119="sníž. přenesená",J119,0) -> 0 | BI119: =IF(N119="nulová",J119,0) -> 0 | BJ119: 1 | BK119: =ROUND(I119*H119,2) -> 0 | BL119: 4 | BM119: 30
D120: P | F120: Poznámka k položce:_x000D_ DODÁVKA MATERIÁLU SŽDC, S.O. - POLOŽKU NEOCEŇOVAT!!! | AT120: P | AU120: 3
C121: 16 | D121: K | E121: 5906130170 | F121: Montáž kolejového roštu v ose koleje pražce dřevěné vystrojené tv. S49 rozdělení "c". Poznámka: 1. V cenách jsou započteny náklady na vrtání pražců dřevěných nevystrojených, manipulaci a montáž KR. 2. V cenách nejsou obsaženy náklady na dodávku materiálu. | G121: km | H121: 0.001 | J121: =ROUND(I121*H121,2) -> 0 | K121: ÚOŽI 2019 01 | N121: základní | P121: =O121*H121 -> 0 | Q121: 0 | R121: =Q121*H121 -> 0 | S121: 0 | T121: =S121*H121 -> 0 | AR121: 4 | AT121: K | AU121: 3 | AY121: ROZPOCET | BE121: =IF(N121="základní",J121,0) -> 0 | BF121: =IF(N121="snížená",J121,0) -> 0 | BG121: =IF(N121="zákl. přenesená",J121,0) -> 0 | BH121: =IF(N121="sníž. přenesená",J121,0) -> 0 | BI121: =IF(N121="nulová",J121,0) -> 0 | BJ121: 1 | BK121: =ROUND(I121*H121,2) -> 0 | BL121: 4 | BM121: 32
D122: PSC | F122: Poznámka k souboru cen:_x000D_ 1. V cenách jsou započteny náklady na vrtání pražců dřevěných nevystrojených, manipulaci a montáž KR._x000D_ 2. V cenách nejsou obsaženy náklady na dodávku materiálu. | AT122: PSC | AU122: 3
C123: 17 | D123: M | E123: 5957201010 | F123: Kolejnice užité tv. S49 | G123: m | H123: 4 | I123: 0 | J123: =ROUND(I123*H123,2) -> 0 | K123: ÚOŽI 2019 01 | N123: základní | P123: =O123*H123 -> 0 | Q123: 0 | R123: =Q123*H123 -> 0 | S123: 0 | T123: =S123*H123 -> 0 | AR123: 8 | AT123: M | AU123: 3 | AY123: ROZPOCET | BE123: =IF(N123="základní",J123,0) -> 0 | BF123: =IF(N123="snížená",J123,0) -> 0 | BG123: =IF(N123="zákl. přenesená",J123,0) -> 0 | BH123: =IF(N123="sníž. přenesená",J123,0) -> 0 | BI123: =IF(N123="nulová",J123,0) -> 0 | BJ123: 1 | BK123: =ROUND(I123*H123,2) -> 0 | BL123: 4 | BM123: 34
D124: P | F124: Poznámka k položce:_x000D_ viz výkaz výměr. DODÁVKA MATERIÁLU SŽDC, S.O. - POLOŽKU NEOCEŇOVAT!!! | AT124: P | AU124: 3
C125: 18 | D125: M | E125: 5956101020 | F125: Pražec dřevěný příčný vystrojený dub 2600x260x160 mm | G125: kus | H125: 2 | J125: =ROUND(I125*H125,2) -> 0 | K125: ÚOŽI 2019 01 | N125: základní | P125: =O125*H125 -> 0 | Q125: 0.28307 | R125: =Q125*H125 -> 0.56614 | S125: 0 | T125: =S125*H125 -> 0 | AR125: 8 | AT125: M | AU125: 3 | AY125: ROZPOCET | BE125: =IF(N125="základní",J125,0) -> 0 | BF125: =IF(N125="snížená",J125,0) -> 0 | BG125: =IF(N125="zákl. přenesená",J125,0) -> 0 | BH125: =IF(N125="sníž. přenesená",J125,0) -> 0 | BI125: =IF(N125="nulová",J125,0) -> 0 | BJ125: 1 | BK125: =ROUND(I125*H125,2) -> 0 | BL125: 4 | BM125: 36
C126: 19 | D126: M | E126: 5958128005 | F126: Komplety Skl 24 (šroub RS 0, matice M 22, podložka Uls 6) | G126: kus | H126: 8 | I126: 0 | J126: =ROUND(I126*H126,2) -> 0 | K126: ÚOŽI 2019 01 | N126: základní | P126: =O126*H126 -> 0 | Q126: 0.00111 | R126: =Q126*H126 -> 0.00888 | S126: 0 | T126: =S126*H126 -> 0 | AR126: 8 | AT126: M | AU126: 3 | AY126: ROZPOCET | BE126: =IF(N126="základní",J126,0) -> 0 | BF126: =IF(N126="snížená",J126,0) -> 0 | BG126: =IF(N126="zákl. přenesená",J126,0) -> 0 | BH126: =IF(N126="sníž. přenesená",J126,0) -> 0 | BI126: =IF(N126="nulová",J126,0) -> 0 | BJ126: 1 | BK126: =ROUND(I126*H126,2) -> 0 | BL126: 4 | BM126: 38
D127: P | F127: Poznámka k položce:_x000D_ DODÁVKA MATERIÁLU SŽDC, S.O. - POLOŽKU NEOCEŇOVAT!!! | AT127: P | AU127: 3
C128: 20 | D128: M | E128: 5958158005 | F128: Podložka pryžová pod patu kolejnice S49 183/126/6 | G128: kus | H128: 4 | I128: 0 | J128: =ROUND(I128*H128,2) -> 0 | K128: ÚOŽI 2019 01 | N128: základní | P128: =O128*H128 -> 0 | Q128: 0.00018 | R128: =Q128*H128 -> 0.00072 | S128: 0 | T128: =S128*H128 -> 0 | AR128: 8 | AT128: M | AU128: 3 | AY128: ROZPOCET | BE128: =IF(N128="základní",J128,0) -> 0 | BF128: =IF(N128="snížená",J128,0) -> 0 | BG128: =IF(N128="zákl. přenesená",J128,0) -> 0 | BH128: =IF(N128="sníž. přenesená",J128,0) -> 0 | BI128: =IF(N128="nulová",J128,0) -> 0 | BJ128: 1 | BK128: =ROUND(I128*H128,2) -> 0 | BL128: 4 | BM128: 40
D129: P | F129: Poznámka k položce:_x000D_ DODÁVKA MATERIÁLU SŽDC, S.O. - POLOŽKU NEOCEŇOVAT!!! | AT129: P | AU129: 3
C130: 21 | D130: K | E130: 5906130430 | F130: Montáž kolejového roštu v ose koleje pražce ocelové tv. Y vystrojené tv. S49 rozdělení "k". Poznámka: 1. V cenách jsou započteny náklady na vrtání pražců dřevěných nevystrojených, manipulaci a montáž KR. 2. V cenách nejsou obsaženy náklady na dodávku materiálu. | G130: km | H130: 2.322 | J130: =ROUND(I130*H130,2) -> 0 | K130: ÚOŽI 2019 01 | N130: základní | P130: =O130*H130 -> 0 | Q130: 0 | R130: =Q130*H130 -> 0 | S130: 0 | T130: =S130*H130 -> 0 | AR130: 4 | AT130: K | AU130: 3 | AY130: ROZPOCET | BE130: =IF(N130="základní",J130,0) -> 0 | BF130: =IF(N130="snížená",J130,0) -> 0 | BG130: =IF(N130="zákl. přenesená",J130,0) -> 0 | BH130: =IF(N130="sníž. přenesená",J130,0) -> 0 | BI130: =IF(N130="nulová",J130,0) -> 0 | BJ130: 1 | BK130: =ROUND(I130*H130,2) -> 0 | BL130: 4 | BM130: 42
D131: PSC | F131: Poznámka k souboru cen:_x000D_ 1. V cenách jsou započteny náklady na vrtání pražců dřevěných nevystrojených, manipulaci a montáž KR._x000D_ 2. V cenách nejsou obsaženy náklady na dodávku materiálu. | AT131: PSC | AU131: 3
C132: 22 | D132: M | E132: 5957110040 | F132: Kolejnice tv. 49 E 1, třídy R350HT | G132: m | H132: 4650 | I132: 0 | J132: =ROUND(I132*H132,2) -> 0 | K132: ÚOŽI 2019 01 | N132: základní | P132: =O132*H132 -> 0 | Q132: 0.04939 | R132: =Q132*H132 -> 229.6635 | S132: 0 | T132: =S132*H132 -> 0 | AR132: 8 | AT132: M | AU132: 3 | AY132: ROZPOCET | BE132: =IF(N132="základní",J132,0) -> 0 | BF132: =IF(N132="snížená",J132,0) -> 0 | BG132: =IF(N132="zákl. přenesená",J132,0) -> 0 | BH132: =IF(N132="sníž. přenesená",J132,0) -> 0 | BI132: =IF(N132="nulová",J132,0) -> 0 | BJ132: 1 | BK132: =ROUND(I132*H132,2) -> 0 | BL132: 4 | BM132: 44
D133: P | F133: Poznámka k položce:_x000D_ viz výkaz výměr. DODÁVKA MATERIÁLU SŽDC, S.O. - POLOŽKU NEOCEŇOVAT!!! | AT133: P | AU133: 3
...

Sheet SO 01-10-01.1 - Náskedná ...
AT2: {62b0e46c-ea1c-404e-aa31-534155cd1abf}
AT3: 2
D4: KRYCÍ LIST SOUPISU PRACÍ | M4: v --- níže se nacházejí doplnkové a pomocné údaje k sestavám --- v | AT4: False
D6: Stavba:
E7: ='Rekapitulace stavby'!K6 -> Oprava traťového úseku Železný Brod - Tanvald
D8: Objekt:
E9: SO 01-10-01.1 - Náskedná úprava GPK a obnova BK v km 0,148 - km 5,590
D11: KSO: | I11: CC-CZ:
D12: Místo: | I12: Datum: | J12: ='Rekapitulace stavby'!AN8 -> 11. 2. 2019
D14: Zadavatel: | I14: IČ: | J14: =IF('Rekapitulace stavby'!AN10="","",'Rekapitulace stavby'!AN10) -> 70994234
E15: =IF('Rekapitulace stavby'!E11="","",'Rekapitulace stavby'!E11) -> Správa Železniční dopravní cesty, státní organizace | I15: DIČ: | J15: =IF('Rekapitulace stavby'!AN11="","",'Rekapitulace stavby'!AN11) -> CZ70994234
D17: Uchazeč: | I17: IČ: | J17: ='Rekapitulace stavby'!AN13 -> Vyplň údaj
E18: ='Rekapitulace stavby'!E14 -> 0 | I18: DIČ: | J18: ='Rekapitulace stavby'!AN14 -> Vyplň údaj
D20: Projektant: | I20: IČ: | J20: =IF('Rekapitulace stavby'!AN16="","",'Rekapitulace stavby'!AN16) -> 25292161
E21: =IF('Rekapitulace stavby'!E17="","",'Rekapitulace stavby'!E17) -> Prodin a.s. | I21: DIČ: | J21: =IF('Rekapitulace stavby'!AN17="","",'Rekapitulace stavby'!AN17) -> CZ25292161
D23: Zpracovatel: | I23: IČ: | J23: =IF('Rekapitulace stavby'!AN19="","",'Rekapitulace stavby'!AN19) -> 25292161
E24: =IF('Rekapitulace stavby'!E20="","",'Rekapitulace stavby'!E20) -> Prodin a.s. | I24: DIČ: | J24: =IF('Rekapitulace stavby'!AN20="","",'Rekapitulace stavby'!AN20) -> CZ25292161
D26: Poznámka:
D30: Cena bez DPH | J30: =ROUND(J83, 2) -> 0
F32: Základ daně | I32: Sazba daně | J32: Výše daně
D33: DPH | E33: základní | F33: =ROUND((SUM(BE83:BE95)), 2) -> 0 | I33: 0.21 | J33: =ROUND(((SUM(BE83:BE95))*I33), 2) -> 0
E34: snížená | F34: =ROUND((SUM(BF83:BF95)), 2) -> 0 | I34: 0.15 | J34: =ROUND(((SUM(BF83:BF95))*I34), 2) -> 0
E35: zákl. přenesená | F35: =ROUND((SUM(BG83:BG95)), 2) -> 0 | I35: 0.21 | J35: =0 -> 0
E36: sníž. přenesená | F36: =ROUND((SUM(BH83:BH95)), 2) -> 0 | I36: 0.15 | J36: =0 -> 0
E37: nulová | F37: =ROUND((SUM(BI83:BI95)), 2) -> 0 | I37: 0 | J37: =0 -> 0
D39: Cena s DPH | G39: v | H39: CZK | J39: =SUM(J30:J37) -> 0
C45: REKAPITULACE ČLENĚNÍ SOUPISU PRACÍ
C47: Stavba:
E48: =E7 -> Oprava traťového úseku Železný Brod - Tanvald
C49: Objekt:
E50: =E9 -> SO 01-10-01.1 - Náskedná úprava GPK a obnova BK v km 0,148 - km 5,590
C52: Místo: | F52: =F12 | I52: Datum: | J52: =IF(J12="","",J12) -> 11. 2. 2019
C54: Zadavatel: | F54: =E15 -> Správa Železniční dopravní cesty, státní organizace | I54: Projektant: | J54: =E21 -> Prodin a.s.
C55: Uchazeč: | F55: =IF(E18="","",E18) -> 0 | I55: Zpracovatel: | J55: =E24 -> Prodin a.s.
C57: Kód dílu - Popis | J57: Cena celkem [CZK]
C59: Náklady stavby celkem | J59: =J83 -> 0 | AU59: -1
D60: HSV - Práce a dodávky HSV | J60: =J84 -> 0
D61: Položky dle ÚOŽI - 2019 | J61: =J85 -> 0
D62: 5 - Komunikace pozemní | J62: =J86 -> 0
D63: 9 - Ostatní | J63: =J93 -> 0
C70: SOUPIS PRACÍ
C72: Stavba:
E73: =E7 -> Oprava traťového úseku Železný Brod - Tanvald
C74: Objekt:
E75: =E9 -> SO 01-10-01.1 - Náskedná úprava GPK a obnova BK v km 0,148 - km 5,590
C77: Místo: | F77: =F12 | I77: Datum: | J77: =IF(J12="","",J12) -> 11. 2. 2019
C79: Zadavatel: | F79: =E15 -> Správa Železniční dopravní cesty, státní organizace | I79: Projektant: | J79: =E21 -> Prodin a.s.
C80: Uchazeč: | F80: =IF(E18="","",E18) -> 0 | I80: Zpracovatel: | J80: =E24 -> Prodin a.s.
C82: PČ | D82: Typ | E82: Kód | F82: Popis | G82: MJ | H82: Množství | I82: J.cena [CZK] | J82: Cena celkem [CZK] | K82: Cenová soustava | N82: DPH | O82: J. Nh [h] | P82: Nh celkem [h] | Q82: J. hmotnost [t] | R82: Hmotnost celkem [t] | S82: J. suť [t] | T82: Suť Celkem [t]
C83: Náklady soupisu celkem | J83: =BK83 -> 0 | P83: =P84 -> 0 | R83: =R84 -> 0 | T83: =T84 -> 0 | AT83: D | AU83: -1 | BK83: =BK84 -> 0
D84: D | E84: HSV | F84: Práce a dodávky HSV | J84: =BK84 -> 0 | P84: =P85 -> 0 | R84: =R85 -> 0 | T84: =T85 -> 0 | AR84: 1 | AT84: D | AU84: 0 | AY84: ROZPOCET | BK84: =BK85 -> 0
D85: D | E85: Položky dle ÚOŽI | F85: 2019 | J85: =BK85 -> 0 | P85: =P86+P93 -> 0 | R85: =R86+R93 -> 0 | T85: =T86+T93 -> 0 | AR85: 1 | AT85: D | AU85: 1 | AY85: ROZPOCET | BK85: =BK86+BK93 -> 0
D86: D | E86: 5 | F86: Komunikace pozemní | J86: =BK86 -> 0 | P86: =SUM(P87:P92) -> 0 | R86: =SUM(R87:R92) -> 0 | T86: =SUM(T87:T92) -> 0 | AR86: 1 | AT86: D | AU86: 2 | AY86: ROZPOCET | BK86: =SUM(BK87:BK92) -> 0
C87: 1 | D87: K | E87: 5909030020 | F87: Následná úprava GPK koleje směrové a výškové uspořádání pražce betonové. Poznámka: 1. V cenách jsou započteny náklady na úpravu směrového a výškového uspořádání strojní linkou ASP s přesným zaměřením její prostorové polohy po konsolidaci KL, úpravu KL pluhem a měření mezních stavebních odchylek dle ČSN, měření techologických veličin a předání tištěných výstupů objednateli. 2. V cenách nejsou obsaženy náklady na zaměření APK, doplnění a dodávku kameniva a snížení KL pod patou kolejnice. | G87: km | H87: 2.485 | J87: =ROUND(I87*H87,2) -> 0 | K87: ÚOŽI 2019 01 | N87: základní | P87: =O87*H87 -> 0 | Q87: 0 | R87: =Q87*H87 -> 0 | S87: 0 | T87: =S87*H87 -> 0 | AR87: 4 | AT87: K | AU87: 3 | AY87: ROZPOCET | BE87: =IF(N87="základní",J87,0) -> 0 | BF87: =IF(N87="snížená",J87,0) -> 0 | BG87: =IF(N87="zákl. přenesená",J87,0) -> 0 | BH87: =IF(N87="sníž. přenesená",J87,0) -> 0 | BI87: =IF(N87="nulová",J87,0) -> 0 | BJ87: 1 | BK87: =ROUND(I87*H87,2) -> 0 | BL87: 4 | BM87: 4
D88: PSC | F88: Poznámka k souboru cen:_x000D_ 1. V cenách jsou započteny náklady na úpravu směrového a výškového uspořádání strojní linkou ASP s přesným zaměřením její prostorové polohy po konsolidaci KL, úpravu KL pluhem a měření mezních stavebních odchylek dle ČSN, měření techologických veličin a předání tištěných výstupů objednateli._x000D_ 2. V cenách nejsou obsaženy náklady na zaměření APK, doplnění a dodávku kameniva a snížení KL pod patou kolejnice. | AT88: PSC | AU88: 3
D89: P | F89: Poznámka k položce:_x000D_ Kilometr koleje=km | AT89: P | AU89: 3
C90: 2 | D90: K | E90: 5909030030 | F90: Následná úprava GPK koleje směrové a výškové uspořádání pražce ocelové tv. Y. Poznámka: 1. V cenách jsou započteny náklady na úpravu směrového a výškového uspořádání strojní linkou ASP s přesným zaměřením její prostorové polohy po konsolidaci KL, úpravu KL pluhem a měření mezních stavebních odchylek dle ČSN, měření techologických veličin a předání tištěných výstupů objednateli. 2. V cenách nejsou obsaženy náklady na zaměření APK, doplnění a dodávku kameniva a snížení KL pod patou kolejnice. | G90: km | H90: 2.317 | J90: =ROUND(I90*H90,2) -> 0 | K90: ÚOŽI 2019 01 | N90: základní | P90: =O90*H90 -> 0 | Q90: 0 | R90: =Q90*H90 -> 0 | S90: 0 | T90: =S90*H90 -> 0 | AR90: 4 | AT90: K | AU90: 3 | AY90: ROZPOCET | BE90: =IF(N90="základní",J90,0) -> 0 | BF90: =IF(N90="snížená",J90,0) -> 0 | BG90: =IF(N90="zákl. přenesená",J90,0) -> 0 | BH90: =IF(N90="sníž. přenesená",J90,0) -> 0 | BI90: =IF(N90="nulová",J90,0) -> 0 | BJ90: 1 | BK90: =ROUND(I90*H90,2) -> 0 | BL90: 4 | BM90: 6
D91: PSC | F91: Poznámka k souboru cen:_x000D_ 1. V cenách jsou započteny náklady na úpravu směrového a výškového uspořádání strojní linkou ASP s přesným zaměřením její prostorové polohy po konsolidaci KL, úpravu KL pluhem a měření mezních stavebních odchylek dle ČSN, měření techologických veličin a předání tištěných výstupů objednateli._x000D_ 2. V cenách nejsou obsaženy náklady na zaměření APK, doplnění a dodávku kameniva a snížení KL pod patou kolejnice. | AT91: PSC | AU91: 3
D92: P | F92: Poznámka k položce:_x000D_ Kilometr koleje=km | AT92: P | AU92: 3
D93: D | E93: 9 | F93: Ostatní | J93: =BK93 -> 0 | P93: =SUM(P94:P95) -> 0 | R93: =SUM(R94:R95) -> 0 | T93: =SUM(T94:T95) -> 0 | AR93: 1 | AT93: D | AU93: 2 | AY93: ROZPOCET | BK93: =SUM(BK94:BK95) -> 0
C94: 3 | D94: K | E94: 9903200100 | F94: Přeprava mechanizace na místo prováděných prací o hmotnosti přes 12 t přes 50 do 100 km Poznámka: Ceny jsou určeny pro dopravu mechanizmů na místo prováděných prací po silnici i po kolejích.V ceně jsou započteny i náklady na zpáteční cestu dopravního prostředku. Měrnou jednotkou je kus přepravovaného stroje. | G94: kus | H94: 2 | J94: =ROUND(I94*H94,2) -> 0 | K94: ÚOŽI 2019 01 | N94: základní | P94: =O94*H94 -> 0 | Q94: 0 | R94: =Q94*H94 -> 0 | S94: 0 | T94: =S94*H94 -> 0 | AR94: 4 | AT94: K | AU94: 3 | AY94: ROZPOCET | BE94: =IF(N94="základní",J94,0) -> 0 | BF94: =IF(N94="snížená",J94,0) -> 0 | BG94: =IF(N94="zákl. přenesená",J94,0) -> 0 | BH94: =IF(N94="sníž. přenesená",J94,0) -> 0 | BI94: =IF(N94="nulová",J94,0) -> 0 | BJ94: 1 | BK94: =ROUND(I94*H94,2) -> 0 | BL94: 4 | BM94: 14
D95: PSC | F95: Poznámka k souboru cen:_x000D_ Ceny jsou určeny pro dopravu mechanizmů na místo prováděných prací po silnici i po kolejích.V ceně jsou započteny i náklady na zpáteční cestu dopravního prostředku. Měrnou jednotkou je kus přepravovaného stroje. | AT95: PSC | AU95: 3

Sheet SO 01-10-02 - Železniční ...
AT2: {a6a585c0-9601-4d4d-8c75-68dfe7c53906}
AT3: 2
D4: KRYCÍ LIST SOUPISU PRACÍ | M4: v --- níže se nacházejí doplnkové a pomocné údaje k sestavám --- v | AT4: False
D6: Stavba:
E7: ='Rekapitulace stavby'!K6 -> Oprava traťového úseku Železný Brod - Tanvald
D8: Objekt:
E9: SO 01-10-02 - Železniční svršek km 5,590 - km 11,560
D11: KSO: | I11: CC-CZ:
D12: Místo: | I12: Datum: | J12: ='Rekapitulace stavby'!AN8 -> 11. 2. 2019
D14: Zadavatel: | I14: IČ: | J14: =IF('Rekapitulace stavby'!AN10="","",'Rekapitulace stavby'!AN10) -> 70994234
E15: =IF('Rekapitulace stavby'!E11="","",'Rekapitulace stavby'!E11) -> Správa Železniční dopravní cesty, státní organizace | I15: DIČ: | J15: =IF('Rekapitulace stavby'!AN11="","",'Rekapitulace stavby'!AN11) -> CZ70994234
D17: Uchazeč: | I17: IČ: | J17: ='Rekapitulace stavby'!AN13 -> Vyplň údaj
E18: ='Rekapitulace stavby'!E14 -> 0 | I18: DIČ: | J18: ='Rekapitulace stavby'!AN14 -> Vyplň údaj
D20: Projektant: | I20: IČ: | J20: =IF('Rekapitulace stavby'!AN16="","",'Rekapitulace stavby'!AN16) -> 25292161
E21: =IF('Rekapitulace stavby'!E17="","",'Rekapitulace stavby'!E17) -> Prodin a.s. | I21: DIČ: | J21: =IF('Rekapitulace stavby'!AN17="","",'Rekapitulace stavby'!AN17) -> CZ25292161
D23: Zpracovatel: | I23: IČ: | J23: =IF('Rekapitulace stavby'!AN19="","",'Rekapitulace stavby'!AN19) -> 25292161
E24: =IF('Rekapitulace stavby'!E20="","",'Rekapitulace stavby'!E20) -> Prodin a.s. | I24: DIČ: | J24: =IF('Rekapitulace stavby'!AN20="","",'Rekapitulace stavby'!AN20) -> CZ25292161
D26: Poznámka:
D30: Cena bez DPH | J30: =ROUND(J87, 2) -> 24353600
F32: Základ daně | I32: Sazba daně | J32: Výše daně
D33: DPH | E33: základní | F33: =ROUND((SUM(BE87:BE278)), 2) -> 24353600 | I33: 0.21 | J33: =ROUND(((SUM(BE87:BE278))*I33), 2) -> 5114256
E34: snížená | F34: =ROUND((SUM(BF87:BF278)), 2) -> 0 | I34: 0.15 | J34: =ROUND(((SUM(BF87:BF278))*I34), 2) -> 0
E35: zákl. přenesená | F35: =ROUND((SUM(BG87:BG278)), 2) -> 0 | I35: 0.21 | J35: =0 -> 0
E36: sníž. přenesená | F36: =ROUND((SUM(BH87:BH278)), 2) -> 0 | I36: 0.15 | J36: =0 -> 0
E37: nulová | F37: =ROUND((SUM(BI87:BI278)), 2) -> 0 | I37: 0 | J37: =0 -> 0
D39: Cena s DPH | G39: v | H39: CZK | J39: =SUM(J30:J37) -> 29467856
C45: REKAPITULACE ČLENĚNÍ SOUPISU PRACÍ
C47: Stavba:
E48: =E7 -> Oprava traťového úseku Železný Brod - Tanvald
C49: Objekt:
E50: =E9 -> SO 01-10-02 - Železniční svršek km 5,590 - km 11,560
C52: Místo: | F52: =F12 | I52: Datum: | J52: =IF(J12="","",J12) -> 11. 2. 2019
C54: Zadavatel: | F54: =E15 -> Správa Železniční dopravní cesty, státní organizace | I54: Projektant: | J54: =E21 -> Prodin a.s.
C55: Uchazeč: | F55: =IF(E18="","",E18) -> 0 | I55: Zpracovatel: | J55: =E24 -> Prodin a.s.
C57: Kód dílu - Popis | J57: Cena celkem [CZK]
C59: Náklady stavby celkem | J59: =J87 -> 24353600 | AU59: -1
D60: HSV - Práce a dodávky HSV | J60: =J88 -> 24353600
D61: Položky dle ÚOŽI - 2019 | J61: =J89 -> 24353600
D62: 5 - Komunikace pozemní | J62: =J90 -> 24353600
D63: 9 - Ostatní | J63: =J217 -> 0
D64: Položky dle ÚRS - 2019 | J64: =J270 -> 0
D65: 1 - Zemní práce | J65: =J271 -> 0
D66: Položky R: - Položky "R": | J66: =J276 -> 0
D67: 90 - Ostatní | J67: =J277 -> 0
C74: SOUPIS PRACÍ
C76: Stavba:
E77: =E7 -> Oprava traťového úseku Železný Brod - Tanvald
C78: Objekt:
E79: =E9 -> SO 01-10-02 - Železniční svršek km 5,590 - km 11,560
C81: Místo: | F81: =F12 | I81: Datum: | J81: =IF(J12="","",J12) -> 11. 2. 2019
C83: Zadavatel: | F83: =E15 -> Správa Železniční dopravní cesty, státní organizace | I83: Projektant: | J83: =E21 -> Prodin a.s.
C84: Uchazeč: | F84: =IF(E18="","",E18) -> 0 | I84: Zpracovatel: | J84: =E24 -> Prodin a.s.
C86: PČ | D86: Typ | E86: Kód | F86: Popis | G86: MJ | H86: Množství | I86: J.cena [CZK] | J86: Cena celkem [CZK] | K86: Cenová soustava | N86: DPH | O86: J. Nh [h] | P86: Nh celkem [h] | Q86: J. hmotnost [t] | R86: Hmotnost celkem [t] | S86: J. suť [t] | T86: Suť Celkem [t]
C87: Náklady soupisu celkem | J87: =BK87 -> 24353600 | P87: =P88 -> 0 | R87: =R88 -> 18109.43 | T87: =T88 -> 0 | AT87: D | AU87: -1 | BK87: =BK88 -> 24353600
D88: D | E88: HSV | F88: Práce a dodávky HSV | J88: =BK88 -> 24353600 | P88: =P89+P270+P276 -> 0 | R88: =R89+R270+R276 -> 18109.43 | T88: =T89+T270+T276 -> 0 | AR88: 1 | AT88: D | AU88: 0 | AY88: ROZPOCET | BK88: =BK89+BK270+BK276 -> 24353600
D89: D | E89: Položky dle ÚOŽI | F89: 2019 | J89: =BK89 -> 24353600 | P89: =P90+P217 -> 0 | R89: =R90+R217 -> 18109.43 | T89: =T90+T217 -> 0 | AR89: 1 | AT89: D | AU89: 1 | AY89: ROZPOCET | BK89: =BK90+BK217 -> 24353600
D90: D | E90: 5 | F90: Komunikace pozemní | J90: =BK90 -> 24353600 | P90: =SUM(P91:P216) -> 0 | R90: =SUM(R91:R216) -> 18109.43 | T90: =SUM(T91:T216) -> 0 | AR90: 1 | AT90: D | AU90: 2 | AY90: ROZPOCET | BK90: =SUM(BK91:BK216) -> 24353600
C91: 1 | D91: K | E91: 5905020010 | F91: Oprava stezky strojně s odstraněním drnu a nánosu do 10 cm. Poznámka: 1. V cenách jsou započteny náklady na odtěžení nánosu stezky a rozprostření výzisku na terén nebo naložení na dopravní prostředek a úprava povrchu stezky. | G91: m2 | H91: 1281.25 | J91: =ROUND(I91*H91,2) -> 0 | K91: ÚOŽI 2019 01 | N91: základní | P91: =O91*H91 -> 0 | Q91: 0 | R91: =Q91*H91 -> 0 | S91: 0 | T91: =S91*H91 -> 0 | AR91: 4 | AT91: K | AU91: 3 | AY91: ROZPOCET | BE91: =IF(N91="základní",J91,0) -> 0 | BF91: =IF(N91="snížená",J91,0) -> 0 | BG91: =IF(N91="zákl. přenesená",J91,0) -> 0 | BH91: =IF(N91="sníž. přenesená",J91,0) -> 0 | BI91: =IF(N91="nulová",J91,0) -> 0 | BJ91: 1 | BK91: =ROUND(I91*H91,2) -> 0 | BL91: 4 | BM91: 2
D92: PSC | F92: Poznámka k souboru cen:_x000D_ 1. V cenách jsou započteny náklady na odtěžení nánosu stezky a rozprostření výzisku na terén nebo naložení na dopravní prostředek a úprava povrchu stezky. | AT92: PSC | AU92: 3
C93: 2 | D93: K | E93: 5905035110 | F93: Výměna KL malou těžící mechanizací včetně lavičky lože otevřené. Poznámka: 1. V cenách jsou započteny náklady na odtěžení KL s použitím minirypadla, rozprostření výzisku na terén nebo naložení na dopravní prostředek, přehození kameniva, úprava KL do profilu a jeho případné snížení pod patou kolejnice. U výměny KL v celém profilu je v ceně započteno případné uvolnění, posun a dotažení pražce. 2. V cenách nejsou obsaženy náklady na podbití pražce, dodávku a doplnění kameniva. | G93: m3 | H93: 1286.18 | J93: =ROUND(I93*H93,2) -> 0 | K93: ÚOŽI 2019 01 | N93: základní | P93: =O93*H93 -> 0 | Q93: 0 | R93: =Q93*H93 -> 0 | S93: 0 | T93: =S93*H93 -> 0 | AR93: 4 | AT93: K | AU93: 3 | AY93: ROZPOCET | BE93: =IF(N93="základní",J93,0) -> 0 | BF93: =IF(N93="snížená",J93,0) -> 0 | BG93: =IF(N93="zákl. přenesená",J93,0) -> 0 | BH93: =IF(N93="sníž. přenesená",J93,0) -> 0 | BI93: =IF(N93="nulová",J93,0) -> 0 | BJ93: 1 | BK93: =ROUND(I93*H93,2) -> 0 | BL93: 4 | BM93: 4
D94: PSC | F94: Poznámka k souboru cen:_x000D_ 1. V cenách jsou započteny náklady na odtěžení KL s použitím minirypadla, rozprostření výzisku na terén nebo naložení na dopravní prostředek, přehození kameniva, úprava KL do profilu a jeho případné snížení pod patou kolejnice. U výměny KL v celém profilu je v ceně započteno případné uvolnění, posun a dotažení pražce._x000D_ 2. V cenách nejsou obsaženy náklady na podbití pražce, dodávku a doplnění kameniva. | AT94: PSC | AU94: 3
C95: 3 | D95: K | E95: 5905070010 | F95: Odsunutí koleje od osy do 0,50 m. Poznámka: 1. V cenách jsou započteny náklady na odstranění kameniva za hlavami, podél pražců a odsun koleje od osy. | G95: m | H95: 420 | J95: =ROUND(I95*H95,2) -> 0 | K95: ÚOŽI 2019 01 | N95: základní | P95: =O95*H95 -> 0 | Q95: 0 | R95: =Q95*H95 -> 0 | S95: 0 | T95: =S95*H95 -> 0 | AR95: 4 | AT95: K | AU95: 3 | AY95: ROZPOCET | BE95: =IF(N95="základní",J95,0) -> 0 | BF95: =IF(N95="snížená",J95,0) -> 0 | BG95: =IF(N95="zákl. přenesená",J95,0) -> 0 | BH95: =IF(N95="sníž. přenesená",J95,0) -> 0 | BI95: =IF(N95="nulová",J95,0) -> 0 | BJ95: 1 | BK95: =ROUND(I95*H95,2) -> 0 | BL95: 4 | BM95: 6
D96: PSC | F96: Poznámka k souboru cen:_x000D_ 1. V cenách jsou započteny náklady na odstranění kameniva za hlavami, podél pražců a odsun koleje od osy. | AT96: PSC | AU96: 3
C97: 4 | D97: K | E97: 5905085040 | F97: Souvislé čištění KL strojně koleje pražce betonové rozdělení "c". Poznámka: 1. V cenách jsou započteny náklady na kontinuální čištění KL strojní čističkou, případné vložení geosyntetika, rozprostření výzisku na terén nebo naložení na dopravní prostředek, zdvih, úpravu směrového a výškového uspořádání včetně měření mezních stavebních odchylek dle ČSN a technologických veličin, předání tištěných výstupů a úpravu KL do profilu. Platí i pro čištění KL současně s výměnou pražců. 2. V cenách nejsou obsaženy náklady na snížení KL pod patou kolejnice, následnou úpravu směrového a výškového uspořádání dodávku a doplnění kameniva. | G97: km | H97: 5.553 | J97: =ROUND(I97*H97,2) -> 0 | K97: ÚOŽI 2019 01 | N97: základní | P97: =O97*H97 -> 0 | Q97: 0 | R97: =Q97*H97 -> 0 | S97: 0 | T97: =S97*H97 -> 0 | AR97: 4 | AT97: K | AU97: 3 | AY97: ROZPOCET | BE97: =IF(N97="základní",J97,0) -> 0 | BF97: =IF(N97="snížená",J97,0) -> 0 | BG97: =IF(N97="zákl. přenesená",J97,0) -> 0 | BH97: =IF(N97="sníž. přenesená",J97,0) -> 0 | BI97: =IF(N97="nulová",J97,0) -> 0 | BJ97: 1 | BK97: =ROUND(I97*H97,2) -> 0 | BL97: 4 | BM97: 8
D98: PSC | F98: Poznámka k souboru cen:_x000D_ 1. V cenách jsou započteny náklady na kontinuální čištění KL strojní čističkou, případné vložení geosyntetika, rozprostření výzisku na terén nebo naložení na dopravní prostředek, zdvih, úpravu směrového a výškového uspořádání včetně měření mezních stavebních odchylek dle ČSN a technologických veličin, předání tištěných výstupů a úpravu KL do profilu. Platí i pro čištění KL současně s výměnou pražců._x000D_ 2. V cenách nejsou obsaženy náklady na snížení KL pod patou kolejnice, následnou úpravu směrového a výškového uspořádání dodávku a doplnění kameniva. | AT98: PSC | AU98: 3
C99: 5 | D99: K | E99: 5905105030 | F99: Doplnění KL kamenivem souvisle strojně v koleji. Poznámka: 1. V cenách jsou započteny náklady na doplnění kameniva ojediněle ručně vidlemi a/nebo souvisle strojně z výsypných vozů případně nakladačem. 2. V cenách nejsou obsaženy náklady na dodávku kameniva. | G99: m3 | H99: 8397.21 | J99: =ROUND(I99*H99,2) -> 0 | K99: ÚOŽI 2019 01 | N99: základní | P99: =O99*H99 -> 0 | Q99: 0 | R99: =Q99*H99 -> 0 | S99: 0 | T99: =S99*H99 -> 0 | AR99: 4 | AT99: K | AU99: 3 | AY99: ROZPOCET | BE99: =IF(N99="základní",J99,0) -> 0 | BF99: =IF(N99="snížená",J99,0) -> 0 | BG99: =IF(N99="zákl. přenesená",J99,0) -> 0 | BH99: =IF(N99="sníž. přenesená",J99,0) -> 0 | BI99: =IF(N99="nulová",J99,0) -> 0 | BJ99: 1 | BK99: =ROUND(I99*H99,2) -> 0 | BL99: 4 | BM99: 10
D100: PSC | F100: Poznámka k souboru cen:_x000D_ 1. V cenách jsou započteny náklady na doplnění kameniva ojediněle ručně vidlemi a/nebo souvisle strojně z výsypných vozů případně nakladačem._x000D_ 2. V cenách nejsou obsaženy náklady na dodávku kameniva. | AT100: PSC | AU100: 3
C101: 6 | D101: M | E101: 5955101000 | F101: Kamenivo drcené štěrk frakce 31,5/63 třídy BI | G101: t | H101: 17087.063 | J101: =ROUND(I101*H101,2) -> 0 | K101: ÚOŽI 2019 01 | N101: základní | P101: =O101*H101 -> 0 | Q101: 1 | R101: =Q101*H101 -> 17087.063 | S101: 0 | T101: =S101*H101 -> 0 | AR101: 8 | AT101: M | AU101: 3 | AY101: ROZPOCET | BE101: =IF(N101="základní",J101,0) -> 0 | BF101: =IF(N101="snížená",J101,0) -> 0 | BG101: =IF(N101="zákl. přenesená",J101,0) -> 0 | BH101: =IF(N101="sníž. přenesená",J101,0) -> 0 | BI101: =IF(N101="nulová",J101,0) -> 0 | BJ101: 1 | BK101: =ROUND(I101*H101,2) -> 0 | BL101: 4 | BM101: 12
C102: 7 | D102: K | E102: 5905110010 | F102: Snížení KL pod patou kolejnice v koleji. Poznámka: 1. V cenách jsou započteny náklady na snížení KL pod patou kolejnice ručně vidlemi. 2. V cenách nejsou obsaženy náklady na doplnění a dodávku kameniva. | G102: km | H102: 5.553 | J102: =ROUND(I102*H102,2) -> 0 | K102: ÚOŽI 2019 01 | N102: základní | P102: =O102*H102 -> 0 | Q102: 0 | R102: =Q102*H102 -> 0 | S102: 0 | T102: =S102*H102 -> 0 | AR102: 4 | AT102: K | AU102: 3 | AY102: ROZPOCET | BE102: =IF(N102="základní",J102,0) -> 0 | BF102: =IF(N102="snížená",J102,0) -> 0 | BG102: =IF(N102="zákl. přenesená",J102,0) -> 0 | BH102: =IF(N102="sníž. přenesená",J102,0) -> 0 | BI102: =IF(N102="nulová",J102,0) -> 0 | BJ102: 1 | BK102: =ROUND(I102*H102,2) -> 0 | BL102: 4 | BM102: 14
D103: PSC | F103: Poznámka k souboru cen:_x000D_ 1. V cenách jsou započteny náklady na snížení KL pod patou kolejnice ručně vidlemi._x000D_ 2. V cenách nejsou obsaženy náklady na doplnění a dodávku kameniva. | AT103: PSC | AU103: 3
D104: P | F104: Poznámka k položce:_x000D_ Kilometr koleje=km | AT104: P | AU104: 3
C105: 8 | D105: K | E105: 5906105010 | F105: Demontáž pražce dřevěný. Poznámka: 1. V cenách jsou započteny náklady na manipulaci, demontáž, odstrojení do součástí a uložení pražců. | G105: kus | H105: 40 | J105: =ROUND(I105*H105,2) -> 0 | K105: ÚOŽI 2019 01 | N105: základní | P105: =O105*H105 -> 0 | Q105: 0 | R105: =Q105*H105 -> 0 | S105: 0 | T105: =S105*H105 -> 0 | AR105: 4 | AT105: K | AU105: 3 | AY105: ROZPOCET | BE105: =IF(N105="základní",J105,0) -> 0 | BF105: =IF(N105="snížená",J105,0) -> 0 | BG105: =IF(N105="zákl. přenesená",J105,0) -> 0 | BH105: =IF(N105="sníž. přenesená",J105,0) -> 0 | BI105: =IF(N105="nulová",J105,0) -> 0 | BJ105: 1 | BK105: =ROUND(I105*H105,2) -> 0 | BL105: 4 | BM105: 16
D106: PSC | F106: Poznámka k souboru cen:_x000D_ 1. V cenách jsou započteny náklady na manipulaci, demontáž, odstrojení do součástí a uložení pražců. | AT106: PSC | AU106: 3
C107: 9 | D107: K | E107: 5906110020 | F107: Oprava rozdělení pražců příčných betonových posun přes 10 cm. Poznámka: 1. V cenách jsou započteny náklady na uvolnění upevňovadel, odstranění kameniva v míře dostatečné pro posun pražce, jeho posunutí, dotažení upevňovadel, dohození a úprava KL. 2. V cenách nejsou obsaženy náklady na podbití pražce, doplnění a dodávku kameniva. | G107: kus | H107: 252 | J107: =ROUND(I107*H107,2) -> 0 | K107: ÚOŽI 2019 01 | N107: základní | P107: =O107*H107 -> 0 | Q107: 0 | R107: =Q107*H107 -> 0 | S107: 0 | T107: =S107*H107 -> 0 | AR107: 4 | AT107: K | AU107: 3 | AY107: ROZPOCET | BE107: =IF(N107="základní",J107,0) -> 0 | BF107: =IF(N107="snížená",J107,0) -> 0 | BG107: =IF(N107="zákl. přenesená",J107,0) -> 0 | BH107: =IF(N107="sníž. přenesená",J107,0) -> 0 | BI107: =IF(N107="nulová",J107,0) -> 0 | BJ107: 1 | BK107: =ROUND(I107*H107,2) -> 0 | BL107: 4 | BM107: 18
D108: PSC | F108: Poznámka k souboru cen:_x000D_ 1. V cenách jsou započteny náklady na uvolnění upevňovadel, odstranění kameniva v míře dostatečné pro posun pražce, jeho posunutí, dotažení upevňovadel, dohození a úprava KL._x000D_ 2. V cenách nejsou obsaženy náklady na podbití pražce, doplnění a dodávku kameniva. | AT108: PSC | AU108: 3
C109: 10 | D109: K | E109: 5906125360 | F109: Montáž kolejového roštu na úložišti pražce betonové vystrojené tv. S49 rozdělení "c". Poznámka: 1. V cenách jsou započteny náklady na úpravu plochy pro montáž, vrtání pražců dřevěných nevystrojených, manipulaci a montáž KR. 2. V cenách nejsou obsaženy náklady na dodávku materiálu. | G109: km | H109: 0.042 | J109: =ROUND(I109*H109,2) -> 0 | K109: ÚOŽI 2019 01 | N109: základní | P109: =O109*H109 -> 0 | Q109: 0 | R109: =Q109*H109 -> 0 | S109: 0 | T109: =S109*H109 -> 0 | AR109: 4 | AT109: K | AU109: 3 | AY109: ROZPOCET | BE109: =IF(N109="základní",J109,0) -> 0 | BF109: =IF(N109="snížená",J109,0) -> 0 | BG109: =IF(N109="zákl. přenesená",J109,0) -> 0 | BH109: =IF(N109="sníž. přenesená",J109,0) -> 0 | BI109: =IF(N109="nulová",J109,0) -> 0 | BJ109: 1 | BK109: =ROUND(I109*H109,2) -> 0 | BL109: 4 | BM109: 20
D110: PSC | F110: Poznámka k souboru cen:_x000D_ 1. V cenách jsou započteny náklady na úpravu plochy pro montáž, vrtání pražců dřevěných nevystrojených, manipulaci a montáž KR._x000D_ 2. V cenách nejsou obsaženy náklady na dodávku materiálu. | AT110: PSC | AU110: 3
C111: 11 | D111: M | E111: 5957201010 | F111: Kolejnice užité tv. S49 | G111: m | H111: 84 | I111: 0 | J111: =ROUND(I111*H111,2) -> 0 | K111: ÚOŽI 2019 01 | N111: základní | P111: =O111*H111 -> 0 | Q111: 0 | R111: =Q111*H111 -> 0 | S111: 0 | T111: =S111*H111 -> 0 | AR111: 8 | AT111: M | AU111: 3 | AY111: ROZPOCET | BE111: =IF(N111="základní",J111,0) -> 0 | BF111: =IF(N111="snížená",J111,0) -> 0 | BG111: =IF(N111="zákl. přenesená",J111,0) -> 0 | BH111: =IF(N111="sníž. přenesená",J111,0) -> 0 | BI111: =IF(N111="nulová",J111,0) -> 0 | BJ111: 1 | BK111: =ROUND(I111*H111,2) -> 0 | BL111: 4 | BM111: 22
D112: P | F112: Poznámka k položce:_x000D_ viz výkaz výměr. DODÁVKA MATERIÁLU SŽDC, S.O. - POLOŽKU NEOCEŇOVAT!!! | AT112: P | AU112: 3
C113: 12 | D113: M | E113: 5956213065 | F113: Pražec betonový příčný vystrojený užitý tv. SB 8 P | G113: kus | H113: 64 | I113: 0 | J113: =ROUND(I113*H113,2) -> 0 | K113: ÚOŽI 2019 01 | N113: základní | P113: =O113*H113 -> 0 | Q113: 0 | R113: =Q113*H113 -> 0 | S113: 0 | T113: =S113*H113 -> 0 | AR113: 8 | AT113: M | AU113: 3 | AY113: ROZPOCET | BE113: =IF(N113="základní",J113,0) -> 0 | BF113: =IF(N113="snížená",J113,0) -> 0 | BG113: =IF(N113="zákl. přenesená",J113,0) -> 0 | BH113: =IF(N113="sníž. přenesená",J113,0) -> 0 | BI113: =IF(N113="nulová",J113,0) -> 0 | BJ113: 1 | BK113: =ROUND(I113*H113,2) -> 0 | BL113: 4 | BM113: 24
D114: P | F114: Poznámka k položce:_x000D_ viz výkaz výměr. DODÁVKA MATERIÁLU SŽDC, S.O. - POLOŽKU NEOCEŇOVAT!!! | AT114: P | AU114: 3
C115: 13 | D115: M | E115: 5958128005 | F115: Komplety Skl 24 (šroub RS 0, matice M 22, podložka Uls 6) | G115: kus | H115: 220 | I115: 0 | J115: =ROUND(I115*H115,2) -> 0 | K115: ÚOŽI 2019 01 | N115: základní | P115: =O115*H115 -> 0 | Q115: 0.00111 | R115: =Q115*H115 -> 0.2442 | S115: 0 | T115: =S115*H115 -> 0 | AR115: 8 | AT115: M | AU115: 3 | AY115: ROZPOCET | BE115: =IF(N115="základní",J115,0) -> 0 | BF115: =IF(N115="snížená",J115,0) -> 0 | BG115: =IF(N115="zákl. přenesená",J115,0) -> 0 | BH115: =IF(N115="sníž. přenesená",J115,0) -> 0 | BI115: =IF(N115="nulová",J115,0) -> 0 | BJ115: 1 | BK115: =ROUND(I115*H115,2) -> 0 | BL115: 4 | BM115: 26
D116: P | F116: Poznámka k položce:_x000D_ DODÁVKA MATERIÁLU SŽDC, S.O. - POLOŽKU NEOCEŇOVAT!!! | AT116: P | AU116: 3
C117: 14 | D117: M | E117: 5958125005 | F117: Komplety s antikorozní úpravou Skl 24 (svěrka Skl24, šroub RS0, matice M22, podložka Uls6) | G117: kus | H117: 36 | I117: 0 | J117: =ROUND(I117*H117,2) -> 0 | K117: ÚOŽI 2019 01 | N117: základní | P117: =O117*H117 -> 0 | Q117: 0.00111 | R117: =Q117*H117 -> 0.03996 | S117: 0 | T117: =S117*H117 -> 0 | AR117: 8 | AT117: M | AU117: 3 | AY117: ROZPOCET | BE117: =IF(N117="základní",J117,0) -> 0 | BF117: =IF(N117="snížená",J117,0) -> 0 | BG117: =IF(N117="zákl. přenesená",J117,0) -> 0 | BH117: =IF(N117="sníž. přenesená",J117,0) -> 0 | BI117: =IF(N117="nulová",J117,0) -> 0 | BJ117: 1 | BK117: =ROUND(I117*H117,2) -> 0 | BL117: 4 | BM117: 28
D118: P | F118: Poznámka k položce:_x000D_ DODÁVKA MATERIÁLU SŽDC, S.O. - POLOŽKU NEOCEŇOVAT!!! | AT118: P | AU118: 3
C119: 15 | D119: M | E119: 5958158005 | F119: Podložka pryžová pod patu kolejnice S49 183/126/6 | G119: kus | H119: 128 | I119: 0 | J119: =ROUND(I119*H119,2) -> 0 | K119: ÚOŽI 2019 01 | N119: základní | P119: =O119*H119 -> 0 | Q119: 0.00018 | R119: =Q119*H119 -> 0.02304 | S119: 0 | T119: =S119*H119 -> 0 | AR119: 8 | AT119: M | AU119: 3 | AY119: ROZPOCET | BE119: =IF(N119="základní",J119,0) -> 0 | BF119: =IF(N119="snížená",J119,0) -> 0 | BG119: =IF(N119="zákl. přenesená",J119,0) -> 0 | BH119: =IF(N119="sníž. přenesená",J119,0) -> 0 | BI119: =IF(N119="nulová",J119,0) -> 0 | BJ119: 1 | BK119: =ROUND(I119*H119,2) -> 0 | BL119: 4 | BM119: 30
D120: P | F120: Poznámka k položce:_x000D_ DODÁVKA MATERIÁLU SŽDC, S.O. - POLOŽKU NEOCEŇOVAT!!! | AT120: P | AU120: 3
C121: 16 | D121: K | E121: 5906130430 | F121: Montáž kolejového roštu v ose koleje pražce ocelové tv. Y vystrojené tv. S49 rozdělení "k". Poznámka: 1. V cenách jsou započteny náklady na vrtání pražců dřevěných nevystrojených, manipulaci a montáž KR. 2. V cenách nejsou obsaženy náklady na dodávku materiálu. | G121: km | H121: 4.356 | J121: =ROUND(I121*H121,2) -> 0 | K121: ÚOŽI 2019 01 | N121: základní | P121: =O121*H121 -> 0 | Q121: 0 | R121: =Q121*H121 -> 0 | S121: 0 | T121: =S121*H121 -> 0 | AR121: 4 | AT121: K | AU121: 3 | AY121: ROZPOCET | BE121: =IF(N121="základní",J121,0) -> 0 | BF121: =IF(N121="snížená",J121,0) -> 0 | BG121: =IF(N121="zákl. přenesená",J121,0) -> 0 | BH121: =IF(N121="sníž. přenesená",J121,0) -> 0 | BI121: =IF(N121="nulová",J121,0) -> 0 | BJ121: 1 | BK121: =ROUND(I121*H121,2) -> 0 | BL121: 4 | BM121: 32
D122: PSC | F122: Poznámka k souboru cen:_x000D_ 1. V cenách jsou započteny náklady na vrtání pražců dřevěných nevystrojených, manipulaci a montáž KR._x000D_ 2. V cenách nejsou obsaženy náklady na dodávku materiálu. | AT122: PSC | AU122: 3
C123: 17 | D123: M | E123: 5957110040 | F123: Kolejnice tv. 49 E 1, třídy R350HT | G123: m | H123: 8790 | I123: 0 | J123: =ROUND(I123*H123,2) -> 0 | K123: ÚOŽI 2019 01 | N123: základní | P123: =O123*H123 -> 0 | Q123: 0.04939 | R123: =Q123*H123 -> 434.1381 | S123: 0 | T123: =S123*H123 -> 0 | AR123: 8 | AT123: M | AU123: 3 | AY123: ROZPOCET | BE123: =IF(N123="základní",J123,0) -> 0 | BF123: =IF(N123="snížená",J123,0) -> 0 | BG123: =IF(N123="zákl. přenesená",J123,0) -> 0 | BH123: =IF(N123="sníž. přenesená",J123,0) -> 0 | BI123: =IF(N123="nulová",J123,0) -> 0 | BJ123: 1 | BK123: =ROUND(I123*H123,2) -> 0 | BL123: 4 | BM123: 34
D124: P | F124: Poznámka k položce:_x000D_ viz výkaz výměr. DODÁVKA MATERIÁLU SŽDC, S.O. - POLOŽKU NEOCEŇOVAT!!! | AT124: P | AU124: 3
C125: 18 | D125: M | E125: 5956134017 | F125: Pražec ocelový tv. Y příčný vystrojené základní S 49 rozevření 650 | G125: kus | H125: 3016 | I125: 7100 | J125: =ROUND(I125*H125,2) -> 21413600 | K125: ÚOŽI 2019 01 | N125: základní | P125: =O125*H125 -> 0 | Q125: 0.143 | R125: =Q125*H125 -> 431.288 | S125: 0 | T125: =S125*H125 -> 0 | AR125: 8 | AT125: M | AU125: 3 | AY125: ROZPOCET | BE125: =IF(N125="základní",J125,0) -> 21413600 | BF125: =IF(N125="snížená",J125,0) -> 0 | BG125: =IF(N125="zákl. přenesená",J125,0) -> 0 | BH125: =IF(N125="sníž. přenesená",J125,0) -> 0 | BI125: =IF(N125="nulová",J125,0) -> 0 | BJ125: 1 | BK125: =ROUND(I125*H125,2) -> 21413600 | BL125: 4 | BM125: 36
D126: P | F126: Poznámka k položce:_x000D_ pevná cena vč. dopravy na místo stavby. PŘEDOBJEDNANÝ MATERIÁL - POLOŽKU NEOCEŇOVAT A ANI NIJAK JINAK MĚNIT JEJÍ JEDNOTKOVOU CENU!!! | AT126: P | AU126: 3
C127: 19 | D127: M | E127: 5956134027 | F127: Pražec ocelový tv. Y příčný vystrojené základní 49 pozink rozevření 650 | G127: kus | H127: 294 | I127: 10000 | J127: =ROUND(I127*H127,2) -> 2940000 | K127: ÚOŽI 2019 01 | N127: základní | P127: =O127*H127 -> 0 | Q127: 0.143 | R127: =Q127*H127 -> 42.042 | S127: 0 | T127: =S127*H127 -> 0 | AR127: 8 | AT127: M | AU127: 3 | AY127: ROZPOCET | BE127: =IF(N127="základní",J127,0) -> 2940000 | BF127: =IF(N127="snížená",J127,0) -> 0 | BG127: =IF(N127="zákl. přenesená",J127,0) -> 0 | BH127: =IF(N127="sníž. přenesená",J127,0) -> 0 | BI127: =IF(N127="nulová",J127,0) -> 0 | BJ127: 1 | BK127: =ROUND(I127*H127,2) -> 2940000 | BL127: 4 | BM127: 38
D128: P | F128: Poznámka k položce:_x000D_ pevná cena vč. dopravy na místo stavby. PŘEDOBJEDNANÝ MATERIÁL - POLOŽKU NEOCEŇOVAT A ANI NIJAK JINAK MĚNIT JEJÍ JEDNOTKOVOU CENU!!! | AT128: P | AU128: 3
C129: 20 | D129: K | E129: 5906135070 | F129: Demontáž kolejového roštu koleje na úložišti pražce dřevěné tv. S49 rozdělení "c". Poznámka: 1. V cenách jsou započteny náklady na demontáž a rozebrání kolejového roštu do součástí, manipulaci, naložení výzisku na dopravní prostředek a uložení na úložišti. 2. V cenách nejsou obsaženy náklady na dopravu a vytřídění. | G129: km | H129: 4.105 | J129: =ROUND(I129*H129,2) -> 0 | K129: ÚOŽI 2019 01 | N129: základní | P129: =O129*H129 -> 0 | Q129: 0 | R129: =Q129*H129 -> 0 | S129: 0 | T129: =S129*H129 -> 0 | AR129: 4 | AT129: K | AU129: 3 | AY129: ROZPOCET | BE129: =IF(N129="základní",J129,0) -> 0 | BF129: =IF(N129="snížená",J129,0) -> 0 | BG129: =IF(N129="zákl. přenesená",J129,0) -> 0 | BH129: =IF(N129="sníž. přenesená",J129,0) -> 0 | BI129: =IF(N129="nulová",J129,0) -> 0 | BJ129: 1 | BK129: =ROUND(I129*H129,2) -> 0 | BL129: 4 | BM129: 40
D130: PSC | F130: Poznámka k souboru cen:_x000D_ 1. V cenách jsou započteny náklady na demontáž a rozebrání kolejového roštu do součástí, manipulaci, naložení výzisku na dopravní prostředek a uložení na úložišti._x000D_ 2. V cenách nejsou obsaženy náklady na dopravu a vytřídění. | AT130: PSC | AU130: 3
C131: 21 | D131: K | E131: 5906135190 | F131: Demontáž kolejového roštu koleje na úložišti pražce betonové tv. S49 "c". Poznámka: 1. V cenách jsou započteny náklady na demontáž a rozebrání kolejového roštu do součástí, manipulaci, naložení výzisku na dopravní prostředek a uložení na úložišti. 2. V cenách nejsou obsaženy náklady na dopravu a vytřídění. | G131: km | H131: 0.288 | J131: =ROUND(I131*H131,2) -> 0 | K131: ÚOŽI 2019 01 | N131: základní | P131: =O131*H131 -> 0 | Q131: 0 | R131: =Q131*H131 -> 0 | S131: 0 | T131: =S131*H131 -> 0 | AR131: 4 | AT131: K | AU131: 3 | AY131: ROZPOCET | BE131: =IF(N131="základní",J131,0) -> 0 | BF131: =IF(N131="snížená",J131,0) -> 0 | BG131: =IF(N131="zákl. přenesená",J131,0) -> 0 | BH131: =IF(N131="sníž. přenesená",J131,0) -> 0 | BI131: =IF(N131="nulová",J131,0) -> 0 | BJ131: 1 | BK131: =ROUND(I131*H131,2) -> 0 | BL131: 4 | BM131: 42
D132: PSC | F132: Poznámka k souboru cen:_x000D_ 1. V cenách jsou započteny náklady na demontáž a rozebrání kolejového roštu do součástí, manipulaci, naložení výzisku na dopravní prostředek a uložení na úložišti._x000D_ 2. V cenách nejsou obsaženy náklady na dopravu a vytřídění. | AT132: PSC | AU132: 3
C133: 22 | D133: K | E133: 5907015035 | F133: Ojedinělá výměna kolejnic stávající upevnění tv. S49 rozdělení "c". Poznámka: 1. V cenách jsou započteny náklady na demontáž upevňovadel, výměnu kolejnic, dílů a součástí, úpravu dilatačních spár, pryžových podložek, montáž upevňovadel, zřízení nebo demontáž prozatímních styků a ošetření součástí mazivem. 2. V cenách nejsou započteny náklady na dělení kolejnic, zřízení svaru, demontáž nebo montáž styků. | G133: m | H133: 160 | J133: =ROUND(I133*H133,2) -> 0 | K133: ÚOŽI 2019 01 | N133: základní | P133: =O133*H133 -> 0 | Q133: 0 | R133: =Q133*H133 -> 0 | S133: 0 | T133: =S133*H133 -> 0 | AR133: 4 | AT133: K | AU133: 3 | AY133: ROZPOCET | BE133: =IF(N133="základní",J133,0) -> 0 | BF133: =IF(N133="snížená",J133,0) -> 0 | BG133: =IF(N133="zákl. přenesená",J133,0) -> 0 | BH133: =IF(N133="sníž. přenesená",J133,0) -> 0 | BI133: =IF(N133="nulová",J133,0) -> 0 | BJ133: 1 | BK133: =ROUND(I133*H133,2) -> 0 | BL133: 4 | BM133: 44
...

Sheet SO 01-10-02.1 - Následná ...
AT2: {dc7180a2-5f77-46ab-b2b1-d1568d2e0db4}
AT3: 2
D4: KRYCÍ LIST SOUPISU PRACÍ | M4: v --- níže se nacházejí doplnkové a pomocné údaje k sestavám --- v | AT4: False
D6: Stavba:
E7: ='Rekapitulace stavby'!K6 -> Oprava traťového úseku Železný Brod - Tanvald
D8: Objekt:
E9: SO 01-10-02.1 - Následná úprava GPK a obnova BK v km 5,590 - km 11,560
D11: KSO: | I11: CC-CZ:
D12: Místo: | I12: Datum: | J12: ='Rekapitulace stavby'!AN8 -> 11. 2. 2019
D14: Zadavatel: | I14: IČ: | J14: =IF('Rekapitulace stavby'!AN10="","",'Rekapitulace stavby'!AN10) -> 70994234
E15: =IF('Rekapitulace stavby'!E11="","",'Rekapitulace stavby'!E11) -> Správa Železniční dopravní cesty, státní organizace | I15: DIČ: | J15: =IF('Rekapitulace stavby'!AN11="","",'Rekapitulace stavby'!AN11) -> CZ70994234
D17: Uchazeč: | I17: IČ: | J17: ='Rekapitulace stavby'!AN13 -> Vyplň údaj
E18: ='Rekapitulace stavby'!E14 -> 0 | I18: DIČ: | J18: ='Rekapitulace stavby'!AN14 -> Vyplň údaj
D20: Projektant: | I20: IČ: | J20: =IF('Rekapitulace stavby'!AN16="","",'Rekapitulace stavby'!AN16) -> 25292161
E21: =IF('Rekapitulace stavby'!E17="","",'Rekapitulace stavby'!E17) -> Prodin a.s. | I21: DIČ: | J21: =IF('Rekapitulace stavby'!AN17="","",'Rekapitulace stavby'!AN17) -> CZ25292161
D23: Zpracovatel: | I23: IČ: | J23: =IF('Rekapitulace stavby'!AN19="","",'Rekapitulace stavby'!AN19) -> 25292161
E24: =IF('Rekapitulace stavby'!E20="","",'Rekapitulace stavby'!E20) -> Prodin a.s. | I24: DIČ: | J24: =IF('Rekapitulace stavby'!AN20="","",'Rekapitulace stavby'!AN20) -> CZ25292161
D26: Poznámka:
D30: Cena bez DPH | J30: =ROUND(J83, 2) -> 0
F32: Základ daně | I32: Sazba daně | J32: Výše daně
D33: DPH | E33: základní | F33: =ROUND((SUM(BE83:BE95)), 2) -> 0 | I33: 0.21 | J33: =ROUND(((SUM(BE83:BE95))*I33), 2) -> 0
E34: snížená | F34: =ROUND((SUM(BF83:BF95)), 2) -> 0 | I34: 0.15 | J34: =ROUND(((SUM(BF83:BF95))*I34), 2) -> 0
E35: zákl. přenesená | F35: =ROUND((SUM(BG83:BG95)), 2) -> 0 | I35: 0.21 | J35: =0 -> 0
E36: sníž. přenesená | F36: =ROUND((SUM(BH83:BH95)), 2) -> 0 | I36: 0.15 | J36: =0 -> 0
E37: nulová | F37: =ROUND((SUM(BI83:BI95)), 2) -> 0 | I37: 0 | J37: =0 -> 0
D39: Cena s DPH | G39: v | H39: CZK | J39: =SUM(J30:J37) -> 0
C45: REKAPITULACE ČLENĚNÍ SOUPISU PRACÍ
C47: Stavba:
E48: =E7 -> Oprava traťového úseku Železný Brod - Tanvald
C49: Objekt:
E50: =E9 -> SO 01-10-02.1 - Následná úprava GPK a obnova BK v km 5,590 - km 11,560
C52: Místo: | F52: =F12 | I52: Datum: | J52: =IF(J12="","",J12) -> 11. 2. 2019
C54: Zadavatel: | F54: =E15 -> Správa Železniční dopravní cesty, státní organizace | I54: Projektant: | J54: =E21 -> Prodin a.s.
C55: Uchazeč: | F55: =IF(E18="","",E18) -> 0 | I55: Zpracovatel: | J55: =E24 -> Prodin a.s.
C57: Kód dílu - Popis | J57: Cena celkem [CZK]
C59: Náklady stavby celkem | J59: =J83 -> 0 | AU59: -1
D60: HSV - Práce a dodávky HSV | J60: =J84 -> 0
D61: Položky dle ÚOŽI - 2019 | J61: =J85 -> 0
D62: 5 - Komunikace pozemní | J62: =J86 -> 0
D63: 9 - Ostatní | J63: =J93 -> 0
C70: SOUPIS PRACÍ
C72: Stavba:
E73: =E7 -> Oprava traťového úseku Železný Brod - Tanvald
C74: Objekt:
E75: =E9 -> SO 01-10-02.1 - Následná úprava GPK a obnova BK v km 5,590 - km 11,560
C77: Místo: | F77: =F12 | I77: Datum: | J77: =IF(J12="","",J12) -> 11. 2. 2019
C79: Zadavatel: | F79: =E15 -> Správa Železniční dopravní cesty, státní organizace | I79: Projektant: | J79: =E21 -> Prodin a.s.
C80: Uchazeč: | F80: =IF(E18="","",E18) -> 0 | I80: Zpracovatel: | J80: =E24 -> Prodin a.s.
C82: PČ | D82: Typ | E82: Kód | F82: Popis | G82: MJ | H82: Množství | I82: J.cena [CZK] | J82: Cena celkem [CZK] | K82: Cenová soustava | N82: DPH | O82: J. Nh [h] | P82: Nh celkem [h] | Q82: J. hmotnost [t] | R82: Hmotnost celkem [t] | S82: J. suť [t] | T82: Suť Celkem [t]
C83: Náklady soupisu celkem | J83: =BK83 -> 0 | P83: =P84 -> 0 | R83: =R84 -> 0 | T83: =T84 -> 0 | AT83: D | AU83: -1 | BK83: =BK84 -> 0
D84: D | E84: HSV | F84: Práce a dodávky HSV | J84: =BK84 -> 0 | P84: =P85 -> 0 | R84: =R85 -> 0 | T84: =T85 -> 0 | AR84: 1 | AT84: D | AU84: 0 | AY84: ROZPOCET | BK84: =BK85 -> 0
D85: D | E85: Položky dle ÚOŽI | F85: 2019 | J85: =BK85 -> 0 | P85: =P86+P93 -> 0 | R85: =R86+R93 -> 0 | T85: =T86+T93 -> 0 | AR85: 1 | AT85: D | AU85: 1 | AY85: ROZPOCET | BK85: =BK86+BK93 -> 0
D86: D | E86: 5 | F86: Komunikace pozemní | J86: =BK86 -> 0 | P86: =SUM(P87:P92) -> 0 | R86: =SUM(R87:R92) -> 0 | T86: =SUM(T87:T92) -> 0 | AR86: 1 | AT86: D | AU86: 2 | AY86: ROZPOCET | BK86: =SUM(BK87:BK92) -> 0
C87: 1 | D87: K | E87: 5909030020 | F87: Následná úprava GPK koleje směrové a výškové uspořádání pražce betonové. Poznámka: 1. V cenách jsou započteny náklady na úpravu směrového a výškového uspořádání strojní linkou ASP s přesným zaměřením její prostorové polohy po konsolidaci KL, úpravu KL pluhem a měření mezních stavebních odchylek dle ČSN, měření techologických veličin a předání tištěných výstupů objednateli. 2. V cenách nejsou obsaženy náklady na zaměření APK, doplnění a dodávku kameniva a snížení KL pod patou kolejnice. | G87: km | H87: 1.61 | J87: =ROUND(I87*H87,2) -> 0 | K87: ÚOŽI 2019 01 | N87: základní | P87: =O87*H87 -> 0 | Q87: 0 | R87: =Q87*H87 -> 0 | S87: 0 | T87: =S87*H87 -> 0 | AR87: 4 | AT87: K | AU87: 3 | AY87: ROZPOCET | BE87: =IF(N87="základní",J87,0) -> 0 | BF87: =IF(N87="snížená",J87,0) -> 0 | BG87: =IF(N87="zákl. přenesená",J87,0) -> 0 | BH87: =IF(N87="sníž. přenesená",J87,0) -> 0 | BI87: =IF(N87="nulová",J87,0) -> 0 | BJ87: 1 | BK87: =ROUND(I87*H87,2) -> 0 | BL87: 4 | BM87: 4
D88: PSC | F88: Poznámka k souboru cen:_x000D_ 1. V cenách jsou započteny náklady na úpravu směrového a výškového uspořádání strojní linkou ASP s přesným zaměřením její prostorové polohy po konsolidaci KL, úpravu KL pluhem a měření mezních stavebních odchylek dle ČSN, měření techologických veličin a předání tištěných výstupů objednateli._x000D_ 2. V cenách nejsou obsaženy náklady na zaměření APK, doplnění a dodávku kameniva a snížení KL pod patou kolejnice. | AT88: PSC | AU88: 3
D89: P | F89: Poznámka k položce:_x000D_ Kilometr koleje=km | AT89: P | AU89: 3
C90: 2 | D90: K | E90: 5909030030 | F90: Následná úprava GPK koleje směrové a výškové uspořádání pražce ocelové tv. Y. Poznámka: 1. V cenách jsou započteny náklady na úpravu směrového a výškového uspořádání strojní linkou ASP s přesným zaměřením její prostorové polohy po konsolidaci KL, úpravu KL pluhem a měření mezních stavebních odchylek dle ČSN, měření techologických veličin a předání tištěných výstupů objednateli. 2. V cenách nejsou obsaženy náklady na zaměření APK, doplnění a dodávku kameniva a snížení KL pod patou kolejnice. | G90: km | H90: 4.356 | J90: =ROUND(I90*H90,2) -> 0 | K90: ÚOŽI 2019 01 | N90: základní | P90: =O90*H90 -> 0 | Q90: 0 | R90: =Q90*H90 -> 0 | S90: 0 | T90: =S90*H90 -> 0 | AR90: 4 | AT90: K | AU90: 3 | AY90: ROZPOCET | BE90: =IF(N90="základní",J90,0) -> 0 | BF90: =IF(N90="snížená",J90,0) -> 0 | BG90: =IF(N90="zákl. přenesená",J90,0) -> 0 | BH90: =IF(N90="sníž. přenesená",J90,0) -> 0 | BI90: =IF(N90="nulová",J90,0) -> 0 | BJ90: 1 | BK90: =ROUND(I90*H90,2) -> 0 | BL90: 4 | BM90: 6
D91: PSC | F91: Poznámka k souboru cen:_x000D_ 1. V cenách jsou započteny náklady na úpravu směrového a výškového uspořádání strojní linkou ASP s přesným zaměřením její prostorové polohy po konsolidaci KL, úpravu KL pluhem a měření mezních stavebních odchylek dle ČSN, měření techologických veličin a předání tištěných výstupů objednateli._x000D_ 2. V cenách nejsou obsaženy náklady na zaměření APK, doplnění a dodávku kameniva a snížení KL pod patou kolejnice. | AT91: PSC | AU91: 3
D92: P | F92: Poznámka k položce:_x000D_ Kilometr koleje=km | AT92: P | AU92: 3
D93: D | E93: 9 | F93: Ostatní | J93: =BK93 -> 0 | P93: =SUM(P94:P95) -> 0 | R93: =SUM(R94:R95) -> 0 | T93: =SUM(T94:T95) -> 0 | AR93: 1 | AT93: D | AU93: 2 | AY93: ROZPOCET | BK93: =SUM(BK94:BK95) -> 0
C94: 3 | D94: K | E94: 9903200100 | F94: Přeprava mechanizace na místo prováděných prací o hmotnosti přes 12 t přes 50 do 100 km Poznámka: Ceny jsou určeny pro dopravu mechanizmů na místo prováděných prací po silnici i po kolejích.V ceně jsou započteny i náklady na zpáteční cestu dopravního prostředku. Měrnou jednotkou je kus přepravovaného stroje. | G94: kus | H94: 2 | J94: =ROUND(I94*H94,2) -> 0 | K94: ÚOŽI 2019 01 | N94: základní | P94: =O94*H94 -> 0 | Q94: 0 | R94: =Q94*H94 -> 0 | S94: 0 | T94: =S94*H94 -> 0 | AR94: 4 | AT94: K | AU94: 3 | AY94: ROZPOCET | BE94: =IF(N94="základní",J94,0) -> 0 | BF94: =IF(N94="snížená",J94,0) -> 0 | BG94: =IF(N94="zákl. přenesená",J94,0) -> 0 | BH94: =IF(N94="sníž. přenesená",J94,0) -> 0 | BI94: =IF(N94="nulová",J94,0) -> 0 | BJ94: 1 | BK94: =ROUND(I94*H94,2) -> 0 | BL94: 4 | BM94: 14
D95: PSC | F95: Poznámka k souboru cen:_x000D_ Ceny jsou určeny pro dopravu mechanizmů na místo prováděných prací po silnici i po kolejích.V ceně jsou započteny i náklady na zpáteční cestu dopravního prostředku. Měrnou jednotkou je kus přepravovaného stroje. | AT95: PSC | AU95: 3

Sheet SO 01-10-03 - Železniční ...
AT2: {51dcfd11-d90f-4f26-a20c-bcf4978c43c0}
AT3: 2
D4: KRYCÍ LIST SOUPISU PRACÍ | M4: v --- níže se nacházejí doplnkové a pomocné údaje k sestavám --- v | AT4: False
D6: Stavba:
E7: ='Rekapitulace stavby'!K6 -> Oprava traťového úseku Železný Brod - Tanvald
D8: Objekt:
E9: SO 01-10-03 - Železniční svršek, km 11,560 - 13,149
D11: KSO: | I11: CC-CZ:
D12: Místo: | I12: Datum: | J12: ='Rekapitulace stavby'!AN8 -> 11. 2. 2019
D14: Zadavatel: | I14: IČ: | J14: =IF('Rekapitulace stavby'!AN10="","",'Rekapitulace stavby'!AN10) -> 70994234
E15: =IF('Rekapitulace stavby'!E11="","",'Rekapitulace stavby'!E11) -> Správa Železniční dopravní cesty, státní organizace | I15: DIČ: | J15: =IF('Rekapitulace stavby'!AN11="","",'Rekapitulace stavby'!AN11) -> CZ70994234
D17: Uchazeč: | I17: IČ: | J17: ='Rekapitulace stavby'!AN13 -> Vyplň údaj
E18: ='Rekapitulace stavby'!E14 -> 0 | I18: DIČ: | J18: ='Rekapitulace stavby'!AN14 -> Vyplň údaj
D20: Projektant: | I20: IČ: | J20: =IF('Rekapitulace stavby'!AN16="","",'Rekapitulace stavby'!AN16) -> 25292161
E21: =IF('Rekapitulace stavby'!E17="","",'Rekapitulace stavby'!E17) -> Prodin a.s. | I21: DIČ: | J21: =IF('Rekapitulace stavby'!AN17="","",'Rekapitulace stavby'!AN17) -> CZ25292161
D23: Zpracovatel: | I23: IČ: | J23: =IF('Rekapitulace stavby'!AN19="","",'Rekapitulace stavby'!AN19) -> 25292161
E24: =IF('Rekapitulace stavby'!E20="","",'Rekapitulace stavby'!E20) -> Prodin a.s. | I24: DIČ: | J24: =IF('Rekapitulace stavby'!AN20="","",'Rekapitulace stavby'!AN20) -> CZ25292161
D26: Poznámka:
D30: Cena bez DPH | J30: =ROUND(J87, 2) -> 0
F32: Základ daně | I32: Sazba daně | J32: Výše daně
D33: DPH | E33: základní | F33: =ROUND((SUM(BE87:BE255)), 2) -> 0 | I33: 0.21 | J33: =ROUND(((SUM(BE87:BE255))*I33), 2) -> 0
E34: snížená | F34: =ROUND((SUM(BF87:BF255)), 2) -> 0 | I34: 0.15 | J34: =ROUND(((SUM(BF87:BF255))*I34), 2) -> 0
E35: zákl. přenesená | F35: =ROUND((SUM(BG87:BG255)), 2) -> 0 | I35: 0.21 | J35: =0 -> 0
E36: sníž. přenesená | F36: =ROUND((SUM(BH87:BH255)), 2) -> 0 | I36: 0.15 | J36: =0 -> 0
E37: nulová | F37: =ROUND((SUM(BI87:BI255)), 2) -> 0 | I37: 0 | J37: =0 -> 0
D39: Cena s DPH | G39: v | H39: CZK | J39: =SUM(J30:J37) -> 0
C45: REKAPITULACE ČLENĚNÍ SOUPISU PRACÍ
C47: Stavba:
E48: =E7 -> Oprava traťového úseku Železný Brod - Tanvald
C49: Objekt:
E50: =E9 -> SO 01-10-03 - Železniční svršek, km 11,560 - 13,149
C52: Místo: | F52: =F12 | I52: Datum: | J52: =IF(J12="","",J12) -> 11. 2. 2019
C54: Zadavatel: | F54: =E15 -> Správa Železniční dopravní cesty, státní organizace | I54: Projektant: | J54: =E21 -> Prodin a.s.
C55: Uchazeč: | F55: =IF(E18="","",E18) -> 0 | I55: Zpracovatel: | J55: =E24 -> Prodin a.s.
C57: Kód dílu - Popis | J57: Cena celkem [CZK]
C59: Náklady stavby celkem | J59: =J87 -> 0 | AU59: -1
D60: HSV - Práce a dodávky HSV | J60: =J88 -> 0
D61: Položky dle ÚOŽI - 2019 | J61: =J89 -> 0
D62: 5 - Komunikace pozemní | J62: =J90 -> 0
D63: 9 - Ostatní | J63: =J195 -> 0
D64: Položky dle ÚRS - 2019 | J64: =J247 -> 0
D65: 1 - Zemní práce | J65: =J248 -> 0
D66: Položky R: - Položky "R": | J66: =J253 -> 0
D67: 90 - Ostatní | J67: =J254 -> 0
C74: SOUPIS PRACÍ
C76: Stavba:
E77: =E7 -> Oprava traťového úseku Železný Brod - Tanvald
C78: Objekt:
E79: =E9 -> SO 01-10-03 - Železniční svršek, km 11,560 - 13,149
C81: Místo: | F81: =F12 | I81: Datum: | J81: =IF(J12="","",J12) -> 11. 2. 2019
C83: Zadavatel: | F83: =E15 -> Správa Železniční dopravní cesty, státní organizace | I83: Projektant: | J83: =E21 -> Prodin a.s.
C84: Uchazeč: | F84: =IF(E18="","",E18) -> 0 | I84: Zpracovatel: | J84: =E24 -> Prodin a.s.
C86: PČ | D86: Typ | E86: Kód | F86: Popis | G86: MJ | H86: Množství | I86: J.cena [CZK] | J86: Cena celkem [CZK] | K86: Cenová soustava | N86: DPH | O86: J. Nh [h] | P86: Nh celkem [h] | Q86: J. hmotnost [t] | R86: Hmotnost celkem [t] | S86: J. suť [t] | T86: Suť Celkem [t]
C87: Náklady soupisu celkem | J87: =BK87 -> 0 | P87: =P88 -> 0 | R87: =R88 -> 4349.785 | T87: =T88 -> 0 | AT87: D | AU87: -1 | BK87: =BK88 -> 0
D88: D | E88: HSV | F88: Práce a dodávky HSV | J88: =BK88 -> 0 | P88: =P89+P247+P253 -> 0 | R88: =R89+R247+R253 -> 4349.785 | T88: =T89+T247+T253 -> 0 | AR88: 1 | AT88: D | AU88: 0 | AY88: ROZPOCET | BK88: =BK89+BK247+BK253 -> 0
D89: D | E89: Položky dle ÚOŽI | F89: 2019 | J89: =BK89 -> 0 | P89: =P90+P195 -> 0 | R89: =R90+R195 -> 4349.785 | T89: =T90+T195 -> 0 | AR89: 1 | AT89: D | AU89: 1 | AY89: ROZPOCET | BK89: =BK90+BK195 -> 0
D90: D | E90: 5 | F90: Komunikace pozemní | J90: =BK90 -> 0 | P90: =SUM(P91:P194) -> 0 | R90: =SUM(R91:R194) -> 4349.785 | T90: =SUM(T91:T194) -> 0 | AR90: 1 | AT90: D | AU90: 2 | AY90: ROZPOCET | BK90: =SUM(BK91:BK194) -> 0
C91: 1 | D91: K | E91: 5905020010 | F91: Oprava stezky strojně s odstraněním drnu a nánosu do 10 cm. Poznámka: 1. V cenách jsou započteny náklady na odtěžení nánosu stezky a rozprostření výzisku na terén nebo naložení na dopravní prostředek a úprava povrchu stezky. | G91: m2 | H91: 1272 | J91: =ROUND(I91*H91,2) -> 0 | K91: ÚOŽI 2019 01 | N91: základní | P91: =O91*H91 -> 0 | Q91: 0 | R91: =Q91*H91 -> 0 | S91: 0 | T91: =S91*H91 -> 0 | AR91: 4 | AT91: K | AU91: 3 | AY91: ROZPOCET | BE91: =IF(N91="základní",J91,0) -> 0 | BF91: =IF(N91="snížená",J91,0) -> 0 | BG91: =IF(N91="zákl. přenesená",J91,0) -> 0 | BH91: =IF(N91="sníž. přenesená",J91,0) -> 0 | BI91: =IF(N91="nulová",J91,0) -> 0 | BJ91: 1 | BK91: =ROUND(I91*H91,2) -> 0 | BL91: 4 | BM91: 2
D92: PSC | F92: Poznámka k souboru cen:_x000D_ 1. V cenách jsou započteny náklady na odtěžení nánosu stezky a rozprostření výzisku na terén nebo naložení na dopravní prostředek a úprava povrchu stezky. | AT92: PSC | AU92: 3
C93: 2 | D93: K | E93: 5905035110 | F93: Výměna KL malou těžící mechanizací včetně lavičky lože otevřené. Poznámka: 1. V cenách jsou započteny náklady na odtěžení KL s použitím minirypadla, rozprostření výzisku na terén nebo naložení na dopravní prostředek, přehození kameniva, úprava KL do profilu a jeho případné snížení pod patou kolejnice. U výměny KL v celém profilu je v ceně započteno případné uvolnění, posun a dotažení pražce. 2. V cenách nejsou obsaženy náklady na podbití pražce, dodávku a doplnění kameniva. | G93: m3 | H93: 154 | J93: =ROUND(I93*H93,2) -> 0 | K93: ÚOŽI 2019 01 | N93: základní | P93: =O93*H93 -> 0 | Q93: 0 | R93: =Q93*H93 -> 0 | S93: 0 | T93: =S93*H93 -> 0 | AR93: 4 | AT93: K | AU93: 3 | AY93: ROZPOCET | BE93: =IF(N93="základní",J93,0) -> 0 | BF93: =IF(N93="snížená",J93,0) -> 0 | BG93: =IF(N93="zákl. přenesená",J93,0) -> 0 | BH93: =IF(N93="sníž. přenesená",J93,0) -> 0 | BI93: =IF(N93="nulová",J93,0) -> 0 | BJ93: 1 | BK93: =ROUND(I93*H93,2) -> 0 | BL93: 4 | BM93: 4
D94: PSC | F94: Poznámka k souboru cen:_x000D_ 1. V cenách jsou započteny náklady na odtěžení KL s použitím minirypadla, rozprostření výzisku na terén nebo naložení na dopravní prostředek, přehození kameniva, úprava KL do profilu a jeho případné snížení pod patou kolejnice. U výměny KL v celém profilu je v ceně započteno případné uvolnění, posun a dotažení pražce._x000D_ 2. V cenách nejsou obsaženy náklady na podbití pražce, dodávku a doplnění kameniva. | AT94: PSC | AU94: 3
C95: 3 | D95: K | E95: 5905070010 | F95: Odsunutí koleje od osy do 0,50 m. Poznámka: 1. V cenách jsou započteny náklady na odstranění kameniva za hlavami, podél pražců a odsun koleje od osy. | G95: m | H95: 130 | J95: =ROUND(I95*H95,2) -> 0 | K95: ÚOŽI 2019 01 | N95: základní | P95: =O95*H95 -> 0 | Q95: 0 | R95: =Q95*H95 -> 0 | S95: 0 | T95: =S95*H95 -> 0 | AR95: 4 | AT95: K | AU95: 3 | AY95: ROZPOCET | BE95: =IF(N95="základní",J95,0) -> 0 | BF95: =IF(N95="snížená",J95,0) -> 0 | BG95: =IF(N95="zákl. přenesená",J95,0) -> 0 | BH95: =IF(N95="sníž. přenesená",J95,0) -> 0 | BI95: =IF(N95="nulová",J95,0) -> 0 | BJ95: 1 | BK95: =ROUND(I95*H95,2) -> 0 | BL95: 4 | BM95: 6
D96: PSC | F96: Poznámka k souboru cen:_x000D_ 1. V cenách jsou započteny náklady na odstranění kameniva za hlavami, podél pražců a odsun koleje od osy. | AT96: PSC | AU96: 3
C97: 4 | D97: K | E97: 5905085040 | F97: Souvislé čištění KL strojně koleje pražce betonové rozdělení "c". Poznámka: 1. V cenách jsou započteny náklady na kontinuální čištění KL strojní čističkou, případné vložení geosyntetika, rozprostření výzisku na terén nebo naložení na dopravní prostředek, zdvih, úpravu směrového a výškového uspořádání včetně měření mezních stavebních odchylek dle ČSN a technologických veličin, předání tištěných výstupů a úpravu KL do profilu. Platí i pro čištění KL současně s výměnou pražců. 2. V cenách nejsou obsaženy náklady na snížení KL pod patou kolejnice, následnou úpravu směrového a výškového uspořádání dodávku a doplnění kameniva. | G97: km | H97: 1.574 | J97: =ROUND(I97*H97,2) -> 0 | K97: ÚOŽI 2019 01 | N97: základní | P97: =O97*H97 -> 0 | Q97: 0 | R97: =Q97*H97 -> 0 | S97: 0 | T97: =S97*H97 -> 0 | AR97: 4 | AT97: K | AU97: 3 | AY97: ROZPOCET | BE97: =IF(N97="základní",J97,0) -> 0 | BF97: =IF(N97="snížená",J97,0) -> 0 | BG97: =IF(N97="zákl. přenesená",J97,0) -> 0 | BH97: =IF(N97="sníž. přenesená",J97,0) -> 0 | BI97: =IF(N97="nulová",J97,0) -> 0 | BJ97: 1 | BK97: =ROUND(I97*H97,2) -> 0 | BL97: 4 | BM97: 8
D98: PSC | F98: Poznámka k souboru cen:_x000D_ 1. V cenách jsou započteny náklady na kontinuální čištění KL strojní čističkou, případné vložení geosyntetika, rozprostření výzisku na terén nebo naložení na dopravní prostředek, zdvih, úpravu směrového a výškového uspořádání včetně měření mezních stavebních odchylek dle ČSN a technologických veličin, předání tištěných výstupů a úpravu KL do profilu. Platí i pro čištění KL současně s výměnou pražců._x000D_ 2. V cenách nejsou obsaženy náklady na snížení KL pod patou kolejnice, následnou úpravu směrového a výškového uspořádání dodávku a doplnění kameniva. | AT98: PSC | AU98: 3
C99: 5 | D99: K | E99: 5905105030 | F99: Doplnění KL kamenivem souvisle strojně v koleji. Poznámka: 1. V cenách jsou započteny náklady na doplnění kameniva ojediněle ručně vidlemi a/nebo souvisle strojně z výsypných vozů případně nakladačem. 2. V cenách nejsou obsaženy náklady na dodávku kameniva. | G99: m3 | H99: 2116.29 | J99: =ROUND(I99*H99,2) -> 0 | K99: ÚOŽI 2019 01 | N99: základní | P99: =O99*H99 -> 0 | Q99: 0 | R99: =Q99*H99 -> 0 | S99: 0 | T99: =S99*H99 -> 0 | AR99: 4 | AT99: K | AU99: 3 | AY99: ROZPOCET | BE99: =IF(N99="základní",J99,0) -> 0 | BF99: =IF(N99="snížená",J99,0) -> 0 | BG99: =IF(N99="zákl. přenesená",J99,0) -> 0 | BH99: =IF(N99="sníž. přenesená",J99,0) -> 0 | BI99: =IF(N99="nulová",J99,0) -> 0 | BJ99: 1 | BK99: =ROUND(I99*H99,2) -> 0 | BL99: 4 | BM99: 10
D100: PSC | F100: Poznámka k souboru cen:_x000D_ 1. V cenách jsou započteny náklady na doplnění kameniva ojediněle ručně vidlemi a/nebo souvisle strojně z výsypných vozů případně nakladačem._x000D_ 2. V cenách nejsou obsaženy náklady na dodávku kameniva. | AT100: PSC | AU100: 3
C101: 6 | D101: M | E101: 5955101000 | F101: Kamenivo drcené štěrk frakce 31,5/63 třídy BI | G101: t | H101: 4306.333 | J101: =ROUND(I101*H101,2) -> 0 | K101: ÚOŽI 2019 01 | N101: základní | P101: =O101*H101 -> 0 | Q101: 1 | R101: =Q101*H101 -> 4306.333 | S101: 0 | T101: =S101*H101 -> 0 | AR101: 8 | AT101: M | AU101: 3 | AY101: ROZPOCET | BE101: =IF(N101="základní",J101,0) -> 0 | BF101: =IF(N101="snížená",J101,0) -> 0 | BG101: =IF(N101="zákl. přenesená",J101,0) -> 0 | BH101: =IF(N101="sníž. přenesená",J101,0) -> 0 | BI101: =IF(N101="nulová",J101,0) -> 0 | BJ101: 1 | BK101: =ROUND(I101*H101,2) -> 0 | BL101: 4 | BM101: 12
C102: 7 | D102: K | E102: 5905110010 | F102: Snížení KL pod patou kolejnice v koleji. Poznámka: 1. V cenách jsou započteny náklady na snížení KL pod patou kolejnice ručně vidlemi. 2. V cenách nejsou obsaženy náklady na doplnění a dodávku kameniva. | G102: km | H102: 1.574 | J102: =ROUND(I102*H102,2) -> 0 | K102: ÚOŽI 2019 01 | N102: základní | P102: =O102*H102 -> 0 | Q102: 0 | R102: =Q102*H102 -> 0 | S102: 0 | T102: =S102*H102 -> 0 | AR102: 4 | AT102: K | AU102: 3 | AY102: ROZPOCET | BE102: =IF(N102="základní",J102,0) -> 0 | BF102: =IF(N102="snížená",J102,0) -> 0 | BG102: =IF(N102="zákl. přenesená",J102,0) -> 0 | BH102: =IF(N102="sníž. přenesená",J102,0) -> 0 | BI102: =IF(N102="nulová",J102,0) -> 0 | BJ102: 1 | BK102: =ROUND(I102*H102,2) -> 0 | BL102: 4 | BM102: 14
D103: PSC | F103: Poznámka k souboru cen:_x000D_ 1. V cenách jsou započteny náklady na snížení KL pod patou kolejnice ručně vidlemi._x000D_ 2. V cenách nejsou obsaženy náklady na doplnění a dodávku kameniva. | AT103: PSC | AU103: 3
D104: P | F104: Poznámka k položce:_x000D_ Kilometr koleje=km | AT104: P | AU104: 3
C105: 8 | D105: K | E105: 5906110020 | F105: Oprava rozdělení pražců příčných betonových posun přes 10 cm. Poznámka: 1. V cenách jsou započteny náklady na uvolnění upevňovadel, odstranění kameniva v míře dostatečné pro posun pražce, jeho posunutí, dotažení upevňovadel, dohození a úprava KL. 2. V cenách nejsou obsaženy náklady na podbití pražce, doplnění a dodávku kameniva. | G105: kus | H105: 220 | J105: =ROUND(I105*H105,2) -> 0 | K105: ÚOŽI 2019 01 | N105: základní | P105: =O105*H105 -> 0 | Q105: 0 | R105: =Q105*H105 -> 0 | S105: 0 | T105: =S105*H105 -> 0 | AR105: 4 | AT105: K | AU105: 3 | AY105: ROZPOCET | BE105: =IF(N105="základní",J105,0) -> 0 | BF105: =IF(N105="snížená",J105,0) -> 0 | BG105: =IF(N105="zákl. přenesená",J105,0) -> 0 | BH105: =IF(N105="sníž. přenesená",J105,0) -> 0 | BI105: =IF(N105="nulová",J105,0) -> 0 | BJ105: 1 | BK105: =ROUND(I105*H105,2) -> 0 | BL105: 4 | BM105: 16
D106: PSC | F106: Poznámka k souboru cen:_x000D_ 1. V cenách jsou započteny náklady na uvolnění upevňovadel, odstranění kameniva v míře dostatečné pro posun pražce, jeho posunutí, dotažení upevňovadel, dohození a úprava KL._x000D_ 2. V cenách nejsou obsaženy náklady na podbití pražce, doplnění a dodávku kameniva. | AT106: PSC | AU106: 3
C107: 9 | D107: K | E107: 5906125360 | F107: Montáž kolejového roštu na úložišti pražce betonové vystrojené tv. S49 rozdělení "c". Poznámka: 1. V cenách jsou započteny náklady na úpravu plochy pro montáž, vrtání pražců dřevěných nevystrojených, manipulaci a montáž KR. 2. V cenách nejsou obsaženy náklady na dodávku materiálu. | G107: km | H107: 0.253 | J107: =ROUND(I107*H107,2) -> 0 | K107: ÚOŽI 2019 01 | N107: základní | P107: =O107*H107 -> 0 | Q107: 0 | R107: =Q107*H107 -> 0 | S107: 0 | T107: =S107*H107 -> 0 | AR107: 4 | AT107: K | AU107: 3 | AY107: ROZPOCET | BE107: =IF(N107="základní",J107,0) -> 0 | BF107: =IF(N107="snížená",J107,0) -> 0 | BG107: =IF(N107="zákl. přenesená",J107,0) -> 0 | BH107: =IF(N107="sníž. přenesená",J107,0) -> 0 | BI107: =IF(N107="nulová",J107,0) -> 0 | BJ107: 1 | BK107: =ROUND(I107*H107,2) -> 0 | BL107: 4 | BM107: 18
D108: PSC | F108: Poznámka k souboru cen:_x000D_ 1. V cenách jsou započteny náklady na úpravu plochy pro montáž, vrtání pražců dřevěných nevystrojených, manipulaci a montáž KR._x000D_ 2. V cenách nejsou obsaženy náklady na dodávku materiálu. | AT108: PSC | AU108: 3
C109: 10 | D109: M | E109: 5957201010 | F109: Kolejnice užité tv. S49 | G109: m | H109: 506 | I109: 0 | J109: =ROUND(I109*H109,2) -> 0 | K109: ÚOŽI 2019 01 | N109: základní | P109: =O109*H109 -> 0 | Q109: 0 | R109: =Q109*H109 -> 0 | S109: 0 | T109: =S109*H109 -> 0 | AR109: 8 | AT109: M | AU109: 3 | AY109: ROZPOCET | BE109: =IF(N109="základní",J109,0) -> 0 | BF109: =IF(N109="snížená",J109,0) -> 0 | BG109: =IF(N109="zákl. přenesená",J109,0) -> 0 | BH109: =IF(N109="sníž. přenesená",J109,0) -> 0 | BI109: =IF(N109="nulová",J109,0) -> 0 | BJ109: 1 | BK109: =ROUND(I109*H109,2) -> 0 | BL109: 4 | BM109: 20
D110: P | F110: Poznámka k položce:_x000D_ viz výkaz výměr. DODÁVKA MATERIÁLU SŽDC, S.O. - POLOŽKU NEOCEŇOVAT!!! | AT110: P | AU110: 3
C111: 11 | D111: M | E111: 5956213065 | F111: Pražec betonový příčný vystrojený užitý tv. SB 8 P | G111: kus | H111: 384 | I111: 0 | J111: =ROUND(I111*H111,2) -> 0 | K111: ÚOŽI 2019 01 | N111: základní | P111: =O111*H111 -> 0 | Q111: 0 | R111: =Q111*H111 -> 0 | S111: 0 | T111: =S111*H111 -> 0 | AR111: 8 | AT111: M | AU111: 3 | AY111: ROZPOCET | BE111: =IF(N111="základní",J111,0) -> 0 | BF111: =IF(N111="snížená",J111,0) -> 0 | BG111: =IF(N111="zákl. přenesená",J111,0) -> 0 | BH111: =IF(N111="sníž. přenesená",J111,0) -> 0 | BI111: =IF(N111="nulová",J111,0) -> 0 | BJ111: 1 | BK111: =ROUND(I111*H111,2) -> 0 | BL111: 4 | BM111: 22
D112: P | F112: Poznámka k položce:_x000D_ viz výkaz výměr. DODÁVKA MATERIÁLU SŽDC, S.O. - POLOŽKU NEOCEŇOVAT!!! | AT112: P | AU112: 3
C113: 12 | D113: M | E113: 5958128005 | F113: Komplety Skl 24 (šroub RS 0, matice M 22, podložka Uls 6) | G113: kus | H113: 1432 | I113: 0 | J113: =ROUND(I113*H113,2) -> 0 | K113: ÚOŽI 2019 01 | N113: základní | P113: =O113*H113 -> 0 | Q113: 0.00111 | R113: =Q113*H113 -> 1.58952 | S113: 0 | T113: =S113*H113 -> 0 | AR113: 8 | AT113: M | AU113: 3 | AY113: ROZPOCET | BE113: =IF(N113="základní",J113,0) -> 0 | BF113: =IF(N113="snížená",J113,0) -> 0 | BG113: =IF(N113="zákl. přenesená",J113,0) -> 0 | BH113: =IF(N113="sníž. přenesená",J113,0) -> 0 | BI113: =IF(N113="nulová",J113,0) -> 0 | BJ113: 1 | BK113: =ROUND(I113*H113,2) -> 0 | BL113: 4 | BM113: 24
D114: P | F114: Poznámka k položce:_x000D_ DODÁVKA MATERIÁLU SŽDC, S.O. - POLOŽKU NEOCEŇOVAT!!! | AT114: P | AU114: 3
C115: 13 | D115: M | E115: 5958125005 | F115: Komplety s antikorozní úpravou Skl 24 (svěrka Skl24, šroub RS0, matice M22, podložka Uls6) | G115: kus | H115: 104 | I115: 0 | J115: =ROUND(I115*H115,2) -> 0 | K115: ÚOŽI 2019 01 | N115: základní | P115: =O115*H115 -> 0 | Q115: 0.00111 | R115: =Q115*H115 -> 0.11544 | S115: 0 | T115: =S115*H115 -> 0 | AR115: 8 | AT115: M | AU115: 3 | AY115: ROZPOCET | BE115: =IF(N115="základní",J115,0) -> 0 | BF115: =IF(N115="snížená",J115,0) -> 0 | BG115: =IF(N115="zákl. přenesená",J115,0) -> 0 | BH115: =IF(N115="sníž. přenesená",J115,0) -> 0 | BI115: =IF(N115="nulová",J115,0) -> 0 | BJ115: 1 | BK115: =ROUND(I115*H115,2) -> 0 | BL115: 4 | BM115: 26
D116: P | F116: Poznámka k položce:_x000D_ DODÁVKA MATERIÁLU SŽDC, S.O. - POLOŽKU NEOCEŇOVAT!!! | AT116: P | AU116: 3
C117: 14 | D117: M | E117: 5958158005 | F117: Podložka pryžová pod patu kolejnice S49 183/126/6 | G117: kus | H117: 768 | I117: 0 | J117: =ROUND(I117*H117,2) -> 0 | K117: ÚOŽI 2019 01 | N117: základní | P117: =O117*H117 -> 0 | Q117: 0.00018 | R117: =Q117*H117 -> 0.13824 | S117: 0 | T117: =S117*H117 -> 0 | AR117: 8 | AT117: M | AU117: 3 | AY117: ROZPOCET | BE117: =IF(N117="základní",J117,0) -> 0 | BF117: =IF(N117="snížená",J117,0) -> 0 | BG117: =IF(N117="zákl. přenesená",J117,0) -> 0 | BH117: =IF(N117="sníž. přenesená",J117,0) -> 0 | BI117: =IF(N117="nulová",J117,0) -> 0 | BJ117: 1 | BK117: =ROUND(I117*H117,2) -> 0 | BL117: 4 | BM117: 28
D118: P | F118: Poznámka k položce:_x000D_ DODÁVKA MATERIÁLU SŽDC, S.O. - POLOŽKU NEOCEŇOVAT!!! | AT118: P | AU118: 3
C119: 15 | D119: K | E119: 5906135070 | F119: Demontáž kolejového roštu koleje na úložišti pražce dřevěné tv. S49 rozdělení "c". Poznámka: 1. V cenách jsou započteny náklady na demontáž a rozebrání kolejového roštu do součástí, manipulaci, naložení výzisku na dopravní prostředek a uložení na úložišti. 2. V cenách nejsou obsaženy náklady na dopravu a vytřídění. | G119: km | H119: 0.222 | J119: =ROUND(I119*H119,2) -> 0 | K119: ÚOŽI 2019 01 | N119: základní | P119: =O119*H119 -> 0 | Q119: 0 | R119: =Q119*H119 -> 0 | S119: 0 | T119: =S119*H119 -> 0 | AR119: 4 | AT119: K | AU119: 3 | AY119: ROZPOCET | BE119: =IF(N119="základní",J119,0) -> 0 | BF119: =IF(N119="snížená",J119,0) -> 0 | BG119: =IF(N119="zákl. přenesená",J119,0) -> 0 | BH119: =IF(N119="sníž. přenesená",J119,0) -> 0 | BI119: =IF(N119="nulová",J119,0) -> 0 | BJ119: 1 | BK119: =ROUND(I119*H119,2) -> 0 | BL119: 4 | BM119: 30
D120: PSC | F120: Poznámka k souboru cen:_x000D_ 1. V cenách jsou započteny náklady na demontáž a rozebrání kolejového roštu do součástí, manipulaci, naložení výzisku na dopravní prostředek a uložení na úložišti._x000D_ 2. V cenách nejsou obsaženy náklady na dopravu a vytřídění. | AT120: PSC | AU120: 3
C121: 16 | D121: K | E121: 5906135190 | F121: Demontáž kolejového roštu koleje na úložišti pražce betonové tv. S49 "c". Poznámka: 1. V cenách jsou započteny náklady na demontáž a rozebrání kolejového roštu do součástí, manipulaci, naložení výzisku na dopravní prostředek a uložení na úložišti. 2. V cenách nejsou obsaženy náklady na dopravu a vytřídění. | G121: km | H121: 0.031 | J121: =ROUND(I121*H121,2) -> 0 | K121: ÚOŽI 2019 01 | N121: základní | P121: =O121*H121 -> 0 | Q121: 0 | R121: =Q121*H121 -> 0 | S121: 0 | T121: =S121*H121 -> 0 | AR121: 4 | AT121: K | AU121: 3 | AY121: ROZPOCET | BE121: =IF(N121="základní",J121,0) -> 0 | BF121: =IF(N121="snížená",J121,0) -> 0 | BG121: =IF(N121="zákl. přenesená",J121,0) -> 0 | BH121: =IF(N121="sníž. přenesená",J121,0) -> 0 | BI121: =IF(N121="nulová",J121,0) -> 0 | BJ121: 1 | BK121: =ROUND(I121*H121,2) -> 0 | BL121: 4 | BM121: 32
D122: PSC | F122: Poznámka k souboru cen:_x000D_ 1. V cenách jsou započteny náklady na demontáž a rozebrání kolejového roštu do součástí, manipulaci, naložení výzisku na dopravní prostředek a uložení na úložišti._x000D_ 2. V cenách nejsou obsaženy náklady na dopravu a vytřídění. | AT122: PSC | AU122: 3
C123: 17 | D123: K | E123: 5907015035 | F123: Ojedinělá výměna kolejnic stávající upevnění tv. S49 rozdělení "c". Poznámka: 1. V cenách jsou započteny náklady na demontáž upevňovadel, výměnu kolejnic, dílů a součástí, úpravu dilatačních spár, pryžových podložek, montáž upevňovadel, zřízení nebo demontáž prozatímních styků a ošetření součástí mazivem. 2. V cenách nejsou započteny náklady na dělení kolejnic, zřízení svaru, demontáž nebo montáž styků. | G123: m | H123: 140 | J123: =ROUND(I123*H123,2) -> 0 | K123: ÚOŽI 2019 01 | N123: základní | P123: =O123*H123 -> 0 | Q123: 0 | R123: =Q123*H123 -> 0 | S123: 0 | T123: =S123*H123 -> 0 | AR123: 4 | AT123: K | AU123: 3 | AY123: ROZPOCET | BE123: =IF(N123="základní",J123,0) -> 0 | BF123: =IF(N123="snížená",J123,0) -> 0 | BG123: =IF(N123="zákl. přenesená",J123,0) -> 0 | BH123: =IF(N123="sníž. přenesená",J123,0) -> 0 | BI123: =IF(N123="nulová",J123,0) -> 0 | BJ123: 1 | BK123: =ROUND(I123*H123,2) -> 0 | BL123: 4 | BM123: 34
D124: PSC | F124: Poznámka k souboru cen:_x000D_ 1. V cenách jsou započteny náklady na demontáž upevňovadel, výměnu kolejnic, dílů a součástí, úpravu dilatačních spár, pryžových podložek, montáž upevňovadel, zřízení nebo demontáž prozatímních styků a ošetření součástí mazivem._x000D_ 2. V cenách nejsou započteny náklady na dělení kolejnic, zřízení svaru, demontáž nebo montáž styků. | AT124: PSC | AU124: 3
D125: P | F125: Poznámka k položce:_x000D_ Metr kolejnice=m | AT125: P | AU125: 3
C126: 18 | D126: M | E126: 5957201010 | F126: Kolejnice užité tv. S49 | G126: m | H126: 140 | I126: 0 | J126: =ROUND(I126*H126,2) -> 0 | K126: ÚOŽI 2019 01 | N126: základní | P126: =O126*H126 -> 0 | Q126: 0 | R126: =Q126*H126 -> 0 | S126: 0 | T126: =S126*H126 -> 0 | AR126: 8 | AT126: M | AU126: 3 | AY126: ROZPOCET | BE126: =IF(N126="základní",J126,0) -> 0 | BF126: =IF(N126="snížená",J126,0) -> 0 | BG126: =IF(N126="zákl. přenesená",J126,0) -> 0 | BH126: =IF(N126="sníž. přenesená",J126,0) -> 0 | BI126: =IF(N126="nulová",J126,0) -> 0 | BJ126: 1 | BK126: =ROUND(I126*H126,2) -> 0 | BL126: 4 | BM126: 36
D127: P | F127: Poznámka k položce:_x000D_ viz výkaz výměr. DODÁVKA MATERIÁLU SŽDC, S.O. - POLOŽKU NEOCEŇOVAT!!! | AT127: P | AU127: 3
C128: 19 | D128: K | E128: 5907040030 | F128: Posun kolejnic před svařováním tv. S49. Poznámka: 1. V cenách jsou započteny náklady na přizdvižení a posun kolejnice. Položka se použije v případě krácení deformovaných konců kolejnic před svařováním. 2. V cenách nejsou obsaženy náklady na demontáž a montáž upevňovadel. Položku nelze použít pro posun z důvodu úpravy dilatačních spár před svařováním. | G128: m | H128: 2744.04 | J128: =ROUND(I128*H128,2) -> 0 | K128: ÚOŽI 2019 01 | N128: základní | P128: =O128*H128 -> 0 | Q128: 0 | R128: =Q128*H128 -> 0 | S128: 0 | T128: =S128*H128 -> 0 | AR128: 4 | AT128: K | AU128: 3 | AY128: ROZPOCET | BE128: =IF(N128="základní",J128,0) -> 0 | BF128: =IF(N128="snížená",J128,0) -> 0 | BG128: =IF(N128="zákl. přenesená",J128,0) -> 0 | BH128: =IF(N128="sníž. přenesená",J128,0) -> 0 | BI128: =IF(N128="nulová",J128,0) -> 0 | BJ128: 1 | BK128: =ROUND(I128*H128,2) -> 0 | BL128: 4 | BM128: 38
D129: PSC | F129: Poznámka k souboru cen:_x000D_ 1. V cenách jsou započteny náklady na přizdvižení a posun kolejnice. Položka se použije v případě krácení deformovaných konců kolejnic před svařováním._x000D_ 2. V cenách nejsou obsaženy náklady na demontáž a montáž upevňovadel. Položku nelze použít pro posun z důvodu úpravy dilatačních spár před svařováním. | AT129: PSC | AU129: 3
D130: P | F130: Poznámka k položce:_x000D_ Metr kolejnice=m | AT130: P | AU130: 3
C131: 20 | D131: K | E131: 5907050020 | F131: Dělení kolejnic řezáním nebo rozbroušením tv. S49. Poznámka: 1. V cenách jsou započteny náklady na manipulaci podložení, označení a provedení řezu kolejnice. | G131: kus | H131: 220 | J131: =ROUND(I131*H131,2) -> 0 | K131: ÚOŽI 2019 01 | N131: základní | P131: =O131*H131 -> 0 | Q131: 0 | R131: =Q131*H131 -> 0 | S131: 0 | T131: =S131*H131 -> 0 | AR131: 4 | AT131: K | AU131: 3 | AY131: ROZPOCET | BE131: =IF(N131="základní",J131,0) -> 0 | BF131: =IF(N131="snížená",J131,0) -> 0 | BG131: =IF(N131="zákl. přenesená",J131,0) -> 0 | BH131: =IF(N131="sníž. přenesená",J131,0) -> 0 | BI131: =IF(N131="nulová",J131,0) -> 0 | BJ131: 1 | BK131: =ROUND(I131*H131,2) -> 0 | BL131: 4 | BM131: 40
D132: PSC | F132: Poznámka k souboru cen:_x000D_ 1. V cenách jsou započteny náklady na manipulaci podložení, označení a provedení řezu kolejnice. | AT132: PSC | AU132: 3
D133: P | F133: Poznámka k položce:_x000D_ Řez=kus | AT133: P | AU133: 3
...

Sheet SO 01-10-03.1 - Následná ...
AT2: {e60172b6-f20d-4cef-b49e-d6169a743353}
AT3: 2
D4: KRYCÍ LIST SOUPISU PRACÍ | M4: v --- níže se nacházejí doplnkové a pomocné údaje k sestavám --- v | AT4: False
D6: Stavba:
E7: ='Rekapitulace stavby'!K6 -> Oprava traťového úseku Železný Brod - Tanvald
D8: Objekt:
E9: SO 01-10-03.1 - Následná úprava GPK a obnova BK v km 11,560 - 13,149
D11: KSO: | I11: CC-CZ:
D12: Místo: | I12: Datum: | J12: ='Rekapitulace stavby'!AN8 -> 11. 2. 2019
D14: Zadavatel: | I14: IČ: | J14: =IF('Rekapitulace stavby'!AN10="","",'Rekapitulace stavby'!AN10) -> 70994234
E15: =IF('Rekapitulace stavby'!E11="","",'Rekapitulace stavby'!E11) -> Správa Železniční dopravní cesty, státní organizace | I15: DIČ: | J15: =IF('Rekapitulace stavby'!AN11="","",'Rekapitulace stavby'!AN11) -> CZ70994234
D17: Uchazeč: | I17: IČ: | J17: ='Rekapitulace stavby'!AN13 -> Vyplň údaj
E18: ='Rekapitulace stavby'!E14 -> 0 | I18: DIČ: | J18: ='Rekapitulace stavby'!AN14 -> Vyplň údaj
D20: Projektant: | I20: IČ: | J20: =IF('Rekapitulace stavby'!AN16="","",'Rekapitulace stavby'!AN16) -> 25292161
E21: =IF('Rekapitulace stavby'!E17="","",'Rekapitulace stavby'!E17) -> Prodin a.s. | I21: DIČ: | J21: =IF('Rekapitulace stavby'!AN17="","",'Rekapitulace stavby'!AN17) -> CZ25292161
D23: Zpracovatel: | I23: IČ: | J23: =IF('Rekapitulace stavby'!AN19="","",'Rekapitulace stavby'!AN19) -> 25292161
E24: =IF('Rekapitulace stavby'!E20="","",'Rekapitulace stavby'!E20) -> Prodin a.s. | I24: DIČ: | J24: =IF('Rekapitulace stavby'!AN20="","",'Rekapitulace stavby'!AN20) -> CZ25292161
D26: Poznámka:
D30: Cena bez DPH | J30: =ROUND(J83, 2) -> 0
F32: Základ daně | I32: Sazba daně | J32: Výše daně
D33: DPH | E33: základní | F33: =ROUND((SUM(BE83:BE92)), 2) -> 0 | I33: 0.21 | J33: =ROUND(((SUM(BE83:BE92))*I33), 2) -> 0
E34: snížená | F34: =ROUND((SUM(BF83:BF92)), 2) -> 0 | I34: 0.15 | J34: =ROUND(((SUM(BF83:BF92))*I34), 2) -> 0
E35: zákl. přenesená | F35: =ROUND((SUM(BG83:BG92)), 2) -> 0 | I35: 0.21 | J35: =0 -> 0
E36: sníž. přenesená | F36: =ROUND((SUM(BH83:BH92)), 2) -> 0 | I36: 0.15 | J36: =0 -> 0
E37: nulová | F37: =ROUND((SUM(BI83:BI92)), 2) -> 0 | I37: 0 | J37: =0 -> 0
D39: Cena s DPH | G39: v | H39: CZK | J39: =SUM(J30:J37) -> 0
C45: REKAPITULACE ČLENĚNÍ SOUPISU PRACÍ
C47: Stavba:
E48: =E7 -> Oprava traťového úseku Železný Brod - Tanvald
C49: Objekt:
E50: =E9 -> SO 01-10-03.1 - Následná úprava GPK a obnova BK v km 11,560 - 13,149
C52: Místo: | F52: =F12 | I52: Datum: | J52: =IF(J12="","",J12) -> 11. 2. 2019
C54: Zadavatel: | F54: =E15 -> Správa Železniční dopravní cesty, státní organizace | I54: Projektant: | J54: =E21 -> Prodin a.s.
C55: Uchazeč: | F55: =IF(E18="","",E18) -> 0 | I55: Zpracovatel: | J55: =E24 -> Prodin a.s.
C57: Kód dílu - Popis | J57: Cena celkem [CZK]
C59: Náklady stavby celkem | J59: =J83 -> 0 | AU59: -1
D60: HSV - Práce a dodávky HSV | J60: =J84 -> 0
D61: Položky dle ÚOŽI - 2019 | J61: =J85 -> 0
D62: 5 - Komunikace pozemní | J62: =J86 -> 0
D63: 9 - Ostatní | J63: =J90 -> 0
C70: SOUPIS PRACÍ
C72: Stavba:
E73: =E7 -> Oprava traťového úseku Železný Brod - Tanvald
C74: Objekt:
E75: =E9 -> SO 01-10-03.1 - Následná úprava GPK a obnova BK v km 11,560 - 13,149
C77: Místo: | F77: =F12 | I77: Datum: | J77: =IF(J12="","",J12) -> 11. 2. 2019
C79: Zadavatel: | F79: =E15 -> Správa Železniční dopravní cesty, státní organizace | I79: Projektant: | J79: =E21 -> Prodin a.s.
C80: Uchazeč: | F80: =IF(E18="","",E18) -> 0 | I80: Zpracovatel: | J80: =E24 -> Prodin a.s.
C82: PČ | D82: Typ | E82: Kód | F82: Popis | G82: MJ | H82: Množství | I82: J.cena [CZK] | J82: Cena celkem [CZK] | K82: Cenová soustava | N82: DPH | O82: J. Nh [h] | P82: Nh celkem [h] | Q82: J. hmotnost [t] | R82: Hmotnost celkem [t] | S82: J. suť [t] | T82: Suť Celkem [t]
C83: Náklady soupisu celkem | J83: =BK83 -> 0 | P83: =P84 -> 0 | R83: =R84 -> 0 | T83: =T84 -> 0 | AT83: D | AU83: -1 | BK83: =BK84 -> 0
D84: D | E84: HSV | F84: Práce a dodávky HSV | J84: =BK84 -> 0 | P84: =P85 -> 0 | R84: =R85 -> 0 | T84: =T85 -> 0 | AR84: 1 | AT84: D | AU84: 0 | AY84: ROZPOCET | BK84: =BK85 -> 0
D85: D | E85: Položky dle ÚOŽI | F85: 2019 | J85: =BK85 -> 0 | P85: =P86+P90 -> 0 | R85: =R86+R90 -> 0 | T85: =T86+T90 -> 0 | AR85: 1 | AT85: D | AU85: 1 | AY85: ROZPOCET | BK85: =BK86+BK90 -> 0
D86: D | E86: 5 | F86: Komunikace pozemní | J86: =BK86 -> 0 | P86: =SUM(P87:P89) -> 0 | R86: =SUM(R87:R89) -> 0 | T86: =SUM(T87:T89) -> 0 | AR86: 1 | AT86: D | AU86: 2 | AY86: ROZPOCET | BK86: =SUM(BK87:BK89) -> 0
C87: 1 | D87: K | E87: 5909030020 | F87: Následná úprava GPK koleje směrové a výškové uspořádání pražce betonové. Poznámka: 1. V cenách jsou započteny náklady na úpravu směrového a výškového uspořádání strojní linkou ASP s přesným zaměřením její prostorové polohy po konsolidaci KL, úpravu KL pluhem a měření mezních stavebních odchylek dle ČSN, měření techologických veličin a předání tištěných výstupů objednateli. 2. V cenách nejsou obsaženy náklady na zaměření APK, doplnění a dodávku kameniva a snížení KL pod patou kolejnice. | G87: km | H87: 1.594 | J87: =ROUND(I87*H87,2) -> 0 | K87: ÚOŽI 2019 01 | N87: základní | P87: =O87*H87 -> 0 | Q87: 0 | R87: =Q87*H87 -> 0 | S87: 0 | T87: =S87*H87 -> 0 | AR87: 4 | AT87: K | AU87: 3 | AY87: ROZPOCET | BE87: =IF(N87="základní",J87,0) -> 0 | BF87: =IF(N87="snížená",J87,0) -> 0 | BG87: =IF(N87="zákl. přenesená",J87,0) -> 0 | BH87: =IF(N87="sníž. přenesená",J87,0) -> 0 | BI87: =IF(N87="nulová",J87,0) -> 0 | BJ87: 1 | BK87: =ROUND(I87*H87,2) -> 0 | BL87: 4 | BM87: 4
D88: PSC | F88: Poznámka k souboru cen:_x000D_ 1. V cenách jsou započteny náklady na úpravu směrového a výškového uspořádání strojní linkou ASP s přesným zaměřením její prostorové polohy po konsolidaci KL, úpravu KL pluhem a měření mezních stavebních odchylek dle ČSN, měření techologických veličin a předání tištěných výstupů objednateli._x000D_ 2. V cenách nejsou obsaženy náklady na zaměření APK, doplnění a dodávku kameniva a snížení KL pod patou kolejnice. | AT88: PSC | AU88: 3
D89: P | F89: Poznámka k položce:_x000D_ Kilometr koleje=km | AT89: P | AU89: 3
D90: D | E90: 9 | F90: Ostatní | J90: =BK90 -> 0 | P90: =SUM(P91:P92) -> 0 | R90: =SUM(R91:R92) -> 0 | T90: =SUM(T91:T92) -> 0 | AR90: 1 | AT90: D | AU90: 2 | AY90: ROZPOCET | BK90: =SUM(BK91:BK92) -> 0
C91: 2 | D91: K | E91: 9903200100 | F91: Přeprava mechanizace na místo prováděných prací o hmotnosti přes 12 t přes 50 do 100 km Poznámka: Ceny jsou určeny pro dopravu mechanizmů na místo prováděných prací po silnici i po kolejích.V ceně jsou započteny i náklady na zpáteční cestu dopravního prostředku. Měrnou jednotkou je kus přepravovaného stroje. | G91: kus | H91: 2 | J91: =ROUND(I91*H91,2) -> 0 | K91: ÚOŽI 2019 01 | N91: základní | P91: =O91*H91 -> 0 | Q91: 0 | R91: =Q91*H91 -> 0 | S91: 0 | T91: =S91*H91 -> 0 | AR91: 4 | AT91: K | AU91: 3 | AY91: ROZPOCET | BE91: =IF(N91="základní",J91,0) -> 0 | BF91: =IF(N91="snížená",J91,0) -> 0 | BG91: =IF(N91="zákl. přenesená",J91,0) -> 0 | BH91: =IF(N91="sníž. přenesená",J91,0) -> 0 | BI91: =IF(N91="nulová",J91,0) -> 0 | BJ91: 1 | BK91: =ROUND(I91*H91,2) -> 0 | BL91: 4 | BM91: 12
D92: PSC | F92: Poznámka k souboru cen:_x000D_ Ceny jsou určeny pro dopravu mechanizmů na místo prováděných prací po silnici i po kolejích.V ceně jsou započteny i náklady na zpáteční cestu dopravního prostředku. Měrnou jednotkou je kus přepravovaného stroje. | AT92: PSC | AU92: 3

Sheet SO 01-10-04 - Železniční ...
AT2: {2782bf55-6279-4a88-9f0c-eeb9538f9355}
AT3: 2
D4: KRYCÍ LIST SOUPISU PRACÍ | M4: v --- níže se nacházejí doplnkové a pomocné údaje k sestavám --- v | AT4: False
D6: Stavba:
E7: ='Rekapitulace stavby'!K6 -> Oprava traťového úseku Železný Brod - Tanvald
D8: Objekt:
E9: SO 01-10-04 - Železniční svršek, km 13,149 - km 16,824
D11: KSO: | I11: CC-CZ:
D12: Místo: | I12: Datum: | J12: ='Rekapitulace stavby'!AN8 -> 11. 2. 2019
D14: Zadavatel: | I14: IČ: | J14: =IF('Rekapitulace stavby'!AN10="","",'Rekapitulace stavby'!AN10) -> 70994234
E15: =IF('Rekapitulace stavby'!E11="","",'Rekapitulace stavby'!E11) -> Správa Železniční dopravní cesty, státní organizace | I15: DIČ: | J15: =IF('Rekapitulace stavby'!AN11="","",'Rekapitulace stavby'!AN11) -> CZ70994234
D17: Uchazeč: | I17: IČ: | J17: ='Rekapitulace stavby'!AN13 -> Vyplň údaj
E18: ='Rekapitulace stavby'!E14 -> 0 | I18: DIČ: | J18: ='Rekapitulace stavby'!AN14 -> Vyplň údaj
D20: Projektant: | I20: IČ: | J20: =IF('Rekapitulace stavby'!AN16="","",'Rekapitulace stavby'!AN16) -> 25292161
E21: =IF('Rekapitulace stavby'!E17="","",'Rekapitulace stavby'!E17) -> Prodin a.s. | I21: DIČ: | J21: =IF('Rekapitulace stavby'!AN17="","",'Rekapitulace stavby'!AN17) -> CZ25292161
D23: Zpracovatel: | I23: IČ: | J23: =IF('Rekapitulace stavby'!AN19="","",'Rekapitulace stavby'!AN19) -> 25292161
E24: =IF('Rekapitulace stavby'!E20="","",'Rekapitulace stavby'!E20) -> Prodin a.s. | I24: DIČ: | J24: =IF('Rekapitulace stavby'!AN20="","",'Rekapitulace stavby'!AN20) -> CZ25292161
D26: Poznámka:
D30: Cena bez DPH | J30: =ROUND(J88, 2) -> 6581700
F32: Základ daně | I32: Sazba daně | J32: Výše daně
D33: DPH | E33: základní | F33: =ROUND((SUM(BE88:BE293)), 2) -> 6581700 | I33: 0.21 | J33: =ROUND(((SUM(BE88:BE293))*I33), 2) -> 1382157
E34: snížená | F34: =ROUND((SUM(BF88:BF293)), 2) -> 0 | I34: 0.15 | J34: =ROUND(((SUM(BF88:BF293))*I34), 2) -> 0
E35: zákl. přenesená | F35: =ROUND((SUM(BG88:BG293)), 2) -> 0 | I35: 0.21 | J35: =0 -> 0
E36: sníž. přenesená | F36: =ROUND((SUM(BH88:BH293)), 2) -> 0 | I36: 0.15 | J36: =0 -> 0
E37: nulová | F37: =ROUND((SUM(BI88:BI293)), 2) -> 0 | I37: 0 | J37: =0 -> 0
D39: Cena s DPH | G39: v | H39: CZK | J39: =SUM(J30:J37) -> 7963857
C45: REKAPITULACE ČLENĚNÍ SOUPISU PRACÍ
C47: Stavba:
E48: =E7 -> Oprava traťového úseku Železný Brod - Tanvald
C49: Objekt:
E50: =E9 -> SO 01-10-04 - Železniční svršek, km 13,149 - km 16,824
C52: Místo: | F52: =F12 | I52: Datum: | J52: =IF(J12="","",J12) -> 11. 2. 2019
C54: Zadavatel: | F54: =E15 -> Správa Železniční dopravní cesty, státní organizace | I54: Projektant: | J54: =E21 -> Prodin a.s.
C55: Uchazeč: | F55: =IF(E18="","",E18) -> 0 | I55: Zpracovatel: | J55: =E24 -> Prodin a.s.
C57: Kód dílu - Popis | J57: Cena celkem [CZK]
C59: Náklady stavby celkem | J59: =J88 -> 6581700 | AU59: -1
D60: HSV - Práce a dodávky HSV | J60: =J89 -> 6581700
D61: Položky dle ÚOŽI - 2019 | J61: =J90 -> 6581700
D62: 5 - Komunikace pozemní | J62: =J91 -> 6581700
D63: 9 - Ostatní | J63: =J237 -> 0
D64: Položky dle ÚRS - 2019 | J64: =J283 -> 0
D65: 1 - Zemní práce | J65: =J284 -> 0
D66: D1 - Komunikace | J66: =J289 -> 0
D67: Položky R: - Položky "R": | J67: =J291 -> 0
D68: 90 - Ostatní | J68: =J292 -> 0
C75: SOUPIS PRACÍ
C77: Stavba:
E78: =E7 -> Oprava traťového úseku Železný Brod - Tanvald
C79: Objekt:
E80: =E9 -> SO 01-10-04 - Železniční svršek, km 13,149 - km 16,824
C82: Místo: | F82: =F12 | I82: Datum: | J82: =IF(J12="","",J12) -> 11. 2. 2019
C84: Zadavatel: | F84: =E15 -> Správa Železniční dopravní cesty, státní organizace | I84: Projektant: | J84: =E21 -> Prodin a.s.
C85: Uchazeč: | F85: =IF(E18="","",E18) -> 0 | I85: Zpracovatel: | J85: =E24 -> Prodin a.s.
C87: PČ | D87: Typ | E87: Kód | F87: Popis | G87: MJ | H87: Množství | I87: J.cena [CZK] | J87: Cena celkem [CZK] | K87: Cenová soustava | N87: DPH | O87: J. Nh [h] | P87: Nh celkem [h] | Q87: J. hmotnost [t] | R87: Hmotnost celkem [t] | S87: J. suť [t] | T87: Suť Celkem [t]
C88: Náklady soupisu celkem | J88: =BK88 -> 6581700 | P88: =P89 -> 0 | R88: =R89 -> 10001.511 | T88: =T89 -> 0 | AT88: D | AU88: -1 | BK88: =BK89 -> 6581700
D89: D | E89: HSV | F89: Práce a dodávky HSV | J89: =BK89 -> 6581700 | P89: =P90+P283+P291 -> 0 | R89: =R90+R283+R291 -> 10001.511 | T89: =T90+T283+T291 -> 0 | AR89: 1 | AT89: D | AU89: 0 | AY89: ROZPOCET | BK89: =BK90+BK283+BK291 -> 6581700
D90: D | E90: Položky dle ÚOŽI | F90: 2019 | J90: =BK90 -> 6581700 | P90: =P91+P237 -> 0 | R90: =R91+R237 -> 9663.9334 | T90: =T91+T237 -> 0 | AR90: 1 | AT90: D | AU90: 1 | AY90: ROZPOCET | BK90: =BK91+BK237 -> 6581700
D91: D | E91: 5 | F91: Komunikace pozemní | J91: =BK91 -> 6581700 | P91: =SUM(P92:P236) -> 0 | R91: =SUM(R92:R236) -> 9663.9334 | T91: =SUM(T92:T236) -> 0 | AR91: 1 | AT91: D | AU91: 2 | AY91: ROZPOCET | BK91: =SUM(BK92:BK236) -> 6581700
C92: 1 | D92: K | E92: 5905020010 | F92: Oprava stezky strojně s odstraněním drnu a nánosu do 10 cm. Poznámka: 1. V cenách jsou započteny náklady na odtěžení nánosu stezky a rozprostření výzisku na terén nebo naložení na dopravní prostředek a úprava povrchu stezky. | G92: m2 | H92: 2666.4 | J92: =ROUND(I92*H92,2) -> 0 | K92: ÚOŽI 2019 01 | N92: základní | P92: =O92*H92 -> 0 | Q92: 0 | R92: =Q92*H92 -> 0 | S92: 0 | T92: =S92*H92 -> 0 | AR92: 4 | AT92: K | AU92: 3 | AY92: ROZPOCET | BE92: =IF(N92="základní",J92,0) -> 0 | BF92: =IF(N92="snížená",J92,0) -> 0 | BG92: =IF(N92="zákl. přenesená",J92,0) -> 0 | BH92: =IF(N92="sníž. přenesená",J92,0) -> 0 | BI92: =IF(N92="nulová",J92,0) -> 0 | BJ92: 1 | BK92: =ROUND(I92*H92,2) -> 0 | BL92: 4 | BM92: 2
D93: PSC | F93: Poznámka k souboru cen:_x000D_ 1. V cenách jsou započteny náklady na odtěžení nánosu stezky a rozprostření výzisku na terén nebo naložení na dopravní prostředek a úprava povrchu stezky. | AT93: PSC | AU93: 3
C94: 2 | D94: K | E94: 5905035110 | F94: Výměna KL malou těžící mechanizací včetně lavičky lože otevřené. Poznámka: 1. V cenách jsou započteny náklady na odtěžení KL s použitím minirypadla, rozprostření výzisku na terén nebo naložení na dopravní prostředek, přehození kameniva, úprava KL do profilu a jeho případné snížení pod patou kolejnice. U výměny KL v celém profilu je v ceně započteno případné uvolnění, posun a dotažení pražce. 2. V cenách nejsou obsaženy náklady na podbití pražce, dodávku a doplnění kameniva. | G94: m3 | H94: 154 | J94: =ROUND(I94*H94,2) -> 0 | K94: ÚOŽI 2019 01 | N94: základní | P94: =O94*H94 -> 0 | Q94: 0 | R94: =Q94*H94 -> 0 | S94: 0 | T94: =S94*H94 -> 0 | AR94: 4 | AT94: K | AU94: 3 | AY94: ROZPOCET | BE94: =IF(N94="základní",J94,0) -> 0 | BF94: =IF(N94="snížená",J94,0) -> 0 | BG94: =IF(N94="zákl. přenesená",J94,0) -> 0 | BH94: =IF(N94="sníž. přenesená",J94,0) -> 0 | BI94: =IF(N94="nulová",J94,0) -> 0 | BJ94: 1 | BK94: =ROUND(I94*H94,2) -> 0 | BL94: 4 | BM94: 4
D95: PSC | F95: Poznámka k souboru cen:_x000D_ 1. V cenách jsou započteny náklady na odtěžení KL s použitím minirypadla, rozprostření výzisku na terén nebo naložení na dopravní prostředek, přehození kameniva, úprava KL do profilu a jeho případné snížení pod patou kolejnice. U výměny KL v celém profilu je v ceně započteno případné uvolnění, posun a dotažení pražce._x000D_ 2. V cenách nejsou obsaženy náklady na podbití pražce, dodávku a doplnění kameniva. | AT95: PSC | AU95: 3
C96: 3 | D96: K | E96: 5905070010 | F96: Odsunutí koleje od osy do 0,50 m. Poznámka: 1. V cenách jsou započteny náklady na odstranění kameniva za hlavami, podél pražců a odsun koleje od osy. | G96: m | H96: 174 | J96: =ROUND(I96*H96,2) -> 0 | K96: ÚOŽI 2019 01 | N96: základní | P96: =O96*H96 -> 0 | Q96: 0 | R96: =Q96*H96 -> 0 | S96: 0 | T96: =S96*H96 -> 0 | AR96: 4 | AT96: K | AU96: 3 | AY96: ROZPOCET | BE96: =IF(N96="základní",J96,0) -> 0 | BF96: =IF(N96="snížená",J96,0) -> 0 | BG96: =IF(N96="zákl. přenesená",J96,0) -> 0 | BH96: =IF(N96="sníž. přenesená",J96,0) -> 0 | BI96: =IF(N96="nulová",J96,0) -> 0 | BJ96: 1 | BK96: =ROUND(I96*H96,2) -> 0 | BL96: 4 | BM96: 6
D97: PSC | F97: Poznámka k souboru cen:_x000D_ 1. V cenách jsou započteny náklady na odstranění kameniva za hlavami, podél pražců a odsun koleje od osy. | AT97: PSC | AU97: 3
C98: 4 | D98: K | E98: 5905085040 | F98: Souvislé čištění KL strojně koleje pražce betonové rozdělení "c". Poznámka: 1. V cenách jsou započteny náklady na kontinuální čištění KL strojní čističkou, případné vložení geosyntetika, rozprostření výzisku na terén nebo naložení na dopravní prostředek, zdvih, úpravu směrového a výškového uspořádání včetně měření mezních stavebních odchylek dle ČSN a technologických veličin, předání tištěných výstupů a úpravu KL do profilu. Platí i pro čištění KL současně s výměnou pražců. 2. V cenách nejsou obsaženy náklady na snížení KL pod patou kolejnice, následnou úpravu směrového a výškového uspořádání dodávku a doplnění kameniva. | G98: km | H98: 3.293 | J98: =ROUND(I98*H98,2) -> 0 | K98: ÚOŽI 2019 01 | N98: základní | P98: =O98*H98 -> 0 | Q98: 0 | R98: =Q98*H98 -> 0 | S98: 0 | T98: =S98*H98 -> 0 | AR98: 4 | AT98: K | AU98: 3 | AY98: ROZPOCET | BE98: =IF(N98="základní",J98,0) -> 0 | BF98: =IF(N98="snížená",J98,0) -> 0 | BG98: =IF(N98="zákl. přenesená",J98,0) -> 0 | BH98: =IF(N98="sníž. přenesená",J98,0) -> 0 | BI98: =IF(N98="nulová",J98,0) -> 0 | BJ98: 1 | BK98: =ROUND(I98*H98,2) -> 0 | BL98: 4 | BM98: 8
D99: PSC | F99: Poznámka k souboru cen:_x000D_ 1. V cenách jsou započteny náklady na kontinuální čištění KL strojní čističkou, případné vložení geosyntetika, rozprostření výzisku na terén nebo naložení na dopravní prostředek, zdvih, úpravu směrového a výškového uspořádání včetně měření mezních stavebních odchylek dle ČSN a technologických veličin, předání tištěných výstupů a úpravu KL do profilu. Platí i pro čištění KL současně s výměnou pražců._x000D_ 2. V cenách nejsou obsaženy náklady na snížení KL pod patou kolejnice, následnou úpravu směrového a výškového uspořádání dodávku a doplnění kameniva. | AT99: PSC | AU99: 3
C100: 5 | D100: K | E100: 5905105030 | F100: Doplnění KL kamenivem souvisle strojně v koleji. Poznámka: 1. V cenách jsou započteny náklady na doplnění kameniva ojediněle ručně vidlemi a/nebo souvisle strojně z výsypných vozů případně nakladačem. 2. V cenách nejsou obsaženy náklady na dodávku kameniva. | G100: m3 | H100: 4513.36 | J100: =ROUND(I100*H100,2) -> 0 | K100: ÚOŽI 2019 01 | N100: základní | P100: =O100*H100 -> 0 | Q100: 0 | R100: =Q100*H100 -> 0 | S100: 0 | T100: =S100*H100 -> 0 | AR100: 4 | AT100: K | AU100: 3 | AY100: ROZPOCET | BE100: =IF(N100="základní",J100,0) -> 0 | BF100: =IF(N100="snížená",J100,0) -> 0 | BG100: =IF(N100="zákl. přenesená",J100,0) -> 0 | BH100: =IF(N100="sníž. přenesená",J100,0) -> 0 | BI100: =IF(N100="nulová",J100,0) -> 0 | BJ100: 1 | BK100: =ROUND(I100*H100,2) -> 0 | BL100: 4 | BM100: 10
D101: PSC | F101: Poznámka k souboru cen:_x000D_ 1. V cenách jsou započteny náklady na doplnění kameniva ojediněle ručně vidlemi a/nebo souvisle strojně z výsypných vozů případně nakladačem._x000D_ 2. V cenách nejsou obsaženy náklady na dodávku kameniva. | AT101: PSC | AU101: 3
C102: 6 | D102: M | E102: 5955101000 | F102: Kamenivo drcené štěrk frakce 31,5/63 třídy BI | G102: t | H102: 9184.011 | J102: =ROUND(I102*H102,2) -> 0 | K102: ÚOŽI 2019 01 | N102: základní | P102: =O102*H102 -> 0 | Q102: 1 | R102: =Q102*H102 -> 9184.011 | S102: 0 | T102: =S102*H102 -> 0 | AR102: 8 | AT102: M | AU102: 3 | AY102: ROZPOCET | BE102: =IF(N102="základní",J102,0) -> 0 | BF102: =IF(N102="snížená",J102,0) -> 0 | BG102: =IF(N102="zákl. přenesená",J102,0) -> 0 | BH102: =IF(N102="sníž. přenesená",J102,0) -> 0 | BI102: =IF(N102="nulová",J102,0) -> 0 | BJ102: 1 | BK102: =ROUND(I102*H102,2) -> 0 | BL102: 4 | BM102: 12
C103: 7 | D103: K | E103: 5905110010 | F103: Snížení KL pod patou kolejnice v koleji. Poznámka: 1. V cenách jsou započteny náklady na snížení KL pod patou kolejnice ručně vidlemi. 2. V cenách nejsou obsaženy náklady na doplnění a dodávku kameniva. | G103: km | H103: 3.293 | J103: =ROUND(I103*H103,2) -> 0 | K103: ÚOŽI 2019 01 | N103: základní | P103: =O103*H103 -> 0 | Q103: 0 | R103: =Q103*H103 -> 0 | S103: 0 | T103: =S103*H103 -> 0 | AR103: 4 | AT103: K | AU103: 3 | AY103: ROZPOCET | BE103: =IF(N103="základní",J103,0) -> 0 | BF103: =IF(N103="snížená",J103,0) -> 0 | BG103: =IF(N103="zákl. přenesená",J103,0) -> 0 | BH103: =IF(N103="sníž. přenesená",J103,0) -> 0 | BI103: =IF(N103="nulová",J103,0) -> 0 | BJ103: 1 | BK103: =ROUND(I103*H103,2) -> 0 | BL103: 4 | BM103: 14
D104: PSC | F104: Poznámka k souboru cen:_x000D_ 1. V cenách jsou započteny náklady na snížení KL pod patou kolejnice ručně vidlemi._x000D_ 2. V cenách nejsou obsaženy náklady na doplnění a dodávku kameniva. | AT104: PSC | AU104: 3
D105: P | F105: Poznámka k položce:_x000D_ Kilometr koleje=km | AT105: P | AU105: 3
C106: 8 | D106: K | E106: 5906105010 | F106: Demontáž pražce dřevěný. Poznámka: 1. V cenách jsou započteny náklady na manipulaci, demontáž, odstrojení do součástí a uložení pražců. | G106: kus | H106: 72 | J106: =ROUND(I106*H106,2) -> 0 | K106: ÚOŽI 2019 01 | N106: základní | P106: =O106*H106 -> 0 | Q106: 0 | R106: =Q106*H106 -> 0 | S106: 0 | T106: =S106*H106 -> 0 | AR106: 4 | AT106: K | AU106: 3 | AY106: ROZPOCET | BE106: =IF(N106="základní",J106,0) -> 0 | BF106: =IF(N106="snížená",J106,0) -> 0 | BG106: =IF(N106="zákl. přenesená",J106,0) -> 0 | BH106: =IF(N106="sníž. přenesená",J106,0) -> 0 | BI106: =IF(N106="nulová",J106,0) -> 0 | BJ106: 1 | BK106: =ROUND(I106*H106,2) -> 0 | BL106: 4 | BM106: 16
D107: PSC | F107: Poznámka k souboru cen:_x000D_ 1. V cenách jsou započteny náklady na manipulaci, demontáž, odstrojení do součástí a uložení pražců. | AT107: PSC | AU107: 3
C108: 9 | D108: K | E108: 5906110020 | F108: Oprava rozdělení pražců příčných betonových posun přes 10 cm. Poznámka: 1. V cenách jsou započteny náklady na uvolnění upevňovadel, odstranění kameniva v míře dostatečné pro posun pražce, jeho posunutí, dotažení upevňovadel, dohození a úprava KL. 2. V cenách nejsou obsaženy náklady na podbití pražce, doplnění a dodávku kameniva. | G108: kus | H108: 104 | J108: =ROUND(I108*H108,2) -> 0 | K108: ÚOŽI 2019 01 | N108: základní | P108: =O108*H108 -> 0 | Q108: 0 | R108: =Q108*H108 -> 0 | S108: 0 | T108: =S108*H108 -> 0 | AR108: 4 | AT108: K | AU108: 3 | AY108: ROZPOCET | BE108: =IF(N108="základní",J108,0) -> 0 | BF108: =IF(N108="snížená",J108,0) -> 0 | BG108: =IF(N108="zákl. přenesená",J108,0) -> 0 | BH108: =IF(N108="sníž. přenesená",J108,0) -> 0 | BI108: =IF(N108="nulová",J108,0) -> 0 | BJ108: 1 | BK108: =ROUND(I108*H108,2) -> 0 | BL108: 4 | BM108: 18
D109: PSC | F109: Poznámka k souboru cen:_x000D_ 1. V cenách jsou započteny náklady na uvolnění upevňovadel, odstranění kameniva v míře dostatečné pro posun pražce, jeho posunutí, dotažení upevňovadel, dohození a úprava KL._x000D_ 2. V cenách nejsou obsaženy náklady na podbití pražce, doplnění a dodávku kameniva. | AT109: PSC | AU109: 3
C110: 10 | D110: K | E110: 5906125360 | F110: Montáž kolejového roštu na úložišti pražce betonové vystrojené tv. S49 rozdělení "c". Poznámka: 1. V cenách jsou započteny náklady na úpravu plochy pro montáž, vrtání pražců dřevěných nevystrojených, manipulaci a montáž KR. 2. V cenách nejsou obsaženy náklady na dodávku materiálu. | G110: km | H110: 0.097 | J110: =ROUND(I110*H110,2) -> 0 | K110: ÚOŽI 2019 01 | N110: základní | P110: =O110*H110 -> 0 | Q110: 0 | R110: =Q110*H110 -> 0 | S110: 0 | T110: =S110*H110 -> 0 | AR110: 4 | AT110: K | AU110: 3 | AY110: ROZPOCET | BE110: =IF(N110="základní",J110,0) -> 0 | BF110: =IF(N110="snížená",J110,0) -> 0 | BG110: =IF(N110="zákl. přenesená",J110,0) -> 0 | BH110: =IF(N110="sníž. přenesená",J110,0) -> 0 | BI110: =IF(N110="nulová",J110,0) -> 0 | BJ110: 1 | BK110: =ROUND(I110*H110,2) -> 0 | BL110: 4 | BM110: 20
D111: PSC | F111: Poznámka k souboru cen:_x000D_ 1. V cenách jsou započteny náklady na úpravu plochy pro montáž, vrtání pražců dřevěných nevystrojených, manipulaci a montáž KR._x000D_ 2. V cenách nejsou obsaženy náklady na dodávku materiálu. | AT111: PSC | AU111: 3
C112: 11 | D112: M | E112: 5957110030 | F112: Kolejnice tv. 49 E 1, třídy R260 | G112: m | H112: 100 | I112: 0 | J112: =ROUND(I112*H112,2) -> 0 | K112: ÚOŽI 2019 01 | N112: základní | P112: =O112*H112 -> 0 | Q112: 0.04939 | R112: =Q112*H112 -> 4.939 | S112: 0 | T112: =S112*H112 -> 0 | AR112: 8 | AT112: M | AU112: 3 | AY112: ROZPOCET | BE112: =IF(N112="základní",J112,0) -> 0 | BF112: =IF(N112="snížená",J112,0) -> 0 | BG112: =IF(N112="zákl. přenesená",J112,0) -> 0 | BH112: =IF(N112="sníž. přenesená",J112,0) -> 0 | BI112: =IF(N112="nulová",J112,0) -> 0 | BJ112: 1 | BK112: =ROUND(I112*H112,2) -> 0 | BL112: 4 | BM112: 22
D113: P | F113: Poznámka k položce:_x000D_ viz výkaz výměr. DODÁVKA MATERIÁLU SŽDC, S.O. - POLOŽKU NEOCEŇOVAT!!! | AT113: P | AU113: 3
C114: 12 | D114: M | E114: 5957201010 | F114: Kolejnice užité tv. S49 | G114: m | H114: 94 | I114: 0 | J114: =ROUND(I114*H114,2) -> 0 | K114: ÚOŽI 2019 01 | N114: základní | P114: =O114*H114 -> 0 | Q114: 0 | R114: =Q114*H114 -> 0 | S114: 0 | T114: =S114*H114 -> 0 | AR114: 8 | AT114: M | AU114: 3 | AY114: ROZPOCET | BE114: =IF(N114="základní",J114,0) -> 0 | BF114: =IF(N114="snížená",J114,0) -> 0 | BG114: =IF(N114="zákl. přenesená",J114,0) -> 0 | BH114: =IF(N114="sníž. přenesená",J114,0) -> 0 | BI114: =IF(N114="nulová",J114,0) -> 0 | BJ114: 1 | BK114: =ROUND(I114*H114,2) -> 0 | BL114: 4 | BM114: 24
D115: P | F115: Poznámka k položce:_x000D_ viz výkaz výměr. DODÁVKA MATERIÁLU SŽDC, S.O. - POLOŽKU NEOCEŇOVAT!!! | AT115: P | AU115: 3
C116: 13 | D116: M | E116: 5956213065 | F116: Pražec betonový příčný vystrojený užitý tv. SB 8 P | G116: kus | H116: 155 | I116: 0 | J116: =ROUND(I116*H116,2) -> 0 | K116: ÚOŽI 2019 01 | N116: základní | P116: =O116*H116 -> 0 | Q116: 0 | R116: =Q116*H116 -> 0 | S116: 0 | T116: =S116*H116 -> 0 | AR116: 8 | AT116: M | AU116: 3 | AY116: ROZPOCET | BE116: =IF(N116="základní",J116,0) -> 0 | BF116: =IF(N116="snížená",J116,0) -> 0 | BG116: =IF(N116="zákl. přenesená",J116,0) -> 0 | BH116: =IF(N116="sníž. přenesená",J116,0) -> 0 | BI116: =IF(N116="nulová",J116,0) -> 0 | BJ116: 1 | BK116: =ROUND(I116*H116,2) -> 0 | BL116: 4 | BM116: 26
D117: P | F117: Poznámka k položce:_x000D_ viz výkaz výměr. DODÁVKA MATERIÁLU SŽDC, S.O. - POLOŽKU NEOCEŇOVAT!!! | AT117: P | AU117: 3
C118: 14 | D118: M | E118: 5958128005 | F118: Komplety Skl 24 (šroub RS 0, matice M 22, podložka Uls 6) | G118: kus | H118: 512 | I118: 0 | J118: =ROUND(I118*H118,2) -> 0 | K118: ÚOŽI 2019 01 | N118: základní | P118: =O118*H118 -> 0 | Q118: 0.00111 | R118: =Q118*H118 -> 0.56832 | S118: 0 | T118: =S118*H118 -> 0 | AR118: 8 | AT118: M | AU118: 3 | AY118: ROZPOCET | BE118: =IF(N118="základní",J118,0) -> 0 | BF118: =IF(N118="snížená",J118,0) -> 0 | BG118: =IF(N118="zákl. přenesená",J118,0) -> 0 | BH118: =IF(N118="sníž. přenesená",J118,0) -> 0 | BI118: =IF(N118="nulová",J118,0) -> 0 | BJ118: 1 | BK118: =ROUND(I118*H118,2) -> 0 | BL118: 4 | BM118: 28
D119: P | F119: Poznámka k položce:_x000D_ DODÁVKA MATERIÁLU SŽDC, S.O. - POLOŽKU NEOCEŇOVAT!!! | AT119: P | AU119: 3
