Workbook

Sheet Rekapitulace stavby
A1: Export Komplet | AZ1: VZ | BA1: 2.0 | BB1: ZAMOK | BT1: False | BU1: False | BV1: {8b91ade0-f658-4b5f-8a16-1575cccbb1bd}
BS2: 0,01 | BT2: 21
BS3: 0,01 | BT3: 15
D4: REKAPITULACE STAVBY | AS4: v --- níže se nacházejí doplnkové a pomocné údaje k sestavám --- v | BE4: Návod na vyplnění | BS4: 0,001
D5: Kód: | K5: 64019039 | BE5: Měnit lze pouze buňky se žlutým podbarvením!_x000D_ _x000D_ 1) v Rekapitulaci stavby vyplňte údaje o Uchazeči (přenesou se do ostatních sestav i v jiných listech)_x000D_ _x000D_ 2) na vybraných listech vyplňte v sestavě Soupis prací ceny u položek | BS5: 0,01
D6: Stavba: | K6: Oprava traťového úseku Železný Brod - Tanvald | BS6: 0,01
D7: KSO: | AK7: CC-CZ: | BS7: 0,01
D8: Místo: | K8: Železný Brod - Tanvald | AK8: Datum: | AN8: 11. 2. 2019 | BS8: 0,01
BS9: 0,01
D10: Zadavatel: | AK10: IČ: | AN10: 70994234 | BS10: 0,01
E11: Správa Železniční dopravní cesty, státní organizace | AK11: DIČ: | AN11: CZ70994234 | BS11: 0,01
BS12: 0,01
D13: Uchazeč: | AK13: IČ: | AN13: Vyplň údaj | BS13: 0,01
AK14: DIČ: | AN14: Vyplň údaj | BS14: 0,01
BS15: False
D16: Projektant: | AK16: IČ: | AN16: 25292161 | BS16: False
E17: Prodin a.s. | AK17: DIČ: | AN17: CZ25292161 | BS17: True
BS18: 0,01
D19: Zpracovatel: | AK19: IČ: | AN19: 25292161 | BS19: 0,01
E20: Prodin a.s. | AK20: DIČ: | AN20: CZ25292161 | BS20: False
D22: Poznámka:
E23: Cenové soustavy ÚRS. Položky, které pochází z této cenové soustavy, jsou ve sloupci 'Cenová soustava' označeny popisem 'CS ÚRS' a úrovní příslušného kalendářního pololetí. Veškeré další informace vymezující popis a podmínky použití těchto položek z Cenové soustavy, které nejsou uvedeny přímo v soupisu prací, jsou neomezeně dálkově k dispozici na www.cs-urs.cz, sekce Cenové a technické podmínky.Soupis prací je také sestaven s využitím cenové soustavy Sborníku ÚOŽI 2019. Položky, které pochází z této cenové soustavy, jsou ve sloupci 'Cenová soustava' označeny popisem "ÚOŽI 2019 01".
D26: Cena bez DPH | AK26: =ROUND(AG54,2) -> 44731700
L28: Sazba daně | W28: Základ daně | AK28: Výše daně
D29: DPH | F29: základní | L29: 0.21 | W29: =ROUND(AZ54, 2) -> 44731700 | AK29: =ROUND(AV54, 2) -> 9393657
F30: snížená | L30: 0.15 | W30: =ROUND(BA54, 2) -> 0 | AK30: =ROUND(AW54, 2) -> 0
F31: zákl. přenesená | L31: 0.21 | W31: =ROUND(BB54, 2) -> 0 | AK31: 0
F32: sníž. přenesená | L32: 0.15 | W32: =ROUND(BC54, 2) -> 0 | AK32: 0
F33: nulová | L33: 0 | W33: =ROUND(BD54, 2) -> 0 | AK33: 0
D35: Cena s DPH | T35: v | X35: CZK | AK35: =SUM(AK26:AK33) -> 54125357
C42: REKAPITULACE OBJEKTŮ STAVBY A SOUPISŮ PRACÍ
C44: Kód: | L44: =K5 -> 64019039
C45: Stavba: | L45: =K6 -> Oprava traťového úseku Železný Brod - Tanvald
C47: Místo: | L47: =IF(K8="","",K8) -> Železný Brod - Tanvald | AI47: Datum: | AM47: =IF(AN8= "","",AN8) -> 11. 2. 2019
C49: Zadavatel: | L49: =IF(E11= "","",E11) -> Správa Železniční dopravní cesty, státní organizace | AI49: Projektant: | AM49: =IF(E17="","",E17) -> Prodin a.s. | AS49: Informatívní údaje z listů zakázek
C50: Uchazeč: | L50: =IF(E14= "Vyplň údaj","",E14) -> 0 | AI50: Zpracovatel: | AM50: =IF(E20="","",E20) -> Prodin a.s.
C52: Kód | I52: Popis | AG52: Cena bez DPH [CZK] | AN52: Cena s DPH [CZK] | AQ52: Typ | AS52: z toho Ostat._x000D_ náklady [CZK] | AT52: DPH [CZK] | AU52: Normohodiny [h] | AV52: DPH základní [CZK] | AW52: DPH snížená [CZK] | AX52: DPH základní přenesená_x000D_ [CZK] | AY52: DPH snížená přenesená_x000D_ [CZK] | AZ52: Základna_x000D_ DPH základní | BA52: Základna_x000D_ DPH snížená | BB52: Základna_x000D_ DPH zákl. přenesená | BC52: Základna_x000D_ DPH sníž. přenesená | BD52: Základna_x000D_ DPH nulová
C54: Náklady stavby celkem | AG54: =ROUND(AG55+SUM(AG56:AG74)+AG76+AG78+AG80+AG82+AG84+AG86+AG88+AG90+AG92+AG94+AG96+AG98+AG100+AG102+AG104+AG105,2) -> 44731700 | AN54: =SUM(AG54,AT54) -> 54125357 | AS54: =ROUND(AS55+SUM(AS56:AS74)+AS76+AS78+AS80+AS82+AS84+AS86+AS88+AS90+AS92+AS94+AS96+AS98+AS100+AS102+AS104+AS105,2) -> 0 | AT54: =ROUND(SUM(AV54:AW54),2) -> 9393657 | AU54: =ROUND(AU55+SUM(AU56:AU74)+AU76+AU78+AU80+AU82+AU84+AU86+AU88+AU90+AU92+AU94+AU96+AU98+AU100+AU102+AU104+AU105,5) -> 0 | AV54: =ROUND(AZ54*L29,2) -> 9393657 | AW54: =ROUND(BA54*L30,2) -> 0 | AX54: =ROUND(BB54*L29,2) -> 0 | AY54: =ROUND(BC54*L30,2) -> 0 | AZ54: =ROUND(AZ55+SUM(AZ56:AZ74)+AZ76+AZ78+AZ80+AZ82+AZ84+AZ86+AZ88+AZ90+AZ92+AZ94+AZ96+AZ98+AZ100+AZ102+AZ104+AZ105,2) -> 44731700 | BA54: =ROUND(BA55+SUM(BA56:BA74)+BA76+BA78+BA80+BA82+BA84+BA86+BA88+BA90+BA92+BA94+BA96+BA98+BA100+BA102+BA104+BA105,2) -> 0 | BB54: =ROUND(BB55+SUM(BB56:BB74)+BB76+BB78+BB80+BB82+BB84+BB86+BB88+BB90+BB92+BB94+BB96+BB98+BB100+BB102+BB104+BB105,2) -> 0 | BC54: =ROUND(BC55+SUM(BC56:BC74)+BC76+BC78+BC80+BC82+BC84+BC86+BC88+BC90+BC92+BC94+BC96+BC98+BC100+BC102+BC104+BC105,2) -> 0 | BD54: =ROUND(BD55+SUM(BD56:BD74)+BD76+BD78+BD80+BD82+BD84+BD86+BD88+BD90+BD92+BD94+BD96+BD98+BD100+BD102+BD104+BD105,2) -> 0 | BS54: D | BT54: 0 | BU54: ###NOIMPORT### | BV54: IMPORT | BW54: {8b91ade0-f658-4b5f-8a16-1575cccbb1bd} | BX54: {00000000-0000-0000-0000-000000000000}
A55: / | D55: PS 01-01-01 | J55: Úpravy zabezpečovacího zařízení | AG55: ='PS 01-01-01 - Úpravy zabe...'!J30 -> 0 | AN55: =SUM(AG55,AT55) -> 0 | AQ55: STA | AS55: 0 | AT55: =ROUND(SUM(AV55:AW55),2) -> 0 | AU55: ='PS 01-01-01 - Úpravy zabe...'!P82 -> 0 | AV55: ='PS 01-01-01 - Úpravy zabe...'!J33 -> 0 | AW55: ='PS 01-01-01 - Úpravy zabe...'!J34 -> 0 | AX55: ='PS 01-01-01 - Úpravy zabe...'!J35 -> 0 | AY55: ='PS 01-01-01 - Úpravy zabe...'!J36 -> 0 | AZ55: ='PS 01-01-01 - Úpravy zabe...'!F33 -> 0 | BA55: ='PS 01-01-01 - Úpravy zabe...'!F34 -> 0 | BB55: ='PS 01-01-01 - Úpravy zabe...'!F35 -> 0 | BC55: ='PS 01-01-01 - Úpravy zabe...'!F36 -> 0 | BD55: ='PS 01-01-01 - Úpravy zabe...'!F37 -> 0 | BT55: 1 | BV55: IMPORT | BW55: {2e48bfb0-61d6-4b5f-b124-b7fc98216322} | BX55: {8b91ade0-f658-4b5f-8a16-1575cccbb1bd} | CM55: 2
A56: / | D56: SO 01-10-01 | J56: Železniční svršek km 0,148 - km 5,590 | AG56: ='SO 01-10-01 - Železniční ...'!J30 -> 12524400 | AN56: =SUM(AG56,AT56) -> 15154524 | AQ56: STA | AS56: 0 | AT56: =ROUND(SUM(AV56:AW56),2) -> 2630124 | AU56: ='SO 01-10-01 - Železniční ...'!P87 -> 0 | AV56: ='SO 01-10-01 - Železniční ...'!J33 -> 2630124 | AW56: ='SO 01-10-01 - Železniční ...'!J34 -> 0 | AX56: ='SO 01-10-01 - Železniční ...'!J35 -> 0 | AY56: ='SO 01-10-01 - Železniční ...'!J36 -> 0 | AZ56: ='SO 01-10-01 - Železniční ...'!F33 -> 12524400 | BA56: ='SO 01-10-01 - Železniční ...'!F34 -> 0 | BB56: ='SO 01-10-01 - Železniční ...'!F35 -> 0 | BC56: ='SO 01-10-01 - Železniční ...'!F36 -> 0 | BD56: ='SO 01-10-01 - Železniční ...'!F37 -> 0 | BT56: 1 | BV56: IMPORT | BW56: {09a7ae61-2c41-4460-a31e-0a9c0453ead6} | BX56: {8b91ade0-f658-4b5f-8a16-1575cccbb1bd} | CM56: 2
...

Sheet PS 01-01-01 - Úpravy zabe...
AT2: {2e48bfb0-61d6-4b5f-b124-b7fc98216322}
AT3: 2
D4: KRYCÍ LIST SOUPISU PRACÍ | M4: v --- níže se nacházejí doplnkové a pomocné údaje k sestavám --- v | AT4: False
D6: Stavba:
E7: ='Rekapitulace stavby'!K6 -> Oprava traťového úseku Železný Brod - Tanvald
D8: Objekt:
E9: PS 01-01-01 - Úpravy zabezpečovacího zařízení
D11: KSO: | I11: CC-CZ:
D12: Místo: | I12: Datum: | J12: ='Rekapitulace stavby'!AN8 -> 11. 2. 2019
D14: Zadavatel: | I14: IČ: | J14: =IF('Rekapitulace stavby'!AN10="","",'Rekapitulace stavby'!AN10) -> 70994234
E15: =IF('Rekapitulace stavby'!E11="","",'Rekapitulace stavby'!E11) -> Správa Železniční dopravní cesty, státní organizace | I15: DIČ: | J15: =IF('Rekapitulace stavby'!AN11="","",'Rekapitulace stavby'!AN11) -> CZ70994234
D17: Uchazeč: | I17: IČ: | J17: ='Rekapitulace stavby'!AN13 -> Vyplň údaj
E18: ='Rekapitulace stavby'!E14 -> 0 | I18: DIČ: | J18: ='Rekapitulace stavby'!AN14 -> Vyplň údaj
D20: Projektant: | I20: IČ: | J20: =IF('Rekapitulace stavby'!AN16="","",'Rekapitulace stavby'!AN16) -> 25292161
E21: =IF('Rekapitulace stavby'!E17="","",'Rekapitulace stavby'!E17) -> Prodin a.s. | I21: DIČ: | J21: =IF('Rekapitulace stavby'!AN17="","",'Rekapitulace stavby'!AN17) -> CZ25292161
D23: Zpracovatel: | I23: IČ: | J23: =IF('Rekapitulace stavby'!AN19="","",'Rekapitulace stavby'!AN19) -> 25292161
E24: =IF('Rekapitulace stavby'!E20="","",'Rekapitulace stavby'!E20) -> Prodin a.s. | I24: DIČ: | J24: =IF('Rekapitulace stavby'!AN20="","",'Rekapitulace stavby'!AN20) -> CZ25292161
D26: Poznámka:
D30: Cena bez DPH | J30: =ROUND(J82, 2) -> 0
F32: Základ daně | I32: Sazba daně | J32: Výše daně
D33: DPH | E33: základní | F33: =ROUND((SUM(BE82:BE124)), 2) -> 0 | I33: 0.21 | J33: =ROUND(((SUM(BE82:BE124))*I33), 2) -> 0
E34: snížená | F34: =ROUND((SUM(BF82:BF124)), 2) -> 0 | I34: 0.15 | J34: =ROUND(((SUM(BF82:BF124))*I34), 2) -> 0
E35: zákl. přenesená | F35: =ROUND((SUM(BG82:BG124)), 2) -> 0 | I35: 0.21 | J35: =0 -> 0
E36: sníž. přenesená | F36: =ROUND((SUM(BH82:BH124)), 2) -> 0 | I36: 0.15 | J36: =0 -> 0
E37: nulová | F37: =ROUND((SUM(BI82:BI124)), 2) -> 0 | I37: 0 | J37: =0 -> 0
D39: Cena s DPH | G39: v | H39: CZK | J39: =SUM(J30:J37) -> 0
C45: REKAPITULACE ČLENĚNÍ SOUPISU PRACÍ
C47: Stavba:
E48: =E7 -> Oprava traťového úseku Železný Brod - Tanvald
C49: Objekt:
E50: =E9 -> PS 01-01-01 - Úpravy zabezpečovacího zařízení
C52: Místo: | F52: =F12 | I52: Datum: | J52: =IF(J12="","",J12) -> 11. 2. 2019
C54: Zadavatel: | F54: =E15 -> Správa Železniční dopravní cesty, státní organizace | I54: Projektant: | J54: =E21 -> Prodin a.s.
C55: Uchazeč: | F55: =IF(E18="","",E18) -> 0 | I55: Zpracovatel: | J55: =E24 -> Prodin a.s.
C57: Kód dílu - Popis | J57: Cena celkem [CZK]
C59: Náklady stavby celkem | J59: =J82 -> 0 | AU59: -1
D60: M - Práce a dodávky M | J60: =J88 -> 0
D61: 46-M - Zemní práce při extr.mont.pracích | J61: =J89 -> 0
D62: OST - Ostatní | J62: =J92 -> 0
C69: SOUPIS PRACÍ
...

Sheet SO 01-10-01 - Železniční ...
AT2: {09a7ae61-2c41-4460-a31e-0a9c0453ead6}
AT3: 2
D4: KRYCÍ LIST SOUPISU PRACÍ | M4: v --- níže se nacházejí doplnkové a pomocné údaje k sestavám --- v | AT4: False
D6: Stavba:
E7: ='Rekapitulace stavby'!K6 -> Oprava traťového úseku Železný Brod - Tanvald
D8: Objekt:
E9: SO 01-10-01 - Železniční svršek km 0,148 - km 5,590
D11: KSO: | I11: CC-CZ:
D12: Místo: | I12: Datum: | J12: ='Rekapitulace stavby'!AN8 -> 11. 2. 2019
D14: Zadavatel: | I14: IČ: | J14: =IF('Rekapitulace stavby'!AN10="","",'Rekapitulace stavby'!AN10) -> 70994234
E15: =IF('Rekapitulace stavby'!E11="","",'Rekapitulace stavby'!E11) -> Správa Železniční dopravní cesty, státní organizace | I15: DIČ: | J15: =IF('Rekapitulace stavby'!AN11="","",'Rekapitulace stavby'!AN11) -> CZ70994234
D17: Uchazeč: | I17: IČ: | J17: ='Rekapitulace stavby'!AN13 -> Vyplň údaj
E18: ='Rekapitulace stavby'!E14 -> 0 | I18: DIČ: | J18: ='Rekapitulace stavby'!AN14 -> Vyplň údaj
D20: Projektant: | I20: IČ: | J20: =IF('Rekapitulace stavby'!AN16="","",'Rekapitulace stavby'!AN16) -> 25292161
E21: =IF('Rekapitulace stavby'!E17="","",'Rekapitulace stavby'!E17) -> Prodin a.s. | I21: DIČ: | J21: =IF('Rekapitulace stavby'!AN17="","",'Rekapitulace stavby'!AN17) -> CZ25292161
D23: Zpracovatel: | I23: IČ: | J23: =IF('Rekapitulace stavby'!AN19="","",'Rekapitulace stavby'!AN19) -> 25292161
E24: =IF('Rekapitulace stavby'!E20="","",'Rekapitulace stavby'!E20) -> Prodin a.s. | I24: DIČ: | J24: =IF('Rekapitulace stavby'!AN20="","",'Rekapitulace stavby'!AN20) -> CZ25292161
D26: Poznámka:
D30: Cena bez DPH | J30: =ROUND(J87, 2) -> 12524400
F32: Základ daně | I32: Sazba daně | J32: Výše daně
D33: DPH | E33: základní | F33: =ROUND((SUM(BE87:BE271)), 2) -> 12524400 | I33: 0.21 | J33: =ROUND(((SUM(BE87:BE271))*I33), 2) -> 2630124
E34: snížená | F34: =ROUND((SUM(BF87:BF271)), 2) -> 0 | I34: 0.15 | J34: =ROUND(((SUM(BF87:BF271))*I34), 2) -> 0
E35: zákl. přenesená | F35: =ROUND((SUM(BG87:BG271)), 2) -> 0 | I35: 0.21 | J35: =0 -> 0
E36: sníž. přenesená | F36: =ROUND((SUM(BH87:BH271)), 2) -> 0 | I36: 0.15 | J36: =0 -> 0
E37: nulová | F37: =ROUND((SUM(BI87:BI271)), 2) -> 0 | I37: 0 | J37: =0 -> 0
D39: Cena s DPH | G39: v | H39: CZK | J39: =SUM(J30:J37) -> 15154524
C45: REKAPITULACE ČLENĚNÍ SOUPISU PRACÍ
C47: Stavba:
E48: =E7 -> Oprava traťového úseku Železný Brod - Tanvald
C49: Objekt:
E50: =E9 -> SO 01-10-01 - Železniční svršek km 0,148 - km 5,590
C52: Místo: | F52: =F12 | I52: Datum: | J52: =IF(J12="","",J12) -> 11. 2. 2019
C54: Zadavatel: | F54: =E15 -> Správa Železniční dopravní cesty, státní organizace | I54: Projektant: | J54: =E21 -> Prodin a.s.
C55: Uchazeč: | F55: =IF(E18="","",E18) -> 0 | I55: Zpracovatel: | J55: =E24 -> Prodin a.s.
C57: Kód dílu - Popis | J57: Cena celkem [CZK]
C59: Náklady stavby celkem | J59: =J87 -> 12524400 | AU59: -1
D60: HSV - Práce a dodávky HSV | J60: =J88 -> 12524400
D61: Položky dle ÚOŽI - 2019 | J61: =J89 -> 12524400
D62: 5 - Komunikace pozemní | J62: =J90 -> 12524400
D63: 9 - Ostatní | J63: =J225 -> 0
...

Sheet SO 01-10-01.1 - Náskedná ...
AT2: {62b0e46c-ea1c-404e-aa31-534155cd1abf}
AT3: 2
D4: KRYCÍ LIST SOUPISU PRACÍ | M4: v --- níže se nacházejí doplnkové a pomocné údaje k sestavám --- v | AT4: False
D6: Stavba:
E7: ='Rekapitulace stavby'!K6 -> Oprava traťového úseku Železný Brod - Tanvald
D8: Objekt:
E9: SO 01-10-01.1 - Náskedná úprava GPK a obnova BK v km 0,148 - km 5,590
D11: KSO: | I11: CC-CZ:
D12: Místo: | I12: Datum: | J12: ='Rekapitulace stavby'!AN8 -> 11. 2. 2019
D14: Zadavatel: | I14: IČ: | J14: =IF('Rekapitulace stavby'!AN10="","",'Rekapitulace stavby'!AN10) -> 70994234
E15: =IF('Rekapitulace stavby'!E11="","",'Rekapitulace stavby'!E11) -> Správa Železniční dopravní cesty, státní organizace | I15: DIČ: | J15: =IF('Rekapitulace stavby'!AN11="","",'Rekapitulace stavby'!AN11) -> CZ70994234
D17: Uchazeč: | I17: IČ: | J17: ='Rekapitulace stavby'!AN13 -> Vyplň údaj
E18: ='Rekapitulace stavby'!E14 -> 0 | I18: DIČ: | J18: ='Rekapitulace stavby'!AN14 -> Vyplň údaj
D20: Projektant: | I20: IČ: | J20: =IF('Rekapitulace stavby'!AN16="","",'Rekapitulace stavby'!AN16) -> 25292161
E21: =IF('Rekapitulace stavby'!E17="","",'Rekapitulace stavby'!E17) -> Prodin a.s. | I21: DIČ: | J21: =IF('Rekapitulace stavby'!AN17="","",'Rekapitulace stavby'!AN17) -> CZ25292161
D23: Zpracovatel: | I23: IČ: | J23: =IF('Rekapitulace stavby'!AN19="","",'Rekapitulace stavby'!AN19) -> 25292161
E24: =IF('Rekapitulace stavby'!E20="","",'Rekapitulace stavby'!E20) -> Prodin a.s. | I24: DIČ: | J24: =IF('Rekapitulace stavby'!AN20="","",'Rekapitulace stavby'!AN20) -> CZ25292161
D26: Poznámka:
D30: Cena bez DPH | J30: =ROUND(J83, 2) -> 0
F32: Základ daně | I32: Sazba daně | J32: Výše daně
D33: DPH | E33: základní | F33: =ROUND((SUM(BE83:BE95)), 2) -> 0 | I33: 0.21 | J33: =ROUND(((SUM(BE83:BE95))*I33), 2) -> 0
E34: snížená | F34: =ROUND((SUM(BF83:BF95)), 2) -> 0 | I34: 0.15 | J34: =ROUND(((SUM(BF83:BF95))*I34), 2) -> 0
E35: zákl. přenesená | F35: =ROUND((SUM(BG83:BG95)), 2) -> 0 | I35: 0.21 | J35: =0 -> 0
E36: sníž. přenesená | F36: =ROUND((SUM(BH83:BH95)), 2) -> 0 | I36: 0.15 | J36: =0 -> 0
E37: nulová | F37: =ROUND((SUM(BI83:BI95)), 2) -> 0 | I37: 0 | J37: =0 -> 0
D39: Cena s DPH | G39: v | H39: CZK | J39: =SUM(J30:J37) -> 0
C45: REKAPITULACE ČLENĚNÍ SOUPISU PRACÍ
C47: Stavba:
E48: =E7 -> Oprava traťového úseku Železný Brod - Tanvald
C49: Objekt:
E50: =E9 -> SO 01-10-01.1 - Náskedná úprava GPK a obnova BK v km 0,148 - km 5,590
C52: Místo: | F52: =F12 | I52: Datum: | J52: =IF(J12="","",J12) -> 11. 2. 2019
C54: Zadavatel: | F54: =E15 -> Správa Železniční dopravní cesty, státní organizace | I54: Projektant: | J54: =E21 -> Prodin a.s.
C55: Uchazeč: | F55: =IF(E18="","",E18) -> 0 | I55: Zpracovatel: | J55: =E24 -> Prodin a.s.
C57: Kód dílu - Popis | J57: Cena celkem [CZK]
C59: Náklady stavby celkem | J59: =J83 -> 0 | AU59: -1
D60: HSV - Práce a dodávky HSV | J60: =J84 -> 0
D61: Položky dle ÚOŽI - 2019 | J61: =J85 -> 0
D62: 5 - Komunikace pozemní | J62: =J86 -> 0
D63: 9 - Ostatní | J63: =J93 -> 0
...

Sheet SO 01-10-02 - Železniční ...
AT2: {a6a585c0-9601-4d4d-8c75-68dfe7c53906}
AT3: 2
D4: KRYCÍ LIST SOUPISU PRACÍ | M4: v --- níže se nacházejí doplnkové a pomocné údaje k sestavám --- v | AT4: False
D6: Stavba:
E7: ='Rekapitulace stavby'!K6 -> Oprava traťového úseku Železný Brod - Tanvald
D8: Objekt:
E9: SO 01-10-02 - Železniční svršek km 5,590 - km 11,560
D11: KSO: | I11: CC-CZ:
D12: Místo: | I12: Datum: | J12: ='Rekapitulace stavby'!AN8 -> 11. 2. 2019
D14: Zadavatel: | I14: IČ: | J14: =IF('Rekapitulace stavby'!AN10="","",'Rekapitulace stavby'!AN10) -> 70994234
E15: =IF('Rekapitulace stavby'!E11="","",'Rekapitulace stavby'!E11) -> Správa Železniční dopravní cesty, státní organizace | I15: DIČ: | J15: =IF('Rekapitulace stavby'!AN11="","",'Rekapitulace stavby'!AN11) -> CZ70994234
D17: Uchazeč: | I17: IČ: | J17: ='Rekapitulace stavby'!AN13 -> Vyplň údaj
E18: ='Rekapitulace stavby'!E14 -> 0 | I18: DIČ: | J18: ='Rekapitulace stavby'!AN14 -> Vyplň údaj
D20: Projektant: | I20: IČ: | J20: =IF('Rekapitulace stavby'!AN16="","",'Rekapitulace stavby'!AN16) -> 25292161
E21: =IF('Rekapitulace stavby'!E17="","",'Rekapitulace stavby'!E17) -> Prodin a.s. | I21: DIČ: | J21: =IF('Rekapitulace stavby'!AN17="","",'Rekapitulace stavby'!AN17) -> CZ25292161
D23: Zpracovatel: | I23: IČ: | J23: =IF('Rekapitulace stavby'!AN19="","",'Rekapitulace stavby'!AN19) -> 25292161
E24: =IF('Rekapitulace stavby'!E20="","",'Rekapitulace stavby'!E20) -> Prodin a.s. | I24: DIČ: | J24: =IF('Rekapitulace stavby'!AN20="","",'Rekapitulace stavby'!AN20) -> CZ25292161
D26: Poznámka:
D30: Cena bez DPH | J30: =ROUND(J87, 2) -> 24353600
F32: Základ daně | I32: Sazba daně | J32: Výše daně
D33: DPH | E33: základní | F33: =ROUND((SUM(BE87:BE278)), 2) -> 24353600 | I33: 0.21 | J33: =ROUND(((SUM(BE87:BE278))*I33), 2) -> 5114256
E34: snížená | F34: =ROUND((SUM(BF87:BF278)), 2) -> 0 | I34: 0.15 | J34: =ROUND(((SUM(BF87:BF278))*I34), 2) -> 0
E35: zákl. přenesená | F35: =ROUND((SUM(BG87:BG278)), 2) -> 0 | I35: 0.21 | J35: =0 -> 0
E36: sníž. přenesená | F36: =ROUND((SUM(BH87:BH278)), 2) -> 0 | I36: 0.15 | J36: =0 -> 0
E37: nulová | F37: =ROUND((SUM(BI87:BI278)), 2) -> 0 | I37: 0 | J37: =0 -> 0
D39: Cena s DPH | G39: v | H39: CZK | J39: =SUM(J30:J37) -> 29467856
C45: REKAPITULACE ČLENĚNÍ SOUPISU PRACÍ
C47: Stavba:
E48: =E7 -> Oprava traťového úseku Železný Brod - Tanvald
C49: Objekt:
E50: =E9 -> SO 01-10-02 - Železniční svršek km 5,590 - km 11,560
C52: Místo: | F52: =F12 | I52: Datum: | J52: =IF(J12="","",J12) -> 11. 2. 2019
C54: Zadavatel: | F54: =E15 -> Správa Železniční dopravní cesty, státní organizace | I54: Projektant: | J54: =E21 -> Prodin a.s.
C55: Uchazeč: | F55: =IF(E18="","",E18) -> 0 | I55: Zpracovatel: | J55: =E24 -> Prodin a.s.
C57: Kód dílu - Popis | J57: Cena celkem [CZK]
C59: Náklady stavby celkem | J59: =J87 -> 24353600 | AU59: -1
D60: HSV - Práce a dodávky HSV | J60: =J88 -> 24353600
D61: Položky dle ÚOŽI - 2019 | J61: =J89 -> 24353600
D62: 5 - Komunikace pozemní | J62: =J90 -> 24353600
D63: 9 - Ostatní | J63: =J217 -> 0
...

Sheet SO 01-10-02.1 - Následná ...
AT2: {dc7180a2-5f77-46ab-b2b1-d1568d2e0db4}
AT3: 2
D4: KRYCÍ LIST SOUPISU PRACÍ | M4: v --- níže se nacházejí doplnkové a pomocné údaje k sestavám --- v | AT4: False
D6: Stavba:
E7: ='Rekapitulace stavby'!K6 -> Oprava traťového úseku Železný Brod - Tanvald
D8: Objekt:
E9: SO 01-10-02.1 - Následná úprava GPK a obnova BK v km 5,590 - km 11,560
D11: KSO: | I11: CC-CZ:
D12: Místo: | I12: Datum: | J12: ='Rekapitulace stavby'!AN8 -> 11. 2. 2019
D14: Zadavatel: | I14: IČ: | J14: =IF('Rekapitulace stavby'!AN10="","",'Rekapitulace stavby'!AN10) -> 70994234
E15: =IF('Rekapitulace stavby'!E11="","",'Rekapitulace stavby'!E11) -> Správa Železniční dopravní cesty, státní organizace | I15: DIČ: | J15: =IF('Rekapitulace stavby'!AN11="","",'Rekapitulace stavby'!AN11) -> CZ70994234
D17: Uchazeč: | I17: IČ: | J17: ='Rekapitulace stavby'!AN13 -> Vyplň údaj
E18: ='Rekapitulace stavby'!E14 -> 0 | I18: DIČ: | J18: ='Rekapitulace stavby'!AN14 -> Vyplň údaj
D20: Projektant: | I20: IČ: | J20: =IF('Rekapitulace stavby'!AN16="","",'Rekapitulace stavby'!AN16) -> 25292161
E21: =IF('Rekapitulace stavby'!E17="","",'Rekapitulace stavby'!E17) -> Prodin a.s. | I21: DIČ: | J21: =IF('Rekapitulace stavby'!AN17="","",'Rekapitulace stavby'!AN17) -> CZ25292161
D23: Zpracovatel: | I23: IČ: | J23: =IF('Rekapitulace stavby'!AN19="","",'Rekapitulace stavby'!AN19) -> 25292161
E24: =IF('Rekapitulace stavby'!E20="","",'Rekapitulace stavby'!E20) -> Prodin a.s. | I24: DIČ: | J24: =IF('Rekapitulace stavby'!AN20="","",'Rekapitulace stavby'!AN20) -> CZ25292161
D26: Poznámka:
D30: Cena bez DPH | J30: =ROUND(J83, 2) -> 0
F32: Základ daně | I32: Sazba daně | J32: Výše daně
D33: DPH | E33: základní | F33: =ROUND((SUM(BE83:BE95)), 2) -> 0 | I33: 0.21 | J33: =ROUND(((SUM(BE83:BE95))*I33), 2) -> 0
E34: snížená | F34: =ROUND((SUM(BF83:BF95)), 2) -> 0 | I34: 0.15 | J34: =ROUND(((SUM(BF83:BF95))*I34), 2) -> 0
E35: zákl. přenesená | F35: =ROUND((SUM(BG83:BG95)), 2) -> 0 | I35: 0.21 | J35: =0 -> 0
E36: sníž. přenesená | F36: =ROUND((SUM(BH83:BH95)), 2) -> 0 | I36: 0.15 | J36: =0 -> 0
E37: nulová | F37: =ROUND((SUM(BI83:BI95)), 2) -> 0 | I37: 0 | J37: =0 -> 0
D39: Cena s DPH | G39: v | H39: CZK | J39: =SUM(J30:J37) -> 0
C45: REKAPITULACE ČLENĚNÍ SOUPISU PRACÍ
C47: Stavba:
E48: =E7 -> Oprava traťového úseku Železný Brod - Tanvald
C49: Objekt:
E50: =E9 -> SO 01-10-02.1 - Následná úprava GPK a obnova BK v km 5,590 - km 11,560
C52: Místo: | F52: =F12 | I52: Datum: | J52: =IF(J12="","",J12) -> 11. 2. 2019
C54: Zadavatel: | F54: =E15 -> Správa Železniční dopravní cesty, státní organizace | I54: Projektant: | J54: =E21 -> Prodin a.s.
C55: Uchazeč: | F55: =IF(E18="","",E18) -> 0 | I55: Zpracovatel: | J55: =E24 -> Prodin a.s.
C57: Kód dílu - Popis | J57: Cena celkem [CZK]
C59: Náklady stavby celkem | J59: =J83 -> 0 | AU59: -1
D60: HSV - Práce a dodávky HSV | J60: =J84 -> 0
D61: Položky dle ÚOŽI - 2019 | J61: =J85 -> 0
D62: 5 - Komunikace pozemní | J62: =J86 -> 0
D63: 9 - Ostatní | J63: =J93 -> 0
...

Sheet SO 01-10-03 - Železniční ...
AT2: {51dcfd11-d90f-4f26-a20c-bcf4978c43c0}
AT3: 2
D4: KRYCÍ LIST SOUPISU PRACÍ | M4: v --- níže se nacházejí doplnkové a pomocné údaje k sestavám --- v | AT4: False
D6: Stavba:
E7: ='Rekapitulace stavby'!K6 -> Oprava traťového úseku Železný Brod - Tanvald
D8: Objekt:
E9: SO 01-10-03 - Železniční svršek, km 11,560 - 13,149
D11: KSO: | I11: CC-CZ:
D12: Místo: | I12: Datum: | J12: ='Rekapitulace stavby'!AN8 -> 11. 2. 2019
D14: Zadavatel: | I14: IČ: | J14: =IF('Rekapitulace stavby'!AN10="","",'Rekapitulace stavby'!AN10) -> 70994234
E15: =IF('Rekapitulace stavby'!E11="","",'Rekapitulace stavby'!E11) -> Správa Železniční dopravní cesty, státní organizace | I15: DIČ: | J15: =IF('Rekapitulace stavby'!AN11="","",'Rekapitulace stavby'!AN11) -> CZ70994234
D17: Uchazeč: | I17: IČ: | J17: ='Rekapitulace stavby'!AN13 -> Vyplň údaj
E18: ='Rekapitulace stavby'!E14 -> 0 | I18: DIČ: | J18: ='Rekapitulace stavby'!AN14 -> Vyplň údaj
D20: Projektant: | I20: IČ: | J20: =IF('Rekapitulace stavby'!AN16="","",'Rekapitulace stavby'!AN16) -> 25292161
E21: =IF('Rekapitulace stavby'!E17="","",'Rekapitulace stavby'!E17) -> Prodin a.s. | I21: DIČ: | J21: =IF('Rekapitulace stavby'!AN17="","",'Rekapitulace stavby'!AN17) -> CZ25292161
D23: Zpracovatel: | I23: IČ: | J23: =IF('Rekapitulace stavby'!AN19="","",'Rekapitulace stavby'!AN19) -> 25292161
E24: =IF('Rekapitulace stavby'!E20="","",'Rekapitulace stavby'!E20) -> Prodin a.s. | I24: DIČ: | J24: =IF('Rekapitulace stavby'!AN20="","",'Rekapitulace stavby'!AN20) -> CZ25292161
D26: Poznámka:
D30: Cena bez DPH | J30: =ROUND(J87, 2) -> 0
F32: Základ daně | I32: Sazba daně | J32: Výše daně
D33: DPH | E33: základní | F33: =ROUND((SUM(BE87:BE255)), 2) -> 0 | I33: 0.21 | J33: =ROUND(((SUM(BE87:BE255))*I33), 2) -> 0
E34: snížená | F34: =ROUND((SUM(BF87:BF255)), 2) -> 0 | I34: 0.15 | J34: =ROUND(((SUM(BF87:BF255))*I34), 2) -> 0
E35: zákl. přenesená | F35: =ROUND((SUM(BG87:BG255)), 2) -> 0 | I35: 0.21 | J35: =0 -> 0
E36: sníž. přenesená | F36: =ROUND((SUM(BH87:BH255)), 2) -> 0 | I36: 0.15 | J36: =0 -> 0
E37: nulová | F37: =ROUND((SUM(BI87:BI255)), 2) -> 0 | I37: 0 | J37: =0 -> 0
D39: Cena s DPH | G39: v | H39: CZK | J39: =SUM(J30:J37) -> 0
C45: REKAPITULACE ČLENĚNÍ SOUPISU PRACÍ
C47: Stavba:
E48: =E7 -> Oprava traťového úseku Železný Brod - Tanvald
C49: Objekt:
E50: =E9 -> SO 01-10-03 - Železniční svršek, km 11,560 - 13,149
C52: Místo: | F52: =F12 | I52: Datum: | J52: =IF(J12="","",J12) -> 11. 2. 2019
C54: Zadavatel: | F54: =E15 -> Správa Železniční dopravní cesty, státní organizace | I54: Projektant: | J54: =E21 -> Prodin a.s.
C55: Uchazeč: | F55: =IF(E18="","",E18) -> 0 | I55: Zpracovatel: | J55: =E24 -> Prodin a.s.
C57: Kód dílu - Popis | J57: Cena celkem [CZK]
C59: Náklady stavby celkem | J59: =J87 -> 0 | AU59: -1
D60: HSV - Práce a dodávky HSV | J60: =J88 -> 0
D61: Položky dle ÚOŽI - 2019 | J61: =J89 -> 0
D62: 5 - Komunikace pozemní | J62: =J90 -> 0
D63: 9 - Ostatní | J63: =J195 -> 0
...

Sheet SO 01-10-03.1 - Následná ...
AT2: {e60172b6-f20d-4cef-b49e-d6169a743353}
AT3: 2
D4: KRYCÍ LIST SOUPISU PRACÍ | M4: v --- níže se nacházejí doplnkové a pomocné údaje k sestavám --- v | AT4: False
D6: Stavba:
E7: ='Rekapitulace stavby'!K6 -> Oprava traťového úseku Železný Brod - Tanvald
D8: Objekt:
E9: SO 01-10-03.1 - Následná úprava GPK a obnova BK v km 11,560 - 13,149
D11: KSO: | I11: CC-CZ:
D12: Místo: | I12: Datum: | J12: ='Rekapitulace stavby'!AN8 -> 11. 2. 2019
D14: Zadavatel: | I14: IČ: | J14: =IF('Rekapitulace stavby'!AN10="","",'Rekapitulace stavby'!AN10) -> 70994234
E15: =IF('Rekapitulace stavby'!E11="","",'Rekapitulace stavby'!E11) -> Správa Železniční dopravní cesty, státní organizace | I15: DIČ: | J15: =IF('Rekapitulace stavby'!AN11="","",'Rekapitulace stavby'!AN11) -> CZ70994234
D17: Uchazeč: | I17: IČ: | J17: ='Rekapitulace stavby'!AN13 -> Vyplň údaj
E18: ='Rekapitulace stavby'!E14 -> 0 | I18: DIČ: | J18: ='Rekapitulace stavby'!AN14 -> Vyplň údaj
D20: Projektant: | I20: IČ: | J20: =IF('Rekapitulace stavby'!AN16="","",'Rekapitulace stavby'!AN16) -> 25292161
E21: =IF('Rekapitulace stavby'!E17="","",'Rekapitulace stavby'!E17) -> Prodin a.s. | I21: DIČ: | J21: =IF('Rekapitulace stavby'!AN17="","",'Rekapitulace stavby'!AN17) -> CZ25292161
D23: Zpracovatel: | I23: IČ: | J23: =IF('Rekapitulace stavby'!AN19="","",'Rekapitulace stavby'!AN19) -> 25292161
E24: =IF('Rekapitulace stavby'!E20="","",'Rekapitulace stavby'!E20) -> Prodin a.s. | I24: DIČ: | J24: =IF('Rekapitulace stavby'!AN20="","",'Rekapitulace stavby'!AN20) -> CZ25292161
D26: Poznámka:
D30: Cena bez DPH | J30: =ROUND(J83, 2) -> 0
F32: Základ daně | I32: Sazba daně | J32: Výše daně
D33: DPH | E33: základní | F33: =ROUND((SUM(BE83:BE92)), 2) -> 0 | I33: 0.21 | J33: =ROUND(((SUM(BE83:BE92))*I33), 2) -> 0
E34: snížená | F34: =ROUND((SUM(BF83:BF92)), 2) -> 0 | I34: 0.15 | J34: =ROUND(((SUM(BF83:BF92))*I34), 2) -> 0
E35: zákl. přenesená | F35: =ROUND((SUM(BG83:BG92)), 2) -> 0 | I35: 0.21 | J35: =0 -> 0
E36: sníž. přenesená | F36: =ROUND((SUM(BH83:BH92)), 2) -> 0 | I36: 0.15 | J36: =0 -> 0
E37: nulová | F37: =ROUND((SUM(BI83:BI92)), 2) -> 0 | I37: 0 | J37: =0 -> 0
D39: Cena s DPH | G39: v | H39: CZK | J39: =SUM(J30:J37) -> 0
C45: REKAPITULACE ČLENĚNÍ SOUPISU PRACÍ
C47: Stavba:
E48: =E7 -> Oprava traťového úseku Železný Brod - Tanvald
C49: Objekt:
E50: =E9 -> SO 01-10-03.1 - Následná úprava GPK a obnova BK v km 11,560 - 13,149
C52: Místo: | F52: =F12 | I52: Datum: | J52: =IF(J12="","",J12) -> 11. 2. 2019
C54: Zadavatel: | F54: =E15 -> Správa Železniční dopravní cesty, státní organizace | I54: Projektant: | J54: =E21 -> Prodin a.s.
C55: Uchazeč: | F55: =IF(E18="","",E18) -> 0 | I55: Zpracovatel: | J55: =E24 -> Prodin a.s.
C57: Kód dílu - Popis | J57: Cena celkem [CZK]
C59: Náklady stavby celkem | J59: =J83 -> 0 | AU59: -1
D60: HSV - Práce a dodávky HSV | J60: =J84 -> 0
D61: Položky dle ÚOŽI - 2019 | J61: =J85 -> 0
D62: 5 - Komunikace pozemní | J62: =J86 -> 0
D63: 9 - Ostatní | J63: =J90 -> 0
...

Sheet SO 01-10-04 - Železniční ...
AT2: {2782bf55-6279-4a88-9f0c-eeb9538f9355}
AT3: 2
D4: KRYCÍ LIST SOUPISU PRACÍ | M4: v --- níže se nacházejí doplnkové a pomocné údaje k sestavám --- v | AT4: False
D6: Stavba:
E7: ='Rekapitulace stavby'!K6 -> Oprava traťového úseku Železný Brod - Tanvald
D8: Objekt:
E9: SO 01-10-04 - Železniční svršek, km 13,149 - km 16,824
D11: KSO: | I11: CC-CZ:
D12: Místo: | I12: Datum: | J12: ='Rekapitulace stavby'!AN8 -> 11. 2. 2019
D14: Zadavatel: | I14: IČ: | J14: =IF('Rekapitulace stavby'!AN10="","",'Rekapitulace stavby'!AN10) -> 70994234
E15: =IF('Rekapitulace stavby'!E11="","",'Rekapitulace stavby'!E11) -> Správa Železniční dopravní cesty, státní organizace | I15: DIČ: | J15: =IF('Rekapitulace stavby'!AN11="","",'Rekapitulace stavby'!AN11) -> CZ70994234
D17: Uchazeč: | I17: IČ: | J17: ='Rekapitulace stavby'!AN13 -> Vyplň údaj
E18: ='Rekapitulace stavby'!E14 -> 0 | I18: DIČ: | J18: ='Rekapitulace stavby'!AN14 -> Vyplň údaj
D20: Projektant: | I20: IČ: | J20: =IF('Rekapitulace stavby'!AN16="","",'Rekapitulace stavby'!AN16) -> 25292161
E21: =IF('Rekapitulace stavby'!E17="","",'Rekapitulace stavby'!E17) -> Prodin a.s. | I21: DIČ: | J21: =IF('Rekapitulace stavby'!AN17="","",'Rekapitulace stavby'!AN17) -> CZ25292161
D23: Zpracovatel: | I23: IČ: | J23: =IF('Rekapitulace stavby'!AN19="","",'Rekapitulace stavby'!AN19) -> 25292161
E24: =IF('Rekapitulace stavby'!E20="","",'Rekapitulace stavby'!E20) -> Prodin a.s. | I24: DIČ: | J24: =IF('Rekapitulace stavby'!AN20="","",'Rekapitulace stavby'!AN20) -> CZ25292161
D26: Poznámka:
D30: Cena bez DPH | J30: =ROUND(J88, 2) -> 6581700
F32: Základ daně | I32: Sazba daně | J32: Výše daně
D33: DPH | E33: základní | F33: =ROUND((SUM(BE88:BE293)), 2) -> 6581700 | I33: 0.21 | J33: =ROUND(((SUM(BE88:BE293))*I33), 2) -> 1382157
E34: snížená | F34: =ROUND((SUM(BF88:BF293)), 2) -> 0 | I34: 0.15 | J34: =ROUND(((SUM(BF88:BF293))*I34), 2) -> 0
E35: zákl. přenesená | F35: =ROUND((SUM(BG88:BG293)), 2) -> 0 | I35: 0.21 | J35: =0 -> 0
E36: sníž. přenesená | F36: =ROUND((SUM(BH88:BH293)), 2) -> 0 | I36: 0.15 | J36: =0 -> 0
E37: nulová | F37: =ROUND((SUM(BI88:BI293)), 2) -> 0 | I37: 0 | J37: =0 -> 0
D39: Cena s DPH | G39: v | H39: CZK | J39: =SUM(J30:J37) -> 7963857
C45: REKAPITULACE ČLENĚNÍ SOUPISU PRACÍ
C47: Stavba:
E48: =E7 -> Oprava traťového úseku Železný Brod - Tanvald
C49: Objekt:
E50: =E9 -> SO 01-10-04 - Železniční svršek, km 13,149 - km 16,824
C52: Místo: | F52: =F12 | I52: Datum: | J52: =IF(J12="","",J12) -> 11. 2. 2019
C54: Zadavatel: | F54: =E15 -> Správa Železniční dopravní cesty, státní organizace | I54: Projektant: | J54: =E21 -> Prodin a.s.
C55: Uchazeč: | F55: =IF(E18="","",E18) -> 0 | I55: Zpracovatel: | J55: =E24 -> Prodin a.s.
C57: Kód dílu - Popis | J57: Cena celkem [CZK]
C59: Náklady stavby celkem | J59: =J88 -> 6581700 | AU59: -1
D60: HSV - Práce a dodávky HSV | J60: =J89 -> 6581700
D61: Položky dle ÚOŽI - 2019 | J61: =J90 -> 6581700
D62: 5 - Komunikace pozemní | J62: =J91 -> 6581700
D63: 9 - Ostatní | J63: =J237 -> 0
...

Sheet SO 01-10-04.1 - Následná ...
AT2: {67694fd0-8e49-4f6d-bc01-79649ce5a1a4}
AT3: 2
D4: KRYCÍ LIST SOUPISU PRACÍ | M4: v --- níže se nacházejí doplnkové a pomocné údaje k sestavám --- v | AT4: False
D6: Stavba:
E7: ='Rekapitulace stavby'!K6 -> Oprava traťového úseku Železný Brod - Tanvald
D8: Objekt:
E9: SO 01-10-04.1 - Následná úprava GPK a obnova BK v km 13,149 - km 16,824
D11: KSO: | I11: CC-CZ:
D12: Místo: | I12: Datum: | J12: ='Rekapitulace stavby'!AN8 -> 11. 2. 2019
D14: Zadavatel: | I14: IČ: | J14: =IF('Rekapitulace stavby'!AN10="","",'Rekapitulace stavby'!AN10) -> 70994234
E15: =IF('Rekapitulace stavby'!E11="","",'Rekapitulace stavby'!E11) -> Správa Železniční dopravní cesty, státní organizace | I15: DIČ: | J15: =IF('Rekapitulace stavby'!AN11="","",'Rekapitulace stavby'!AN11) -> CZ70994234
D17: Uchazeč: | I17: IČ: | J17: ='Rekapitulace stavby'!AN13 -> Vyplň údaj
E18: ='Rekapitulace stavby'!E14 -> 0 | I18: DIČ: | J18: ='Rekapitulace stavby'!AN14 -> Vyplň údaj
D20: Projektant: | I20: IČ: | J20: =IF('Rekapitulace stavby'!AN16="","",'Rekapitulace stavby'!AN16) -> 25292161
E21: =IF('Rekapitulace stavby'!E17="","",'Rekapitulace stavby'!E17) -> Prodin a.s. | I21: DIČ: | J21: =IF('Rekapitulace stavby'!AN17="","",'Rekapitulace stavby'!AN17) -> CZ25292161
D23: Zpracovatel: | I23: IČ: | J23: =IF('Rekapitulace stavby'!AN19="","",'Rekapitulace stavby'!AN19) -> 25292161
E24: =IF('Rekapitulace stavby'!E20="","",'Rekapitulace stavby'!E20) -> Prodin a.s. | I24: DIČ: | J24: =IF('Rekapitulace stavby'!AN20="","",'Rekapitulace stavby'!AN20) -> CZ25292161
D26: Poznámka:
D30: Cena bez DPH | J30: =ROUND(J83, 2) -> 0
F32: Základ daně | I32: Sazba daně | J32: Výše daně
D33: DPH | E33: základní | F33: =ROUND((SUM(BE83:BE95)), 2) -> 0 | I33: 0.21 | J33: =ROUND(((SUM(BE83:BE95))*I33), 2) -> 0
E34: snížená | F34: =ROUND((SUM(BF83:BF95)), 2) -> 0 | I34: 0.15 | J34: =ROUND(((SUM(BF83:BF95))*I34), 2) -> 0
E35: zákl. přenesená | F35: =ROUND((SUM(BG83:BG95)), 2) -> 0 | I35: 0.21 | J35: =0 -> 0
E36: sníž. přenesená | F36: =ROUND((SUM(BH83:BH95)), 2) -> 0 | I36: 0.15 | J36: =0 -> 0
E37: nulová | F37: =ROUND((SUM(BI83:BI95)), 2) -> 0 | I37: 0 | J37: =0 -> 0
D39: Cena s DPH | G39: v | H39: CZK | J39: =SUM(J30:J37) -> 0
C45: REKAPITULACE ČLENĚNÍ SOUPISU PRACÍ
C47: Stavba:
E48: =E7 -> Oprava traťového úseku Železný Brod - Tanvald
C49: Objekt:
E50: =E9 -> SO 01-10-04.1 - Následná úprava GPK a obnova BK v km 13,149 - km 16,824
C52: Místo: | F52: =F12 | I52: Datum: | J52: =IF(J12="","",J12) -> 11. 2. 2019
C54: Zadavatel: | F54: =E15 -> Správa Železniční dopravní cesty, státní organizace | I54: Projektant: | J54: =E21 -> Prodin a.s.
C55: Uchazeč: | F55: =IF(E18="","",E18) -> 0 | I55: Zpracovatel: | J55: =E24 -> Prodin a.s.
C57: Kód dílu - Popis | J57: Cena celkem [CZK]
C59: Náklady stavby celkem | J59: =J83 -> 0 | AU59: -1
D60: HSV - Práce a dodávky HSV | J60: =J84 -> 0
D61: Položky dle ÚOŽI - 2019 | J61: =J85 -> 0
D62: 5 - Komunikace pozemní | J62: =J86 -> 0
D63: 9 - Ostatní | J63: =J93 -> 0
...

Sheet SO 01-11-01 - Zastávka Sp...
AT2: {0bc1b90f-e30a-49c5-bbe2-77450e0c8f69}
AT3: 2
D4: KRYCÍ LIST SOUPISU PRACÍ | M4: v --- níže se nacházejí doplnkové a pomocné údaje k sestavám --- v | AT4: False
D6: Stavba:
E7: ='Rekapitulace stavby'!K6 -> Oprava traťového úseku Železný Brod - Tanvald
D8: Objekt:
E9: SO 01-11-01 - Zastávka Spálov, nástupiště
D11: KSO: | I11: CC-CZ:
D12: Místo: | I12: Datum: | J12: ='Rekapitulace stavby'!AN8 -> 11. 2. 2019
D14: Zadavatel: | I14: IČ: | J14: =IF('Rekapitulace stavby'!AN10="","",'Rekapitulace stavby'!AN10) -> 70994234
E15: =IF('Rekapitulace stavby'!E11="","",'Rekapitulace stavby'!E11) -> Správa Železniční dopravní cesty, státní organizace | I15: DIČ: | J15: =IF('Rekapitulace stavby'!AN11="","",'Rekapitulace stavby'!AN11) -> CZ70994234
D17: Uchazeč: | I17: IČ: | J17: ='Rekapitulace stavby'!AN13 -> Vyplň údaj
E18: ='Rekapitulace stavby'!E14 -> 0 | I18: DIČ: | J18: ='Rekapitulace stavby'!AN14 -> Vyplň údaj
D20: Projektant: | I20: IČ: | J20: =IF('Rekapitulace stavby'!AN16="","",'Rekapitulace stavby'!AN16) -> 25292161
E21: =IF('Rekapitulace stavby'!E17="","",'Rekapitulace stavby'!E17) -> Prodin a.s. | I21: DIČ: | J21: =IF('Rekapitulace stavby'!AN17="","",'Rekapitulace stavby'!AN17) -> CZ25292161
D23: Zpracovatel: | I23: IČ: | J23: =IF('Rekapitulace stavby'!AN19="","",'Rekapitulace stavby'!AN19) -> 25292161
E24: =IF('Rekapitulace stavby'!E20="","",'Rekapitulace stavby'!E20) -> Prodin a.s. | I24: DIČ: | J24: =IF('Rekapitulace stavby'!AN20="","",'Rekapitulace stavby'!AN20) -> CZ25292161
D26: Poznámka:
D30: Cena bez DPH | J30: =ROUND(J87, 2) -> 0
F32: Základ daně | I32: Sazba daně | J32: Výše daně
D33: DPH | E33: základní | F33: =ROUND((SUM(BE87:BE129)), 2) -> 0 | I33: 0.21 | J33: =ROUND(((SUM(BE87:BE129))*I33), 2) -> 0
E34: snížená | F34: =ROUND((SUM(BF87:BF129)), 2) -> 0 | I34: 0.15 | J34: =ROUND(((SUM(BF87:BF129))*I34), 2) -> 0
E35: zákl. přenesená | F35: =ROUND((SUM(BG87:BG129)), 2) -> 0 | I35: 0.21 | J35: =0 -> 0
E36: sníž. přenesená | F36: =ROUND((SUM(BH87:BH129)), 2) -> 0 | I36: 0.15 | J36: =0 -> 0
E37: nulová | F37: =ROUND((SUM(BI87:BI129)), 2) -> 0 | I37: 0 | J37: =0 -> 0
D39: Cena s DPH | G39: v | H39: CZK | J39: =SUM(J30:J37) -> 0
C45: REKAPITULACE ČLENĚNÍ SOUPISU PRACÍ
C47: Stavba:
E48: =E7 -> Oprava traťového úseku Železný Brod - Tanvald
C49: Objekt:
E50: =E9 -> SO 01-11-01 - Zastávka Spálov, nástupiště
C52: Místo: | F52: =F12 | I52: Datum: | J52: =IF(J12="","",J12) -> 11. 2. 2019
C54: Zadavatel: | F54: =E15 -> Správa Železniční dopravní cesty, státní organizace | I54: Projektant: | J54: =E21 -> Prodin a.s.
C55: Uchazeč: | F55: =IF(E18="","",E18) -> 0 | I55: Zpracovatel: | J55: =E24 -> Prodin a.s.
C57: Kód dílu - Popis | J57: Cena celkem [CZK]
C59: Náklady stavby celkem | J59: =J87 -> 0 | AU59: -1
D60: HSV - Práce a dodávky HSV | J60: =J88 -> 0
D61: Položky dle ÚOŽI - 2019 | J61: =J89 -> 0
D62: 5 - Komunikace pozemní | J62: =J90 -> 0
D63: 9 - Ostatní | J63: =J102 -> 0
...

Sheet SO 01-11-02 - Zastávka Je...
AT2: {a8dc22b6-a0b8-4e8c-a579-acca1021ae11}
AT3: 2
D4: KRYCÍ LIST SOUPISU PRACÍ | M4: v --- níže se nacházejí doplnkové a pomocné údaje k sestavám --- v | AT4: False
D6: Stavba:
E7: ='Rekapitulace stavby'!K6 -> Oprava traťového úseku Železný Brod - Tanvald
D8: Objekt:
E9: SO 01-11-02 - Zastávka Jesenný, nástupiště
D11: KSO: | I11: CC-CZ:
D12: Místo: | I12: Datum: | J12: ='Rekapitulace stavby'!AN8 -> 11. 2. 2019
D14: Zadavatel: | I14: IČ: | J14: =IF('Rekapitulace stavby'!AN10="","",'Rekapitulace stavby'!AN10) -> 70994234
E15: =IF('Rekapitulace stavby'!E11="","",'Rekapitulace stavby'!E11) -> Správa Železniční dopravní cesty, státní organizace | I15: DIČ: | J15: =IF('Rekapitulace stavby'!AN11="","",'Rekapitulace stavby'!AN11) -> CZ70994234
D17: Uchazeč: | I17: IČ: | J17: ='Rekapitulace stavby'!AN13 -> Vyplň údaj
E18: ='Rekapitulace stavby'!E14 -> 0 | I18: DIČ: | J18: ='Rekapitulace stavby'!AN14 -> Vyplň údaj
D20: Projektant: | I20: IČ: | J20: =IF('Rekapitulace stavby'!AN16="","",'Rekapitulace stavby'!AN16) -> 25292161
E21: =IF('Rekapitulace stavby'!E17="","",'Rekapitulace stavby'!E17) -> Prodin a.s. | I21: DIČ: | J21: =IF('Rekapitulace stavby'!AN17="","",'Rekapitulace stavby'!AN17) -> CZ25292161
D23: Zpracovatel: | I23: IČ: | J23: =IF('Rekapitulace stavby'!AN19="","",'Rekapitulace stavby'!AN19) -> 25292161
E24: =IF('Rekapitulace stavby'!E20="","",'Rekapitulace stavby'!E20) -> Prodin a.s. | I24: DIČ: | J24: =IF('Rekapitulace stavby'!AN20="","",'Rekapitulace stavby'!AN20) -> CZ25292161
D26: Poznámka:
D30: Cena bez DPH | J30: =ROUND(J85, 2) -> 0
F32: Základ daně | I32: Sazba daně | J32: Výše daně
D33: DPH | E33: základní | F33: =ROUND((SUM(BE85:BE118)), 2) -> 0 | I33: 0.21 | J33: =ROUND(((SUM(BE85:BE118))*I33), 2) -> 0
E34: snížená | F34: =ROUND((SUM(BF85:BF118)), 2) -> 0 | I34: 0.15 | J34: =ROUND(((SUM(BF85:BF118))*I34), 2) -> 0
E35: zákl. přenesená | F35: =ROUND((SUM(BG85:BG118)), 2) -> 0 | I35: 0.21 | J35: =0 -> 0
E36: sníž. přenesená | F36: =ROUND((SUM(BH85:BH118)), 2) -> 0 | I36: 0.15 | J36: =0 -> 0
E37: nulová | F37: =ROUND((SUM(BI85:BI118)), 2) -> 0 | I37: 0 | J37: =0 -> 0
D39: Cena s DPH | G39: v | H39: CZK | J39: =SUM(J30:J37) -> 0
C45: REKAPITULACE ČLENĚNÍ SOUPISU PRACÍ
C47: Stavba:
E48: =E7 -> Oprava traťového úseku Železný Brod - Tanvald
C49: Objekt:
E50: =E9 -> SO 01-11-02 - Zastávka Jesenný, nástupiště
C52: Místo: | F52: =F12 | I52: Datum: | J52: =IF(J12="","",J12) -> 11. 2. 2019
C54: Zadavatel: | F54: =E15 -> Správa Železniční dopravní cesty, státní organizace | I54: Projektant: | J54: =E21 -> Prodin a.s.
C55: Uchazeč: | F55: =IF(E18="","",E18) -> 0 | I55: Zpracovatel: | J55: =E24 -> Prodin a.s.
C57: Kód dílu - Popis | J57: Cena celkem [CZK]
C59: Náklady stavby celkem | J59: =J85 -> 0 | AU59: -1
D60: HSV - Práce a dodávky HSV | J60: =J86 -> 0
D61: Položky dle ÚOŽI - 2019 | J61: =J87 -> 0
D62: 5 - Komunikace pozemní | J62: =J88 -> 0
D63: 9 - Ostatní | J63: =J97 -> 0
...

Sheet SO 01-11-03 - Zastávka Ná...
AT2: {00a152cf-264f-438b-b80a-c9126e2f88c3}
AT3: 2
D4: KRYCÍ LIST SOUPISU PRACÍ | M4: v --- níže se nacházejí doplnkové a pomocné údaje k sestavám --- v | AT4: False
D6: Stavba:
E7: ='Rekapitulace stavby'!K6 -> Oprava traťového úseku Železný Brod - Tanvald
D8: Objekt:
E9: SO 01-11-03 - Zastávka Návarov, nástupiště
D11: KSO: | I11: CC-CZ:
D12: Místo: | I12: Datum: | J12: ='Rekapitulace stavby'!AN8 -> 11. 2. 2019
D14: Zadavatel: | I14: IČ: | J14: =IF('Rekapitulace stavby'!AN10="","",'Rekapitulace stavby'!AN10) -> 70994234
E15: =IF('Rekapitulace stavby'!E11="","",'Rekapitulace stavby'!E11) -> Správa Železniční dopravní cesty, státní organizace | I15: DIČ: | J15: =IF('Rekapitulace stavby'!AN11="","",'Rekapitulace stavby'!AN11) -> CZ70994234
D17: Uchazeč: | I17: IČ: | J17: ='Rekapitulace stavby'!AN13 -> Vyplň údaj
E18: ='Rekapitulace stavby'!E14 -> 0 | I18: DIČ: | J18: ='Rekapitulace stavby'!AN14 -> Vyplň údaj
D20: Projektant: | I20: IČ: | J20: =IF('Rekapitulace stavby'!AN16="","",'Rekapitulace stavby'!AN16) -> 25292161
E21: =IF('Rekapitulace stavby'!E17="","",'Rekapitulace stavby'!E17) -> Prodin a.s. | I21: DIČ: | J21: =IF('Rekapitulace stavby'!AN17="","",'Rekapitulace stavby'!AN17) -> CZ25292161
D23: Zpracovatel: | I23: IČ: | J23: =IF('Rekapitulace stavby'!AN19="","",'Rekapitulace stavby'!AN19) -> 25292161
E24: =IF('Rekapitulace stavby'!E20="","",'Rekapitulace stavby'!E20) -> Prodin a.s. | I24: DIČ: | J24: =IF('Rekapitulace stavby'!AN20="","",'Rekapitulace stavby'!AN20) -> CZ25292161
D26: Poznámka:
D30: Cena bez DPH | J30: =ROUND(J85, 2) -> 0
F32: Základ daně | I32: Sazba daně | J32: Výše daně
D33: DPH | E33: základní | F33: =ROUND((SUM(BE85:BE126)), 2) -> 0 | I33: 0.21 | J33: =ROUND(((SUM(BE85:BE126))*I33), 2) -> 0
E34: snížená | F34: =ROUND((SUM(BF85:BF126)), 2) -> 0 | I34: 0.15 | J34: =ROUND(((SUM(BF85:BF126))*I34), 2) -> 0
E35: zákl. přenesená | F35: =ROUND((SUM(BG85:BG126)), 2) -> 0 | I35: 0.21 | J35: =0 -> 0
E36: sníž. přenesená | F36: =ROUND((SUM(BH85:BH126)), 2) -> 0 | I36: 0.15 | J36: =0 -> 0
E37: nulová | F37: =ROUND((SUM(BI85:BI126)), 2) -> 0 | I37: 0 | J37: =0 -> 0
D39: Cena s DPH | G39: v | H39: CZK | J39: =SUM(J30:J37) -> 0
C45: REKAPITULACE ČLENĚNÍ SOUPISU PRACÍ
C47: Stavba:
E48: =E7 -> Oprava traťového úseku Železný Brod - Tanvald
C49: Objekt:
E50: =E9 -> SO 01-11-03 - Zastávka Návarov, nástupiště
C52: Místo: | F52: =F12 | I52: Datum: | J52: =IF(J12="","",J12) -> 11. 2. 2019
C54: Zadavatel: | F54: =E15 -> Správa Železniční dopravní cesty, státní organizace | I54: Projektant: | J54: =E21 -> Prodin a.s.
C55: Uchazeč: | F55: =IF(E18="","",E18) -> 0 | I55: Zpracovatel: | J55: =E24 -> Prodin a.s.
C57: Kód dílu - Popis | J57: Cena celkem [CZK]
C59: Náklady stavby celkem | J59: =J85 -> 0 | AU59: -1
D60: HSV - Práce a dodávky HSV | J60: =J86 -> 0
D61: Položky dle ÚOŽI - 2019 | J61: =J87 -> 0
D62: 5 - Komunikace pozemní | J62: =J88 -> 0
D63: 9 - Ostatní | J63: =J100 -> 0
...

Sheet SO 01-11-04 - ŽST Velké H...
AT2: {7d4840b9-0983-4988-82e1-1cbc9952fa67}
AT3: 2
D4: KRYCÍ LIST SOUPISU PRACÍ | M4: v --- níže se nacházejí doplnkové a pomocné údaje k sestavám --- v | AT4: False
D6: Stavba:
E7: ='Rekapitulace stavby'!K6 -> Oprava traťového úseku Železný Brod - Tanvald
D8: Objekt:
E9: SO 01-11-04 - ŽST Velké Hamry, nástupiště 1. a 2.
D11: KSO: | I11: CC-CZ:
D12: Místo: | I12: Datum: | J12: ='Rekapitulace stavby'!AN8 -> 11. 2. 2019
D14: Zadavatel: | I14: IČ: | J14: =IF('Rekapitulace stavby'!AN10="","",'Rekapitulace stavby'!AN10) -> 70994234
E15: =IF('Rekapitulace stavby'!E11="","",'Rekapitulace stavby'!E11) -> Správa Železniční dopravní cesty, státní organizace | I15: DIČ: | J15: =IF('Rekapitulace stavby'!AN11="","",'Rekapitulace stavby'!AN11) -> CZ70994234
D17: Uchazeč: | I17: IČ: | J17: ='Rekapitulace stavby'!AN13 -> Vyplň údaj
E18: ='Rekapitulace stavby'!E14 -> 0 | I18: DIČ: | J18: ='Rekapitulace stavby'!AN14 -> Vyplň údaj
D20: Projektant: | I20: IČ: | J20: =IF('Rekapitulace stavby'!AN16="","",'Rekapitulace stavby'!AN16) -> 25292161
E21: =IF('Rekapitulace stavby'!E17="","",'Rekapitulace stavby'!E17) -> Prodin a.s. | I21: DIČ: | J21: =IF('Rekapitulace stavby'!AN17="","",'Rekapitulace stavby'!AN17) -> CZ25292161
D23: Zpracovatel: | I23: IČ: | J23: =IF('Rekapitulace stavby'!AN19="","",'Rekapitulace stavby'!AN19) -> 25292161
E24: =IF('Rekapitulace stavby'!E20="","",'Rekapitulace stavby'!E20) -> Prodin a.s. | I24: DIČ: | J24: =IF('Rekapitulace stavby'!AN20="","",'Rekapitulace stavby'!AN20) -> CZ25292161
D26: Poznámka:
D30: Cena bez DPH | J30: =ROUND(J85, 2) -> 0
F32: Základ daně | I32: Sazba daně | J32: Výše daně
D33: DPH | E33: základní | F33: =ROUND((SUM(BE85:BE133)), 2) -> 0 | I33: 0.21 | J33: =ROUND(((SUM(BE85:BE133))*I33), 2) -> 0
E34: snížená | F34: =ROUND((SUM(BF85:BF133)), 2) -> 0 | I34: 0.15 | J34: =ROUND(((SUM(BF85:BF133))*I34), 2) -> 0
E35: zákl. přenesená | F35: =ROUND((SUM(BG85:BG133)), 2) -> 0 | I35: 0.21 | J35: =0 -> 0
E36: sníž. přenesená | F36: =ROUND((SUM(BH85:BH133)), 2) -> 0 | I36: 0.15 | J36: =0 -> 0
E37: nulová | F37: =ROUND((SUM(BI85:BI133)), 2) -> 0 | I37: 0 | J37: =0 -> 0
D39: Cena s DPH | G39: v | H39: CZK | J39: =SUM(J30:J37) -> 0
C45: REKAPITULACE ČLENĚNÍ SOUPISU PRACÍ
C47: Stavba:
E48: =E7 -> Oprava traťového úseku Železný Brod - Tanvald
C49: Objekt:
E50: =E9 -> SO 01-11-04 - ŽST Velké Hamry, nástupiště 1. a 2.
C52: Místo: | F52: =F12 | I52: Datum: | J52: =IF(J12="","",J12) -> 11. 2. 2019
C54: Zadavatel: | F54: =E15 -> Správa Železniční dopravní cesty, státní organizace | I54: Projektant: | J54: =E21 -> Prodin a.s.
C55: Uchazeč: | F55: =IF(E18="","",E18) -> 0 | I55: Zpracovatel: | J55: =E24 -> Prodin a.s.
C57: Kód dílu - Popis | J57: Cena celkem [CZK]
C59: Náklady stavby celkem | J59: =J85 -> 0 | AU59: -1
D60: HSV - Práce a dodávky HSV | J60: =J86 -> 0
D61: Položky dle ÚOŽI - 2019 | J61: =J87 -> 0
D62: 5 - Komunikace pozemní | J62: =J88 -> 0
D63: 9 - Ostatní | J63: =J107 -> 0
...

Sheet SO 01-13-01 - Přejezd v e...
AT2: {e7962ff1-868d-49fe-aacb-21f790e1d4e8}
AT3: 2
D4: KRYCÍ LIST SOUPISU PRACÍ | M4: v --- níže se nacházejí doplnkové a pomocné údaje k sestavám --- v | AT4: False
D6: Stavba:
E7: ='Rekapitulace stavby'!K6 -> Oprava traťového úseku Železný Brod - Tanvald
D8: Objekt:
E9: SO 01-13-01 - Přejezd v ev. km 2,256
D11: KSO: | I11: CC-CZ:
D12: Místo: | I12: Datum: | J12: ='Rekapitulace stavby'!AN8 -> 11. 2. 2019
D14: Zadavatel: | I14: IČ: | J14: =IF('Rekapitulace stavby'!AN10="","",'Rekapitulace stavby'!AN10) -> 70994234
E15: =IF('Rekapitulace stavby'!E11="","",'Rekapitulace stavby'!E11) -> Správa Železniční dopravní cesty, státní organizace | I15: DIČ: | J15: =IF('Rekapitulace stavby'!AN11="","",'Rekapitulace stavby'!AN11) -> CZ70994234
D17: Uchazeč: | I17: IČ: | J17: ='Rekapitulace stavby'!AN13 -> Vyplň údaj
E18: ='Rekapitulace stavby'!E14 -> 0 | I18: DIČ: | J18: ='Rekapitulace stavby'!AN14 -> Vyplň údaj
D20: Projektant: | I20: IČ: | J20: =IF('Rekapitulace stavby'!AN16="","",'Rekapitulace stavby'!AN16) -> 25292161
E21: =IF('Rekapitulace stavby'!E17="","",'Rekapitulace stavby'!E17) -> Prodin a.s. | I21: DIČ: | J21: =IF('Rekapitulace stavby'!AN17="","",'Rekapitulace stavby'!AN17) -> CZ25292161
D23: Zpracovatel: | I23: IČ: | J23: =IF('Rekapitulace stavby'!AN19="","",'Rekapitulace stavby'!AN19) -> 25292161
E24: =IF('Rekapitulace stavby'!E20="","",'Rekapitulace stavby'!E20) -> Prodin a.s. | I24: DIČ: | J24: =IF('Rekapitulace stavby'!AN20="","",'Rekapitulace stavby'!AN20) -> CZ25292161
D26: Poznámka:
D30: Cena bez DPH | J30: =ROUND(J85, 2) -> 0
F32: Základ daně | I32: Sazba daně | J32: Výše daně
D33: DPH | E33: základní | F33: =ROUND((SUM(BE85:BE171)), 2) -> 0 | I33: 0.21 | J33: =ROUND(((SUM(BE85:BE171))*I33), 2) -> 0
E34: snížená | F34: =ROUND((SUM(BF85:BF171)), 2) -> 0 | I34: 0.15 | J34: =ROUND(((SUM(BF85:BF171))*I34), 2) -> 0
E35: zákl. přenesená | F35: =ROUND((SUM(BG85:BG171)), 2) -> 0 | I35: 0.21 | J35: =0 -> 0
E36: sníž. přenesená | F36: =ROUND((SUM(BH85:BH171)), 2) -> 0 | I36: 0.15 | J36: =0 -> 0
E37: nulová | F37: =ROUND((SUM(BI85:BI171)), 2) -> 0 | I37: 0 | J37: =0 -> 0
D39: Cena s DPH | G39: v | H39: CZK | J39: =SUM(J30:J37) -> 0
C45: REKAPITULACE ČLENĚNÍ SOUPISU PRACÍ
C47: Stavba:
E48: =E7 -> Oprava traťového úseku Železný Brod - Tanvald
C49: Objekt:
E50: =E9 -> SO 01-13-01 - Přejezd v ev. km 2,256
C52: Místo: | F52: =F12 | I52: Datum: | J52: =IF(J12="","",J12) -> 11. 2. 2019
C54: Zadavatel: | F54: =E15 -> Správa Železniční dopravní cesty, státní organizace | I54: Projektant: | J54: =E21 -> Prodin a.s.
C55: Uchazeč: | F55: =IF(E18="","",E18) -> 0 | I55: Zpracovatel: | J55: =E24 -> Prodin a.s.
C57: Kód dílu - Popis | J57: Cena celkem [CZK]
C59: Náklady stavby celkem | J59: =J85 -> 0 | AU59: -1
D60: HSV - Práce a dodávky HSV | J60: =J86 -> 0
D61: Položky dle ÚOŽI - 2019 | J61: =J87 -> 0
D62: 5 - Komunikace pozemní | J62: =J88 -> 0
D63: 9 - Ostatní | J63: =J141 -> 0
...

Sheet SO 01-13-02 - Přejezd v e...
AT2: {2b87e243-ab4a-4fca-9022-6bf2c4c96a7f}
AT3: 2
D4: KRYCÍ LIST SOUPISU PRACÍ | M4: v --- níže se nacházejí doplnkové a pomocné údaje k sestavám --- v | AT4: False
D6: Stavba:
E7: ='Rekapitulace stavby'!K6 -> Oprava traťového úseku Železný Brod - Tanvald
D8: Objekt:
E9: SO 01-13-02 - Přejezd v ev. km 12,223
D11: KSO: | I11: CC-CZ:
D12: Místo: | I12: Datum: | J12: ='Rekapitulace stavby'!AN8 -> 11. 2. 2019
D14: Zadavatel: | I14: IČ: | J14: =IF('Rekapitulace stavby'!AN10="","",'Rekapitulace stavby'!AN10) -> 70994234
E15: =IF('Rekapitulace stavby'!E11="","",'Rekapitulace stavby'!E11) -> Správa Železniční dopravní cesty, státní organizace | I15: DIČ: | J15: =IF('Rekapitulace stavby'!AN11="","",'Rekapitulace stavby'!AN11) -> CZ70994234
D17: Uchazeč: | I17: IČ: | J17: ='Rekapitulace stavby'!AN13 -> Vyplň údaj
E18: ='Rekapitulace stavby'!E14 -> 0 | I18: DIČ: | J18: ='Rekapitulace stavby'!AN14 -> Vyplň údaj
D20: Projektant: | I20: IČ: | J20: =IF('Rekapitulace stavby'!AN16="","",'Rekapitulace stavby'!AN16) -> 25292161
E21: =IF('Rekapitulace stavby'!E17="","",'Rekapitulace stavby'!E17) -> Prodin a.s. | I21: DIČ: | J21: =IF('Rekapitulace stavby'!AN17="","",'Rekapitulace stavby'!AN17) -> CZ25292161
D23: Zpracovatel: | I23: IČ: | J23: =IF('Rekapitulace stavby'!AN19="","",'Rekapitulace stavby'!AN19) -> 25292161
E24: =IF('Rekapitulace stavby'!E20="","",'Rekapitulace stavby'!E20) -> Prodin a.s. | I24: DIČ: | J24: =IF('Rekapitulace stavby'!AN20="","",'Rekapitulace stavby'!AN20) -> CZ25292161
D26: Poznámka:
D30: Cena bez DPH | J30: =ROUND(J85, 2) -> 0
F32: Základ daně | I32: Sazba daně | J32: Výše daně
D33: DPH | E33: základní | F33: =ROUND((SUM(BE85:BE209)), 2) -> 0 | I33: 0.21 | J33: =ROUND(((SUM(BE85:BE209))*I33), 2) -> 0
E34: snížená | F34: =ROUND((SUM(BF85:BF209)), 2) -> 0 | I34: 0.15 | J34: =ROUND(((SUM(BF85:BF209))*I34), 2) -> 0
E35: zákl. přenesená | F35: =ROUND((SUM(BG85:BG209)), 2) -> 0 | I35: 0.21 | J35: =0 -> 0
E36: sníž. přenesená | F36: =ROUND((SUM(BH85:BH209)), 2) -> 0 | I36: 0.15 | J36: =0 -> 0
E37: nulová | F37: =ROUND((SUM(BI85:BI209)), 2) -> 0 | I37: 0 | J37: =0 -> 0
D39: Cena s DPH | G39: v | H39: CZK | J39: =SUM(J30:J37) -> 0
C45: REKAPITULACE ČLENĚNÍ SOUPISU PRACÍ
C47: Stavba:
E48: =E7 -> Oprava traťového úseku Železný Brod - Tanvald
C49: Objekt:
E50: =E9 -> SO 01-13-02 - Přejezd v ev. km 12,223
C52: Místo: | F52: =F12 | I52: Datum: | J52: =IF(J12="","",J12) -> 11. 2. 2019
C54: Zadavatel: | F54: =E15 -> Správa Železniční dopravní cesty, státní organizace | I54: Projektant: | J54: =E21 -> Prodin a.s.
C55: Uchazeč: | F55: =IF(E18="","",E18) -> 0 | I55: Zpracovatel: | J55: =E24 -> Prodin a.s.
C57: Kód dílu - Popis | J57: Cena celkem [CZK]
C59: Náklady stavby celkem | J59: =J85 -> 0 | AU59: -1
D60: HSV - Práce a dodávky HSV | J60: =J86 -> 0
D61: Položky dle ÚOŽI - 2019 | J61: =J87 -> 0
D62: 5 - Komunikace pozemní | J62: =J88 -> 0
D63: 9 - Ostatní | J63: =J172 -> 0
...

Sheet SO 01-13-03 - Přejezd v e...
AT2: {0a30ac42-1426-4113-9080-5540dc430d6f}
AT3: 2
D4: KRYCÍ LIST SOUPISU PRACÍ | M4: v --- níže se nacházejí doplnkové a pomocné údaje k sestavám --- v | AT4: False
D6: Stavba:
E7: ='Rekapitulace stavby'!K6 -> Oprava traťového úseku Železný Brod - Tanvald
D8: Objekt:
E9: SO 01-13-03 - Přejezd v ev. km 12,927
D11: KSO: | I11: CC-CZ:
D12: Místo: | I12: Datum: | J12: ='Rekapitulace stavby'!AN8 -> 11. 2. 2019
D14: Zadavatel: | I14: IČ: | J14: =IF('Rekapitulace stavby'!AN10="","",'Rekapitulace stavby'!AN10) -> 70994234
E15: =IF('Rekapitulace stavby'!E11="","",'Rekapitulace stavby'!E11) -> Správa Železniční dopravní cesty, státní organizace | I15: DIČ: | J15: =IF('Rekapitulace stavby'!AN11="","",'Rekapitulace stavby'!AN11) -> CZ70994234
D17: Uchazeč: | I17: IČ: | J17: ='Rekapitulace stavby'!AN13 -> Vyplň údaj
E18: ='Rekapitulace stavby'!E14 -> 0 | I18: DIČ: | J18: ='Rekapitulace stavby'!AN14 -> Vyplň údaj
D20: Projektant: | I20: IČ: | J20: =IF('Rekapitulace stavby'!AN16="","",'Rekapitulace stavby'!AN16) -> 25292161
E21: =IF('Rekapitulace stavby'!E17="","",'Rekapitulace stavby'!E17) -> Prodin a.s. | I21: DIČ: | J21: =IF('Rekapitulace stavby'!AN17="","",'Rekapitulace stavby'!AN17) -> CZ25292161
D23: Zpracovatel: | I23: IČ: | J23: =IF('Rekapitulace stavby'!AN19="","",'Rekapitulace stavby'!AN19) -> 25292161
E24: =IF('Rekapitulace stavby'!E20="","",'Rekapitulace stavby'!E20) -> Prodin a.s. | I24: DIČ: | J24: =IF('Rekapitulace stavby'!AN20="","",'Rekapitulace stavby'!AN20) -> CZ25292161
D26: Poznámka:
D30: Cena bez DPH | J30: =ROUND(J85, 2) -> 0
F32: Základ daně | I32: Sazba daně | J32: Výše daně
D33: DPH | E33: základní | F33: =ROUND((SUM(BE85:BE182)), 2) -> 0 | I33: 0.21 | J33: =ROUND(((SUM(BE85:BE182))*I33), 2) -> 0
E34: snížená | F34: =ROUND((SUM(BF85:BF182)), 2) -> 0 | I34: 0.15 | J34: =ROUND(((SUM(BF85:BF182))*I34), 2) -> 0
E35: zákl. přenesená | F35: =ROUND((SUM(BG85:BG182)), 2) -> 0 | I35: 0.21 | J35: =0 -> 0
E36: sníž. přenesená | F36: =ROUND((SUM(BH85:BH182)), 2) -> 0 | I36: 0.15 | J36: =0 -> 0
E37: nulová | F37: =ROUND((SUM(BI85:BI182)), 2) -> 0 | I37: 0 | J37: =0 -> 0
D39: Cena s DPH | G39: v | H39: CZK | J39: =SUM(J30:J37) -> 0
C45: REKAPITULACE ČLENĚNÍ SOUPISU PRACÍ
C47: Stavba:
E48: =E7 -> Oprava traťového úseku Železný Brod - Tanvald
C49: Objekt:
E50: =E9 -> SO 01-13-03 - Přejezd v ev. km 12,927
C52: Místo: | F52: =F12 | I52: Datum: | J52: =IF(J12="","",J12) -> 11. 2. 2019
C54: Zadavatel: | F54: =E15 -> Správa Železniční dopravní cesty, státní organizace | I54: Projektant: | J54: =E21 -> Prodin a.s.
C55: Uchazeč: | F55: =IF(E18="","",E18) -> 0 | I55: Zpracovatel: | J55: =E24 -> Prodin a.s.
C57: Kód dílu - Popis | J57: Cena celkem [CZK]
C59: Náklady stavby celkem | J59: =J85 -> 0 | AU59: -1
D60: HSV - Práce a dodávky HSV | J60: =J86 -> 0
D61: Položky dle ÚOŽI - 2019 | J61: =J87 -> 0
D62: 5 - Komunikace pozemní | J62: =J88 -> 0
D63: 9 - Ostatní | J63: =J152 -> 0
...

Sheet SO 01-13-04 - Přejezd v e...
AT2: {b66e837a-dfe1-4c91-a551-fc112e1c9d1f}
AT3: 2
D4: KRYCÍ LIST SOUPISU PRACÍ | M4: v --- níže se nacházejí doplnkové a pomocné údaje k sestavám --- v | AT4: False
D6: Stavba:
E7: ='Rekapitulace stavby'!K6 -> Oprava traťového úseku Železný Brod - Tanvald
D8: Objekt:
E9: SO 01-13-04 - Přejezd v ev. km 13,091
D11: KSO: | I11: CC-CZ:
D12: Místo: | I12: Datum: | J12: ='Rekapitulace stavby'!AN8 -> 11. 2. 2019
D14: Zadavatel: | I14: IČ: | J14: =IF('Rekapitulace stavby'!AN10="","",'Rekapitulace stavby'!AN10) -> 70994234
E15: =IF('Rekapitulace stavby'!E11="","",'Rekapitulace stavby'!E11) -> Správa Železniční dopravní cesty, státní organizace | I15: DIČ: | J15: =IF('Rekapitulace stavby'!AN11="","",'Rekapitulace stavby'!AN11) -> CZ70994234
D17: Uchazeč: | I17: IČ: | J17: ='Rekapitulace stavby'!AN13 -> Vyplň údaj
E18: ='Rekapitulace stavby'!E14 -> 0 | I18: DIČ: | J18: ='Rekapitulace stavby'!AN14 -> Vyplň údaj
D20: Projektant: | I20: IČ: | J20: =IF('Rekapitulace stavby'!AN16="","",'Rekapitulace stavby'!AN16) -> 25292161
E21: =IF('Rekapitulace stavby'!E17="","",'Rekapitulace stavby'!E17) -> Prodin a.s. | I21: DIČ: | J21: =IF('Rekapitulace stavby'!AN17="","",'Rekapitulace stavby'!AN17) -> CZ25292161
D23: Zpracovatel: | I23: IČ: | J23: =IF('Rekapitulace stavby'!AN19="","",'Rekapitulace stavby'!AN19) -> 25292161
E24: =IF('Rekapitulace stavby'!E20="","",'Rekapitulace stavby'!E20) -> Prodin a.s. | I24: DIČ: | J24: =IF('Rekapitulace stavby'!AN20="","",'Rekapitulace stavby'!AN20) -> CZ25292161
D26: Poznámka:
D30: Cena bez DPH | J30: =ROUND(J85, 2) -> 0
F32: Základ daně | I32: Sazba daně | J32: Výše daně
D33: DPH | E33: základní | F33: =ROUND((SUM(BE85:BE148)), 2) -> 0 | I33: 0.21 | J33: =ROUND(((SUM(BE85:BE148))*I33), 2) -> 0
E34: snížená | F34: =ROUND((SUM(BF85:BF148)), 2) -> 0 | I34: 0.15 | J34: =ROUND(((SUM(BF85:BF148))*I34), 2) -> 0
E35: zákl. přenesená | F35: =ROUND((SUM(BG85:BG148)), 2) -> 0 | I35: 0.21 | J35: =0 -> 0
E36: sníž. přenesená | F36: =ROUND((SUM(BH85:BH148)), 2) -> 0 | I36: 0.15 | J36: =0 -> 0
E37: nulová | F37: =ROUND((SUM(BI85:BI148)), 2) -> 0 | I37: 0 | J37: =0 -> 0
D39: Cena s DPH | G39: v | H39: CZK | J39: =SUM(J30:J37) -> 0
C45: REKAPITULACE ČLENĚNÍ SOUPISU PRACÍ
C47: Stavba:
E48: =E7 -> Oprava traťového úseku Železný Brod - Tanvald
C49: Objekt:
E50: =E9 -> SO 01-13-04 - Přejezd v ev. km 13,091
C52: Místo: | F52: =F12 | I52: Datum: | J52: =IF(J12="","",J12) -> 11. 2. 2019
C54: Zadavatel: | F54: =E15 -> Správa Železniční dopravní cesty, státní organizace | I54: Projektant: | J54: =E21 -> Prodin a.s.
C55: Uchazeč: | F55: =IF(E18="","",E18) -> 0 | I55: Zpracovatel: | J55: =E24 -> Prodin a.s.
C57: Kód dílu - Popis | J57: Cena celkem [CZK]
C59: Náklady stavby celkem | J59: =J85 -> 0 | AU59: -1
D60: HSV - Práce a dodávky HSV | J60: =J86 -> 0
D61: Položky dle ÚOŽI - 2019 | J61: =J87 -> 0
D62: 5 - Komunikace pozemní | J62: =J88 -> 0
D63: 9 - Ostatní | J63: =J126 -> 0
...

Sheet SO 01-13-05 - Přejezd v e...
AT2: {298c43e0-6f67-49ce-9484-f9b0145d8aa9}
AT3: 2
D4: KRYCÍ LIST SOUPISU PRACÍ | M4: v --- níže se nacházejí doplnkové a pomocné údaje k sestavám --- v | AT4: False
D6: Stavba:
E7: ='Rekapitulace stavby'!K6 -> Oprava traťového úseku Železný Brod - Tanvald
D8: Objekt:
E9: SO 01-13-05 - Přejezd v ev. km 13,782
D11: KSO: | I11: CC-CZ:
D12: Místo: | I12: Datum: | J12: ='Rekapitulace stavby'!AN8 -> 11. 2. 2019
D14: Zadavatel: | I14: IČ: | J14: =IF('Rekapitulace stavby'!AN10="","",'Rekapitulace stavby'!AN10) -> 70994234
E15: =IF('Rekapitulace stavby'!E11="","",'Rekapitulace stavby'!E11) -> Správa Železniční dopravní cesty, státní organizace | I15: DIČ: | J15: =IF('Rekapitulace stavby'!AN11="","",'Rekapitulace stavby'!AN11) -> CZ70994234
D17: Uchazeč: | I17: IČ: | J17: ='Rekapitulace stavby'!AN13 -> Vyplň údaj
E18: ='Rekapitulace stavby'!E14 -> 0 | I18: DIČ: | J18: ='Rekapitulace stavby'!AN14 -> Vyplň údaj
D20: Projektant: | I20: IČ: | J20: =IF('Rekapitulace stavby'!AN16="","",'Rekapitulace stavby'!AN16) -> 25292161
E21: =IF('Rekapitulace stavby'!E17="","",'Rekapitulace stavby'!E17) -> Prodin a.s. | I21: DIČ: | J21: =IF('Rekapitulace stavby'!AN17="","",'Rekapitulace stavby'!AN17) -> CZ25292161
D23: Zpracovatel: | I23: IČ: | J23: =IF('Rekapitulace stavby'!AN19="","",'Rekapitulace stavby'!AN19) -> 25292161
E24: =IF('Rekapitulace stavby'!E20="","",'Rekapitulace stavby'!E20) -> Prodin a.s. | I24: DIČ: | J24: =IF('Rekapitulace stavby'!AN20="","",'Rekapitulace stavby'!AN20) -> CZ25292161
D26: Poznámka:
D30: Cena bez DPH | J30: =ROUND(J85, 2) -> 0
F32: Základ daně | I32: Sazba daně | J32: Výše daně
D33: DPH | E33: základní | F33: =ROUND((SUM(BE85:BE170)), 2) -> 0 | I33: 0.21 | J33: =ROUND(((SUM(BE85:BE170))*I33), 2) -> 0
E34: snížená | F34: =ROUND((SUM(BF85:BF170)), 2) -> 0 | I34: 0.15 | J34: =ROUND(((SUM(BF85:BF170))*I34), 2) -> 0
E35: zákl. přenesená | F35: =ROUND((SUM(BG85:BG170)), 2) -> 0 | I35: 0.21 | J35: =0 -> 0
E36: sníž. přenesená | F36: =ROUND((SUM(BH85:BH170)), 2) -> 0 | I36: 0.15 | J36: =0 -> 0
E37: nulová | F37: =ROUND((SUM(BI85:BI170)), 2) -> 0 | I37: 0 | J37: =0 -> 0
D39: Cena s DPH | G39: v | H39: CZK | J39: =SUM(J30:J37) -> 0
C45: REKAPITULACE ČLENĚNÍ SOUPISU PRACÍ
C47: Stavba:
E48: =E7 -> Oprava traťového úseku Železný Brod - Tanvald
C49: Objekt:
E50: =E9 -> SO 01-13-05 - Přejezd v ev. km 13,782
