Workbook

Sheet Rekapitulace stavby
A1: Export Komplet | AZ1: VZ | BA1: 2.0 | BB1: ZAMOK | BT1: False | BU1: False | BV1: {1045a601-b89c-4551-94b7-918ac9a74fab}
BS2: 0,01 | BT2: 21
BS3: 0,01 | BT3: 12
D4: REKAPITULACE STAVBY | AS4: v --- níže se nacházejí doplnkové a pomocné údaje k sestavám --- v | BE4: Návod na vyplnění | BS4: 0,001
D5: Kód: | K5: 64023XXX | BE5: Měnit lze pouze buňky se žlutým podbarvením!_x000D_ _x000D_ 1) v Rekapitulaci stavby vyplňte údaje o Uchazeči (přenesou se do ostatních sestav i v jiných listech)_x000D_ _x000D_ 2) na vybraných listech vyplňte v sestavě Soupis prací ceny u položek | BS5: 0,01
D6: Stavba: | K6: Oprava trati v úseku Tanvald - Kořenov | BS6: 0,01
D7: KSO: | AK7: CC-CZ: | BS7: 0,01
D8: Místo: | AK8: Datum: | AN8: 14. 6. 2023 | BS8: 0,01
BS9: 0,01
D10: Zadavatel: | AK10: IČ: | BS10: 0,01
AK11: DIČ: | BS11: 0,01
BS12: 0,01
D13: Uchazeč: | AK13: IČ: | AN13: Vyplň údaj | BS13: 0,01
E14: Vyplň údaj | AK14: DIČ: | AN14: Vyplň údaj | BS14: 0,01
BS15: False
D16: Projektant: | AK16: IČ: | BS16: False
AK17: DIČ: | BS17: True
BS18: 0,01
D19: Zpracovatel: | AK19: IČ: | BS19: 0,01
AK20: DIČ: | BS20: True
D22: Poznámka:
E23: Soupis prací je sestaven s využitím Cenové soustavy ÚRS. Položky, které pochází z této cenové soustavy, jsou ve sloupci 'Cenová soustava' označeny popisem 'CS ÚRS' a úrovní příslušného kalendářního pololetí. Veškeré další informace vymezující popis a podmínky použití těchto položek z Cenové soustavy, které nejsou uvedeny přímo v soupisu prací, jsou neomezeně dálkově k dispozici na webu podminky.urs.cz.
D26: Cena bez DPH | AK26: =ROUND(AG54,2) -> 0
L28: Sazba daně | W28: Základ daně | AK28: Výše daně
D29: DPH | F29: základní | L29: 0.21 | W29: =ROUND(AZ54, 2) -> 0 | AK29: =ROUND(AV54, 2) -> 0
F30: snížená | L30: 0.12 | W30: =ROUND(BA54, 2) -> 0 | AK30: =ROUND(AW54, 2) -> 0
F31: zákl. přenesená | L31: 0.21 | W31: =ROUND(BB54, 2) -> 0 | AK31: 0
F32: sníž. přenesená | L32: 0.12 | W32: =ROUND(BC54, 2) -> 0 | AK32: 0
F33: nulová | L33: 0 | W33: =ROUND(BD54, 2) -> 0 | AK33: 0
D35: Cena s DPH | T35: v | X35: CZK | AK35: =SUM(AK26:AK33) -> 0
C42: REKAPITULACE OBJEKTŮ STAVBY A SOUPISŮ PRACÍ
C44: Kód: | L44: =K5 -> 64023XXX
C45: Stavba: | L45: =K6 -> Oprava trati v úseku Tanvald - Kořenov
C47: Místo: | L47: =IF(K8="","",K8) | AI47: Datum: | AM47: =IF(AN8= "","",AN8) -> 14. 6. 2023
C49: Zadavatel: | L49: =IF(E11= "","",E11) | AI49: Projektant: | AM49: =IF(E17="","",E17) | AS49: Informatívní údaje z listů zakázek
C50: Uchazeč: | L50: =IF(E14= "Vyplň údaj","",E14) | AI50: Zpracovatel: | AM50: =IF(E20="","",E20)
C52: Kód | I52: Popis | AG52: Cena bez DPH [CZK] | AN52: Cena s DPH [CZK] | AQ52: Typ | AS52: z toho Ostat._x000D_ náklady [CZK] | AT52: DPH [CZK] | AU52: Normohodiny [h] | AV52: DPH základní [CZK] | AW52: DPH snížená [CZK] | AX52: DPH základní přenesená_x000D_ [CZK] | AY52: DPH snížená přenesená_x000D_ [CZK] | AZ52: Základna_x000D_ DPH základní | BA52: Základna_x000D_ DPH snížená | BB52: Základna_x000D_ DPH zákl. přenesená | BC52: Základna_x000D_ DPH sníž. přenesená | BD52: Základna_x000D_ DPH nulová
C54: Náklady stavby celkem | AG54: =ROUND(SUM(AG55:AG107),2) -> 0 | AN54: =SUM(AG54,AT54) -> 0 | AS54: =ROUND(SUM(AS55:AS107),2) -> 0 | AT54: =ROUND(SUM(AV54:AW54),2) -> 0 | AU54: =ROUND(SUM(AU55:AU107),5) -> 0 | AV54: =ROUND(AZ54*L29,2) -> 0 | AW54: =ROUND(BA54*L30,2) -> 0 | AX54: =ROUND(BB54*L29,2) -> 0 | AY54: =ROUND(BC54*L30,2) -> 0 | AZ54: =ROUND(SUM(AZ55:AZ107),2) -> 0 | BA54: =ROUND(SUM(BA55:BA107),2) -> 0 | BB54: =ROUND(SUM(BB55:BB107),2) -> 0 | BC54: =ROUND(SUM(BC55:BC107),2) -> 0 | BD54: =ROUND(SUM(BD55:BD107),2) -> 0 | BS54: D | BT54: 0 | BU54: ###NOIMPORT### | BV54: IMPORT | BW54: {1045a601-b89c-4551-94b7-918ac9a74fab} | BX54: {00000000-0000-0000-0000-000000000000}
A55: / | D55: PS 00-21-01 | J55: Přeložky kabelů | AG55: ='PS 00-21-01 - Přeložky ka...'!J30 -> 0 | AN55: =SUM(AG55,AT55) -> 0 | AQ55: STA | AS55: 0 | AT55: =ROUND(SUM(AV55:AW55),2) -> 0 | AU55: ='PS 00-21-01 - Přeložky ka...'!P81 -> 0 | AV55: ='PS 00-21-01 - Přeložky ka...'!J33 -> 0 | AW55: ='PS 00-21-01 - Přeložky ka...'!J34 -> 0 | AX55: ='PS 00-21-01 - Přeložky ka...'!J35 -> 0 | AY55: ='PS 00-21-01 - Přeložky ka...'!J36 -> 0 | AZ55: ='PS 00-21-01 - Přeložky ka...'!F33 -> 0 | BA55: ='PS 00-21-01 - Přeložky ka...'!F34 -> 0 | BB55: ='PS 00-21-01 - Přeložky ka...'!F35 -> 0 | BC55: ='PS 00-21-01 - Přeložky ka...'!F36 -> 0 | BD55: ='PS 00-21-01 - Přeložky ka...'!F37 -> 0 | BT55: 1 | BV55: IMPORT | BW55: {ff516158-4888-4ead-9b09-e64cc4d60993} | BX55: {1045a601-b89c-4551-94b7-918ac9a74fab} | CM55: 2
A56: / | D56: PS 02-10-01 | J56: Dopravna Desná, SZZ | AG56: ='PS 02-10-01 - Dopravna De...'!J30 -> 0 | AN56: =SUM(AG56,AT56) -> 0 | AQ56: STA | AS56: 0 | AT56: =ROUND(SUM(AV56:AW56),2) -> 0 | AU56: ='PS 02-10-01 - Dopravna De...'!P81 -> 0 | AV56: ='PS 02-10-01 - Dopravna De...'!J33 -> 0 | AW56: ='PS 02-10-01 - Dopravna De...'!J34 -> 0 | AX56: ='PS 02-10-01 - Dopravna De...'!J35 -> 0 | AY56: ='PS 02-10-01 - Dopravna De...'!J36 -> 0 | AZ56: ='PS 02-10-01 - Dopravna De...'!F33 -> 0 | BA56: ='PS 02-10-01 - Dopravna De...'!F34 -> 0 | BB56: ='PS 02-10-01 - Dopravna De...'!F35 -> 0 | BC56: ='PS 02-10-01 - Dopravna De...'!F36 -> 0 | BD56: ='PS 02-10-01 - Dopravna De...'!F37 -> 0 | BT56: 1 | BV56: IMPORT | BW56: {87729dd1-a377-4b90-9a8a-d7fda578f650} | BX56: {1045a601-b89c-4551-94b7-918ac9a74fab} | CM56: 2
A57: / | D57: PS 02-27-01 | J57: Dopravna Desná, napájení zab. zař. | AG57: ='PS 02-27-01 - Dopravna D...'!J30 -> 0 | AN57: =SUM(AG57,AT57) -> 0 | AQ57: STA | AS57: 0 | AT57: =ROUND(SUM(AV57:AW57),2) -> 0 | AU57: ='PS 02-27-01 - Dopravna D...'!P79 -> 0 | AV57: ='PS 02-27-01 - Dopravna D...'!J33 -> 0 | AW57: ='PS 02-27-01 - Dopravna D...'!J34 -> 0 | AX57: ='PS 02-27-01 - Dopravna D...'!J35 -> 0 | AY57: ='PS 02-27-01 - Dopravna D...'!J36 -> 0 | AZ57: ='PS 02-27-01 - Dopravna D...'!F33 -> 0 | BA57: ='PS 02-27-01 - Dopravna D...'!F34 -> 0 | BB57: ='PS 02-27-01 - Dopravna D...'!F35 -> 0 | BC57: ='PS 02-27-01 - Dopravna D...'!F36 -> 0 | BD57: ='PS 02-27-01 - Dopravna D...'!F37 -> 0 | BT57: 1 | BV57: IMPORT | BW57: {09d27414-d3ab-473b-ac49-625376c911e4} | BX57: {1045a601-b89c-4551-94b7-918ac9a74fab} | CM57: 2
A58: / | D58: PS 02-27-02 | J58: Dopravna Desná, informační systém pro cestující | AG58: ='PS 02-27-02 - Dopravna De...'!J30 -> 0 | AN58: =SUM(AG58,AT58) -> 0 | AQ58: STA | AS58: 0 | AT58: =ROUND(SUM(AV58:AW58),2) -> 0 | AU58: ='PS 02-27-02 - Dopravna De...'!P81 -> 0 | AV58: ='PS 02-27-02 - Dopravna De...'!J33 -> 0 | AW58: ='PS 02-27-02 - Dopravna De...'!J34 -> 0 | AX58: ='PS 02-27-02 - Dopravna De...'!J35 -> 0 | AY58: ='PS 02-27-02 - Dopravna De...'!J36 -> 0 | AZ58: ='PS 02-27-02 - Dopravna De...'!F33 -> 0 | BA58: ='PS 02-27-02 - Dopravna De...'!F34 -> 0 | BB58: ='PS 02-27-02 - Dopravna De...'!F35 -> 0 | BC58: ='PS 02-27-02 - Dopravna De...'!F36 -> 0 | BD58: ='PS 02-27-02 - Dopravna De...'!F37 -> 0 | BT58: 1 | BV58: IMPORT | BW58: {720a130d-cae2-4997-b2c4-8c0d19a56a0d} | BX58: {1045a601-b89c-4551-94b7-918ac9a74fab} | CM58: 2
A59: / | D59: PS 02-37-01 | J59: Dopravna Desná, napájení sil. Rozvodů | AG59: ='PS 02-37-01 - Dopravna D...'!J30 -> 0 | AN59: =SUM(AG59,AT59) -> 0 | AQ59: STA | AS59: 0 | AT59: =ROUND(SUM(AV59:AW59),2) -> 0 | AU59: ='PS 02-37-01 - Dopravna D...'!P81 -> 0 | AV59: ='PS 02-37-01 - Dopravna D...'!J33 -> 0 | AW59: ='PS 02-37-01 - Dopravna D...'!J34 -> 0 | AX59: ='PS 02-37-01 - Dopravna D...'!J35 -> 0 | AY59: ='PS 02-37-01 - Dopravna D...'!J36 -> 0 | AZ59: ='PS 02-37-01 - Dopravna D...'!F33 -> 0 | BA59: ='PS 02-37-01 - Dopravna D...'!F34 -> 0 | BB59: ='PS 02-37-01 - Dopravna D...'!F35 -> 0 | BC59: ='PS 02-37-01 - Dopravna D...'!F36 -> 0 | BD59: ='PS 02-37-01 - Dopravna D...'!F37 -> 0 | BT59: 1 | BV59: IMPORT | BW59: {cc12d14d-f633-4db4-8f19-d8f7d772e561} | BX59: {1045a601-b89c-4551-94b7-918ac9a74fab} | CM59: 2
A60: / | D60: SO 00-10-01 | J60: Výstroj trati | AG60: ='SO 00-10-01 - Výstroj trati'!J30 -> 0 | AN60: =SUM(AG60,AT60) -> 0 | AQ60: STA | AS60: 0 | AT60: =ROUND(SUM(AV60:AW60),2) -> 0 | AU60: ='SO 00-10-01 - Výstroj trati'!P81 -> 0 | AV60: ='SO 00-10-01 - Výstroj trati'!J33 -> 0 | AW60: ='SO 00-10-01 - Výstroj trati'!J34 -> 0 | AX60: ='SO 00-10-01 - Výstroj trati'!J35 -> 0 | AY60: ='SO 00-10-01 - Výstroj trati'!J36 -> 0 | AZ60: ='SO 00-10-01 - Výstroj trati'!F33 -> 0 | BA60: ='SO 00-10-01 - Výstroj trati'!F34 -> 0 | BB60: ='SO 00-10-01 - Výstroj trati'!F35 -> 0 | BC60: ='SO 00-10-01 - Výstroj trati'!F36 -> 0 | BD60: ='SO 00-10-01 - Výstroj trati'!F37 -> 0 | BT60: 1 | BV60: IMPORT | BW60: {d5ae0c9d-8424-4763-849d-773478b7edf7} | BX60: {1045a601-b89c-4551-94b7-918ac9a74fab} | CM60: 2
A61: / | D61: SO 01-10-01 | J61: Tanvald (mimo) - Desná (mimo), železniční svršek | AG61: ='SO 01-10-01 - Tanvald (mi...'!J30 -> 0 | AN61: =SUM(AG61,AT61) -> 0 | AQ61: STA | AS61: 0 | AT61: =ROUND(SUM(AV61:AW61),2) -> 0 | AU61: ='SO 01-10-01 - Tanvald (mi...'!P83 -> 0 | AV61: ='SO 01-10-01 - Tanvald (mi...'!J33 -> 0 | AW61: ='SO 01-10-01 - Tanvald (mi...'!J34 -> 0 | AX61: ='SO 01-10-01 - Tanvald (mi...'!J35 -> 0 | AY61: ='SO 01-10-01 - Tanvald (mi...'!J36 -> 0 | AZ61: ='SO 01-10-01 - Tanvald (mi...'!F33 -> 0 | BA61: ='SO 01-10-01 - Tanvald (mi...'!F34 -> 0 | BB61: ='SO 01-10-01 - Tanvald (mi...'!F35 -> 0 | BC61: ='SO 01-10-01 - Tanvald (mi...'!F36 -> 0 | BD61: ='SO 01-10-01 - Tanvald (mi...'!F37 -> 0 | BT61: 1 | BV61: IMPORT | BW61: {3915a858-36d7-451b-9a5b-9a30dda99758} | BX61: {1045a601-b89c-4551-94b7-918ac9a74fab} | CM61: 2
A62: / | D62: SO 01-11-01 | J62: Tanvald (mimo) - Desná (mimo), železniční spodek | AG62: ='SO 01-11-01 - Tanvald (mi...'!J30 -> 0 | AN62: =SUM(AG62,AT62) -> 0 | AQ62: STA | AS62: 0 | AT62: =ROUND(SUM(AV62:AW62),2) -> 0 | AU62: ='SO 01-11-01 - Tanvald (mi...'!P86 -> 0 | AV62: ='SO 01-11-01 - Tanvald (mi...'!J33 -> 0 | AW62: ='SO 01-11-01 - Tanvald (mi...'!J34 -> 0 | AX62: ='SO 01-11-01 - Tanvald (mi...'!J35 -> 0 | AY62: ='SO 01-11-01 - Tanvald (mi...'!J36 -> 0 | AZ62: ='SO 01-11-01 - Tanvald (mi...'!F33 -> 0 | BA62: ='SO 01-11-01 - Tanvald (mi...'!F34 -> 0 | BB62: ='SO 01-11-01 - Tanvald (mi...'!F35 -> 0 | BC62: ='SO 01-11-01 - Tanvald (mi...'!F36 -> 0 | BD62: ='SO 01-11-01 - Tanvald (mi...'!F37 -> 0 | BT62: 1 | BV62: IMPORT | BW62: {55c6854a-d207-4ca3-9197-853502dcc7a0} | BX62: {1045a601-b89c-4551-94b7-918ac9a74fab} | CM62: 2
A63: / | D63: SO 01-13-01 | J63: Přejezd P5545 v ev. km 27,642 | AG63: ='SO 01-13-01 - Přejezd P55...'!J30 -> 0 | AN63: =SUM(AG63,AT63) -> 0 | AQ63: STA | AS63: 0 | AT63: =ROUND(SUM(AV63:AW63),2) -> 0 | AU63: ='SO 01-13-01 - Přejezd P55...'!P83 -> 0 | AV63: ='SO 01-13-01 - Přejezd P55...'!J33 -> 0 | AW63: ='SO 01-13-01 - Přejezd P55...'!J34 -> 0 | AX63: ='SO 01-13-01 - Přejezd P55...'!J35 -> 0 | AY63: ='SO 01-13-01 - Přejezd P55...'!J36 -> 0 | AZ63: ='SO 01-13-01 - Přejezd P55...'!F33 -> 0 | BA63: ='SO 01-13-01 - Přejezd P55...'!F34 -> 0 | BB63: ='SO 01-13-01 - Přejezd P55...'!F35 -> 0 | BC63: ='SO 01-13-01 - Přejezd P55...'!F36 -> 0 | BD63: ='SO 01-13-01 - Přejezd P55...'!F37 -> 0 | BT63: 1 | BV63: IMPORT | BW63: {7181a854-039e-4f37-94d6-763da12792fb} | BX63: {1045a601-b89c-4551-94b7-918ac9a74fab} | CM63: 2
A64: / | D64: SO 01-13-02 | J64: Přejezd P5546 v ev. km 27,985 | AG64: ='SO 01-13-02 - Přejezd P55...'!J30 -> 0 | AN64: =SUM(AG64,AT64) -> 0 | AQ64: STA | AS64: 0 | AT64: =ROUND(SUM(AV64:AW64),2) -> 0 | AU64: ='SO 01-13-02 - Přejezd P55...'!P83 -> 0 | AV64: ='SO 01-13-02 - Přejezd P55...'!J33 -> 0 | AW64: ='SO 01-13-02 - Přejezd P55...'!J34 -> 0 | AX64: ='SO 01-13-02 - Přejezd P55...'!J35 -> 0 | AY64: ='SO 01-13-02 - Přejezd P55...'!J36 -> 0 | AZ64: ='SO 01-13-02 - Přejezd P55...'!F33 -> 0 | BA64: ='SO 01-13-02 - Přejezd P55...'!F34 -> 0 | BB64: ='SO 01-13-02 - Přejezd P55...'!F35 -> 0 | BC64: ='SO 01-13-02 - Přejezd P55...'!F36 -> 0 | BD64: ='SO 01-13-02 - Přejezd P55...'!F37 -> 0 | BT64: 1 | BV64: IMPORT | BW64: {1117b7e5-d982-4f36-a291-d72d7dc864a1} | BX64: {1045a601-b89c-4551-94b7-918ac9a74fab} | CM64: 2
A65: / | D65: SO 01-13-03 | J65: Přejezd P5547 v ev. km 28,651 | AG65: ='SO 01-13-03 - Přejezd P55...'!J30 -> 0 | AN65: =SUM(AG65,AT65) -> 0 | AQ65: STA | AS65: 0 | AT65: =ROUND(SUM(AV65:AW65),2) -> 0 | AU65: ='SO 01-13-03 - Přejezd P55...'!P83 -> 0 | AV65: ='SO 01-13-03 - Přejezd P55...'!J33 -> 0 | AW65: ='SO 01-13-03 - Přejezd P55...'!J34 -> 0 | AX65: ='SO 01-13-03 - Přejezd P55...'!J35 -> 0 | AY65: ='SO 01-13-03 - Přejezd P55...'!J36 -> 0 | AZ65: ='SO 01-13-03 - Přejezd P55...'!F33 -> 0 | BA65: ='SO 01-13-03 - Přejezd P55...'!F34 -> 0 | BB65: ='SO 01-13-03 - Přejezd P55...'!F35 -> 0 | BC65: ='SO 01-13-03 - Přejezd P55...'!F36 -> 0 | BD65: ='SO 01-13-03 - Přejezd P55...'!F37 -> 0 | BT65: 1 | BV65: IMPORT | BW65: {231b7a35-7801-4911-81e0-c811d1418300} | BX65: {1045a601-b89c-4551-94b7-918ac9a74fab} | CM65: 2
A66: / | D66: SO 01-14-01 | J66: Most v ev. km 28,253 | AG66: ='SO 01-14-01 - Most v ev. ...'!J30 -> 0 | AN66: =SUM(AG66,AT66) -> 0 | AQ66: STA | AS66: 0 | AT66: =ROUND(SUM(AV66:AW66),2) -> 0 | AU66: ='SO 01-14-01 - Most v ev. ...'!P88 -> 0 | AV66: ='SO 01-14-01 - Most v ev. ...'!J33 -> 0 | AW66: ='SO 01-14-01 - Most v ev. ...'!J34 -> 0 | AX66: ='SO 01-14-01 - Most v ev. ...'!J35 -> 0 | AY66: ='SO 01-14-01 - Most v ev. ...'!J36 -> 0 | AZ66: ='SO 01-14-01 - Most v ev. ...'!F33 -> 0 | BA66: ='SO 01-14-01 - Most v ev. ...'!F34 -> 0 | BB66: ='SO 01-14-01 - Most v ev. ...'!F35 -> 0 | BC66: ='SO 01-14-01 - Most v ev. ...'!F36 -> 0 | BD66: ='SO 01-14-01 - Most v ev. ...'!F37 -> 0 | BT66: 1 | BV66: IMPORT | BW66: {8ae66dee-851d-4e72-a0c4-619f6513e9ce} | BX66: {1045a601-b89c-4551-94b7-918ac9a74fab} | CM66: 2
A67: / | D67: SO 01-14-02 | J67: Zeď v km 28,285 - 28,345 | AG67: ='SO 01-14-02 - Zeď v km 28...'!J30 -> 0 | AN67: =SUM(AG67,AT67) -> 0 | AQ67: STA | AS67: 0 | AT67: =ROUND(SUM(AV67:AW67),2) -> 0 | AU67: ='SO 01-14-02 - Zeď v km 28...'!P84 -> 0 | AV67: ='SO 01-14-02 - Zeď v km 28...'!J33 -> 0 | AW67: ='SO 01-14-02 - Zeď v km 28...'!J34 -> 0 | AX67: ='SO 01-14-02 - Zeď v km 28...'!J35 -> 0 | AY67: ='SO 01-14-02 - Zeď v km 28...'!J36 -> 0 | AZ67: ='SO 01-14-02 - Zeď v km 28...'!F33 -> 0 | BA67: ='SO 01-14-02 - Zeď v km 28...'!F34 -> 0 | BB67: ='SO 01-14-02 - Zeď v km 28...'!F35 -> 0 | BC67: ='SO 01-14-02 - Zeď v km 28...'!F36 -> 0 | BD67: ='SO 01-14-02 - Zeď v km 28...'!F37 -> 0 | BT67: 1 | BV67: IMPORT | BW67: {b14eaef6-4105-4087-ba86-467924b9f771} | BX67: {1045a601-b89c-4551-94b7-918ac9a74fab} | CM67: 2
A68: / | D68: SO 01-14-03 | J68: Zeď v km 28,586 - 28,643 | AG68: ='SO 01-14-03 - Zeď v km 28...'!J30 -> 0 | AN68: =SUM(AG68,AT68) -> 0 | AQ68: STA | AS68: 0 | AT68: =ROUND(SUM(AV68:AW68),2) -> 0 | AU68: ='SO 01-14-03 - Zeď v km 28...'!P84 -> 0 | AV68: ='SO 01-14-03 - Zeď v km 28...'!J33 -> 0 | AW68: ='SO 01-14-03 - Zeď v km 28...'!J34 -> 0 | AX68: ='SO 01-14-03 - Zeď v km 28...'!J35 -> 0 | AY68: ='SO 01-14-03 - Zeď v km 28...'!J36 -> 0 | AZ68: ='SO 01-14-03 - Zeď v km 28...'!F33 -> 0 | BA68: ='SO 01-14-03 - Zeď v km 28...'!F34 -> 0 | BB68: ='SO 01-14-03 - Zeď v km 28...'!F35 -> 0 | BC68: ='SO 01-14-03 - Zeď v km 28...'!F36 -> 0 | BD68: ='SO 01-14-03 - Zeď v km 28...'!F37 -> 0 | BT68: 1 | BV68: IMPORT | BW68: {c99ef33a-9f28-4cd5-b077-88408f3326f4} | BX68: {1045a601-b89c-4551-94b7-918ac9a74fab} | CM68: 2
A69: / | D69: SO 01-14-04 | J69: Propustek v ev. km 28,631 | AG69: ='SO 01-14-04 - Propustek v...'!J30 -> 0 | AN69: =SUM(AG69,AT69) -> 0 | AQ69: STA | AS69: 0 | AT69: =ROUND(SUM(AV69:AW69),2) -> 0 | AU69: ='SO 01-14-04 - Propustek v...'!P86 -> 0 | AV69: ='SO 01-14-04 - Propustek v...'!J33 -> 0 | AW69: ='SO 01-14-04 - Propustek v...'!J34 -> 0 | AX69: ='SO 01-14-04 - Propustek v...'!J35 -> 0 | AY69: ='SO 01-14-04 - Propustek v...'!J36 -> 0 | AZ69: ='SO 01-14-04 - Propustek v...'!F33 -> 0 | BA69: ='SO 01-14-04 - Propustek v...'!F34 -> 0 | BB69: ='SO 01-14-04 - Propustek v...'!F35 -> 0 | BC69: ='SO 01-14-04 - Propustek v...'!F36 -> 0 | BD69: ='SO 01-14-04 - Propustek v...'!F37 -> 0 | BT69: 1 | BV69: IMPORT | BW69: {56359e3d-f16a-4547-b872-959d638a5b86} | BX69: {1045a601-b89c-4551-94b7-918ac9a74fab} | CM69: 2
A70: / | D70: SO 01-17-01 | J70: Tunel Žďárský km 27,776 - 27,843 | AG70: ='SO 01-17-01 - Tunel Žďárs...'!J30 -> 0 | AN70: =SUM(AG70,AT70) -> 0 | AQ70: STA | AS70: 0 | AT70: =ROUND(SUM(AV70:AW70),2) -> 0 | AU70: ='SO 01-17-01 - Tunel Žďárs...'!P87 -> 0 | AV70: ='SO 01-17-01 - Tunel Žďárs...'!J33 -> 0 | AW70: ='SO 01-17-01 - Tunel Žďárs...'!J34 -> 0 | AX70: ='SO 01-17-01 - Tunel Žďárs...'!J35 -> 0 | AY70: ='SO 01-17-01 - Tunel Žďárs...'!J36 -> 0 | AZ70: ='SO 01-17-01 - Tunel Žďárs...'!F33 -> 0 | BA70: ='SO 01-17-01 - Tunel Žďárs...'!F34 -> 0 | BB70: ='SO 01-17-01 - Tunel Žďárs...'!F35 -> 0 | BC70: ='SO 01-17-01 - Tunel Žďárs...'!F36 -> 0 | BD70: ='SO 01-17-01 - Tunel Žďárs...'!F37 -> 0 | BT70: 1 | BV70: IMPORT | BW70: {67f835dd-2d0a-4694-a24e-e01b665dd877} | BX70: {1045a601-b89c-4551-94b7-918ac9a74fab} | CM70: 2
A71: / | D71: SO 02-10-01 | J71: Dopravna Desná, železniční svršek | AG71: ='SO 02-10-01 - Dopravna De...'!J30 -> 0 | AN71: =SUM(AG71,AT71) -> 0 | AQ71: STA | AS71: 0 | AT71: =ROUND(SUM(AV71:AW71),2) -> 0 | AU71: ='SO 02-10-01 - Dopravna De...'!P83 -> 0 | AV71: ='SO 02-10-01 - Dopravna De...'!J33 -> 0 | AW71: ='SO 02-10-01 - Dopravna De...'!J34 -> 0 | AX71: ='SO 02-10-01 - Dopravna De...'!J35 -> 0 | AY71: ='SO 02-10-01 - Dopravna De...'!J36 -> 0 | AZ71: ='SO 02-10-01 - Dopravna De...'!F33 -> 0 | BA71: ='SO 02-10-01 - Dopravna De...'!F34 -> 0 | BB71: ='SO 02-10-01 - Dopravna De...'!F35 -> 0 | BC71: ='SO 02-10-01 - Dopravna De...'!F36 -> 0 | BD71: ='SO 02-10-01 - Dopravna De...'!F37 -> 0 | BT71: 1 | BV71: IMPORT | BW71: {b9afc75e-3bcd-4ad7-a1ef-13dabc22300c} | BX71: {1045a601-b89c-4551-94b7-918ac9a74fab} | CM71: 2
A72: / | D72: SO 02-11-01 | J72: Dopravna Desná, železniční spodek | AG72: ='SO 02-11-01 - Dopravna De...'!J30 -> 0 | AN72: =SUM(AG72,AT72) -> 0 | AQ72: STA | AS72: 0 | AT72: =ROUND(SUM(AV72:AW72),2) -> 0 | AU72: ='SO 02-11-01 - Dopravna De...'!P83 -> 0 | AV72: ='SO 02-11-01 - Dopravna De...'!J33 -> 0 | AW72: ='SO 02-11-01 - Dopravna De...'!J34 -> 0 | AX72: ='SO 02-11-01 - Dopravna De...'!J35 -> 0 | AY72: ='SO 02-11-01 - Dopravna De...'!J36 -> 0 | AZ72: ='SO 02-11-01 - Dopravna De...'!F33 -> 0 | BA72: ='SO 02-11-01 - Dopravna De...'!F34 -> 0 | BB72: ='SO 02-11-01 - Dopravna De...'!F35 -> 0 | BC72: ='SO 02-11-01 - Dopravna De...'!F36 -> 0 | BD72: ='SO 02-11-01 - Dopravna De...'!F37 -> 0 | BT72: 1 | BV72: IMPORT | BW72: {3712d65f-089c-4ab5-ba97-7b952f01a80e} | BX72: {1045a601-b89c-4551-94b7-918ac9a74fab} | CM72: 2
A73: / | D73: SO 02-12-01 | J73: Dopravna Desná, nástupiště | AG73: ='SO 02-12-01 - Dopravna De...'!J30 -> 0 | AN73: =SUM(AG73,AT73) -> 0 | AQ73: STA | AS73: 0 | AT73: =ROUND(SUM(AV73:AW73),2) -> 0 | AU73: ='SO 02-12-01 - Dopravna De...'!P82 -> 0 | AV73: ='SO 02-12-01 - Dopravna De...'!J33 -> 0 | AW73: ='SO 02-12-01 - Dopravna De...'!J34 -> 0 | AX73: ='SO 02-12-01 - Dopravna De...'!J35 -> 0 | AY73: ='SO 02-12-01 - Dopravna De...'!J36 -> 0 | AZ73: ='SO 02-12-01 - Dopravna De...'!F33 -> 0 | BA73: ='SO 02-12-01 - Dopravna De...'!F34 -> 0 | BB73: ='SO 02-12-01 - Dopravna De...'!F35 -> 0 | BC73: ='SO 02-12-01 - Dopravna De...'!F36 -> 0 | BD73: ='SO 02-12-01 - Dopravna De...'!F37 -> 0 | BT73: 1 | BV73: IMPORT | BW73: {0c62307c-516a-412d-9945-53bb21d74987} | BX73: {1045a601-b89c-4551-94b7-918ac9a74fab} | CM73: 2
A74: / | D74: SO 02-24-01 | J74: Dopravna Desná, orientační systém | AG74: ='SO 02-24-01 - Dopravna De...'!J30 -> 0 | AN74: =SUM(AG74,AT74) -> 0 | AQ74: STA | AS74: 0 | AT74: =ROUND(SUM(AV74:AW74),2) -> 0 | AU74: ='SO 02-24-01 - Dopravna De...'!P81 -> 0 | AV74: ='SO 02-24-01 - Dopravna De...'!J33 -> 0 | AW74: ='SO 02-24-01 - Dopravna De...'!J34 -> 0 | AX74: ='SO 02-24-01 - Dopravna De...'!J35 -> 0 | AY74: ='SO 02-24-01 - Dopravna De...'!J36 -> 0 | AZ74: ='SO 02-24-01 - Dopravna De...'!F33 -> 0 | BA74: ='SO 02-24-01 - Dopravna De...'!F34 -> 0 | BB74: ='SO 02-24-01 - Dopravna De...'!F35 -> 0 | BC74: ='SO 02-24-01 - Dopravna De...'!F36 -> 0 | BD74: ='SO 02-24-01 - Dopravna De...'!F37 -> 0 | BT74: 1 | BV74: IMPORT | BW74: {bc4ccd61-2ad4-4796-81fd-6f9f638252dc} | BX74: {1045a601-b89c-4551-94b7-918ac9a74fab} | CM74: 2
A75: / | D75: SO 02-34-01 | J75: Dopravna Desná, EOV | AG75: ='SO 02-34-01 - Dopravna De...'!J30 -> 0 | AN75: =SUM(AG75,AT75) -> 0 | AQ75: STA | AS75: 0 | AT75: =ROUND(SUM(AV75:AW75),2) -> 0 | AU75: ='SO 02-34-01 - Dopravna De...'!P81 -> 0 | AV75: ='SO 02-34-01 - Dopravna De...'!J33 -> 0 | AW75: ='SO 02-34-01 - Dopravna De...'!J34 -> 0 | AX75: ='SO 02-34-01 - Dopravna De...'!J35 -> 0 | AY75: ='SO 02-34-01 - Dopravna De...'!J36 -> 0 | AZ75: ='SO 02-34-01 - Dopravna De...'!F33 -> 0 | BA75: ='SO 02-34-01 - Dopravna De...'!F34 -> 0 | BB75: ='SO 02-34-01 - Dopravna De...'!F35 -> 0 | BC75: ='SO 02-34-01 - Dopravna De...'!F36 -> 0 | BD75: ='SO 02-34-01 - Dopravna De...'!F37 -> 0 | BT75: 1 | BV75: IMPORT | BW75: {2572cbba-6966-4e55-835f-6ad019bec347} | BX75: {1045a601-b89c-4551-94b7-918ac9a74fab} | CM75: 2
A76: / | D76: SO 02-36-01 | J76: Dopravna Desná, přípojka NN - ČEZ | AG76: ='SO 02-36-01 - Dopravna De...'!J30 -> 0 | AN76: =SUM(AG76,AT76) -> 0 | AQ76: STA | AS76: 0 | AT76: =ROUND(SUM(AV76:AW76),2) -> 0 | AU76: ='SO 02-36-01 - Dopravna De...'!P81 -> 0 | AV76: ='SO 02-36-01 - Dopravna De...'!J33 -> 0 | AW76: ='SO 02-36-01 - Dopravna De...'!J34 -> 0 | AX76: ='SO 02-36-01 - Dopravna De...'!J35 -> 0 | AY76: ='SO 02-36-01 - Dopravna De...'!J36 -> 0 | AZ76: ='SO 02-36-01 - Dopravna De...'!F33 -> 0 | BA76: ='SO 02-36-01 - Dopravna De...'!F34 -> 0 | BB76: ='SO 02-36-01 - Dopravna De...'!F35 -> 0 | BC76: ='SO 02-36-01 - Dopravna De...'!F36 -> 0 | BD76: ='SO 02-36-01 - Dopravna De...'!F37 -> 0 | BT76: 1 | BV76: IMPORT | BW76: {5d2f82c7-e4df-411c-8697-7837c281e039} | BX76: {1045a601-b89c-4551-94b7-918ac9a74fab} | CM76: 2
A77: / | D77: SO 02-36-02 | J77: Dopravna Desná, osvětlení | AG77: ='SO 02-36-02 - Dopravna De...'!J30 -> 0 | AN77: =SUM(AG77,AT77) -> 0 | AQ77: STA | AS77: 0 | AT77: =ROUND(SUM(AV77:AW77),2) -> 0 | AU77: ='SO 02-36-02 - Dopravna De...'!P81 -> 0 | AV77: ='SO 02-36-02 - Dopravna De...'!J33 -> 0 | AW77: ='SO 02-36-02 - Dopravna De...'!J34 -> 0 | AX77: ='SO 02-36-02 - Dopravna De...'!J35 -> 0 | AY77: ='SO 02-36-02 - Dopravna De...'!J36 -> 0 | AZ77: ='SO 02-36-02 - Dopravna De...'!F33 -> 0 | BA77: ='SO 02-36-02 - Dopravna De...'!F34 -> 0 | BB77: ='SO 02-36-02 - Dopravna De...'!F35 -> 0 | BC77: ='SO 02-36-02 - Dopravna De...'!F36 -> 0 | BD77: ='SO 02-36-02 - Dopravna De...'!F37 -> 0 | BT77: 1 | BV77: IMPORT | BW77: {ec5db972-786c-464a-b6eb-473e649e0b76} | BX77: {1045a601-b89c-4551-94b7-918ac9a74fab} | CM77: 2
A78: / | D78: SO 02-36-03 | J78: Dopravna Desná, přípojka zab. zař. | AG78: ='SO 02-36-03 - Dopravna De...'!J30 -> 0 | AN78: =SUM(AG78,AT78) -> 0 | AQ78: STA | AS78: 0 | AT78: =ROUND(SUM(AV78:AW78),2) -> 0 | AU78: ='SO 02-36-03 - Dopravna De...'!P81 -> 0 | AV78: ='SO 02-36-03 - Dopravna De...'!J33 -> 0 | AW78: ='SO 02-36-03 - Dopravna De...'!J34 -> 0 | AX78: ='SO 02-36-03 - Dopravna De...'!J35 -> 0 | AY78: ='SO 02-36-03 - Dopravna De...'!J36 -> 0 | AZ78: ='SO 02-36-03 - Dopravna De...'!F33 -> 0 | BA78: ='SO 02-36-03 - Dopravna De...'!F34 -> 0 | BB78: ='SO 02-36-03 - Dopravna De...'!F35 -> 0 | BC78: ='SO 02-36-03 - Dopravna De...'!F36 -> 0 | BD78: ='SO 02-36-03 - Dopravna De...'!F37 -> 0 | BT78: 1 | BV78: IMPORT | BW78: {c98b8d7c-8d7b-4fa4-aef1-7860715924c0} | BX78: {1045a601-b89c-4551-94b7-918ac9a74fab} | CM78: 2
A79: / | D79: SO 03-10-01 | J79: Desná (mimo) - Dolní Polubný (mimo), železniční svršek | AG79: ='SO 03-10-01 - Desná (mimo...'!J30 -> 0 | AN79: =SUM(AG79,AT79) -> 0 | AQ79: STA | AS79: 0 | AT79: =ROUND(SUM(AV79:AW79),2) -> 0 | AU79: ='SO 03-10-01 - Desná (mimo...'!P83 -> 0 | AV79: ='SO 03-10-01 - Desná (mimo...'!J33 -> 0 | AW79: ='SO 03-10-01 - Desná (mimo...'!J34 -> 0 | AX79: ='SO 03-10-01 - Desná (mimo...'!J35 -> 0 | AY79: ='SO 03-10-01 - Desná (mimo...'!J36 -> 0 | AZ79: ='SO 03-10-01 - Desná (mimo...'!F33 -> 0 | BA79: ='SO 03-10-01 - Desná (mimo...'!F34 -> 0 | BB79: ='SO 03-10-01 - Desná (mimo...'!F35 -> 0 | BC79: ='SO 03-10-01 - Desná (mimo...'!F36 -> 0 | BD79: ='SO 03-10-01 - Desná (mimo...'!F37 -> 0 | BT79: 1 | BV79: IMPORT | BW79: {2431ea6e-94aa-482b-80de-7b8a49a001b1} | BX79: {1045a601-b89c-4551-94b7-918ac9a74fab} | CM79: 2
A80: / | D80: SO 03-11-01 | J80: Desná (mimo) - Dolní Polubný (mimo), železniční spodek | AG80: ='SO 03-11-01 - Desná (mimo...'!J30 -> 0 | AN80: =SUM(AG80,AT80) -> 0 | AQ80: STA | AS80: 0 | AT80: =ROUND(SUM(AV80:AW80),2) -> 0 | AU80: ='SO 03-11-01 - Desná (mimo...'!P85 -> 0 | AV80: ='SO 03-11-01 - Desná (mimo...'!J33 -> 0 | AW80: ='SO 03-11-01 - Desná (mimo...'!J34 -> 0 | AX80: ='SO 03-11-01 - Desná (mimo...'!J35 -> 0 | AY80: ='SO 03-11-01 - Desná (mimo...'!J36 -> 0 | AZ80: ='SO 03-11-01 - Desná (mimo...'!F33 -> 0 | BA80: ='SO 03-11-01 - Desná (mimo...'!F34 -> 0 | BB80: ='SO 03-11-01 - Desná (mimo...'!F35 -> 0 | BC80: ='SO 03-11-01 - Desná (mimo...'!F36 -> 0 | BD80: ='SO 03-11-01 - Desná (mimo...'!F37 -> 0 | BT80: 1 | BV80: IMPORT | BW80: {92054cbb-9aaf-49d1-9608-a9ef831e15be} | BX80: {1045a601-b89c-4551-94b7-918ac9a74fab} | CM80: 2
A81: / | D81: SO 03-13-01 | J81: Přejezd P5548 v ev. km 29,107 | AG81: ='SO 03-13-01 - Přejezd P55...'!J30 -> 0 | AN81: =SUM(AG81,AT81) -> 0 | AQ81: STA | AS81: 0 | AT81: =ROUND(SUM(AV81:AW81),2) -> 0 | AU81: ='SO 03-13-01 - Přejezd P55...'!P83 -> 0 | AV81: ='SO 03-13-01 - Přejezd P55...'!J33 -> 0 | AW81: ='SO 03-13-01 - Přejezd P55...'!J34 -> 0 | AX81: ='SO 03-13-01 - Přejezd P55...'!J35 -> 0 | AY81: ='SO 03-13-01 - Přejezd P55...'!J36 -> 0 | AZ81: ='SO 03-13-01 - Přejezd P55...'!F33 -> 0 | BA81: ='SO 03-13-01 - Přejezd P55...'!F34 -> 0 | BB81: ='SO 03-13-01 - Přejezd P55...'!F35 -> 0 | BC81: ='SO 03-13-01 - Přejezd P55...'!F36 -> 0 | BD81: ='SO 03-13-01 - Přejezd P55...'!F37 -> 0 | BT81: 1 | BV81: IMPORT | BW81: {3755a440-fcc8-4d57-8bec-2b79e0b9a41a} | BX81: {1045a601-b89c-4551-94b7-918ac9a74fab} | CM81: 2
A82: / | D82: SO 03-14-01 | J82: Propustek v ev. km 29,085 | AG82: ='SO 03-14-01 - Propustek v...'!J30 -> 0 | AN82: =SUM(AG82,AT82) -> 0 | AQ82: STA | AS82: 0 | AT82: =ROUND(SUM(AV82:AW82),2) -> 0 | AU82: ='SO 03-14-01 - Propustek v...'!P86 -> 0 | AV82: ='SO 03-14-01 - Propustek v...'!J33 -> 0 | AW82: ='SO 03-14-01 - Propustek v...'!J34 -> 0 | AX82: ='SO 03-14-01 - Propustek v...'!J35 -> 0 | AY82: ='SO 03-14-01 - Propustek v...'!J36 -> 0 | AZ82: ='SO 03-14-01 - Propustek v...'!F33 -> 0 | BA82: ='SO 03-14-01 - Propustek v...'!F34 -> 0 | BB82: ='SO 03-14-01 - Propustek v...'!F35 -> 0 | BC82: ='SO 03-14-01 - Propustek v...'!F36 -> 0 | BD82: ='SO 03-14-01 - Propustek v...'!F37 -> 0 | BT82: 1 | BV82: IMPORT | BW82: {a5036abc-e79e-4cf2-a115-94a08c9dc30a} | BX82: {1045a601-b89c-4551-94b7-918ac9a74fab} | CM82: 2
A83: / | D83: SO 03-14-02 | J83: Most v ev. km 29,281 | AG83: ='SO 03-14-02 - Most v ev. ...'!J30 -> 0 | AN83: =SUM(AG83,AT83) -> 0 | AQ83: STA | AS83: 0 | AT83: =ROUND(SUM(AV83:AW83),2) -> 0 | AU83: ='SO 03-14-02 - Most v ev. ...'!P91 -> 0 | AV83: ='SO 03-14-02 - Most v ev. ...'!J33 -> 0 | AW83: ='SO 03-14-02 - Most v ev. ...'!J34 -> 0 | AX83: ='SO 03-14-02 - Most v ev. ...'!J35 -> 0 | AY83: ='SO 03-14-02 - Most v ev. ...'!J36 -> 0 | AZ83: ='SO 03-14-02 - Most v ev. ...'!F33 -> 0 | BA83: ='SO 03-14-02 - Most v ev. ...'!F34 -> 0 | BB83: ='SO 03-14-02 - Most v ev. ...'!F35 -> 0 | BC83: ='SO 03-14-02 - Most v ev. ...'!F36 -> 0 | BD83: ='SO 03-14-02 - Most v ev. ...'!F37 -> 0 | BT83: 1 | BV83: IMPORT | BW83: {552b5be1-38d5-49bc-a00f-71fd47186c93} | BX83: {1045a601-b89c-4551-94b7-918ac9a74fab} | CM83: 2
A84: / | D84: SO 03-17-01 | J84: Tunel Desenský km 29,438 - 29,690 | AG84: ='SO 03-17-01 - Tunel Desen...'!J30 -> 0 | AN84: =SUM(AG84,AT84) -> 0 | AQ84: STA | AS84: 0 | AT84: =ROUND(SUM(AV84:AW84),2) -> 0 | AU84: ='SO 03-17-01 - Tunel Desen...'!P86 -> 0 | AV84: ='SO 03-17-01 - Tunel Desen...'!J33 -> 0 | AW84: ='SO 03-17-01 - Tunel Desen...'!J34 -> 0 | AX84: ='SO 03-17-01 - Tunel Desen...'!J35 -> 0 | AY84: ='SO 03-17-01 - Tunel Desen...'!J36 -> 0 | AZ84: ='SO 03-17-01 - Tunel Desen...'!F33 -> 0 | BA84: ='SO 03-17-01 - Tunel Desen...'!F34 -> 0 | BB84: ='SO 03-17-01 - Tunel Desen...'!F35 -> 0 | BC84: ='SO 03-17-01 - Tunel Desen...'!F36 -> 0 | BD84: ='SO 03-17-01 - Tunel Desen...'!F37 -> 0 | BT84: 1 | BV84: IMPORT | BW84: {7c6e66ac-454b-46ab-a49a-bebcf6171354} | BX84: {1045a601-b89c-4551-94b7-918ac9a74fab} | CM84: 2
A85: / | D85: SO 03-17-02 | J85: Tunel Dolnopolubenský km 30,375 - 30,542 | AG85: ='SO 03-17-02 - Tunel Dolno...'!J30 -> 0 | AN85: =SUM(AG85,AT85) -> 0 | AQ85: STA | AS85: 0 | AT85: =ROUND(SUM(AV85:AW85),2) -> 0 | AU85: ='SO 03-17-02 - Tunel Dolno...'!P88 -> 0 | AV85: ='SO 03-17-02 - Tunel Dolno...'!J33 -> 0 | AW85: ='SO 03-17-02 - Tunel Dolno...'!J34 -> 0 | AX85: ='SO 03-17-02 - Tunel Dolno...'!J35 -> 0 | AY85: ='SO 03-17-02 - Tunel Dolno...'!J36 -> 0 | AZ85: ='SO 03-17-02 - Tunel Dolno...'!F33 -> 0 | BA85: ='SO 03-17-02 - Tunel Dolno...'!F34 -> 0 | BB85: ='SO 03-17-02 - Tunel Dolno...'!F35 -> 0 | BC85: ='SO 03-17-02 - Tunel Dolno...'!F36 -> 0 | BD85: ='SO 03-17-02 - Tunel Dolno...'!F37 -> 0 | BT85: 1 | BV85: IMPORT | BW85: {b2265337-f4c2-4aac-9d8a-6e474477bcbc} | BX85: {1045a601-b89c-4551-94b7-918ac9a74fab} | CM85: 2
A86: / | D86: SO 03-36-01 | J86: Zast. Desná - Riedlova vila, přípojka NN - ČEZ | AG86: ='SO 03-36-01 - Zast. Desná...'!J30 -> 0 | AN86: =SUM(AG86,AT86) -> 0 | AQ86: STA | AS86: 0 | AT86: =ROUND(SUM(AV86:AW86),2) -> 0 | AU86: ='SO 03-36-01 - Zast. Desná...'!P81 -> 0 | AV86: ='SO 03-36-01 - Zast. Desná...'!J33 -> 0 | AW86: ='SO 03-36-01 - Zast. Desná...'!J34 -> 0 | AX86: ='SO 03-36-01 - Zast. Desná...'!J35 -> 0 | AY86: ='SO 03-36-01 - Zast. Desná...'!J36 -> 0 | AZ86: ='SO 03-36-01 - Zast. Desná...'!F33 -> 0 | BA86: ='SO 03-36-01 - Zast. Desná...'!F34 -> 0 | BB86: ='SO 03-36-01 - Zast. Desná...'!F35 -> 0 | BC86: ='SO 03-36-01 - Zast. Desná...'!F36 -> 0 | BD86: ='SO 03-36-01 - Zast. Desná...'!F37 -> 0 | BT86: 1 | BV86: IMPORT | BW86: {cd66a8ae-c323-4a3e-a3be-e2b705aaddb7} | BX86: {1045a601-b89c-4551-94b7-918ac9a74fab} | CM86: 2
A87: / | D87: SO 03-36-02 | J87: Zast. Desná - Riedlova vila, osvětlení | AG87: ='SO 03-36-02 - Zast. Desná...'!J30 -> 0 | AN87: =SUM(AG87,AT87) -> 0 | AQ87: STA | AS87: 0 | AT87: =ROUND(SUM(AV87:AW87),2) -> 0 | AU87: ='SO 03-36-02 - Zast. Desná...'!P81 -> 0 | AV87: ='SO 03-36-02 - Zast. Desná...'!J33 -> 0 | AW87: ='SO 03-36-02 - Zast. Desná...'!J34 -> 0 | AX87: ='SO 03-36-02 - Zast. Desná...'!J35 -> 0 | AY87: ='SO 03-36-02 - Zast. Desná...'!J36 -> 0 | AZ87: ='SO 03-36-02 - Zast. Desná...'!F33 -> 0 | BA87: ='SO 03-36-02 - Zast. Desná...'!F34 -> 0 | BB87: ='SO 03-36-02 - Zast. Desná...'!F35 -> 0 | BC87: ='SO 03-36-02 - Zast. Desná...'!F36 -> 0 | BD87: ='SO 03-36-02 - Zast. Desná...'!F37 -> 0 | BT87: 1 | BV87: IMPORT | BW87: {9e50dfea-11b7-492c-b4cb-6c2b769b9460} | BX87: {1045a601-b89c-4551-94b7-918ac9a74fab} | CM87: 2
A88: / | D88: SO 04-10-01 | J88: Dolní Polubný (mimo) - Kořenov (mimo), železniční svršek | AG88: ='SO 04-10-01 - Dolní Polub...'!J30 -> 0 | AN88: =SUM(AG88,AT88) -> 0 | AQ88: STA | AS88: 0 | AT88: =ROUND(SUM(AV88:AW88),2) -> 0 | AU88: ='SO 04-10-01 - Dolní Polub...'!P83 -> 0 | AV88: ='SO 04-10-01 - Dolní Polub...'!J33 -> 0 | AW88: ='SO 04-10-01 - Dolní Polub...'!J34 -> 0 | AX88: ='SO 04-10-01 - Dolní Polub...'!J35 -> 0 | AY88: ='SO 04-10-01 - Dolní Polub...'!J36 -> 0 | AZ88: ='SO 04-10-01 - Dolní Polub...'!F33 -> 0 | BA88: ='SO 04-10-01 - Dolní Polub...'!F34 -> 0 | BB88: ='SO 04-10-01 - Dolní Polub...'!F35 -> 0 | BC88: ='SO 04-10-01 - Dolní Polub...'!F36 -> 0 | BD88: ='SO 04-10-01 - Dolní Polub...'!F37 -> 0 | BT88: 1 | BV88: IMPORT | BW88: {da8a8bd7-0fa9-4fd3-9fa6-6d0dee2c4b60} | BX88: {1045a601-b89c-4551-94b7-918ac9a74fab} | CM88: 2
A89: / | D89: SO 04-11-01 | J89: Dolní Polubný (mimo) - Kořenov (mimo), železniční spodek | AG89: ='SO 04-11-01 - Dolní Polub...'!J30 -> 0 | AN89: =SUM(AG89,AT89) -> 0 | AQ89: STA | AS89: 0 | AT89: =ROUND(SUM(AV89:AW89),2) -> 0 | AU89: ='SO 04-11-01 - Dolní Polub...'!P87 -> 0 | AV89: ='SO 04-11-01 - Dolní Polub...'!J33 -> 0 | AW89: ='SO 04-11-01 - Dolní Polub...'!J34 -> 0 | AX89: ='SO 04-11-01 - Dolní Polub...'!J35 -> 0 | AY89: ='SO 04-11-01 - Dolní Polub...'!J36 -> 0 | AZ89: ='SO 04-11-01 - Dolní Polub...'!F33 -> 0 | BA89: ='SO 04-11-01 - Dolní Polub...'!F34 -> 0 | BB89: ='SO 04-11-01 - Dolní Polub...'!F35 -> 0 | BC89: ='SO 04-11-01 - Dolní Polub...'!F36 -> 0 | BD89: ='SO 04-11-01 - Dolní Polub...'!F37 -> 0 | BT89: 1 | BV89: IMPORT | BW89: {3cb7ac97-f65a-42e7-b8b1-0824c3da875f} | BX89: {1045a601-b89c-4551-94b7-918ac9a74fab} | CM89: 2
A90: / | D90: SO 04-12-01 | J90: Zast. Kořenov zastávka, nástupiště | AG90: ='SO 04-12-01 - Zast. Kořen...'!J30 -> 0 | AN90: =SUM(AG90,AT90) -> 0 | AQ90: STA | AS90: 0 | AT90: =ROUND(SUM(AV90:AW90),2) -> 0 | AU90: ='SO 04-12-01 - Zast. Kořen...'!P83 -> 0 | AV90: ='SO 04-12-01 - Zast. Kořen...'!J33 -> 0 | AW90: ='SO 04-12-01 - Zast. Kořen...'!J34 -> 0 | AX90: ='SO 04-12-01 - Zast. Kořen...'!J35 -> 0 | AY90: ='SO 04-12-01 - Zast. Kořen...'!J36 -> 0 | AZ90: ='SO 04-12-01 - Zast. Kořen...'!F33 -> 0 | BA90: ='SO 04-12-01 - Zast. Kořen...'!F34 -> 0 | BB90: ='SO 04-12-01 - Zast. Kořen...'!F35 -> 0 | BC90: ='SO 04-12-01 - Zast. Kořen...'!F36 -> 0 | BD90: ='SO 04-12-01 - Zast. Kořen...'!F37 -> 0 | BT90: 1 | BV90: IMPORT | BW90: {c00b9852-ffb9-4498-8d85-c25b827a26e6} | BX90: {1045a601-b89c-4551-94b7-918ac9a74fab} | CM90: 2
A91: / | D91: SO 04-13-01 | J91: Přejezd P5550 v ev. km 31,049 | AG91: ='SO 04-13-01 - Přejezd P55...'!J30 -> 0 | AN91: =SUM(AG91,AT91) -> 0 | AQ91: STA | AS91: 0 | AT91: =ROUND(SUM(AV91:AW91),2) -> 0 | AU91: ='SO 04-13-01 - Přejezd P55...'!P83 -> 0 | AV91: ='SO 04-13-01 - Přejezd P55...'!J33 -> 0 | AW91: ='SO 04-13-01 - Přejezd P55...'!J34 -> 0 | AX91: ='SO 04-13-01 - Přejezd P55...'!J35 -> 0 | AY91: ='SO 04-13-01 - Přejezd P55...'!J36 -> 0 | AZ91: ='SO 04-13-01 - Přejezd P55...'!F33 -> 0 | BA91: ='SO 04-13-01 - Přejezd P55...'!F34 -> 0 | BB91: ='SO 04-13-01 - Přejezd P55...'!F35 -> 0 | BC91: ='SO 04-13-01 - Přejezd P55...'!F36 -> 0 | BD91: ='SO 04-13-01 - Přejezd P55...'!F37 -> 0 | BT91: 1 | BV91: IMPORT | BW91: {d0a5fea8-62af-48c7-9fd4-a4441ac834a3} | BX91: {1045a601-b89c-4551-94b7-918ac9a74fab} | CM91: 2
A92: / | D92: SO 04-13-02 | J92: Přejezd P5551 v ev. km 34,067 | AG92: ='SO 04-13-02 - Přejezd P55...'!J30 -> 0 | AN92: =SUM(AG92,AT92) -> 0 | AQ92: STA | AS92: 0 | AT92: =ROUND(SUM(AV92:AW92),2) -> 0 | AU92: ='SO 04-13-02 - Přejezd P55...'!P83 -> 0 | AV92: ='SO 04-13-02 - Přejezd P55...'!J33 -> 0 | AW92: ='SO 04-13-02 - Přejezd P55...'!J34 -> 0 | AX92: ='SO 04-13-02 - Přejezd P55...'!J35 -> 0 | AY92: ='SO 04-13-02 - Přejezd P55...'!J36 -> 0 | AZ92: ='SO 04-13-02 - Přejezd P55...'!F33 -> 0 | BA92: ='SO 04-13-02 - Přejezd P55...'!F34 -> 0 | BB92: ='SO 04-13-02 - Přejezd P55...'!F35 -> 0 | BC92: ='SO 04-13-02 - Přejezd P55...'!F36 -> 0 | BD92: ='SO 04-13-02 - Přejezd P55...'!F37 -> 0 | BT92: 1 | BV92: IMPORT | BW92: {984abdf0-27de-475b-837b-556a0e7839c7} | BX92: {1045a601-b89c-4551-94b7-918ac9a74fab} | CM92: 2
A93: / | D93: SO 04-14-01 | J93: Most v ev. km 30,922 | AG93: ='SO 04-14-01 - Most v ev. ...'!J30 -> 0 | AN93: =SUM(AG93,AT93) -> 0 | AQ93: STA | AS93: 0 | AT93: =ROUND(SUM(AV93:AW93),2) -> 0 | AU93: ='SO 04-14-01 - Most v ev. ...'!P87 -> 0 | AV93: ='SO 04-14-01 - Most v ev. ...'!J33 -> 0 | AW93: ='SO 04-14-01 - Most v ev. ...'!J34 -> 0 | AX93: ='SO 04-14-01 - Most v ev. ...'!J35 -> 0 | AY93: ='SO 04-14-01 - Most v ev. ...'!J36 -> 0 | AZ93: ='SO 04-14-01 - Most v ev. ...'!F33 -> 0 | BA93: ='SO 04-14-01 - Most v ev. ...'!F34 -> 0 | BB93: ='SO 04-14-01 - Most v ev. ...'!F35 -> 0 | BC93: ='SO 04-14-01 - Most v ev. ...'!F36 -> 0 | BD93: ='SO 04-14-01 - Most v ev. ...'!F37 -> 0 | BT93: 1 | BV93: IMPORT | BW93: {966d8c65-dac5-4047-af5e-3fee09d222c8} | BX93: {1045a601-b89c-4551-94b7-918ac9a74fab} | CM93: 2
A94: / | D94: SO 04-14-02 | J94: Propustek v ev. km 31,076 | AG94: ='SO 04-14-02 - Propustek v...'!J30 -> 0 | AN94: =SUM(AG94,AT94) -> 0 | AQ94: STA | AS94: 0 | AT94: =ROUND(SUM(AV94:AW94),2) -> 0 | AU94: ='SO 04-14-02 - Propustek v...'!P86 -> 0 | AV94: ='SO 04-14-02 - Propustek v...'!J33 -> 0 | AW94: ='SO 04-14-02 - Propustek v...'!J34 -> 0 | AX94: ='SO 04-14-02 - Propustek v...'!J35 -> 0 | AY94: ='SO 04-14-02 - Propustek v...'!J36 -> 0 | AZ94: ='SO 04-14-02 - Propustek v...'!F33 -> 0 | BA94: ='SO 04-14-02 - Propustek v...'!F34 -> 0 | BB94: ='SO 04-14-02 - Propustek v...'!F35 -> 0 | BC94: ='SO 04-14-02 - Propustek v...'!F36 -> 0 | BD94: ='SO 04-14-02 - Propustek v...'!F37 -> 0 | BT94: 1 | BV94: IMPORT | BW94: {dc7a3b85-1460-4aef-bb6e-d2839ae811a7} | BX94: {1045a601-b89c-4551-94b7-918ac9a74fab} | CM94: 2
A95: / | D95: SO 04-14-03 | J95: Most v ev. km 31,694 | AG95: ='SO 04-14-03 - Most v ev. ...'!J30 -> 0 | AN95: =SUM(AG95,AT95) -> 0 | AQ95: STA | AS95: 0 | AT95: =ROUND(SUM(AV95:AW95),2) -> 0 | AU95: ='SO 04-14-03 - Most v ev. ...'!P87 -> 0 | AV95: ='SO 04-14-03 - Most v ev. ...'!J33 -> 0 | AW95: ='SO 04-14-03 - Most v ev. ...'!J34 -> 0 | AX95: ='SO 04-14-03 - Most v ev. ...'!J35 -> 0 | AY95: ='SO 04-14-03 - Most v ev. ...'!J36 -> 0 | AZ95: ='SO 04-14-03 - Most v ev. ...'!F33 -> 0 | BA95: ='SO 04-14-03 - Most v ev. ...'!F34 -> 0 | BB95: ='SO 04-14-03 - Most v ev. ...'!F35 -> 0 | BC95: ='SO 04-14-03 - Most v ev. ...'!F36 -> 0 | BD95: ='SO 04-14-03 - Most v ev. ...'!F37 -> 0 | BT95: 1 | BV95: IMPORT | BW95: {a5e430ad-aace-4f27-a684-8235dd6fd2a3} | BX95: {1045a601-b89c-4551-94b7-918ac9a74fab} | CM95: 2
A96: / | D96: SO 04-14-04 | J96: Most v ev. km 31,860 | AG96: ='SO 04-14-04 - Most v ev. ...'!J30 -> 0 | AN96: =SUM(AG96,AT96) -> 0 | AQ96: STA | AS96: 0 | AT96: =ROUND(SUM(AV96:AW96),2) -> 0 | AU96: ='SO 04-14-04 - Most v ev. ...'!P87 -> 0 | AV96: ='SO 04-14-04 - Most v ev. ...'!J33 -> 0 | AW96: ='SO 04-14-04 - Most v ev. ...'!J34 -> 0 | AX96: ='SO 04-14-04 - Most v ev. ...'!J35 -> 0 | AY96: ='SO 04-14-04 - Most v ev. ...'!J36 -> 0 | AZ96: ='SO 04-14-04 - Most v ev. ...'!F33 -> 0 | BA96: ='SO 04-14-04 - Most v ev. ...'!F34 -> 0 | BB96: ='SO 04-14-04 - Most v ev. ...'!F35 -> 0 | BC96: ='SO 04-14-04 - Most v ev. ...'!F36 -> 0 | BD96: ='SO 04-14-04 - Most v ev. ...'!F37 -> 0 | BT96: 1 | BV96: IMPORT | BW96: {1684d3dc-1975-4ab1-b298-3e12cc4ad3e4} | BX96: {1045a601-b89c-4551-94b7-918ac9a74fab} | CM96: 2
A97: / | D97: SO 04-14-05 | J97: Most v ev. km 32,360 | AG97: ='SO 04-14-05 - Most v ev. ...'!J30 -> 0 | AN97: =SUM(AG97,AT97) -> 0 | AQ97: STA | AS97: 0 | AT97: =ROUND(SUM(AV97:AW97),2) -> 0 | AU97: ='SO 04-14-05 - Most v ev. ...'!P87 -> 0 | AV97: ='SO 04-14-05 - Most v ev. ...'!J33 -> 0 | AW97: ='SO 04-14-05 - Most v ev. ...'!J34 -> 0 | AX97: ='SO 04-14-05 - Most v ev. ...'!J35 -> 0 | AY97: ='SO 04-14-05 - Most v ev. ...'!J36 -> 0 | AZ97: ='SO 04-14-05 - Most v ev. ...'!F33 -> 0 | BA97: ='SO 04-14-05 - Most v ev. ...'!F34 -> 0 | BB97: ='SO 04-14-05 - Most v ev. ...'!F35 -> 0 | BC97: ='SO 04-14-05 - Most v ev. ...'!F36 -> 0 | BD97: ='SO 04-14-05 - Most v ev. ...'!F37 -> 0 | BT97: 1 | BV97: IMPORT | BW97: {79efb98d-010f-41c8-b665-fcc65cdf6bb0} | BX97: {1045a601-b89c-4551-94b7-918ac9a74fab} | CM97: 2
A98: / | D98: SO 04-14-06 | J98: Zeď v km 32,543 - 32,689 | AG98: ='SO 04-14-06 - Zeď v km 32...'!J30 -> 0 | AN98: =SUM(AG98,AT98) -> 0 | AQ98: STA | AS98: 0 | AT98: =ROUND(SUM(AV98:AW98),2) -> 0 | AU98: ='SO 04-14-06 - Zeď v km 32...'!P84 -> 0 | AV98: ='SO 04-14-06 - Zeď v km 32...'!J33 -> 0 | AW98: ='SO 04-14-06 - Zeď v km 32...'!J34 -> 0 | AX98: ='SO 04-14-06 - Zeď v km 32...'!J35 -> 0 | AY98: ='SO 04-14-06 - Zeď v km 32...'!J36 -> 0 | AZ98: ='SO 04-14-06 - Zeď v km 32...'!F33 -> 0 | BA98: ='SO 04-14-06 - Zeď v km 32...'!F34 -> 0 | BB98: ='SO 04-14-06 - Zeď v km 32...'!F35 -> 0 | BC98: ='SO 04-14-06 - Zeď v km 32...'!F36 -> 0 | BD98: ='SO 04-14-06 - Zeď v km 32...'!F37 -> 0 | BT98: 1 | BV98: IMPORT | BW98: {65b0baf4-8bff-46d3-a9af-3ed0afc887d7} | BX98: {1045a601-b89c-4551-94b7-918ac9a74fab} | CM98: 2
A99: / | D99: SO 04-14-07 | J99: Zeď v km 33,631 - 33,704 | AG99: ='SO 04-14-07 - Zeď v km 33...'!J30 -> 0 | AN99: =SUM(AG99,AT99) -> 0 | AQ99: STA | AS99: 0 | AT99: =ROUND(SUM(AV99:AW99),2) -> 0 | AU99: ='SO 04-14-07 - Zeď v km 33...'!P84 -> 0 | AV99: ='SO 04-14-07 - Zeď v km 33...'!J33 -> 0 | AW99: ='SO 04-14-07 - Zeď v km 33...'!J34 -> 0 | AX99: ='SO 04-14-07 - Zeď v km 33...'!J35 -> 0 | AY99: ='SO 04-14-07 - Zeď v km 33...'!J36 -> 0 | AZ99: ='SO 04-14-07 - Zeď v km 33...'!F33 -> 0 | BA99: ='SO 04-14-07 - Zeď v km 33...'!F34 -> 0 | BB99: ='SO 04-14-07 - Zeď v km 33...'!F35 -> 0 | BC99: ='SO 04-14-07 - Zeď v km 33...'!F36 -> 0 | BD99: ='SO 04-14-07 - Zeď v km 33...'!F37 -> 0 | BT99: 1 | BV99: IMPORT | BW99: {bbb16977-016a-46f2-bdd5-ab0ba8b24b26} | BX99: {1045a601-b89c-4551-94b7-918ac9a74fab} | CM99: 2
A100: / | D100: SO 04-14-08 | J100: Propustek v ev. km 33,967 | AG100: ='SO 04-14-08 - Propustek v...'!J30 -> 0 | AN100: =SUM(AG100,AT100) -> 0 | AQ100: STA | AS100: 0 | AT100: =ROUND(SUM(AV100:AW100),2) -> 0 | AU100: ='SO 04-14-08 - Propustek v...'!P87 -> 0 | AV100: ='SO 04-14-08 - Propustek v...'!J33 -> 0 | AW100: ='SO 04-14-08 - Propustek v...'!J34 -> 0 | AX100: ='SO 04-14-08 - Propustek v...'!J35 -> 0 | AY100: ='SO 04-14-08 - Propustek v...'!J36 -> 0 | AZ100: ='SO 04-14-08 - Propustek v...'!F33 -> 0 | BA100: ='SO 04-14-08 - Propustek v...'!F34 -> 0 | BB100: ='SO 04-14-08 - Propustek v...'!F35 -> 0 | BC100: ='SO 04-14-08 - Propustek v...'!F36 -> 0 | BD100: ='SO 04-14-08 - Propustek v...'!F37 -> 0 | BT100: 1 | BV100: IMPORT | BW100: {91b300f1-f62b-4e94-8876-f5c3d5ded4d6} | BX100: {1045a601-b89c-4551-94b7-918ac9a74fab} | CM100: 2
A101: / | D101: SO 04-14-09 | J101: Propustek v ev. km 34,054 | AG101: ='SO 04-14-09 - Propustek v...'!J30 -> 0 | AN101: =SUM(AG101,AT101) -> 0 | AQ101: STA | AS101: 0 | AT101: =ROUND(SUM(AV101:AW101),2) -> 0 | AU101: ='SO 04-14-09 - Propustek v...'!P87 -> 0 | AV101: ='SO 04-14-09 - Propustek v...'!J33 -> 0 | AW101: ='SO 04-14-09 - Propustek v...'!J34 -> 0 | AX101: ='SO 04-14-09 - Propustek v...'!J35 -> 0 | AY101: ='SO 04-14-09 - Propustek v...'!J36 -> 0 | AZ101: ='SO 04-14-09 - Propustek v...'!F33 -> 0 | BA101: ='SO 04-14-09 - Propustek v...'!F34 -> 0 | BB101: ='SO 04-14-09 - Propustek v...'!F35 -> 0 | BC101: ='SO 04-14-09 - Propustek v...'!F36 -> 0 | BD101: ='SO 04-14-09 - Propustek v...'!F37 -> 0 | BT101: 1 | BV101: IMPORT | BW101: {eab8682d-2ef6-4ac9-9453-000b7e6f383e} | BX101: {1045a601-b89c-4551-94b7-918ac9a74fab} | CM101: 2
A102: / | D102: SO 04-17-01 | J102: Tunel Polubenský km 32,691 - 33,631 | AG102: ='SO 04-17-01 - Tunel Polub...'!J30 -> 0 | AN102: =SUM(AG102,AT102) -> 0 | AQ102: STA | AS102: 0 | AT102: =ROUND(SUM(AV102:AW102),2) -> 0 | AU102: ='SO 04-17-01 - Tunel Polub...'!P88 -> 0 | AV102: ='SO 04-17-01 - Tunel Polub...'!J33 -> 0 | AW102: ='SO 04-17-01 - Tunel Polub...'!J34 -> 0 | AX102: ='SO 04-17-01 - Tunel Polub...'!J35 -> 0 | AY102: ='SO 04-17-01 - Tunel Polub...'!J36 -> 0 | AZ102: ='SO 04-17-01 - Tunel Polub...'!F33 -> 0 | BA102: ='SO 04-17-01 - Tunel Polub...'!F34 -> 0 | BB102: ='SO 04-17-01 - Tunel Polub...'!F35 -> 0 | BC102: ='SO 04-17-01 - Tunel Polub...'!F36 -> 0 | BD102: ='SO 04-17-01 - Tunel Polub...'!F37 -> 0 | BT102: 1 | BV102: IMPORT | BW102: {c4d42ab5-812d-466b-bd8e-c4b6109fa40d} | BX102: {1045a601-b89c-4551-94b7-918ac9a74fab} | CM102: 2
A103: / | D103: SO 04-36-01 | J103: Zast. Desná - Pustinská, přípojka NN - ČEZ | AG103: ='SO 04-36-01 - Zast. Desná...'!J30 -> 0 | AN103: =SUM(AG103,AT103) -> 0 | AQ103: STA | AS103: 0 | AT103: =ROUND(SUM(AV103:AW103),2) -> 0 | AU103: ='SO 04-36-01 - Zast. Desná...'!P81 -> 0 | AV103: ='SO 04-36-01 - Zast. Desná...'!J33 -> 0 | AW103: ='SO 04-36-01 - Zast. Desná...'!J34 -> 0 | AX103: ='SO 04-36-01 - Zast. Desná...'!J35 -> 0 | AY103: ='SO 04-36-01 - Zast. Desná...'!J36 -> 0 | AZ103: ='SO 04-36-01 - Zast. Desná...'!F33 -> 0 | BA103: ='SO 04-36-01 - Zast. Desná...'!F34 -> 0 | BB103: ='SO 04-36-01 - Zast. Desná...'!F35 -> 0 | BC103: ='SO 04-36-01 - Zast. Desná...'!F36 -> 0 | BD103: ='SO 04-36-01 - Zast. Desná...'!F37 -> 0 | BT103: 1 | BV103: IMPORT | BW103: {910477f1-19dd-4f08-85ba-8233d1b0a6d3} | BX103: {1045a601-b89c-4551-94b7-918ac9a74fab} | CM103: 2
A104: / | D104: SO 04-36-02 | J104: Zast. Desná - Pustinská, osvětlení | AG104: ='SO 04-36-02 - Zast. Desná...'!J30 -> 0 | AN104: =SUM(AG104,AT104) -> 0 | AQ104: STA | AS104: 0 | AT104: =ROUND(SUM(AV104:AW104),2) -> 0 | AU104: ='SO 04-36-02 - Zast. Desná...'!P81 -> 0 | AV104: ='SO 04-36-02 - Zast. Desná...'!J33 -> 0 | AW104: ='SO 04-36-02 - Zast. Desná...'!J34 -> 0 | AX104: ='SO 04-36-02 - Zast. Desná...'!J35 -> 0 | AY104: ='SO 04-36-02 - Zast. Desná...'!J36 -> 0 | AZ104: ='SO 04-36-02 - Zast. Desná...'!F33 -> 0 | BA104: ='SO 04-36-02 - Zast. Desná...'!F34 -> 0 | BB104: ='SO 04-36-02 - Zast. Desná...'!F35 -> 0 | BC104: ='SO 04-36-02 - Zast. Desná...'!F36 -> 0 | BD104: ='SO 04-36-02 - Zast. Desná...'!F37 -> 0 | BT104: 1 | BV104: IMPORT | BW104: {b580ca70-84f3-4259-92a2-d59f6be3dc11} | BX104: {1045a601-b89c-4551-94b7-918ac9a74fab} | CM104: 2
A105: / | D105: SO 04-36-04 | J105: Zast. Kořenov zastávka, přípojka NN - ČEZ | AG105: ='SO 04-36-04 - Zast. Kořen...'!J30 -> 0 | AN105: =SUM(AG105,AT105) -> 0 | AQ105: STA | AS105: 0 | AT105: =ROUND(SUM(AV105:AW105),2) -> 0 | AU105: ='SO 04-36-04 - Zast. Kořen...'!P81 -> 0 | AV105: ='SO 04-36-04 - Zast. Kořen...'!J33 -> 0 | AW105: ='SO 04-36-04 - Zast. Kořen...'!J34 -> 0 | AX105: ='SO 04-36-04 - Zast. Kořen...'!J35 -> 0 | AY105: ='SO 04-36-04 - Zast. Kořen...'!J36 -> 0 | AZ105: ='SO 04-36-04 - Zast. Kořen...'!F33 -> 0 | BA105: ='SO 04-36-04 - Zast. Kořen...'!F34 -> 0 | BB105: ='SO 04-36-04 - Zast. Kořen...'!F35 -> 0 | BC105: ='SO 04-36-04 - Zast. Kořen...'!F36 -> 0 | BD105: ='SO 04-36-04 - Zast. Kořen...'!F37 -> 0 | BT105: 1 | BV105: IMPORT | BW105: {9e01b7cc-9d47-4d00-8b3c-e1806667d2fd} | BX105: {1045a601-b89c-4551-94b7-918ac9a74fab} | CM105: 2
A106: / | D106: SO 04-36-05 | J106: Zast. Kořenov zastávka, osvětlení | AG106: ='SO 04-36-05 - Zast. Kořen...'!J30 -> 0 | AN106: =SUM(AG106,AT106) -> 0 | AQ106: STA | AS106: 0 | AT106: =ROUND(SUM(AV106:AW106),2) -> 0 | AU106: ='SO 04-36-05 - Zast. Kořen...'!P81 -> 0 | AV106: ='SO 04-36-05 - Zast. Kořen...'!J33 -> 0 | AW106: ='SO 04-36-05 - Zast. Kořen...'!J34 -> 0 | AX106: ='SO 04-36-05 - Zast. Kořen...'!J35 -> 0 | AY106: ='SO 04-36-05 - Zast. Kořen...'!J36 -> 0 | AZ106: ='SO 04-36-05 - Zast. Kořen...'!F33 -> 0 | BA106: ='SO 04-36-05 - Zast. Kořen...'!F34 -> 0 | BB106: ='SO 04-36-05 - Zast. Kořen...'!F35 -> 0 | BC106: ='SO 04-36-05 - Zast. Kořen...'!F36 -> 0 | BD106: ='SO 04-36-05 - Zast. Kořen...'!F37 -> 0 | BT106: 1 | BV106: IMPORT | BW106: {1801f946-643b-4199-b076-b415e7ae963b} | BX106: {1045a601-b89c-4551-94b7-918ac9a74fab} | CM106: 2
A107: / | D107: SO 98-98 | J107: VON | AG107: ='SO 98-98 - VON'!J30 -> 0 | AN107: =SUM(AG107,AT107) -> 0 | AQ107: STA | AS107: 0 | AT107: =ROUND(SUM(AV107:AW107),2) -> 0 | AU107: ='SO 98-98 - VON'!P81 -> 0 | AV107: ='SO 98-98 - VON'!J33 -> 0 | AW107: ='SO 98-98 - VON'!J34 -> 0 | AX107: ='SO 98-98 - VON'!J35 -> 0 | AY107: ='SO 98-98 - VON'!J36 -> 0 | AZ107: ='SO 98-98 - VON'!F33 -> 0 | BA107: ='SO 98-98 - VON'!F34 -> 0 | BB107: ='SO 98-98 - VON'!F35 -> 0 | BC107: ='SO 98-98 - VON'!F36 -> 0 | BD107: ='SO 98-98 - VON'!F37 -> 0 | BT107: 1 | BV107: IMPORT | BW107: {fddd7d28-0e11-43fd-89dd-17908cce36c7} | BX107: {1045a601-b89c-4551-94b7-918ac9a74fab} | CM107: 2

Sheet PS 00-21-01 - Přeložky ka...
AT2: {ff516158-4888-4ead-9b09-e64cc4d60993}
AT3: 2
D4: KRYCÍ LIST SOUPISU PRACÍ | M4: v --- níže se nacházejí doplnkové a pomocné údaje k sestavám --- v | AT4: False
D6: Stavba:
E7: ='Rekapitulace stavby'!K6 -> Oprava trati v úseku Tanvald - Kořenov
D8: Objekt:
E9: PS 00-21-01 - Přeložky kabelů
D11: KSO: | I11: CC-CZ:
D12: Místo: | I12: Datum: | J12: ='Rekapitulace stavby'!AN8 -> 14. 6. 2023
D14: Zadavatel: | I14: IČ: | J14: =IF('Rekapitulace stavby'!AN10="","",'Rekapitulace stavby'!AN10)
E15: =IF('Rekapitulace stavby'!E11="","",'Rekapitulace stavby'!E11) | I15: DIČ: | J15: =IF('Rekapitulace stavby'!AN11="","",'Rekapitulace stavby'!AN11)
D17: Uchazeč: | I17: IČ: | J17: ='Rekapitulace stavby'!AN13 -> Vyplň údaj
E18: ='Rekapitulace stavby'!E14 -> Vyplň údaj | I18: DIČ: | J18: ='Rekapitulace stavby'!AN14 -> Vyplň údaj
D20: Projektant: | I20: IČ: | J20: =IF('Rekapitulace stavby'!AN16="","",'Rekapitulace stavby'!AN16)
E21: =IF('Rekapitulace stavby'!E17="","",'Rekapitulace stavby'!E17) | I21: DIČ: | J21: =IF('Rekapitulace stavby'!AN17="","",'Rekapitulace stavby'!AN17)
D23: Zpracovatel: | I23: IČ: | J23: =IF('Rekapitulace stavby'!AN19="","",'Rekapitulace stavby'!AN19)
E24: =IF('Rekapitulace stavby'!E20="","",'Rekapitulace stavby'!E20) | I24: DIČ: | J24: =IF('Rekapitulace stavby'!AN20="","",'Rekapitulace stavby'!AN20)
D26: Poznámka:
D30: Cena bez DPH | J30: =ROUND(J81, 2) -> 0
F32: Základ daně | I32: Sazba daně | J32: Výše daně
D33: DPH | E33: základní | F33: =ROUND((SUM(BE81:BE190)), 2) -> 0 | I33: 0.21 | J33: =ROUND(((SUM(BE81:BE190))*I33), 2) -> 0
E34: snížená | F34: =ROUND((SUM(BF81:BF190)), 2) -> 0 | I34: 0.12 | J34: =ROUND(((SUM(BF81:BF190))*I34), 2) -> 0
E35: zákl. přenesená | F35: =ROUND((SUM(BG81:BG190)), 2) -> 0 | I35: 0.21 | J35: =0 -> 0
E36: sníž. přenesená | F36: =ROUND((SUM(BH81:BH190)), 2) -> 0 | I36: 0.12 | J36: =0 -> 0
E37: nulová | F37: =ROUND((SUM(BI81:BI190)), 2) -> 0 | I37: 0 | J37: =0 -> 0
D39: Cena s DPH | G39: v | H39: CZK | J39: =SUM(J30:J37) -> 0
C45: REKAPITULACE ČLENĚNÍ SOUPISU PRACÍ
C47: Stavba:
E48: =E7 -> Oprava trati v úseku Tanvald - Kořenov
C49: Objekt:
E50: =E9 -> PS 00-21-01 - Přeložky kabelů
C52: Místo: | F52: =F12 | I52: Datum: | J52: =IF(J12="","",J12) -> 14. 6. 2023
C54: Zadavatel: | F54: =E15 | I54: Projektant: | J54: =E21
C55: Uchazeč: | F55: =IF(E18="","",E18) -> Vyplň údaj | I55: Zpracovatel: | J55: =E24
C57: Kód dílu - Popis | J57: Cena celkem [CZK]
C59: Náklady stavby celkem | J59: =J81 -> 0 | AU59: -1
D60: 5 - Komunikace | J60: =J82 -> 0
D61: 7 - Přidružená stavební výroba | J61: =J86 -> 0
C68: SOUPIS PRACÍ
C70: Stavba:
E71: =E7 -> Oprava trati v úseku Tanvald - Kořenov
C72: Objekt:
E73: =E9 -> PS 00-21-01 - Přeložky kabelů
C75: Místo: | F75: =F12 | I75: Datum: | J75: =IF(J12="","",J12) -> 14. 6. 2023
C77: Zadavatel: | F77: =E15 | I77: Projektant: | J77: =E21
C78: Uchazeč: | F78: =IF(E18="","",E18) -> Vyplň údaj | I78: Zpracovatel: | J78: =E24
C80: PČ | D80: Typ | E80: Kód | F80: Popis | G80: MJ | H80: Množství | I80: J.cena [CZK] | J80: Cena celkem [CZK] | K80: Cenová soustava | N80: DPH | O80: J. Nh [h] | P80: Nh celkem [h] | Q80: J. hmotnost [t] | R80: Hmotnost celkem [t] | S80: J. suť [t] | T80: Suť Celkem [t]
C81: Náklady soupisu celkem | J81: =BK81 -> 0 | P81: =P82+P86 -> 0 | R81: =R82+R86 -> 0 | T81: =T82+T86 -> 0 | AT81: D | AU81: -1 | BK81: =BK82+BK86 -> 0
D82: D | E82: 5 | F82: Komunikace | J82: =BK82 -> 0 | P82: =SUM(P83:P85) -> 0 | R82: =SUM(R83:R85) -> 0 | T82: =SUM(T83:T85) -> 0 | AR82: 1 | AT82: D | AU82: 0 | AY82: ROZPOCET | BK82: =SUM(BK83:BK85) -> 0
C83: 1 | D83: K | E83: 5915005030 | F83: Hloubení rýh nebo jam ručně na železničním spodku třídy těžitelnosti I skupiny 3 | G83: M3 | H83: 2300 | J83: =ROUND(I83*H83,2) -> 0 | K83: Sborník UOŽI 01 2023 | N83: základní | P83: =O83*H83 -> 0 | Q83: 0 | R83: =Q83*H83 -> 0 | S83: 0 | T83: =S83*H83 -> 0 | AR83: 4 | AT83: K | AU83: 1 | AY83: ROZPOCET | BE83: =IF(N83="základní",J83,0) -> 0 | BF83: =IF(N83="snížená",J83,0) -> 0 | BG83: =IF(N83="zákl. přenesená",J83,0) -> 0 | BH83: =IF(N83="sníž. přenesená",J83,0) -> 0 | BI83: =IF(N83="nulová",J83,0) -> 0 | BJ83: 1 | BK83: =ROUND(I83*H83,2) -> 0 | BL83: 4 | BM83: 2
D84: PP | F84: Hloubení rýh nebo jam ručně na železničním spodku třídy těžitelnosti I skupiny 3. Poznámka: 1. V cenách jsou započteny náklady na hloubení a uložení výzisku na terén nebo naložení na dopravní prostředek a uložení na úložišti. | AT84: PP | AU84: 1
D85: P | F85: Poznámka k položce:_x000D_ Hloubení rýh nebo jam na železničním spodku III. třídy. Poznámka: 1. V cenách jsou započteny náklady na hloubení a uložení výzisku na terén nebo naložení na dopravní prostředek a uložení na úložišti. 2. Zásyp kabelové trasy bude součástí prací na železničním spodku a svršku_x000D_ Technická specifikace položky odpovídá příslušné cenové soustavě. | AT85: P | AU85: 1
D86: D | E86: 7 | F86: Přidružená stavební výroba | J86: =BK86 -> 0 | P86: =SUM(P87:P190) -> 0 | R86: =SUM(R87:R190) -> 0 | T86: =SUM(T87:T190) -> 0 | AR86: 1 | AT86: D | AU86: 0 | AY86: ROZPOCET | BK86: =SUM(BK87:BK190) -> 0
C87: 2 | D87: M | E87: R7491201093 | F87: Elektroinstalační materiál Elektroinstalační lišty a kabelové žlaby Zemní kanál 130x140 tělo+ víko 2m | G87: KUS | H87: 3200 | J87: =ROUND(I87*H87,2) -> 0 | N87: základní | P87: =O87*H87 -> 0 | Q87: 0 | R87: =Q87*H87 -> 0 | S87: 0 | T87: =S87*H87 -> 0 | AR87: 8 | AT87: M | AU87: 1 | AY87: ROZPOCET | BE87: =IF(N87="základní",J87,0) -> 0 | BF87: =IF(N87="snížená",J87,0) -> 0 | BG87: =IF(N87="zákl. přenesená",J87,0) -> 0 | BH87: =IF(N87="sníž. přenesená",J87,0) -> 0 | BI87: =IF(N87="nulová",J87,0) -> 0 | BJ87: 1 | BK87: =ROUND(I87*H87,2) -> 0 | BL87: 4 | BM87: 4
D88: PP | F88: Elektroinstalační materiál Elektroinstalační lišty a kabelové žlaby Zemní kanál 130x140 tělo+ víko 2m | AT88: PP | AU88: 1
D89: P | F89: Poznámka k položce:_x000D_ Elektroinstalační materiál Elektroinstalační lišty a kabelové žlaby Zemní kanál 130x140 tělo+ víko 2m_x000D_ Technická specifikace položky odpovídá příslušné cenové soustavě. | AT89: P | AU89: 1
C90: 3 | D90: M | E90: R7491201097 | F90: Elektroinstalační materiál Elektroinstalační lišty a kabelové žlaby Spojka zemního kanálu | G90: KUS | H90: 1650 | J90: =ROUND(I90*H90,2) -> 0 | N90: základní | P90: =O90*H90 -> 0 | Q90: 0 | R90: =Q90*H90 -> 0 | S90: 0 | T90: =S90*H90 -> 0 | AR90: 8 | AT90: M | AU90: 1 | AY90: ROZPOCET | BE90: =IF(N90="základní",J90,0) -> 0 | BF90: =IF(N90="snížená",J90,0) -> 0 | BG90: =IF(N90="zákl. přenesená",J90,0) -> 0 | BH90: =IF(N90="sníž. přenesená",J90,0) -> 0 | BI90: =IF(N90="nulová",J90,0) -> 0 | BJ90: 1 | BK90: =ROUND(I90*H90,2) -> 0 | BL90: 4 | BM90: 6
D91: PP | F91: Elektroinstalační materiál Elektroinstalační lišty a kabelové žlaby Spojka zemního kanálu | AT91: PP | AU91: 1
D92: P | F92: Poznámka k položce:_x000D_ Elektroinstalační materiál Elektroinstalační lišty a kabelové žlaby Spojka zemního kanálu_x000D_ Technická specifikace položky odpovídá příslušné cenové soustavě. | AT92: P | AU92: 1
C93: 4 | D93: K | E93: 7593505200 | F93: Uložení HDPE trubky pro optický kabel do kabelového žlabu | G93: KUS | H93: 12460 | J93: =ROUND(I93*H93,2) -> 0 | K93: Sborník UOŽI 01 2023 | N93: základní | P93: =O93*H93 -> 0 | Q93: 0 | R93: =Q93*H93 -> 0 | S93: 0 | T93: =S93*H93 -> 0 | AR93: 4 | AT93: K | AU93: 1 | AY93: ROZPOCET | BE93: =IF(N93="základní",J93,0) -> 0 | BF93: =IF(N93="snížená",J93,0) -> 0 | BG93: =IF(N93="zákl. přenesená",J93,0) -> 0 | BH93: =IF(N93="sníž. přenesená",J93,0) -> 0 | BI93: =IF(N93="nulová",J93,0) -> 0 | BJ93: 1 | BK93: =ROUND(I93*H93,2) -> 0 | BL93: 4 | BM93: 8
D94: PP | F94: Uložení HDPE trubky pro optický kabel do kabelového žlabu | AT94: PP | AU94: 1
D95: P | F95: Poznámka k položce:_x000D_ Uložení HDPE trubky pro optický kabel do kabelového žlabu - přechodná poloha + konečná poloha_x000D_ Technická specifikace položky odpovídá příslušné cenové soustavě. | AT95: P | AU95: 1
C96: 5 | D96: M | E96: 7593500165 | F96: Trasy kabelového vedení Kabelové žlaby (200x126) T kus plast | G96: KUS | H96: 30 | J96: =ROUND(I96*H96,2) -> 0 | K96: Sborník UOŽI 01 2023 | N96: základní | P96: =O96*H96 -> 0 | Q96: 0 | R96: =Q96*H96 -> 0 | S96: 0 | T96: =S96*H96 -> 0 | AR96: 8 | AT96: M | AU96: 1 | AY96: ROZPOCET | BE96: =IF(N96="základní",J96,0) -> 0 | BF96: =IF(N96="snížená",J96,0) -> 0 | BG96: =IF(N96="zákl. přenesená",J96,0) -> 0 | BH96: =IF(N96="sníž. přenesená",J96,0) -> 0 | BI96: =IF(N96="nulová",J96,0) -> 0 | BJ96: 1 | BK96: =ROUND(I96*H96,2) -> 0 | BL96: 4 | BM96: 10
D97: PP | F97: Trasy kabelového vedení Kabelové žlaby (200x126) T kus plast | AT97: PP | AU97: 1
D98: P | F98: Poznámka k položce:_x000D_ Trasy kabelového vedení Kabelové žlaby (200x126) T kus plast_x000D_ Technická specifikace položky odpovídá příslušné cenové soustavě. | AT98: P | AU98: 1
C99: 6 | D99: M | E99: 7593501173 | F99: Trasy kabelového vedení Chránička dělená KKHR 40 trubka půlená opravná HDPE 2m | G99: KUS | H99: 50 | J99: =ROUND(I99*H99,2) -> 0 | K99: Sborník UOŽI 01 2023 | N99: základní | P99: =O99*H99 -> 0 | Q99: 0 | R99: =Q99*H99 -> 0 | S99: 0 | T99: =S99*H99 -> 0 | AR99: 8 | AT99: M | AU99: 1 | AY99: ROZPOCET | BE99: =IF(N99="základní",J99,0) -> 0 | BF99: =IF(N99="snížená",J99,0) -> 0 | BG99: =IF(N99="zákl. přenesená",J99,0) -> 0 | BH99: =IF(N99="sníž. přenesená",J99,0) -> 0 | BI99: =IF(N99="nulová",J99,0) -> 0 | BJ99: 1 | BK99: =ROUND(I99*H99,2) -> 0 | BL99: 4 | BM99: 12
D100: PP | F100: Trasy kabelového vedení Chránička dělená KKHR 40 trubka půlená opravná HDPE 2m | AT100: PP | AU100: 1
D101: P | F101: Poznámka k položce:_x000D_ Trasy kabelového vedení Chránička dělená KKHR 40 trubka půlená opravná HDPE 2m_x000D_ Technická specifikace položky odpovídá příslušné cenové soustavě. | AT101: P | AU101: 1
C102: 7 | D102: M | E102: 7593501174 | F102: Trasy kabelového vedení Chránička dělená KKHRM 40 zámek (na trubku nutné objednat 2ks) | G102: KUS | H102: 100 | J102: =ROUND(I102*H102,2) -> 0 | K102: Sborník UOŽI 01 2023 | N102: základní | P102: =O102*H102 -> 0 | Q102: 0 | R102: =Q102*H102 -> 0 | S102: 0 | T102: =S102*H102 -> 0 | AR102: 8 | AT102: M | AU102: 1 | AY102: ROZPOCET | BE102: =IF(N102="základní",J102,0) -> 0 | BF102: =IF(N102="snížená",J102,0) -> 0 | BG102: =IF(N102="zákl. přenesená",J102,0) -> 0 | BH102: =IF(N102="sníž. přenesená",J102,0) -> 0 | BI102: =IF(N102="nulová",J102,0) -> 0 | BJ102: 1 | BK102: =ROUND(I102*H102,2) -> 0 | BL102: 4 | BM102: 14
D103: PP | F103: Trasy kabelového vedení Chránička dělená KKHRM 40 zámek (na trubku nutné objednat 2ks) | AT103: PP | AU103: 1
D104: P | F104: Poznámka k položce:_x000D_ Trasy kabelového vedení Chránička dělená KKHRM 40 zámek (na trubku nutné objednat 2ks)_x000D_ Technická specifikace položky odpovídá příslušné cenové soustavě. | AT104: P | AU104: 1
C105: 8 | D105: M | E105: 7593501195 | F105: Trasy kabelového vedení Spojky šroubovací pro chráničky optického kabelu HDPE 5050 průměr 40 mm | G105: KUS | H105: 52 | J105: =ROUND(I105*H105,2) -> 0 | K105: Sborník UOŽI 01 2023 | N105: základní | P105: =O105*H105 -> 0 | Q105: 0 | R105: =Q105*H105 -> 0 | S105: 0 | T105: =S105*H105 -> 0 | AR105: 8 | AT105: M | AU105: 1 | AY105: ROZPOCET | BE105: =IF(N105="základní",J105,0) -> 0 | BF105: =IF(N105="snížená",J105,0) -> 0 | BG105: =IF(N105="zákl. přenesená",J105,0) -> 0 | BH105: =IF(N105="sníž. přenesená",J105,0) -> 0 | BI105: =IF(N105="nulová",J105,0) -> 0 | BJ105: 1 | BK105: =ROUND(I105*H105,2) -> 0 | BL105: 4 | BM105: 16
D106: PP | F106: Trasy kabelového vedení Spojky šroubovací pro chráničky optického kabelu HDPE 5050 průměr 40 mm | AT106: PP | AU106: 1
D107: P | F107: Poznámka k položce:_x000D_ Trasy kabelového vedení Spojky šroubovací pro chráničky optického kabelu HDPE 5050 průměr 40 mm_x000D_ Technická specifikace položky odpovídá příslušné cenové soustavě. | AT107: P | AU107: 1
C108: 9 | D108: K | E108: R7593505200 | F108: Montáž dělené KKHR 40 | G108: KUS | H108: 100 | J108: =ROUND(I108*H108,2) -> 0 | N108: základní | P108: =O108*H108 -> 0 | Q108: 0 | R108: =Q108*H108 -> 0 | S108: 0 | T108: =S108*H108 -> 0 | AR108: 4 | AT108: K | AU108: 1 | AY108: ROZPOCET | BE108: =IF(N108="základní",J108,0) -> 0 | BF108: =IF(N108="snížená",J108,0) -> 0 | BG108: =IF(N108="zákl. přenesená",J108,0) -> 0 | BH108: =IF(N108="sníž. přenesená",J108,0) -> 0 | BI108: =IF(N108="nulová",J108,0) -> 0 | BJ108: 1 | BK108: =ROUND(I108*H108,2) -> 0 | BL108: 4 | BM108: 18
D109: PP | F109: Montáž dělené KKHR 40 | AT109: PP | AU109: 1
D110: P | F110: Poznámka k položce:_x000D_ Technická specifikace položky odpovídá příslušné cenové soustavě. | AT110: P | AU110: 1
C111: 10 | D111: K | E111: 7598035105 | F111: Měření OTDR (reflektometrická metoda) pro tři vlnové délky obousměrné | G111: VLÁKNO | H111: 96 | J111: =ROUND(I111*H111,2) -> 0 | K111: Sborník UOŽI 01 2023 | N111: základní | P111: =O111*H111 -> 0 | Q111: 0 | R111: =Q111*H111 -> 0 | S111: 0 | T111: =S111*H111 -> 0 | AR111: 4 | AT111: K | AU111: 1 | AY111: ROZPOCET | BE111: =IF(N111="základní",J111,0) -> 0 | BF111: =IF(N111="snížená",J111,0) -> 0 | BG111: =IF(N111="zákl. přenesená",J111,0) -> 0 | BH111: =IF(N111="sníž. přenesená",J111,0) -> 0 | BI111: =IF(N111="nulová",J111,0) -> 0 | BJ111: 1 | BK111: =ROUND(I111*H111,2) -> 0 | BL111: 4 | BM111: 20
D112: PP | F112: Měření OTDR (reflektometrická metoda) pro tři vlnové délky obousměrné | AT112: PP | AU112: 1
D113: P | F113: Poznámka k položce:_x000D_ Měření OTDR pro dvě vlnové délky obousměrné, na začátku a na konci stavby_x000D_ Technická specifikace položky odpovídá příslušné cenové soustavě. | AT113: P | AU113: 1
C114: 11 | D114: K | E114: 7598035125 | F114: Měření TM (přímá metoda) pro tři vlnové délky obousměrné | G114: VLÁKNO | H114: 96 | J114: =ROUND(I114*H114,2) -> 0 | K114: Sborník UOŽI 01 2023 | N114: základní | P114: =O114*H114 -> 0 | Q114: 0 | R114: =Q114*H114 -> 0 | S114: 0 | T114: =S114*H114 -> 0 | AR114: 4 | AT114: K | AU114: 1 | AY114: ROZPOCET | BE114: =IF(N114="základní",J114,0) -> 0 | BF114: =IF(N114="snížená",J114,0) -> 0 | BG114: =IF(N114="zákl. přenesená",J114,0) -> 0 | BH114: =IF(N114="sníž. přenesená",J114,0) -> 0 | BI114: =IF(N114="nulová",J114,0) -> 0 | BJ114: 1 | BK114: =ROUND(I114*H114,2) -> 0 | BL114: 4 | BM114: 22
D115: PP | F115: Měření TM (přímá metoda) pro tři vlnové délky obousměrné | AT115: PP | AU115: 1
D116: P | F116: Poznámka k položce:_x000D_ Měření PM obousměrné pro dvě vlnové délky, na začátku a na konci stavby_x000D_ Technická specifikace položky odpovídá příslušné cenové soustavě. | AT116: P | AU116: 1
C117: 12 | D117: K | E117: R7598025340 | F117: Měření dálkových kabelů měření v obou směrech za provozu 10 čtyřek | G117: ÚSEK | H117: 2 | J117: =ROUND(I117*H117,2) -> 0 | N117: základní | P117: =O117*H117 -> 0 | Q117: 0 | R117: =Q117*H117 -> 0 | S117: 0 | T117: =S117*H117 -> 0 | AR117: 4 | AT117: K | AU117: 1 | AY117: ROZPOCET | BE117: =IF(N117="základní",J117,0) -> 0 | BF117: =IF(N117="snížená",J117,0) -> 0 | BG117: =IF(N117="zákl. přenesená",J117,0) -> 0 | BH117: =IF(N117="sníž. přenesená",J117,0) -> 0 | BI117: =IF(N117="nulová",J117,0) -> 0 | BJ117: 1 | BK117: =ROUND(I117*H117,2) -> 0 | BL117: 4 | BM117: 24
D118: PP | F118: Měření dálkových kabelů měření v obou směrech za provozu 10 čtyřek | AT118: PP | AU118: 1
D119: P | F119: Poznámka k položce:_x000D_ Měření dálkových kabelů v obou směrech za provozu 10 čtyřek_x000D_ Technická specifikace položky odpovídá příslušné cenové soustavě. | AT119: P | AU119: 1
C120: 13 | D120: K | E120: 7598095700 | F120: Dozor pracovníků provozovatele při práci na živém zařízení | G120: HOD | H120: 120 | J120: =ROUND(I120*H120,2) -> 0 | K120: Sborník UOŽI 01 2023 | N120: základní | P120: =O120*H120 -> 0 | Q120: 0 | R120: =Q120*H120 -> 0 | S120: 0 | T120: =S120*H120 -> 0 | AR120: 4 | AT120: K | AU120: 1 | AY120: ROZPOCET | BE120: =IF(N120="základní",J120,0) -> 0 | BF120: =IF(N120="snížená",J120,0) -> 0 | BG120: =IF(N120="zákl. přenesená",J120,0) -> 0 | BH120: =IF(N120="sníž. přenesená",J120,0) -> 0 | BI120: =IF(N120="nulová",J120,0) -> 0 | BJ120: 1 | BK120: =ROUND(I120*H120,2) -> 0 | BL120: 4 | BM120: 26
D121: PP | F121: Dozor pracovníků provozovatele při práci na živém zařízení | AT121: PP | AU121: 1
D122: P | F122: Poznámka k položce:_x000D_ Dozor pracovníků provozovatele při práci na provozovaném zařízení - kabelová vedení_x000D_ Technická specifikace položky odpovídá příslušné cenové soustavě. | AT122: P | AU122: 1
C123: 14 | D123: K | E123: R7593333990 | F123: Hodinová zúčtovací sazba - manipulace s provozovanou kabelovou trasou | G123: HOD | H123: 530 | J123: =ROUND(I123*H123,2) -> 0 | N123: základní | P123: =O123*H123 -> 0 | Q123: 0 | R123: =Q123*H123 -> 0 | S123: 0 | T123: =S123*H123 -> 0 | AR123: 4 | AT123: K | AU123: 1 | AY123: ROZPOCET | BE123: =IF(N123="základní",J123,0) -> 0 | BF123: =IF(N123="snížená",J123,0) -> 0 | BG123: =IF(N123="zákl. přenesená",J123,0) -> 0 | BH123: =IF(N123="sníž. přenesená",J123,0) -> 0 | BI123: =IF(N123="nulová",J123,0) -> 0 | BJ123: 1 | BK123: =ROUND(I123*H123,2) -> 0 | BL123: 4 | BM123: 28
D124: PP | F124: Hodinová zúčtovací sazba - manipulace s provozovanou kabelovou trasou | AT124: PP | AU124: 1
D125: P | F125: Poznámka k položce:_x000D_ Hodinová zúčtovací sazba - manipulace s provozovanou kabelovou trasou_x000D_ Technická specifikace položky odpovídá příslušné cenové soustavě. | AT125: P | AU125: 1
C126: 15 | D126: M | E126: 7593500600 | F126: Trasy kabelového vedení Kabelové krycí desky a pásy Fólie výstražná modrá š. 34cm (HM0673909991034) | G126: M | H126: 7000 | J126: =ROUND(I126*H126,2) -> 0 | K126: Sborník UOŽI 01 2023 | N126: základní | P126: =O126*H126 -> 0 | Q126: 0 | R126: =Q126*H126 -> 0 | S126: 0 | T126: =S126*H126 -> 0 | AR126: 8 | AT126: M | AU126: 1 | AY126: ROZPOCET | BE126: =IF(N126="základní",J126,0) -> 0 | BF126: =IF(N126="snížená",J126,0) -> 0 | BG126: =IF(N126="zákl. přenesená",J126,0) -> 0 | BH126: =IF(N126="sníž. přenesená",J126,0) -> 0 | BI126: =IF(N126="nulová",J126,0) -> 0 | BJ126: 1 | BK126: =ROUND(I126*H126,2) -> 0 | BL126: 4 | BM126: 30
D127: PP | F127: Trasy kabelového vedení Kabelové krycí desky a pásy Fólie výstražná modrá š. 34cm (HM0673909991034) | AT127: PP | AU127: 1
D128: P | F128: Poznámka k položce:_x000D_ Trasy kabelového vedení Kabelové krycí desky a pásy Fólie výstražná modrá š. 34 cm_x000D_ Technická specifikace položky odpovídá příslušné cenové soustavě. | AT128: P | AU128: 1
C129: 16 | D129: K | E129: 7593505150 | F129: Pokládka výstražné fólie do výkopu | G129: M | H129: 6300 | J129: =ROUND(I129*H129,2) -> 0 | K129: Sborník UOŽI 01 2023 | N129: základní | P129: =O129*H129 -> 0 | Q129: 0 | R129: =Q129*H129 -> 0 | S129: 0 | T129: =S129*H129 -> 0 | AR129: 4 | AT129: K | AU129: 1 | AY129: ROZPOCET | BE129: =IF(N129="základní",J129,0) -> 0 | BF129: =IF(N129="snížená",J129,0) -> 0 | BG129: =IF(N129="zákl. přenesená",J129,0) -> 0 | BH129: =IF(N129="sníž. přenesená",J129,0) -> 0 | BI129: =IF(N129="nulová",J129,0) -> 0 | BJ129: 1 | BK129: =ROUND(I129*H129,2) -> 0 | BL129: 4 | BM129: 32
D130: PP | F130: Pokládka výstražné fólie do výkopu | AT130: PP | AU130: 1
D131: P | F131: Poznámka k položce:_x000D_ Pokládka výstražné fólie do výkopu_x000D_ Technická specifikace položky odpovídá příslušné cenové soustavě. | AT131: P | AU131: 1
C132: 17 | D132: K | E132: R7593505270 | F132: Montáž kabelového označníku Ball Marker včetně dodávky | G132: KUS | H132: 55 | J132: =ROUND(I132*H132,2) -> 0 | N132: základní | P132: =O132*H132 -> 0 | Q132: 0 | R132: =Q132*H132 -> 0 | S132: 0 | T132: =S132*H132 -> 0 | AR132: 4 | AT132: K | AU132: 1 | AY132: ROZPOCET | BE132: =IF(N132="základní",J132,0) -> 0 | BF132: =IF(N132="snížená",J132,0) -> 0 | BG132: =IF(N132="zákl. přenesená",J132,0) -> 0 | BH132: =IF(N132="sníž. přenesená",J132,0) -> 0 | BI132: =IF(N132="nulová",J132,0) -> 0 | BJ132: 1 | BK132: =ROUND(I132*H132,2) -> 0 | BL132: 4 | BM132: 34
D133: PP | F133: Montáž kabelového označníku Ball Marker včetně dodávky | AT133: PP | AU133: 1
...

Sheet PS 02-10-01 - Dopravna De...
AT2: {87729dd1-a377-4b90-9a8a-d7fda578f650}
AT3: 2
D4: KRYCÍ LIST SOUPISU PRACÍ | M4: v --- níže se nacházejí doplnkové a pomocné údaje k sestavám --- v | AT4: False
D6: Stavba:
E7: ='Rekapitulace stavby'!K6 -> Oprava trati v úseku Tanvald - Kořenov
D8: Objekt:
E9: PS 02-10-01 - Dopravna Desná, SZZ
D11: KSO: | I11: CC-CZ:
D12: Místo: | I12: Datum: | J12: ='Rekapitulace stavby'!AN8 -> 14. 6. 2023
D14: Zadavatel: | I14: IČ: | J14: =IF('Rekapitulace stavby'!AN10="","",'Rekapitulace stavby'!AN10)
E15: =IF('Rekapitulace stavby'!E11="","",'Rekapitulace stavby'!E11) | I15: DIČ: | J15: =IF('Rekapitulace stavby'!AN11="","",'Rekapitulace stavby'!AN11)
D17: Uchazeč: | I17: IČ: | J17: ='Rekapitulace stavby'!AN13 -> Vyplň údaj
E18: ='Rekapitulace stavby'!E14 -> Vyplň údaj | I18: DIČ: | J18: ='Rekapitulace stavby'!AN14 -> Vyplň údaj
D20: Projektant: | I20: IČ: | J20: =IF('Rekapitulace stavby'!AN16="","",'Rekapitulace stavby'!AN16)
E21: =IF('Rekapitulace stavby'!E17="","",'Rekapitulace stavby'!E17) | I21: DIČ: | J21: =IF('Rekapitulace stavby'!AN17="","",'Rekapitulace stavby'!AN17)
D23: Zpracovatel: | I23: IČ: | J23: =IF('Rekapitulace stavby'!AN19="","",'Rekapitulace stavby'!AN19)
E24: =IF('Rekapitulace stavby'!E20="","",'Rekapitulace stavby'!E20) | I24: DIČ: | J24: =IF('Rekapitulace stavby'!AN20="","",'Rekapitulace stavby'!AN20)
D26: Poznámka:
D30: Cena bez DPH | J30: =ROUND(J81, 2) -> 0
F32: Základ daně | I32: Sazba daně | J32: Výše daně
D33: DPH | E33: základní | F33: =ROUND((SUM(BE81:BE174)), 2) -> 0 | I33: 0.21 | J33: =ROUND(((SUM(BE81:BE174))*I33), 2) -> 0
E34: snížená | F34: =ROUND((SUM(BF81:BF174)), 2) -> 0 | I34: 0.12 | J34: =ROUND(((SUM(BF81:BF174))*I34), 2) -> 0
E35: zákl. přenesená | F35: =ROUND((SUM(BG81:BG174)), 2) -> 0 | I35: 0.21 | J35: =0 -> 0
E36: sníž. přenesená | F36: =ROUND((SUM(BH81:BH174)), 2) -> 0 | I36: 0.12 | J36: =0 -> 0
E37: nulová | F37: =ROUND((SUM(BI81:BI174)), 2) -> 0 | I37: 0 | J37: =0 -> 0
D39: Cena s DPH | G39: v | H39: CZK | J39: =SUM(J30:J37) -> 0
C45: REKAPITULACE ČLENĚNÍ SOUPISU PRACÍ
C47: Stavba:
E48: =E7 -> Oprava trati v úseku Tanvald - Kořenov
C49: Objekt:
E50: =E9 -> PS 02-10-01 - Dopravna Desná, SZZ
C52: Místo: | F52: =F12 | I52: Datum: | J52: =IF(J12="","",J12) -> 14. 6. 2023
C54: Zadavatel: | F54: =E15 | I54: Projektant: | J54: =E21
C55: Uchazeč: | F55: =IF(E18="","",E18) -> Vyplň údaj | I55: Zpracovatel: | J55: =E24
C57: Kód dílu - Popis | J57: Cena celkem [CZK]
C59: Náklady stavby celkem | J59: =J81 -> 0 | AU59: -1
D60: D1 - Název dílu | J60: =J82 -> 0
D61: za Díl - Název dílu | J61: =J174 -> 0
C68: SOUPIS PRACÍ
C70: Stavba:
E71: =E7 -> Oprava trati v úseku Tanvald - Kořenov
C72: Objekt:
E73: =E9 -> PS 02-10-01 - Dopravna Desná, SZZ
C75: Místo: | F75: =F12 | I75: Datum: | J75: =IF(J12="","",J12) -> 14. 6. 2023
C77: Zadavatel: | F77: =E15 | I77: Projektant: | J77: =E21
C78: Uchazeč: | F78: =IF(E18="","",E18) -> Vyplň údaj | I78: Zpracovatel: | J78: =E24
C80: PČ | D80: Typ | E80: Kód | F80: Popis | G80: MJ | H80: Množství | I80: J.cena [CZK] | J80: Cena celkem [CZK] | K80: Cenová soustava | N80: DPH | O80: J. Nh [h] | P80: Nh celkem [h] | Q80: J. hmotnost [t] | R80: Hmotnost celkem [t] | S80: J. suť [t] | T80: Suť Celkem [t]
C81: Náklady soupisu celkem | J81: =BK81 -> 0 | P81: =P82+P174 -> 0 | R81: =R82+R174 -> 0 | T81: =T82+T174 -> 0 | AT81: D | AU81: -1 | BK81: =BK82+BK174 -> 0
D82: D | E82: D1 | F82: Název dílu | J82: =BK82 -> 0 | P82: =SUM(P83:P173) -> 0 | R82: =SUM(R83:R173) -> 0 | T82: =SUM(T83:T173) -> 0 | AR82: 1 | AT82: D | AU82: 0 | AY82: ROZPOCET | BK82: =SUM(BK83:BK173) -> 0
C83: 1 | D83: K | E83: 7590917022 | F83: Demontáž výkolejky s návěstním tělesem se zámkem kontrolním | G83: kus | H83: 1 | J83: =ROUND(I83*H83,2) -> 0 | K83: Sborník UOŽI 01 2023 | N83: základní | P83: =O83*H83 -> 0 | Q83: 0 | R83: =Q83*H83 -> 0 | S83: 0 | T83: =S83*H83 -> 0 | AR83: 4 | AT83: K | AU83: 1 | AY83: ROZPOCET | BE83: =IF(N83="základní",J83,0) -> 0 | BF83: =IF(N83="snížená",J83,0) -> 0 | BG83: =IF(N83="zákl. přenesená",J83,0) -> 0 | BH83: =IF(N83="sníž. přenesená",J83,0) -> 0 | BI83: =IF(N83="nulová",J83,0) -> 0 | BJ83: 1 | BK83: =ROUND(I83*H83,2) -> 0 | BL83: 4 | BM83: 2
D84: PP | F84: Demontáž výkolejky s návěstním tělesem se zámkem kontrolním | AT84: PP | AU84: 1
D85: P | F85: Poznámka k položce:_x000D_ Demontáž výkolejky s návěstním tělesem se zámkem kontrolním | AT85: P | AU85: 1
C86: 2 | D86: K | E86: 7591307010 | F86: Demontáž zámku výměnového jednoduchého | G86: kus | H86: 6 | J86: =ROUND(I86*H86,2) -> 0 | K86: Sborník UOŽI 01 2023 | N86: základní | P86: =O86*H86 -> 0 | Q86: 0 | R86: =Q86*H86 -> 0 | S86: 0 | T86: =S86*H86 -> 0 | AR86: 4 | AT86: K | AU86: 1 | AY86: ROZPOCET | BE86: =IF(N86="základní",J86,0) -> 0 | BF86: =IF(N86="snížená",J86,0) -> 0 | BG86: =IF(N86="zákl. přenesená",J86,0) -> 0 | BH86: =IF(N86="sníž. přenesená",J86,0) -> 0 | BI86: =IF(N86="nulová",J86,0) -> 0 | BJ86: 1 | BK86: =ROUND(I86*H86,2) -> 0 | BL86: 4 | BM86: 4
D87: PP | F87: Demontáž zámku výměnového jednoduchého | AT87: PP | AU87: 1
D88: P | F88: Poznámka k položce:_x000D_ Demontáž zámku výměnového jednoduchého | AT88: P | AU88: 1
C89: 3 | D89: K | E89: 7591307014 | F89: Demontáž zámku výměnového kontrolního | G89: kus | H89: 1 | J89: =ROUND(I89*H89,2) -> 0 | K89: Sborník UOŽI 01 2023 | N89: základní | P89: =O89*H89 -> 0 | Q89: 0 | R89: =Q89*H89 -> 0 | S89: 0 | T89: =S89*H89 -> 0 | AR89: 4 | AT89: K | AU89: 1 | AY89: ROZPOCET | BE89: =IF(N89="základní",J89,0) -> 0 | BF89: =IF(N89="snížená",J89,0) -> 0 | BG89: =IF(N89="zákl. přenesená",J89,0) -> 0 | BH89: =IF(N89="sníž. přenesená",J89,0) -> 0 | BI89: =IF(N89="nulová",J89,0) -> 0 | BJ89: 1 | BK89: =ROUND(I89*H89,2) -> 0 | BL89: 4 | BM89: 6
D90: PP | F90: Demontáž zámku výměnového kontrolního | AT90: PP | AU90: 1
D91: P | F91: Poznámka k položce:_x000D_ Demontáž zámku výměnového kontrolního | AT91: P | AU91: 1
C92: 4 | D92: K | E92: 7591307016 | F92: Demontáž zámku výměnového kontrolního odtlačného | G92: kus | H92: 4 | J92: =ROUND(I92*H92,2) -> 0 | K92: Sborník UOŽI 01 2023 | N92: základní | P92: =O92*H92 -> 0 | Q92: 0 | R92: =Q92*H92 -> 0 | S92: 0 | T92: =S92*H92 -> 0 | AR92: 4 | AT92: K | AU92: 1 | AY92: ROZPOCET | BE92: =IF(N92="základní",J92,0) -> 0 | BF92: =IF(N92="snížená",J92,0) -> 0 | BG92: =IF(N92="zákl. přenesená",J92,0) -> 0 | BH92: =IF(N92="sníž. přenesená",J92,0) -> 0 | BI92: =IF(N92="nulová",J92,0) -> 0 | BJ92: 1 | BK92: =ROUND(I92*H92,2) -> 0 | BL92: 4 | BM92: 8
D93: PP | F93: Demontáž zámku výměnového kontrolního odtlačného | AT93: PP | AU93: 1
D94: P | F94: Poznámka k položce:_x000D_ Demontáž zámku výměnového kontrolního odtlačného | AT94: P | AU94: 1
C95: 5 | D95: M | E95: 7590910460 | F95: Výkolejky Výkolejka ruční S49 levá návěst vlevo (CV040719002) | G95: kus | H95: 3 | J95: =ROUND(I95*H95,2) -> 0 | K95: Sborník UOŽI 01 2023 | N95: základní | P95: =O95*H95 -> 0 | Q95: 0 | R95: =Q95*H95 -> 0 | S95: 0 | T95: =S95*H95 -> 0 | AR95: 8 | AT95: M | AU95: 1 | AY95: ROZPOCET | BE95: =IF(N95="základní",J95,0) -> 0 | BF95: =IF(N95="snížená",J95,0) -> 0 | BG95: =IF(N95="zákl. přenesená",J95,0) -> 0 | BH95: =IF(N95="sníž. přenesená",J95,0) -> 0 | BI95: =IF(N95="nulová",J95,0) -> 0 | BJ95: 1 | BK95: =ROUND(I95*H95,2) -> 0 | BL95: 4 | BM95: 10
D96: PP | F96: Výkolejky Výkolejka ruční S49 levá návěst vlevo (CV040719002) | AT96: PP | AU96: 1
D97: P | F97: Poznámka k položce:_x000D_ Výkolejky Výkolejka ruční S49 levá návěst vlevo (CV040719002) | AT97: P | AU97: 1
C98: 6 | D98: M | E98: 7590910450 | F98: Výkolejky Výkolejka ruční S49 pravá návěst vpravo (CV040719001) | G98: kus | H98: 2 | J98: =ROUND(I98*H98,2) -> 0 | K98: Sborník UOŽI 01 2023 | N98: základní | P98: =O98*H98 -> 0 | Q98: 0 | R98: =Q98*H98 -> 0 | S98: 0 | T98: =S98*H98 -> 0 | AR98: 8 | AT98: M | AU98: 1 | AY98: ROZPOCET | BE98: =IF(N98="základní",J98,0) -> 0 | BF98: =IF(N98="snížená",J98,0) -> 0 | BG98: =IF(N98="zákl. přenesená",J98,0) -> 0 | BH98: =IF(N98="sníž. přenesená",J98,0) -> 0 | BI98: =IF(N98="nulová",J98,0) -> 0 | BJ98: 1 | BK98: =ROUND(I98*H98,2) -> 0 | BL98: 4 | BM98: 12
D99: PP | F99: Výkolejky Výkolejka ruční S49 pravá návěst vpravo (CV040719001) | AT99: PP | AU99: 1
D100: P | F100: Poznámka k položce:_x000D_ Výkolejky Výkolejka ruční S49 pravá návěst vpravo (CV040719001) | AT100: P | AU100: 1
C101: 7 | D101: M | E101: 7591300050 | F101: Zámky Zámek kontrolní pro polohu výkolejky na kolejnici (CV040705021) | G101: kus | H101: 5 | J101: =ROUND(I101*H101,2) -> 0 | K101: Sborník UOŽI 01 2023 | N101: základní | P101: =O101*H101 -> 0 | Q101: 0 | R101: =Q101*H101 -> 0 | S101: 0 | T101: =S101*H101 -> 0 | AR101: 8 | AT101: M | AU101: 1 | AY101: ROZPOCET | BE101: =IF(N101="základní",J101,0) -> 0 | BF101: =IF(N101="snížená",J101,0) -> 0 | BG101: =IF(N101="zákl. přenesená",J101,0) -> 0 | BH101: =IF(N101="sníž. přenesená",J101,0) -> 0 | BI101: =IF(N101="nulová",J101,0) -> 0 | BJ101: 1 | BK101: =ROUND(I101*H101,2) -> 0 | BL101: 4 | BM101: 14
D102: PP | F102: Zámky Zámek kontrolní pro polohu výkolejky na kolejnici (CV040705021) | AT102: PP | AU102: 1
D103: P | F103: Poznámka k položce:_x000D_ Zámky Kontrolní zámek pro polohu výkolejky na kolejnici (CV040705021) | AT103: P | AU103: 1
C104: 8 | D104: M | E104: 7591300200 | F104: Zámky Zámek výměn. jednoduchý univerzální (HM0404156060000) | G104: kus | H104: 6 | J104: =ROUND(I104*H104,2) -> 0 | K104: Sborník UOŽI 01 2023 | N104: základní | P104: =O104*H104 -> 0 | Q104: 0 | R104: =Q104*H104 -> 0 | S104: 0 | T104: =S104*H104 -> 0 | AR104: 8 | AT104: M | AU104: 1 | AY104: ROZPOCET | BE104: =IF(N104="základní",J104,0) -> 0 | BF104: =IF(N104="snížená",J104,0) -> 0 | BG104: =IF(N104="zákl. přenesená",J104,0) -> 0 | BH104: =IF(N104="sníž. přenesená",J104,0) -> 0 | BI104: =IF(N104="nulová",J104,0) -> 0 | BJ104: 1 | BK104: =ROUND(I104*H104,2) -> 0 | BL104: 4 | BM104: 16
D105: PP | F105: Zámky Zámek výměn. jednoduchý univerzální (HM0404156060000) | AT105: PP | AU105: 1
D106: P | F106: Poznámka k položce:_x000D_ Zámky Zámek výměn.jednoduchý univerzální (HM0404156060000) | AT106: P | AU106: 1
C107: 9 | D107: M | E107: 7591300210 | F107: Zámky Zámek výměn. kontr.odtlačný univerzální (HM0404156090000) | G107: kus | H107: 4 | J107: =ROUND(I107*H107,2) -> 0 | K107: Sborník UOŽI 01 2023 | N107: základní | P107: =O107*H107 -> 0 | Q107: 0 | R107: =Q107*H107 -> 0 | S107: 0 | T107: =S107*H107 -> 0 | AR107: 8 | AT107: M | AU107: 1 | AY107: ROZPOCET | BE107: =IF(N107="základní",J107,0) -> 0 | BF107: =IF(N107="snížená",J107,0) -> 0 | BG107: =IF(N107="zákl. přenesená",J107,0) -> 0 | BH107: =IF(N107="sníž. přenesená",J107,0) -> 0 | BI107: =IF(N107="nulová",J107,0) -> 0 | BJ107: 1 | BK107: =ROUND(I107*H107,2) -> 0 | BL107: 4 | BM107: 18
D108: PP | F108: Zámky Zámek výměn. kontr.odtlačný univerzální (HM0404156090000) | AT108: PP | AU108: 1
D109: P | F109: Poznámka k položce:_x000D_ Zámky Zámek výměn.kontr.odtlačný univerzální (HM0404156090000) | AT109: P | AU109: 1
C110: 10 | D110: M | E110: 7591010021R01 | F110: Přestavníky Přestavník elektromotorický pro žlabový pražec | G110: KUS | H110: 2 | J110: =ROUND(I110*H110,2) -> 0 | N110: základní | P110: =O110*H110 -> 0 | Q110: 0 | R110: =Q110*H110 -> 0 | S110: 0 | T110: =S110*H110 -> 0 | AR110: 8 | AT110: M | AU110: 1 | AY110: ROZPOCET | BE110: =IF(N110="základní",J110,0) -> 0 | BF110: =IF(N110="snížená",J110,0) -> 0 | BG110: =IF(N110="zákl. přenesená",J110,0) -> 0 | BH110: =IF(N110="sníž. přenesená",J110,0) -> 0 | BI110: =IF(N110="nulová",J110,0) -> 0 | BJ110: 1 | BK110: =ROUND(I110*H110,2) -> 0 | BL110: 4 | BM110: 20
D111: PP | F111: Přestavníky Přestavník elektromotorický pro žlabový pražec | AT111: PP | AU111: 1
D112: P | F112: Poznámka k položce:_x000D_ Přestavníky Přestavník elektromotorický pro žlabový pražec | AT112: P | AU112: 1
C113: 11 | D113: K | E113: 7590915022 | F113: Montáž výkolejky s návěstním tělesem se zámkem kontrolním | G113: kus | H113: 5 | J113: =ROUND(I113*H113,2) -> 0 | K113: Sborník UOŽI 01 2023 | N113: základní | P113: =O113*H113 -> 0 | Q113: 0 | R113: =Q113*H113 -> 0 | S113: 0 | T113: =S113*H113 -> 0 | AR113: 4 | AT113: K | AU113: 1 | AY113: ROZPOCET | BE113: =IF(N113="základní",J113,0) -> 0 | BF113: =IF(N113="snížená",J113,0) -> 0 | BG113: =IF(N113="zákl. přenesená",J113,0) -> 0 | BH113: =IF(N113="sníž. přenesená",J113,0) -> 0 | BI113: =IF(N113="nulová",J113,0) -> 0 | BJ113: 1 | BK113: =ROUND(I113*H113,2) -> 0 | BL113: 4 | BM113: 22
D114: PP | F114: Montáž výkolejky s návěstním tělesem se zámkem kontrolním - položení na dřevěné pražce, označení a vyvrtání otvorů, položení a přišroubování na paty kolejnice, přišroubování dosedacího úhelníku, vyzkoušení, namontování spojovací tyče, přezkoušení chodu, úprava typu klíče, očíslování výkolejky, nátěr | AT114: PP | AU114: 1
D115: P | F115: Poznámka k položce:_x000D_ Montáž výkolejky s návěstním tělesem se zámkem kontrolním - položení na dřevěné pražce, označení a vyvrtání otvorů, položení a přišroubování na paty kolejnice, přišroubování dosedacího úhelníku, vyzkoušení, namontování spojovací tyče, přezkoušení chodu, úprava typu klíče, očíslování výkolejky, nátěr | AT115: P | AU115: 1
C116: 12 | D116: K | E116: 7591305010 | F116: Montáž zámku výměnového jednoduchého | G116: kus | H116: 6 | J116: =ROUND(I116*H116,2) -> 0 | K116: Sborník UOŽI 01 2023 | N116: základní | P116: =O116*H116 -> 0 | Q116: 0 | R116: =Q116*H116 -> 0 | S116: 0 | T116: =S116*H116 -> 0 | AR116: 4 | AT116: K | AU116: 1 | AY116: ROZPOCET | BE116: =IF(N116="základní",J116,0) -> 0 | BF116: =IF(N116="snížená",J116,0) -> 0 | BG116: =IF(N116="zákl. přenesená",J116,0) -> 0 | BH116: =IF(N116="sníž. přenesená",J116,0) -> 0 | BI116: =IF(N116="nulová",J116,0) -> 0 | BJ116: 1 | BK116: =ROUND(I116*H116,2) -> 0 | BL116: 4 | BM116: 24
D117: PP | F117: Montáž zámku výměnového jednoduchého - úprava štěrkového lože, rozebrání zámku, uvolnění závěrného háku, montáž ochranné skříňky a kostry zámku, regulace závěrného háku, přetypování a sestavení zámku, nasazení krytu a jeho zajištění, oštítkování klíčů a kontrola činnosti | AT117: PP | AU117: 1
D118: P | F118: Poznámka k položce:_x000D_ Montáž zámku výměnového jednoduchého - úprava štěrkového lože, rozebrání zámku, uvolnění závěrného háku, montáž ochranné skříňky a kostry zámku, regulace závěrného háku, přetypování a sestavení zámku, nasazení krytu a jeho zajištění, oštítkování klíčů a kontrola činnosti | AT118: P | AU118: 1
C119: 13 | D119: K | E119: 7591305016 | F119: Montáž zámku výměnového kontrolního odtlačného | G119: kus | H119: 4 | J119: =ROUND(I119*H119,2) -> 0 | K119: Sborník UOŽI 01 2023 | N119: základní | P119: =O119*H119 -> 0 | Q119: 0 | R119: =Q119*H119 -> 0 | S119: 0 | T119: =S119*H119 -> 0 | AR119: 4 | AT119: K | AU119: 1 | AY119: ROZPOCET | BE119: =IF(N119="základní",J119,0) -> 0 | BF119: =IF(N119="snížená",J119,0) -> 0 | BG119: =IF(N119="zákl. přenesená",J119,0) -> 0 | BH119: =IF(N119="sníž. přenesená",J119,0) -> 0 | BI119: =IF(N119="nulová",J119,0) -> 0 | BJ119: 1 | BK119: =ROUND(I119*H119,2) -> 0 | BL119: 4 | BM119: 26
D120: PP | F120: Montáž zámku výměnového kontrolního odtlačného - úprava štěrkového lože, rozebrání zámku, uvolnění závěrného háku, montáž ochranné skříňky a kostry zámku, regulace závěrného háku, přetypování a sestavení zámku, nasazení krytu a jeho zajištění, oštítkování klíčů a kontrola činnosti | AT120: PP | AU120: 1
D121: P | F121: Poznámka k položce:_x000D_ Montáž zámku výměnového kontrolního odtlačného - úprava štěrkového lože, rozebrání zámku, uvolnění závěrného háku, montáž ochranné skříňky a kostry zámku, regulace závěrného háku, přetypování a sestavení zámku, nasazení krytu a jeho zajištění, oštítkování klíčů a kontrola činnosti | AT121: P | AU121: 1
C122: 14 | D122: K | E122: 7591015036 | F122: Montáž elektromotorického přestavníku na výhybce s kontrolou jazyků s upevněním ve žlabovém pražci | G122: kus | H122: 2 | J122: =ROUND(I122*H122,2) -> 0 | K122: Sborník UOŽI 01 2023 | N122: základní | P122: =O122*H122 -> 0 | Q122: 0 | R122: =Q122*H122 -> 0 | S122: 0 | T122: =S122*H122 -> 0 | AR122: 4 | AT122: K | AU122: 1 | AY122: ROZPOCET | BE122: =IF(N122="základní",J122,0) -> 0 | BF122: =IF(N122="snížená",J122,0) -> 0 | BG122: =IF(N122="zákl. přenesená",J122,0) -> 0 | BH122: =IF(N122="sníž. přenesená",J122,0) -> 0 | BI122: =IF(N122="nulová",J122,0) -> 0 | BJ122: 1 | BK122: =ROUND(I122*H122,2) -> 0 | BL122: 4 | BM122: 28
D123: PP | F123: Montáž elektromotorického přestavníku na výhybce s kontrolou jazyků s upevněním ve žlabovém pražci - připevnění přestavníku do žlabového pražce a zatažení kabelu s kabelovou formou do kabelového závěru, mechanické přezkoušení chodu | AT123: PP | AU123: 1
D124: P | F124: Poznámka k položce:_x000D_ Montáž elektromotorického přestavníku na výhybce s kontrolou jazyků s upevněním ve žlabovém pražci - připevnění přestavníku do žlabového pražce a zatažení kabelu s kabelovou formou do kabelového závěru, mechanické přezkoušení chodu | AT124: P | AU124: 1
C125: 15 | D125: K | E125: 7498152752R01 | F125: Vyhotovení revizní zprávy - TBZ | G125: HOD | H125: 15 | J125: =ROUND(I125*H125,2) -> 0 | N125: základní | P125: =O125*H125 -> 0 | Q125: 0 | R125: =Q125*H125 -> 0 | S125: 0 | T125: =S125*H125 -> 0 | AR125: 4 | AT125: K | AU125: 1 | AY125: ROZPOCET | BE125: =IF(N125="základní",J125,0) -> 0 | BF125: =IF(N125="snížená",J125,0) -> 0 | BG125: =IF(N125="zákl. přenesená",J125,0) -> 0 | BH125: =IF(N125="sníž. přenesená",J125,0) -> 0 | BI125: =IF(N125="nulová",J125,0) -> 0 | BJ125: 1 | BK125: =ROUND(I125*H125,2) -> 0 | BL125: 4 | BM125: 30
D126: PP | F126: Vyhotovení revizní zprávy - TBZ | AT126: PP | AU126: 1
D127: P | F127: Poznámka k položce:_x000D_ Vyhotovení pravidelné revizní zprávy pro jednotlivé technologie hodinová sazba revizního technika - celková prohlídka zařízení včetně měření, zkoušek zařízení tohoto provozního souboru nebo stavebního objektu revizním technikem na zařízení podle požadavku ČSN, včetně hodnocení a vyhotovení celkové revizní zprávy | AT127: P | AU127: 1
C128: 16 | D128: K | E128: 7498152752R02 | F128: Regulace a přezkoušení SZZ dD3 Desná | G128: HOD | H128: 50 | J128: =ROUND(I128*H128,2) -> 0 | N128: základní | P128: =O128*H128 -> 0 | Q128: 0 | R128: =Q128*H128 -> 0 | S128: 0 | T128: =S128*H128 -> 0 | AR128: 4 | AT128: K | AU128: 1 | AY128: ROZPOCET | BE128: =IF(N128="základní",J128,0) -> 0 | BF128: =IF(N128="snížená",J128,0) -> 0 | BG128: =IF(N128="zákl. přenesená",J128,0) -> 0 | BH128: =IF(N128="sníž. přenesená",J128,0) -> 0 | BI128: =IF(N128="nulová",J128,0) -> 0 | BJ128: 1 | BK128: =ROUND(I128*H128,2) -> 0 | BL128: 4 | BM128: 32
D129: PP | F129: Regulace a přezkoušení SZZ dD3 Desná | AT129: PP | AU129: 1
C130: 17 | D130: K | E130: 7499151030R03 | F130: Dokončovací práce zkušební provoz | G130: HOD | H130: 20 | J130: =ROUND(I130*H130,2) -> 0 | N130: základní | P130: =O130*H130 -> 0 | Q130: 0 | R130: =Q130*H130 -> 0 | S130: 0 | T130: =S130*H130 -> 0 | AR130: 4 | AT130: K | AU130: 1 | AY130: ROZPOCET | BE130: =IF(N130="základní",J130,0) -> 0 | BF130: =IF(N130="snížená",J130,0) -> 0 | BG130: =IF(N130="zákl. přenesená",J130,0) -> 0 | BH130: =IF(N130="sníž. přenesená",J130,0) -> 0 | BI130: =IF(N130="nulová",J130,0) -> 0 | BJ130: 1 | BK130: =ROUND(I130*H130,2) -> 0 | BL130: 4 | BM130: 34
D131: PP | F131: Dokončovací práce zkušební provoz | AT131: PP | AU131: 1
D132: P | F132: Poznámka k položce:_x000D_ Dokončovací práce zkušební provoz - včetně prokázání technických a kvalitativních parametrů zařízení | AT132: P | AU132: 1
C133: 18 | D133: K | E133: 7499151010R01 | F133: Dokončovací práce - úpravy montáže elektromotorického přestavníku | G133: HOD | H133: 16 | J133: =ROUND(I133*H133,2) -> 0 | N133: základní | P133: =O133*H133 -> 0 | Q133: 0 | R133: =Q133*H133 -> 0 | S133: 0 | T133: =S133*H133 -> 0 | AR133: 4 | AT133: K | AU133: 1 | AY133: ROZPOCET | BE133: =IF(N133="základní",J133,0) -> 0 | BF133: =IF(N133="snížená",J133,0) -> 0 | BG133: =IF(N133="zákl. přenesená",J133,0) -> 0 | BH133: =IF(N133="sníž. přenesená",J133,0) -> 0 | BI133: =IF(N133="nulová",J133,0) -> 0 | BJ133: 1 | BK133: =ROUND(I133*H133,2) -> 0 | BL133: 4 | BM133: 36
...

Sheet PS 02-27-01 - Dopravna  D...
AT2: {09d27414-d3ab-473b-ac49-625376c911e4}
AT3: 2
D4: KRYCÍ LIST SOUPISU PRACÍ | M4: v --- níže se nacházejí doplnkové a pomocné údaje k sestavám --- v | AT4: False
D6: Stavba:
E7: ='Rekapitulace stavby'!K6 -> Oprava trati v úseku Tanvald - Kořenov
D8: Objekt:
E9: PS 02-27-01 - Dopravna Desná, napájení zab. zař.
D11: KSO: | I11: CC-CZ:
D12: Místo: | I12: Datum: | J12: ='Rekapitulace stavby'!AN8 -> 14. 6. 2023
D14: Zadavatel: | I14: IČ: | J14: =IF('Rekapitulace stavby'!AN10="","",'Rekapitulace stavby'!AN10)
E15: =IF('Rekapitulace stavby'!E11="","",'Rekapitulace stavby'!E11) | I15: DIČ: | J15: =IF('Rekapitulace stavby'!AN11="","",'Rekapitulace stavby'!AN11)
D17: Uchazeč: | I17: IČ: | J17: ='Rekapitulace stavby'!AN13 -> Vyplň údaj
E18: ='Rekapitulace stavby'!E14 -> Vyplň údaj | I18: DIČ: | J18: ='Rekapitulace stavby'!AN14 -> Vyplň údaj
D20: Projektant: | I20: IČ: | J20: =IF('Rekapitulace stavby'!AN16="","",'Rekapitulace stavby'!AN16)
E21: =IF('Rekapitulace stavby'!E17="","",'Rekapitulace stavby'!E17) | I21: DIČ: | J21: =IF('Rekapitulace stavby'!AN17="","",'Rekapitulace stavby'!AN17)
D23: Zpracovatel: | I23: IČ: | J23: =IF('Rekapitulace stavby'!AN19="","",'Rekapitulace stavby'!AN19)
E24: =IF('Rekapitulace stavby'!E20="","",'Rekapitulace stavby'!E20) | I24: DIČ: | J24: =IF('Rekapitulace stavby'!AN20="","",'Rekapitulace stavby'!AN20)
D26: Poznámka:
D30: Cena bez DPH | J30: =ROUND(J79, 2) -> 0
F32: Základ daně | I32: Sazba daně | J32: Výše daně
D33: DPH | E33: základní | F33: =ROUND((SUM(BE79:BE211)), 2) -> 0 | I33: 0.21 | J33: =ROUND(((SUM(BE79:BE211))*I33), 2) -> 0
E34: snížená | F34: =ROUND((SUM(BF79:BF211)), 2) -> 0 | I34: 0.12 | J34: =ROUND(((SUM(BF79:BF211))*I34), 2) -> 0
E35: zákl. přenesená | F35: =ROUND((SUM(BG79:BG211)), 2) -> 0 | I35: 0.21 | J35: =0 -> 0
E36: sníž. přenesená | F36: =ROUND((SUM(BH79:BH211)), 2) -> 0 | I36: 0.12 | J36: =0 -> 0
E37: nulová | F37: =ROUND((SUM(BI79:BI211)), 2) -> 0 | I37: 0 | J37: =0 -> 0
D39: Cena s DPH | G39: v | H39: CZK | J39: =SUM(J30:J37) -> 0
C45: REKAPITULACE ČLENĚNÍ SOUPISU PRACÍ
C47: Stavba:
E48: =E7 -> Oprava trati v úseku Tanvald - Kořenov
C49: Objekt:
E50: =E9 -> PS 02-27-01 - Dopravna Desná, napájení zab. zař.
C52: Místo: | F52: =F12 | I52: Datum: | J52: =IF(J12="","",J12) -> 14. 6. 2023
C54: Zadavatel: | F54: =E15 | I54: Projektant: | J54: =E21
C55: Uchazeč: | F55: =IF(E18="","",E18) -> Vyplň údaj | I55: Zpracovatel: | J55: =E24
C57: Kód dílu - Popis | J57: Cena celkem [CZK]
C59: Náklady stavby celkem | J59: =J79 -> 0 | AU59: -1
C66: SOUPIS PRACÍ
C68: Stavba:
E69: =E7 -> Oprava trati v úseku Tanvald - Kořenov
C70: Objekt:
E71: =E9 -> PS 02-27-01 - Dopravna Desná, napájení zab. zař.
C73: Místo: | F73: =F12 | I73: Datum: | J73: =IF(J12="","",J12) -> 14. 6. 2023
C75: Zadavatel: | F75: =E15 | I75: Projektant: | J75: =E21
C76: Uchazeč: | F76: =IF(E18="","",E18) -> Vyplň údaj | I76: Zpracovatel: | J76: =E24
C78: PČ | D78: Typ | E78: Kód | F78: Popis | G78: MJ | H78: Množství | I78: J.cena [CZK] | J78: Cena celkem [CZK] | K78: Cenová soustava | N78: DPH | O78: J. Nh [h] | P78: Nh celkem [h] | Q78: J. hmotnost [t] | R78: Hmotnost celkem [t] | S78: J. suť [t] | T78: Suť Celkem [t]
C79: Náklady soupisu celkem | J79: =BK79 -> 0 | P79: =SUM(P80:P211) -> 0 | R79: =SUM(R80:R211) -> 0 | T79: =SUM(T80:T211) -> 0 | AT79: D | AU79: -1 | BK79: =SUM(BK80:BK211) -> 0
C80: 1 | D80: M | E80: 7491600020 | F80: Uzemnění Vnitřní Uzemňovací vedení na povrchu, páskem FeZn do 120 mm2 | G80: m | H80: 18 | J80: =ROUND(I80*H80,2) -> 0 | K80: Sborník UOŽI 01 2023 | N80: základní | P80: =O80*H80 -> 0 | Q80: 0 | R80: =Q80*H80 -> 0 | S80: 0 | T80: =S80*H80 -> 0 | AR80: 8 | AT80: M | AU80: 0 | AY80: ROZPOCET | BE80: =IF(N80="základní",J80,0) -> 0 | BF80: =IF(N80="snížená",J80,0) -> 0 | BG80: =IF(N80="zákl. přenesená",J80,0) -> 0 | BH80: =IF(N80="sníž. přenesená",J80,0) -> 0 | BI80: =IF(N80="nulová",J80,0) -> 0 | BJ80: 1 | BK80: =ROUND(I80*H80,2) -> 0 | BL80: 4 | BM80: 2
D81: PP | F81: Uzemnění Vnitřní Uzemňovací vedení na povrchu, páskem FeZn do 120 mm2 | AT81: PP | AU81: 0
D82: P | F82: Poznámka k položce:_x000D_ Uzemňovací vedení na povrchu, páskem FeZn do 120 mm2_x000D_ Technická specifikace položky odpovídá příslušné cenové soustavě. | AT82: P | AU82: 0
C83: 2 | D83: M | E83: 7492500340 | F83: Kabely, vodiče, šňůry Cu - nn Vodič jednožílový Cu, plastová izolace H07V-U 6 černý (CY) | G83: m | H83: 85 | J83: =ROUND(I83*H83,2) -> 0 | K83: Sborník UOŽI 01 2023 | N83: základní | P83: =O83*H83 -> 0 | Q83: 0 | R83: =Q83*H83 -> 0 | S83: 0 | T83: =S83*H83 -> 0 | AR83: 8 | AT83: M | AU83: 0 | AY83: ROZPOCET | BE83: =IF(N83="základní",J83,0) -> 0 | BF83: =IF(N83="snížená",J83,0) -> 0 | BG83: =IF(N83="zákl. přenesená",J83,0) -> 0 | BH83: =IF(N83="sníž. přenesená",J83,0) -> 0 | BI83: =IF(N83="nulová",J83,0) -> 0 | BJ83: 1 | BK83: =ROUND(I83*H83,2) -> 0 | BL83: 4 | BM83: 4
D84: PP | F84: Kabely, vodiče, šňůry Cu - nn Vodič jednožílový Cu, plastová izolace H07V-U 6 černý (CY) | AT84: PP | AU84: 0
D85: P | F85: Poznámka k položce:_x000D_ H07V-U 6 černý (CY)_x000D_ Technická specifikace položky odpovídá příslušné cenové soustavě. | AT85: P | AU85: 0
C86: 3 | D86: M | E86: 7492104720 | F86: Spojovací vedení, podpěrné izolátory Spojky, ukončení pasu, ostatní Kabelová koncovka do 1kV KSCZ4X 6-95 | G86: kus | H86: 1 | J86: =ROUND(I86*H86,2) -> 0 | K86: Sborník UOŽI 01 2023 | N86: základní | P86: =O86*H86 -> 0 | Q86: 0 | R86: =Q86*H86 -> 0 | S86: 0 | T86: =S86*H86 -> 0 | AR86: 8 | AT86: M | AU86: 0 | AY86: ROZPOCET | BE86: =IF(N86="základní",J86,0) -> 0 | BF86: =IF(N86="snížená",J86,0) -> 0 | BG86: =IF(N86="zákl. přenesená",J86,0) -> 0 | BH86: =IF(N86="sníž. přenesená",J86,0) -> 0 | BI86: =IF(N86="nulová",J86,0) -> 0 | BJ86: 1 | BK86: =ROUND(I86*H86,2) -> 0 | BL86: 4 | BM86: 6
D87: PP | F87: Spojovací vedení, podpěrné izolátory Spojky, ukončení pasu, ostatní Kabelová koncovka do 1kV KSCZ4X 6-95 | AT87: PP | AU87: 0
D88: P | F88: Poznámka k položce:_x000D_ Kabelová koncovka do 1kV KSCZ4X 6-95_x000D_ Technická specifikace položky odpovídá příslušné cenové soustavě. | AT88: P | AU88: 0
C89: 4 | D89: M | E89: 7494002782 | F89: Rozvodnicové a rozváděčové skříně Distri Rozváděčové skříně Příslušenství Přístrojové lišty Š lišty x Š skříně 200 x 1200, pro např. QA | G89: kus | H89: 4 | J89: =ROUND(I89*H89,2) -> 0 | K89: Sborník UOŽI 01 2023 | N89: základní | P89: =O89*H89 -> 0 | Q89: 0 | R89: =Q89*H89 -> 0 | S89: 0 | T89: =S89*H89 -> 0 | AR89: 8 | AT89: M | AU89: 0 | AY89: ROZPOCET | BE89: =IF(N89="základní",J89,0) -> 0 | BF89: =IF(N89="snížená",J89,0) -> 0 | BG89: =IF(N89="zákl. přenesená",J89,0) -> 0 | BH89: =IF(N89="sníž. přenesená",J89,0) -> 0 | BI89: =IF(N89="nulová",J89,0) -> 0 | BJ89: 1 | BK89: =ROUND(I89*H89,2) -> 0 | BL89: 4 | BM89: 8
D90: PP | F90: Rozvodnicové a rozváděčové skříně Distri Rozváděčové skříně Příslušenství Přístrojové lišty Š lišty x Š skříně 200 x 1200, pro např. QA | AT90: PP | AU90: 0
D91: P | F91: Poznámka k položce:_x000D_ Š lišty x Š skříně 200 x 1200, pro např. QA_x000D_ Technická specifikace položky odpovídá příslušné cenové soustavě. | AT91: P | AU91: 0
C92: 5 | D92: M | E92: 7494002796 | F92: Rozvodnicové a rozváděčové skříně Distri Rozváděčové skříně Příslušenství Svorkové lišty Š lišty x Š skříně 60 x 1000, pro např. QA | G92: kus | H92: 9 | J92: =ROUND(I92*H92,2) -> 0 | K92: Sborník UOŽI 01 2023 | N92: základní | P92: =O92*H92 -> 0 | Q92: 0 | R92: =Q92*H92 -> 0 | S92: 0 | T92: =S92*H92 -> 0 | AR92: 8 | AT92: M | AU92: 0 | AY92: ROZPOCET | BE92: =IF(N92="základní",J92,0) -> 0 | BF92: =IF(N92="snížená",J92,0) -> 0 | BG92: =IF(N92="zákl. přenesená",J92,0) -> 0 | BH92: =IF(N92="sníž. přenesená",J92,0) -> 0 | BI92: =IF(N92="nulová",J92,0) -> 0 | BJ92: 1 | BK92: =ROUND(I92*H92,2) -> 0 | BL92: 4 | BM92: 10
D93: PP | F93: Rozvodnicové a rozváděčové skříně Distri Rozváděčové skříně Příslušenství Svorkové lišty Š lišty x Š skříně 60 x 1000, pro např. QA | AT93: PP | AU93: 0
D94: P | F94: Poznámka k položce:_x000D_ Š lišty x Š skříně 60 x 1000, pro např. QA_x000D_ Technická specifikace položky odpovídá příslušné cenové soustavě. | AT94: P | AU94: 0
C95: 6 | D95: M | E95: 7494002812 | F95: Rozvodnicové a rozváděčové skříně Distri Rozváděčové skříně Příslušenství Zámky uzamykací vložka pro výklopnou kliku, pro např. QA | G95: kus | H95: 2 | J95: =ROUND(I95*H95,2) -> 0 | K95: Sborník UOŽI 01 2023 | N95: základní | P95: =O95*H95 -> 0 | Q95: 0 | R95: =Q95*H95 -> 0 | S95: 0 | T95: =S95*H95 -> 0 | AR95: 8 | AT95: M | AU95: 0 | AY95: ROZPOCET | BE95: =IF(N95="základní",J95,0) -> 0 | BF95: =IF(N95="snížená",J95,0) -> 0 | BG95: =IF(N95="zákl. přenesená",J95,0) -> 0 | BH95: =IF(N95="sníž. přenesená",J95,0) -> 0 | BI95: =IF(N95="nulová",J95,0) -> 0 | BJ95: 1 | BK95: =ROUND(I95*H95,2) -> 0 | BL95: 4 | BM95: 12
D96: PP | F96: Rozvodnicové a rozváděčové skříně Distri Rozváděčové skříně Příslušenství Zámky uzamykací vložka pro výklopnou kliku, pro např. QA | AT96: PP | AU96: 0
D97: P | F97: Poznámka k položce:_x000D_ uzamykací vložka pro výklopnou kliku, pro např. QA_x000D_ Technická specifikace položky odpovídá příslušné cenové soustavě. | AT97: P | AU97: 0
C98: 7 | D98: M | E98: 7494002836 | F98: Rozvodnicové a rozváděčové skříně Distri Rozváděčové skříně Příslušenství rozváděčových skříní klíč DB5, pro např. QA, NP | G98: kus | H98: 4 | J98: =ROUND(I98*H98,2) -> 0 | K98: Sborník UOŽI 01 2023 | N98: základní | P98: =O98*H98 -> 0 | Q98: 0 | R98: =Q98*H98 -> 0 | S98: 0 | T98: =S98*H98 -> 0 | AR98: 8 | AT98: M | AU98: 0 | AY98: ROZPOCET | BE98: =IF(N98="základní",J98,0) -> 0 | BF98: =IF(N98="snížená",J98,0) -> 0 | BG98: =IF(N98="zákl. přenesená",J98,0) -> 0 | BH98: =IF(N98="sníž. přenesená",J98,0) -> 0 | BI98: =IF(N98="nulová",J98,0) -> 0 | BJ98: 1 | BK98: =ROUND(I98*H98,2) -> 0 | BL98: 4 | BM98: 14
D99: PP | F99: Rozvodnicové a rozváděčové skříně Distri Rozváděčové skříně Příslušenství rozváděčových skříní klíč DB5, pro např. QA, NP | AT99: PP | AU99: 0
D100: P | F100: Poznámka k položce:_x000D_ klíč DB5, pro např. QA, NP_x000D_ Technická specifikace položky odpovídá příslušné cenové soustavě. | AT100: P | AU100: 0
C101: 8 | D101: M | E101: 7492501870 | F101: Kabely, vodiče, šňůry Cu - nn Kabel silový 4 a 5-žílový Cu, plastová izolace CYKY 4J10 (4Bx10) | G101: m | H101: 25 | J101: =ROUND(I101*H101,2) -> 0 | K101: Sborník UOŽI 01 2023 | N101: základní | P101: =O101*H101 -> 0 | Q101: 0 | R101: =Q101*H101 -> 0 | S101: 0 | T101: =S101*H101 -> 0 | AR101: 8 | AT101: M | AU101: 0 | AY101: ROZPOCET | BE101: =IF(N101="základní",J101,0) -> 0 | BF101: =IF(N101="snížená",J101,0) -> 0 | BG101: =IF(N101="zákl. přenesená",J101,0) -> 0 | BH101: =IF(N101="sníž. přenesená",J101,0) -> 0 | BI101: =IF(N101="nulová",J101,0) -> 0 | BJ101: 1 | BK101: =ROUND(I101*H101,2) -> 0 | BL101: 4 | BM101: 16
D102: PP | F102: Kabely, vodiče, šňůry Cu - nn Kabel silový 4 a 5-žílový Cu, plastová izolace CYKY 4J10 (4Bx10) | AT102: PP | AU102: 0
D103: P | F103: Poznámka k položce:_x000D_ CYKY 4J10 (4Bx10)_x000D_ Technická specifikace položky odpovídá příslušné cenové soustavě. | AT103: P | AU103: 0
C104: 9 | D104: M | E104: 7494010394 | F104: Přístroje pro spínání a ovládání Svornice a pomocný materiál Svornice Svorka RSA 6 A řadová | G104: kus | H104: 65 | J104: =ROUND(I104*H104,2) -> 0 | K104: Sborník UOŽI 01 2023 | N104: základní | P104: =O104*H104 -> 0 | Q104: 0 | R104: =Q104*H104 -> 0 | S104: 0 | T104: =S104*H104 -> 0 | AR104: 8 | AT104: M | AU104: 0 | AY104: ROZPOCET | BE104: =IF(N104="základní",J104,0) -> 0 | BF104: =IF(N104="snížená",J104,0) -> 0 | BG104: =IF(N104="zákl. přenesená",J104,0) -> 0 | BH104: =IF(N104="sníž. přenesená",J104,0) -> 0 | BI104: =IF(N104="nulová",J104,0) -> 0 | BJ104: 1 | BK104: =ROUND(I104*H104,2) -> 0 | BL104: 4 | BM104: 18
D105: PP | F105: Přístroje pro spínání a ovládání Svornice a pomocný materiál Svornice Svorka RSA 6 A řadová | AT105: PP | AU105: 0
D106: P | F106: Poznámka k položce:_x000D_ Svorka RSA 6 A řadová_x000D_ Technická specifikace položky odpovídá příslušné cenové soustavě. | AT106: P | AU106: 0
C107: 10 | D107: M | E107: 7494010416 | F107: Přístroje pro spínání a ovládání Svornice a pomocný materiál Svornice Svorka RSA 10 A řadová černá | G107: kus | H107: 8 | J107: =ROUND(I107*H107,2) -> 0 | K107: Sborník UOŽI 01 2023 | N107: základní | P107: =O107*H107 -> 0 | Q107: 0 | R107: =Q107*H107 -> 0 | S107: 0 | T107: =S107*H107 -> 0 | AR107: 8 | AT107: M | AU107: 0 | AY107: ROZPOCET | BE107: =IF(N107="základní",J107,0) -> 0 | BF107: =IF(N107="snížená",J107,0) -> 0 | BG107: =IF(N107="zákl. přenesená",J107,0) -> 0 | BH107: =IF(N107="sníž. přenesená",J107,0) -> 0 | BI107: =IF(N107="nulová",J107,0) -> 0 | BJ107: 1 | BK107: =ROUND(I107*H107,2) -> 0 | BL107: 4 | BM107: 20
D108: PP | F108: Přístroje pro spínání a ovládání Svornice a pomocný materiál Svornice Svorka RSA 10 A řadová černá | AT108: PP | AU108: 0
D109: P | F109: Poznámka k položce:_x000D_ Svorka RSA 10 A řadová černá_x000D_ Technická specifikace položky odpovídá příslušné cenové soustavě. | AT109: P | AU109: 0
C110: 11 | D110: M | E110: 7494001250 | F110: Rozvodnicové a rozváděčové skříně Distri Rozváděčové skříně Řadové (IP40) - oceloplechové krytí IP40, dvoukřídlé dveře, V x Š x H 1800 x 1200 x 600 | G110: kus | H110: 2 | J110: =ROUND(I110*H110,2) -> 0 | K110: Sborník UOŽI 01 2023 | N110: základní | P110: =O110*H110 -> 0 | Q110: 0 | R110: =Q110*H110 -> 0 | S110: 0 | T110: =S110*H110 -> 0 | AR110: 8 | AT110: M | AU110: 0 | AY110: ROZPOCET | BE110: =IF(N110="základní",J110,0) -> 0 | BF110: =IF(N110="snížená",J110,0) -> 0 | BG110: =IF(N110="zákl. přenesená",J110,0) -> 0 | BH110: =IF(N110="sníž. přenesená",J110,0) -> 0 | BI110: =IF(N110="nulová",J110,0) -> 0 | BJ110: 1 | BK110: =ROUND(I110*H110,2) -> 0 | BL110: 4 | BM110: 22
D111: PP | F111: Rozvodnicové a rozváděčové skříně Distri Rozváděčové skříně Řadové (IP40) - oceloplechové krytí IP40, dvoukřídlé dveře, V x Š x H 1800 x 1200 x 600 | AT111: PP | AU111: 0
D112: P | F112: Poznámka k položce:_x000D_ krytí IP40, dvoukřídlé dveře, V x Š x H 1800 x 1200 x 600 | AT112: P | AU112: 0
C113: 12 | D113: M | E113: 7494002986 | F113: Modulární přístroje Jističe do 63 A; 6 kA 1-pólové In 6 A, Ue AC 230 V / DC 72 V, charakteristika B, 1pól, Icn 6 kA | G113: kus | H113: 1 | J113: =ROUND(I113*H113,2) -> 0 | K113: Sborník UOŽI 01 2023 | N113: základní | P113: =O113*H113 -> 0 | Q113: 0 | R113: =Q113*H113 -> 0 | S113: 0 | T113: =S113*H113 -> 0 | AR113: 8 | AT113: M | AU113: 0 | AY113: ROZPOCET | BE113: =IF(N113="základní",J113,0) -> 0 | BF113: =IF(N113="snížená",J113,0) -> 0 | BG113: =IF(N113="zákl. přenesená",J113,0) -> 0 | BH113: =IF(N113="sníž. přenesená",J113,0) -> 0 | BI113: =IF(N113="nulová",J113,0) -> 0 | BJ113: 1 | BK113: =ROUND(I113*H113,2) -> 0 | BL113: 4 | BM113: 26
D114: PP | F114: Modulární přístroje Jističe do 63 A; 6 kA 1-pólové In 6 A, Ue AC 230 V / DC 72 V, charakteristika B, 1pól, Icn 6 kA | AT114: PP | AU114: 0
D115: P | F115: Poznámka k položce:_x000D_ In 6 A, Ue AC 230 V / DC 72 V, charakteristika B, 1pól, Icn 6 kA_x000D_ Technická specifikace položky odpovídá příslušné cenové soustavě. | AT115: P | AU115: 0
C116: 13 | D116: M | E116: 7494003082 | F116: Modulární přístroje Jističe do 63 A; 6 kA 3-pólové In 20 A, Ue AC 230/400 V / DC 216 V, charakteristika B, 3pól, Icn 6 kA | G116: kus | H116: 4 | J116: =ROUND(I116*H116,2) -> 0 | K116: Sborník UOŽI 01 2023 | N116: základní | P116: =O116*H116 -> 0 | Q116: 0 | R116: =Q116*H116 -> 0 | S116: 0 | T116: =S116*H116 -> 0 | AR116: 8 | AT116: M | AU116: 0 | AY116: ROZPOCET | BE116: =IF(N116="základní",J116,0) -> 0 | BF116: =IF(N116="snížená",J116,0) -> 0 | BG116: =IF(N116="zákl. přenesená",J116,0) -> 0 | BH116: =IF(N116="sníž. přenesená",J116,0) -> 0 | BI116: =IF(N116="nulová",J116,0) -> 0 | BJ116: 1 | BK116: =ROUND(I116*H116,2) -> 0 | BL116: 4 | BM116: 28
D117: PP | F117: Modulární přístroje Jističe do 63 A; 6 kA 3-pólové In 20 A, Ue AC 230/400 V / DC 216 V, charakteristika B, 3pól, Icn 6 kA | AT117: PP | AU117: 0
D118: P | F118: Poznámka k položce:_x000D_ In 20 A, Ue AC 230/400 V / DC 216 V, charakteristika B, 3pól, Icn 6 kA_x000D_ Technická specifikace položky odpovídá příslušné cenové soustavě. | AT118: P | AU118: 0
C119: 14 | D119: M | E119: 7494004526 | F119: Modulární přístroje Ostatní přístroje -modulární přístroje Vypínače In 80 A, Ue AC 250/440 V, 3pól | G119: kus | H119: 1 | J119: =ROUND(I119*H119,2) -> 0 | K119: Sborník UOŽI 01 2023 | N119: základní | P119: =O119*H119 -> 0 | Q119: 0 | R119: =Q119*H119 -> 0 | S119: 0 | T119: =S119*H119 -> 0 | AR119: 8 | AT119: M | AU119: 0 | AY119: ROZPOCET | BE119: =IF(N119="základní",J119,0) -> 0 | BF119: =IF(N119="snížená",J119,0) -> 0 | BG119: =IF(N119="zákl. přenesená",J119,0) -> 0 | BH119: =IF(N119="sníž. přenesená",J119,0) -> 0 | BI119: =IF(N119="nulová",J119,0) -> 0 | BJ119: 1 | BK119: =ROUND(I119*H119,2) -> 0 | BL119: 4 | BM119: 30
D120: PP | F120: Modulární přístroje Ostatní přístroje -modulární přístroje Vypínače In 80 A, Ue AC 250/440 V, 3pól | AT120: PP | AU120: 0
D121: P | F121: Poznámka k položce:_x000D_ In 80 A, Ue AC 250/440 V, 3pól_x000D_ Technická specifikace položky odpovídá příslušné cenové soustavě. | AT121: P | AU121: 0
C122: 15 | D122: M | E122: 7494004026 | F122: Modulární přístroje Proudové chrániče Proudové chrániče s nadproudovou ochranou 10 kA typ A In 16 A, Ue AC 230 V, charakteristika B, Idn 30 mA, 1+N-pól, Icn 10 kA, typ A | G122: kus | H122: 5 | J122: =ROUND(I122*H122,2) -> 0 | K122: Sborník UOŽI 01 2023 | N122: základní | P122: =O122*H122 -> 0 | Q122: 0 | R122: =Q122*H122 -> 0 | S122: 0 | T122: =S122*H122 -> 0 | AR122: 8 | AT122: M | AU122: 0 | AY122: ROZPOCET | BE122: =IF(N122="základní",J122,0) -> 0 | BF122: =IF(N122="snížená",J122,0) -> 0 | BG122: =IF(N122="zákl. přenesená",J122,0) -> 0 | BH122: =IF(N122="sníž. přenesená",J122,0) -> 0 | BI122: =IF(N122="nulová",J122,0) -> 0 | BJ122: 1 | BK122: =ROUND(I122*H122,2) -> 0 | BL122: 4 | BM122: 32
D123: PP | F123: Modulární přístroje Proudové chrániče Proudové chrániče s nadproudovou ochranou 10 kA typ A In 16 A, Ue AC 230 V, charakteristika B, Idn 30 mA, 1+N-pól, Icn 10 kA, typ A | AT123: PP | AU123: 0
D124: P | F124: Poznámka k položce:_x000D_ In 16 A, Ue AC 230 V, charakteristika B, Idn 30 mA, 1+N-pól, Icn 10 kA, typ A_x000D_ Technická specifikace položky odpovídá příslušné cenové soustavě. | AT124: P | AU124: 0
C125: 16 | D125: M | E125: 7491205700 | F125: Elektroinstalační materiál Zásuvky instalační Zásuvka3 fázová 400V/32A montáž do rozváděče, 5 pólová | G125: kus | H125: 4 | J125: =ROUND(I125*H125,2) -> 0 | K125: Sborník UOŽI 01 2023 | N125: základní | P125: =O125*H125 -> 0 | Q125: 0 | R125: =Q125*H125 -> 0 | S125: 0 | T125: =S125*H125 -> 0 | AR125: 8 | AT125: M | AU125: 0 | AY125: ROZPOCET | BE125: =IF(N125="základní",J125,0) -> 0 | BF125: =IF(N125="snížená",J125,0) -> 0 | BG125: =IF(N125="zákl. přenesená",J125,0) -> 0 | BH125: =IF(N125="sníž. přenesená",J125,0) -> 0 | BI125: =IF(N125="nulová",J125,0) -> 0 | BJ125: 1 | BK125: =ROUND(I125*H125,2) -> 0 | BL125: 4 | BM125: 34
D126: PP | F126: Elektroinstalační materiál Zásuvky instalační Zásuvka3 fázová 400V/32A montáž do rozváděče, 5 pólová | AT126: PP | AU126: 0
D127: P | F127: Poznámka k položce:_x000D_ Zásuvka3 fázová 400V/32A montáž do rozváděče, 5 pólová_x000D_ Technická specifikace položky odpovídá příslušné cenové soustavě. | AT127: P | AU127: 0
C128: 17 | D128: M | E128: 7491205690 | F128: Elektroinstalační materiál Zásuvky instalační Zásuvka 1 fázová 230V/16A montáž na DIN lištu | G128: kus | H128: 5 | J128: =ROUND(I128*H128,2) -> 0 | K128: Sborník UOŽI 01 2023 | N128: základní | P128: =O128*H128 -> 0 | Q128: 0 | R128: =Q128*H128 -> 0 | S128: 0 | T128: =S128*H128 -> 0 | AR128: 8 | AT128: M | AU128: 0 | AY128: ROZPOCET | BE128: =IF(N128="základní",J128,0) -> 0 | BF128: =IF(N128="snížená",J128,0) -> 0 | BG128: =IF(N128="zákl. přenesená",J128,0) -> 0 | BH128: =IF(N128="sníž. přenesená",J128,0) -> 0 | BI128: =IF(N128="nulová",J128,0) -> 0 | BJ128: 1 | BK128: =ROUND(I128*H128,2) -> 0 | BL128: 4 | BM128: 36
D129: PP | F129: Elektroinstalační materiál Zásuvky instalační Zásuvka 1 fázová 230V/16A montáž na DIN lištu | AT129: PP | AU129: 0
D130: P | F130: Poznámka k položce:_x000D_ Zásuvka 1 fázová 230V/16A montáž na DIN lištu_x000D_ Technická specifikace položky odpovídá příslušné cenové soustavě. | AT130: P | AU130: 0
C131: 18 | D131: K | E131: 7492554010 | F131: Montáž kabelů 4- a 5-žílových Cu do 16 mm2 | G131: m | H131: 15 | J131: =ROUND(I131*H131,2) -> 0 | K131: Sborník UOŽI 01 2023 | N131: základní | P131: =O131*H131 -> 0 | Q131: 0 | R131: =Q131*H131 -> 0 | S131: 0 | T131: =S131*H131 -> 0 | AR131: 4 | AT131: K | AU131: 0 | AY131: ROZPOCET | BE131: =IF(N131="základní",J131,0) -> 0 | BF131: =IF(N131="snížená",J131,0) -> 0 | BG131: =IF(N131="zákl. přenesená",J131,0) -> 0 | BH131: =IF(N131="sníž. přenesená",J131,0) -> 0 | BI131: =IF(N131="nulová",J131,0) -> 0 | BJ131: 1 | BK131: =ROUND(I131*H131,2) -> 0 | BL131: 4 | BM131: 38
D132: PP | F132: Montáž kabelů 4- a 5-žílových Cu do 16 mm2 - uložení do země, chráničky, na rošty, pod omítku apod. | AT132: PP | AU132: 0
D133: P | F133: Poznámka k položce:_x000D_ do 16 mm2_x000D_ Technická specifikace položky odpovídá příslušné cenové soustavě. | AT133: P | AU133: 0
...

Sheet PS 02-27-02 - Dopravna De...
AT2: {720a130d-cae2-4997-b2c4-8c0d19a56a0d}
AT3: 2
D4: KRYCÍ LIST SOUPISU PRACÍ | M4: v --- níže se nacházejí doplnkové a pomocné údaje k sestavám --- v | AT4: False
D6: Stavba:
E7: ='Rekapitulace stavby'!K6 -> Oprava trati v úseku Tanvald - Kořenov
D8: Objekt:
E9: PS 02-27-02 - Dopravna Desná, informační systém pro cestující
D11: KSO: | I11: CC-CZ:
D12: Místo: | I12: Datum: | J12: ='Rekapitulace stavby'!AN8 -> 14. 6. 2023
D14: Zadavatel: | I14: IČ: | J14: =IF('Rekapitulace stavby'!AN10="","",'Rekapitulace stavby'!AN10)
E15: =IF('Rekapitulace stavby'!E11="","",'Rekapitulace stavby'!E11) | I15: DIČ: | J15: =IF('Rekapitulace stavby'!AN11="","",'Rekapitulace stavby'!AN11)
D17: Uchazeč: | I17: IČ: | J17: ='Rekapitulace stavby'!AN13 -> Vyplň údaj
E18: ='Rekapitulace stavby'!E14 -> Vyplň údaj | I18: DIČ: | J18: ='Rekapitulace stavby'!AN14 -> Vyplň údaj
D20: Projektant: | I20: IČ: | J20: =IF('Rekapitulace stavby'!AN16="","",'Rekapitulace stavby'!AN16)
E21: =IF('Rekapitulace stavby'!E17="","",'Rekapitulace stavby'!E17) | I21: DIČ: | J21: =IF('Rekapitulace stavby'!AN17="","",'Rekapitulace stavby'!AN17)
D23: Zpracovatel: | I23: IČ: | J23: =IF('Rekapitulace stavby'!AN19="","",'Rekapitulace stavby'!AN19)
E24: =IF('Rekapitulace stavby'!E20="","",'Rekapitulace stavby'!E20) | I24: DIČ: | J24: =IF('Rekapitulace stavby'!AN20="","",'Rekapitulace stavby'!AN20)
D26: Poznámka:
D30: Cena bez DPH | J30: =ROUND(J81, 2) -> 0
F32: Základ daně | I32: Sazba daně | J32: Výše daně
D33: DPH | E33: základní | F33: =ROUND((SUM(BE81:BE135)), 2) -> 0 | I33: 0.21 | J33: =ROUND(((SUM(BE81:BE135))*I33), 2) -> 0
E34: snížená | F34: =ROUND((SUM(BF81:BF135)), 2) -> 0 | I34: 0.12 | J34: =ROUND(((SUM(BF81:BF135))*I34), 2) -> 0
E35: zákl. přenesená | F35: =ROUND((SUM(BG81:BG135)), 2) -> 0 | I35: 0.21 | J35: =0 -> 0
E36: sníž. přenesená | F36: =ROUND((SUM(BH81:BH135)), 2) -> 0 | I36: 0.12 | J36: =0 -> 0
E37: nulová | F37: =ROUND((SUM(BI81:BI135)), 2) -> 0 | I37: 0 | J37: =0 -> 0
D39: Cena s DPH | G39: v | H39: CZK | J39: =SUM(J30:J37) -> 0
C45: REKAPITULACE ČLENĚNÍ SOUPISU PRACÍ
C47: Stavba:
E48: =E7 -> Oprava trati v úseku Tanvald - Kořenov
C49: Objekt:
E50: =E9 -> PS 02-27-02 - Dopravna Desná, informační systém pro cestující
C52: Místo: | F52: =F12 | I52: Datum: | J52: =IF(J12="","",J12) -> 14. 6. 2023
C54: Zadavatel: | F54: =E15 | I54: Projektant: | J54: =E21
C55: Uchazeč: | F55: =IF(E18="","",E18) -> Vyplň údaj | I55: Zpracovatel: | J55: =E24
C57: Kód dílu - Popis | J57: Cena celkem [CZK]
C59: Náklady stavby celkem | J59: =J81 -> 0 | AU59: -1
D60: 1 - Hodinové zařízení | J60: =J82 -> 0
D61: 2 - Rozvaděč | J61: =J121 -> 0
C68: SOUPIS PRACÍ
C70: Stavba:
E71: =E7 -> Oprava trati v úseku Tanvald - Kořenov
C72: Objekt:
E73: =E9 -> PS 02-27-02 - Dopravna Desná, informační systém pro cestující
C75: Místo: | F75: =F12 | I75: Datum: | J75: =IF(J12="","",J12) -> 14. 6. 2023
C77: Zadavatel: | F77: =E15 | I77: Projektant: | J77: =E21
C78: Uchazeč: | F78: =IF(E18="","",E18) -> Vyplň údaj | I78: Zpracovatel: | J78: =E24
C80: PČ | D80: Typ | E80: Kód | F80: Popis | G80: MJ | H80: Množství | I80: J.cena [CZK] | J80: Cena celkem [CZK] | K80: Cenová soustava | N80: DPH | O80: J. Nh [h] | P80: Nh celkem [h] | Q80: J. hmotnost [t] | R80: Hmotnost celkem [t] | S80: J. suť [t] | T80: Suť Celkem [t]
C81: Náklady soupisu celkem | J81: =BK81 -> 0 | P81: =P82+P121 -> 0 | R81: =R82+R121 -> 0 | T81: =T82+T121 -> 0 | AT81: D | AU81: -1 | BK81: =BK82+BK121 -> 0
D82: D | E82: 1 | F82: Hodinové zařízení | J82: =BK82 -> 0 | P82: =SUM(P83:P120) -> 0 | R82: =SUM(R83:R120) -> 0 | T82: =SUM(T83:T120) -> 0 | AR82: 1 | AT82: D | AU82: 0 | AY82: ROZPOCET | BK82: =SUM(BK83:BK120) -> 0
C83: 1 | D83: M | E83: 7596630172 | F83: Hodinová zařízení Exteriérové hodiny ručičkové kruhové venkovní dvoustranné, závěs sloup-středový, průměr 50 cm | G83: kus | H83: 1 | J83: =ROUND(I83*H83,2) -> 0 | K83: Sborník UOŽI 01 2023 | N83: základní | P83: =O83*H83 -> 0 | Q83: 0 | R83: =Q83*H83 -> 0 | S83: 0 | T83: =S83*H83 -> 0 | AR83: 8 | AT83: M | AU83: 1 | AY83: ROZPOCET | BE83: =IF(N83="základní",J83,0) -> 0 | BF83: =IF(N83="snížená",J83,0) -> 0 | BG83: =IF(N83="zákl. přenesená",J83,0) -> 0 | BH83: =IF(N83="sníž. přenesená",J83,0) -> 0 | BI83: =IF(N83="nulová",J83,0) -> 0 | BJ83: 1 | BK83: =ROUND(I83*H83,2) -> 0 | BL83: 4 | BM83: 2
D84: PP | F84: Hodinová zařízení Exteriérové hodiny ručičkové kruhové venkovní dvoustranné, závěs sloup-středový, průměr 50 cm | AT84: PP | AU84: 1
C85: 2 | D85: M | E85: 7596610005 | F85: Hodinová zařízení Hlavní hodiny hlavní mikroprocesorové hodiny se střadačem, možno připojit přijímač DCF, krytí IP 65 | G85: kus | H85: 1 | J85: =ROUND(I85*H85,2) -> 0 | K85: Sborník UOŽI 01 2023 | N85: základní | P85: =O85*H85 -> 0 | Q85: 0 | R85: =Q85*H85 -> 0 | S85: 0 | T85: =S85*H85 -> 0 | AR85: 8 | AT85: M | AU85: 1 | AY85: ROZPOCET | BE85: =IF(N85="základní",J85,0) -> 0 | BF85: =IF(N85="snížená",J85,0) -> 0 | BG85: =IF(N85="zákl. přenesená",J85,0) -> 0 | BH85: =IF(N85="sníž. přenesená",J85,0) -> 0 | BI85: =IF(N85="nulová",J85,0) -> 0 | BJ85: 1 | BK85: =ROUND(I85*H85,2) -> 0 | BL85: 4 | BM85: 4
D86: PP | F86: Hodinová zařízení Hlavní hodiny hlavní mikroprocesorové hodiny se střadačem, možno připojit přijímač DCF, krytí IP 65 | AT86: PP | AU86: 1
C87: 3 | D87: M | E87: 7596610160 | F87: Hodinová zařízení Hlavní hodiny Přijímací modul pro bezdrátovou komunikaci, výstup DCF 77 | G87: kus | H87: 1 | J87: =ROUND(I87*H87,2) -> 0 | K87: Sborník UOŽI 01 2023 | N87: základní | P87: =O87*H87 -> 0 | Q87: 0 | R87: =Q87*H87 -> 0 | S87: 0 | T87: =S87*H87 -> 0 | AR87: 8 | AT87: M | AU87: 1 | AY87: ROZPOCET | BE87: =IF(N87="základní",J87,0) -> 0 | BF87: =IF(N87="snížená",J87,0) -> 0 | BG87: =IF(N87="zákl. přenesená",J87,0) -> 0 | BH87: =IF(N87="sníž. přenesená",J87,0) -> 0 | BI87: =IF(N87="nulová",J87,0) -> 0 | BJ87: 1 | BK87: =ROUND(I87*H87,2) -> 0 | BL87: 4 | BM87: 6
D88: PP | F88: Hodinová zařízení Hlavní hodiny Přijímací modul pro bezdrátovou komunikaci, výstup DCF 77 | AT88: PP | AU88: 1
C89: 4 | D89: K | E89: 7596615034 | F89: Montáž hodin hlavních HSH 3 | G89: kus | H89: 1 | J89: =ROUND(I89*H89,2) -> 0 | K89: Sborník UOŽI 01 2023 | N89: základní | P89: =O89*H89 -> 0 | Q89: 0 | R89: =Q89*H89 -> 0 | S89: 0 | T89: =S89*H89 -> 0 | AR89: 4 | AT89: K | AU89: 1 | AY89: ROZPOCET | BE89: =IF(N89="základní",J89,0) -> 0 | BF89: =IF(N89="snížená",J89,0) -> 0 | BG89: =IF(N89="zákl. přenesená",J89,0) -> 0 | BH89: =IF(N89="sníž. přenesená",J89,0) -> 0 | BI89: =IF(N89="nulová",J89,0) -> 0 | BJ89: 1 | BK89: =ROUND(I89*H89,2) -> 0 | BL89: 4 | BM89: 8
D90: PP | F90: Montáž hodin hlavních HSH 3 - úplná montáž na předem připravené úchytné body nebo na konstrukci, zapojení přívodů od akubaterie, hodinových smyček, uzemnění a sítě 220/50 Hz, uvedení do provozu, seřízení řídicích a rezervních hodin, přezkoušení funkce, vysvětlení manipulace | AT90: PP | AU90: 1
C91: 5 | D91: K | E91: 7596625015 | F91: Montáž hodin podružných 2-stranných | G91: kus | H91: 1 | J91: =ROUND(I91*H91,2) -> 0 | K91: Sborník UOŽI 01 2023 | N91: základní | P91: =O91*H91 -> 0 | Q91: 0 | R91: =Q91*H91 -> 0 | S91: 0 | T91: =S91*H91 -> 0 | AR91: 4 | AT91: K | AU91: 1 | AY91: ROZPOCET | BE91: =IF(N91="základní",J91,0) -> 0 | BF91: =IF(N91="snížená",J91,0) -> 0 | BG91: =IF(N91="zákl. přenesená",J91,0) -> 0 | BH91: =IF(N91="sníž. přenesená",J91,0) -> 0 | BI91: =IF(N91="nulová",J91,0) -> 0 | BJ91: 1 | BK91: =ROUND(I91*H91,2) -> 0 | BL91: 4 | BM91: 10
D92: PP | F92: Montáž hodin podružných 2-stranných - úplná montáž na předem připravené úchytné body nebo na konstrukci, zapojení přívodů, přezkoušení funkce, nastavení na jednotný čas | AT92: PP | AU92: 1
C93: 6 | D93: M | E93: 7492501680 | F93: Kabely, vodiče, šňůry Cu - nn Kabel silový 2 a 3-žílový Cu, plastová izolace CYKY 2Ax1,5 | G93: m | H93: 95 | J93: =ROUND(I93*H93,2) -> 0 | K93: Sborník UOŽI 01 2023 | N93: základní | P93: =O93*H93 -> 0 | Q93: 0 | R93: =Q93*H93 -> 0 | S93: 0 | T93: =S93*H93 -> 0 | AR93: 8 | AT93: M | AU93: 1 | AY93: ROZPOCET | BE93: =IF(N93="základní",J93,0) -> 0 | BF93: =IF(N93="snížená",J93,0) -> 0 | BG93: =IF(N93="zákl. přenesená",J93,0) -> 0 | BH93: =IF(N93="sníž. přenesená",J93,0) -> 0 | BI93: =IF(N93="nulová",J93,0) -> 0 | BJ93: 1 | BK93: =ROUND(I93*H93,2) -> 0 | BL93: 4 | BM93: 12
D94: PP | F94: Kabely, vodiče, šňůry Cu - nn Kabel silový 2 a 3-žílový Cu, plastová izolace CYKY 2Ax1,5 | AT94: PP | AU94: 1
C95: 7 | D95: M | E95: 7492501760 | F95: Kabely, vodiče, šňůry Cu - nn Kabel silový 2 a 3-žílový Cu, plastová izolace CYKY 3J1,5 (3Cx 1,5) | G95: m | H95: 85 | J95: =ROUND(I95*H95,2) -> 0 | K95: Sborník UOŽI 01 2023 | N95: základní | P95: =O95*H95 -> 0 | Q95: 0 | R95: =Q95*H95 -> 0 | S95: 0 | T95: =S95*H95 -> 0 | AR95: 8 | AT95: M | AU95: 1 | AY95: ROZPOCET | BE95: =IF(N95="základní",J95,0) -> 0 | BF95: =IF(N95="snížená",J95,0) -> 0 | BG95: =IF(N95="zákl. přenesená",J95,0) -> 0 | BH95: =IF(N95="sníž. přenesená",J95,0) -> 0 | BI95: =IF(N95="nulová",J95,0) -> 0 | BJ95: 1 | BK95: =ROUND(I95*H95,2) -> 0 | BL95: 4 | BM95: 14
D96: PP | F96: Kabely, vodiče, šňůry Cu - nn Kabel silový 2 a 3-žílový Cu, plastová izolace CYKY 3J1,5 (3Cx 1,5) | AT96: PP | AU96: 1
C97: 8 | D97: K | E97: 7492553010 | F97: Montáž kabelů 2- a 3-žílových Cu do 16 mm2 | G97: m | H97: 190 | J97: =ROUND(I97*H97,2) -> 0 | K97: Sborník UOŽI 01 2023 | N97: základní | P97: =O97*H97 -> 0 | Q97: 0 | R97: =Q97*H97 -> 0 | S97: 0 | T97: =S97*H97 -> 0 | AR97: 4 | AT97: K | AU97: 1 | AY97: ROZPOCET | BE97: =IF(N97="základní",J97,0) -> 0 | BF97: =IF(N97="snížená",J97,0) -> 0 | BG97: =IF(N97="zákl. přenesená",J97,0) -> 0 | BH97: =IF(N97="sníž. přenesená",J97,0) -> 0 | BI97: =IF(N97="nulová",J97,0) -> 0 | BJ97: 1 | BK97: =ROUND(I97*H97,2) -> 0 | BL97: 4 | BM97: 16
D98: PP | F98: Montáž kabelů 2- a 3-žílových Cu do 16 mm2 - uložení do země, chráničky, na rošty, pod omítku apod. | AT98: PP | AU98: 1
C99: 9 | D99: M | E99: 7491100160 | F99: Trubková vedení Ohebné elektroinstalační trubky 1225 pr.25 750N SUPERFLEX | G99: m | H99: 95 | J99: =ROUND(I99*H99,2) -> 0 | K99: Sborník UOŽI 01 2023 | N99: základní | P99: =O99*H99 -> 0 | Q99: 0 | R99: =Q99*H99 -> 0 | S99: 0 | T99: =S99*H99 -> 0 | AR99: 8 | AT99: M | AU99: 1 | AY99: ROZPOCET | BE99: =IF(N99="základní",J99,0) -> 0 | BF99: =IF(N99="snížená",J99,0) -> 0 | BG99: =IF(N99="zákl. přenesená",J99,0) -> 0 | BH99: =IF(N99="sníž. přenesená",J99,0) -> 0 | BI99: =IF(N99="nulová",J99,0) -> 0 | BJ99: 1 | BK99: =ROUND(I99*H99,2) -> 0 | BL99: 4 | BM99: 18
D100: PP | F100: Trubková vedení Ohebné elektroinstalační trubky 1225 pr.25 750N SUPERFLEX | AT100: PP | AU100: 1
C101: 10 | D101: K | E101: 7491151010R | F101: Montáž trubek ohebných elektroinstalačních hladkých z PVC uložených volně průměru do 50 mm | G101: m | H101: 95 | J101: =ROUND(I101*H101,2) -> 0 | N101: základní | P101: =O101*H101 -> 0 | Q101: 0 | R101: =Q101*H101 -> 0 | S101: 0 | T101: =S101*H101 -> 0 | AR101: 4 | AT101: K | AU101: 1 | AY101: ROZPOCET | BE101: =IF(N101="základní",J101,0) -> 0 | BF101: =IF(N101="snížená",J101,0) -> 0 | BG101: =IF(N101="zákl. přenesená",J101,0) -> 0 | BH101: =IF(N101="sníž. přenesená",J101,0) -> 0 | BI101: =IF(N101="nulová",J101,0) -> 0 | BJ101: 1 | BK101: =ROUND(I101*H101,2) -> 0 | BL101: 4 | BM101: 20
D102: PP | F102: Montáž trubek ohebných elektroinstalačních hladkých z PVC uložených volně průměru do 50 mm | AT102: PP | AU102: 1
C103: 11 | D103: M | E103: 7493100050 | F103: Venkovní osvětlení Osvětlovací stožáry sklopné výšky od 7 do 9 m, žárově zinkovaný, vč. Výstroje,stožár nesmí mít dvířka (z důvodu neoprávněného vstupu) | G103: kus | H103: 1 | J103: =ROUND(I103*H103,2) -> 0 | K103: Sborník UOŽI 01 2023 | N103: základní | P103: =O103*H103 -> 0 | Q103: 0 | R103: =Q103*H103 -> 0 | S103: 0 | T103: =S103*H103 -> 0 | AR103: 8 | AT103: M | AU103: 1 | AY103: ROZPOCET | BE103: =IF(N103="základní",J103,0) -> 0 | BF103: =IF(N103="snížená",J103,0) -> 0 | BG103: =IF(N103="zákl. přenesená",J103,0) -> 0 | BH103: =IF(N103="sníž. přenesená",J103,0) -> 0 | BI103: =IF(N103="nulová",J103,0) -> 0 | BJ103: 1 | BK103: =ROUND(I103*H103,2) -> 0 | BL103: 4 | BM103: 22
D104: PP | F104: Venkovní osvětlení Osvětlovací stožáry sklopné výšky od 7 do 9 m, žárově zinkovaný, vč. Výstroje,stožár nesmí mít dvířka (z důvodu neoprávněného vstupu) | AT104: PP | AU104: 1
C105: 12 | D105: K | E105: 7493151020 | F105: Montáž osvětlovacích stožárů včetně výstroje sklopných pro přídavnou montáž rozhlasového zařízení výšky do 12 m | G105: kus | H105: 1 | J105: =ROUND(I105*H105,2) -> 0 | K105: Sborník UOŽI 01 2023 | N105: základní | P105: =O105*H105 -> 0 | Q105: 0 | R105: =Q105*H105 -> 0 | S105: 0 | T105: =S105*H105 -> 0 | AR105: 4 | AT105: K | AU105: 1 | AY105: ROZPOCET | BE105: =IF(N105="základní",J105,0) -> 0 | BF105: =IF(N105="snížená",J105,0) -> 0 | BG105: =IF(N105="zákl. přenesená",J105,0) -> 0 | BH105: =IF(N105="sníž. přenesená",J105,0) -> 0 | BI105: =IF(N105="nulová",J105,0) -> 0 | BJ105: 1 | BK105: =ROUND(I105*H105,2) -> 0 | BL105: 4 | BM105: 24
D106: PP | F106: Montáž osvětlovacích stožárů včetně výstroje sklopných pro přídavnou montáž rozhlasového zařízení výšky do 12 m - včetně připojovací svorkovnice pro 2x svítidla, kabelového vedení ke svítidlům a veškerého příslušenství. Neobsahuje základovou konstrukci a montáž svítidla | AT106: PP | AU106: 1
C107: 13 | D107: K | E107: 7493155510 | F107: Montáž stožárových rozvodnic s jedním až dvěmi jistícími prvky | G107: kus | H107: 1 | J107: =ROUND(I107*H107,2) -> 0 | K107: Sborník UOŽI 01 2023 | N107: základní | P107: =O107*H107 -> 0 | Q107: 0 | R107: =Q107*H107 -> 0 | S107: 0 | T107: =S107*H107 -> 0 | AR107: 4 | AT107: K | AU107: 1 | AY107: ROZPOCET | BE107: =IF(N107="základní",J107,0) -> 0 | BF107: =IF(N107="snížená",J107,0) -> 0 | BG107: =IF(N107="zákl. přenesená",J107,0) -> 0 | BH107: =IF(N107="sníž. přenesená",J107,0) -> 0 | BI107: =IF(N107="nulová",J107,0) -> 0 | BJ107: 1 | BK107: =ROUND(I107*H107,2) -> 0 | BL107: 4 | BM107: 26
D108: PP | F108: Montáž stožárových rozvodnic s jedním až dvěmi jistícími prvky | AT108: PP | AU108: 1
C109: 14 | D109: M | E109: 7493102020 | F109: Venkovní osvětlení Elektrovýzbroje stožárů a stožárové rozvodnice Stožárová rozvodnice s jedním až dvěma jistícími prvky | G109: kus | H109: 1 | J109: =ROUND(I109*H109,2) -> 0 | K109: Sborník UOŽI 01 2023 | N109: základní | P109: =O109*H109 -> 0 | Q109: 0 | R109: =Q109*H109 -> 0 | S109: 0 | T109: =S109*H109 -> 0 | AR109: 8 | AT109: M | AU109: 1 | AY109: ROZPOCET | BE109: =IF(N109="základní",J109,0) -> 0 | BF109: =IF(N109="snížená",J109,0) -> 0 | BG109: =IF(N109="zákl. přenesená",J109,0) -> 0 | BH109: =IF(N109="sníž. přenesená",J109,0) -> 0 | BI109: =IF(N109="nulová",J109,0) -> 0 | BJ109: 1 | BK109: =ROUND(I109*H109,2) -> 0 | BL109: 4 | BM109: 28
D110: PP | F110: Venkovní osvětlení Elektrovýzbroje stožárů a stožárové rozvodnice Stožárová rozvodnice s jedním až dvěma jistícími prvky | AT110: PP | AU110: 1
C111: 15 | D111: M | E111: 7497150520R | F111: Základy pro stožár | G111: kus | H111: 1 | J111: =ROUND(I111*H111,2) -> 0 | N111: základní | P111: =O111*H111 -> 0 | Q111: 0 | R111: =Q111*H111 -> 0 | S111: 0 | T111: =S111*H111 -> 0 | AR111: 8 | AT111: M | AU111: 1 | AY111: ROZPOCET | BE111: =IF(N111="základní",J111,0) -> 0 | BF111: =IF(N111="snížená",J111,0) -> 0 | BG111: =IF(N111="zákl. přenesená",J111,0) -> 0 | BH111: =IF(N111="sníž. přenesená",J111,0) -> 0 | BI111: =IF(N111="nulová",J111,0) -> 0 | BJ111: 1 | BK111: =ROUND(I111*H111,2) -> 0 | BL111: 4 | BM111: 30
D112: PP | F112: Základy pro stožár | AT112: PP | AU112: 1
C113: 16 | D113: M | E113: 7497154510R | F113: Uzemnění stožáru | G113: kus | H113: 1 | J113: =ROUND(I113*H113,2) -> 0 | N113: základní | P113: =O113*H113 -> 0 | Q113: 0 | R113: =Q113*H113 -> 0 | S113: 0 | T113: =S113*H113 -> 0 | AR113: 8 | AT113: M | AU113: 1 | AY113: ROZPOCET | BE113: =IF(N113="základní",J113,0) -> 0 | BF113: =IF(N113="snížená",J113,0) -> 0 | BG113: =IF(N113="zákl. přenesená",J113,0) -> 0 | BH113: =IF(N113="sníž. přenesená",J113,0) -> 0 | BI113: =IF(N113="nulová",J113,0) -> 0 | BJ113: 1 | BK113: =ROUND(I113*H113,2) -> 0 | BL113: 4 | BM113: 32
D114: PP | F114: Uzemnění stožáru | AT114: PP | AU114: 1
C115: 17 | D115: M | E115: 7593310627 | F115: Konstrukční díly RACK 19" 42U perforované dveře, odnímatelné boky | G115: kus | H115: 1 | J115: =ROUND(I115*H115,2) -> 0 | K115: Sborník UOŽI 01 2023 | N115: základní | P115: =O115*H115 -> 0 | Q115: 0 | R115: =Q115*H115 -> 0 | S115: 0 | T115: =S115*H115 -> 0 | AR115: 8 | AT115: M | AU115: 1 | AY115: ROZPOCET | BE115: =IF(N115="základní",J115,0) -> 0 | BF115: =IF(N115="snížená",J115,0) -> 0 | BG115: =IF(N115="zákl. přenesená",J115,0) -> 0 | BH115: =IF(N115="sníž. přenesená",J115,0) -> 0 | BI115: =IF(N115="nulová",J115,0) -> 0 | BJ115: 1 | BK115: =ROUND(I115*H115,2) -> 0 | BL115: 4 | BM115: 34
D116: PP | F116: Konstrukční díly RACK 19" 42U perforované dveře, odnímatelné boky | AT116: PP | AU116: 1
C117: 18 | D117: M | E117: 7593310580 | F117: Konstrukční díly Police oboustranná hloubka 480mm (CV726459001) | G117: kus | H117: 1 | J117: =ROUND(I117*H117,2) -> 0 | K117: Sborník UOŽI 01 2023 | N117: základní | P117: =O117*H117 -> 0 | Q117: 0 | R117: =Q117*H117 -> 0 | S117: 0 | T117: =S117*H117 -> 0 | AR117: 8 | AT117: M | AU117: 1 | AY117: ROZPOCET | BE117: =IF(N117="základní",J117,0) -> 0 | BF117: =IF(N117="snížená",J117,0) -> 0 | BG117: =IF(N117="zákl. přenesená",J117,0) -> 0 | BH117: =IF(N117="sníž. přenesená",J117,0) -> 0 | BI117: =IF(N117="nulová",J117,0) -> 0 | BJ117: 1 | BK117: =ROUND(I117*H117,2) -> 0 | BL117: 4 | BM117: 36
D118: PP | F118: Konstrukční díly Police oboustranná hloubka 480mm (CV726459001) | AT118: PP | AU118: 1
C119: 19 | D119: K | E119: 7593315330 | F119: Montáž datové skříně rack | G119: kus | H119: 1 | J119: =ROUND(I119*H119,2) -> 0 | K119: Sborník UOŽI 01 2023 | N119: základní | P119: =O119*H119 -> 0 | Q119: 0 | R119: =Q119*H119 -> 0 | S119: 0 | T119: =S119*H119 -> 0 | AR119: 4 | AT119: K | AU119: 1 | AY119: ROZPOCET | BE119: =IF(N119="základní",J119,0) -> 0 | BF119: =IF(N119="snížená",J119,0) -> 0 | BG119: =IF(N119="zákl. přenesená",J119,0) -> 0 | BH119: =IF(N119="sníž. přenesená",J119,0) -> 0 | BI119: =IF(N119="nulová",J119,0) -> 0 | BJ119: 1 | BK119: =ROUND(I119*H119,2) -> 0 | BL119: 4 | BM119: 38
D120: PP | F120: Montáž datové skříně rack | AT120: PP | AU120: 1
D121: D | E121: 2 | F121: Rozvaděč | J121: =BK121 -> 0 | P121: =SUM(P122:P135) -> 0 | R121: =SUM(R122:R135) -> 0 | T121: =SUM(T122:T135) -> 0 | AR121: 1 | AT121: D | AU121: 0 | AY121: ROZPOCET | BK121: =SUM(BK122:BK135) -> 0
C122: 20 | D122: M | E122: 7494000340R | F122: Rozvodnicové a rozváděčové skříně Distri Rozvodnicové skříně DistriTon Oceloplechové rozvodnicové skříně (IP30) | G122: kus | H122: 1 | J122: =ROUND(I122*H122,2) -> 0 | N122: základní | P122: =O122*H122 -> 0 | Q122: 0 | R122: =Q122*H122 -> 0 | S122: 0 | T122: =S122*H122 -> 0 | AR122: 8 | AT122: M | AU122: 1 | AY122: ROZPOCET | BE122: =IF(N122="základní",J122,0) -> 0 | BF122: =IF(N122="snížená",J122,0) -> 0 | BG122: =IF(N122="zákl. přenesená",J122,0) -> 0 | BH122: =IF(N122="sníž. přenesená",J122,0) -> 0 | BI122: =IF(N122="nulová",J122,0) -> 0 | BJ122: 1 | BK122: =ROUND(I122*H122,2) -> 0 | BL122: 4 | BM122: 40
D123: PP | F123: Rozvodnicové a rozváděčové skříně Distri Rozvodnicové skříně DistriTon Oceloplechové rozvodnicové skříně (IP30) | AT123: PP | AU123: 1
C124: 21 | D124: M | E124: 7494002986 | F124: Modulární přístroje Jističe do 63 A; 6 kA 1-pólové In 6 A, Ue AC 230 V / DC 72 V, charakteristika B, 1pól, Icn 6 kA | G124: kus | H124: 1 | J124: =ROUND(I124*H124,2) -> 0 | K124: Sborník UOŽI 01 2023 | N124: základní | P124: =O124*H124 -> 0 | Q124: 0 | R124: =Q124*H124 -> 0 | S124: 0 | T124: =S124*H124 -> 0 | AR124: 8 | AT124: M | AU124: 1 | AY124: ROZPOCET | BE124: =IF(N124="základní",J124,0) -> 0 | BF124: =IF(N124="snížená",J124,0) -> 0 | BG124: =IF(N124="zákl. přenesená",J124,0) -> 0 | BH124: =IF(N124="sníž. přenesená",J124,0) -> 0 | BI124: =IF(N124="nulová",J124,0) -> 0 | BJ124: 1 | BK124: =ROUND(I124*H124,2) -> 0 | BL124: 4 | BM124: 42
D125: PP | F125: Modulární přístroje Jističe do 63 A; 6 kA 1-pólové In 6 A, Ue AC 230 V / DC 72 V, charakteristika B, 1pól, Icn 6 kA | AT125: PP | AU125: 1
C126: 22 | D126: M | E126: 7494002988 | F126: Modulární přístroje Jističe do 63 A; 6 kA 1-pólové In 10 A, Ue AC 230 V / DC 72 V, charakteristika B, 1pól, Icn 6 kA | G126: kus | H126: 2 | J126: =ROUND(I126*H126,2) -> 0 | K126: Sborník UOŽI 01 2023 | N126: základní | P126: =O126*H126 -> 0 | Q126: 0 | R126: =Q126*H126 -> 0 | S126: 0 | T126: =S126*H126 -> 0 | AR126: 8 | AT126: M | AU126: 1 | AY126: ROZPOCET | BE126: =IF(N126="základní",J126,0) -> 0 | BF126: =IF(N126="snížená",J126,0) -> 0 | BG126: =IF(N126="zákl. přenesená",J126,0) -> 0 | BH126: =IF(N126="sníž. přenesená",J126,0) -> 0 | BI126: =IF(N126="nulová",J126,0) -> 0 | BJ126: 1 | BK126: =ROUND(I126*H126,2) -> 0 | BL126: 4 | BM126: 44
D127: PP | F127: Modulární přístroje Jističe do 63 A; 6 kA 1-pólové In 10 A, Ue AC 230 V / DC 72 V, charakteristika B, 1pól, Icn 6 kA | AT127: PP | AU127: 1
C128: 23 | D128: M | E128: 7494003780 | F128: Modulární přístroje Proudové chrániče 6 kA 2-pólové In 25 A, Ue AC 230/400 V, Idn 30 mA, 2pól, Inc 6 kA, typ AC | G128: kus | H128: 1 | J128: =ROUND(I128*H128,2) -> 0 | K128: Sborník UOŽI 01 2023 | N128: základní | P128: =O128*H128 -> 0 | Q128: 0 | R128: =Q128*H128 -> 0 | S128: 0 | T128: =S128*H128 -> 0 | AR128: 8 | AT128: M | AU128: 1 | AY128: ROZPOCET | BE128: =IF(N128="základní",J128,0) -> 0 | BF128: =IF(N128="snížená",J128,0) -> 0 | BG128: =IF(N128="zákl. přenesená",J128,0) -> 0 | BH128: =IF(N128="sníž. přenesená",J128,0) -> 0 | BI128: =IF(N128="nulová",J128,0) -> 0 | BJ128: 1 | BK128: =ROUND(I128*H128,2) -> 0 | BL128: 4 | BM128: 46
D129: PP | F129: Modulární přístroje Proudové chrániče 6 kA 2-pólové In 25 A, Ue AC 230/400 V, Idn 30 mA, 2pól, Inc 6 kA, typ AC | AT129: PP | AU129: 1
C130: 24 | D130: K | E130: 7494450510 | F130: Montáž proudových chráničů dvoupólových do 40 A (10 kA) | G130: kus | H130: 1 | J130: =ROUND(I130*H130,2) -> 0 | K130: Sborník UOŽI 01 2023 | N130: základní | P130: =O130*H130 -> 0 | Q130: 0 | R130: =Q130*H130 -> 0 | S130: 0 | T130: =S130*H130 -> 0 | AR130: 4 | AT130: K | AU130: 1 | AY130: ROZPOCET | BE130: =IF(N130="základní",J130,0) -> 0 | BF130: =IF(N130="snížená",J130,0) -> 0 | BG130: =IF(N130="zákl. přenesená",J130,0) -> 0 | BH130: =IF(N130="sníž. přenesená",J130,0) -> 0 | BI130: =IF(N130="nulová",J130,0) -> 0 | BJ130: 1 | BK130: =ROUND(I130*H130,2) -> 0 | BL130: 4 | BM130: 48
D131: PP | F131: Montáž proudových chráničů dvoupólových do 40 A (10 kA) - do skříně nebo rozvaděče | AT131: PP | AU131: 1
C132: 25 | D132: K | E132: 7494151010 | F132: Montáž modulárních rozvodnic min. IP 30, počet modulů do 72 | G132: kus | H132: 1 | J132: =ROUND(I132*H132,2) -> 0 | K132: Sborník UOŽI 01 2023 | N132: základní | P132: =O132*H132 -> 0 | Q132: 0 | R132: =Q132*H132 -> 0 | S132: 0 | T132: =S132*H132 -> 0 | AR132: 4 | AT132: K | AU132: 1 | AY132: ROZPOCET | BE132: =IF(N132="základní",J132,0) -> 0 | BF132: =IF(N132="snížená",J132,0) -> 0 | BG132: =IF(N132="zákl. přenesená",J132,0) -> 0 | BH132: =IF(N132="sníž. přenesená",J132,0) -> 0 | BI132: =IF(N132="nulová",J132,0) -> 0 | BJ132: 1 | BK132: =ROUND(I132*H132,2) -> 0 | BL132: 4 | BM132: 50
D133: PP | F133: Montáž modulárních rozvodnic min. IP 30, počet modulů do 72 - do zdi, na zeď nebo konstrukci, včetně montáže nosné konstrukce, kotevní, spojovací prvků, provedení zkoušek, dodání atestů, revizní zprávy včetně kusové zkoušky. Neobsahuje elektrovýzbroj | AT133: PP | AU133: 1
...

Sheet PS 02-37-01 - Dopravna  D...
AT2: {cc12d14d-f633-4db4-8f19-d8f7d772e561}
AT3: 2
D4: KRYCÍ LIST SOUPISU PRACÍ | M4: v --- níže se nacházejí doplnkové a pomocné údaje k sestavám --- v | AT4: False
D6: Stavba:
E7: ='Rekapitulace stavby'!K6 -> Oprava trati v úseku Tanvald - Kořenov
D8: Objekt:
E9: PS 02-37-01 - Dopravna Desná, napájení sil. Rozvodů
D11: KSO: | I11: CC-CZ:
D12: Místo: | I12: Datum: | J12: ='Rekapitulace stavby'!AN8 -> 14. 6. 2023
D14: Zadavatel: | I14: IČ: | J14: =IF('Rekapitulace stavby'!AN10="","",'Rekapitulace stavby'!AN10)
E15: =IF('Rekapitulace stavby'!E11="","",'Rekapitulace stavby'!E11) | I15: DIČ: | J15: =IF('Rekapitulace stavby'!AN11="","",'Rekapitulace stavby'!AN11)
D17: Uchazeč: | I17: IČ: | J17: ='Rekapitulace stavby'!AN13 -> Vyplň údaj
E18: ='Rekapitulace stavby'!E14 -> Vyplň údaj | I18: DIČ: | J18: ='Rekapitulace stavby'!AN14 -> Vyplň údaj
D20: Projektant: | I20: IČ: | J20: =IF('Rekapitulace stavby'!AN16="","",'Rekapitulace stavby'!AN16)
E21: =IF('Rekapitulace stavby'!E17="","",'Rekapitulace stavby'!E17) | I21: DIČ: | J21: =IF('Rekapitulace stavby'!AN17="","",'Rekapitulace stavby'!AN17)
D23: Zpracovatel: | I23: IČ: | J23: =IF('Rekapitulace stavby'!AN19="","",'Rekapitulace stavby'!AN19)
E24: =IF('Rekapitulace stavby'!E20="","",'Rekapitulace stavby'!E20) | I24: DIČ: | J24: =IF('Rekapitulace stavby'!AN20="","",'Rekapitulace stavby'!AN20)
D26: Poznámka:
D30: Cena bez DPH | J30: =ROUND(J81, 2) -> 0
F32: Základ daně | I32: Sazba daně | J32: Výše daně
D33: DPH | E33: základní | F33: =ROUND((SUM(BE81:BE211)), 2) -> 0 | I33: 0.21 | J33: =ROUND(((SUM(BE81:BE211))*I33), 2) -> 0
E34: snížená | F34: =ROUND((SUM(BF81:BF211)), 2) -> 0 | I34: 0.12 | J34: =ROUND(((SUM(BF81:BF211))*I34), 2) -> 0
E35: zákl. přenesená | F35: =ROUND((SUM(BG81:BG211)), 2) -> 0 | I35: 0.21 | J35: =0 -> 0
E36: sníž. přenesená | F36: =ROUND((SUM(BH81:BH211)), 2) -> 0 | I36: 0.12 | J36: =0 -> 0
E37: nulová | F37: =ROUND((SUM(BI81:BI211)), 2) -> 0 | I37: 0 | J37: =0 -> 0
D39: Cena s DPH | G39: v | H39: CZK | J39: =SUM(J30:J37) -> 0
C45: REKAPITULACE ČLENĚNÍ SOUPISU PRACÍ
C47: Stavba:
E48: =E7 -> Oprava trati v úseku Tanvald - Kořenov
C49: Objekt:
E50: =E9 -> PS 02-37-01 - Dopravna Desná, napájení sil. Rozvodů
C52: Místo: | F52: =F12 | I52: Datum: | J52: =IF(J12="","",J12) -> 14. 6. 2023
C54: Zadavatel: | F54: =E15 | I54: Projektant: | J54: =E21
C55: Uchazeč: | F55: =IF(E18="","",E18) -> Vyplň údaj | I55: Zpracovatel: | J55: =E24
C57: Kód dílu - Popis | J57: Cena celkem [CZK]
C59: Náklady stavby celkem | J59: =J81 -> 0 | AU59: -1
D60: 1 - Dodávky | J60: =J82 -> 0
D61: 2 - Práce | J61: =J163 -> 0
C68: SOUPIS PRACÍ
C70: Stavba:
E71: =E7 -> Oprava trati v úseku Tanvald - Kořenov
C72: Objekt:
E73: =E9 -> PS 02-37-01 - Dopravna Desná, napájení sil. Rozvodů
C75: Místo: | F75: =F12 | I75: Datum: | J75: =IF(J12="","",J12) -> 14. 6. 2023
C77: Zadavatel: | F77: =E15 | I77: Projektant: | J77: =E21
C78: Uchazeč: | F78: =IF(E18="","",E18) -> Vyplň údaj | I78: Zpracovatel: | J78: =E24
C80: PČ | D80: Typ | E80: Kód | F80: Popis | G80: MJ | H80: Množství | I80: J.cena [CZK] | J80: Cena celkem [CZK] | K80: Cenová soustava | N80: DPH | O80: J. Nh [h] | P80: Nh celkem [h] | Q80: J. hmotnost [t] | R80: Hmotnost celkem [t] | S80: J. suť [t] | T80: Suť Celkem [t]
C81: Náklady soupisu celkem | J81: =BK81 -> 0 | P81: =P82+P163 -> 0 | R81: =R82+R163 -> 0 | T81: =T82+T163 -> 0 | AT81: D | AU81: -1 | BK81: =BK82+BK163 -> 0
D82: D | E82: 1 | F82: Dodávky | J82: =BK82 -> 0 | P82: =SUM(P83:P162) -> 0 | R82: =SUM(R83:R162) -> 0 | T82: =SUM(T83:T162) -> 0 | AR82: 1 | AT82: D | AU82: 0 | AY82: ROZPOCET | BK82: =SUM(BK83:BK162) -> 0
C83: 1 | D83: M | E83: 7491600020 | F83: Uzemnění Vnitřní Uzemňovací vedení na povrchu, páskem FeZn do 120 mm2 | G83: m | H83: 5 | J83: =ROUND(I83*H83,2) -> 0 | K83: Sborník UOŽI 01 2023 | N83: základní | P83: =O83*H83 -> 0 | Q83: 0 | R83: =Q83*H83 -> 0 | S83: 0 | T83: =S83*H83 -> 0 | AR83: 8 | AT83: M | AU83: 1 | AY83: ROZPOCET | BE83: =IF(N83="základní",J83,0) -> 0 | BF83: =IF(N83="snížená",J83,0) -> 0 | BG83: =IF(N83="zákl. přenesená",J83,0) -> 0 | BH83: =IF(N83="sníž. přenesená",J83,0) -> 0 | BI83: =IF(N83="nulová",J83,0) -> 0 | BJ83: 1 | BK83: =ROUND(I83*H83,2) -> 0 | BL83: 4 | BM83: 2
D84: PP | F84: Uzemnění Vnitřní Uzemňovací vedení na povrchu, páskem FeZn do 120 mm2 | AT84: PP | AU84: 1
D85: P | F85: Poznámka k položce:_x000D_ Technická specifikace položky odpovídá příslušné cenové soustavě. | AT85: P | AU85: 1
C86: 2 | D86: M | E86: 7492104360 | F86: Spojovací vedení, podpěrné izolátory Spojky, ukončení pasu, ostatní Spojka 35 KU-L kabelová | G86: kus | H86: 38 | J86: =ROUND(I86*H86,2) -> 0 | K86: Sborník UOŽI 01 2023 | N86: základní | P86: =O86*H86 -> 0 | Q86: 0 | R86: =Q86*H86 -> 0 | S86: 0 | T86: =S86*H86 -> 0 | AR86: 8 | AT86: M | AU86: 1 | AY86: ROZPOCET | BE86: =IF(N86="základní",J86,0) -> 0 | BF86: =IF(N86="snížená",J86,0) -> 0 | BG86: =IF(N86="zákl. přenesená",J86,0) -> 0 | BH86: =IF(N86="sníž. přenesená",J86,0) -> 0 | BI86: =IF(N86="nulová",J86,0) -> 0 | BJ86: 1 | BK86: =ROUND(I86*H86,2) -> 0 | BL86: 4 | BM86: 4
D87: PP | F87: Spojovací vedení, podpěrné izolátory Spojky, ukončení pasu, ostatní Spojka 35 KU-L kabelová | AT87: PP | AU87: 1
D88: P | F88: Poznámka k položce:_x000D_ Spojka 35 KU-L kabelová_x000D_ Technická specifikace položky odpovídá příslušné cenové soustavě. | AT88: P | AU88: 1
C89: 3 | D89: M | E89: 7492100010 | F89: Spojovací vedení, podpěrné izolátory Spojovací vedení z Cu pasů do 25x 3 mm (0,67 kg/m) bez držáků | G89: m | H89: 38 | J89: =ROUND(I89*H89,2) -> 0 | K89: Sborník UOŽI 01 2023 | N89: základní | P89: =O89*H89 -> 0 | Q89: 0 | R89: =Q89*H89 -> 0 | S89: 0 | T89: =S89*H89 -> 0 | AR89: 8 | AT89: M | AU89: 1 | AY89: ROZPOCET | BE89: =IF(N89="základní",J89,0) -> 0 | BF89: =IF(N89="snížená",J89,0) -> 0 | BG89: =IF(N89="zákl. přenesená",J89,0) -> 0 | BH89: =IF(N89="sníž. přenesená",J89,0) -> 0 | BI89: =IF(N89="nulová",J89,0) -> 0 | BJ89: 1 | BK89: =ROUND(I89*H89,2) -> 0 | BL89: 4 | BM89: 6
D90: PP | F90: Spojovací vedení, podpěrné izolátory Spojovací vedení z Cu pasů do 25x 3 mm (0,67 kg/m) bez držáků | AT90: PP | AU90: 1
D91: P | F91: Poznámka k položce:_x000D_ do 25x 3 mm (0,67 kg/m) bez držáků_x000D_ Technická specifikace položky odpovídá příslušné cenové soustavě. | AT91: P | AU91: 1
D92: VV | F92: "do 25x 3 mm (0,67 kg/m) bez držáků" | AT92: VV | AU92: 1 | AV92: 1 | AW92: True | AX92: 0 | AY92: ROZPOCET
D93: VV | F93: 38 | H93: 38 | AT93: VV | AU93: 1 | AV93: 2 | AW93: True | AX93: 1 | AY93: ROZPOCET
C94: 4 | D94: M | E94: 7492100850 | F94: Spojovací vedení, podpěrné izolátory Podpěrné izolátory, průchodky Izolátor M8 | G94: kus | H94: 390 | J94: =ROUND(I94*H94,2) -> 0 | K94: Sborník UOŽI 01 2023 | N94: základní | P94: =O94*H94 -> 0 | Q94: 0 | R94: =Q94*H94 -> 0 | S94: 0 | T94: =S94*H94 -> 0 | AR94: 8 | AT94: M | AU94: 1 | AY94: ROZPOCET | BE94: =IF(N94="základní",J94,0) -> 0 | BF94: =IF(N94="snížená",J94,0) -> 0 | BG94: =IF(N94="zákl. přenesená",J94,0) -> 0 | BH94: =IF(N94="sníž. přenesená",J94,0) -> 0 | BI94: =IF(N94="nulová",J94,0) -> 0 | BJ94: 1 | BK94: =ROUND(I94*H94,2) -> 0 | BL94: 4 | BM94: 8
D95: PP | F95: Spojovací vedení, podpěrné izolátory Podpěrné izolátory, průchodky Izolátor M8 | AT95: PP | AU95: 1
D96: P | F96: Poznámka k položce:_x000D_ Izolátor M8_x000D_ Technická specifikace položky odpovídá příslušné cenové soustavě. | AT96: P | AU96: 1
C97: 5 | D97: M | E97: 7492501980 | F97: Kabely, vodiče, šňůry Cu - nn Kabel silový 4 a 5-žílový Cu, plastová izolace CYKY 5J10 (5Cx10) | G97: m | H97: 89 | J97: =ROUND(I97*H97,2) -> 0 | K97: Sborník UOŽI 01 2023 | N97: základní | P97: =O97*H97 -> 0 | Q97: 0 | R97: =Q97*H97 -> 0 | S97: 0 | T97: =S97*H97 -> 0 | AR97: 8 | AT97: M | AU97: 1 | AY97: ROZPOCET | BE97: =IF(N97="základní",J97,0) -> 0 | BF97: =IF(N97="snížená",J97,0) -> 0 | BG97: =IF(N97="zákl. přenesená",J97,0) -> 0 | BH97: =IF(N97="sníž. přenesená",J97,0) -> 0 | BI97: =IF(N97="nulová",J97,0) -> 0 | BJ97: 1 | BK97: =ROUND(I97*H97,2) -> 0 | BL97: 4 | BM97: 10
D98: PP | F98: Kabely, vodiče, šňůry Cu - nn Kabel silový 4 a 5-žílový Cu, plastová izolace CYKY 5J10 (5Cx10) | AT98: PP | AU98: 1
D99: P | F99: Poznámka k položce:_x000D_ CYKY 5J10 (5Cx10)_x000D_ Technická specifikace položky odpovídá příslušné cenové soustavě. | AT99: P | AU99: 1
C100: 6 | D100: M | E100: 7492501990 | F100: Kabely, vodiče, šňůry Cu - nn Kabel silový 4 a 5-žílový Cu, plastová izolace CYKY 5J16 (5Cx16) | G100: m | H100: 82 | J100: =ROUND(I100*H100,2) -> 0 | K100: Sborník UOŽI 01 2023 | N100: základní | P100: =O100*H100 -> 0 | Q100: 0 | R100: =Q100*H100 -> 0 | S100: 0 | T100: =S100*H100 -> 0 | AR100: 8 | AT100: M | AU100: 1 | AY100: ROZPOCET | BE100: =IF(N100="základní",J100,0) -> 0 | BF100: =IF(N100="snížená",J100,0) -> 0 | BG100: =IF(N100="zákl. přenesená",J100,0) -> 0 | BH100: =IF(N100="sníž. přenesená",J100,0) -> 0 | BI100: =IF(N100="nulová",J100,0) -> 0 | BJ100: 1 | BK100: =ROUND(I100*H100,2) -> 0 | BL100: 4 | BM100: 12
D101: PP | F101: Kabely, vodiče, šňůry Cu - nn Kabel silový 4 a 5-žílový Cu, plastová izolace CYKY 5J16 (5Cx16) | AT101: PP | AU101: 1
D102: P | F102: Poznámka k položce:_x000D_ CYKY 5J16 (5Cx16)_x000D_ Technická specifikace položky odpovídá příslušné cenové soustavě. | AT102: P | AU102: 1
C103: 7 | D103: M | E103: R7492700460 | F103: Kabelové spojky pro plastové a pryžové kabely do 6kV | G103: kus | H103: 410 | J103: =ROUND(I103*H103,2) -> 0 | N103: základní | P103: =O103*H103 -> 0 | Q103: 0 | R103: =Q103*H103 -> 0 | S103: 0 | T103: =S103*H103 -> 0 | AR103: 8 | AT103: M | AU103: 1 | AY103: ROZPOCET | BE103: =IF(N103="základní",J103,0) -> 0 | BF103: =IF(N103="snížená",J103,0) -> 0 | BG103: =IF(N103="zákl. přenesená",J103,0) -> 0 | BH103: =IF(N103="sníž. přenesená",J103,0) -> 0 | BI103: =IF(N103="nulová",J103,0) -> 0 | BJ103: 1 | BK103: =ROUND(I103*H103,2) -> 0 | BL103: 4 | BM103: 14
D104: PP | F104: Kabelové spojky pro plastové a pryžové kabely do 6kV | AT104: PP | AU104: 1
D105: P | F105: Poznámka k položce:_x000D_ Zadavatel požaduje spojky, kterými se spojují kabely v zemních rýhách_x000D_ | AT105: P | AU105: 1
C106: 8 | D106: M | E106: 7494001250 | F106: Rozvodnicové a rozváděčové skříně Distri Rozváděčové skříně Řadové (IP40) - oceloplechové krytí IP40, dvoukřídlé dveře, V x Š x H 1800 x 1200 x 600 | G106: kus | H106: 3 | J106: =ROUND(I106*H106,2) -> 0 | K106: Sborník UOŽI 01 2023 | N106: základní | P106: =O106*H106 -> 0 | Q106: 0 | R106: =Q106*H106 -> 0 | S106: 0 | T106: =S106*H106 -> 0 | AR106: 8 | AT106: M | AU106: 1 | AY106: ROZPOCET | BE106: =IF(N106="základní",J106,0) -> 0 | BF106: =IF(N106="snížená",J106,0) -> 0 | BG106: =IF(N106="zákl. přenesená",J106,0) -> 0 | BH106: =IF(N106="sníž. přenesená",J106,0) -> 0 | BI106: =IF(N106="nulová",J106,0) -> 0 | BJ106: 1 | BK106: =ROUND(I106*H106,2) -> 0 | BL106: 4 | BM106: 16
D107: PP | F107: Rozvodnicové a rozváděčové skříně Distri Rozváděčové skříně Řadové (IP40) - oceloplechové krytí IP40, dvoukřídlé dveře, V x Š x H 1800 x 1200 x 600 | AT107: PP | AU107: 1
D108: P | F108: Poznámka k položce:_x000D_ krytí IP40, dvoukřídlé dveře, V x Š x H 1800 x 1200 x 600_x000D_ Technická specifikace položky odpovídá příslušné cenové soustavě. | AT108: P | AU108: 1
C109: 9 | D109: M | E109: 7494003086 | F109: Modulární přístroje Jističe do 63 A; 6 kA 3-pólové In 32 A, Ue AC 230/400 V / DC 216 V, charakteristika B, 3pól, Icn 6 kA | G109: kus | H109: 1 | J109: =ROUND(I109*H109,2) -> 0 | K109: Sborník UOŽI 01 2023 | N109: základní | P109: =O109*H109 -> 0 | Q109: 0 | R109: =Q109*H109 -> 0 | S109: 0 | T109: =S109*H109 -> 0 | AR109: 8 | AT109: M | AU109: 1 | AY109: ROZPOCET | BE109: =IF(N109="základní",J109,0) -> 0 | BF109: =IF(N109="snížená",J109,0) -> 0 | BG109: =IF(N109="zákl. přenesená",J109,0) -> 0 | BH109: =IF(N109="sníž. přenesená",J109,0) -> 0 | BI109: =IF(N109="nulová",J109,0) -> 0 | BJ109: 1 | BK109: =ROUND(I109*H109,2) -> 0 | BL109: 4 | BM109: 18
D110: PP | F110: Modulární přístroje Jističe do 63 A; 6 kA 3-pólové In 32 A, Ue AC 230/400 V / DC 216 V, charakteristika B, 3pól, Icn 6 kA | AT110: PP | AU110: 1
D111: P | F111: Poznámka k položce:_x000D_ In 32 A, Ue AC 230/400 V / DC 216 V, charakteristika B, 3pól, Icn 6 kA_x000D_ Technická specifikace položky odpovídá příslušné cenové soustavě. | AT111: P | AU111: 1
C112: 10 | D112: M | E112: 7494003090 | F112: Modulární přístroje Jističe do 63 A; 6 kA 3-pólové In 50 A, Ue AC 230/400 V / DC 216 V, charakteristika B, 3pól, Icn 6 kA | G112: kus | H112: 1 | J112: =ROUND(I112*H112,2) -> 0 | K112: Sborník UOŽI 01 2023 | N112: základní | P112: =O112*H112 -> 0 | Q112: 0 | R112: =Q112*H112 -> 0 | S112: 0 | T112: =S112*H112 -> 0 | AR112: 8 | AT112: M | AU112: 1 | AY112: ROZPOCET | BE112: =IF(N112="základní",J112,0) -> 0 | BF112: =IF(N112="snížená",J112,0) -> 0 | BG112: =IF(N112="zákl. přenesená",J112,0) -> 0 | BH112: =IF(N112="sníž. přenesená",J112,0) -> 0 | BI112: =IF(N112="nulová",J112,0) -> 0 | BJ112: 1 | BK112: =ROUND(I112*H112,2) -> 0 | BL112: 4 | BM112: 20
D113: PP | F113: Modulární přístroje Jističe do 63 A; 6 kA 3-pólové In 50 A, Ue AC 230/400 V / DC 216 V, charakteristika B, 3pól, Icn 6 kA | AT113: PP | AU113: 1
D114: P | F114: Poznámka k položce:_x000D_ In 50 A, Ue AC 230/400 V / DC 216 V, charakteristika B, 3pól, Icn 6 kA_x000D_ Technická specifikace položky odpovídá příslušné cenové soustavě. | AT114: P | AU114: 1
C115: 11 | D115: M | E115: 7494003088 | F115: Modulární přístroje Jističe do 63 A; 6 kA 3-pólové In 40 A, Ue AC 230/400 V / DC 216 V, charakteristika B, 3pól, Icn 6 kA | G115: kus | H115: 1 | J115: =ROUND(I115*H115,2) -> 0 | K115: Sborník UOŽI 01 2023 | N115: základní | P115: =O115*H115 -> 0 | Q115: 0 | R115: =Q115*H115 -> 0 | S115: 0 | T115: =S115*H115 -> 0 | AR115: 8 | AT115: M | AU115: 1 | AY115: ROZPOCET | BE115: =IF(N115="základní",J115,0) -> 0 | BF115: =IF(N115="snížená",J115,0) -> 0 | BG115: =IF(N115="zákl. přenesená",J115,0) -> 0 | BH115: =IF(N115="sníž. přenesená",J115,0) -> 0 | BI115: =IF(N115="nulová",J115,0) -> 0 | BJ115: 1 | BK115: =ROUND(I115*H115,2) -> 0 | BL115: 4 | BM115: 22
D116: PP | F116: Modulární přístroje Jističe do 63 A; 6 kA 3-pólové In 40 A, Ue AC 230/400 V / DC 216 V, charakteristika B, 3pól, Icn 6 kA | AT116: PP | AU116: 1
D117: P | F117: Poznámka k položce:_x000D_ In 40 A, Ue AC 230/400 V / DC 216 V, charakteristika B, 3pól, Icn 6 kA_x000D_ Technická specifikace položky odpovídá příslušné cenové soustavě. | AT117: P | AU117: 1
C118: 12 | D118: M | E118: 7494003390 | F118: Modulární přístroje Jističe do 80 A; 10 kA 3-pólové In 25 A, Ue AC 230/400 V / DC 216 V, charakteristika B, 3pól, Icn 10 kA | G118: kus | H118: 2 | J118: =ROUND(I118*H118,2) -> 0 | K118: Sborník UOŽI 01 2023 | N118: základní | P118: =O118*H118 -> 0 | Q118: 0 | R118: =Q118*H118 -> 0 | S118: 0 | T118: =S118*H118 -> 0 | AR118: 8 | AT118: M | AU118: 1 | AY118: ROZPOCET | BE118: =IF(N118="základní",J118,0) -> 0 | BF118: =IF(N118="snížená",J118,0) -> 0 | BG118: =IF(N118="zákl. přenesená",J118,0) -> 0 | BH118: =IF(N118="sníž. přenesená",J118,0) -> 0 | BI118: =IF(N118="nulová",J118,0) -> 0 | BJ118: 1 | BK118: =ROUND(I118*H118,2) -> 0 | BL118: 4 | BM118: 24
D119: PP | F119: Modulární přístroje Jističe do 80 A; 10 kA 3-pólové In 25 A, Ue AC 230/400 V / DC 216 V, charakteristika B, 3pól, Icn 10 kA | AT119: PP | AU119: 1
D120: P | F120: Poznámka k položce:_x000D_ In 25 A, Ue AC 230/400 V / DC 216 V, charakteristika B, 3pól, Icn 10 kA_x000D_ Technická specifikace položky odpovídá příslušné cenové soustavě. | AT120: P | AU120: 1
C121: 13 | D121: M | E121: 7494004096 | F121: Modulární přístroje Přepěťové ochrany Kombinované svodiče bleskových proudů a přepětí typ 1 + 2, Iimp 25 kA, Uc AC 350 V, výměnné moduly, se signalizací, jiskřiště, varistor, 3+N-pól | G121: kus | H121: 1 | J121: =ROUND(I121*H121,2) -> 0 | K121: Sborník UOŽI 01 2023 | N121: základní | P121: =O121*H121 -> 0 | Q121: 0 | R121: =Q121*H121 -> 0 | S121: 0 | T121: =S121*H121 -> 0 | AR121: 8 | AT121: M | AU121: 1 | AY121: ROZPOCET | BE121: =IF(N121="základní",J121,0) -> 0 | BF121: =IF(N121="snížená",J121,0) -> 0 | BG121: =IF(N121="zákl. přenesená",J121,0) -> 0 | BH121: =IF(N121="sníž. přenesená",J121,0) -> 0 | BI121: =IF(N121="nulová",J121,0) -> 0 | BJ121: 1 | BK121: =ROUND(I121*H121,2) -> 0 | BL121: 4 | BM121: 26
D122: PP | F122: Modulární přístroje Přepěťové ochrany Kombinované svodiče bleskových proudů a přepětí typ 1 + 2, Iimp 25 kA, Uc AC 350 V, výměnné moduly, se signalizací, jiskřiště, varistor, 3+N-pól | AT122: PP | AU122: 1
D123: P | F123: Poznámka k položce:_x000D_ typ 1 + 2, Iimp 25 kA, Uc AC 350 V, výměnné moduly, se signalizací, jiskřiště, varistor, 3+N-pól_x000D_ Technická specifikace položky odpovídá příslušné cenové soustavě. | AT123: P | AU123: 1
C124: 14 | D124: M | E124: 7494004526 | F124: Modulární přístroje Ostatní přístroje -modulární přístroje Vypínače In 80 A, Ue AC 250/440 V, 3pól | G124: kus | H124: 1 | J124: =ROUND(I124*H124,2) -> 0 | K124: Sborník UOŽI 01 2023 | N124: základní | P124: =O124*H124 -> 0 | Q124: 0 | R124: =Q124*H124 -> 0 | S124: 0 | T124: =S124*H124 -> 0 | AR124: 8 | AT124: M | AU124: 1 | AY124: ROZPOCET | BE124: =IF(N124="základní",J124,0) -> 0 | BF124: =IF(N124="snížená",J124,0) -> 0 | BG124: =IF(N124="zákl. přenesená",J124,0) -> 0 | BH124: =IF(N124="sníž. přenesená",J124,0) -> 0 | BI124: =IF(N124="nulová",J124,0) -> 0 | BJ124: 1 | BK124: =ROUND(I124*H124,2) -> 0 | BL124: 4 | BM124: 28
D125: PP | F125: Modulární přístroje Ostatní přístroje -modulární přístroje Vypínače In 80 A, Ue AC 250/440 V, 3pól | AT125: PP | AU125: 1
D126: P | F126: Poznámka k položce:_x000D_ In 80 A, Ue AC 250/440 V, 3pól_x000D_ Technická specifikace položky odpovídá příslušné cenové soustavě. | AT126: P | AU126: 1
C127: 15 | D127: M | E127: 7494003832 | F127: Modulární přístroje Proudové chrániče 10 kA typ AC 4-pólové In 25 A, Ue AC 230/400 V, Idn 100 mA, 4pól, Inc 10 kA, typ AC | G127: kus | H127: 2 | J127: =ROUND(I127*H127,2) -> 0 | K127: Sborník UOŽI 01 2023 | N127: základní | P127: =O127*H127 -> 0 | Q127: 0 | R127: =Q127*H127 -> 0 | S127: 0 | T127: =S127*H127 -> 0 | AR127: 8 | AT127: M | AU127: 1 | AY127: ROZPOCET | BE127: =IF(N127="základní",J127,0) -> 0 | BF127: =IF(N127="snížená",J127,0) -> 0 | BG127: =IF(N127="zákl. přenesená",J127,0) -> 0 | BH127: =IF(N127="sníž. přenesená",J127,0) -> 0 | BI127: =IF(N127="nulová",J127,0) -> 0 | BJ127: 1 | BK127: =ROUND(I127*H127,2) -> 0 | BL127: 4 | BM127: 30
D128: PP | F128: Modulární přístroje Proudové chrániče 10 kA typ AC 4-pólové In 25 A, Ue AC 230/400 V, Idn 100 mA, 4pól, Inc 10 kA, typ AC | AT128: PP | AU128: 1
D129: P | F129: Poznámka k položce:_x000D_ In 25 A, Ue AC 230/400 V, Idn 100 mA, 4pól, Inc 10 kA, typ AC_x000D_ Technická specifikace položky odpovídá příslušné cenové soustavě. | AT129: P | AU129: 1
C130: 16 | D130: M | E130: 7494004026 | F130: Modulární přístroje Proudové chrániče Proudové chrániče s nadproudovou ochranou 10 kA typ A In 16 A, Ue AC 230 V, charakteristika B, Idn 30 mA, 1+N-pól, Icn 10 kA, typ A | G130: kus | H130: 1 | J130: =ROUND(I130*H130,2) -> 0 | K130: Sborník UOŽI 01 2023 | N130: základní | P130: =O130*H130 -> 0 | Q130: 0 | R130: =Q130*H130 -> 0 | S130: 0 | T130: =S130*H130 -> 0 | AR130: 8 | AT130: M | AU130: 1 | AY130: ROZPOCET | BE130: =IF(N130="základní",J130,0) -> 0 | BF130: =IF(N130="snížená",J130,0) -> 0 | BG130: =IF(N130="zákl. přenesená",J130,0) -> 0 | BH130: =IF(N130="sníž. přenesená",J130,0) -> 0 | BI130: =IF(N130="nulová",J130,0) -> 0 | BJ130: 1 | BK130: =ROUND(I130*H130,2) -> 0 | BL130: 4 | BM130: 32
D131: PP | F131: Modulární přístroje Proudové chrániče Proudové chrániče s nadproudovou ochranou 10 kA typ A In 16 A, Ue AC 230 V, charakteristika B, Idn 30 mA, 1+N-pól, Icn 10 kA, typ A | AT131: PP | AU131: 1
D132: P | F132: Poznámka k položce:_x000D_ In 16 A, Ue AC 230 V, charakteristika B, Idn 30 mA, 1+N-pól, Icn 10 kA, typ A_x000D_ Technická specifikace položky odpovídá příslušné cenové soustavě. | AT132: P | AU132: 1
C133: 17 | D133: M | E133: 7491205700 | F133: Elektroinstalační materiál Zásuvky instalační Zásuvka3 fázová 400V/32A montáž do rozváděče, 5 pólová | G133: kus | H133: 2 | J133: =ROUND(I133*H133,2) -> 0 | K133: Sborník UOŽI 01 2023 | N133: základní | P133: =O133*H133 -> 0 | Q133: 0 | R133: =Q133*H133 -> 0 | S133: 0 | T133: =S133*H133 -> 0 | AR133: 8 | AT133: M | AU133: 1 | AY133: ROZPOCET | BE133: =IF(N133="základní",J133,0) -> 0 | BF133: =IF(N133="snížená",J133,0) -> 0 | BG133: =IF(N133="zákl. přenesená",J133,0) -> 0 | BH133: =IF(N133="sníž. přenesená",J133,0) -> 0 | BI133: =IF(N133="nulová",J133,0) -> 0 | BJ133: 1 | BK133: =ROUND(I133*H133,2) -> 0 | BL133: 4 | BM133: 34
...

Sheet SO 00-10-01 - Výstroj trati
AT2: {d5ae0c9d-8424-4763-849d-773478b7edf7}
AT3: 2
D4: KRYCÍ LIST SOUPISU PRACÍ | M4: v --- níže se nacházejí doplnkové a pomocné údaje k sestavám --- v | AT4: False
D6: Stavba:
E7: ='Rekapitulace stavby'!K6 -> Oprava trati v úseku Tanvald - Kořenov
D8: Objekt:
E9: SO 00-10-01 - Výstroj trati
D11: KSO: | I11: CC-CZ:
D12: Místo: | I12: Datum: | J12: ='Rekapitulace stavby'!AN8 -> 14. 6. 2023
D14: Zadavatel: | I14: IČ: | J14: =IF('Rekapitulace stavby'!AN10="","",'Rekapitulace stavby'!AN10)
E15: =IF('Rekapitulace stavby'!E11="","",'Rekapitulace stavby'!E11) | I15: DIČ: | J15: =IF('Rekapitulace stavby'!AN11="","",'Rekapitulace stavby'!AN11)
D17: Uchazeč: | I17: IČ: | J17: ='Rekapitulace stavby'!AN13 -> Vyplň údaj
E18: ='Rekapitulace stavby'!E14 -> Vyplň údaj | I18: DIČ: | J18: ='Rekapitulace stavby'!AN14 -> Vyplň údaj
D20: Projektant: | I20: IČ: | J20: =IF('Rekapitulace stavby'!AN16="","",'Rekapitulace stavby'!AN16)
E21: =IF('Rekapitulace stavby'!E17="","",'Rekapitulace stavby'!E17) | I21: DIČ: | J21: =IF('Rekapitulace stavby'!AN17="","",'Rekapitulace stavby'!AN17)
D23: Zpracovatel: | I23: IČ: | J23: =IF('Rekapitulace stavby'!AN19="","",'Rekapitulace stavby'!AN19)
E24: =IF('Rekapitulace stavby'!E20="","",'Rekapitulace stavby'!E20) | I24: DIČ: | J24: =IF('Rekapitulace stavby'!AN20="","",'Rekapitulace stavby'!AN20)
D26: Poznámka:
D30: Cena bez DPH | J30: =ROUND(J81, 2) -> 0
F32: Základ daně | I32: Sazba daně | J32: Výše daně
D33: DPH | E33: základní | F33: =ROUND((SUM(BE81:BE212)), 2) -> 0 | I33: 0.21 | J33: =ROUND(((SUM(BE81:BE212))*I33), 2) -> 0
E34: snížená | F34: =ROUND((SUM(BF81:BF212)), 2) -> 0 | I34: 0.12 | J34: =ROUND(((SUM(BF81:BF212))*I34), 2) -> 0
E35: zákl. přenesená | F35: =ROUND((SUM(BG81:BG212)), 2) -> 0 | I35: 0.21 | J35: =0 -> 0
E36: sníž. přenesená | F36: =ROUND((SUM(BH81:BH212)), 2) -> 0 | I36: 0.12 | J36: =0 -> 0
E37: nulová | F37: =ROUND((SUM(BI81:BI212)), 2) -> 0 | I37: 0 | J37: =0 -> 0
D39: Cena s DPH | G39: v | H39: CZK | J39: =SUM(J30:J37) -> 0
C45: REKAPITULACE ČLENĚNÍ SOUPISU PRACÍ
C47: Stavba:
E48: =E7 -> Oprava trati v úseku Tanvald - Kořenov
C49: Objekt:
E50: =E9 -> SO 00-10-01 - Výstroj trati
C52: Místo: | F52: =F12 | I52: Datum: | J52: =IF(J12="","",J12) -> 14. 6. 2023
C54: Zadavatel: | F54: =E15 | I54: Projektant: | J54: =E21
C55: Uchazeč: | F55: =IF(E18="","",E18) -> Vyplň údaj | I55: Zpracovatel: | J55: =E24
C57: Kód dílu - Popis | J57: Cena celkem [CZK]
C59: Náklady stavby celkem | J59: =J81 -> 0 | AU59: -1
D60: 1 - Dodávky | J60: =J82 -> 0
D61: 2 - Práce | J61: =J170 -> 0
C68: SOUPIS PRACÍ
C70: Stavba:
E71: =E7 -> Oprava trati v úseku Tanvald - Kořenov
C72: Objekt:
E73: =E9 -> SO 00-10-01 - Výstroj trati
C75: Místo: | F75: =F12 | I75: Datum: | J75: =IF(J12="","",J12) -> 14. 6. 2023
C77: Zadavatel: | F77: =E15 | I77: Projektant: | J77: =E21
C78: Uchazeč: | F78: =IF(E18="","",E18) -> Vyplň údaj | I78: Zpracovatel: | J78: =E24
C80: PČ | D80: Typ | E80: Kód | F80: Popis | G80: MJ | H80: Množství | I80: J.cena [CZK] | J80: Cena celkem [CZK] | K80: Cenová soustava | N80: DPH | O80: J. Nh [h] | P80: Nh celkem [h] | Q80: J. hmotnost [t] | R80: Hmotnost celkem [t] | S80: J. suť [t] | T80: Suť Celkem [t]
C81: Náklady soupisu celkem | J81: =BK81 -> 0 | P81: =P82+P170 -> 0 | R81: =R82+R170 -> 26.6895 | T81: =T82+T170 -> 0 | AT81: D | AU81: -1 | BK81: =BK82+BK170 -> 0
D82: D | E82: 1 | F82: Dodávky | J82: =BK82 -> 0 | P82: =SUM(P83:P169) -> 0 | R82: =SUM(R83:R169) -> 26.6895 | T82: =SUM(T83:T169) -> 0 | AR82: 1 | AT82: D | AU82: 0 | AY82: ROZPOCET | BK82: =SUM(BK83:BK169) -> 0
C83: 1 | D83: M | E83: 5962101110 | F83: Návěstidlo sklonovník reflexní | G83: kus | H83: 47 | J83: =ROUND(I83*H83,2) -> 0 | K83: Sborník UOŽI 01 2023 | N83: základní | P83: =O83*H83 -> 0 | Q83: 0.00225 | R83: =Q83*H83 -> 0.10575 | S83: 0 | T83: =S83*H83 -> 0 | AR83: 8 | AT83: M | AU83: 1 | AY83: ROZPOCET | BE83: =IF(N83="základní",J83,0) -> 0 | BF83: =IF(N83="snížená",J83,0) -> 0 | BG83: =IF(N83="zákl. přenesená",J83,0) -> 0 | BH83: =IF(N83="sníž. přenesená",J83,0) -> 0 | BI83: =IF(N83="nulová",J83,0) -> 0 | BJ83: 1 | BK83: =ROUND(I83*H83,2) -> 0 | BL83: 4 | BM83: 2
D84: PP | F84: Návěstidlo sklonovník reflexní | AT84: PP | AU84: 1
D85: P | F85: Poznámka k položce:_x000D_ Technická specifikace položky odpovídá příslušné cenové soustavě. | AT85: P | AU85: 1
C86: 2 | D86: M | E86: 5962101120 | F86: Návěstidlo hektometrovník železobetonový se znaky | G86: kus | H86: 41 | J86: =ROUND(I86*H86,2) -> 0 | K86: Sborník UOŽI 01 2023 | N86: základní | P86: =O86*H86 -> 0 | Q86: 0.157 | R86: =Q86*H86 -> 6.437 | S86: 0 | T86: =S86*H86 -> 0 | AR86: 8 | AT86: M | AU86: 1 | AY86: ROZPOCET | BE86: =IF(N86="základní",J86,0) -> 0 | BF86: =IF(N86="snížená",J86,0) -> 0 | BG86: =IF(N86="zákl. přenesená",J86,0) -> 0 | BH86: =IF(N86="sníž. přenesená",J86,0) -> 0 | BI86: =IF(N86="nulová",J86,0) -> 0 | BJ86: 1 | BK86: =ROUND(I86*H86,2) -> 0 | BL86: 4 | BM86: 4
D87: PP | F87: Návěstidlo hektometrovník železobetonový se znaky | AT87: PP | AU87: 1
D88: P | F88: Poznámka k položce:_x000D_ Technická specifikace položky odpovídá příslušné cenové soustavě. | AT88: P | AU88: 1
C89: 3 | D89: M | E89: 5962101105 | F89: Návěstidlo staničník 480x610 pozink dvoumístný | G89: kus | H89: 26 | J89: =ROUND(I89*H89,2) -> 0 | K89: Sborník UOŽI 01 2023 | N89: základní | P89: =O89*H89 -> 0 | Q89: 0.003 | R89: =Q89*H89 -> 0.078 | S89: 0 | T89: =S89*H89 -> 0 | AR89: 8 | AT89: M | AU89: 1 | AY89: ROZPOCET | BE89: =IF(N89="základní",J89,0) -> 0 | BF89: =IF(N89="snížená",J89,0) -> 0 | BG89: =IF(N89="zákl. přenesená",J89,0) -> 0 | BH89: =IF(N89="sníž. přenesená",J89,0) -> 0 | BI89: =IF(N89="nulová",J89,0) -> 0 | BJ89: 1 | BK89: =ROUND(I89*H89,2) -> 0 | BL89: 4 | BM89: 6
D90: PP | F90: Návěstidlo staničník 480x610 pozink dvoumístný | AT90: PP | AU90: 1
D91: P | F91: Poznámka k položce:_x000D_ Technická specifikace položky odpovídá příslušné cenové soustavě. | AT91: P | AU91: 1
C92: 4 | D92: M | E92: R5962101105 | F92: Návěstidlo staničník 480x610 pozink, žlutý | G92: kus | H92: 1 | J92: =ROUND(I92*H92,2) -> 0 | N92: základní | P92: =O92*H92 -> 0 | Q92: 0.003 | R92: =Q92*H92 -> 0.003 | S92: 0 | T92: =S92*H92 -> 0 | AR92: 8 | AT92: M | AU92: 1 | AY92: ROZPOCET | BE92: =IF(N92="základní",J92,0) -> 0 | BF92: =IF(N92="snížená",J92,0) -> 0 | BG92: =IF(N92="zákl. přenesená",J92,0) -> 0 | BH92: =IF(N92="sníž. přenesená",J92,0) -> 0 | BI92: =IF(N92="nulová",J92,0) -> 0 | BJ92: 1 | BK92: =ROUND(I92*H92,2) -> 0 | BL92: 4 | BM92: 8
D93: PP | F93: Návěstidlo staničník 480x610 pozink, žlutý | AT93: PP | AU93: 1
D94: P | F94: Poznámka k položce:_x000D_ žlutý před přejezdem_x000D_ Technická specifikace položky odpovídá příslušné cenové soustavě. | AT94: P | AU94: 1
C95: 5 | D95: M | E95: 5962101100 | F95: Návěstidlo staničník 320x610 pozink jednomístný | G95: kus | H95: 4 | J95: =ROUND(I95*H95,2) -> 0 | K95: Sborník UOŽI 01 2023 | N95: základní | P95: =O95*H95 -> 0 | Q95: 0.0029 | R95: =Q95*H95 -> 0.0116 | S95: 0 | T95: =S95*H95 -> 0 | AR95: 8 | AT95: M | AU95: 1 | AY95: ROZPOCET | BE95: =IF(N95="základní",J95,0) -> 0 | BF95: =IF(N95="snížená",J95,0) -> 0 | BG95: =IF(N95="zákl. přenesená",J95,0) -> 0 | BH95: =IF(N95="sníž. přenesená",J95,0) -> 0 | BI95: =IF(N95="nulová",J95,0) -> 0 | BJ95: 1 | BK95: =ROUND(I95*H95,2) -> 0 | BL95: 4 | BM95: 10
D96: PP | F96: Návěstidlo staničník 320x610 pozink jednomístný | AT96: PP | AU96: 1
D97: P | F97: Poznámka k položce:_x000D_ na mostech 2*2_x000D_ Technická specifikace položky odpovídá příslušné cenové soustavě. | AT97: P | AU97: 1
C98: 6 | D98: M | E98: 5962101010 | F98: Návěstidlo rychlostník - obdélník | G98: kus | H98: 14 | J98: =ROUND(I98*H98,2) -> 0 | K98: Sborník UOŽI 01 2023 | N98: základní | P98: =O98*H98 -> 0 | Q98: 0.0035 | R98: =Q98*H98 -> 0.049 | S98: 0 | T98: =S98*H98 -> 0 | AR98: 8 | AT98: M | AU98: 1 | AY98: ROZPOCET | BE98: =IF(N98="základní",J98,0) -> 0 | BF98: =IF(N98="snížená",J98,0) -> 0 | BG98: =IF(N98="zákl. přenesená",J98,0) -> 0 | BH98: =IF(N98="sníž. přenesená",J98,0) -> 0 | BI98: =IF(N98="nulová",J98,0) -> 0 | BJ98: 1 | BK98: =ROUND(I98*H98,2) -> 0 | BL98: 4 | BM98: 12
D99: PP | F99: Návěstidlo rychlostník - obdélník | AT99: PP | AU99: 1
D100: P | F100: Poznámka k položce:_x000D_ Technická specifikace položky odpovídá příslušné cenové soustavě. | AT100: P | AU100: 1
C101: 7 | D101: M | E101: 5962101020 | F101: Návěstidlo očekávejte traťovou rychlost - trojúhelník | G101: kus | H101: 3 | J101: =ROUND(I101*H101,2) -> 0 | K101: Sborník UOŽI 01 2023 | N101: základní | P101: =O101*H101 -> 0 | Q101: 0.0035 | R101: =Q101*H101 -> 0.0105 | S101: 0 | T101: =S101*H101 -> 0 | AR101: 8 | AT101: M | AU101: 1 | AY101: ROZPOCET | BE101: =IF(N101="základní",J101,0) -> 0 | BF101: =IF(N101="snížená",J101,0) -> 0 | BG101: =IF(N101="zákl. přenesená",J101,0) -> 0 | BH101: =IF(N101="sníž. přenesená",J101,0) -> 0 | BI101: =IF(N101="nulová",J101,0) -> 0 | BJ101: 1 | BK101: =ROUND(I101*H101,2) -> 0 | BL101: 4 | BM101: 14
D102: PP | F102: Návěstidlo očekávejte traťovou rychlost - trojúhelník | AT102: PP | AU102: 1
D103: P | F103: Poznámka k položce:_x000D_ Technická specifikace položky odpovídá příslušné cenové soustavě. | AT103: P | AU103: 1
C104: 8 | D104: M | E104: 5962101030 | F104: Návěstidlo tabulka dodatková lokomotiva | G104: kus | H104: 3 | J104: =ROUND(I104*H104,2) -> 0 | K104: Sborník UOŽI 01 2023 | N104: základní | P104: =O104*H104 -> 0 | Q104: 0.0015 | R104: =Q104*H104 -> 0.0045 | S104: 0 | T104: =S104*H104 -> 0 | AR104: 8 | AT104: M | AU104: 1 | AY104: ROZPOCET | BE104: =IF(N104="základní",J104,0) -> 0 | BF104: =IF(N104="snížená",J104,0) -> 0 | BG104: =IF(N104="zákl. přenesená",J104,0) -> 0 | BH104: =IF(N104="sníž. přenesená",J104,0) -> 0 | BI104: =IF(N104="nulová",J104,0) -> 0 | BJ104: 1 | BK104: =ROUND(I104*H104,2) -> 0 | BL104: 4 | BM104: 16
D105: PP | F105: Návěstidlo tabulka dodatková lokomotiva | AT105: PP | AU105: 1
D106: P | F106: Poznámka k položce:_x000D_ Technická specifikace položky odpovídá příslušné cenové soustavě. | AT106: P | AU106: 1
C107: 9 | D107: M | E107: R5962101030A | F107: Dodatková tabulka šipka vpravo | G107: kus | H107: 1 | J107: =ROUND(I107*H107,2) -> 0 | N107: základní | P107: =O107*H107 -> 0 | Q107: 0.003 | R107: =Q107*H107 -> 0.003 | S107: 0 | T107: =S107*H107 -> 0 | AR107: 8 | AT107: M | AU107: 1 | AY107: ROZPOCET | BE107: =IF(N107="základní",J107,0) -> 0 | BF107: =IF(N107="snížená",J107,0) -> 0 | BG107: =IF(N107="zákl. přenesená",J107,0) -> 0 | BH107: =IF(N107="sníž. přenesená",J107,0) -> 0 | BI107: =IF(N107="nulová",J107,0) -> 0 | BJ107: 1 | BK107: =ROUND(I107*H107,2) -> 0 | BL107: 4 | BM107: 18
D108: PP | F108: Dodatková tabulka šipka vpravo | AT108: PP | AU108: 1
D109: P | F109: Poznámka k položce:_x000D_ Technická specifikace položky odpovídá příslušné cenové soustavě. | AT109: P | AU109: 1
C110: 10 | D110: M | E110: R5962101030B | F110: Dodatková tabulka zkrácená vzdálenost | G110: kus | H110: 2 | J110: =ROUND(I110*H110,2) -> 0 | N110: základní | P110: =O110*H110 -> 0 | Q110: 0.003 | R110: =Q110*H110 -> 0.006 | S110: 0 | T110: =S110*H110 -> 0 | AR110: 8 | AT110: M | AU110: 1 | AY110: ROZPOCET | BE110: =IF(N110="základní",J110,0) -> 0 | BF110: =IF(N110="snížená",J110,0) -> 0 | BG110: =IF(N110="zákl. přenesená",J110,0) -> 0 | BH110: =IF(N110="sníž. přenesená",J110,0) -> 0 | BI110: =IF(N110="nulová",J110,0) -> 0 | BJ110: 1 | BK110: =ROUND(I110*H110,2) -> 0 | BL110: 4 | BM110: 20
D111: PP | F111: Dodatková tabulka zkrácená vzdálenost | AT111: PP | AU111: 1
D112: P | F112: Poznámka k položce:_x000D_ Technická specifikace položky odpovídá příslušné cenové soustavě. | AT112: P | AU112: 1
C113: 11 | D113: M | E113: 5962101045 | F113: Návěstidlo konec nástupiště | G113: kus | H113: 2 | J113: =ROUND(I113*H113,2) -> 0 | K113: Sborník UOŽI 01 2023 | N113: základní | P113: =O113*H113 -> 0 | Q113: 0.003 | R113: =Q113*H113 -> 0.006 | S113: 0 | T113: =S113*H113 -> 0 | AR113: 8 | AT113: M | AU113: 1 | AY113: ROZPOCET | BE113: =IF(N113="základní",J113,0) -> 0 | BF113: =IF(N113="snížená",J113,0) -> 0 | BG113: =IF(N113="zákl. přenesená",J113,0) -> 0 | BH113: =IF(N113="sníž. přenesená",J113,0) -> 0 | BI113: =IF(N113="nulová",J113,0) -> 0 | BJ113: 1 | BK113: =ROUND(I113*H113,2) -> 0 | BL113: 4 | BM113: 22
D114: PP | F114: Návěstidlo konec nástupiště | AT114: PP | AU114: 1
D115: P | F115: Poznámka k položce:_x000D_ Technická specifikace položky odpovídá příslušné cenové soustavě. | AT115: P | AU115: 1
C116: 12 | D116: M | E116: R5962101045A | F116: Návěstidlo místo zastavení | G116: kus | H116: 1 | J116: =ROUND(I116*H116,2) -> 0 | N116: základní | P116: =O116*H116 -> 0 | Q116: 0.003 | R116: =Q116*H116 -> 0.003 | S116: 0 | T116: =S116*H116 -> 0 | AR116: 8 | AT116: M | AU116: 1 | AY116: ROZPOCET | BE116: =IF(N116="základní",J116,0) -> 0 | BF116: =IF(N116="snížená",J116,0) -> 0 | BG116: =IF(N116="zákl. přenesená",J116,0) -> 0 | BH116: =IF(N116="sníž. přenesená",J116,0) -> 0 | BI116: =IF(N116="nulová",J116,0) -> 0 | BJ116: 1 | BK116: =ROUND(I116*H116,2) -> 0 | BL116: 4 | BM116: 24
D117: PP | F117: Návěstidlo místo zastavení | AT117: PP | AU117: 1
D118: P | F118: Poznámka k položce:_x000D_ Technická specifikace položky odpovídá příslušné cenové soustavě. | AT118: P | AU118: 1
C119: 13 | D119: M | E119: 5962101050 | F119: Návěstidlo tabule před zastávkou | G119: kus | H119: 6 | J119: =ROUND(I119*H119,2) -> 0 | K119: Sborník UOŽI 01 2023 | N119: základní | P119: =O119*H119 -> 0 | Q119: 0.008 | R119: =Q119*H119 -> 0.048 | S119: 0 | T119: =S119*H119 -> 0 | AR119: 8 | AT119: M | AU119: 1 | AY119: ROZPOCET | BE119: =IF(N119="základní",J119,0) -> 0 | BF119: =IF(N119="snížená",J119,0) -> 0 | BG119: =IF(N119="zákl. přenesená",J119,0) -> 0 | BH119: =IF(N119="sníž. přenesená",J119,0) -> 0 | BI119: =IF(N119="nulová",J119,0) -> 0 | BJ119: 1 | BK119: =ROUND(I119*H119,2) -> 0 | BL119: 4 | BM119: 26
D120: PP | F120: Návěstidlo tabule před zastávkou | AT120: PP | AU120: 1
D121: P | F121: Poznámka k položce:_x000D_ Technická specifikace položky odpovídá příslušné cenové soustavě. | AT121: P | AU121: 1
C122: 14 | D122: M | E122: 5962101090 | F122: Návěstidlo sloupek s návěstí pískejte | G122: kus | H122: 14 | J122: =ROUND(I122*H122,2) -> 0 | K122: Sborník UOŽI 01 2023 | N122: základní | P122: =O122*H122 -> 0 | Q122: 0.00255 | R122: =Q122*H122 -> 0.0357 | S122: 0 | T122: =S122*H122 -> 0 | AR122: 8 | AT122: M | AU122: 1 | AY122: ROZPOCET | BE122: =IF(N122="základní",J122,0) -> 0 | BF122: =IF(N122="snížená",J122,0) -> 0 | BG122: =IF(N122="zákl. přenesená",J122,0) -> 0 | BH122: =IF(N122="sníž. přenesená",J122,0) -> 0 | BI122: =IF(N122="nulová",J122,0) -> 0 | BJ122: 1 | BK122: =ROUND(I122*H122,2) -> 0 | BL122: 4 | BM122: 28
D123: PP | F123: Návěstidlo sloupek s návěstí pískejte | AT123: PP | AU123: 1
D124: P | F124: Poznámka k položce:_x000D_ Technická specifikace položky odpovídá příslušné cenové soustavě. | AT124: P | AU124: 1
C125: 15 | D125: M | E125: R5962101045B | F125: Návěstidlo rádiovník | G125: kus | H125: 2 | J125: =ROUND(I125*H125,2) -> 0 | N125: základní | P125: =O125*H125 -> 0 | Q125: 0.003 | R125: =Q125*H125 -> 0.006 | S125: 0 | T125: =S125*H125 -> 0 | AR125: 8 | AT125: M | AU125: 1 | AY125: ROZPOCET | BE125: =IF(N125="základní",J125,0) -> 0 | BF125: =IF(N125="snížená",J125,0) -> 0 | BG125: =IF(N125="zákl. přenesená",J125,0) -> 0 | BH125: =IF(N125="sníž. přenesená",J125,0) -> 0 | BI125: =IF(N125="nulová",J125,0) -> 0 | BJ125: 1 | BK125: =ROUND(I125*H125,2) -> 0 | BL125: 4 | BM125: 30
D126: PP | F126: Návěstidlo rádiovník | AT126: PP | AU126: 1
D127: P | F127: Poznámka k položce:_x000D_ Technická specifikace položky odpovídá příslušné cenové soustavě. | AT127: P | AU127: 1
C128: 16 | D128: M | E128: 5962104000 | F128: Hranice námezník betonový | G128: kus | H128: 6 | J128: =ROUND(I128*H128,2) -> 0 | K128: Sborník UOŽI 01 2023 | N128: základní | P128: =O128*H128 -> 0 | Q128: 0.056 | R128: =Q128*H128 -> 0.336 | S128: 0 | T128: =S128*H128 -> 0 | AR128: 8 | AT128: M | AU128: 1 | AY128: ROZPOCET | BE128: =IF(N128="základní",J128,0) -> 0 | BF128: =IF(N128="snížená",J128,0) -> 0 | BG128: =IF(N128="zákl. přenesená",J128,0) -> 0 | BH128: =IF(N128="sníž. přenesená",J128,0) -> 0 | BI128: =IF(N128="nulová",J128,0) -> 0 | BJ128: 1 | BK128: =ROUND(I128*H128,2) -> 0 | BL128: 4 | BM128: 32
D129: PP | F129: Hranice námezník betonový | AT129: PP | AU129: 1
D130: P | F130: Poznámka k položce:_x000D_ 5* námezník bílé s černými pruhy, 1* žlutý hraničník_x000D_ Technická specifikace položky odpovídá příslušné cenové soustavě. | AT130: P | AU130: 1
C131: 17 | D131: M | E131: 5962101065 | F131: Návěstidlo výstražný kříž jednokolejný-značka 32a fluorescenční obrys | G131: kus | H131: 10 | J131: =ROUND(I131*H131,2) -> 0 | K131: Sborník UOŽI 01 2023 | N131: základní | P131: =O131*H131 -> 0 | Q131: 0.003 | R131: =Q131*H131 -> 0.03 | S131: 0 | T131: =S131*H131 -> 0 | AR131: 8 | AT131: M | AU131: 1 | AY131: ROZPOCET | BE131: =IF(N131="základní",J131,0) -> 0 | BF131: =IF(N131="snížená",J131,0) -> 0 | BG131: =IF(N131="zákl. přenesená",J131,0) -> 0 | BH131: =IF(N131="sníž. přenesená",J131,0) -> 0 | BI131: =IF(N131="nulová",J131,0) -> 0 | BJ131: 1 | BK131: =ROUND(I131*H131,2) -> 0 | BL131: 4 | BM131: 34
D132: PP | F132: Návěstidlo výstražný kříž jednokolejný-značka 32a fluorescenční obrys | AT132: PP | AU132: 1
D133: P | F133: Poznámka k položce:_x000D_ 5 přejezdů *2_x000D_ Technická specifikace položky odpovídá příslušné cenové soustavě. | AT133: P | AU133: 1
...

Sheet SO 01-10-01 - Tanvald (mi...
AT2: {3915a858-36d7-451b-9a5b-9a30dda99758}
AT3: 2
D4: KRYCÍ LIST SOUPISU PRACÍ | M4: v --- níže se nacházejí doplnkové a pomocné údaje k sestavám --- v | AT4: False
D6: Stavba:
E7: ='Rekapitulace stavby'!K6 -> Oprava trati v úseku Tanvald - Kořenov
D8: Objekt:
E9: SO 01-10-01 - Tanvald (mimo) - Desná (mimo), železniční svršek
D11: KSO: | I11: CC-CZ:
D12: Místo: | I12: Datum: | J12: ='Rekapitulace stavby'!AN8 -> 14. 6. 2023
D14: Zadavatel: | I14: IČ: | J14: =IF('Rekapitulace stavby'!AN10="","",'Rekapitulace stavby'!AN10)
E15: =IF('Rekapitulace stavby'!E11="","",'Rekapitulace stavby'!E11) | I15: DIČ: | J15: =IF('Rekapitulace stavby'!AN11="","",'Rekapitulace stavby'!AN11)
D17: Uchazeč: | I17: IČ: | J17: ='Rekapitulace stavby'!AN13 -> Vyplň údaj
E18: ='Rekapitulace stavby'!E14 -> Vyplň údaj | I18: DIČ: | J18: ='Rekapitulace stavby'!AN14 -> Vyplň údaj
D20: Projektant: | I20: IČ: | J20: =IF('Rekapitulace stavby'!AN16="","",'Rekapitulace stavby'!AN16)
E21: =IF('Rekapitulace stavby'!E17="","",'Rekapitulace stavby'!E17) | I21: DIČ: | J21: =IF('Rekapitulace stavby'!AN17="","",'Rekapitulace stavby'!AN17)
D23: Zpracovatel: | I23: IČ: | J23: =IF('Rekapitulace stavby'!AN19="","",'Rekapitulace stavby'!AN19)
E24: =IF('Rekapitulace stavby'!E20="","",'Rekapitulace stavby'!E20) | I24: DIČ: | J24: =IF('Rekapitulace stavby'!AN20="","",'Rekapitulace stavby'!AN20)
D26: Poznámka:
D30: Cena bez DPH | J30: =ROUND(J83, 2) -> 0
F32: Základ daně | I32: Sazba daně | J32: Výše daně
D33: DPH | E33: základní | F33: =ROUND((SUM(BE83:BE321)), 2) -> 0 | I33: 0.21 | J33: =ROUND(((SUM(BE83:BE321))*I33), 2) -> 0
E34: snížená | F34: =ROUND((SUM(BF83:BF321)), 2) -> 0 | I34: 0.12 | J34: =ROUND(((SUM(BF83:BF321))*I34), 2) -> 0
E35: zákl. přenesená | F35: =ROUND((SUM(BG83:BG321)), 2) -> 0 | I35: 0.21 | J35: =0 -> 0
E36: sníž. přenesená | F36: =ROUND((SUM(BH83:BH321)), 2) -> 0 | I36: 0.12 | J36: =0 -> 0
E37: nulová | F37: =ROUND((SUM(BI83:BI321)), 2) -> 0 | I37: 0 | J37: =0 -> 0
D39: Cena s DPH | G39: v | H39: CZK | J39: =SUM(J30:J37) -> 0
C45: REKAPITULACE ČLENĚNÍ SOUPISU PRACÍ
C47: Stavba:
E48: =E7 -> Oprava trati v úseku Tanvald - Kořenov
C49: Objekt:
E50: =E9 -> SO 01-10-01 - Tanvald (mimo) - Desná (mimo), železniční svršek
C52: Místo: | F52: =F12 | I52: Datum: | J52: =IF(J12="","",J12) -> 14. 6. 2023
C54: Zadavatel: | F54: =E15 | I54: Projektant: | J54: =E21
C55: Uchazeč: | F55: =IF(E18="","",E18) -> Vyplň údaj | I55: Zpracovatel: | J55: =E24
C57: Kód dílu - Popis | J57: Cena celkem [CZK]
C59: Náklady stavby celkem | J59: =J83 -> 0 | AU59: -1
D60: 1 - Dodávky | J60: =J84 -> 0
D61: 2 - Práce | J61: =J165 -> 0
D62: 3 - Doprava | J62: =J268 -> 0
D63: 4 - Poplatky | J63: =J304 -> 0
C70: SOUPIS PRACÍ
C72: Stavba:
E73: =E7 -> Oprava trati v úseku Tanvald - Kořenov
C74: Objekt:
E75: =E9 -> SO 01-10-01 - Tanvald (mimo) - Desná (mimo), železniční svršek
C77: Místo: | F77: =F12 | I77: Datum: | J77: =IF(J12="","",J12) -> 14. 6. 2023
C79: Zadavatel: | F79: =E15 | I79: Projektant: | J79: =E21
C80: Uchazeč: | F80: =IF(E18="","",E18) -> Vyplň údaj | I80: Zpracovatel: | J80: =E24
C82: PČ | D82: Typ | E82: Kód | F82: Popis | G82: MJ | H82: Množství | I82: J.cena [CZK] | J82: Cena celkem [CZK] | K82: Cenová soustava | N82: DPH | O82: J. Nh [h] | P82: Nh celkem [h] | Q82: J. hmotnost [t] | R82: Hmotnost celkem [t] | S82: J. suť [t] | T82: Suť Celkem [t]
C83: Náklady soupisu celkem | J83: =BK83 -> 0 | P83: =P84+P165+P268+P304 -> 0 | R83: =R84+R165+R268+R304 -> 3411.067 | T83: =T84+T165+T268+T304 -> 0 | AT83: D | AU83: -1 | BK83: =BK84+BK165+BK268+BK304 -> 0
D84: D | E84: 1 | F84: Dodávky | J84: =BK84 -> 0 | P84: =SUM(P85:P164) -> 0 | R84: =SUM(R85:R164) -> 3411.067 | T84: =SUM(T85:T164) -> 0 | AR84: 1 | AT84: D | AU84: 0 | AY84: ROZPOCET | BK84: =SUM(BK85:BK164) -> 0
C85: 1 | D85: M | E85: 5955101005 | F85: Kamenivo drcené štěrk frakce 31,5/63 třídy min. BII | G85: t | H85: 2970.203 | J85: =ROUND(I85*H85,2) -> 0 | K85: Sborník UOŽI 01 2023 | N85: základní | P85: =O85*H85 -> 0 | Q85: 1 | R85: =Q85*H85 -> 2970.203 | S85: 0 | T85: =S85*H85 -> 0 | AR85: 8 | AT85: M | AU85: 1 | AY85: ROZPOCET | BE85: =IF(N85="základní",J85,0) -> 0 | BF85: =IF(N85="snížená",J85,0) -> 0 | BG85: =IF(N85="zákl. přenesená",J85,0) -> 0 | BH85: =IF(N85="sníž. přenesená",J85,0) -> 0 | BI85: =IF(N85="nulová",J85,0) -> 0 | BJ85: 1 | BK85: =ROUND(I85*H85,2) -> 0 | BL85: 4 | BM85: 2
D86: PP | F86: Kamenivo drcené štěrk frakce 31,5/63 třídy min. BII | AT86: PP | AU86: 1
D87: P | F87: Poznámka k položce:_x000D_ kolejové lože_x000D_ Technická specifikace položky odpovídá příslušné cenové soustavě. | AT87: P | AU87: 1
C88: 2 | D88: M | E88: R5955101012 | F88: Kamenivo drcené recyklované štěrk frakce 16/32 | G88: t | H88: 175.56 | J88: =ROUND(I88*H88,2) -> 0 | N88: základní | P88: =O88*H88 -> 0 | Q88: 1 | R88: =Q88*H88 -> 175.56 | S88: 0 | T88: =S88*H88 -> 0 | AR88: 8 | AT88: M | AU88: 1 | AY88: ROZPOCET | BE88: =IF(N88="základní",J88,0) -> 0 | BF88: =IF(N88="snížená",J88,0) -> 0 | BG88: =IF(N88="zákl. přenesená",J88,0) -> 0 | BH88: =IF(N88="sníž. přenesená",J88,0) -> 0 | BI88: =IF(N88="nulová",J88,0) -> 0 | BJ88: 1 | BK88: =ROUND(I88*H88,2) -> 0 | BL88: 4 | BM88: 4
D89: PP | F89: Kamenivo drcené recyklované štěrk frakce 16/32 | AT89: PP | AU89: 1
D90: P | F90: Poznámka k položce:_x000D_ zapuštěné kolejové lože - recyklované_x000D_ Technická specifikace položky odpovídá příslušné cenové soustavě. | AT90: P | AU90: 1
D91: VV | F91: (45+35+15+125+40+20)*0,3*1,1*1,9 | H91: 175.56 | AT91: VV | AU91: 1 | AV91: 2 | AW91: True | AX91: 0 | AY91: ROZPOCET
D92: VV | F92: Součet | H92: 175.56 | AT92: VV | AU92: 1 | AV92: 4 | AW92: True | AX92: 1 | AY92: ROZPOCET
C93: 3 | D93: M | E93: 5956134017 | F93: Pražec ocelový tv. Y příčný vystrojené základní S 49 rozevření 650 | G93: kus | H93: 259 | J93: =ROUND(I93*H93,2) -> 0 | K93: Sborník UOŽI 01 2023 | N93: základní | P93: =O93*H93 -> 0 | Q93: 0.143 | R93: =Q93*H93 -> 37.037 | S93: 0 | T93: =S93*H93 -> 0 | AR93: 8 | AT93: M | AU93: 1 | AY93: ROZPOCET | BE93: =IF(N93="základní",J93,0) -> 0 | BF93: =IF(N93="snížená",J93,0) -> 0 | BG93: =IF(N93="zákl. přenesená",J93,0) -> 0 | BH93: =IF(N93="sníž. přenesená",J93,0) -> 0 | BI93: =IF(N93="nulová",J93,0) -> 0 | BJ93: 1 | BK93: =ROUND(I93*H93,2) -> 0 | BL93: 4 | BM93: 6
D94: PP | F94: Pražec ocelový tv. Y příčný vystrojené základní S 49 rozevření 650 | AT94: PP | AU94: 1
D95: P | F95: Poznámka k položce:_x000D_ bez úprav_x000D_ Technická specifikace položky odpovídá příslušné cenové soustavě. | AT95: P | AU95: 1
C96: 4 | D96: M | E96: R5956134017 | F96: Pražec ocelový tv. Y příčný vystrojené základní S 49 rozevření 650 | G96: kus | H96: 454 | J96: =ROUND(I96*H96,2) -> 0 | N96: základní | P96: =O96*H96 -> 0 | Q96: 0.143 | R96: =Q96*H96 -> 64.922 | S96: 0 | T96: =S96*H96 -> 0 | AR96: 8 | AT96: M | AU96: 1 | AY96: ROZPOCET | BE96: =IF(N96="základní",J96,0) -> 0 | BF96: =IF(N96="snížená",J96,0) -> 0 | BG96: =IF(N96="zákl. přenesená",J96,0) -> 0 | BH96: =IF(N96="sníž. přenesená",J96,0) -> 0 | BI96: =IF(N96="nulová",J96,0) -> 0 | BJ96: 1 | BK96: =ROUND(I96*H96,2) -> 0 | BL96: 4 | BM96: 8
D97: PP | F97: Pražec ocelový tv. Y příčný vystrojené základní S 49 rozevření 650 | AT97: PP | AU97: 1
D98: P | F98: Poznámka k položce:_x000D_ držák ozubnice_x000D_ Technická specifikace položky odpovídá příslušné cenové soustavě. | AT98: P | AU98: 1
C99: 5 | D99: M | E99: 5956134022 | F99: Pražec ocelový tv. Y příčný vystrojené přechodové 49 rozevření 650 | G99: kus | H99: 7 | J99: =ROUND(I99*H99,2) -> 0 | K99: Sborník UOŽI 01 2023 | N99: základní | P99: =O99*H99 -> 0 | Q99: 0.143 | R99: =Q99*H99 -> 1.001 | S99: 0 | T99: =S99*H99 -> 0 | AR99: 8 | AT99: M | AU99: 1 | AY99: ROZPOCET | BE99: =IF(N99="základní",J99,0) -> 0 | BF99: =IF(N99="snížená",J99,0) -> 0 | BG99: =IF(N99="zákl. přenesená",J99,0) -> 0 | BH99: =IF(N99="sníž. přenesená",J99,0) -> 0 | BI99: =IF(N99="nulová",J99,0) -> 0 | BJ99: 1 | BK99: =ROUND(I99*H99,2) -> 0 | BL99: 4 | BM99: 10
D100: PP | F100: Pražec ocelový tv. Y příčný vystrojené přechodové 49 rozevření 650 | AT100: PP | AU100: 1
D101: P | F101: Poznámka k položce:_x000D_ bez úprav_x000D_ Technická specifikace položky odpovídá příslušné cenové soustavě. | AT101: P | AU101: 1
C102: 6 | D102: M | E102: R5956134022 | F102: Pražec ocelový tv. Y příčný vystrojené přechodové S 49 pozink rozevření 650 | G102: kus | H102: 1 | J102: =ROUND(I102*H102,2) -> 0 | N102: základní | P102: =O102*H102 -> 0 | Q102: 0.161 | R102: =Q102*H102 -> 0.161 | S102: 0 | T102: =S102*H102 -> 0 | AR102: 8 | AT102: M | AU102: 1 | AY102: ROZPOCET | BE102: =IF(N102="základní",J102,0) -> 0 | BF102: =IF(N102="snížená",J102,0) -> 0 | BG102: =IF(N102="zákl. přenesená",J102,0) -> 0 | BH102: =IF(N102="sníž. přenesená",J102,0) -> 0 | BI102: =IF(N102="nulová",J102,0) -> 0 | BJ102: 1 | BK102: =ROUND(I102*H102,2) -> 0 | BL102: 4 | BM102: 12
D103: PP | F103: Pražec ocelový tv. Y příčný vystrojené přechodové S 49 pozink rozevření 650 | AT103: PP | AU103: 1
D104: P | F104: Poznámka k položce:_x000D_ bez úprav_x000D_ Technická specifikace položky odpovídá příslušné cenové soustavě. | AT104: P | AU104: 1
C105: 7 | D105: M | E105: 5956134027 | F105: Pražec ocelový tv. Y příčný vystrojené základní 49 pozink rozevření 650 | G105: kus | H105: 18 | J105: =ROUND(I105*H105,2) -> 0 | K105: Sborník UOŽI 01 2023 | N105: základní | P105: =O105*H105 -> 0 | Q105: 0.143 | R105: =Q105*H105 -> 2.574 | S105: 0 | T105: =S105*H105 -> 0 | AR105: 8 | AT105: M | AU105: 1 | AY105: ROZPOCET | BE105: =IF(N105="základní",J105,0) -> 0 | BF105: =IF(N105="snížená",J105,0) -> 0 | BG105: =IF(N105="zákl. přenesená",J105,0) -> 0 | BH105: =IF(N105="sníž. přenesená",J105,0) -> 0 | BI105: =IF(N105="nulová",J105,0) -> 0 | BJ105: 1 | BK105: =ROUND(I105*H105,2) -> 0 | BL105: 4 | BM105: 14
D106: PP | F106: Pražec ocelový tv. Y příčný vystrojené základní 49 pozink rozevření 650 | AT106: PP | AU106: 1
D107: P | F107: Poznámka k položce:_x000D_ přejezdy_x000D_ Technická specifikace položky odpovídá příslušné cenové soustavě. | AT107: P | AU107: 1
C108: 8 | D108: M | E108: R5956134027 | F108: Pražec ocelový tv. Y příčný vystrojené základní 49 pozink rozevření 650 | G108: kus | H108: 68 | J108: =ROUND(I108*H108,2) -> 0 | K108: Sborník UOŽI 01 2023 | N108: základní | P108: =O108*H108 -> 0 | Q108: 0.143 | R108: =Q108*H108 -> 9.724 | S108: 0 | T108: =S108*H108 -> 0 | AR108: 8 | AT108: M | AU108: 1 | AY108: ROZPOCET | BE108: =IF(N108="základní",J108,0) -> 0 | BF108: =IF(N108="snížená",J108,0) -> 0 | BG108: =IF(N108="zákl. přenesená",J108,0) -> 0 | BH108: =IF(N108="sníž. přenesená",J108,0) -> 0 | BI108: =IF(N108="nulová",J108,0) -> 0 | BJ108: 1 | BK108: =ROUND(I108*H108,2) -> 0 | BL108: 4 | BM108: 16
D109: PP | F109: Pražec ocelový tv. Y příčný vystrojené základní 49 pozink rozevření 650 | AT109: PP | AU109: 1
D110: P | F110: Poznámka k položce:_x000D_ držák ozubnice; přejezdy, tunely_x000D_ Technická specifikace položky odpovídá příslušné cenové soustavě. | AT110: P | AU110: 1
C111: 9 | D111: M | E111: R5956134027A | F111: Pražec ocelový tv. Y příčný vystrojené základní 49 pozink rozevření 650 | G111: kus | H111: 4 | J111: =ROUND(I111*H111,2) -> 0 | K111: Sborník UOŽI 01 2023 | N111: základní | P111: =O111*H111 -> 0 | Q111: 0.143 | R111: =Q111*H111 -> 0.572 | S111: 0 | T111: =S111*H111 -> 0 | AR111: 8 | AT111: M | AU111: 1 | AY111: ROZPOCET | BE111: =IF(N111="základní",J111,0) -> 0 | BF111: =IF(N111="snížená",J111,0) -> 0 | BG111: =IF(N111="zákl. přenesená",J111,0) -> 0 | BH111: =IF(N111="sníž. přenesená",J111,0) -> 0 | BI111: =IF(N111="nulová",J111,0) -> 0 | BJ111: 1 | BK111: =ROUND(I111*H111,2) -> 0 | BL111: 4 | BM111: 18
D112: PP | F112: Pražec ocelový tv. Y příčný vystrojené základní 49 pozink rozevření 650 | AT112: PP | AU112: 1
D113: P | F113: Poznámka k položce:_x000D_ držák ozubnice; přejezd s ozubnicí, pražec s držákem pro plastbetonovou vnitřní desku_x000D_ Technická specifikace položky odpovídá příslušné cenové soustavě. | AT113: P | AU113: 1
C114: 10 | D114: M | E114: R5959999999A | F114: Ozubnicové tyče vč. spojovacího materiálu | G114: m | H114: 694 | J114: =ROUND(I114*H114,2) -> 0 | N114: základní | P114: =O114*H114 -> 0 | Q114: 0.0521 | R114: =Q114*H114 -> 36.1574 | S114: 0 | T114: =S114*H114 -> 0 | AR114: 8 | AT114: M | AU114: 1 | AY114: ROZPOCET | BE114: =IF(N114="základní",J114,0) -> 0 | BF114: =IF(N114="snížená",J114,0) -> 0 | BG114: =IF(N114="zákl. přenesená",J114,0) -> 0 | BH114: =IF(N114="sníž. přenesená",J114,0) -> 0 | BI114: =IF(N114="nulová",J114,0) -> 0 | BJ114: 1 | BK114: =ROUND(I114*H114,2) -> 0 | BL114: 4 | BM114: 20
D115: PP | F115: Ozubnicové tyče vč. spojovacího materiálu | AT115: PP | AU115: 1
D116: P | F116: Poznámka k položce:_x000D_ vč. dopravy; (27,708-28,402)_x000D_ Technická specifikace položky odpovídá příslušné cenové soustavě. | AT116: P | AU116: 1
C117: 11 | D117: M | E117: R5959999999B | F117: Ozubnicový nájezd vč. spojovacího materiálu | G117: kus | H117: 2 | J117: =ROUND(I117*H117,2) -> 0 | N117: základní | P117: =O117*H117 -> 0 | Q117: 0.568 | R117: =Q117*H117 -> 1.136 | S117: 0 | T117: =S117*H117 -> 0 | AR117: 8 | AT117: M | AU117: 1 | AY117: ROZPOCET | BE117: =IF(N117="základní",J117,0) -> 0 | BF117: =IF(N117="snížená",J117,0) -> 0 | BG117: =IF(N117="zákl. přenesená",J117,0) -> 0 | BH117: =IF(N117="sníž. přenesená",J117,0) -> 0 | BI117: =IF(N117="nulová",J117,0) -> 0 | BJ117: 1 | BK117: =ROUND(I117*H117,2) -> 0 | BL117: 4 | BM117: 22
D118: PP | F118: Ozubnicový nájezd vč. spojovacího materiálu | AT118: PP | AU118: 1
D119: P | F119: Poznámka k položce:_x000D_ vč. dopravy, bez Y pražců (3 ks)_x000D_ Technická specifikace položky odpovídá příslušné cenové soustavě. | AT119: P | AU119: 1
C120: 12 | D120: M | E120: 5957107015 | F120: Kolejnicové pásy R350HT tv.49 E1 délky 120 metrů | G120: kus | H120: 18 | J120: =ROUND(I120*H120,2) -> 0 | K120: Sborník UOŽI 01 2023 | N120: základní | P120: =O120*H120 -> 0 | Q120: 5.9268 | R120: =Q120*H120 -> 106.6824 | S120: 0 | T120: =S120*H120 -> 0 | AR120: 8 | AT120: M | AU120: 1 | AY120: ROZPOCET | BE120: =IF(N120="základní",J120,0) -> 0 | BF120: =IF(N120="snížená",J120,0) -> 0 | BG120: =IF(N120="zákl. přenesená",J120,0) -> 0 | BH120: =IF(N120="sníž. přenesená",J120,0) -> 0 | BI120: =IF(N120="nulová",J120,0) -> 0 | BJ120: 1 | BK120: =ROUND(I120*H120,2) -> 0 | BL120: 4 | BM120: 24
D121: PP | F121: Kolejnicové pásy R350HT tv.49 E1 délky 120 metrů | AT121: PP | AU121: 1
D122: P | F122: Poznámka k položce:_x000D_ dle TZ_x000D_ Technická specifikace položky odpovídá příslušné cenové soustavě. | AT122: P | AU122: 1
D123: VV | F123: 9*2 | H123: 18 | AT123: VV | AU123: 1 | AV123: 2 | AW123: True | AX123: 0 | AY123: ROZPOCET
D124: VV | F124: Součet | H124: 18 | AT124: VV | AU124: 1 | AV124: 4 | AW124: True | AX124: 1 | AY124: ROZPOCET
C125: 13 | D125: M | E125: 5956149001 | F125: Pražec betonový neutrální nevystrojený | G125: m | H125: 10.4 | J125: =ROUND(I125*H125,2) -> 0 | K125: Sborník UOŽI 01 2023 | N125: základní | P125: =O125*H125 -> 0 | Q125: 0.16 | R125: =Q125*H125 -> 1.664 | S125: 0 | T125: =S125*H125 -> 0 | AR125: 8 | AT125: M | AU125: 1 | AY125: ROZPOCET | BE125: =IF(N125="základní",J125,0) -> 0 | BF125: =IF(N125="snížená",J125,0) -> 0 | BG125: =IF(N125="zákl. přenesená",J125,0) -> 0 | BH125: =IF(N125="sníž. přenesená",J125,0) -> 0 | BI125: =IF(N125="nulová",J125,0) -> 0 | BJ125: 1 | BK125: =ROUND(I125*H125,2) -> 0 | BL125: 4 | BM125: 26
D126: PP | F126: Pražec betonový neutrální nevystrojený | AT126: PP | AU126: 1
D127: P | F127: Poznámka k položce:_x000D_ nevystrojený (28,654-28,657);2,6x4; _x000D_ Technická specifikace položky odpovídá příslušné cenové soustavě. | AT127: P | AU127: 1
C128: 14 | D128: M | E128: 5958128005 | F128: Komplety Skl 24 (šroub RS 0, matice M 22, podložka Uls 6) | G128: kus | H128: 16 | J128: =ROUND(I128*H128,2) -> 0 | K128: Sborník UOŽI 01 2023 | N128: základní | P128: =O128*H128 -> 0 | Q128: 0.00111 | R128: =Q128*H128 -> 0.01776 | S128: 0 | T128: =S128*H128 -> 0 | AR128: 8 | AT128: M | AU128: 1 | AY128: ROZPOCET | BE128: =IF(N128="základní",J128,0) -> 0 | BF128: =IF(N128="snížená",J128,0) -> 0 | BG128: =IF(N128="zákl. přenesená",J128,0) -> 0 | BH128: =IF(N128="sníž. přenesená",J128,0) -> 0 | BI128: =IF(N128="nulová",J128,0) -> 0 | BJ128: 1 | BK128: =ROUND(I128*H128,2) -> 0 | BL128: 4 | BM128: 28
D129: PP | F129: Komplety Skl 24 (šroub RS 0, matice M 22, podložka Uls 6) | AT129: PP | AU129: 1
D130: P | F130: Poznámka k položce:_x000D_ vč. SKL 24, neutrální pražce_x000D_ Technická specifikace položky odpovídá příslušné cenové soustavě. | AT130: P | AU130: 1
D131: VV | F131: 4*4 | H131: 16 | AT131: VV | AU131: 1 | AV131: 2 | AW131: True | AX131: 0 | AY131: ROZPOCET
D132: VV | F132: Součet | H132: 16 | AT132: VV | AU132: 1 | AV132: 4 | AW132: True | AX132: 1 | AY132: ROZPOCET
C133: 15 | D133: M | E133: 5958140000 | F133: Podkladnice žebrová tv. S4 | G133: kus | H133: 8 | J133: =ROUND(I133*H133,2) -> 0 | K133: Sborník UOŽI 01 2023 | N133: základní | P133: =O133*H133 -> 0 | Q133: 0.00852 | R133: =Q133*H133 -> 0.06816 | S133: 0 | T133: =S133*H133 -> 0 | AR133: 8 | AT133: M | AU133: 1 | AY133: ROZPOCET | BE133: =IF(N133="základní",J133,0) -> 0 | BF133: =IF(N133="snížená",J133,0) -> 0 | BG133: =IF(N133="zákl. přenesená",J133,0) -> 0 | BH133: =IF(N133="sníž. přenesená",J133,0) -> 0 | BI133: =IF(N133="nulová",J133,0) -> 0 | BJ133: 1 | BK133: =ROUND(I133*H133,2) -> 0 | BL133: 4 | BM133: 30
...

Sheet SO 01-11-01 - Tanvald (mi...
AT2: {55c6854a-d207-4ca3-9197-853502dcc7a0}
AT3: 2
D4: KRYCÍ LIST SOUPISU PRACÍ | M4: v --- níže se nacházejí doplnkové a pomocné údaje k sestavám --- v | AT4: False
D6: Stavba:
E7: ='Rekapitulace stavby'!K6 -> Oprava trati v úseku Tanvald - Kořenov
D8: Objekt:
E9: SO 01-11-01 - Tanvald (mimo) - Desná (mimo), železniční spodek
D11: KSO: | I11: CC-CZ:
D12: Místo: | I12: Datum: | J12: ='Rekapitulace stavby'!AN8 -> 14. 6. 2023
D14: Zadavatel: | I14: IČ: | J14: =IF('Rekapitulace stavby'!AN10="","",'Rekapitulace stavby'!AN10)
E15: =IF('Rekapitulace stavby'!E11="","",'Rekapitulace stavby'!E11) | I15: DIČ: | J15: =IF('Rekapitulace stavby'!AN11="","",'Rekapitulace stavby'!AN11)
D17: Uchazeč: | I17: IČ: | J17: ='Rekapitulace stavby'!AN13 -> Vyplň údaj
E18: ='Rekapitulace stavby'!E14 -> Vyplň údaj | I18: DIČ: | J18: ='Rekapitulace stavby'!AN14 -> Vyplň údaj
D20: Projektant: | I20: IČ: | J20: =IF('Rekapitulace stavby'!AN16="","",'Rekapitulace stavby'!AN16)
E21: =IF('Rekapitulace stavby'!E17="","",'Rekapitulace stavby'!E17) | I21: DIČ: | J21: =IF('Rekapitulace stavby'!AN17="","",'Rekapitulace stavby'!AN17)
D23: Zpracovatel: | I23: IČ: | J23: =IF('Rekapitulace stavby'!AN19="","",'Rekapitulace stavby'!AN19)
E24: =IF('Rekapitulace stavby'!E20="","",'Rekapitulace stavby'!E20) | I24: DIČ: | J24: =IF('Rekapitulace stavby'!AN20="","",'Rekapitulace stavby'!AN20)
D26: Poznámka:
D30: Cena bez DPH | J30: =ROUND(J86, 2) -> 0
F32: Základ daně | I32: Sazba daně | J32: Výše daně
D33: DPH | E33: základní | F33: =ROUND((SUM(BE86:BE525)), 2) -> 0 | I33: 0.21 | J33: =ROUND(((SUM(BE86:BE525))*I33), 2) -> 0
E34: snížená | F34: =ROUND((SUM(BF86:BF525)), 2) -> 0 | I34: 0.12 | J34: =ROUND(((SUM(BF86:BF525))*I34), 2) -> 0
E35: zákl. přenesená | F35: =ROUND((SUM(BG86:BG525)), 2) -> 0 | I35: 0.21 | J35: =0 -> 0
E36: sníž. přenesená | F36: =ROUND((SUM(BH86:BH525)), 2) -> 0 | I36: 0.12 | J36: =0 -> 0
E37: nulová | F37: =ROUND((SUM(BI86:BI525)), 2) -> 0 | I37: 0 | J37: =0 -> 0
D39: Cena s DPH | G39: v | H39: CZK | J39: =SUM(J30:J37) -> 0
C45: REKAPITULACE ČLENĚNÍ SOUPISU PRACÍ
C47: Stavba:
E48: =E7 -> Oprava trati v úseku Tanvald - Kořenov
C49: Objekt:
E50: =E9 -> SO 01-11-01 - Tanvald (mimo) - Desná (mimo), železniční spodek
C52: Místo: | F52: =F12 | I52: Datum: | J52: =IF(J12="","",J12) -> 14. 6. 2023
C54: Zadavatel: | F54: =E15 | I54: Projektant: | J54: =E21
C55: Uchazeč: | F55: =IF(E18="","",E18) -> Vyplň údaj | I55: Zpracovatel: | J55: =E24
C57: Kód dílu - Popis | J57: Cena celkem [CZK]
C59: Náklady stavby celkem | J59: =J86 -> 0 | AU59: -1
D60: 1 - Dodávky | J60: =J87 -> 0
D61: 2 - Práce | J61: =J162 -> 0
D62: 3 - Doprava | J62: =J252 -> 0
D63: 4 - Poplatky | J63: =J272 -> 0
D64: 5 - Zajištění skalních svahů úsek č.1 km 27,844 - 27,872 | J64: =J276 -> 0
D65: 6 - Zajištění skalních svahů úsek č.2 km 28,025 - 28,045 | J65: =J370 -> 0
D66: 7 - Zajištění skalních svahů úsek č.3 km 28,080 - 28,155 | J66: =J448 -> 0
C73: SOUPIS PRACÍ
C75: Stavba:
E76: =E7 -> Oprava trati v úseku Tanvald - Kořenov
C77: Objekt:
E78: =E9 -> SO 01-11-01 - Tanvald (mimo) - Desná (mimo), železniční spodek
C80: Místo: | F80: =F12 | I80: Datum: | J80: =IF(J12="","",J12) -> 14. 6. 2023
C82: Zadavatel: | F82: =E15 | I82: Projektant: | J82: =E21
C83: Uchazeč: | F83: =IF(E18="","",E18) -> Vyplň údaj | I83: Zpracovatel: | J83: =E24
C85: PČ | D85: Typ | E85: Kód | F85: Popis | G85: MJ | H85: Množství | I85: J.cena [CZK] | J85: Cena celkem [CZK] | K85: Cenová soustava | N85: DPH | O85: J. Nh [h] | P85: Nh celkem [h] | Q85: J. hmotnost [t] | R85: Hmotnost celkem [t] | S85: J. suť [t] | T85: Suť Celkem [t]
C86: Náklady soupisu celkem | J86: =BK86 -> 0 | P86: =P87+P162+P252+P272+P276+P370+P448 -> 0 | R86: =R87+R162+R252+R272+R276+R370+R448 -> 1571.3514 | T86: =T87+T162+T252+T272+T276+T370+T448 -> 0.336 | AT86: D | AU86: -1 | BK86: =BK87+BK162+BK252+BK272+BK276+BK370+BK448 -> 0
D87: D | E87: 1 | F87: Dodávky | J87: =BK87 -> 0 | P87: =SUM(P88:P161) -> 0 | R87: =SUM(R88:R161) -> 1566.8831 | T87: =SUM(T88:T161) -> 0 | AR87: 1 | AT87: D | AU87: 0 | AY87: ROZPOCET | BK87: =SUM(BK88:BK161) -> 0
C88: 1 | D88: M | E88: 5955101012 | F88: Kamenivo drcené štěrk frakce 16/32 | G88: t | H88: 199.5 | J88: =ROUND(I88*H88,2) -> 0 | K88: Sborník UOŽI 01 2023 | N88: základní | P88: =O88*H88 -> 0 | Q88: 1 | R88: =Q88*H88 -> 199.5 | S88: 0 | T88: =S88*H88 -> 0 | AR88: 8 | AT88: M | AU88: 1 | AY88: ROZPOCET | BE88: =IF(N88="základní",J88,0) -> 0 | BF88: =IF(N88="snížená",J88,0) -> 0 | BG88: =IF(N88="zákl. přenesená",J88,0) -> 0 | BH88: =IF(N88="sníž. přenesená",J88,0) -> 0 | BI88: =IF(N88="nulová",J88,0) -> 0 | BJ88: 1 | BK88: =ROUND(I88*H88,2) -> 0 | BL88: 4 | BM88: 2
D89: PP | F89: Kamenivo drcené štěrk frakce 16/32 | AT89: PP | AU89: 1
D90: P | F90: Poznámka k položce:_x000D_ trativod a vsakovací žebro_x000D_ Technická specifikace položky odpovídá příslušné cenové soustavě. | AT90: P | AU90: 1
C91: 114 | D91: M | E91: 5955101005 | F91: Kamenivo drcené štěrk frakce 31,5/63 třídy min. BII | G91: t | H91: 163.609 | J91: =ROUND(I91*H91,2) -> 0 | K91: Sborník UOŽI 01 2023 | N91: základní | P91: =O91*H91 -> 0 | Q91: 1 | R91: =Q91*H91 -> 163.609 | S91: 0 | T91: =S91*H91 -> 0 | AR91: 8 | AT91: M | AU91: 1 | AY91: ROZPOCET | BE91: =IF(N91="základní",J91,0) -> 0 | BF91: =IF(N91="snížená",J91,0) -> 0 | BG91: =IF(N91="zákl. přenesená",J91,0) -> 0 | BH91: =IF(N91="sníž. přenesená",J91,0) -> 0 | BI91: =IF(N91="nulová",J91,0) -> 0 | BJ91: 1 | BK91: =ROUND(I91*H91,2) -> 0 | BL91: 4 | BM91: 695890823
D92: PP | F92: Kamenivo drcené štěrk frakce 31,5/63 třídy min. BII | AT92: PP | AU92: 1
D93: VV | F93: 109 * 0,79 * 1,9 | H93: 163.609 | AT93: VV | AU93: 1 | AV93: 2 | AW93: True | AX93: 1 | AY93: ROZPOCET
C94: 3 | D94: M | E94: 5955101020 | F94: Kamenivo drcené štěrkodrť frakce 0/32 | G94: t | H94: 664.463 | J94: =ROUND(I94*H94,2) -> 0 | K94: Sborník UOŽI 01 2023 | N94: základní | P94: =O94*H94 -> 0 | Q94: 1 | R94: =Q94*H94 -> 664.463 | S94: 0 | T94: =S94*H94 -> 0 | AR94: 8 | AT94: M | AU94: 1 | AY94: ROZPOCET | BE94: =IF(N94="základní",J94,0) -> 0 | BF94: =IF(N94="snížená",J94,0) -> 0 | BG94: =IF(N94="zákl. přenesená",J94,0) -> 0 | BH94: =IF(N94="sníž. přenesená",J94,0) -> 0 | BI94: =IF(N94="nulová",J94,0) -> 0 | BJ94: 1 | BK94: =ROUND(I94*H94,2) -> 0 | BL94: 4 | BM94: 6
D95: PP | F95: Kamenivo drcené štěrkodrť frakce 0/32 | AT95: PP | AU95: 1
D96: P | F96: Poznámka k položce:_x000D_ podsyp pod pod.drenáží, trativody a sv. potrubí, sanace_x000D_ Technická specifikace položky odpovídá příslušné cenové soustavě. | AT96: P | AU96: 1
D97: VV | F97: ((221*0,05*0,5)+(162*0,1)+(786*0,2)+(210*0,3)+(190*0,4))*1,1*1,9 | H97: 664.463 | AT97: VV | AU97: 1 | AV97: 2 | AW97: True | AX97: 0 | AY97: ROZPOCET
D98: VV | F98: Součet | H98: 664.463 | AT98: VV | AU98: 1 | AV98: 4 | AW98: True | AX98: 1 | AY98: ROZPOCET
C99: 4 | D99: M | E99: 58935150 | F99: směs stmelená cementem SC C 8/10 (kamenivo zpevněné cementem KSC I) | G99: m3 | H99: 95.4 | J99: =ROUND(I99*H99,2) -> 0 | K99: CS ÚRS 2023 01 | N99: základní | P99: =O99*H99 -> 0 | Q99: 2.529 | R99: =Q99*H99 -> 241.2666 | S99: 0 | T99: =S99*H99 -> 0 | AR99: 8 | AT99: M | AU99: 1 | AY99: ROZPOCET | BE99: =IF(N99="základní",J99,0) -> 0 | BF99: =IF(N99="snížená",J99,0) -> 0 | BG99: =IF(N99="zákl. přenesená",J99,0) -> 0 | BH99: =IF(N99="sníž. přenesená",J99,0) -> 0 | BI99: =IF(N99="nulová",J99,0) -> 0 | BJ99: 1 | BK99: =ROUND(I99*H99,2) -> 0 | BL99: 4 | BM99: 8
D100: PP | F100: směs stmelená cementem SC C 8/10 (kamenivo zpevněné cementem KSC I) | AT100: PP | AU100: 1
D101: P | F101: Poznámka k položce:_x000D_ sanace_x000D_ Technická specifikace položky odpovídá příslušné cenové soustavě. | AT101: P | AU101: 1
D102: VV | F102: (18+15+20)*6*0,3 | H102: 95.4 | AT102: VV | AU102: 1 | AV102: 2 | AW102: True | AX102: 0 | AY102: ROZPOCET
D103: VV | F103: Součet | H103: 95.4 | AT103: VV | AU103: 1 | AV103: 4 | AW103: True | AX103: 1 | AY103: ROZPOCET
C104: 5 | D104: M | E104: 5955101045 | F104: Lomový kámen tříděný pro rovnaniny | G104: t | H104: 10.56 | J104: =ROUND(I104*H104,2) -> 0 | K104: Sborník UOŽI 01 2023 | N104: základní | P104: =O104*H104 -> 0 | Q104: 1 | R104: =Q104*H104 -> 10.56 | S104: 0 | T104: =S104*H104 -> 0 | AR104: 8 | AT104: M | AU104: 1 | AY104: ROZPOCET | BE104: =IF(N104="základní",J104,0) -> 0 | BF104: =IF(N104="snížená",J104,0) -> 0 | BG104: =IF(N104="zákl. přenesená",J104,0) -> 0 | BH104: =IF(N104="sníž. přenesená",J104,0) -> 0 | BI104: =IF(N104="nulová",J104,0) -> 0 | BJ104: 1 | BK104: =ROUND(I104*H104,2) -> 0 | BL104: 4 | BM104: 10
D105: PP | F105: Lomový kámen tříděný pro rovnaniny | AT105: PP | AU105: 1
D106: P | F106: Poznámka k položce:_x000D_ odláždění zpevněného příkopu_x000D_ Technická specifikace položky odpovídá příslušné cenové soustavě. | AT106: P | AU106: 1
C107: 6 | D107: M | E107: R5964107000 | F107: železobetonová trouba DN 250 | G107: m | H107: 9 | J107: =ROUND(I107*H107,2) -> 0 | N107: základní | P107: =O107*H107 -> 0 | Q107: 0.5 | R107: =Q107*H107 -> 4.5 | S107: 0 | T107: =S107*H107 -> 0 | AR107: 8 | AT107: M | AU107: 1 | AY107: ROZPOCET | BE107: =IF(N107="základní",J107,0) -> 0 | BF107: =IF(N107="snížená",J107,0) -> 0 | BG107: =IF(N107="zákl. přenesená",J107,0) -> 0 | BH107: =IF(N107="sníž. přenesená",J107,0) -> 0 | BI107: =IF(N107="nulová",J107,0) -> 0 | BJ107: 1 | BK107: =ROUND(I107*H107,2) -> 0 | BL107: 4 | BM107: 12
D108: PP | F108: železobetonová trouba DN 250 | AT108: PP | AU108: 1
D109: P | F109: Poznámka k položce:_x000D_ km 27,844 - 27,853 | AT109: P | AU109: 1
C110: 7 | D110: M | E110: 5964104005 | F110: Kanalizační díly plastové trubka hladká DN 200 | G110: m | H110: 2.7 | J110: =ROUND(I110*H110,2) -> 0 | K110: Sborník UOŽI 01 2023 | N110: základní | P110: =O110*H110 -> 0 | Q110: 0.00418 | R110: =Q110*H110 -> 0.011286 | S110: 0 | T110: =S110*H110 -> 0 | AR110: 8 | AT110: M | AU110: 1 | AY110: ROZPOCET | BE110: =IF(N110="základní",J110,0) -> 0 | BF110: =IF(N110="snížená",J110,0) -> 0 | BG110: =IF(N110="zákl. přenesená",J110,0) -> 0 | BH110: =IF(N110="sníž. přenesená",J110,0) -> 0 | BI110: =IF(N110="nulová",J110,0) -> 0 | BJ110: 1 | BK110: =ROUND(I110*H110,2) -> 0 | BL110: 4 | BM110: 14
D111: PP | F111: Kanalizační díly plastové trubka hladká DN 200 | AT111: PP | AU111: 1
D112: P | F112: Poznámka k položce:_x000D_ svodné potrubí šachty v km 27,653 | AT112: P | AU112: 1
C113: 8 | D113: M | E113: 5964104010 | F113: Kanalizační díly plastové trubka hladká DN 250 | G113: m | H113: 2 | J113: =ROUND(I113*H113,2) -> 0 | K113: Sborník UOŽI 01 2023 | N113: základní | P113: =O113*H113 -> 0 | Q113: 0.00713 | R113: =Q113*H113 -> 0.01426 | S113: 0 | T113: =S113*H113 -> 0 | AR113: 8 | AT113: M | AU113: 1 | AY113: ROZPOCET | BE113: =IF(N113="základní",J113,0) -> 0 | BF113: =IF(N113="snížená",J113,0) -> 0 | BG113: =IF(N113="zákl. přenesená",J113,0) -> 0 | BH113: =IF(N113="sníž. přenesená",J113,0) -> 0 | BI113: =IF(N113="nulová",J113,0) -> 0 | BJ113: 1 | BK113: =ROUND(I113*H113,2) -> 0 | BL113: 4 | BM113: 16
D114: PP | F114: Kanalizační díly plastové trubka hladká DN 250 | AT114: PP | AU114: 1
D115: P | F115: Poznámka k položce:_x000D_ svodné potrubí km 28,630 - 28,632 | AT115: P | AU115: 1
C116: 9 | D116: M | E116: R5964125010 | F116: Mříž odvodňovací ocelová | G116: ks | H116: 2 | J116: =ROUND(I116*H116,2) -> 0 | N116: základní | P116: =O116*H116 -> 0 | Q116: 0.01 | R116: =Q116*H116 -> 0.02 | S116: 0 | T116: =S116*H116 -> 0 | AR116: 8 | AT116: M | AU116: 1 | AY116: ROZPOCET | BE116: =IF(N116="základní",J116,0) -> 0 | BF116: =IF(N116="snížená",J116,0) -> 0 | BG116: =IF(N116="zákl. přenesená",J116,0) -> 0 | BH116: =IF(N116="sníž. přenesená",J116,0) -> 0 | BI116: =IF(N116="nulová",J116,0) -> 0 | BJ116: 1 | BK116: =ROUND(I116*H116,2) -> 0 | BL116: 4 | BM116: 18
D117: PP | F117: Mříž odvodňovací ocelová | AT117: PP | AU117: 1
D118: P | F118: Poznámka k položce:_x000D_ doplnění horských vpustí | AT118: P | AU118: 1
