Workbook

Sheet Rekapitulace stavby
A1: Export Komplet | BA1: 2.0 | BT1: False | BU1: False | BV1: {b47ba032-cfdc-4d40-8a06-ef41372b6586}
AR2: >> skryté sloupce << | BS2: 0,01 | BT2: 21
BS3: 0,01 | BT3: 15
D4: REKAPITULACE STAVBY | AS4: v --- níže se nacházejí doplnkové a pomocné údaje k sestavám --- v | BE4: Návod na vyplnění | BS4: 0,001
D5: Kód: | K5: 005 | BE5: Měnit lze pouze buňky se žlutým podbarvením!_x000D_ _x000D_ 1) na prvním listu Rekapitulace stavby vyplňte v sestavě_x000D_ _x000D_ a) Souhrnný list_x000D_ - údaje o Uchazeči_x000D_ (přenesou se do ostatních sestav i v jiných listech)_x000D_ _x000D_ b) Rekapitulace objektů_x000D_ - potřebné Ostatní náklady_x000D_ _x000D_ 2) na vybraných listech vyplňte v sestavě_x000D_ _x000D_ a) Krycí list_x000D_ - údaje o Uchazeči, pokud se liší od údajů o Uchazeči na Souhrnném listu_x000D_ (údaje se přenesou do ostatních sestav v daném listu)_x000D_ _x000D_ b) Rekapitulace rozpočtu_x000D_ - potřebné Ostatní náklady_x000D_ _x000D_ c) Celkové náklady za stavbu_x000D_ - ceny u položek_x000D_ - množství, pokud má žluté podbarvení_x000D_ - a v případě potřeby poznámku (ta je ve skrytém sloupci) | BS5: 0,01
D6: Stavba: | K6: Oprava trati v úseku Vranovice - Pohořelice - přejezdy v km 5,688 a 0,572 | BS6: 0,01
D7: KSO: | AK7: CC-CZ: | BS7: 0,01
D8: Místo: | K8: Vranovice - Pohořelice | AK8: Datum: | AN8: 12. 4. 2021 | BS8: 0,01
BS9: 0,01
D10: Zadavatel: | AK10: IČ: | BS10: 0,01
AK11: DIČ: | BS11: 0,01
BS12: 0,01
D13: Uchazeč: | AK13: IČ: | AN13: Vyplň údaj | BS13: 0,01
E14: Vyplň údaj | AK14: DIČ: | AN14: Vyplň údaj | BS14: 0,01
BS15: False
D16: Projektant: | AK16: IČ: | BS16: False
AK17: DIČ: | BS17: True
BS18: 0,01
D19: Zpracovatel: | AK19: IČ: | BS19: 0,01
E20: Ondřej Bozek | AK20: DIČ: | BS20: False
D22: Poznámka:
D26: Cena bez DPH | AK26: =ROUND(AG94,2) -> 0
L28: Sazba daně | W28: Základ daně | AK28: Výše daně
D29: DPH | F29: základní | L29: 0.21 | W29: =ROUND(AZ94, 2) -> 0 | AK29: =ROUND(AV94, 2) -> 0
F30: snížená | L30: 0.15 | W30: =ROUND(BA94, 2) -> 0 | AK30: =ROUND(AW94, 2) -> 0
F31: zákl. přenesená | L31: 0.21 | W31: =ROUND(BB94, 2) -> 0 | AK31: 0
F32: sníž. přenesená | L32: 0.15 | W32: =ROUND(BC94, 2) -> 0 | AK32: 0
F33: nulová | L33: 0 | W33: =ROUND(BD94, 2) -> 0 | AK33: 0
D35: Cena s DPH | T35: v | X35: CZK | AK35: =SUM(AK26:AK33) -> 0
D49: Projektant | AH49: Zpracovatel
D60: Datum a podpis: | V60: Razítko | AH60: Datum a podpis: | AM60: Razítko
D64: Objednavatel | AH64: Uchazeč
D75: Datum a podpis: | V75: Razítko | AH75: Datum a podpis: | AM75: Razítko
C82: REKAPITULACE OBJEKTŮ STAVBY A SOUPISŮ PRACÍ
C84: Kód: | L84: =K5 -> 005
C85: Stavba: | L85: =K6 -> Oprava trati v úseku Vranovice - Pohořelice - přejezdy v km 5,688 a 0,572
C87: Místo: | L87: =IF(K8="","",K8) -> Vranovice - Pohořelice | AI87: Datum: | AM87: =IF(AN8= "","",AN8) -> 12. 4. 2021
C89: Zadavatel: | L89: =IF(E11= "","",E11) | AI89: Projektant: | AM89: =IF(E17="","",E17) | AS89: Informatívní údaje z listů zakázek
C90: Uchazeč: | L90: =IF(E14= "Vyplň údaj","",E14) | AI90: Zpracovatel: | AM90: =IF(E20="","",E20) -> Ondřej Bozek
C92: Kód | I92: Popis | AG92: Cena bez DPH [CZK] | AN92: Cena s DPH [CZK] | AQ92: Typ | AS92: z toho Ostat._x000D_ náklady [CZK] | AT92: DPH [CZK] | AU92: Normohodiny [h] | AV92: DPH základní [CZK] | AW92: DPH snížená [CZK] | AX92: DPH základní přenesená_x000D_ [CZK] | AY92: DPH snížená přenesená_x000D_ [CZK] | AZ92: Základna_x000D_ DPH základní | BA92: Základna_x000D_ DPH snížená | BB92: Základna_x000D_ DPH zákl. přenesená | BC92: Základna_x000D_ DPH sníž. přenesená | BD92: Základna_x000D_ DPH nulová
...

Sheet SO-01.1 - P6995
L2: >> skryté sloupce << | AT2: {6633a6df-14a4-40f2-b63a-4dfd7af28955}
AT3: 2
D4: KRYCÍ LIST SOUPISU PRACÍ | M4: v --- níže se nacházejí doplnkové a pomocné údaje k sestavám --- v | AT4: False
D6: Stavba:
E7: ='Rekapitulace stavby'!K6 -> Oprava trati v úseku Vranovice - Pohořelice - přejezdy v km 5,688 a 0,572
D8: Objekt:
E9: PS-01 - Žel. svršek
D10: Soupis:
E11: SO-01.1 - P6995
D13: KSO: | I13: CC-CZ:
D14: Místo: | F14: Vranovice - Pohořelice | I14: Datum: | J14: ='Rekapitulace stavby'!AN8 -> 12. 4. 2021
D16: Zadavatel: | I16: IČ: | J16: =IF('Rekapitulace stavby'!AN10="","",'Rekapitulace stavby'!AN10)
E17: =IF('Rekapitulace stavby'!E11="","",'Rekapitulace stavby'!E11) | I17: DIČ: | J17: =IF('Rekapitulace stavby'!AN11="","",'Rekapitulace stavby'!AN11)
D19: Uchazeč: | I19: IČ: | J19: ='Rekapitulace stavby'!AN13 -> Vyplň údaj
E20: ='Rekapitulace stavby'!E14 -> Vyplň údaj | I20: DIČ: | J20: ='Rekapitulace stavby'!AN14 -> Vyplň údaj
D22: Projektant: | I22: IČ: | J22: =IF('Rekapitulace stavby'!AN16="","",'Rekapitulace stavby'!AN16)
E23: =IF('Rekapitulace stavby'!E17="","",'Rekapitulace stavby'!E17) | I23: DIČ: | J23: =IF('Rekapitulace stavby'!AN17="","",'Rekapitulace stavby'!AN17)
D25: Zpracovatel: | I25: IČ:
E26: Ondřej Bozek | I26: DIČ:
D28: Poznámka:
D32: Cena bez DPH | J32: =ROUND(J122, 2) -> 0
F34: Základ daně | I34: Sazba daně | J34: Výše daně
D35: DPH | E35: základní | F35: =ROUND((SUM(BE122:BE242)), 2) -> 0 | I35: 0.21 | J35: =ROUND(((SUM(BE122:BE242))*I35), 2) -> 0
E36: snížená | F36: =ROUND((SUM(BF122:BF242)), 2) -> 0 | I36: 0.15 | J36: =ROUND(((SUM(BF122:BF242))*I36), 2) -> 0
E37: zákl. přenesená | F37: =ROUND((SUM(BG122:BG242)), 2) -> 0 | I37: 0.21 | J37: =0 -> 0
E38: sníž. přenesená | F38: =ROUND((SUM(BH122:BH242)), 2) -> 0 | I38: 0.15 | J38: =0 -> 0
E39: nulová | F39: =ROUND((SUM(BI122:BI242)), 2) -> 0 | I39: 0 | J39: =0 -> 0
D41: Cena s DPH | G41: v | H41: CZK | J41: =SUM(J32:J39) -> 0
D50: Projektant | G50: Zpracovatel
D61: Datum a podpis: | F61: Razítko | G61: Datum a podpis: | J61: Razítko
D65: Objednavatel | G65: Uchazeč
D76: Datum a podpis: | F76: Razítko | G76: Datum a podpis: | J76: Razítko
C82: REKAPITULACE ČLENĚNÍ SOUPISU PRACÍ
C84: Stavba:
E85: =E7 -> Oprava trati v úseku Vranovice - Pohořelice - přejezdy v km 5,688 a 0,572
C86: Objekt:
E87: PS-01 - Žel. svršek
C88: Soupis:
E89: =E11 -> SO-01.1 - P6995
C91: Místo: | F91: =F14 -> Vranovice - Pohořelice | I91: Datum: | J91: =IF(J14="","",J14) -> 12. 4. 2021
...

Sheet SO-01.2 - P6988
L2: >> skryté sloupce << | AT2: {a2c5d7a8-468b-4121-adfc-4f4dcff0eb22}
AT3: 2
D4: KRYCÍ LIST SOUPISU PRACÍ | M4: v --- níže se nacházejí doplnkové a pomocné údaje k sestavám --- v | AT4: False
D6: Stavba:
E7: ='Rekapitulace stavby'!K6 -> Oprava trati v úseku Vranovice - Pohořelice - přejezdy v km 5,688 a 0,572
D8: Objekt:
E9: PS-01 - Žel. svršek
D10: Soupis:
E11: SO-01.2 - P6988
D13: KSO: | I13: CC-CZ:
D14: Místo: | F14: Vranovice - Pohořelice | I14: Datum: | J14: ='Rekapitulace stavby'!AN8 -> 12. 4. 2021
D16: Zadavatel: | I16: IČ: | J16: =IF('Rekapitulace stavby'!AN10="","",'Rekapitulace stavby'!AN10)
E17: =IF('Rekapitulace stavby'!E11="","",'Rekapitulace stavby'!E11) | I17: DIČ: | J17: =IF('Rekapitulace stavby'!AN11="","",'Rekapitulace stavby'!AN11)
D19: Uchazeč: | I19: IČ: | J19: ='Rekapitulace stavby'!AN13 -> Vyplň údaj
E20: ='Rekapitulace stavby'!E14 -> Vyplň údaj | I20: DIČ: | J20: ='Rekapitulace stavby'!AN14 -> Vyplň údaj
D22: Projektant: | I22: IČ: | J22: =IF('Rekapitulace stavby'!AN16="","",'Rekapitulace stavby'!AN16)
E23: =IF('Rekapitulace stavby'!E17="","",'Rekapitulace stavby'!E17) | I23: DIČ: | J23: =IF('Rekapitulace stavby'!AN17="","",'Rekapitulace stavby'!AN17)
D25: Zpracovatel: | I25: IČ:
E26: Ondřej Bozek | I26: DIČ:
D28: Poznámka:
D32: Cena bez DPH | J32: =ROUND(J122, 2) -> 0
F34: Základ daně | I34: Sazba daně | J34: Výše daně
D35: DPH | E35: základní | F35: =ROUND((SUM(BE122:BE245)), 2) -> 0 | I35: 0.21 | J35: =ROUND(((SUM(BE122:BE245))*I35), 2) -> 0
E36: snížená | F36: =ROUND((SUM(BF122:BF245)), 2) -> 0 | I36: 0.15 | J36: =ROUND(((SUM(BF122:BF245))*I36), 2) -> 0
E37: zákl. přenesená | F37: =ROUND((SUM(BG122:BG245)), 2) -> 0 | I37: 0.21 | J37: =0 -> 0
E38: sníž. přenesená | F38: =ROUND((SUM(BH122:BH245)), 2) -> 0 | I38: 0.15 | J38: =0 -> 0
E39: nulová | F39: =ROUND((SUM(BI122:BI245)), 2) -> 0 | I39: 0 | J39: =0 -> 0
D41: Cena s DPH | G41: v | H41: CZK | J41: =SUM(J32:J39) -> 0
D50: Projektant | G50: Zpracovatel
D61: Datum a podpis: | F61: Razítko | G61: Datum a podpis: | J61: Razítko
D65: Objednavatel | G65: Uchazeč
D76: Datum a podpis: | F76: Razítko | G76: Datum a podpis: | J76: Razítko
C82: REKAPITULACE ČLENĚNÍ SOUPISU PRACÍ
C84: Stavba:
E85: =E7 -> Oprava trati v úseku Vranovice - Pohořelice - přejezdy v km 5,688 a 0,572
C86: Objekt:
E87: PS-01 - Žel. svršek
C88: Soupis:
E89: =E11 -> SO-01.2 - P6988
C91: Místo: | F91: =F14 -> Vranovice - Pohořelice | I91: Datum: | J91: =IF(J14="","",J14) -> 12. 4. 2021
...

Sheet SO-02.1 - Manipulace, pře...
L2: >> skryté sloupce << | AT2: {5badf273-d92e-4199-b1e1-80c0230cfd38}
AT3: 2
D4: KRYCÍ LIST SOUPISU PRACÍ | M4: v --- níže se nacházejí doplnkové a pomocné údaje k sestavám --- v | AT4: False
D6: Stavba:
E7: ='Rekapitulace stavby'!K6 -> Oprava trati v úseku Vranovice - Pohořelice - přejezdy v km 5,688 a 0,572
D8: Objekt:
E9: PS-02 - Ostatní
D10: Soupis:
E11: SO-02.1 - Manipulace, přepravy, poplatky
D13: KSO: | I13: CC-CZ:
D14: Místo: | F14: Vranovice - Pohořelice | I14: Datum: | J14: ='Rekapitulace stavby'!AN8 -> 12. 4. 2021
D16: Zadavatel: | I16: IČ: | J16: =IF('Rekapitulace stavby'!AN10="","",'Rekapitulace stavby'!AN10)
E17: =IF('Rekapitulace stavby'!E11="","",'Rekapitulace stavby'!E11) | I17: DIČ: | J17: =IF('Rekapitulace stavby'!AN11="","",'Rekapitulace stavby'!AN11)
D19: Uchazeč: | I19: IČ: | J19: ='Rekapitulace stavby'!AN13 -> Vyplň údaj
E20: ='Rekapitulace stavby'!E14 -> Vyplň údaj | I20: DIČ: | J20: ='Rekapitulace stavby'!AN14 -> Vyplň údaj
D22: Projektant: | I22: IČ: | J22: =IF('Rekapitulace stavby'!AN16="","",'Rekapitulace stavby'!AN16)
E23: =IF('Rekapitulace stavby'!E17="","",'Rekapitulace stavby'!E17) | I23: DIČ: | J23: =IF('Rekapitulace stavby'!AN17="","",'Rekapitulace stavby'!AN17)
D25: Zpracovatel: | I25: IČ:
E26: Ondřej Bozek | I26: DIČ:
D28: Poznámka:
D32: Cena bez DPH | J32: =ROUND(J121, 2) -> 0
F34: Základ daně | I34: Sazba daně | J34: Výše daně
D35: DPH | E35: základní | F35: =ROUND((SUM(BE121:BE173)), 2) -> 0 | I35: 0.21 | J35: =ROUND(((SUM(BE121:BE173))*I35), 2) -> 0
E36: snížená | F36: =ROUND((SUM(BF121:BF173)), 2) -> 0 | I36: 0.15 | J36: =ROUND(((SUM(BF121:BF173))*I36), 2) -> 0
E37: zákl. přenesená | F37: =ROUND((SUM(BG121:BG173)), 2) -> 0 | I37: 0.21 | J37: =0 -> 0
E38: sníž. přenesená | F38: =ROUND((SUM(BH121:BH173)), 2) -> 0 | I38: 0.15 | J38: =0 -> 0
E39: nulová | F39: =ROUND((SUM(BI121:BI173)), 2) -> 0 | I39: 0 | J39: =0 -> 0
D41: Cena s DPH | G41: v | H41: CZK | J41: =SUM(J32:J39) -> 0
D50: Projektant | G50: Zpracovatel
D61: Datum a podpis: | F61: Razítko | G61: Datum a podpis: | J61: Razítko
D65: Objednavatel | G65: Uchazeč
D76: Datum a podpis: | F76: Razítko | G76: Datum a podpis: | J76: Razítko
C82: REKAPITULACE ČLENĚNÍ SOUPISU PRACÍ
C84: Stavba:
E85: =E7 -> Oprava trati v úseku Vranovice - Pohořelice - přejezdy v km 5,688 a 0,572
C86: Objekt:
E87: PS-02 - Ostatní
C88: Soupis:
E89: =E11 -> SO-02.1 - Manipulace, přepravy, poplatky
C91: Místo: | F91: =F14 -> Vranovice - Pohořelice | I91: Datum: | J91: =IF(J14="","",J14) -> 12. 4. 2021
...

Sheet SO 02.2 - VON
L2: >> skryté sloupce << | AT2: {fcbf2b60-cfa0-434d-ba82-d6dfd4bb692f}
AT3: 2
D4: KRYCÍ LIST SOUPISU PRACÍ | M4: v --- níže se nacházejí doplnkové a pomocné údaje k sestavám --- v | AT4: False
D6: Stavba:
E7: ='Rekapitulace stavby'!K6 -> Oprava trati v úseku Vranovice - Pohořelice - přejezdy v km 5,688 a 0,572
D8: Objekt:
E9: PS-02 - Ostatní
D10: Soupis:
E11: SO 02.2 - VON
D13: KSO: | I13: CC-CZ:
D14: Místo: | F14: Vranovice - Pohořelice | I14: Datum: | J14: ='Rekapitulace stavby'!AN8 -> 12. 4. 2021
D16: Zadavatel: | I16: IČ: | J16: =IF('Rekapitulace stavby'!AN10="","",'Rekapitulace stavby'!AN10)
E17: =IF('Rekapitulace stavby'!E11="","",'Rekapitulace stavby'!E11) | I17: DIČ: | J17: =IF('Rekapitulace stavby'!AN11="","",'Rekapitulace stavby'!AN11)
D19: Uchazeč: | I19: IČ: | J19: ='Rekapitulace stavby'!AN13 -> Vyplň údaj
E20: ='Rekapitulace stavby'!E14 -> Vyplň údaj | I20: DIČ: | J20: ='Rekapitulace stavby'!AN14 -> Vyplň údaj
D22: Projektant: | I22: IČ: | J22: =IF('Rekapitulace stavby'!AN16="","",'Rekapitulace stavby'!AN16)
E23: =IF('Rekapitulace stavby'!E17="","",'Rekapitulace stavby'!E17) | I23: DIČ: | J23: =IF('Rekapitulace stavby'!AN17="","",'Rekapitulace stavby'!AN17)
D25: Zpracovatel: | I25: IČ:
E26: Ondřej Bozek | I26: DIČ:
D28: Poznámka:
D32: Cena bez DPH | J32: =ROUND(J121, 2) -> 0
F34: Základ daně | I34: Sazba daně | J34: Výše daně
D35: DPH | E35: základní | F35: =ROUND((SUM(BE121:BE135)), 2) -> 0 | I35: 0.21 | J35: =ROUND(((SUM(BE121:BE135))*I35), 2) -> 0
E36: snížená | F36: =ROUND((SUM(BF121:BF135)), 2) -> 0 | I36: 0.15 | J36: =ROUND(((SUM(BF121:BF135))*I36), 2) -> 0
E37: zákl. přenesená | F37: =ROUND((SUM(BG121:BG135)), 2) -> 0 | I37: 0.21 | J37: =0 -> 0
E38: sníž. přenesená | F38: =ROUND((SUM(BH121:BH135)), 2) -> 0 | I38: 0.15 | J38: =0 -> 0
E39: nulová | F39: =ROUND((SUM(BI121:BI135)), 2) -> 0 | I39: 0 | J39: =0 -> 0
D41: Cena s DPH | G41: v | H41: CZK | J41: =SUM(J32:J39) -> 0
D50: Projektant | G50: Zpracovatel
D61: Datum a podpis: | F61: Razítko | G61: Datum a podpis: | J61: Razítko
D65: Objednavatel | G65: Uchazeč
D76: Datum a podpis: | F76: Razítko | G76: Datum a podpis: | J76: Razítko
C82: REKAPITULACE ČLENĚNÍ SOUPISU PRACÍ
C84: Stavba:
E85: =E7 -> Oprava trati v úseku Vranovice - Pohořelice - přejezdy v km 5,688 a 0,572
C86: Objekt:
E87: PS-02 - Ostatní
C88: Soupis:
E89: =E11 -> SO 02.2 - VON
C91: Místo: | F91: =F14 -> Vranovice - Pohořelice | I91: Datum: | J91: =IF(J14="","",J14) -> 12. 4. 2021
...
