Workbook

Sheet Rekapitulace stavby
A1: Export Komplet | BA1: 2.0 | BT1: False | BU1: False | BV1: {b47ba032-cfdc-4d40-8a06-ef41372b6586}
AR2: >> skryté sloupce << | BS2: 0,01 | BT2: 21
BS3: 0,01 | BT3: 15
D4: REKAPITULACE STAVBY | AS4: v --- níže se nacházejí doplnkové a pomocné údaje k sestavám --- v | BE4: Návod na vyplnění | BS4: 0,001
D5: Kód: | K5: 005 | BE5: Měnit lze pouze buňky se žlutým podbarvením!_x000D_ _x000D_ 1) na prvním listu Rekapitulace stavby vyplňte v sestavě_x000D_ _x000D_ a) Souhrnný list_x000D_ - údaje o Uchazeči_x000D_ (přenesou se do ostatních sestav i v jiných listech)_x000D_ _x000D_ b) Rekapitulace objektů_x000D_ - potřebné Ostatní náklady_x000D_ _x000D_ 2) na vybraných listech vyplňte v sestavě_x000D_ _x000D_ a) Krycí list_x000D_ - údaje o Uchazeči, pokud se liší od údajů o Uchazeči na Souhrnném listu_x000D_ (údaje se přenesou do ostatních sestav v daném listu)_x000D_ _x000D_ b) Rekapitulace rozpočtu_x000D_ - potřebné Ostatní náklady_x000D_ _x000D_ c) Celkové náklady za stavbu_x000D_ - ceny u položek_x000D_ - množství, pokud má žluté podbarvení_x000D_ - a v případě potřeby poznámku (ta je ve skrytém sloupci) | BS5: 0,01
D6: Stavba: | K6: Oprava trati v úseku Vranovice - Pohořelice - přejezdy v km 5,688 a 0,572 | BS6: 0,01
D7: KSO: | AK7: CC-CZ: | BS7: 0,01
D8: Místo: | K8: Vranovice - Pohořelice | AK8: Datum: | AN8: 12. 4. 2021 | BS8: 0,01
BS9: 0,01
D10: Zadavatel: | AK10: IČ: | BS10: 0,01
AK11: DIČ: | BS11: 0,01
BS12: 0,01
D13: Uchazeč: | AK13: IČ: | AN13: Vyplň údaj | BS13: 0,01
E14: Vyplň údaj | AK14: DIČ: | AN14: Vyplň údaj | BS14: 0,01
BS15: False
D16: Projektant: | AK16: IČ: | BS16: False
AK17: DIČ: | BS17: True
BS18: 0,01
D19: Zpracovatel: | AK19: IČ: | BS19: 0,01
E20: Ondřej Bozek | AK20: DIČ: | BS20: False
D22: Poznámka:
D26: Cena bez DPH | AK26: =ROUND(AG94,2) -> 0
L28: Sazba daně | W28: Základ daně | AK28: Výše daně
D29: DPH | F29: základní | L29: 0.21 | W29: =ROUND(AZ94, 2) -> 0 | AK29: =ROUND(AV94, 2) -> 0
F30: snížená | L30: 0.15 | W30: =ROUND(BA94, 2) -> 0 | AK30: =ROUND(AW94, 2) -> 0
F31: zákl. přenesená | L31: 0.21 | W31: =ROUND(BB94, 2) -> 0 | AK31: 0
F32: sníž. přenesená | L32: 0.15 | W32: =ROUND(BC94, 2) -> 0 | AK32: 0
F33: nulová | L33: 0 | W33: =ROUND(BD94, 2) -> 0 | AK33: 0
D35: Cena s DPH | T35: v | X35: CZK | AK35: =SUM(AK26:AK33) -> 0
D49: Projektant | AH49: Zpracovatel
D60: Datum a podpis: | V60: Razítko | AH60: Datum a podpis: | AM60: Razítko
D64: Objednavatel | AH64: Uchazeč
D75: Datum a podpis: | V75: Razítko | AH75: Datum a podpis: | AM75: Razítko
C82: REKAPITULACE OBJEKTŮ STAVBY A SOUPISŮ PRACÍ
C84: Kód: | L84: =K5 -> 005
C85: Stavba: | L85: =K6 -> Oprava trati v úseku Vranovice - Pohořelice - přejezdy v km 5,688 a 0,572
C87: Místo: | L87: =IF(K8="","",K8) -> Vranovice - Pohořelice | AI87: Datum: | AM87: =IF(AN8= "","",AN8) -> 12. 4. 2021
C89: Zadavatel: | L89: =IF(E11= "","",E11) | AI89: Projektant: | AM89: =IF(E17="","",E17) | AS89: Informatívní údaje z listů zakázek
C90: Uchazeč: | L90: =IF(E14= "Vyplň údaj","",E14) | AI90: Zpracovatel: | AM90: =IF(E20="","",E20) -> Ondřej Bozek
C92: Kód | I92: Popis | AG92: Cena bez DPH [CZK] | AN92: Cena s DPH [CZK] | AQ92: Typ | AS92: z toho Ostat._x000D_ náklady [CZK] | AT92: DPH [CZK] | AU92: Normohodiny [h] | AV92: DPH základní [CZK] | AW92: DPH snížená [CZK] | AX92: DPH základní přenesená_x000D_ [CZK] | AY92: DPH snížená přenesená_x000D_ [CZK] | AZ92: Základna_x000D_ DPH základní | BA92: Základna_x000D_ DPH snížená | BB92: Základna_x000D_ DPH zákl. přenesená | BC92: Základna_x000D_ DPH sníž. přenesená | BD92: Základna_x000D_ DPH nulová
C94: Náklady z rozpočtů | AG94: =ROUND(AG95+AG98,2) -> 0 | AN94: =SUM(AG94,AT94) -> 0 | AS94: =ROUND(AS95+AS98,2) -> 0 | AT94: =ROUND(SUM(AV94:AW94),2) -> 0 | AU94: =ROUND(AU95+AU98,5) -> 0 | AV94: =ROUND(AZ94*L29,2) -> 0 | AW94: =ROUND(BA94*L30,2) -> 0 | AX94: =ROUND(BB94*L29,2) -> 0 | AY94: =ROUND(BC94*L30,2) -> 0 | AZ94: =ROUND(AZ95+AZ98,2) -> 0 | BA94: =ROUND(BA95+BA98,2) -> 0 | BB94: =ROUND(BB95+BB98,2) -> 0 | BC94: =ROUND(BC95+BC98,2) -> 0 | BD94: =ROUND(BD95+BD98,2) -> 0 | BS94: D | BT94: 0 | BU94: ###NOIMPORT### | BV94: IMPORT | BW94: {b47ba032-cfdc-4d40-8a06-ef41372b6586} | BX94: {00000000-0000-0000-0000-000000000000}
D95: PS-01 | J95: Žel. svršek | AG95: =ROUND(SUM(AG96:AG97),2) -> 0 | AN95: =SUM(AG95,AT95) -> 0 | AQ95: STA | AS95: =ROUND(SUM(AS96:AS97),2) -> 0 | AT95: =ROUND(SUM(AV95:AW95),2) -> 0 | AU95: =ROUND(SUM(AU96:AU97),5) -> 0 | AV95: =ROUND(AZ95*L29,2) -> 0 | AW95: =ROUND(BA95*L30,2) -> 0 | AX95: =ROUND(BB95*L29,2) -> 0 | AY95: =ROUND(BC95*L30,2) -> 0 | AZ95: =ROUND(SUM(AZ96:AZ97),2) -> 0 | BA95: =ROUND(SUM(BA96:BA97),2) -> 0 | BB95: =ROUND(SUM(BB96:BB97),2) -> 0 | BC95: =ROUND(SUM(BC96:BC97),2) -> 0 | BD95: =ROUND(SUM(BD96:BD97),2) -> 0 | BS95: D | BT95: 1 | BU95: ###NOIMPORT### | BV95: IMPORT | BW95: {7f295a42-2f5f-4447-a448-1da0f3238bc6} | BX95: {b47ba032-cfdc-4d40-8a06-ef41372b6586} | CM95: 2
A96: / | E96: SO-01.1 | K96: P6995 | AG96: ='SO-01.1 - P6995'!J32 -> 0 | AN96: =SUM(AG96,AT96) -> 0 | AQ96: Soupis | AS96: 0 | AT96: =ROUND(SUM(AV96:AW96),2) -> 0 | AU96: ='SO-01.1 - P6995'!P122 -> 0 | AV96: ='SO-01.1 - P6995'!J35 -> 0 | AW96: ='SO-01.1 - P6995'!J36 -> 0 | AX96: ='SO-01.1 - P6995'!J37 -> 0 | AY96: ='SO-01.1 - P6995'!J38 -> 0 | AZ96: ='SO-01.1 - P6995'!F35 -> 0 | BA96: ='SO-01.1 - P6995'!F36 -> 0 | BB96: ='SO-01.1 - P6995'!F37 -> 0 | BC96: ='SO-01.1 - P6995'!F38 -> 0 | BD96: ='SO-01.1 - P6995'!F39 -> 0 | BT96: 2 | BV96: IMPORT | BW96: {6633a6df-14a4-40f2-b63a-4dfd7af28955} | BX96: {7f295a42-2f5f-4447-a448-1da0f3238bc6}
A97: / | E97: SO-01.2 | K97: P6988 | AG97: ='SO-01.2 - P6988'!J32 -> 0 | AN97: =SUM(AG97,AT97) -> 0 | AQ97: Soupis | AS97: 0 | AT97: =ROUND(SUM(AV97:AW97),2) -> 0 | AU97: ='SO-01.2 - P6988'!P122 -> 0 | AV97: ='SO-01.2 - P6988'!J35 -> 0 | AW97: ='SO-01.2 - P6988'!J36 -> 0 | AX97: ='SO-01.2 - P6988'!J37 -> 0 | AY97: ='SO-01.2 - P6988'!J38 -> 0 | AZ97: ='SO-01.2 - P6988'!F35 -> 0 | BA97: ='SO-01.2 - P6988'!F36 -> 0 | BB97: ='SO-01.2 - P6988'!F37 -> 0 | BC97: ='SO-01.2 - P6988'!F38 -> 0 | BD97: ='SO-01.2 - P6988'!F39 -> 0 | BT97: 2 | BV97: IMPORT | BW97: {a2c5d7a8-468b-4121-adfc-4f4dcff0eb22} | BX97: {7f295a42-2f5f-4447-a448-1da0f3238bc6}
D98: PS-02 | J98: Ostatní | AG98: =ROUND(SUM(AG99:AG100),2) -> 0 | AN98: =SUM(AG98,AT98) -> 0 | AQ98: STA | AS98: =ROUND(SUM(AS99:AS100),2) -> 0 | AT98: =ROUND(SUM(AV98:AW98),2) -> 0 | AU98: =ROUND(SUM(AU99:AU100),5) -> 0 | AV98: =ROUND(AZ98*L29,2) -> 0 | AW98: =ROUND(BA98*L30,2) -> 0 | AX98: =ROUND(BB98*L29,2) -> 0 | AY98: =ROUND(BC98*L30,2) -> 0 | AZ98: =ROUND(SUM(AZ99:AZ100),2) -> 0 | BA98: =ROUND(SUM(BA99:BA100),2) -> 0 | BB98: =ROUND(SUM(BB99:BB100),2) -> 0 | BC98: =ROUND(SUM(BC99:BC100),2) -> 0 | BD98: =ROUND(SUM(BD99:BD100),2) -> 0 | BS98: D | BT98: 1 | BU98: ###NOIMPORT### | BV98: IMPORT | BW98: {32cf97e0-1d5c-4d87-a577-422d7d0a5f6d} | BX98: {b47ba032-cfdc-4d40-8a06-ef41372b6586} | CM98: 2
A99: / | E99: SO-02.1 | K99: Manipulace, přepravy, poplatky | AG99: ='SO-02.1 - Manipulace, pře...'!J32 -> 0 | AN99: =SUM(AG99,AT99) -> 0 | AQ99: Soupis | AS99: 0 | AT99: =ROUND(SUM(AV99:AW99),2) -> 0 | AU99: ='SO-02.1 - Manipulace, pře...'!P121 -> 0 | AV99: ='SO-02.1 - Manipulace, pře...'!J35 -> 0 | AW99: ='SO-02.1 - Manipulace, pře...'!J36 -> 0 | AX99: ='SO-02.1 - Manipulace, pře...'!J37 -> 0 | AY99: ='SO-02.1 - Manipulace, pře...'!J38 -> 0 | AZ99: ='SO-02.1 - Manipulace, pře...'!F35 -> 0 | BA99: ='SO-02.1 - Manipulace, pře...'!F36 -> 0 | BB99: ='SO-02.1 - Manipulace, pře...'!F37 -> 0 | BC99: ='SO-02.1 - Manipulace, pře...'!F38 -> 0 | BD99: ='SO-02.1 - Manipulace, pře...'!F39 -> 0 | BT99: 2 | BV99: IMPORT | BW99: {5badf273-d92e-4199-b1e1-80c0230cfd38} | BX99: {32cf97e0-1d5c-4d87-a577-422d7d0a5f6d}
A100: / | E100: SO 02.2 | K100: VON | AG100: ='SO 02.2 - VON'!J32 -> 0 | AN100: =SUM(AG100,AT100) -> 0 | AQ100: Soupis | AS100: 0 | AT100: =ROUND(SUM(AV100:AW100),2) -> 0 | AU100: ='SO 02.2 - VON'!P121 -> 0 | AV100: ='SO 02.2 - VON'!J35 -> 0 | AW100: ='SO 02.2 - VON'!J36 -> 0 | AX100: ='SO 02.2 - VON'!J37 -> 0 | AY100: ='SO 02.2 - VON'!J38 -> 0 | AZ100: ='SO 02.2 - VON'!F35 -> 0 | BA100: ='SO 02.2 - VON'!F36 -> 0 | BB100: ='SO 02.2 - VON'!F37 -> 0 | BC100: ='SO 02.2 - VON'!F38 -> 0 | BD100: ='SO 02.2 - VON'!F39 -> 0 | BT100: 2 | BV100: IMPORT | BW100: {fcbf2b60-cfa0-434d-ba82-d6dfd4bb692f} | BX100: {32cf97e0-1d5c-4d87-a577-422d7d0a5f6d}

Sheet SO-01.1 - P6995
L2: >> skryté sloupce << | AT2: {6633a6df-14a4-40f2-b63a-4dfd7af28955}
AT3: 2
D4: KRYCÍ LIST SOUPISU PRACÍ | M4: v --- níže se nacházejí doplnkové a pomocné údaje k sestavám --- v | AT4: False
D6: Stavba:
E7: ='Rekapitulace stavby'!K6 -> Oprava trati v úseku Vranovice - Pohořelice - přejezdy v km 5,688 a 0,572
D8: Objekt:
E9: PS-01 - Žel. svršek
D10: Soupis:
E11: SO-01.1 - P6995
D13: KSO: | I13: CC-CZ:
D14: Místo: | F14: Vranovice - Pohořelice | I14: Datum: | J14: ='Rekapitulace stavby'!AN8 -> 12. 4. 2021
D16: Zadavatel: | I16: IČ: | J16: =IF('Rekapitulace stavby'!AN10="","",'Rekapitulace stavby'!AN10)
E17: =IF('Rekapitulace stavby'!E11="","",'Rekapitulace stavby'!E11) | I17: DIČ: | J17: =IF('Rekapitulace stavby'!AN11="","",'Rekapitulace stavby'!AN11)
D19: Uchazeč: | I19: IČ: | J19: ='Rekapitulace stavby'!AN13 -> Vyplň údaj
E20: ='Rekapitulace stavby'!E14 -> Vyplň údaj | I20: DIČ: | J20: ='Rekapitulace stavby'!AN14 -> Vyplň údaj
D22: Projektant: | I22: IČ: | J22: =IF('Rekapitulace stavby'!AN16="","",'Rekapitulace stavby'!AN16)
E23: =IF('Rekapitulace stavby'!E17="","",'Rekapitulace stavby'!E17) | I23: DIČ: | J23: =IF('Rekapitulace stavby'!AN17="","",'Rekapitulace stavby'!AN17)
D25: Zpracovatel: | I25: IČ:
E26: Ondřej Bozek | I26: DIČ:
D28: Poznámka:
D32: Cena bez DPH | J32: =ROUND(J122, 2) -> 0
F34: Základ daně | I34: Sazba daně | J34: Výše daně
D35: DPH | E35: základní | F35: =ROUND((SUM(BE122:BE242)), 2) -> 0 | I35: 0.21 | J35: =ROUND(((SUM(BE122:BE242))*I35), 2) -> 0
E36: snížená | F36: =ROUND((SUM(BF122:BF242)), 2) -> 0 | I36: 0.15 | J36: =ROUND(((SUM(BF122:BF242))*I36), 2) -> 0
E37: zákl. přenesená | F37: =ROUND((SUM(BG122:BG242)), 2) -> 0 | I37: 0.21 | J37: =0 -> 0
E38: sníž. přenesená | F38: =ROUND((SUM(BH122:BH242)), 2) -> 0 | I38: 0.15 | J38: =0 -> 0
E39: nulová | F39: =ROUND((SUM(BI122:BI242)), 2) -> 0 | I39: 0 | J39: =0 -> 0
D41: Cena s DPH | G41: v | H41: CZK | J41: =SUM(J32:J39) -> 0
D50: Projektant | G50: Zpracovatel
D61: Datum a podpis: | F61: Razítko | G61: Datum a podpis: | J61: Razítko
D65: Objednavatel | G65: Uchazeč
D76: Datum a podpis: | F76: Razítko | G76: Datum a podpis: | J76: Razítko
C82: REKAPITULACE ČLENĚNÍ SOUPISU PRACÍ
C84: Stavba:
E85: =E7 -> Oprava trati v úseku Vranovice - Pohořelice - přejezdy v km 5,688 a 0,572
C86: Objekt:
E87: PS-01 - Žel. svršek
C88: Soupis:
E89: =E11 -> SO-01.1 - P6995
C91: Místo: | F91: =F14 -> Vranovice - Pohořelice | I91: Datum: | J91: =IF(J14="","",J14) -> 12. 4. 2021
C93: Zadavatel: | F93: =E17 | I93: Projektant: | J93: =E23
C94: Uchazeč: | F94: =IF(E20="","",E20) -> Vyplň údaj | I94: Zpracovatel: | J94: =E26 -> Ondřej Bozek
C96: Kód dílu - Popis | J96: Cena celkem [CZK]
C98: Náklady ze soupisu prací | J98: =J122 -> 0 | AU98: -1
D99: HSV - Práce a dodávky HSV | J99: =J123 -> 0
D100: 5 - Komunikace pozemní | J100: =J124 -> 0
C107: SOUPIS PRACÍ
C109: Stavba:
E110: =E7 -> Oprava trati v úseku Vranovice - Pohořelice - přejezdy v km 5,688 a 0,572
C111: Objekt:
E112: PS-01 - Žel. svršek
C113: Soupis:
E114: =E11 -> SO-01.1 - P6995
C116: Místo: | F116: =F14 -> Vranovice - Pohořelice | I116: Datum: | J116: =IF(J14="","",J14) -> 12. 4. 2021
C118: Zadavatel: | F118: =E17 | I118: Projektant: | J118: =E23
C119: Uchazeč: | F119: =IF(E20="","",E20) -> Vyplň údaj | I119: Zpracovatel: | J119: =E26 -> Ondřej Bozek
C121: PČ | D121: Typ | E121: Kód | F121: Popis | G121: MJ | H121: Množství | I121: J.cena [CZK] | J121: Cena celkem [CZK] | K121: Cenová soustava | N121: DPH | O121: J. Nh [h] | P121: Nh celkem [h] | Q121: J. hmotnost [t] | R121: Hmotnost celkem [t] | S121: J. suť [t] | T121: Suť Celkem [t]
C122: Náklady soupisu celkem | J122: =BK122 -> 0 | P122: =P123 -> 0 | R122: =R123 -> 174.00902 | T122: =T123 -> 0 | AT122: D | AU122: -1 | BK122: =BK123 -> 0
D123: D | E123: HSV | F123: Práce a dodávky HSV | J123: =BK123 -> 0 | P123: =P124 -> 0 | R123: =R124 -> 174.00902 | T123: =T124 -> 0 | AR123: 1 | AT123: D | AU123: 0 | AY123: ROZPOCET | BK123: =BK124 -> 0
D124: D | E124: 5 | F124: Komunikace pozemní | J124: =BK124 -> 0 | P124: =SUM(P125:P242) -> 0 | R124: =SUM(R125:R242) -> 174.00902 | T124: =SUM(T125:T242) -> 0 | AR124: 1 | AT124: D | AU124: 1 | AY124: ROZPOCET | BK124: =SUM(BK125:BK242) -> 0
C125: 1 | D125: K | E125: 5907050020 | F125: Dělení kolejnic řezáním nebo rozbroušením soustavy S49 nebo T. Poznámka: 1. V cenách jsou započteny náklady na manipulaci, podložení, označení a provedení řezu kolejnice. | G125: kus | H125: 4 | J125: =ROUND(I125*H125,2) -> 0 | K125: Sborník UOŽI 01 2021 | N125: základní | P125: =O125*H125 -> 0 | Q125: 0 | R125: =Q125*H125 -> 0 | S125: 0 | T125: =S125*H125 -> 0 | AR125: 4 | AT125: K | AU125: 2 | AY125: ROZPOCET | BE125: =IF(N125="základní",J125,0) -> 0 | BF125: =IF(N125="snížená",J125,0) -> 0 | BG125: =IF(N125="zákl. přenesená",J125,0) -> 0 | BH125: =IF(N125="sníž. přenesená",J125,0) -> 0 | BI125: =IF(N125="nulová",J125,0) -> 0 | BJ125: 1 | BK125: =ROUND(I125*H125,2) -> 0 | BL125: 4 | BM125: 505517157
D126: P | F126: Poznámka k položce:_x000D_ Řez=kus | AT126: P | AU126: 2
D127: VV | F127: 4 "řez stávajícího kolejového roštu" | H127: 4 | AT127: VV | AU127: 2 | AV127: 2 | AW127: True | AX127: 0 | AY127: ROZPOCET
D128: VV | F128: Součet | H128: 4 | AT128: VV | AU128: 2 | AV128: 4 | AW128: True | AX128: 1 | AY128: ROZPOCET
C129: 2 | D129: K | E129: 5913060030 | F129: Demontáž dílů betonové přejezdové konstrukce náběhového klínu. Poznámka: 1. V cenách jsou započteny náklady na demontáž konstrukce a naložení na dopravní prostředek. | G129: kus | H129: 2 | J129: =ROUND(I129*H129,2) -> 0 | K129: Sborník UOŽI 01 2021 | N129: základní | P129: =O129*H129 -> 0 | Q129: 0 | R129: =Q129*H129 -> 0 | S129: 0 | T129: =S129*H129 -> 0 | AR129: 4 | AT129: K | AU129: 2 | AY129: ROZPOCET | BE129: =IF(N129="základní",J129,0) -> 0 | BF129: =IF(N129="snížená",J129,0) -> 0 | BG129: =IF(N129="zákl. přenesená",J129,0) -> 0 | BH129: =IF(N129="sníž. přenesená",J129,0) -> 0 | BI129: =IF(N129="nulová",J129,0) -> 0 | BJ129: 1 | BK129: =ROUND(I129*H129,2) -> 0 | BL129: 4 | BM129: -1513421721
C130: 3 | D130: K | E130: 5913070030 | F130: Demontáž betonové přejezdové konstrukce část vnější a vnitřní včetně závěrných zídek. Poznámka: 1. V cenách jsou započteny náklady na demontáž konstrukce a naložení na dopravní prostředek. | G130: m | H130: 14 | J130: =ROUND(I130*H130,2) -> 0 | K130: Sborník UOŽI 01 2021 | N130: základní | P130: =O130*H130 -> 0 | Q130: 0 | R130: =Q130*H130 -> 0 | S130: 0 | T130: =S130*H130 -> 0 | AR130: 4 | AT130: K | AU130: 2 | AY130: ROZPOCET | BE130: =IF(N130="základní",J130,0) -> 0 | BF130: =IF(N130="snížená",J130,0) -> 0 | BG130: =IF(N130="zákl. přenesená",J130,0) -> 0 | BH130: =IF(N130="sníž. přenesená",J130,0) -> 0 | BI130: =IF(N130="nulová",J130,0) -> 0 | BJ130: 1 | BK130: =ROUND(I130*H130,2) -> 0 | BL130: 4 | BM130: 1018732065
C131: 4 | D131: K | E131: 5906140100 | F131: Demontáž kolejového roštu koleje v ose koleje pražce dřevěné tv. T rozdělení "c". Poznámka: 1. V cenách jsou započteny náklady na případné odstranění kameniva, rozebrání roštu do součástí, manipulaci, naložení výzisku na dopravní prostředek a uložení na úložišti. 2. V cenách nejsou obsaženy náklady na dopravu a vytřídění. | G131: km | H131: 0.011 | J131: =ROUND(I131*H131,2) -> 0 | K131: Sborník UOŽI 01 2021 | N131: základní | P131: =O131*H131 -> 0 | Q131: 0 | R131: =Q131*H131 -> 0 | S131: 0 | T131: =S131*H131 -> 0 | AR131: 4 | AT131: K | AU131: 2 | AY131: ROZPOCET | BE131: =IF(N131="základní",J131,0) -> 0 | BF131: =IF(N131="snížená",J131,0) -> 0 | BG131: =IF(N131="zákl. přenesená",J131,0) -> 0 | BH131: =IF(N131="sníž. přenesená",J131,0) -> 0 | BI131: =IF(N131="nulová",J131,0) -> 0 | BJ131: 1 | BK131: =ROUND(I131*H131,2) -> 0 | BL131: 4 | BM131: 2064970550
C132: 5 | D132: K | E132: 5906140090 | F132: Demontáž kolejového roštu koleje v ose koleje pražce dřevěné tv. S49 rozdělení "u". Poznámka: 1. V cenách jsou započteny náklady na případné odstranění kameniva, rozebrání roštu do součástí, manipulaci, naložení výzisku na dopravní prostředek a uložení na úložišti. 2. V cenách nejsou obsaženy náklady na dopravu a vytřídění. | G132: km | H132: 0.014 | J132: =ROUND(I132*H132,2) -> 0 | K132: Sborník UOŽI 01 2021 | N132: základní | P132: =O132*H132 -> 0 | Q132: 0 | R132: =Q132*H132 -> 0 | S132: 0 | T132: =S132*H132 -> 0 | AR132: 4 | AT132: K | AU132: 2 | AY132: ROZPOCET | BE132: =IF(N132="základní",J132,0) -> 0 | BF132: =IF(N132="snížená",J132,0) -> 0 | BG132: =IF(N132="zákl. přenesená",J132,0) -> 0 | BH132: =IF(N132="sníž. přenesená",J132,0) -> 0 | BI132: =IF(N132="nulová",J132,0) -> 0 | BJ132: 1 | BK132: =ROUND(I132*H132,2) -> 0 | BL132: 4 | BM132: 1872084817
C133: 6 | D133: K | E133: 5905055010 | F133: Odstranění stávajícího kolejového lože odtěžením v koleji. Poznámka: 1. V cenách jsou započteny náklady na odstranění KL, úpravu pláně a rozprostření výzisku na terén nebo jeho naložení na dopravní prostředek. 2. Položka se použije v případech, kdy se nové KL nezřizuje. | G133: m3 | H133: 53.45 | J133: =ROUND(I133*H133,2) -> 0 | K133: Sborník UOŽI 01 2021 | N133: základní | P133: =O133*H133 -> 0 | Q133: 0 | R133: =Q133*H133 -> 0 | S133: 0 | T133: =S133*H133 -> 0 | AR133: 4 | AT133: K | AU133: 2 | AY133: ROZPOCET | BE133: =IF(N133="základní",J133,0) -> 0 | BF133: =IF(N133="snížená",J133,0) -> 0 | BG133: =IF(N133="zákl. přenesená",J133,0) -> 0 | BH133: =IF(N133="sníž. přenesená",J133,0) -> 0 | BI133: =IF(N133="nulová",J133,0) -> 0 | BJ133: 1 | BK133: =ROUND(I133*H133,2) -> 0 | BL133: 4 | BM133: -1979996483
D134: VV | F134: 25*2,138 "odstranění KL v délce 25 m" | H134: 53.45 | AT134: VV | AU134: 2 | AV134: 2 | AW134: True | AX134: 0 | AY134: ROZPOCET
D135: VV | F135: Součet | H135: 53.45 | AT135: VV | AU135: 2 | AV135: 4 | AW135: True | AX135: 1 | AY135: ROZPOCET
C136: 7 | D136: K | E136: 5915010020 | F136: Těžení zeminy nebo horniny železničního spodku v hornině třídy těžitelnosti I skupiny 2. Poznámka: 1. V cenách jsou započteny náklady na těžení a uložení výzisku na terén nebo naložení na dopravní prostředek a uložení na úložišti. | G136: m3 | H136: 9.99 | J136: =ROUND(I136*H136,2) -> 0 | K136: Sborník UOŽI 01 2021 | N136: základní | P136: =O136*H136 -> 0 | Q136: 0 | R136: =Q136*H136 -> 0 | S136: 0 | T136: =S136*H136 -> 0 | AR136: 4 | AT136: K | AU136: 2 | AY136: ROZPOCET | BE136: =IF(N136="základní",J136,0) -> 0 | BF136: =IF(N136="snížená",J136,0) -> 0 | BG136: =IF(N136="zákl. přenesená",J136,0) -> 0 | BH136: =IF(N136="sníž. přenesená",J136,0) -> 0 | BI136: =IF(N136="nulová",J136,0) -> 0 | BJ136: 1 | BK136: =ROUND(I136*H136,2) -> 0 | BL136: 4 | BM136: -396181470
D137: VV | F137: 9*3,7*0,3 "odstranění ŠD pod přejezdem" | H137: 9.99 | AT137: VV | AU137: 2 | AV137: 2 | AW137: True | AX137: 0 | AY137: ROZPOCET
D138: VV | F138: Součet | H138: 9.99 | AT138: VV | AU138: 2 | AV138: 4 | AW138: True | AX138: 1 | AY138: ROZPOCET
C139: 8 | D139: K | E139: 5914075120 | F139: Zřízení konstrukční vrstvy pražcového podloží včetně geotextilie tl. 0,30 m. Poznámka: 1. V cenách jsou započteny náklady na naložení výzisku na dopravní prostředek. 2. V cenách nejsou obsaženy náklady na dodávku materiálu a odtěžení zeminy. | G139: m2 | H139: 33.3 | J139: =ROUND(I139*H139,2) -> 0 | K139: Sborník UOŽI 01 2021 | N139: základní | P139: =O139*H139 -> 0 | Q139: 0 | R139: =Q139*H139 -> 0 | S139: 0 | T139: =S139*H139 -> 0 | AR139: 4 | AT139: K | AU139: 2 | AY139: ROZPOCET | BE139: =IF(N139="základní",J139,0) -> 0 | BF139: =IF(N139="snížená",J139,0) -> 0 | BG139: =IF(N139="zákl. přenesená",J139,0) -> 0 | BH139: =IF(N139="sníž. přenesená",J139,0) -> 0 | BI139: =IF(N139="nulová",J139,0) -> 0 | BJ139: 1 | BK139: =ROUND(I139*H139,2) -> 0 | BL139: 4 | BM139: -2073530712
D140: P | F140: Poznámka k položce:_x000D_ VL Ž4 typ 3 | AT140: P | AU140: 2
D141: VV | F141: 9*3,7 "pod přejezdem" | H141: 33.3 | AT141: VV | AU141: 2 | AV141: 2 | AW141: True | AX141: 0 | AY141: ROZPOCET
D142: VV | F142: Součet | H142: 33.3 | AT142: VV | AU142: 2 | AV142: 4 | AW142: True | AX142: 1 | AY142: ROZPOCET
C143: 9 | D143: M | E143: 5955101020 | F143: Kamenivo drcené štěrkodrť frakce 0/32 | G143: t | H143: 18.981 | J143: =ROUND(I143*H143,2) -> 0 | K143: Sborník UOŽI 01 2021 | N143: základní | P143: =O143*H143 -> 0 | Q143: 1 | R143: =Q143*H143 -> 18.981 | S143: 0 | T143: =S143*H143 -> 0 | AR143: 8 | AT143: M | AU143: 2 | AY143: ROZPOCET | BE143: =IF(N143="základní",J143,0) -> 0 | BF143: =IF(N143="snížená",J143,0) -> 0 | BG143: =IF(N143="zákl. přenesená",J143,0) -> 0 | BH143: =IF(N143="sníž. přenesená",J143,0) -> 0 | BI143: =IF(N143="nulová",J143,0) -> 0 | BJ143: 1 | BK143: =ROUND(I143*H143,2) -> 0 | BL143: 4 | BM143: -1474514774
D144: VV | F144: 9*3,7*0,3*1,9 "doplnění po odstraněné ŠD v přejezdu" | H144: 18.981 | AT144: VV | AU144: 2 | AV144: 2 | AW144: True | AX144: 0 | AY144: ROZPOCET
D145: VV | F145: Součet | H145: 18.981 | AT145: VV | AU145: 2 | AV145: 4 | AW145: True | AX145: 1 | AY145: ROZPOCET
C146: 10 | D146: K | E146: 5905060010 | F146: Zřízení nového kolejového lože v koleji. Poznámka: 1. V cenách jsou započteny náklady na zřízení KL nově zřizované koleje, vložení geosyntetika, rozprostření vrstvy kameniva, zřízení homogenizované vrstvy kameniva a úprava KL do profilu. 2. V cenách nejsou obsaženy náklady na položení KR, úpravu směrového a výškového uspořádání, doplnění a dodávku kameniva a snížení KL pod patou kolejnice. 3. Položka se použije v případech nově zřizované koleje nebo výhybky. | G146: m3 | H146: 19.242 | J146: =ROUND(I146*H146,2) -> 0 | K146: Sborník UOŽI 01 2021 | N146: základní | P146: =O146*H146 -> 0 | Q146: 0 | R146: =Q146*H146 -> 0 | S146: 0 | T146: =S146*H146 -> 0 | AR146: 4 | AT146: K | AU146: 2 | AY146: ROZPOCET | BE146: =IF(N146="základní",J146,0) -> 0 | BF146: =IF(N146="snížená",J146,0) -> 0 | BG146: =IF(N146="zákl. přenesená",J146,0) -> 0 | BH146: =IF(N146="sníž. přenesená",J146,0) -> 0 | BI146: =IF(N146="nulová",J146,0) -> 0 | BJ146: 1 | BK146: =ROUND(I146*H146,2) -> 0 | BL146: 4 | BM146: -1401989333
D147: VV | F147: 9*2,138 "pod přejezdem" | H147: 19.242 | AT147: VV | AU147: 2 | AV147: 2 | AW147: True | AX147: 0 | AY147: ROZPOCET
D148: VV | F148: Součet | H148: 19.242 | AT148: VV | AU148: 2 | AV148: 4 | AW148: True | AX148: 1 | AY148: ROZPOCET
C149: 11 | D149: K | E149: 5905105030 | F149: Doplnění KL kamenivem souvisle strojně v koleji. Poznámka: 1. V cenách jsou započteny náklady na doplnění kameniva ojediněle ručně vidlemi a/nebo souvisle strojně z výsypných vozů případně nakladačem. 2. V cenách nejsou obsaženy náklady na dodávku kameniva. | G149: m3 | H149: 58.45 | J149: =ROUND(I149*H149,2) -> 0 | K149: Sborník UOŽI 01 2021 | N149: základní | P149: =O149*H149 -> 0 | Q149: 0 | R149: =Q149*H149 -> 0 | S149: 0 | T149: =S149*H149 -> 0 | AR149: 4 | AT149: K | AU149: 2 | AY149: ROZPOCET | BE149: =IF(N149="základní",J149,0) -> 0 | BF149: =IF(N149="snížená",J149,0) -> 0 | BG149: =IF(N149="zákl. přenesená",J149,0) -> 0 | BH149: =IF(N149="sníž. přenesená",J149,0) -> 0 | BI149: =IF(N149="nulová",J149,0) -> 0 | BJ149: 1 | BK149: =ROUND(I149*H149,2) -> 0 | BL149: 4 | BM149: -1782453734
D150: VV | F150: 25*2,138 "doplnění KL" | H150: 53.45 | AT150: VV | AU150: 2 | AV150: 2 | AW150: True | AX150: 0 | AY150: ROZPOCET
D151: VV | F151: 5 "podbíjení" | H151: 5 | AT151: VV | AU151: 2 | AV151: 2 | AW151: True | AX151: 0 | AY151: ROZPOCET
D152: VV | F152: Součet | H152: 58.45 | AT152: VV | AU152: 2 | AV152: 4 | AW152: True | AX152: 1 | AY152: ROZPOCET
C153: 12 | D153: M | E153: 5955101000 | F153: Kamenivo drcené štěrk frakce 31,5/63 třídy BI | G153: t | H153: 105.21 | J153: =ROUND(I153*H153,2) -> 0 | K153: Sborník UOŽI 01 2021 | N153: základní | P153: =O153*H153 -> 0 | Q153: 1 | R153: =Q153*H153 -> 105.21 | S153: 0 | T153: =S153*H153 -> 0 | AR153: 8 | AT153: M | AU153: 2 | AY153: ROZPOCET | BE153: =IF(N153="základní",J153,0) -> 0 | BF153: =IF(N153="snížená",J153,0) -> 0 | BG153: =IF(N153="zákl. přenesená",J153,0) -> 0 | BH153: =IF(N153="sníž. přenesená",J153,0) -> 0 | BI153: =IF(N153="nulová",J153,0) -> 0 | BJ153: 1 | BK153: =ROUND(I153*H153,2) -> 0 | BL153: 4 | BM153: -1709779368
D154: VV | F154: 53,450*1,8 "kamenivo do přejezdu" | H154: 96.21 | AT154: VV | AU154: 2 | AV154: 2 | AW154: True | AX154: 0 | AY154: ROZPOCET
D155: VV | F155: 5*1,8 "kamenivo pro podbíjení" | H155: 9 | AT155: VV | AU155: 2 | AV155: 2 | AW155: True | AX155: 0 | AY155: ROZPOCET
D156: VV | F156: Součet | H156: 105.21 | AT156: VV | AU156: 2 | AV156: 4 | AW156: True | AX156: 1 | AY156: ROZPOCET
C157: 13 | D157: M | E157: 5964133010 | F157: Geotextilie ochranné | G157: m2 | H157: 35 | J157: =ROUND(I157*H157,2) -> 0 | K157: Sborník UOŽI 01 2021 | N157: základní | P157: =O157*H157 -> 0 | Q157: 0 | R157: =Q157*H157 -> 0 | S157: 0 | T157: =S157*H157 -> 0 | AR157: 8 | AT157: M | AU157: 2 | AY157: ROZPOCET | BE157: =IF(N157="základní",J157,0) -> 0 | BF157: =IF(N157="snížená",J157,0) -> 0 | BG157: =IF(N157="zákl. přenesená",J157,0) -> 0 | BH157: =IF(N157="sníž. přenesená",J157,0) -> 0 | BI157: =IF(N157="nulová",J157,0) -> 0 | BJ157: 1 | BK157: =ROUND(I157*H157,2) -> 0 | BL157: 4 | BM157: 1966323895
D158: VV | F158: 35 " pod přejezd min 400g/m2" | H158: 35 | AT158: VV | AU158: 2 | AV158: 2 | AW158: True | AX158: 0 | AY158: ROZPOCET
D159: VV | F159: Součet | H159: 35 | AT159: VV | AU159: 2 | AV159: 4 | AW159: True | AX159: 1 | AY159: ROZPOCET
C160: 14 | D160: K | E160: 5906130270 | F160: Montáž kolejového roštu v ose koleje pražce betonové nevystrojené tv. S49 rozdělení "c". Poznámka: 1. V cenách jsou započteny náklady na manipulaci a montáž KR, u pražců dřevěných nevystrojených i na vrtání pražců. 2. V cenách nejsou obsaženy náklady na dodávku materiálu. | G160: km | H160: 0.016 | J160: =ROUND(I160*H160,2) -> 0 | K160: Sborník UOŽI 01 2021 | N160: základní | P160: =O160*H160 -> 0 | Q160: 0 | R160: =Q160*H160 -> 0 | S160: 0 | T160: =S160*H160 -> 0 | AR160: 4 | AT160: K | AU160: 2 | AY160: ROZPOCET | BE160: =IF(N160="základní",J160,0) -> 0 | BF160: =IF(N160="snížená",J160,0) -> 0 | BG160: =IF(N160="zákl. přenesená",J160,0) -> 0 | BH160: =IF(N160="sníž. přenesená",J160,0) -> 0 | BI160: =IF(N160="nulová",J160,0) -> 0 | BJ160: 1 | BK160: =ROUND(I160*H160,2) -> 0 | BL160: 4 | BM160: -314207733
C161: 15 | D161: K | E161: 5906130290 | F161: Montáž kolejového roštu v ose koleje pražce betonové nevystrojené tv. S49 rozdělení "u". Poznámka: 1. V cenách jsou započteny náklady na manipulaci a montáž KR, u pražců dřevěných nevystrojených i na vrtání pražců. 2. V cenách nejsou obsaženy náklady na dodávku materiálu. | G161: km | H161: 0.009 | J161: =ROUND(I161*H161,2) -> 0 | K161: Sborník UOŽI 01 2021 | N161: základní | P161: =O161*H161 -> 0 | Q161: 0 | R161: =Q161*H161 -> 0 | S161: 0 | T161: =S161*H161 -> 0 | AR161: 4 | AT161: K | AU161: 2 | AY161: ROZPOCET | BE161: =IF(N161="základní",J161,0) -> 0 | BF161: =IF(N161="snížená",J161,0) -> 0 | BG161: =IF(N161="zákl. přenesená",J161,0) -> 0 | BH161: =IF(N161="sníž. přenesená",J161,0) -> 0 | BI161: =IF(N161="nulová",J161,0) -> 0 | BJ161: 1 | BK161: =ROUND(I161*H161,2) -> 0 | BL161: 4 | BM161: -763176346
D162: VV | F162: 0,009 | H162: 0.009 | AT162: VV | AU162: 2 | AV162: 2 | AW162: True | AX162: 1 | AY162: ROZPOCET
C163: 16 | D163: K | E163: 5906105020 | F163: Demontáž pražce betonový. Poznámka: 1. V cenách jsou započteny náklady na manipulaci, demontáž, odstrojení do součástí a uložení pražců. | G163: kus | H163: 39 | J163: =ROUND(I163*H163,2) -> 0 | K163: Sborník UOŽI 01 2021 | N163: základní | P163: =O163*H163 -> 0 | Q163: 0 | R163: =Q163*H163 -> 0 | S163: 0 | T163: =S163*H163 -> 0 | AR163: 4 | AT163: K | AU163: 2 | AY163: ROZPOCET | BE163: =IF(N163="základní",J163,0) -> 0 | BF163: =IF(N163="snížená",J163,0) -> 0 | BG163: =IF(N163="zákl. přenesená",J163,0) -> 0 | BH163: =IF(N163="sníž. přenesená",J163,0) -> 0 | BI163: =IF(N163="nulová",J163,0) -> 0 | BJ163: 1 | BK163: =ROUND(I163*H163,2) -> 0 | BL163: 4 | BM163: -1518158383
D164: VV | F164: 39"demontáž dovezených pražců" | H164: 39 | AT164: VV | AU164: 2 | AV164: 2 | AW164: True | AX164: 0 | AY164: ROZPOCET
...

Sheet SO-01.2 - P6988
L2: >> skryté sloupce << | AT2: {a2c5d7a8-468b-4121-adfc-4f4dcff0eb22}
AT3: 2
D4: KRYCÍ LIST SOUPISU PRACÍ | M4: v --- níže se nacházejí doplnkové a pomocné údaje k sestavám --- v | AT4: False
D6: Stavba:
E7: ='Rekapitulace stavby'!K6 -> Oprava trati v úseku Vranovice - Pohořelice - přejezdy v km 5,688 a 0,572
D8: Objekt:
E9: PS-01 - Žel. svršek
D10: Soupis:
E11: SO-01.2 - P6988
D13: KSO: | I13: CC-CZ:
D14: Místo: | F14: Vranovice - Pohořelice | I14: Datum: | J14: ='Rekapitulace stavby'!AN8 -> 12. 4. 2021
D16: Zadavatel: | I16: IČ: | J16: =IF('Rekapitulace stavby'!AN10="","",'Rekapitulace stavby'!AN10)
E17: =IF('Rekapitulace stavby'!E11="","",'Rekapitulace stavby'!E11) | I17: DIČ: | J17: =IF('Rekapitulace stavby'!AN11="","",'Rekapitulace stavby'!AN11)
D19: Uchazeč: | I19: IČ: | J19: ='Rekapitulace stavby'!AN13 -> Vyplň údaj
E20: ='Rekapitulace stavby'!E14 -> Vyplň údaj | I20: DIČ: | J20: ='Rekapitulace stavby'!AN14 -> Vyplň údaj
D22: Projektant: | I22: IČ: | J22: =IF('Rekapitulace stavby'!AN16="","",'Rekapitulace stavby'!AN16)
E23: =IF('Rekapitulace stavby'!E17="","",'Rekapitulace stavby'!E17) | I23: DIČ: | J23: =IF('Rekapitulace stavby'!AN17="","",'Rekapitulace stavby'!AN17)
D25: Zpracovatel: | I25: IČ:
E26: Ondřej Bozek | I26: DIČ:
D28: Poznámka:
D32: Cena bez DPH | J32: =ROUND(J122, 2) -> 0
F34: Základ daně | I34: Sazba daně | J34: Výše daně
D35: DPH | E35: základní | F35: =ROUND((SUM(BE122:BE245)), 2) -> 0 | I35: 0.21 | J35: =ROUND(((SUM(BE122:BE245))*I35), 2) -> 0
E36: snížená | F36: =ROUND((SUM(BF122:BF245)), 2) -> 0 | I36: 0.15 | J36: =ROUND(((SUM(BF122:BF245))*I36), 2) -> 0
E37: zákl. přenesená | F37: =ROUND((SUM(BG122:BG245)), 2) -> 0 | I37: 0.21 | J37: =0 -> 0
E38: sníž. přenesená | F38: =ROUND((SUM(BH122:BH245)), 2) -> 0 | I38: 0.15 | J38: =0 -> 0
E39: nulová | F39: =ROUND((SUM(BI122:BI245)), 2) -> 0 | I39: 0 | J39: =0 -> 0
D41: Cena s DPH | G41: v | H41: CZK | J41: =SUM(J32:J39) -> 0
D50: Projektant | G50: Zpracovatel
D61: Datum a podpis: | F61: Razítko | G61: Datum a podpis: | J61: Razítko
D65: Objednavatel | G65: Uchazeč
D76: Datum a podpis: | F76: Razítko | G76: Datum a podpis: | J76: Razítko
C82: REKAPITULACE ČLENĚNÍ SOUPISU PRACÍ
C84: Stavba:
E85: =E7 -> Oprava trati v úseku Vranovice - Pohořelice - přejezdy v km 5,688 a 0,572
C86: Objekt:
E87: PS-01 - Žel. svršek
C88: Soupis:
E89: =E11 -> SO-01.2 - P6988
C91: Místo: | F91: =F14 -> Vranovice - Pohořelice | I91: Datum: | J91: =IF(J14="","",J14) -> 12. 4. 2021
C93: Zadavatel: | F93: =E17 | I93: Projektant: | J93: =E23
C94: Uchazeč: | F94: =IF(E20="","",E20) -> Vyplň údaj | I94: Zpracovatel: | J94: =E26 -> Ondřej Bozek
C96: Kód dílu - Popis | J96: Cena celkem [CZK]
C98: Náklady ze soupisu prací | J98: =J122 -> 0 | AU98: -1
D99: HSV - Práce a dodávky HSV | J99: =J123 -> 0
D100: 5 - Komunikace pozemní | J100: =J124 -> 0
C107: SOUPIS PRACÍ
C109: Stavba:
E110: =E7 -> Oprava trati v úseku Vranovice - Pohořelice - přejezdy v km 5,688 a 0,572
C111: Objekt:
E112: PS-01 - Žel. svršek
C113: Soupis:
E114: =E11 -> SO-01.2 - P6988
C116: Místo: | F116: =F14 -> Vranovice - Pohořelice | I116: Datum: | J116: =IF(J14="","",J14) -> 12. 4. 2021
C118: Zadavatel: | F118: =E17 | I118: Projektant: | J118: =E23
C119: Uchazeč: | F119: =IF(E20="","",E20) -> Vyplň údaj | I119: Zpracovatel: | J119: =E26 -> Ondřej Bozek
C121: PČ | D121: Typ | E121: Kód | F121: Popis | G121: MJ | H121: Množství | I121: J.cena [CZK] | J121: Cena celkem [CZK] | K121: Cenová soustava | N121: DPH | O121: J. Nh [h] | P121: Nh celkem [h] | Q121: J. hmotnost [t] | R121: Hmotnost celkem [t] | S121: J. suť [t] | T121: Suť Celkem [t]
C122: Náklady soupisu celkem | J122: =BK122 -> 0 | P122: =P123 -> 0 | R122: =R123 -> 389.8682 | T122: =T123 -> 0 | AT122: D | AU122: -1 | BK122: =BK123 -> 0
D123: D | E123: HSV | F123: Práce a dodávky HSV | J123: =BK123 -> 0 | P123: =P124 -> 0 | R123: =R124 -> 389.8682 | T123: =T124 -> 0 | AR123: 1 | AT123: D | AU123: 0 | AY123: ROZPOCET | BK123: =BK124 -> 0
D124: D | E124: 5 | F124: Komunikace pozemní | J124: =BK124 -> 0 | P124: =SUM(P125:P245) -> 0 | R124: =SUM(R125:R245) -> 389.8682 | T124: =SUM(T125:T245) -> 0 | AR124: 1 | AT124: D | AU124: 1 | AY124: ROZPOCET | BK124: =SUM(BK125:BK245) -> 0
C125: 1 | D125: K | E125: 5907050020 | F125: Dělení kolejnic řezáním nebo rozbroušením soustavy S49 nebo T. Poznámka: 1. V cenách jsou započteny náklady na manipulaci, podložení, označení a provedení řezu kolejnice. | G125: kus | H125: 4 | J125: =ROUND(I125*H125,2) -> 0 | K125: Sborník UOŽI 01 2021 | N125: základní | P125: =O125*H125 -> 0 | Q125: 0 | R125: =Q125*H125 -> 0 | S125: 0 | T125: =S125*H125 -> 0 | AR125: 4 | AT125: K | AU125: 2 | AY125: ROZPOCET | BE125: =IF(N125="základní",J125,0) -> 0 | BF125: =IF(N125="snížená",J125,0) -> 0 | BG125: =IF(N125="zákl. přenesená",J125,0) -> 0 | BH125: =IF(N125="sníž. přenesená",J125,0) -> 0 | BI125: =IF(N125="nulová",J125,0) -> 0 | BJ125: 1 | BK125: =ROUND(I125*H125,2) -> 0 | BL125: 4 | BM125: -203013559
D126: P | F126: Poznámka k položce:_x000D_ Řez=kus | AT126: P | AU126: 2
D127: VV | F127: 4 "řez stávajícího kolejového roštu" | H127: 4 | AT127: VV | AU127: 2 | AV127: 2 | AW127: True | AX127: 0 | AY127: ROZPOCET
D128: VV | F128: Součet | H128: 4 | AT128: VV | AU128: 2 | AV128: 4 | AW128: True | AX128: 1 | AY128: ROZPOCET
C129: 2 | D129: K | E129: 5913060010 | F129: Demontáž dílů betonové přejezdové konstrukce vnějšího panelu. Poznámka: 1. V cenách jsou započteny náklady na demontáž konstrukce a naložení na dopravní prostředek. | G129: kus | H129: 11 | J129: =ROUND(I129*H129,2) -> 0 | K129: Sborník UOŽI 01 2021 | N129: základní | P129: =O129*H129 -> 0 | Q129: 0 | R129: =Q129*H129 -> 0 | S129: 0 | T129: =S129*H129 -> 0 | AR129: 4 | AT129: K | AU129: 2 | AY129: ROZPOCET | BE129: =IF(N129="základní",J129,0) -> 0 | BF129: =IF(N129="snížená",J129,0) -> 0 | BG129: =IF(N129="zákl. přenesená",J129,0) -> 0 | BH129: =IF(N129="sníž. přenesená",J129,0) -> 0 | BI129: =IF(N129="nulová",J129,0) -> 0 | BJ129: 1 | BK129: =ROUND(I129*H129,2) -> 0 | BL129: 4 | BM129: -418462319
C130: 3 | D130: K | E130: 5913060020 | F130: Demontáž dílů betonové přejezdové konstrukce vnitřního panelu. Poznámka: 1. V cenách jsou započteny náklady na demontáž konstrukce a naložení na dopravní prostředek. | G130: kus | H130: 8 | J130: =ROUND(I130*H130,2) -> 0 | K130: Sborník UOŽI 01 2021 | N130: základní | P130: =O130*H130 -> 0 | Q130: 0 | R130: =Q130*H130 -> 0 | S130: 0 | T130: =S130*H130 -> 0 | AR130: 4 | AT130: K | AU130: 2 | AY130: ROZPOCET | BE130: =IF(N130="základní",J130,0) -> 0 | BF130: =IF(N130="snížená",J130,0) -> 0 | BG130: =IF(N130="zákl. přenesená",J130,0) -> 0 | BH130: =IF(N130="sníž. přenesená",J130,0) -> 0 | BI130: =IF(N130="nulová",J130,0) -> 0 | BJ130: 1 | BK130: =ROUND(I130*H130,2) -> 0 | BL130: 4 | BM130: -1956613596
C131: 4 | D131: K | E131: 5913060030 | F131: Demontáž dílů betonové přejezdové konstrukce náběhového klínu. Poznámka: 1. V cenách jsou započteny náklady na demontáž konstrukce a naložení na dopravní prostředek. | G131: kus | H131: 2 | J131: =ROUND(I131*H131,2) -> 0 | K131: Sborník UOŽI 01 2021 | N131: základní | P131: =O131*H131 -> 0 | Q131: 0 | R131: =Q131*H131 -> 0 | S131: 0 | T131: =S131*H131 -> 0 | AR131: 4 | AT131: K | AU131: 2 | AY131: ROZPOCET | BE131: =IF(N131="základní",J131,0) -> 0 | BF131: =IF(N131="snížená",J131,0) -> 0 | BG131: =IF(N131="zákl. přenesená",J131,0) -> 0 | BH131: =IF(N131="sníž. přenesená",J131,0) -> 0 | BI131: =IF(N131="nulová",J131,0) -> 0 | BJ131: 1 | BK131: =ROUND(I131*H131,2) -> 0 | BL131: 4 | BM131: 1801707940
C132: 5 | D132: K | E132: 5913190020 | F132: Demontáž dřevěných dílů přejezdu trámec vnitřní části. Poznámka: 1. V cenách jsou započteny náklady na demontáž a naložení na dopravní prostředek. | G132: m | H132: 12 | J132: =ROUND(I132*H132,2) -> 0 | K132: Sborník UOŽI 01 2021 | N132: základní | P132: =O132*H132 -> 0 | Q132: 0 | R132: =Q132*H132 -> 0 | S132: 0 | T132: =S132*H132 -> 0 | AR132: 4 | AT132: K | AU132: 2 | AY132: ROZPOCET | BE132: =IF(N132="základní",J132,0) -> 0 | BF132: =IF(N132="snížená",J132,0) -> 0 | BG132: =IF(N132="zákl. přenesená",J132,0) -> 0 | BH132: =IF(N132="sníž. přenesená",J132,0) -> 0 | BI132: =IF(N132="nulová",J132,0) -> 0 | BJ132: 1 | BK132: =ROUND(I132*H132,2) -> 0 | BL132: 4 | BM132: -704584889
C133: 6 | D133: K | E133: 5913190030 | F133: Demontáž dřevěných dílů přejezdu trámec vnější části. Poznámka: 1. V cenách jsou započteny náklady na demontáž a naložení na dopravní prostředek. | G133: m | H133: 12 | J133: =ROUND(I133*H133,2) -> 0 | K133: Sborník UOŽI 01 2021 | N133: základní | P133: =O133*H133 -> 0 | Q133: 0 | R133: =Q133*H133 -> 0 | S133: 0 | T133: =S133*H133 -> 0 | AR133: 4 | AT133: K | AU133: 2 | AY133: ROZPOCET | BE133: =IF(N133="základní",J133,0) -> 0 | BF133: =IF(N133="snížená",J133,0) -> 0 | BG133: =IF(N133="zákl. přenesená",J133,0) -> 0 | BH133: =IF(N133="sníž. přenesená",J133,0) -> 0 | BI133: =IF(N133="nulová",J133,0) -> 0 | BJ133: 1 | BK133: =ROUND(I133*H133,2) -> 0 | BL133: 4 | BM133: 1446800476
C134: 7 | D134: K | E134: 5906140070 | F134: Demontáž kolejového roštu koleje v ose koleje pražce dřevěné tv. S49 rozdělení "c". Poznámka: 1. V cenách jsou započteny náklady na případné odstranění kameniva, rozebrání roštu do součástí, manipulaci, naložení výzisku na dopravní prostředek a uložení na úložišti. 2. V cenách nejsou obsaženy náklady na dopravu a vytřídění. | G134: km | H134: 0.025 | J134: =ROUND(I134*H134,2) -> 0 | K134: Sborník UOŽI 01 2021 | N134: základní | P134: =O134*H134 -> 0 | Q134: 0 | R134: =Q134*H134 -> 0 | S134: 0 | T134: =S134*H134 -> 0 | AR134: 4 | AT134: K | AU134: 2 | AY134: ROZPOCET | BE134: =IF(N134="základní",J134,0) -> 0 | BF134: =IF(N134="snížená",J134,0) -> 0 | BG134: =IF(N134="zákl. přenesená",J134,0) -> 0 | BH134: =IF(N134="sníž. přenesená",J134,0) -> 0 | BI134: =IF(N134="nulová",J134,0) -> 0 | BJ134: 1 | BK134: =ROUND(I134*H134,2) -> 0 | BL134: 4 | BM134: 1162648251
D135: VV | F135: 0,025 | H135: 0.025 | AT135: VV | AU135: 2 | AV135: 2 | AW135: True | AX135: 0 | AY135: ROZPOCET
D136: VV | F136: Součet | H136: 0.025 | AT136: VV | AU136: 2 | AV136: 4 | AW136: True | AX136: 1 | AY136: ROZPOCET
C137: 8 | D137: K | E137: 5905055010 | F137: Odstranění stávajícího kolejového lože odtěžením v koleji. Poznámka: 1. V cenách jsou započteny náklady na odstranění KL, úpravu pláně a rozprostření výzisku na terén nebo jeho naložení na dopravní prostředek. 2. Položka se použije v případech, kdy se nové KL nezřizuje. | G137: m3 | H137: 53.45 | J137: =ROUND(I137*H137,2) -> 0 | K137: Sborník UOŽI 01 2021 | N137: základní | P137: =O137*H137 -> 0 | Q137: 0 | R137: =Q137*H137 -> 0 | S137: 0 | T137: =S137*H137 -> 0 | AR137: 4 | AT137: K | AU137: 2 | AY137: ROZPOCET | BE137: =IF(N137="základní",J137,0) -> 0 | BF137: =IF(N137="snížená",J137,0) -> 0 | BG137: =IF(N137="zákl. přenesená",J137,0) -> 0 | BH137: =IF(N137="sníž. přenesená",J137,0) -> 0 | BI137: =IF(N137="nulová",J137,0) -> 0 | BJ137: 1 | BK137: =ROUND(I137*H137,2) -> 0 | BL137: 4 | BM137: 1121677773
D138: VV | F138: 25*2,138 "odstranění KL v délce 25 m" | H138: 53.45 | AT138: VV | AU138: 2 | AV138: 2 | AW138: True | AX138: 0 | AY138: ROZPOCET
D139: VV | F139: Součet | H139: 53.45 | AT139: VV | AU139: 2 | AV139: 4 | AW139: True | AX139: 1 | AY139: ROZPOCET
C140: 9 | D140: K | E140: 5915010020 | F140: Těžení zeminy nebo horniny železničního spodku v hornině třídy těžitelnosti I skupiny 2. Poznámka: 1. V cenách jsou započteny náklady na těžení a uložení výzisku na terén nebo naložení na dopravní prostředek a uložení na úložišti. | G140: m3 | H140: 9.99 | J140: =ROUND(I140*H140,2) -> 0 | K140: Sborník UOŽI 01 2021 | N140: základní | P140: =O140*H140 -> 0 | Q140: 0 | R140: =Q140*H140 -> 0 | S140: 0 | T140: =S140*H140 -> 0 | AR140: 4 | AT140: K | AU140: 2 | AY140: ROZPOCET | BE140: =IF(N140="základní",J140,0) -> 0 | BF140: =IF(N140="snížená",J140,0) -> 0 | BG140: =IF(N140="zákl. přenesená",J140,0) -> 0 | BH140: =IF(N140="sníž. přenesená",J140,0) -> 0 | BI140: =IF(N140="nulová",J140,0) -> 0 | BJ140: 1 | BK140: =ROUND(I140*H140,2) -> 0 | BL140: 4 | BM140: 814070417
D141: VV | F141: 9*3,7*0,3 "odstranění ŠD pod přejezdem" | H141: 9.99 | AT141: VV | AU141: 2 | AV141: 2 | AW141: True | AX141: 0 | AY141: ROZPOCET
D142: VV | F142: Součet | H142: 9.99 | AT142: VV | AU142: 2 | AV142: 4 | AW142: True | AX142: 1 | AY142: ROZPOCET
C143: 10 | D143: K | E143: 5914075120 | F143: Zřízení konstrukční vrstvy pražcového podloží včetně geotextilie tl. 0,30 m. Poznámka: 1. V cenách jsou započteny náklady na naložení výzisku na dopravní prostředek. 2. V cenách nejsou obsaženy náklady na dodávku materiálu a odtěžení zeminy. | G143: m2 | H143: 33.3 | J143: =ROUND(I143*H143,2) -> 0 | K143: Sborník UOŽI 01 2021 | N143: základní | P143: =O143*H143 -> 0 | Q143: 0 | R143: =Q143*H143 -> 0 | S143: 0 | T143: =S143*H143 -> 0 | AR143: 4 | AT143: K | AU143: 2 | AY143: ROZPOCET | BE143: =IF(N143="základní",J143,0) -> 0 | BF143: =IF(N143="snížená",J143,0) -> 0 | BG143: =IF(N143="zákl. přenesená",J143,0) -> 0 | BH143: =IF(N143="sníž. přenesená",J143,0) -> 0 | BI143: =IF(N143="nulová",J143,0) -> 0 | BJ143: 1 | BK143: =ROUND(I143*H143,2) -> 0 | BL143: 4 | BM143: 1723204671
D144: P | F144: Poznámka k položce:_x000D_ VL Ž4 typ 3 | AT144: P | AU144: 2
D145: VV | F145: 9*3,7 "pod přejezdem" | H145: 33.3 | AT145: VV | AU145: 2 | AV145: 2 | AW145: True | AX145: 0 | AY145: ROZPOCET
D146: VV | F146: Součet | H146: 33.3 | AT146: VV | AU146: 2 | AV146: 4 | AW146: True | AX146: 1 | AY146: ROZPOCET
C147: 11 | D147: M | E147: 5955101020 | F147: Kamenivo drcené štěrkodrť frakce 0/32 | G147: t | H147: 25.821 | J147: =ROUND(I147*H147,2) -> 0 | K147: Sborník UOŽI 01 2021 | N147: základní | P147: =O147*H147 -> 0 | Q147: 1 | R147: =Q147*H147 -> 25.821 | S147: 0 | T147: =S147*H147 -> 0 | AR147: 8 | AT147: M | AU147: 2 | AY147: ROZPOCET | BE147: =IF(N147="základní",J147,0) -> 0 | BF147: =IF(N147="snížená",J147,0) -> 0 | BG147: =IF(N147="zákl. přenesená",J147,0) -> 0 | BH147: =IF(N147="sníž. přenesená",J147,0) -> 0 | BI147: =IF(N147="nulová",J147,0) -> 0 | BJ147: 1 | BK147: =ROUND(I147*H147,2) -> 0 | BL147: 4 | BM147: 1370116267
D148: VV | F148: 9*3,7*0,3*1,9 "doplnění po odstraněné ŠD v přejezdu" | H148: 18.981 | AT148: VV | AU148: 2 | AV148: 2 | AW148: True | AX148: 0 | AY148: ROZPOCET
D149: VV | F149: 12*0,3*1,9 "pod odstraněné přejezdové panely" | H149: 6.84 | AT149: VV | AU149: 2 | AV149: 2 | AW149: True | AX149: 0 | AY149: ROZPOCET
D150: VV | F150: Součet | H150: 25.821 | AT150: VV | AU150: 2 | AV150: 4 | AW150: True | AX150: 1 | AY150: ROZPOCET
C151: 12 | D151: K | E151: 5905060010 | F151: Zřízení nového kolejového lože v koleji. Poznámka: 1. V cenách jsou započteny náklady na zřízení KL nově zřizované koleje, vložení geosyntetika, rozprostření vrstvy kameniva, zřízení homogenizované vrstvy kameniva a úprava KL do profilu. 2. V cenách nejsou obsaženy náklady na položení KR, úpravu směrového a výškového uspořádání, doplnění a dodávku kameniva a snížení KL pod patou kolejnice. 3. Položka se použije v případech nově zřizované koleje nebo výhybky. | G151: m3 | H151: 19.242 | J151: =ROUND(I151*H151,2) -> 0 | K151: Sborník UOŽI 01 2021 | N151: základní | P151: =O151*H151 -> 0 | Q151: 0 | R151: =Q151*H151 -> 0 | S151: 0 | T151: =S151*H151 -> 0 | AR151: 4 | AT151: K | AU151: 2 | AY151: ROZPOCET | BE151: =IF(N151="základní",J151,0) -> 0 | BF151: =IF(N151="snížená",J151,0) -> 0 | BG151: =IF(N151="zákl. přenesená",J151,0) -> 0 | BH151: =IF(N151="sníž. přenesená",J151,0) -> 0 | BI151: =IF(N151="nulová",J151,0) -> 0 | BJ151: 1 | BK151: =ROUND(I151*H151,2) -> 0 | BL151: 4 | BM151: 1436247517
D152: VV | F152: 9*2,138 "pod přejezdem" | H152: 19.242 | AT152: VV | AU152: 2 | AV152: 2 | AW152: True | AX152: 0 | AY152: ROZPOCET
D153: VV | F153: Součet | H153: 19.242 | AT153: VV | AU153: 2 | AV153: 4 | AW153: True | AX153: 1 | AY153: ROZPOCET
C154: 13 | D154: K | E154: 5905105030 | F154: Doplnění KL kamenivem souvisle strojně v koleji. Poznámka: 1. V cenách jsou započteny náklady na doplnění kameniva ojediněle ručně vidlemi a/nebo souvisle strojně z výsypných vozů případně nakladačem. 2. V cenách nejsou obsaženy náklady na dodávku kameniva. | G154: m3 | H154: 188.45 | J154: =ROUND(I154*H154,2) -> 0 | K154: Sborník UOŽI 01 2021 | N154: základní | P154: =O154*H154 -> 0 | Q154: 0 | R154: =Q154*H154 -> 0 | S154: 0 | T154: =S154*H154 -> 0 | AR154: 4 | AT154: K | AU154: 2 | AY154: ROZPOCET | BE154: =IF(N154="základní",J154,0) -> 0 | BF154: =IF(N154="snížená",J154,0) -> 0 | BG154: =IF(N154="zákl. přenesená",J154,0) -> 0 | BH154: =IF(N154="sníž. přenesená",J154,0) -> 0 | BI154: =IF(N154="nulová",J154,0) -> 0 | BJ154: 1 | BK154: =ROUND(I154*H154,2) -> 0 | BL154: 4 | BM154: -411529719
D155: VV | F155: 25*2,138 "doplnění KL" | H155: 53.45 | AT155: VV | AU155: 2 | AV155: 2 | AW155: True | AX155: 0 | AY155: ROZPOCET
D156: VV | F156: 135 "podbíjení" | H156: 135 | AT156: VV | AU156: 2 | AV156: 2 | AW156: True | AX156: 0 | AY156: ROZPOCET
D157: VV | F157: Součet | H157: 188.45 | AT157: VV | AU157: 2 | AV157: 4 | AW157: True | AX157: 1 | AY157: ROZPOCET
C158: 14 | D158: M | E158: 5955101000 | F158: Kamenivo drcené štěrk frakce 31,5/63 třídy BI | G158: t | H158: 339.21 | J158: =ROUND(I158*H158,2) -> 0 | K158: Sborník UOŽI 01 2021 | N158: základní | P158: =O158*H158 -> 0 | Q158: 1 | R158: =Q158*H158 -> 339.21 | S158: 0 | T158: =S158*H158 -> 0 | AR158: 8 | AT158: M | AU158: 2 | AY158: ROZPOCET | BE158: =IF(N158="základní",J158,0) -> 0 | BF158: =IF(N158="snížená",J158,0) -> 0 | BG158: =IF(N158="zákl. přenesená",J158,0) -> 0 | BH158: =IF(N158="sníž. přenesená",J158,0) -> 0 | BI158: =IF(N158="nulová",J158,0) -> 0 | BJ158: 1 | BK158: =ROUND(I158*H158,2) -> 0 | BL158: 4 | BM158: 1410542713
D159: VV | F159: 188,450*1,8 "kamenivo do přejezdu" | H159: 339.21 | AT159: VV | AU159: 2 | AV159: 2 | AW159: True | AX159: 0 | AY159: ROZPOCET
D160: VV | F160: Součet | H160: 339.21 | AT160: VV | AU160: 2 | AV160: 4 | AW160: True | AX160: 1 | AY160: ROZPOCET
C161: 15 | D161: M | E161: 5964133010 | F161: Geotextilie ochranné | G161: m2 | H161: 35 | J161: =ROUND(I161*H161,2) -> 0 | K161: Sborník UOŽI 01 2021 | N161: základní | P161: =O161*H161 -> 0 | Q161: 0 | R161: =Q161*H161 -> 0 | S161: 0 | T161: =S161*H161 -> 0 | AR161: 8 | AT161: M | AU161: 2 | AY161: ROZPOCET | BE161: =IF(N161="základní",J161,0) -> 0 | BF161: =IF(N161="snížená",J161,0) -> 0 | BG161: =IF(N161="zákl. přenesená",J161,0) -> 0 | BH161: =IF(N161="sníž. přenesená",J161,0) -> 0 | BI161: =IF(N161="nulová",J161,0) -> 0 | BJ161: 1 | BK161: =ROUND(I161*H161,2) -> 0 | BL161: 4 | BM161: 358971643
D162: VV | F162: 35 " pod přejezd min 400g/m2" | H162: 35 | AT162: VV | AU162: 2 | AV162: 2 | AW162: True | AX162: 0 | AY162: ROZPOCET
D163: VV | F163: Součet | H163: 35 | AT163: VV | AU163: 2 | AV163: 4 | AW163: True | AX163: 1 | AY163: ROZPOCET
C164: 16 | D164: K | E164: 5905110010 | F164: Snížení KL pod patou kolejnice v koleji. Poznámka: 1. V cenách jsou započteny náklady na snížení KL pod patou kolejnice ručně vidlemi. 2. V cenách nejsou obsaženy náklady na doplnění a dodávku kameniva. | G164: km | H164: 0.05 | J164: =ROUND(I164*H164,2) -> 0 | K164: Sborník UOŽI 01 2021 | N164: základní | P164: =O164*H164 -> 0 | Q164: 0 | R164: =Q164*H164 -> 0 | S164: 0 | T164: =S164*H164 -> 0 | AR164: 4 | AT164: K | AU164: 2 | AY164: ROZPOCET | BE164: =IF(N164="základní",J164,0) -> 0 | BF164: =IF(N164="snížená",J164,0) -> 0 | BG164: =IF(N164="zákl. přenesená",J164,0) -> 0 | BH164: =IF(N164="sníž. přenesená",J164,0) -> 0 | BI164: =IF(N164="nulová",J164,0) -> 0 | BJ164: 1 | BK164: =ROUND(I164*H164,2) -> 0 | BL164: 4 | BM164: 1190302182
...

Sheet SO-02.1 - Manipulace, pře...
L2: >> skryté sloupce << | AT2: {5badf273-d92e-4199-b1e1-80c0230cfd38}
AT3: 2
D4: KRYCÍ LIST SOUPISU PRACÍ | M4: v --- níže se nacházejí doplnkové a pomocné údaje k sestavám --- v | AT4: False
D6: Stavba:
E7: ='Rekapitulace stavby'!K6 -> Oprava trati v úseku Vranovice - Pohořelice - přejezdy v km 5,688 a 0,572
D8: Objekt:
E9: PS-02 - Ostatní
D10: Soupis:
E11: SO-02.1 - Manipulace, přepravy, poplatky
D13: KSO: | I13: CC-CZ:
D14: Místo: | F14: Vranovice - Pohořelice | I14: Datum: | J14: ='Rekapitulace stavby'!AN8 -> 12. 4. 2021
D16: Zadavatel: | I16: IČ: | J16: =IF('Rekapitulace stavby'!AN10="","",'Rekapitulace stavby'!AN10)
E17: =IF('Rekapitulace stavby'!E11="","",'Rekapitulace stavby'!E11) | I17: DIČ: | J17: =IF('Rekapitulace stavby'!AN11="","",'Rekapitulace stavby'!AN11)
D19: Uchazeč: | I19: IČ: | J19: ='Rekapitulace stavby'!AN13 -> Vyplň údaj
E20: ='Rekapitulace stavby'!E14 -> Vyplň údaj | I20: DIČ: | J20: ='Rekapitulace stavby'!AN14 -> Vyplň údaj
D22: Projektant: | I22: IČ: | J22: =IF('Rekapitulace stavby'!AN16="","",'Rekapitulace stavby'!AN16)
E23: =IF('Rekapitulace stavby'!E17="","",'Rekapitulace stavby'!E17) | I23: DIČ: | J23: =IF('Rekapitulace stavby'!AN17="","",'Rekapitulace stavby'!AN17)
D25: Zpracovatel: | I25: IČ:
E26: Ondřej Bozek | I26: DIČ:
D28: Poznámka:
D32: Cena bez DPH | J32: =ROUND(J121, 2) -> 0
F34: Základ daně | I34: Sazba daně | J34: Výše daně
D35: DPH | E35: základní | F35: =ROUND((SUM(BE121:BE173)), 2) -> 0 | I35: 0.21 | J35: =ROUND(((SUM(BE121:BE173))*I35), 2) -> 0
E36: snížená | F36: =ROUND((SUM(BF121:BF173)), 2) -> 0 | I36: 0.15 | J36: =ROUND(((SUM(BF121:BF173))*I36), 2) -> 0
E37: zákl. přenesená | F37: =ROUND((SUM(BG121:BG173)), 2) -> 0 | I37: 0.21 | J37: =0 -> 0
E38: sníž. přenesená | F38: =ROUND((SUM(BH121:BH173)), 2) -> 0 | I38: 0.15 | J38: =0 -> 0
E39: nulová | F39: =ROUND((SUM(BI121:BI173)), 2) -> 0 | I39: 0 | J39: =0 -> 0
D41: Cena s DPH | G41: v | H41: CZK | J41: =SUM(J32:J39) -> 0
D50: Projektant | G50: Zpracovatel
D61: Datum a podpis: | F61: Razítko | G61: Datum a podpis: | J61: Razítko
D65: Objednavatel | G65: Uchazeč
D76: Datum a podpis: | F76: Razítko | G76: Datum a podpis: | J76: Razítko
C82: REKAPITULACE ČLENĚNÍ SOUPISU PRACÍ
C84: Stavba:
E85: =E7 -> Oprava trati v úseku Vranovice - Pohořelice - přejezdy v km 5,688 a 0,572
C86: Objekt:
E87: PS-02 - Ostatní
C88: Soupis:
E89: =E11 -> SO-02.1 - Manipulace, přepravy, poplatky
C91: Místo: | F91: =F14 -> Vranovice - Pohořelice | I91: Datum: | J91: =IF(J14="","",J14) -> 12. 4. 2021
C93: Zadavatel: | F93: =E17 | I93: Projektant: | J93: =E23
C94: Uchazeč: | F94: =IF(E20="","",E20) -> Vyplň údaj | I94: Zpracovatel: | J94: =E26 -> Ondřej Bozek
C96: Kód dílu - Popis | J96: Cena celkem [CZK]
C98: Náklady ze soupisu prací | J98: =J121 -> 0 | AU98: -1
D99: OST - Ostatní | J99: =J122 -> 0
C106: SOUPIS PRACÍ
C108: Stavba:
E109: =E7 -> Oprava trati v úseku Vranovice - Pohořelice - přejezdy v km 5,688 a 0,572
C110: Objekt:
E111: PS-02 - Ostatní
C112: Soupis:
E113: =E11 -> SO-02.1 - Manipulace, přepravy, poplatky
C115: Místo: | F115: =F14 -> Vranovice - Pohořelice | I115: Datum: | J115: =IF(J14="","",J14) -> 12. 4. 2021
C117: Zadavatel: | F117: =E17 | I117: Projektant: | J117: =E23
C118: Uchazeč: | F118: =IF(E20="","",E20) -> Vyplň údaj | I118: Zpracovatel: | J118: =E26 -> Ondřej Bozek
C120: PČ | D120: Typ | E120: Kód | F120: Popis | G120: MJ | H120: Množství | I120: J.cena [CZK] | J120: Cena celkem [CZK] | K120: Cenová soustava | N120: DPH | O120: J. Nh [h] | P120: Nh celkem [h] | Q120: J. hmotnost [t] | R120: Hmotnost celkem [t] | S120: J. suť [t] | T120: Suť Celkem [t]
C121: Náklady soupisu celkem | J121: =BK121 -> 0 | P121: =P122 -> 0 | R121: =R122 -> 0 | T121: =T122 -> 0 | AT121: D | AU121: -1 | BK121: =BK122 -> 0
D122: D | E122: OST | F122: Ostatní | J122: =BK122 -> 0 | P122: =SUM(P123:P173) -> 0 | R122: =SUM(R123:R173) -> 0 | T122: =SUM(T123:T173) -> 0 | AR122: 4 | AT122: D | AU122: 0 | AY122: ROZPOCET | BK122: =SUM(BK123:BK173) -> 0
C123: 1 | D123: K | E123: 9902100100 | F123: Doprava obousměrná (např. dodávek z vlastních zásob zhotovitele nebo objednatele nebo výzisku) mechanizací o nosnosti přes 3,5 t sypanin (kameniva, písku, suti, dlažebních kostek, atd.) do 10 km Poznámka: 1. Ceny jsou určeny pro dopravu silničními i kolejovými vozidly.2. V cenách obousměrné dopravy jsou započteny náklady na přepravu materiálu na místo určení včetně složení, poplatku za použití dopravní cesty a zpáteční cesty nenaloženého dopravního prostředku. | G123: t | H123: 241.782 | J123: =ROUND(I123*H123,2) -> 0 | K123: Sborník UOŽI 01 2021 | N123: základní | P123: =O123*H123 -> 0 | Q123: 0 | R123: =Q123*H123 -> 0 | S123: 0 | T123: =S123*H123 -> 0 | AR123: 512 | AT123: K | AU123: 1 | AY123: ROZPOCET | BE123: =IF(N123="základní",J123,0) -> 0 | BF123: =IF(N123="snížená",J123,0) -> 0 | BG123: =IF(N123="zákl. přenesená",J123,0) -> 0 | BH123: =IF(N123="sníž. přenesená",J123,0) -> 0 | BI123: =IF(N123="nulová",J123,0) -> 0 | BJ123: 1 | BK123: =ROUND(I123*H123,2) -> 0 | BL123: 512 | BM123: 1829246544
D124: P | F124: Poznámka k položce:_x000D_ Měrnou jednotkou je t přepravovaného materiálu. | AT124: P | AU124: 1
D125: VV | F125: (53,45*2*1,8) + (9,99*2*1,9)+(6*1,9) "přeprava vyzískaného kameniva na úložiště" | H125: 241.782 | AT125: VV | AU125: 1 | AV125: 2 | AW125: True | AX125: 0 | AY125: ROZPOCET
D126: VV | F126: Součet | H126: 241.782 | AT126: VV | AU126: 1 | AV126: 4 | AW126: True | AX126: 1 | AY126: ROZPOCET
C127: 2 | D127: K | E127: 9902200300 | F127: Doprava obousměrná (např. dodávek z vlastních zásob zhotovitele nebo objednatele nebo výzisku) mechanizací o nosnosti přes 3,5 t objemnějšího kusového materiálu (prefabrikátů, stožárů, výhybek, rozvaděčů, vybouraných hmot atd.) do 30 km Poznámka: 1. Ceny jsou určeny pro dopravu silničními i kolejovými vozidly.2. V cenách obousměrné dopravy jsou započteny náklady na přepravu materiálu na místo určení včetně složení, poplatku za použití dopravní cesty a zpáteční cesty nenaloženého dopravního prostředku. | G127: t | H127: 16.06 | J127: =ROUND(I127*H127,2) -> 0 | K127: Sborník UOŽI 01 2021 | N127: základní | P127: =O127*H127 -> 0 | Q127: 0 | R127: =Q127*H127 -> 0 | S127: 0 | T127: =S127*H127 -> 0 | AR127: 512 | AT127: K | AU127: 1 | AY127: ROZPOCET | BE127: =IF(N127="základní",J127,0) -> 0 | BF127: =IF(N127="snížená",J127,0) -> 0 | BG127: =IF(N127="zákl. přenesená",J127,0) -> 0 | BH127: =IF(N127="sníž. přenesená",J127,0) -> 0 | BI127: =IF(N127="nulová",J127,0) -> 0 | BJ127: 1 | BK127: =ROUND(I127*H127,2) -> 0 | BL127: 512 | BM127: -11947581
D128: P | F128: Poznámka k položce:_x000D_ Měrnou jednotkou je t přepravovaného materiálu. | AT128: P | AU128: 1
D129: VV | F129: (39+16)*0,292 "přeprava užitých pražců SB8 z ŽST Zaječí" | H129: 16.06 | AT129: VV | AU129: 1 | AV129: 2 | AW129: True | AX129: 0 | AY129: ROZPOCET
D130: VV | F130: Součet | H130: 16.06 | AT130: VV | AU130: 1 | AV130: 4 | AW130: True | AX130: 1 | AY130: ROZPOCET
C131: 3 | D131: K | E131: 9902200600 | F131: Doprava obousměrná (např. dodávek z vlastních zásob zhotovitele nebo objednatele nebo výzisku) mechanizací o nosnosti přes 3,5 t objemnějšího kusového materiálu (prefabrikátů, stožárů, výhybek, rozvaděčů, vybouraných hmot atd.) do 80 km Poznámka: 1. Ceny jsou určeny pro dopravu silničními i kolejovými vozidly.2. V cenách obousměrné dopravy jsou započteny náklady na přepravu materiálu na místo určení včetně složení, poplatku za použití dopravní cesty a zpáteční cesty nenaloženého dopravního prostředku. | G131: t | H131: 11.22 | J131: =ROUND(I131*H131,2) -> 0 | K131: Sborník UOŽI 01 2021 | N131: základní | P131: =O131*H131 -> 0 | Q131: 0 | R131: =Q131*H131 -> 0 | S131: 0 | T131: =S131*H131 -> 0 | AR131: 512 | AT131: K | AU131: 1 | AY131: ROZPOCET | BE131: =IF(N131="základní",J131,0) -> 0 | BF131: =IF(N131="snížená",J131,0) -> 0 | BG131: =IF(N131="zákl. přenesená",J131,0) -> 0 | BH131: =IF(N131="sníž. přenesená",J131,0) -> 0 | BI131: =IF(N131="nulová",J131,0) -> 0 | BJ131: 1 | BK131: =ROUND(I131*H131,2) -> 0 | BL131: 512 | BM131: 94158210
D132: P | F132: Poznámka k položce:_x000D_ Měrnou jednotkou je t přepravovaného materiálu. | AT132: P | AU132: 1
D133: VV | F133: (50+50)*0,049 "přeprava užitých kolejnic z ŽST Lanžhot" | H133: 4.9 | AT133: VV | AU133: 1 | AV133: 2 | AW133: True | AX133: 0 | AY133: ROZPOCET
D134: VV | F134: (39+40)*0,080 "přeprava dřev. pražců do spalovny" | H134: 6.32 | AT134: VV | AU134: 1 | AV134: 2 | AW134: True | AX134: 0 | AY134: ROZPOCET
D135: VV | F135: Součet | H135: 11.22 | AT135: VV | AU135: 1 | AV135: 4 | AW135: True | AX135: 1 | AY135: ROZPOCET
C136: 4 | D136: K | E136: 9902300200 | F136: Doprava jednosměrná (např. nakupovaného materiálu) mechanizací o nosnosti přes 3,5 t sypanin (kameniva, písku, suti, dlažebních kostek, atd.) do 20 km Poznámka: 1. Ceny jsou určeny pro dopravu silničními i kolejovými vozidly.2. V cenách jednosměrné dopravy jsou započteny náklady na přepravu materiálu na místo určení včetně složení a poplatku za použití dopravní cesty. Tyto položky se použijí i v případě, kdy se předpokládá, že dopravní prostředek bude naložen i na zpáteční cestě. V tomto případě se použijí položky pro každý směr samostatně (např. doprava materiálu na stavbu a odvoz výzisku nebo suti ze stavby). | G136: t | H136: 66.468 | J136: =ROUND(I136*H136,2) -> 0 | K136: Sborník UOŽI 01 2021 | N136: základní | P136: =O136*H136 -> 0 | Q136: 0 | R136: =Q136*H136 -> 0 | S136: 0 | T136: =S136*H136 -> 0 | AR136: 512 | AT136: K | AU136: 1 | AY136: ROZPOCET | BE136: =IF(N136="základní",J136,0) -> 0 | BF136: =IF(N136="snížená",J136,0) -> 0 | BG136: =IF(N136="zákl. přenesená",J136,0) -> 0 | BH136: =IF(N136="sníž. přenesená",J136,0) -> 0 | BI136: =IF(N136="nulová",J136,0) -> 0 | BJ136: 1 | BK136: =ROUND(I136*H136,2) -> 0 | BL136: 512 | BM136: 271421054
D137: P | F137: Poznámka k položce:_x000D_ Měrnou jednotkou je t přepravovaného materiálu. | AT137: P | AU137: 1
D138: VV | F138: 39,9+17,632 "asfalty" | H138: 57.532 | AT138: VV | AU138: 1 | AV138: 2 | AW138: True | AX138: 0 | AY138: ROZPOCET
D139: VV | F139: 8,936 "betony" | H139: 8.936 | AT139: VV | AU139: 1 | AV139: 2 | AW139: True | AX139: 0 | AY139: ROZPOCET
D140: VV | F140: Součet | H140: 66.468 | AT140: VV | AU140: 1 | AV140: 4 | AW140: True | AX140: 1 | AY140: ROZPOCET
C141: 5 | D141: K | E141: 9902300300 | F141: Doprava jednosměrná (např. nakupovaného materiálu) mechanizací o nosnosti přes 3,5 t sypanin (kameniva, písku, suti, dlažebních kostek, atd.) do 30 km Poznámka: 1. Ceny jsou určeny pro dopravu silničními i kolejovými vozidly.2. V cenách jednosměrné dopravy jsou započteny náklady na přepravu materiálu na místo určení včetně složení a poplatku za použití dopravní cesty. Tyto položky se použijí i v případě, kdy se předpokládá, že dopravní prostředek bude naložen i na zpáteční cestě. V tomto případě se použijí položky pro každý směr samostatně (např. doprava materiálu na stavbu a odvoz výzisku nebo suti ze stavby). | G141: t | H141: 489.222 | J141: =ROUND(I141*H141,2) -> 0 | K141: Sborník UOŽI 01 2021 | N141: základní | P141: =O141*H141 -> 0 | Q141: 0 | R141: =Q141*H141 -> 0 | S141: 0 | T141: =S141*H141 -> 0 | AR141: 512 | AT141: K | AU141: 1 | AY141: ROZPOCET | BE141: =IF(N141="základní",J141,0) -> 0 | BF141: =IF(N141="snížená",J141,0) -> 0 | BG141: =IF(N141="zákl. přenesená",J141,0) -> 0 | BH141: =IF(N141="sníž. přenesená",J141,0) -> 0 | BI141: =IF(N141="nulová",J141,0) -> 0 | BJ141: 1 | BK141: =ROUND(I141*H141,2) -> 0 | BL141: 512 | BM141: -1698331205
D142: P | F142: Poznámka k položce:_x000D_ Měrnou jednotkou je t přepravovaného materiálu. | AT142: P | AU142: 1
D143: VV | F143: (18,981+105,210)+(25,821+339,210) "ŠD+ŠL" | H143: 489.222 | AT143: VV | AU143: 1 | AV143: 2 | AW143: True | AX143: 0 | AY143: ROZPOCET
D144: VV | F144: Součet | H144: 489.222 | AT144: VV | AU144: 1 | AV144: 4 | AW144: True | AX144: 1 | AY144: ROZPOCET
C145: 6 | D145: K | E145: 9902300400 | F145: Doprava jednosměrná (např. nakupovaného materiálu) mechanizací o nosnosti přes 3,5 t sypanin (kameniva, písku, suti, dlažebních kostek, atd.) do 40 km Poznámka: 1. Ceny jsou určeny pro dopravu silničními i kolejovými vozidly.2. V cenách jednosměrné dopravy jsou započteny náklady na přepravu materiálu na místo určení včetně složení a poplatku za použití dopravní cesty. Tyto položky se použijí i v případě, kdy se předpokládá, že dopravní prostředek bude naložen i na zpáteční cestě. V tomto případě se použijí položky pro každý směr samostatně (např. doprava materiálu na stavbu a odvoz výzisku nebo suti ze stavby). | G145: t | H145: 23.098 | J145: =ROUND(I145*H145,2) -> 0 | K145: Sborník UOŽI 01 2021 | N145: základní | P145: =O145*H145 -> 0 | Q145: 0 | R145: =Q145*H145 -> 0 | S145: 0 | T145: =S145*H145 -> 0 | AR145: 512 | AT145: K | AU145: 1 | AY145: ROZPOCET | BE145: =IF(N145="základní",J145,0) -> 0 | BF145: =IF(N145="snížená",J145,0) -> 0 | BG145: =IF(N145="zákl. přenesená",J145,0) -> 0 | BH145: =IF(N145="sníž. přenesená",J145,0) -> 0 | BI145: =IF(N145="nulová",J145,0) -> 0 | BJ145: 1 | BK145: =ROUND(I145*H145,2) -> 0 | BL145: 512 | BM145: 407409455
D146: P | F146: Poznámka k položce:_x000D_ Měrnou jednotkou je t přepravovaného materiálu. | AT146: P | AU146: 1
D147: VV | F147: 12,619+2,263 "pryžová přejezdová kce vč. záv. zídek" | H147: 14.882 | AT147: VV | AU147: 1 | AV147: 2 | AW147: True | AX147: 0 | AY147: ROZPOCET
D148: VV | F148: 0,028 "geotextílie" | H148: 0.028 | AT148: VV | AU148: 1 | AV148: 2 | AW148: True | AX148: 0 | AY148: ROZPOCET
D149: VV | F149: 0,982+0,412 "drobná upevňovadla" | H149: 1.394 | AT149: VV | AU149: 1 | AV149: 2 | AW149: True | AX149: 0 | AY149: ROZPOCET
D150: VV | F150: 6,794 "nové pražce" | H150: 6.794 | AT150: VV | AU150: 1 | AV150: 2 | AW150: True | AX150: 0 | AY150: ROZPOCET
D151: VV | F151: Součet | H151: 23.098 | AT151: VV | AU151: 1 | AV151: 4 | AW151: True | AX151: 1 | AY151: ROZPOCET
C152: 7 | D152: K | E152: 9902400300 | F152: Doprava jednosměrná (např. nakupovaného materiálu) mechanizací o nosnosti přes 3,5 t objemnějšího kusového materiálu (prefabrikátů, stožárů, výhybek, rozvaděčů, vybouraných hmot atd.) do 30 km Poznámka: 1. Ceny jsou určeny pro dopravu silničními i kolejovými vozidly.2. V cenách jednosměrné dopravy jsou započteny náklady na přepravu materiálu na místo určení včetně složení a poplatku za použití dopravní cesty. Tyto položky se použijí i v případě, kdy se předpokládá, že dopravní prostředek bude naložen i na zpáteční cestě. V tomto případě se použijí položky pro každý směr samostatně (např. doprava materiálu na stavbu a odvoz výzisku nebo suti ze stavby). | G152: t | H152: 57.558 | J152: =ROUND(I152*H152,2) -> 0 | K152: Sborník UOŽI 01 2021 | N152: základní | P152: =O152*H152 -> 0 | Q152: 0 | R152: =Q152*H152 -> 0 | S152: 0 | T152: =S152*H152 -> 0 | AR152: 512 | AT152: K | AU152: 1 | AY152: ROZPOCET | BE152: =IF(N152="základní",J152,0) -> 0 | BF152: =IF(N152="snížená",J152,0) -> 0 | BG152: =IF(N152="zákl. přenesená",J152,0) -> 0 | BH152: =IF(N152="sníž. přenesená",J152,0) -> 0 | BI152: =IF(N152="nulová",J152,0) -> 0 | BJ152: 1 | BK152: =ROUND(I152*H152,2) -> 0 | BL152: 512 | BM152: 527357249
D153: P | F153: Poznámka k položce:_x000D_ Měrnou jednotkou je t přepravovaného materiálu. | AT153: P | AU153: 1
D154: VV | F154: (19*0,298)+(23*0,870) "přeprava betonových panelů na skládku" | H154: 25.672 | AT154: VV | AU154: 1 | AV154: 2 | AW154: True | AX154: 0 | AY154: ROZPOCET
D155: VV | F155: (4+7,388)*2,8 "přeprava asfaltů na skládku" | H155: 31.886 | AT155: VV | AU155: 1 | AV155: 2 | AW155: True | AX155: 0 | AY155: ROZPOCET
D156: VV | F156: Součet | H156: 57.558 | AT156: VV | AU156: 1 | AV156: 4 | AW156: True | AX156: 1 | AY156: ROZPOCET
C157: 8 | D157: K | E157: 9902900200 | F157: Naložení objemnějšího kusového materiálu, vybouraných hmot Poznámka: 1. Ceny jsou určeny pro nakládání materiálu v případech, kdy není naložení součástí dodávky materiálu nebo není uvedeno v popisu cen a pro nakládání z meziskládky.2. Ceny se použijí i pro nakládání materiálu z vlastních zásob objednatele. | G157: t | H157: 20.96 | J157: =ROUND(I157*H157,2) -> 0 | K157: Sborník UOŽI 01 2021 | N157: základní | P157: =O157*H157 -> 0 | Q157: 0 | R157: =Q157*H157 -> 0 | S157: 0 | T157: =S157*H157 -> 0 | AR157: 512 | AT157: K | AU157: 1 | AY157: ROZPOCET | BE157: =IF(N157="základní",J157,0) -> 0 | BF157: =IF(N157="snížená",J157,0) -> 0 | BG157: =IF(N157="zákl. přenesená",J157,0) -> 0 | BH157: =IF(N157="sníž. přenesená",J157,0) -> 0 | BI157: =IF(N157="nulová",J157,0) -> 0 | BJ157: 1 | BK157: =ROUND(I157*H157,2) -> 0 | BL157: 512 | BM157: 1290393370
D158: VV | F158: 0,292*(39+16) "55 ks pražců SB8 z ŽST Zaječí" | H158: 16.06 | AT158: VV | AU158: 1 | AV158: 2 | AW158: True | AX158: 0 | AY158: ROZPOCET
D159: VV | F159: 100*0,049 "naložení 4 ks 25m kolejnic S49 v ŽST Lanžhot" | H159: 4.9 | AT159: VV | AU159: 1 | AV159: 2 | AW159: True | AX159: 0 | AY159: ROZPOCET
D160: VV | F160: Součet | H160: 20.96 | AT160: VV | AU160: 1 | AV160: 4 | AW160: True | AX160: 1 | AY160: ROZPOCET
C161: 9 | D161: K | E161: 9903200100 | F161: Přeprava mechanizace na místo prováděných prací o hmotnosti přes 12 t přes 50 do 100 km Poznámka: 1. Ceny jsou určeny pro dopravu mechanizmů na místo prováděných prací po silnici i po kolejích.2. V ceně jsou započteny i náklady na zpáteční cestu dopravního prostředku. Měrnou jednotkou je kus přepravovaného stroje. | G161: kus | H161: 4 | J161: =ROUND(I161*H161,2) -> 0 | K161: Sborník UOŽI 01 2021 | N161: základní | P161: =O161*H161 -> 0 | Q161: 0 | R161: =Q161*H161 -> 0 | S161: 0 | T161: =S161*H161 -> 0 | AR161: 512 | AT161: K | AU161: 1 | AY161: ROZPOCET | BE161: =IF(N161="základní",J161,0) -> 0 | BF161: =IF(N161="snížená",J161,0) -> 0 | BG161: =IF(N161="zákl. přenesená",J161,0) -> 0 | BH161: =IF(N161="sníž. přenesená",J161,0) -> 0 | BI161: =IF(N161="nulová",J161,0) -> 0 | BJ161: 1 | BK161: =ROUND(I161*H161,2) -> 0 | BL161: 512 | BM161: 1059291828
C162: 10 | D162: K | E162: 9909000300 | F162: Poplatek za likvidaci dřevěných kolejnicových podpor Poznámka: 1. V cenách jsou započteny náklady na uložení stavebního odpadu na oficiální skládku.2. Je třeba zohlednit regionální rozdíly v cenách poplatků za uložení suti a odpadů. Tyto se mohou výrazně lišit s ohledem nejen na region, ale také na množství a druh ukládaného odpadu. | G162: t | H162: 6.32 | J162: =ROUND(I162*H162,2) -> 0 | K162: Sborník UOŽI 01 2021 | N162: základní | P162: =O162*H162 -> 0 | Q162: 0 | R162: =Q162*H162 -> 0 | S162: 0 | T162: =S162*H162 -> 0 | AR162: 512 | AT162: K | AU162: 1 | AY162: ROZPOCET | BE162: =IF(N162="základní",J162,0) -> 0 | BF162: =IF(N162="snížená",J162,0) -> 0 | BG162: =IF(N162="zákl. přenesená",J162,0) -> 0 | BH162: =IF(N162="sníž. přenesená",J162,0) -> 0 | BI162: =IF(N162="nulová",J162,0) -> 0 | BJ162: 1 | BK162: =ROUND(I162*H162,2) -> 0 | BL162: 512 | BM162: 729459470
D163: VV | F163: 6,320 "poplatek za likvidaci dřev. pražců" | H163: 6.32 | AT163: VV | AU163: 1 | AV163: 2 | AW163: True | AX163: 0 | AY163: ROZPOCET
D164: VV | F164: Součet | H164: 6.32 | AT164: VV | AU164: 1 | AV164: 4 | AW164: True | AX164: 1 | AY164: ROZPOCET
...

Sheet SO 02.2 - VON
L2: >> skryté sloupce << | AT2: {fcbf2b60-cfa0-434d-ba82-d6dfd4bb692f}
AT3: 2
D4: KRYCÍ LIST SOUPISU PRACÍ | M4: v --- níže se nacházejí doplnkové a pomocné údaje k sestavám --- v | AT4: False
D6: Stavba:
E7: ='Rekapitulace stavby'!K6 -> Oprava trati v úseku Vranovice - Pohořelice - přejezdy v km 5,688 a 0,572
D8: Objekt:
E9: PS-02 - Ostatní
D10: Soupis:
E11: SO 02.2 - VON
D13: KSO: | I13: CC-CZ:
D14: Místo: | F14: Vranovice - Pohořelice | I14: Datum: | J14: ='Rekapitulace stavby'!AN8 -> 12. 4. 2021
D16: Zadavatel: | I16: IČ: | J16: =IF('Rekapitulace stavby'!AN10="","",'Rekapitulace stavby'!AN10)
E17: =IF('Rekapitulace stavby'!E11="","",'Rekapitulace stavby'!E11) | I17: DIČ: | J17: =IF('Rekapitulace stavby'!AN11="","",'Rekapitulace stavby'!AN11)
D19: Uchazeč: | I19: IČ: | J19: ='Rekapitulace stavby'!AN13 -> Vyplň údaj
E20: ='Rekapitulace stavby'!E14 -> Vyplň údaj | I20: DIČ: | J20: ='Rekapitulace stavby'!AN14 -> Vyplň údaj
D22: Projektant: | I22: IČ: | J22: =IF('Rekapitulace stavby'!AN16="","",'Rekapitulace stavby'!AN16)
E23: =IF('Rekapitulace stavby'!E17="","",'Rekapitulace stavby'!E17) | I23: DIČ: | J23: =IF('Rekapitulace stavby'!AN17="","",'Rekapitulace stavby'!AN17)
D25: Zpracovatel: | I25: IČ:
E26: Ondřej Bozek | I26: DIČ:
D28: Poznámka:
D32: Cena bez DPH | J32: =ROUND(J121, 2) -> 0
F34: Základ daně | I34: Sazba daně | J34: Výše daně
D35: DPH | E35: základní | F35: =ROUND((SUM(BE121:BE135)), 2) -> 0 | I35: 0.21 | J35: =ROUND(((SUM(BE121:BE135))*I35), 2) -> 0
E36: snížená | F36: =ROUND((SUM(BF121:BF135)), 2) -> 0 | I36: 0.15 | J36: =ROUND(((SUM(BF121:BF135))*I36), 2) -> 0
E37: zákl. přenesená | F37: =ROUND((SUM(BG121:BG135)), 2) -> 0 | I37: 0.21 | J37: =0 -> 0
E38: sníž. přenesená | F38: =ROUND((SUM(BH121:BH135)), 2) -> 0 | I38: 0.15 | J38: =0 -> 0
E39: nulová | F39: =ROUND((SUM(BI121:BI135)), 2) -> 0 | I39: 0 | J39: =0 -> 0
D41: Cena s DPH | G41: v | H41: CZK | J41: =SUM(J32:J39) -> 0
D50: Projektant | G50: Zpracovatel
D61: Datum a podpis: | F61: Razítko | G61: Datum a podpis: | J61: Razítko
D65: Objednavatel | G65: Uchazeč
D76: Datum a podpis: | F76: Razítko | G76: Datum a podpis: | J76: Razítko
C82: REKAPITULACE ČLENĚNÍ SOUPISU PRACÍ
C84: Stavba:
E85: =E7 -> Oprava trati v úseku Vranovice - Pohořelice - přejezdy v km 5,688 a 0,572
C86: Objekt:
E87: PS-02 - Ostatní
C88: Soupis:
E89: =E11 -> SO 02.2 - VON
C91: Místo: | F91: =F14 -> Vranovice - Pohořelice | I91: Datum: | J91: =IF(J14="","",J14) -> 12. 4. 2021
C93: Zadavatel: | F93: =E17 | I93: Projektant: | J93: =E23
C94: Uchazeč: | F94: =IF(E20="","",E20) -> Vyplň údaj | I94: Zpracovatel: | J94: =E26 -> Ondřej Bozek
C96: Kód dílu - Popis | J96: Cena celkem [CZK]
C98: Náklady ze soupisu prací | J98: =J121 -> 0 | AU98: -1
D99: VRN - Vedlejší rozpočtové náklady | J99: =J122 -> 0
C106: SOUPIS PRACÍ
C108: Stavba:
E109: =E7 -> Oprava trati v úseku Vranovice - Pohořelice - přejezdy v km 5,688 a 0,572
C110: Objekt:
E111: PS-02 - Ostatní
C112: Soupis:
E113: =E11 -> SO 02.2 - VON
C115: Místo: | F115: =F14 -> Vranovice - Pohořelice | I115: Datum: | J115: =IF(J14="","",J14) -> 12. 4. 2021
C117: Zadavatel: | F117: =E17 | I117: Projektant: | J117: =E23
C118: Uchazeč: | F118: =IF(E20="","",E20) -> Vyplň údaj | I118: Zpracovatel: | J118: =E26 -> Ondřej Bozek
C120: PČ | D120: Typ | E120: Kód | F120: Popis | G120: MJ | H120: Množství | I120: J.cena [CZK] | J120: Cena celkem [CZK] | K120: Cenová soustava | N120: DPH | O120: J. Nh [h] | P120: Nh celkem [h] | Q120: J. hmotnost [t] | R120: Hmotnost celkem [t] | S120: J. suť [t] | T120: Suť Celkem [t]
C121: Náklady soupisu celkem | J121: =BK121 -> 0 | P121: =P122 -> 0 | R121: =R122 -> 0 | T121: =T122 -> 0 | AT121: D | AU121: -1 | BK121: =BK122 -> 0
D122: D | E122: VRN | F122: Vedlejší rozpočtové náklady | J122: =BK122 -> 0 | P122: =SUM(P123:P135) -> 0 | R122: =SUM(R123:R135) -> 0 | T122: =SUM(T123:T135) -> 0 | AR122: 5 | AT122: D | AU122: 0 | AY122: ROZPOCET | BK122: =SUM(BK123:BK135) -> 0
C123: 1 | D123: K | E123: 022101001 | F123: Geodetické práce Geodetické práce před opravou | G123: % | J123: =ROUND(I123*H123,2) -> 0 | K123: Sborník UOŽI 01 2021 | N123: základní | P123: =O123*H123 -> 0 | Q123: 0 | R123: =Q123*H123 -> 0 | S123: 0 | T123: =S123*H123 -> 0 | AR123: 4 | AT123: K | AU123: 1 | AY123: ROZPOCET | BE123: =IF(N123="základní",J123,0) -> 0 | BF123: =IF(N123="snížená",J123,0) -> 0 | BG123: =IF(N123="zákl. přenesená",J123,0) -> 0 | BH123: =IF(N123="sníž. přenesená",J123,0) -> 0 | BI123: =IF(N123="nulová",J123,0) -> 0 | BJ123: 1 | BK123: =ROUND(I123*H123,2) -> 0 | BL123: 4 | BM123: 306137080
C124: 2 | D124: K | E124: 022101011 | F124: Geodetické práce Geodetické práce v průběhu opravy | G124: % | J124: =ROUND(I124*H124,2) -> 0 | K124: Sborník UOŽI 01 2021 | N124: základní | P124: =O124*H124 -> 0 | Q124: 0 | R124: =Q124*H124 -> 0 | S124: 0 | T124: =S124*H124 -> 0 | AR124: 4 | AT124: K | AU124: 1 | AY124: ROZPOCET | BE124: =IF(N124="základní",J124,0) -> 0 | BF124: =IF(N124="snížená",J124,0) -> 0 | BG124: =IF(N124="zákl. přenesená",J124,0) -> 0 | BH124: =IF(N124="sníž. přenesená",J124,0) -> 0 | BI124: =IF(N124="nulová",J124,0) -> 0 | BJ124: 1 | BK124: =ROUND(I124*H124,2) -> 0 | BL124: 4 | BM124: 1984775737
C125: 3 | D125: K | E125: 022101021 | F125: Geodetické práce Geodetické práce po ukončení opravy | G125: % | J125: =ROUND(I125*H125,2) -> 0 | K125: Sborník UOŽI 01 2021 | N125: základní | P125: =O125*H125 -> 0 | Q125: 0 | R125: =Q125*H125 -> 0 | S125: 0 | T125: =S125*H125 -> 0 | AR125: 4 | AT125: K | AU125: 1 | AY125: ROZPOCET | BE125: =IF(N125="základní",J125,0) -> 0 | BF125: =IF(N125="snížená",J125,0) -> 0 | BG125: =IF(N125="zákl. přenesená",J125,0) -> 0 | BH125: =IF(N125="sníž. přenesená",J125,0) -> 0 | BI125: =IF(N125="nulová",J125,0) -> 0 | BJ125: 1 | BK125: =ROUND(I125*H125,2) -> 0 | BL125: 4 | BM125: -1791301498
C126: 4 | D126: K | E126: 022121001 | F126: Geodetické práce Diagnostika technické infrastruktury Vytýčení trasy inženýrských sítí - V sazbě jsou započteny náklady na vyhledání trasy detektorem, zaměření a zobrazení trasy a předání výstupu zaměření. V sazbě nejsou obsaženy náklady na vytýčení sítí ve správě provozovatele. | G126: % | J126: =ROUND(I126*H126,2) -> 0 | K126: Sborník UOŽI 01 2021 | N126: základní | P126: =O126*H126 -> 0 | Q126: 0 | R126: =Q126*H126 -> 0 | S126: 0 | T126: =S126*H126 -> 0 | AR126: 4 | AT126: K | AU126: 1 | AY126: ROZPOCET | BE126: =IF(N126="základní",J126,0) -> 0 | BF126: =IF(N126="snížená",J126,0) -> 0 | BG126: =IF(N126="zákl. přenesená",J126,0) -> 0 | BH126: =IF(N126="sníž. přenesená",J126,0) -> 0 | BI126: =IF(N126="nulová",J126,0) -> 0 | BJ126: 1 | BK126: =ROUND(I126*H126,2) -> 0 | BL126: 4 | BM126: 1781653740
D127: P | F127: Poznámka k položce:_x000D_ Základna pro výpočet - dotyčné práce | AT127: P | AU127: 1
C128: 5 | D128: K | E128: 023121001 | F128: Projektové práce Projektová dokumentace - přípravné práce Zjednodušený projekt opravy koleje - V ceně jsou započteny náklady na vyhotovení projektové dokumentace podle požadavku objednatele v rozsahu pro ohlášení : 1) Technická zpráva; 2) Situace; 3) Podélný profil; 4) Vytyčovací výkres; 5) Seznam souřadnic vytyčovacích bodů. | G128: km | H128: 0.05 | J128: =ROUND(I128*H128,2) -> 0 | K128: Sborník UOŽI 01 2021 | N128: základní | P128: =O128*H128 -> 0 | Q128: 0 | R128: =Q128*H128 -> 0 | S128: 0 | T128: =S128*H128 -> 0 | AR128: 4 | AT128: K | AU128: 1 | AY128: ROZPOCET | BE128: =IF(N128="základní",J128,0) -> 0 | BF128: =IF(N128="snížená",J128,0) -> 0 | BG128: =IF(N128="zákl. přenesená",J128,0) -> 0 | BH128: =IF(N128="sníž. přenesená",J128,0) -> 0 | BI128: =IF(N128="nulová",J128,0) -> 0 | BJ128: 1 | BK128: =ROUND(I128*H128,2) -> 0 | BL128: 4 | BM128: 125961140
C129: 6 | D129: K | E129: 023131001 | F129: Projektové práce Dokumentace skutečného provedení železničního svršku a spodku - V sazbě jsou obsaženy náklady na zaměření a vyhotovení dokumentace skutečného provedení žel. svršku a spodku dle vyhlášky č. 499/2006 Sb., a vyhlášky č. 31/1995 Sb. včetně zpracování dat v digitální podobě v otevřené formě a její předání objednateli | G129: % | J129: =ROUND(I129*H129,2) -> 0 | K129: Sborník UOŽI 01 2021 | N129: základní | P129: =O129*H129 -> 0 | Q129: 0 | R129: =Q129*H129 -> 0 | S129: 0 | T129: =S129*H129 -> 0 | AR129: 4 | AT129: K | AU129: 1 | AY129: ROZPOCET | BE129: =IF(N129="základní",J129,0) -> 0 | BF129: =IF(N129="snížená",J129,0) -> 0 | BG129: =IF(N129="zákl. přenesená",J129,0) -> 0 | BH129: =IF(N129="sníž. přenesená",J129,0) -> 0 | BI129: =IF(N129="nulová",J129,0) -> 0 | BJ129: 1 | BK129: =ROUND(I129*H129,2) -> 0 | BL129: 4 | BM129: -1688589038
D130: P | F130: Poznámka k položce:_x000D_ Základna pro výpočet - dotyčné práce | AT130: P | AU130: 1
C131: 7 | D131: K | E131: 031101011 | F131: Zařízení a vybavení staveniště vyjma dále jmenované práce včetně opatření na ochranu sousedních pozemků, včetně opatření na ochranu sousedních pozemků, informační tabule, dopravního značení na staveništi aj. při velikosti nákladů přes 1 do 3 mil. Kč | G131: % | J131: =ROUND(I131*H131,2) -> 0 | K131: Sborník UOŽI 01 2021 | N131: základní | P131: =O131*H131 -> 0 | Q131: 0 | R131: =Q131*H131 -> 0 | S131: 0 | T131: =S131*H131 -> 0 | AR131: 4 | AT131: K | AU131: 1 | AY131: ROZPOCET | BE131: =IF(N131="základní",J131,0) -> 0 | BF131: =IF(N131="snížená",J131,0) -> 0 | BG131: =IF(N131="zákl. přenesená",J131,0) -> 0 | BH131: =IF(N131="sníž. přenesená",J131,0) -> 0 | BI131: =IF(N131="nulová",J131,0) -> 0 | BJ131: 1 | BK131: =ROUND(I131*H131,2) -> 0 | BL131: 4 | BM131: -607036785
D132: P | F132: Poznámka k položce:_x000D_ Základna pro výpočet - ZRN | AT132: P | AU132: 1
C133: 8 | D133: K | E133: 033111001 | F133: Provozní vlivy Výluka silničního provozu se zajištěním objížďky | G133: Kč | H133: 2 | J133: =ROUND(I133*H133,2) -> 0 | K133: Sborník UOŽI 01 2021 | N133: základní | P133: =O133*H133 -> 0 | Q133: 0 | R133: =Q133*H133 -> 0 | S133: 0 | T133: =S133*H133 -> 0 | AR133: 4 | AT133: K | AU133: 1 | AY133: ROZPOCET | BE133: =IF(N133="základní",J133,0) -> 0 | BF133: =IF(N133="snížená",J133,0) -> 0 | BG133: =IF(N133="zákl. přenesená",J133,0) -> 0 | BH133: =IF(N133="sníž. přenesená",J133,0) -> 0 | BI133: =IF(N133="nulová",J133,0) -> 0 | BJ133: 1 | BK133: =ROUND(I133*H133,2) -> 0 | BL133: 4 | BM133: -511106582
D134: VV | F134: 2 "přejezdy P6995 a P6988" | H134: 2 | AT134: VV | AU134: 1 | AV134: 2 | AW134: True | AX134: 0 | AY134: ROZPOCET
D135: VV | F135: Součet | H135: 2 | AT135: VV | AU135: 1 | AV135: 4 | AW135: True | AX135: 1 | AY135: ROZPOCET
