Workbook

Sheet Rekapitulace
B1: Soupis objektů s DPH
A4: S631600206 | B4: Zvýšení stability skalních masivů na trati Pňovany – Bezdružice | E4: Aspe
A5: ZŘ | B5: Základní řešení
B6: Odbytová cena: | C6: =0+C10+C16 -> 0
B7: OC+DPH: | C7: =0+E10+E16 -> 0
A9: Objekt | B9: Popis | C9: OC | D9: DPH | E9: OC+DPH
A10: E.1.1.2 | B10: Železniční spodek | C10: =0+C11+C12+C13+C14+C15 -> 0 | D10: =C10*0.21 -> 0 | E10: =0+E11+E12+E13+E14+E15 -> 0
A11: SO 101 | B11: Sanace skalních masivů v km 2,70 - 2,90 vpravo, vlevo | C11: ='SO 101'!K8+'SO 101'!M8 -> 0 | D11: =C11*0.21 -> 0 | E11: =C11+D11 -> 0
A12: SO 102 | B12: Sanace skalních masivů v km 11,80 - 11,90 vpravo, vlevo | C12: ='SO 102'!K8+'SO 102'!M8 -> 0 | D12: =C12*0.21 -> 0 | E12: =C12+D12 -> 0
A13: SO 103 | B13: Sanace skalních masivů v km 12,30 - 12,40 vpravo | C13: ='SO 103'!K8+'SO 103'!M8 -> 0 | D13: =C13*0.21 -> 0 | E13: =C13+D13 -> 0
A14: SO 104 | B14: Sanace skalních masivů v km 15,80 - 15,90 vpravo, vlevo | C14: ='SO 104'!K8+'SO 104'!M8 -> 0 | D14: =C14*0.21 -> 0 | E14: =C14+D14 -> 0
A15: SO 105 | B15: Sanace skalních masivů v km 16,60 - 16,75 vpravo, vlevo | C15: ='SO 105'!K8+'SO 105'!M8 -> 0 | D15: =C15*0.21 -> 0 | E15: =C15+D15 -> 0
A16: OST | B16: Všeobecný objekt | C16: =0+C17 -> 0 | D16: =C16*0.21 -> 0 | E16: =0+E17 -> 0
A17: SO 98-98 | B17: Všeobecný objekt | C17: ='SO 98-98'!K8+'SO 98-98'!M8 -> 0 | D17: =C17*0.21 -> 0 | E17: =C17+D17 -> 0

Sheet SO 101
A1: SŽDC05 | E1: Příloha k formuláři pro ocenění nabídky | P1: 3
P2: 3
A3: S | B3: Stavba: | C3: S631600206 | E3: Zvýšení stability skalních masivů na trati Pňovany – Bezdružice | L3: E.1.1.2 | M3: =Rekapitulace!C10 -> 0 | N3: Aspe | O3: 0,00 | P3: 2
A4: O | B4: Objekt: | C4: E.1.1.2 | E4: Železniční spodek | O4: 15,00 | P4: 2
A5: Typ | B5: Poř. číslo | C5: Kód položky | D5: Varianta | E5: Název položky | F5: MJ | G5: Množství | H5: Jednotková hmotnost | I5: Celková hmotnost | J5: Cena | N5: Cenové soustavy | O5: 21,00 | P5: 2
J6: Dodávka | L6: Montáž
J7: Jednotková | K7: Celkem | L7: Jednotková | M7: Celkem | S7: Počet položek s nulovou cenou | T7: =COUNTIFS(L8:L68,"=0",A8:A68,"P")+COUNTIFS(L8:L68,"",A8:A68,"P")+SUM(Q8:Q68) -> 15
A8: O1 | C8: SO 101 | E8: Sanace skalních masivů v km 2,70 - 2,90 vpravo, vlevo | J8: =0+J9+J38+J67 -> 0 | K8: =0+K9+K38+K67 -> 0 | L8: =0+L9+L38+L67 -> 0 | M8: =0+M9+M38+M67 -> 0
A9: SD | C9: 0 | E9: Všeobecné konstrukce a práce | J9: =0 -> 0 | K9: =0 -> 0 | L9: =0+L10+L14+L18+L22+L26+L30+L34 -> 0 | M9: =0+M10+M14+M18+M22+M26+M30+M34 -> 0
A10: P | B10: 1 | C10: 015112 | E10: POPLATKY ZA LIKVIDACI ODPADŮ NEKONTAMINOVANÝCH - 17 05 04 VYTĚŽENÉ ZEMINY A HORNINY - II. TŘÍDA TĚŽITELNOSTI | F10: T | G10: 783 | H10: 0 | I10: =ROUND(G10*H10,6) -> 0 | L10: 0 | M10: =ROUND(ROUND(L10,2)*ROUND(G10,3),2) -> 0 | N10: 2018.1_OTSKP | O10: =(M10*21)/100 -> 0 | P10: 2
A11: PP
A12: VV | E12: očištění skal: 335,0*1,8=603.000 [A]t vyčištění trhlin a dutin: 10,0*1,8=18.000 [B]t hornin. bloky: 90,0*1,8=162.000 [C]t Celkem: A+B+C=783.000 [D]t
A13: TS | E13: 1. Položka obsahuje: – veškeré poplatky provozovateli skládky, recyklační linky nebo jiného zařízení na zpracování nebo likvidaci odpadů související s převzetím, uložením, zpracováním nebo likvidací odpadu 2. Položka neobsahuje: – náklady spojené s dopravou odpadu z místa stavby na místo převzetí provozovatelem skládky, recyklační linky nebo jiného zařízení na zpracování nebo likvidaci odpadů 3. Způsob měření: Tunou se rozumí hmotnost odpadu vytříděného v souladu se zákonem č. 185/2001 Sb., o nakládání s odpady, v platném znění.
A14: P | B14: 2 | C14: 015160 | E14: POPLATKY ZA LIKVIDACI ODPADŮ NEKONTAMINOVANÝCH - 02 01 03 SMÝCENÉ STROMY A KEŘE | F14: T | G14: 3.488 | H14: 0 | I14: =ROUND(G14*H14,6) -> 0 | L14: 0 | M14: =ROUND(ROUND(L14,2)*ROUND(G14,3),2) -> 0 | N14: 2018.1_OTSKP | O14: =(M14*21)/100 -> 0 | P14: 2
A15: PP
A16: VV | E16: 1550/100*0,225=3.488 [A]t
A17: TS | E17: 1. Položka obsahuje: – veškeré poplatky provozovateli skládky, recyklační linky nebo jiného zařízení na zpracování nebo likvidaci odpadů související s převzetím, uložením, zpracováním nebo likvidací odpadu 2. Položka neobsahuje: – náklady spojené s dopravou odpadu z místa stavby na místo převzetí provozovatelem skládky, recyklační linky nebo jiného zařízení na zpracování nebo likvidaci odpadů 3. Způsob měření: Tunou se rozumí hmotnost odpadu vytříděného v souladu se zákonem č. 185/2001 Sb., o nakládání s odpady, v platném znění.
A18: P | B18: 3 | C18: 015330 | E18: POPLATKY ZA LIKVIDACI ODPADŮ NEKONTAMINOVANÝCH - 17 05 04 KAMENNÁ SUŤ | F18: T | G18: 450 | H18: 0 | I18: =ROUND(G18*H18,6) -> 0 | L18: 0 | M18: =ROUND(ROUND(L18,2)*ROUND(G18,3),2) -> 0 | N18: 2018.1_OTSKP | O18: =(M18*21)/100 -> 0 | P18: 2
A19: PP
A20: VV | E20: čištění příkopů: 600,0*0,5*1,5=450.000 [A]t
A21: TS | E21: 1. Položka obsahuje: – veškeré poplatky provozovateli skládky, recyklační linky nebo jiného zařízení na zpracování nebo likvidaci odpadů související s převzetím, uložením, zpracováním nebo likvidací odpadu 2. Položka neobsahuje: – náklady spojené s dopravou odpadu z místa stavby na místo převzetí provozovatelem skládky, recyklační linky nebo jiného zařízení na zpracování nebo likvidaci odpadů 3. Způsob měření: Tunou se rozumí hmotnost odpadu vytříděného v souladu se zákonem č. 185/2001 Sb., o nakládání s odpady, v platném znění.
A22: P | B22: 4 | C22: 015340 | E22: POPLATKY ZA LIKVIDACI ODPADŮ NEKONTAMINOVANÝCH - 02 01 03 PAŘEZY | F22: T | G22: 4 | H22: 0 | I22: =ROUND(G22*H22,6) -> 0 | L22: 0 | M22: =ROUND(ROUND(L22,2)*ROUND(G22,3),2) -> 0 | N22: 2018.1_OTSKP | O22: =(M22*21)/100 -> 0 | P22: 2
A23: PP
A24: VV | E24: 40*0,1=4.000 [A]t
A25: TS | E25: 1. Položka obsahuje: – veškeré poplatky provozovateli skládky, recyklační linky nebo jiného zařízení na zpracování nebo likvidaci odpadů související s převzetím, uložením, zpracováním nebo likvidací odpadu 2. Položka neobsahuje: – náklady spojené s dopravou odpadu z místa stavby na místo převzetí provozovatelem skládky, recyklační linky nebo jiného zařízení na zpracování nebo likvidaci odpadů 3. Způsob měření: Tunou se rozumí hmotnost odpadu vytříděného v souladu se zákonem č. 185/2001 Sb., o nakládání s odpady, v platném znění.
A26: P | B26: 5 | C26: 02944 | E26: OSTAT POŽADAVKY - DOKUMENTACE SKUTEČ PROVEDENÍ V DIGIT FORMĚ | F26: KPL | G26: 1 | H26: 0 | I26: =ROUND(G26*H26,6) -> 0 | L26: 0 | M26: =ROUND(ROUND(L26,2)*ROUND(G26,3),2) -> 0 | N26: 2018.1_OTSKP | O26: =(M26*21)/100 -> 0 | P26: 2
A27: PP
A28: VV
A29: TS | E29: zahrnuje veškeré náklady spojené s objednatelem požadovanými pracemi
A30: P | B30: 6 | C30: 02946 | E30: OSTAT POŽADAVKY - FOTODOKUMENTACE | F30: KPL | G30: 1 | H30: 0 | I30: =ROUND(G30*H30,6) -> 0 | L30: 0 | M30: =ROUND(ROUND(L30,2)*ROUND(G30,3),2) -> 0 | N30: 2018.1_OTSKP | O30: =(M30*21)/100 -> 0 | P30: 2
A31: PP
A32: VV
A33: TS | E33: položka zahrnuje: - fotodokumentaci zadavatelem požadovaného děje a konstrukcí v požadovaných časových intervalech - zadavatelem specifikované výstupy (fotografie v papírovém a digitálním formátu) v požadovaném počtu
A34: P | B34: 7 | C34: 029611 | E34: OSTATNÍ POŽADAVKY - ODBORNÝ DOZOR | F34: HOD | G34: 56 | H34: 0 | I34: =ROUND(G34*H34,6) -> 0 | L34: 0 | M34: =ROUND(ROUND(L34,2)*ROUND(G34,3),2) -> 0 | N34: 2018.1_OTSKP | O34: =(M34*21)/100 -> 0 | P34: 2
A35: PP | E35: geotechnický dozor
A36: VV
A37: TS | E37: zahrnuje veškeré náklady spojené s objednatelem požadovaným dozorem
A38: SD | C38: 1 | E38: Zemní práce | J38: =0 -> 0 | K38: =0 -> 0 | L38: =0+L39+L43+L47+L51+L55+L59+L63 -> 0 | M38: =0+M39+M43+M47+M51+M55+M59+M63 -> 0
A39: P | B39: 8 | C39: 112017R | E39: ODSTRANĚNÍ PAŘEZŮ D KMENE DO 0,5M HOROLEZECKY, ODVOZ DO 16KM | F39: KUS | G39: 40 | H39: 0 | I39: =ROUND(G39*H39,6) -> 0 | L39: 0 | M39: =ROUND(ROUND(L39,2)*ROUND(G39,3),2) -> 0 | N39: 2018.1_OTSKP | O39: =(M39*21)/100 -> 0 | P39: 2
A40: PP
A41: VV
A42: TS | E42: Odstranění pařezů se měří v [ks] vytrhaných nebo vykopaných pařezů a zahrnuje zejména: - vytrhání nebo vykopání pařezů horolezeckou technikou - veškeré zemní práce spojené s odstraněním pařezů - dopravu a uložení pařezů, případně další práce s nimi dle pokynů zadávací dokumentace
A43: P | B43: 9 | C43: 12932 | E43: ČIŠTĚNÍ PŘÍKOPŮ OD NÁNOSU DO 0,5M3/M | F43: M | G43: 600 | H43: 0 | I43: =ROUND(G43*H43,6) -> 0 | L43: 0 | M43: =ROUND(ROUND(L43,2)*ROUND(G43,3),2) -> 0 | N43: 2018.1_OTSKP | O43: =(M43*21)/100 -> 0 | P43: 2
A44: PP | E44: příkop v návaznosti na drážní těleso
A45: VV
A46: TS | E46: Součástí položky je vodorovná a svislá doprava, přemístění, přeložení, manipulace s materiálem a uložení na skládku. Nezahrnuje poplatek za skládku, který se vykazuje v položce 0141** (s výjimkou malého množství materiálu, kde je možné poplatek zahrnout do jednotkové ceny položky – tento fakt musí být uveden v doplňujícím textu k položce)
A47: P | B47: 10 | C47: 155112R | E47: Odstranění vegetace skalní plochy horolezecky vč. stažení k zemi s odvozem 16 km | F47: M2 | G47: 1550 | H47: 0 | I47: =ROUND(G47*H47,6) -> 0 | L47: 0 | M47: =ROUND(ROUND(L47,2)*ROUND(G47,3),2) -> 0 | N47: [bez vazby na CS] | O47: =(M47*21)/100 -> 0 | P47: 2
A48: PP | E48: vč. dopravy vlakem do 3 km
A49: VV
A50: TS | E50: Odstranění vegatace se měří v [m2] plochy, na které se vegetace odstraňuje a zahrnuje zejména: - poražení stromů průměru do 10 cm a odstranění keřů - spálení na hromadách nebo štěpkování - dopravu a uložení, případné další práce s nimi dle pokynů zadávací dokumentace. V ceně je obsažena doprava vlakem na meziskládku a doprava autem na trvalou skládku odpadu. V ceně není zahrnut poplatek za skládku.
A51: P | B51: 11 | C51: 155122R | E51: Očištění skalní plochy ruční nástroje (motyky, páčidla) horolezecky s odvozem do 16 km | F51: M3 | G51: 335 | H51: 0 | I51: =ROUND(G51*H51,6) -> 0 | L51: 0 | M51: =ROUND(ROUND(L51,2)*ROUND(G51,3),2) -> 0 | N51: [bez vazby na CS] | O51: =(M51*21)/100 -> 0 | P51: 2
A52: PP | E52: vč. dopravy vlakem do 3 km očištění skal od horninových úlomků
A53: VV
A54: TS | E54: 1. Množství měrných jednotek se určuje v m3 materiálu odstraněného ze skalní stěny. 2. V cenách jsou započteny náklady na dopravu po železnici na meziskládku a přeložení materiálu na auta s dopravou na trvalou skládku odpadu. 3. V ceně není zahrnut poplatek za skládku.
A55: P | B55: 12 | C55: 155231R | E55: Vyčištění trhlin a dutin ve skalní stěně horolecky s odvozem do 16 km | F55: M3 | G55: 10 | H55: 0 | I55: =ROUND(G55*H55,6) -> 0 | L55: 0 | M55: =ROUND(ROUND(L55,2)*ROUND(G55,3),2) -> 0 | N55: [bez vazby na CS] | O55: =(M55*21)/100 -> 0 | P55: 2
A56: PP | E56: vč. dopravy vlakem do 3 km
A57: VV
A58: TS | E58: 1. V cenách jsou započteny i náklady na vyčištění trhlin stlačeným vzduchem. 2. V cenách jsou započteny náklady na dopravu po železnici na meziskládku a přeložení materiálu na auta s dopravou na trvalou skládku odpadu. 3. V ceně není zahrnut poplatek za skládku. 4. Množství měrných jednotek se určuje v m3 objemu vyčištěné dutiny.
A59: P | B59: 13 | C59: 155313R | E59: Odtěžení nestabilních hornin ze skalních stěn horolezecky hydraulickými klíny s odvozem do 16 km | F59: M3 | G59: 90 | H59: 0.00158 | I59: =ROUND(G59*H59,6) -> 0.1422 | L59: 0 | M59: =ROUND(ROUND(L59,2)*ROUND(G59,3),2) -> 0 | N59: [bez vazby na CS] | O59: =(M59*21)/100 -> 0 | P59: 2
A60: PP | E60: s dopravou vlakem do 3 km
A61: VV
A62: TS | E62: 1. V ceně jsou započteny i náklady na provedení vrtů. 2. V cenách jsou započteny náklady na dopravu po železnici na meziskládku a přeložení materiálu na auta s dopravou na trvalou skládku odpadu. 3. V ceně není zahrnut poplatek za skládku.
A63: P | B63: 14 | C63: 155533R | E63: Sanace dutin skalních stěn beztlakovým zalitím prováděná horolezecky | F63: M3 | G63: 10 | H63: 0.05992 | I63: =ROUND(G63*H63,6) -> 0.5992 | L63: 0 | M63: =ROUND(ROUND(L63,2)*ROUND(G63,3),2) -> 0 | N63: [bez vazby na CS] | O63: =(M63*21)/100 -> 0 | P63: 2
A64: PP | E64: zaplnění spar a puklin cementovou maltou VM K 100
A65: VV
A66: TS
A67: SD | C67: 9 | E67: Ostatní konstrukce a práce, bourání | J67: =0 -> 0 | K67: =0 -> 0 | L67: =0+L68 -> 0 | M67: =0+M68 -> 0
A68: P | B68: 15 | C68: 94490 | E68: OCHRANNÁ KONSTRUKCE | F68: M2 | G68: 1550 | H68: 0 | I68: =ROUND(G68*H68,6) -> 0 | L68: 0 | M68: =ROUND(ROUND(L68,2)*ROUND(G68,3),2) -> 0 | N68: 2018.1_OTSKP | O68: =(M68*0)/100 -> 0 | P68: 0
A69: PP | E69: dočasné ochranné sítě pro zajištění bezpečnosti horolezců a provozu na pozemních komunikacích a železnici
A70: VV
A71: TS | E71: Položka zahrnuje dovoz, montáž, údržbu, opotřebení (nájemné), demontáž, konzervaci, odvoz.

Sheet SO 102
A1: SŽDC05 | E1: Příloha k formuláři pro ocenění nabídky | P1: 3
P2: 3
A3: S | B3: Stavba: | C3: S631600206 | E3: Zvýšení stability skalních masivů na trati Pňovany – Bezdružice | L3: E.1.1.2 | M3: =Rekapitulace!C10 -> 0 | N3: Aspe | O3: 0,00 | P3: 2
A4: O | B4: Objekt: | C4: E.1.1.2 | E4: Železniční spodek | O4: 15,00 | P4: 2
A5: Typ | B5: Poř. číslo | C5: Kód položky | D5: Varianta | E5: Název položky | F5: MJ | G5: Množství | H5: Jednotková hmotnost | I5: Celková hmotnost | J5: Cena | N5: Cenové soustavy | O5: 21,00 | P5: 2
J6: Dodávka | L6: Montáž
J7: Jednotková | K7: Celkem | L7: Jednotková | M7: Celkem | S7: Počet položek s nulovou cenou | T7: =COUNTIFS(L8:L68,"=0",A8:A68,"P")+COUNTIFS(L8:L68,"",A8:A68,"P")+SUM(Q8:Q68) -> 15
A8: O1 | C8: SO 102 | E8: Sanace skalních masivů v km 11,80 - 11,90 vpravo, vlevo | J8: =0+J9+J38+J67 -> 0 | K8: =0+K9+K38+K67 -> 0 | L8: =0+L9+L38+L67 -> 0 | M8: =0+M9+M38+M67 -> 0
A9: SD | C9: 0 | E9: Všeobecné konstrukce a práce | J9: =0 -> 0 | K9: =0 -> 0 | L9: =0+L10+L14+L18+L22+L26+L30+L34 -> 0 | M9: =0+M10+M14+M18+M22+M26+M30+M34 -> 0
A10: P | B10: 1 | C10: 015112 | E10: POPLATKY ZA LIKVIDACI ODPADŮ NEKONTAMINOVANÝCH - 17 05 04 VYTĚŽENÉ ZEMINY A HORNINY - II. TŘÍDA TĚŽITELNOSTI | F10: T | G10: 434.7 | H10: 0 | I10: =ROUND(G10*H10,6) -> 0 | L10: 0 | M10: =ROUND(ROUND(L10,2)*ROUND(G10,3),2) -> 0 | N10: 2018.1_OTSKP | O10: =(M10*21)/100 -> 0 | P10: 2
A11: PP
A12: VV | E12: očištění skal: 141,5*1,8=254.700 [A]t vyčištění trhlin a dutin: 10,0*1,8=18.000 [B]t hornin. bloky: 90,0*1,8=162.000 [C]t Celkem: A+B+C=434.700 [D]t
A13: TS | E13: 1. Položka obsahuje: – veškeré poplatky provozovateli skládky, recyklační linky nebo jiného zařízení na zpracování nebo likvidaci odpadů související s převzetím, uložením, zpracováním nebo likvidací odpadu 2. Položka neobsahuje: – náklady spojené s dopravou odpadu z místa stavby na místo převzetí provozovatelem skládky, recyklační linky nebo jiného zařízení na zpracování nebo likvidaci odpadů 3. Způsob měření: Tunou se rozumí hmotnost odpadu vytříděného v souladu se zákonem č. 185/2001 Sb., o nakládání s odpady, v platném znění.
A14: P | B14: 2 | C14: 015160 | E14: POPLATKY ZA LIKVIDACI ODPADŮ NEKONTAMINOVANÝCH - 02 01 03 SMÝCENÉ STROMY A KEŘE | F14: T | G14: 0.675 | H14: 0 | I14: =ROUND(G14*H14,6) -> 0 | L14: 0 | M14: =ROUND(ROUND(L14,2)*ROUND(G14,3),2) -> 0 | N14: 2018.1_OTSKP | O14: =(M14*21)/100 -> 0 | P14: 2
A15: PP
A16: VV | E16: 300/100*0,225=0.675 [A]t
A17: TS | E17: 1. Položka obsahuje: – veškeré poplatky provozovateli skládky, recyklační linky nebo jiného zařízení na zpracování nebo likvidaci odpadů související s převzetím, uložením, zpracováním nebo likvidací odpadu 2. Položka neobsahuje: – náklady spojené s dopravou odpadu z místa stavby na místo převzetí provozovatelem skládky, recyklační linky nebo jiného zařízení na zpracování nebo likvidaci odpadů 3. Způsob měření: Tunou se rozumí hmotnost odpadu vytříděného v souladu se zákonem č. 185/2001 Sb., o nakládání s odpady, v platném znění.
A18: P | B18: 3 | C18: 015330 | E18: POPLATKY ZA LIKVIDACŮ ODPADŮ NEKONTAMINOVANÝCH - 17 05 04 KAMENNÁ SUŤ | F18: T | G18: 247.5 | H18: 0 | I18: =ROUND(G18*H18,6) -> 0 | L18: 0 | M18: =ROUND(ROUND(L18,2)*ROUND(G18,3),2) -> 0 | N18: 2018.1_OTSKP | O18: =(M18*0)/100 -> 0 | P18: 0
A19: PP
A20: VV | E20: čištění příkopů: 330,0*0,5*1,5=247.500 [A] t
A21: TS | E21: 1. Položka obsahuje: – veškeré poplatky provozovateli skládky, recyklační linky nebo jiného zařízení na zpracování nebo likvidaci odpadů související s převzetím, uložením, zpracováním nebo likvidací odpadu 2. Položka neobsahuje: – náklady spojené s dopravou odpadu z místa stavby na místo převzetí provozovatelem skládky, recyklační linky nebo jiného zařízení na zpracování nebo likvidaci odpadů 3. Způsob měření: Tunou se rozumí hmotnost odpadu vytříděného v souladu se zákonem č. 185/2001 Sb., o nakládání s odpady, v platném znění.
A22: P | B22: 4 | C22: 015340 | E22: POPLATKY ZA LIKVIDACI ODPADŮ NEKONTAMINOVANÝCH - 02 01 03 PAŘEZY | F22: T | G22: 0.8 | H22: 0 | I22: =ROUND(G22*H22,6) -> 0 | L22: 0 | M22: =ROUND(ROUND(L22,2)*ROUND(G22,3),2) -> 0 | N22: 2018.1_OTSKP | O22: =(M22*21)/100 -> 0 | P22: 2
A23: PP
A24: VV | E24: 8*0,1=0.800 [A]t
A25: TS | E25: 1. Položka obsahuje: – veškeré poplatky provozovateli skládky, recyklační linky nebo jiného zařízení na zpracování nebo likvidaci odpadů související s převzetím, uložením, zpracováním nebo likvidací odpadu 2. Položka neobsahuje: – náklady spojené s dopravou odpadu z místa stavby na místo převzetí provozovatelem skládky, recyklační linky nebo jiného zařízení na zpracování nebo likvidaci odpadů 3. Způsob měření: Tunou se rozumí hmotnost odpadu vytříděného v souladu se zákonem č. 185/2001 Sb., o nakládání s odpady, v platném znění.
A26: P | B26: 5 | C26: 02944 | E26: OSTAT POŽADAVKY - DOKUMENTACE SKUTEČ PROVEDENÍ V DIGIT FORMĚ | F26: KPL | G26: 1 | H26: 0 | I26: =ROUND(G26*H26,6) -> 0 | L26: 0 | M26: =ROUND(ROUND(L26,2)*ROUND(G26,3),2) -> 0 | N26: 2018.1_OTSKP | O26: =(M26*21)/100 -> 0 | P26: 2
A27: PP
A28: VV
A29: TS | E29: zahrnuje veškeré náklady spojené s objednatelem požadovanými pracemi
A30: P | B30: 6 | C30: 02946 | E30: OSTAT POŽADAVKY - FOTODOKUMENTACE | F30: KPL | G30: 1 | H30: 0 | I30: =ROUND(G30*H30,6) -> 0 | L30: 0 | M30: =ROUND(ROUND(L30,2)*ROUND(G30,3),2) -> 0 | N30: 2018.1_OTSKP | O30: =(M30*21)/100 -> 0 | P30: 2
A31: PP
A32: VV
A33: TS | E33: položka zahrnuje: - fotodokumentaci zadavatelem požadovaného děje a konstrukcí v požadovaných časových intervalech - zadavatelem specifikované výstupy (fotografie v papírovém a digitálním formátu) v požadovaném počtu
A34: P | B34: 7 | C34: 029611 | E34: OSTATNÍ POŽADAVKY - ODBORNÝ DOZOR | F34: HOD | G34: 56 | H34: 0 | I34: =ROUND(G34*H34,6) -> 0 | L34: 0 | M34: =ROUND(ROUND(L34,2)*ROUND(G34,3),2) -> 0 | N34: 2018.1_OTSKP | O34: =(M34*21)/100 -> 0 | P34: 2
A35: PP | E35: geotechnický dozor
A36: VV
A37: TS | E37: zahrnuje veškeré náklady spojené s objednatelem požadovaným dozorem
A38: SD | C38: 1 | E38: Zemní práce | J38: =0 -> 0 | K38: =0 -> 0 | L38: =0+L39+L43+L47+L51+L55+L59+L63 -> 0 | M38: =0+M39+M43+M47+M51+M55+M59+M63 -> 0
A39: P | B39: 8 | C39: 112017 | E39: KÁCENÍ STROMŮ D KMENE DO 0,5M S ODSTRANĚNÍM PAŘEZŮ, ODVOZ DO 16KM | F39: KUS | G39: 8 | H39: 0 | I39: =ROUND(G39*H39,6) -> 0 | L39: 0 | M39: =ROUND(ROUND(L39,2)*ROUND(G39,3),2) -> 0 | N39: 2018.1_OTSKP | O39: =(M39*21)/100 -> 0 | P39: 2
A40: PP
A41: VV
A42: TS | E42: Kácení stromů se měří v [ks] poražených stromů (průměr stromů se měří v místě řezu) a zahrnuje zejména: - poražení stromu a osekání větví - spálení větví na hromadách nebo štěpkování - dopravu a uložení kmenů, případné další práce s nimi dle pokynů zadávací dokumentace Odstranění pařezů se měří v [ks] vytrhaných nebo vykopaných pařezů a zahrnuje zejména: - vytrhání nebo vykopání pařezů - veškeré zemní práce spojené s odstraněním pařezů - dopravu a uložení pařezů, případně další práce s nimi dle pokynů zadávací dokumentace - zásyp jam po pařezech
A43: P | B43: 9 | C43: 12932 | E43: ČIŠTĚNÍ PŘÍKOPŮ OD NÁNOSU DO 0,5M3/M | F43: M | G43: 330 | H43: 0 | I43: =ROUND(G43*H43,6) -> 0 | L43: 0 | M43: =ROUND(ROUND(L43,2)*ROUND(G43,3),2) -> 0 | N43: 2018.1_OTSKP | O43: =(M43*0)/100 -> 0 | P43: 0
A44: PP
A45: VV
A46: TS | E46: - vodorovná a svislá doprava, přemístění, přeložení, manipulace s výkopkem a uložení na skládku (bez poplatku)
A47: P | B47: 10 | C47: 155112R | E47: Odstranění vegetace skalní plochy horolezecky vč. stažení k zemi s odvozem 16 km | F47: M2 | G47: 300 | H47: 0 | I47: =ROUND(G47*H47,6) -> 0 | L47: 0 | M47: =ROUND(ROUND(L47,2)*ROUND(G47,3),2) -> 0 | N47: [bez vazby na CS] | O47: =(M47*21)/100 -> 0 | P47: 2
A48: PP | E48: vč. dopravy vlakem do 3 km
A49: VV
A50: TS | E50: Odstranění vegatace se měří v [m2] plochy, na které se vegetace odstraňuje a zahrnuje zejména: - poražení stromů průměru do 10 cm a odstranění keřů - spálení na hromadách nebo štěpkování - dopravu a uložení, případné další práce s nimi dle pokynů zadávací dokumentace. V ceně je obsažena doprava vlakem na meziskládku a doprava autem na trvalou skládku odpadu. V ceně není zahrnut poplatek za skládku.
A51: P | B51: 11 | C51: 155122R | E51: Očištění skalní plochy ruční nástroje (motyky, páčidla) horolezecky s odvozem do 16 km | F51: M3 | G51: 141.5 | H51: 0 | I51: =ROUND(G51*H51,6) -> 0 | L51: 0 | M51: =ROUND(ROUND(L51,2)*ROUND(G51,3),2) -> 0 | N51: [bez vazby na CS] | O51: =(M51*21)/100 -> 0 | P51: 2
A52: PP | E52: vč. dopravy vlakem do 3 km očištění skal od horninových úlomků
A53: VV
A54: TS | E54: 1. Množství měrných jednotek se určuje v m3 materiálu odstraněného ze skalní stěny. 2. V cenách jsou započteny náklady na dopravu po železnici na meziskládku a přeložení materiálu na auta s dopravou na trvalou skládku odpadu. 3. V ceně není zahrnut poplatek za skládku.
A55: P | B55: 12 | C55: 155231R | E55: Vyčištění trhlin a dutin ve skalní stěně horolecky s odvozem do 16 km | F55: M3 | G55: 10 | H55: 0 | I55: =ROUND(G55*H55,6) -> 0 | L55: 0 | M55: =ROUND(ROUND(L55,2)*ROUND(G55,3),2) -> 0 | N55: [bez vazby na CS] | O55: =(M55*21)/100 -> 0 | P55: 2
A56: PP | E56: vč. dopravy vlakem do 3 km
A57: VV
A58: TS | E58: 1. V cenách jsou započteny i náklady na vyčištění trhlin stlačeným vzduchem. 2. V cenách jsou započteny náklady na dopravu po železnici na meziskládku a přeložení materiálu na auta s dopravou na trvalou skládku odpadu. 3. V ceně není zahrnut poplatek za skládku. 4. Množství měrných jednotek se určuje v m3 objemu vyčištěné dutiny.
A59: P | B59: 13 | C59: 155313R | E59: Odtěžení nestabilních hornin ze skalních stěn horolezecky hydraulickými klíny s odvozem do 16 km | F59: M3 | G59: 90 | H59: 0.00158 | I59: =ROUND(G59*H59,6) -> 0.1422 | L59: 0 | M59: =ROUND(ROUND(L59,2)*ROUND(G59,3),2) -> 0 | N59: [bez vazby na CS] | O59: =(M59*21)/100 -> 0 | P59: 2
A60: PP | E60: s dopravou vlakem do 3 km
A61: VV
A62: TS | E62: 1. V ceně jsou započteny i náklady na provedení vrtů. 2. V cenách jsou započteny náklady na dopravu po železnici na meziskládku a přeložení materiálu na auta s dopravou na trvalou skládku odpadu. 3. V ceně není zahrnut poplatek za skládku.
A63: P | B63: 14 | C63: 155533R | E63: Sanace dutin skalních stěn beztlakovým zalitím prováděná horolezecky | F63: M3 | G63: 10 | H63: 0.05992 | I63: =ROUND(G63*H63,6) -> 0.5992 | L63: 0 | M63: =ROUND(ROUND(L63,2)*ROUND(G63,3),2) -> 0 | N63: [bez vazby na CS] | O63: =(M63*21)/100 -> 0 | P63: 2
A64: PP | E64: zaplnění spar a puklin cementovou maltou VM K 100
A65: VV
A66: TS
A67: SD | C67: 9 | E67: Ostatní konstrukce a práce, bourání | J67: =0 -> 0 | K67: =0 -> 0 | L67: =0+L68 -> 0 | M67: =0+M68 -> 0
A68: P | B68: 15 | C68: 94490 | E68: OCHRANNÁ KONSTRUKCE | F68: M2 | G68: 300 | H68: 0 | I68: =ROUND(G68*H68,6) -> 0 | L68: 0 | M68: =ROUND(ROUND(L68,2)*ROUND(G68,3),2) -> 0 | N68: 2018.1_OTSKP | O68: =(M68*0)/100 -> 0 | P68: 0
A69: PP | E69: dočasné ochranné sítě pro zajištění bezpečnosti horolezců a provozu na pozemních komunikacích a železnici
A70: VV
A71: TS | E71: Položka zahrnuje dovoz, montáž, údržbu, opotřebení (nájemné), demontáž, konzervaci, odvoz.

Sheet SO 103
A1: SŽDC05 | E1: Příloha k formuláři pro ocenění nabídky | P1: 3
P2: 3
A3: S | B3: Stavba: | C3: S631600206 | E3: Zvýšení stability skalních masivů na trati Pňovany – Bezdružice | L3: E.1.1.2 | M3: =Rekapitulace!C10 -> 0 | N3: Aspe | O3: 0,00 | P3: 2
A4: O | B4: Objekt: | C4: E.1.1.2 | E4: Železniční spodek | O4: 15,00 | P4: 2
A5: Typ | B5: Poř. číslo | C5: Kód položky | D5: Varianta | E5: Název položky | F5: MJ | G5: Množství | H5: Jednotková hmotnost | I5: Celková hmotnost | J5: Cena | N5: Cenové soustavy | O5: 21,00 | P5: 2
J6: Dodávka | L6: Montáž
J7: Jednotková | K7: Celkem | L7: Jednotková | M7: Celkem | S7: Počet položek s nulovou cenou | T7: =COUNTIFS(L8:L94,"=0",A8:A94,"P")+COUNTIFS(L8:L94,"",A8:A94,"P")+SUM(Q8:Q94) -> 21
A8: O1 | C8: SO 103 | E8: Sanace skalních masivů v km 12,30 - 12,40 vpravo | J8: =0+J9+J38+J75+J84+J89 -> 0 | K8: =0+K9+K38+K75+K84+K89 -> 0 | L8: =0+L9+L38+L75+L84+L89 -> 0 | M8: =0+M9+M38+M75+M84+M89 -> 0
A9: SD | C9: 0 | E9: Všeobecné konstrukce a práce | J9: =0 -> 0 | K9: =0 -> 0 | L9: =0+L10+L14+L18+L22+L26+L30+L34 -> 0 | M9: =0+M10+M14+M18+M22+M26+M30+M34 -> 0
A10: P | B10: 1 | C10: 015112 | E10: POPLATKY ZA LIKVIDACI ODPADŮ NEKONTAMINOVANÝCH - 17 05 04 VYTĚŽENÉ ZEMINY A HORNINY - II. TŘÍDA TĚŽITELNOSTI | F10: T | G10: 525.6 | H10: 0 | I10: =ROUND(G10*H10,6) -> 0 | L10: 0 | M10: =ROUND(ROUND(L10,2)*ROUND(G10,3),2) -> 0 | N10: 2018.1_OTSKP | O10: =(M10*21)/100 -> 0 | P10: 2
A11: PP
A12: VV | E12: očištění skal: 89,0*1,8=160.200 [A]t vyčištění trhlin a dutin: 10,0*1,8=18.000 [B]t hornin. bloky: 144,0*1,8=259.200 [C]t výkop gabion. zeď: 30,0*1,8=54.000 [D]t kamen. zeď: 19,0*1,8=34.200 [E]t Celkem: A+B+C+D+E=525.600 [F]t
A13: TS | E13: 1. Položka obsahuje: – veškeré poplatky provozovateli skládky, recyklační linky nebo jiného zařízení na zpracování nebo likvidaci odpadů související s převzetím, uložením, zpracováním nebo likvidací odpadu 2. Položka neobsahuje: – náklady spojené s dopravou odpadu z místa stavby na místo převzetí provozovatelem skládky, recyklační linky nebo jiného zařízení na zpracování nebo likvidaci odpadů 3. Způsob měření: Tunou se rozumí hmotnost odpadu vytříděného v souladu se zákonem č. 185/2001 Sb., o nakládání s odpady, v platném znění.
A14: P | B14: 2 | C14: 015160 | E14: POPLATKY ZA LIKVIDACI ODPADŮ NEKONTAMINOVANÝCH - 02 01 03 SMÝCENÉ STROMY A KEŘE | F14: T | G14: 0.675 | H14: 0 | I14: =ROUND(G14*H14,6) -> 0 | L14: 0 | M14: =ROUND(ROUND(L14,2)*ROUND(G14,3),2) -> 0 | N14: 2018.1_OTSKP | O14: =(M14*21)/100 -> 0 | P14: 2
A15: PP
A16: VV | E16: 300/100*0,225=0.675 [A]t
A17: TS | E17: 1. Položka obsahuje: – veškeré poplatky provozovateli skládky, recyklační linky nebo jiného zařízení na zpracování nebo likvidaci odpadů související s převzetím, uložením, zpracováním nebo likvidací odpadu 2. Položka neobsahuje: – náklady spojené s dopravou odpadu z místa stavby na místo převzetí provozovatelem skládky, recyklační linky nebo jiného zařízení na zpracování nebo likvidaci odpadů 3. Způsob měření: Tunou se rozumí hmotnost odpadu vytříděného v souladu se zákonem č. 185/2001 Sb., o nakládání s odpady, v platném znění.
A18: P | B18: 3 | C18: 015330 | E18: POPLATKY ZA LIKVIDACI ODPADŮ NEKONTAMINOVANÝCH - 17 05 04 KAMENNÁ SUŤ | F18: T | G18: 131.25 | H18: 0 | I18: =ROUND(G18*H18,6) -> 0 | L18: 0 | M18: =ROUND(ROUND(L18,2)*ROUND(G18,3),2) -> 0 | N18: 2018.1_OTSKP | O18: =(M18*0)/100 -> 0 | P18: 0
A19: PP
A20: VV | E20: čištění příkopů: 175,0*0,5*1,5=131.250 [A] t
A21: TS | E21: 1. Položka obsahuje: – veškeré poplatky provozovateli skládky, recyklační linky nebo jiného zařízení na zpracování nebo likvidaci odpadů související s převzetím, uložením, zpracováním nebo likvidací odpadu 2. Položka neobsahuje: – náklady spojené s dopravou odpadu z místa stavby na místo převzetí provozovatelem skládky, recyklační linky nebo jiného zařízení na zpracování nebo likvidaci odpadů 3. Způsob měření: Tunou se rozumí hmotnost odpadu vytříděného v souladu se zákonem č. 185/2001 Sb., o nakládání s odpady, v platném znění.
A22: P | B22: 4 | C22: 015340 | E22: POPLATKY ZA LIKVIDACI ODPADŮ NEKONTAMINOVANÝCH - 02 01 03 PAŘEZY | F22: T | G22: 1 | H22: 0 | I22: =ROUND(G22*H22,6) -> 0 | L22: 0 | M22: =ROUND(ROUND(L22,2)*ROUND(G22,3),2) -> 0 | N22: 2018.1_OTSKP | O22: =(M22*21)/100 -> 0 | P22: 2
A23: PP
A24: VV | E24: 5*0,2=1.000 [A]t
A25: TS | E25: 1. Položka obsahuje: – veškeré poplatky provozovateli skládky, recyklační linky nebo jiného zařízení na zpracování nebo likvidaci odpadů související s převzetím, uložením, zpracováním nebo likvidací odpadu 2. Položka neobsahuje: – náklady spojené s dopravou odpadu z místa stavby na místo převzetí provozovatelem skládky, recyklační linky nebo jiného zařízení na zpracování nebo likvidaci odpadů 3. Způsob měření: Tunou se rozumí hmotnost odpadu vytříděného v souladu se zákonem č. 185/2001 Sb., o nakládání s odpady, v platném znění.
A26: P | B26: 5 | C26: 02944 | E26: OSTAT POŽADAVKY - DOKUMENTACE SKUTEČ PROVEDENÍ V DIGIT FORMĚ | F26: KPL | G26: 1 | H26: 0 | I26: =ROUND(G26*H26,6) -> 0 | L26: 0 | M26: =ROUND(ROUND(L26,2)*ROUND(G26,3),2) -> 0 | N26: 2018.1_OTSKP | O26: =(M26*21)/100 -> 0 | P26: 2
A27: PP
A28: VV
A29: TS | E29: zahrnuje veškeré náklady spojené s objednatelem požadovanými pracemi
A30: P | B30: 6 | C30: 02946 | E30: OSTAT POŽADAVKY - FOTODOKUMENTACE | F30: KPL | G30: 1 | H30: 0 | I30: =ROUND(G30*H30,6) -> 0 | L30: 0 | M30: =ROUND(ROUND(L30,2)*ROUND(G30,3),2) -> 0 | N30: 2018.1_OTSKP | O30: =(M30*21)/100 -> 0 | P30: 2
A31: PP
A32: VV
A33: TS | E33: položka zahrnuje: - fotodokumentaci zadavatelem požadovaného děje a konstrukcí v požadovaných časových intervalech - zadavatelem specifikované výstupy (fotografie v papírovém a digitálním formátu) v požadovaném počtu
A34: P | B34: 7 | C34: 029611 | E34: OSTATNÍ POŽADAVKY - ODBORNÝ DOZOR | F34: HOD | G34: 56 | H34: 0 | I34: =ROUND(G34*H34,6) -> 0 | L34: 0 | M34: =ROUND(ROUND(L34,2)*ROUND(G34,3),2) -> 0 | N34: 2018.1_OTSKP | O34: =(M34*21)/100 -> 0 | P34: 2
A35: PP
A36: VV
A37: TS | E37: zahrnuje veškeré náklady spojené s objednatelem požadovaným dozorem
A38: SD | C38: 1 | E38: Zemní práce | J38: =0 -> 0 | K38: =0 -> 0 | L38: =0+L39+L43+L47+L51+L55+L59+L63+L67+L71 -> 0 | M38: =0+M39+M43+M47+M51+M55+M59+M63+M67+M71 -> 0
A39: P | B39: 8 | C39: 112017 | E39: KÁCENÍ STROMŮ D KMENE DO 0,5M S ODSTRANĚNÍM PAŘEZŮ, ODVOZ DO 16KM | F39: KUS | G39: 5 | H39: 0 | I39: =ROUND(G39*H39,6) -> 0 | L39: 0 | M39: =ROUND(ROUND(L39,2)*ROUND(G39,3),2) -> 0 | N39: 2018.1_OTSKP | O39: =(M39*21)/100 -> 0 | P39: 2
A40: PP
A41: VV
A42: TS | E42: Kácení stromů se měří v [ks] poražených stromů (průměr stromů se měří v místě řezu) a zahrnuje zejména: - poražení stromu a osekání větví - spálení větví na hromadách nebo štěpkování - dopravu a uložení kmenů, případné další práce s nimi dle pokynů zadávací dokumentace Odstranění pařezů se měří v [ks] vytrhaných nebo vykopaných pařezů a zahrnuje zejména: - vytrhání nebo vykopání pařezů - veškeré zemní práce spojené s odstraněním pařezů - dopravu a uložení pařezů, případně další práce s nimi dle pokynů zadávací dokumentace - zásyp jam po pařezech
A43: P | B43: 9 | C43: 123837 | E43: ODKOP PRO SPOD STAVBU SILNIC A ŽELEZNIC TŘ. II, ODVOZ DO 16KM | F43: M3 | G43: 30 | H43: 0 | I43: =ROUND(G43*H43,6) -> 0 | L43: 0 | M43: =ROUND(ROUND(L43,2)*ROUND(G43,3),2) -> 0 | N43: 2018_OTSKP | O43: =(M43*21)/100 -> 0 | P43: 2
A44: PP | E44: výkop pro gabionovou zeď
A45: VV
A46: TS | E46: položka zahrnuje: - vodorovná a svislá doprava, přemístění, přeložení, manipulace s výkopkem - kompletní provedení vykopávky nezapažené i zapažené - ošetření výkopiště po celou dobu práce v něm vč. klimatických opatření - ztížení vykopávek v blízkosti podzemního vedení, konstrukcí a objektů vč. jejich dočasného zajištění - ztížení pod vodou, v okolí výbušnin, ve stísněných prostorech a pod. - těžení po vrstvách, pásech a po jiných nutných částech (figurách) - čerpání vody vč. čerpacích jímek, potrubí a pohotovostní čerpací soupravy (viz ustanovení k pol. 1151,2) - potřebné snížení hladiny podzemní vody - těžení a rozpojování jednotlivých balvanů - vytahování a nošení výkopku - svahování a přesvah. svahů do konečného tvaru, výměna hornin v podloží a v pláni znehodnocené klimatickými vlivy - eventuelně nutné druhotné rozpojení odstřelené horniny - ruční vykopávky, odstranění kořenů a napadávek - pažení, vzepření a rozepření vč. přepažování (vyjma štětových stěn) - úpravu, ochranu a očištění dna, základové spáry, stěn a svahů - zhutnění podloží, případně i svahů vč. svahování - zřízení stupňů v podloží a lavic na svazích, není-li pro tyto práce zřízena samostatná položka - udržování výkopiště a jeho ochrana proti vodě - odvedení nebo obvedení vody v okolí výkopiště a ve výkopišti - třídění výkopku - veškeré pomocné konstrukce umožňující provedení vykopávky (příjezdy, sjezdy, nájezdy, lešení, podpěr. konstr., přemostění, zpevněné plochy, zakrytí a pod.) - nezahrnuje uložení zeminy (na skládku, do násypu) ani poplatky za skládku, vykazují se v položce č.0141**
A47: P | B47: 10 | C47: 12932 | E47: ČIŠTĚNÍ PŘÍKOPŮ OD NÁNOSU DO 0,5M3/M | F47: M | G47: 175 | H47: 0 | I47: =ROUND(G47*H47,6) -> 0 | L47: 0 | M47: =ROUND(ROUND(L47,2)*ROUND(G47,3),2) -> 0 | N47: 2018.1_OTSKP | O47: =(M47*0)/100 -> 0 | P47: 0
A48: PP
A49: VV
A50: TS | E50: - vodorovná a svislá doprava, přemístění, přeložení, manipulace s výkopkem a uložení na skládku (bez poplatku)
A51: P | B51: 11 | C51: 155112R | E51: Odstranění vegetace skalní plochy horolezecky vč. stažení k zemi s odvozem 16 km | F51: M2 | G51: 300 | H51: 0 | I51: =ROUND(G51*H51,6) -> 0 | L51: 0 | M51: =ROUND(ROUND(L51,2)*ROUND(G51,3),2) -> 0 | N51: [bez vazby na CS] | O51: =(M51*21)/100 -> 0 | P51: 2
A52: PP | E52: vč. dopravy vlakem do 3 km
A53: VV
A54: TS | E54: Odstranění vegatace se měří v [m2] plochy, na které se vegetace odstraňuje a zahrnuje zejména: - poražení stromů průměru do 10 cm a odstranění keřů - spálení na hromadách nebo štěpkování - dopravu a uložení, případné další práce s nimi dle pokynů zadávací dokumentace. V ceně je obsažena doprava vlakem na meziskládku a doprava autem na trvalou skládku odpadu. V ceně není zahrnut poplatek za skládku.
A55: P | B55: 12 | C55: 155122R | E55: Očištění skalní plochy ruční nástroje (motyky, páčidla) horolezecky s odvozem do 16 km | F55: M3 | G55: 89 | H55: 0 | I55: =ROUND(G55*H55,6) -> 0 | L55: 0 | M55: =ROUND(ROUND(L55,2)*ROUND(G55,3),2) -> 0 | N55: [bez vazby na CS] | O55: =(M55*21)/100 -> 0 | P55: 2
A56: PP | E56: vč. dopravy vlakem do 3 km
A57: VV
A58: TS | E58: 1. Množství měrných jednotek se určuje v m3 materiálu odstraněného ze skalní stěny. 2. V cenách jsou započteny náklady na dopravu po železnici na meziskládku a přeložení materiálu na auta s dopravou na trvalou skládku odpadu. 3. V ceně není zahrnut poplatek za skládku.
A59: P | B59: 13 | C59: 155231R | E59: Vyčištění trhlin a dutin ve skalní stěně horolecky s odvozem do 16 km | F59: M3 | G59: 10 | H59: 0 | I59: =ROUND(G59*H59,6) -> 0 | L59: 0 | M59: =ROUND(ROUND(L59,2)*ROUND(G59,3),2) -> 0 | N59: [bez vazby na CS] | O59: =(M59*21)/100 -> 0 | P59: 2
A60: PP | E60: vč. dopravy vlakem do 3 km
A61: VV
A62: TS | E62: 1. V cenách jsou započteny i náklady na vyčištění trhlin stlačeným vzduchem. 2. V cenách jsou započteny náklady na dopravu po železnici na meziskládku a přeložení materiálu na auta s dopravou na trvalou skládku odpadu. 3. V ceně není zahrnut poplatek za skládku. 4. Množství měrných jednotek se určuje v m3 objemu vyčištěné dutiny.
A63: P | B63: 14 | C63: 155313R | E63: Odtěžení nestabilních hornin ze skalních stěn horolezecky hydraulickými klíny s odvozem do 16 km | F63: M3 | G63: 144 | H63: 0.00158 | I63: =ROUND(G63*H63,6) -> 0.22752 | L63: 0 | M63: =ROUND(ROUND(L63,2)*ROUND(G63,3),2) -> 0 | N63: [bez vazby na CS] | O63: =(M63*21)/100 -> 0 | P63: 2
A64: PP | E64: s dopravou vlakem do 3 km
A65: VV
A66: TS | E66: 1. V ceně jsou započteny i náklady na provedení vrtů. 2. V cenách jsou započteny náklady na dopravu po železnici na meziskládku a přeložení materiálu na auta s dopravou na trvalou skládku odpadu. 3. V ceně není zahrnut poplatek za skládku.
A67: P | B67: 15 | C67: 155533R | E67: Sanace dutin skalních stěn beztlakovým zalitím prováděná horolezecky | F67: M3 | G67: 10 | H67: 0.05992 | I67: =ROUND(G67*H67,6) -> 0.5992 | L67: 0 | M67: =ROUND(ROUND(L67,2)*ROUND(G67,3),2) -> 0 | N67: [bez vazby na CS] | O67: =(M67*21)/100 -> 0 | P67: 2
A68: PP | E68: zaplnění spar a puklin cementovou maltou VM K 100
A69: VV
A70: TS
A71: P | B71: 16 | C71: 17481 | E71: ZÁSYP JAM A RÝH Z NAKUPOVANÝCH MATERIÁLŮ | F71: M3 | G71: 20 | H71: 0 | I71: =ROUND(G71*H71,6) -> 0 | L71: 0 | M71: =ROUND(ROUND(L71,2)*ROUND(G71,3),2) -> 0 | N71: 2018.1_OTSKP | O71: =(M71*21)/100 -> 0 | P71: 2
A72: PP | E72: zásyp rubu gabionů štěrkodrtí
A73: VV
A74: TS | E74: položka zahrnuje: - kompletní provedení zemní konstrukce včetně nákupu a dopravy materiálu dle zadávací dokumentace - úprava ukládaného materiálu vlhčením, tříděním, promícháním nebo vysoušením, příp. jiné úpravy za účelem zlepšení jeho mech. vlastností - hutnění i různé míry hutnění - ošetření úložiště po celou dobu práce v něm vč. klimatických opatření - ztížení v okolí vedení, konstrukcí a objektů a jejich dočasné zajištění - ztížení provádění vč. hutnění ve ztížených podmínkách a stísněných prostorech - ztížené ukládání sypaniny pod vodu - ukládání po vrstvách a po jiných nutných částech (figurách) vč. dosypávek - spouštění a nošení materiálu - výměna částí zemní konstrukce znehodnocené klimatickými vlivy - udržování úložiště a jeho ochrana proti vodě - odvedení nebo obvedení vody v okolí úložiště a v úložišti - veškeré pomocné konstrukce umožňující provedení zemní konstrukce (příjezdy, sjezdy, nájezdy, lešení, podpěrné konstrukce, přemostění, zpevněné plochy, zakrytí a pod.)
A75: SD | C75: 2 | E75: Zakládání | J75: =0 -> 0 | K75: =0 -> 0 | L75: =0+L76+L80 -> 0 | M75: =0+M76+M80 -> 0
A76: P | B76: 17 | C76: 27152 | E76: POLŠTÁŘE POD ZÁKLADY Z KAMENIVA DRCENÉHO | F76: M3 | G76: 5 | H76: 0 | I76: =ROUND(G76*H76,6) -> 0 | L76: 0 | M76: =ROUND(ROUND(L76,2)*ROUND(G76,3),2) -> 0 | N76: 2018.1_OTSKP | O76: =(M76*21)/100 -> 0 | P76: 2
A77: PP | E77: štěrkopískový polštář do základu gabionu
A78: VV
A79: TS | E79: položka zahrnuje dodávku předepsaného kameniva, mimostaveništní a vnitrostaveništní dopravu a jeho uložení není-li v zadávací dokumentaci uvedeno jinak, jedná se o nakupovaný materiál
A80: P | B80: 18 | C80: 289971 | E80: OPLÁŠTĚNÍ (ZPEVNĚNÍ) Z GEOTEXTILIE | F80: M2 | G80: 60 | H80: 0 | I80: =ROUND(G80*H80,6) -> 0 | L80: 0 | M80: =ROUND(ROUND(L80,2)*ROUND(G80,3),2) -> 0 | N80: 2018.1_OTSKP | O80: =(M80*21)/100 -> 0 | P80: 2
A81: PP | E81: filtrační geotextilie do rubu gabionů
A82: VV
A83: TS | E83: Položka zahrnuje: - dodávku předepsané geotextilie - úpravu, očištění a ochranu podkladu - přichycení k podkladu, případně zatížení - úpravy spojů a zajištění okrajů - úpravy pro odvodnění - nutné přesahy - mimostaveništní a vnitrostaveništní dopravu
A84: SD | C84: 3 | E84: Svislé a kompletní konstrukce | J84: =0 -> 0 | K84: =0 -> 0 | L84: =0+L85 -> 0 | M84: =0+M85 -> 0
A85: P | B85: 19 | C85: 3272A1 | E85: ZDI OPĚR, ZÁRUB, NÁBŘEŽ Z GABIONŮ RUČNĚ ROVNANÝCH, DRÁT O2,2MM, POVRCHOVÁ ÚPRAVA Zn + Al | F85: M3 | G85: 45 | H85: 0 | I85: =ROUND(G85*H85,6) -> 0 | L85: 0 | M85: =ROUND(ROUND(L85,2)*ROUND(G85,3),2) -> 0 | N85: 2018.1_OTSKP | O85: =(M85*21)/100 -> 0 | P85: 2
A86: PP
A87: VV | E87: 15,0*3,0*1,0=45.000 [A]m3
A88: TS | E88: - položka zahrnuje dodávku a osazení drátěných košů s výplní lomovým kamenem. - gabionové matrace se vykazují v pol.č.2722**.
A89: SD | C89: 9 | E89: Ostatní konstrukce a práce, bourání | J89: =0 -> 0 | K89: =0 -> 0 | L89: =0+L90+L94 -> 0 | M89: =0+M90+M94 -> 0
A90: P | B90: 20 | C90: 94490 | E90: OCHRANNÁ KONSTRUKCE | F90: M2 | G90: 300 | H90: 0 | I90: =ROUND(G90*H90,6) -> 0 | L90: 0 | M90: =ROUND(ROUND(L90,2)*ROUND(G90,3),2) -> 0 | N90: 2018.1_OTSKP | O90: =(M90*0)/100 -> 0 | P90: 0
A91: PP | E91: dočasné ochranné sítě pro zajištění bezpečnosti horolezců a provozu na pozemních komunikacích a železnici
A92: VV
A93: TS | E93: Položka zahrnuje dovoz, montáž, údržbu, opotřebení (nájemné), demontáž, konzervaci, odvoz.
A94: P | B94: 21 | C94: 966127 | E94: BOURÁNÍ KONSTRUKCÍ Z KAMENE NA SUCHO S ODVOZEM DO 16KM | F94: M3 | G94: 19 | H94: 0 | I94: =ROUND(G94*H94,6) -> 0 | L94: 0 | M94: =ROUND(ROUND(L94,2)*ROUND(G94,3),2) -> 0 | N94: 2018.1_OTSKP | O94: =(M94*21)/100 -> 0 | P94: 2
A95: PP | E95: kamenná zeď na sucho
A96: VV
A97: TS | E97: položka zahrnuje: - rozbourání konstrukce bez ohledu na použitou technologii - veškeré pomocné konstrukce (lešení a pod.) - veškerou manipulaci s vybouranou sutí a hmotami včetně uložení na skládku. Nezahrnuje poplatek za skládku, který se vykazuje v položce 0141** (s výjimkou malého množství bouraného materiálu, kde je možné poplatek zahrnout do jednotkové ceny bourání – tento fakt musí být uveden v doplňujícím textu k položce) - veškeré další práce plynoucí z technologického předpisu a z platných předpisů

Sheet SO 104
A1: SŽDC05 | E1: Příloha k formuláři pro ocenění nabídky | P1: 3
P2: 3
A3: S | B3: Stavba: | C3: S631600206 | E3: Zvýšení stability skalních masivů na trati Pňovany – Bezdružice | L3: E.1.1.2 | M3: =Rekapitulace!C10 -> 0 | N3: Aspe | O3: 0,00 | P3: 2
A4: O | B4: Objekt: | C4: E.1.1.2 | E4: Železniční spodek | O4: 15,00 | P4: 2
A5: Typ | B5: Poř. číslo | C5: Kód položky | D5: Varianta | E5: Název položky | F5: MJ | G5: Množství | H5: Jednotková hmotnost | I5: Celková hmotnost | J5: Cena | N5: Cenové soustavy | O5: 21,00 | P5: 2
J6: Dodávka | L6: Montáž
J7: Jednotková | K7: Celkem | L7: Jednotková | M7: Celkem | S7: Počet položek s nulovou cenou | T7: =COUNTIFS(L8:L65,"=0",A8:A65,"P")+COUNTIFS(L8:L65,"",A8:A65,"P")+SUM(Q8:Q65) -> 14
A8: O1 | C8: SO 104 | E8: Sanace skalních masivů v km 15,80 - 15,90 vpravo, vlevo | J8: =0+J9+J34+J59+J64 -> 0 | K8: =0+K9+K34+K59+K64 -> 0 | L8: =0+L9+L34+L59+L64 -> 0 | M8: =0+M9+M34+M59+M64 -> 0
A9: SD | C9: 0 | E9: Všeobecné konstrukce a práce | J9: =0 -> 0 | K9: =0 -> 0 | L9: =0+L10+L14+L18+L22+L26+L30 -> 0 | M9: =0+M10+M14+M18+M22+M26+M30 -> 0
A10: P | B10: 1 | C10: 015112 | E10: POPLATKY ZA LIKVIDACI ODPADŮ NEKONTAMINOVANÝCH - 17 05 04 VYTĚŽENÉ ZEMINY A HORNINY - II. TŘÍDA TĚŽITELNOSTI | F10: T | G10: 212.4 | H10: 0 | I10: =ROUND(G10*H10,6) -> 0 | L10: 0 | M10: =ROUND(ROUND(L10,2)*ROUND(G10,3),2) -> 0 | N10: 2018.1_OTSKP | O10: =(M10*21)/100 -> 0 | P10: 2
A11: PP
A12: VV | E12: očištění skal: 84,0*1,8=151.200 [A]t vyčištění trhlin a dutin: 10,0*1,8=18.000 [B]t hornin. bloky: 24,0*1,8=43.200 [C]t Celkem: A+B+C=212.400 [D]t
A13: TS | E13: 1. Položka obsahuje: – veškeré poplatky provozovateli skládky, recyklační linky nebo jiného zařízení na zpracování nebo likvidaci odpadů související s převzetím, uložením, zpracováním nebo likvidací odpadu 2. Položka neobsahuje: – náklady spojené s dopravou odpadu z místa stavby na místo převzetí provozovatelem skládky, recyklační linky nebo jiného zařízení na zpracování nebo likvidaci odpadů 3. Způsob měření: Tunou se rozumí hmotnost odpadu vytříděného v souladu se zákonem č. 185/2001 Sb., o nakládání s odpady, v platném znění.
A14: P | B14: 2 | C14: 015160 | E14: POPLATKY ZA LIKVIDACI ODPADŮ NEKONTAMINOVANÝCH - 02 01 03 SMÝCENÉ STROMY A KEŘE | F14: T | G14: 0.675 | H14: 0 | I14: =ROUND(G14*H14,6) -> 0 | L14: 0 | M14: =ROUND(ROUND(L14,2)*ROUND(G14,3),2) -> 0 | N14: 2018.1_OTSKP | O14: =(M14*21)/100 -> 0 | P14: 2
A15: PP
A16: VV | E16: 300/100*0,225=0.675 [A]t
A17: TS | E17: 1. Položka obsahuje: – veškeré poplatky provozovateli skládky, recyklační linky nebo jiného zařízení na zpracování nebo likvidaci odpadů související s převzetím, uložením, zpracováním nebo likvidací odpadu 2. Položka neobsahuje: – náklady spojené s dopravou odpadu z místa stavby na místo převzetí provozovatelem skládky, recyklační linky nebo jiného zařízení na zpracování nebo likvidaci odpadů 3. Způsob měření: Tunou se rozumí hmotnost odpadu vytříděného v souladu se zákonem č. 185/2001 Sb., o nakládání s odpady, v platném znění.
A18: P | B18: 3 | C18: 015330 | E18: POPLATKY ZA LIKVIDACI ODPADŮ NEKONTAMINOVANÝCH - 17 05 04 KAMENNÁ SUŤ | F18: T | G18: 157.5 | H18: 0 | I18: =ROUND(G18*H18,6) -> 0 | L18: 0 | M18: =ROUND(ROUND(L18,2)*ROUND(G18,3),2) -> 0 | N18: 2018.1_OTSKP | O18: =(M18*0)/100 -> 0 | P18: 0
A19: PP
A20: VV | E20: čištění příkopů: 210,0*0,5*1,5=157.500 [A] t
A21: TS | E21: 1. Položka obsahuje: – veškeré poplatky provozovateli skládky, recyklační linky nebo jiného zařízení na zpracování nebo likvidaci odpadů související s převzetím, uložením, zpracováním nebo likvidací odpadu 2. Položka neobsahuje: – náklady spojené s dopravou odpadu z místa stavby na místo převzetí provozovatelem skládky, recyklační linky nebo jiného zařízení na zpracování nebo likvidaci odpadů 3. Způsob měření: Tunou se rozumí hmotnost odpadu vytříděného v souladu se zákonem č. 185/2001 Sb., o nakládání s odpady, v platném znění.
A22: P | B22: 4 | C22: 02944 | E22: OSTAT POŽADAVKY - DOKUMENTACE SKUTEČ PROVEDENÍ V DIGIT FORMĚ | F22: KPL | G22: 1 | H22: 0 | I22: =ROUND(G22*H22,6) -> 0 | L22: 0 | M22: =ROUND(ROUND(L22,2)*ROUND(G22,3),2) -> 0 | N22: 2018.1_OTSKP | O22: =(M22*21)/100 -> 0 | P22: 2
A23: PP
A24: VV
A25: TS | E25: zahrnuje veškeré náklady spojené s objednatelem požadovanými pracemi
A26: P | B26: 5 | C26: 02946 | E26: OSTAT POŽADAVKY - FOTODOKUMENTACE | F26: KPL | G26: 1 | H26: 0 | I26: =ROUND(G26*H26,6) -> 0 | L26: 0 | M26: =ROUND(ROUND(L26,2)*ROUND(G26,3),2) -> 0 | N26: 2018.1_OTSKP | O26: =(M26*21)/100 -> 0 | P26: 2
A27: PP
A28: VV
A29: TS | E29: položka zahrnuje: - fotodokumentaci zadavatelem požadovaného děje a konstrukcí v požadovaných časových intervalech - zadavatelem specifikované výstupy (fotografie v papírovém a digitálním formátu) v požadovaném počtu
A30: P | B30: 6 | C30: 029611 | E30: OSTATNÍ POŽADAVKY - ODBORNÝ DOZOR | F30: HOD | G30: 56 | H30: 0 | I30: =ROUND(G30*H30,6) -> 0 | L30: 0 | M30: =ROUND(ROUND(L30,2)*ROUND(G30,3),2) -> 0 | N30: 2018.1_OTSKP | O30: =(M30*21)/100 -> 0 | P30: 2
A31: PP
A32: VV
A33: TS | E33: zahrnuje veškeré náklady spojené s objednatelem požadovaným dozorem
A34: SD | C34: 1 | E34: Zemní práce | J34: =0 -> 0 | K34: =0 -> 0 | L34: =0+L35+L39+L43+L47+L51+L55 -> 0 | M34: =0+M35+M39+M43+M47+M51+M55 -> 0
A35: P | B35: 7 | C35: 12932 | E35: ČIŠTĚNÍ PŘÍKOPŮ OD NÁNOSU DO 0,5M3/M | F35: M | G35: 210 | H35: 0 | I35: =ROUND(G35*H35,6) -> 0 | L35: 0 | M35: =ROUND(ROUND(L35,2)*ROUND(G35,3),2) -> 0 | N35: 2018.1_OTSKP | O35: =(M35*0)/100 -> 0 | P35: 0
A36: PP
A37: VV
A38: TS | E38: - vodorovná a svislá doprava, přemístění, přeložení, manipulace s výkopkem a uložení na skládku (bez poplatku)
A39: P | B39: 8 | C39: 155113R | E39: Odstranění vegetace skalní plochy horolezecky vč. stažení k zemi s odvozem 20 km | F39: M2 | G39: 300 | H39: 0 | I39: =ROUND(G39*H39,6) -> 0 | L39: 0 | M39: =ROUND(ROUND(L39,2)*ROUND(G39,3),2) -> 0 | N39: [bez vazby na CS] | O39: =(M39*21)/100 -> 0 | P39: 2
A40: PP | E40: vč. dopravy vlakem do 2 km
A41: VV
A42: TS | E42: Odstranění vegatace se měří v [m2] plochy, na které se vegetace odstraňuje a zahrnuje zejména: - poražení stromů průměru do 10 cm a odstranění keřů - spálení na hromadách nebo štěpkování - dopravu a uložení, případné další práce s nimi dle pokynů zadávací dokumentace. V ceně je obsažena doprava vlakem na meziskládku a doprava autem na trvalou skládku odpadu. V ceně není zahrnut poplatek za skládku.
A43: P | B43: 9 | C43: 155123R | E43: Očištění skalní plochy ruční nástroje (motyky, páčidla) horolezecky s odvozem do 20 km | F43: M3 | G43: 84 | H43: 0 | I43: =ROUND(G43*H43,6) -> 0 | L43: 0 | M43: =ROUND(ROUND(L43,2)*ROUND(G43,3),2) -> 0 | N43: [bez vazby na CS] | O43: =(M43*21)/100 -> 0 | P43: 2
A44: PP | E44: vč. dopravy vlakem do 2 km
A45: VV
A46: TS | E46: 1. Množství měrných jednotek se určuje v m3 materiálu odstraněného ze skalní stěny. 2. V cenách jsou započteny náklady na dopravu po železnici na meziskládku a přeložení materiálu na auta s dopravou na trvalou skládku odpadu. 3. V ceně není zahrnut poplatek za skládku.
A47: P | B47: 10 | C47: 155232R | E47: Vyčištění trhlin a dutin ve skalní stěně horolecky s odvozem do 20 km | F47: M3 | G47: 10 | H47: 0 | I47: =ROUND(G47*H47,6) -> 0 | L47: 0 | M47: =ROUND(ROUND(L47,2)*ROUND(G47,3),2) -> 0 | N47: [bez vazby na CS] | O47: =(M47*21)/100 -> 0 | P47: 2
A48: PP | E48: vč. dopravy vlakem do 2 km
A49: VV
A50: TS | E50: 1. V cenách jsou započteny i náklady na vyčištění trhlin stlačeným vzduchem. 2. V cenách jsou započteny náklady na dopravu po železnici na meziskládku a přeložení materiálu na auta s dopravou na trvalou skládku odpadu. 3. V ceně není zahrnut poplatek za skládku. 4. Množství měrných jednotek se určuje v m3 objemu vyčištěné dutiny.
A51: P | B51: 11 | C51: 155314R | E51: Odtěžení nestabilních hornin ze skalních stěn horolezecky hydraulickými klíny s odvozem do 20 km | F51: M3 | G51: 24 | H51: 0.00158 | I51: =ROUND(G51*H51,6) -> 0.03792 | L51: 0 | M51: =ROUND(ROUND(L51,2)*ROUND(G51,3),2) -> 0 | N51: [bez vazby na CS] | O51: =(M51*21)/100 -> 0 | P51: 2
A52: PP | E52: s dopravou vlakem do 2 km
A53: VV
A54: TS | E54: 1. V ceně jsou započteny i náklady na provedení vrtů. 2. V cenách jsou započteny náklady na dopravu po železnici na meziskládku a přeložení materiálu na auta s dopravou na trvalou skládku odpadu. 3. V ceně není zahrnut poplatek za skládku.
A55: P | B55: 12 | C55: 155533R | E55: Sanace dutin skalních stěn beztlakovým zalitím prováděná horolezecky | F55: M3 | G55: 10 | H55: 0.05992 | I55: =ROUND(G55*H55,6) -> 0.5992 | L55: 0 | M55: =ROUND(ROUND(L55,2)*ROUND(G55,3),2) -> 0 | N55: [bez vazby na CS] | O55: =(M55*21)/100 -> 0 | P55: 2
A56: PP | E56: zaplnění spar a puklin cementovou maltou VM K 100
A57: VV
A58: TS
A59: SD | C59: 2 | E59: Zakládání | J59: =0 -> 0 | K59: =0 -> 0 | L59: =0+L60 -> 0 | M59: =0+M60 -> 0
A60: P | B60: 13 | C60: 289941 | E60: ZPEVNĚNÍ SKALNÍCH PLOCH Z OCELOVÝCH SÍTÍ HOROLEZECKÝM ZPŮSOBEM | F60: M2 | G60: 161 | H60: 0 | I60: =ROUND(G60*H60,6) -> 0 | L60: 0 | M60: =ROUND(ROUND(L60,2)*ROUND(G60,3),2) -> 0 | N60: 2018.1_OTSKP | O60: =(M60*21)/100 -> 0 | P60: 2
A61: PP
A62: VV
A63: TS | E63: Položka zahrnuje: - dodávku předepsaných sítí - úpravu, očištění a ochranu podkladu - ukotvení sítě na skalní stěně horolezci - vrty pro kotvy - dodání a osazení kotev předepsané délky v předepsaném rastru - nutné přesahy - mimostaveništní a vnitrostaveništní dopravu
A64: SD | C64: 9 | E64: Ostatní konstrukce a práce, bourání | J64: =0 -> 0 | K64: =0 -> 0 | L64: =0+L65 -> 0 | M64: =0+M65 -> 0
A65: P | B65: 14 | C65: 94490 | E65: OCHRANNÁ KONSTRUKCE | F65: M2 | G65: 300 | H65: 0 | I65: =ROUND(G65*H65,6) -> 0 | L65: 0 | M65: =ROUND(ROUND(L65,2)*ROUND(G65,3),2) -> 0 | N65: 2018.1_OTSKP | O65: =(M65*0)/100 -> 0 | P65: 0
A66: PP | E66: dočasné ochranné sítě pro zajištění bezpečnosti horolezců a provozu na pozemních komunikacích a železnici
A67: VV
A68: TS | E68: Položka zahrnuje dovoz, montáž, údržbu, opotřebení (nájemné), demontáž, konzervaci, odvoz.

Sheet SO 105
A1: SŽDC05 | E1: Příloha k formuláři pro ocenění nabídky | P1: 3
P2: 3
A3: S | B3: Stavba: | C3: S631600206 | E3: Zvýšení stability skalních masivů na trati Pňovany – Bezdružice | L3: E.1.1.2 | M3: =Rekapitulace!C10 -> 0 | N3: Aspe | O3: 0,00 | P3: 2
A4: O | B4: Objekt: | C4: E.1.1.2 | E4: Železniční spodek | O4: 15,00 | P4: 2
A5: Typ | B5: Poř. číslo | C5: Kód položky | D5: Varianta | E5: Název položky | F5: MJ | G5: Množství | H5: Jednotková hmotnost | I5: Celková hmotnost | J5: Cena | N5: Cenové soustavy | O5: 21,00 | P5: 2
J6: Dodávka | L6: Montáž
J7: Jednotková | K7: Celkem | L7: Jednotková | M7: Celkem | S7: Počet položek s nulovou cenou | T7: =COUNTIFS(L8:L73,"=0",A8:A73,"P")+COUNTIFS(L8:L73,"",A8:A73,"P")+SUM(Q8:Q73) -> 16
A8: O1 | C8: SO 105 | E8: Sanace skalních masivů v km 16,60 - 16,75 vpravo, vlevo | J8: =0+J9+J34+J59+J72 -> 0 | K8: =0+K9+K34+K59+K72 -> 0 | L8: =0+L9+L34+L59+L72 -> 0 | M8: =0+M9+M34+M59+M72 -> 0
A9: SD | C9: 0 | E9: Všeobecné konstrukce a práce | J9: =0 -> 0 | K9: =0 -> 0 | L9: =0+L10+L14+L18+L22+L26+L30 -> 0 | M9: =0+M10+M14+M18+M22+M26+M30 -> 0
A10: P | B10: 1 | C10: 015112 | E10: POPLATKY ZA LIKVIDACI ODPADŮ NEKONTAMINOVANÝCH - 17 05 04 VYTĚŽENÉ ZEMINY A HORNINY - II. TŘÍDA TĚŽITELNOSTI | F10: T | G10: 705.6 | H10: 0 | I10: =ROUND(G10*H10,6) -> 0 | L10: 0 | M10: =ROUND(ROUND(L10,2)*ROUND(G10,3),2) -> 0 | N10: 2018.1_OTSKP | O10: =(M10*21)/100 -> 0 | P10: 2
A11: PP
A12: VV | E12: očištění skal: 308,0*1,8=554.400 [A]t vyčištění trhlin a dutin: 20,0*1,8=36.000 [B]t hornin. bloky: 64,0*1,8=115.200 [C]t Celkem: A+B+C=705.600 [D]t
A13: TS | E13: 1. Položka obsahuje: – veškeré poplatky provozovateli skládky, recyklační linky nebo jiného zařízení na zpracování nebo likvidaci odpadů související s převzetím, uložením, zpracováním nebo likvidací odpadu 2. Položka neobsahuje: – náklady spojené s dopravou odpadu z místa stavby na místo převzetí provozovatelem skládky, recyklační linky nebo jiného zařízení na zpracování nebo likvidaci odpadů 3. Způsob měření: Tunou se rozumí hmotnost odpadu vytříděného v souladu se zákonem č. 185/2001 Sb., o nakládání s odpady, v platném znění.
A14: P | B14: 2 | C14: 015160 | E14: POPLATKY ZA LIKVIDACI ODPADŮ NEKONTAMINOVANÝCH - 02 01 03 SMÝCENÉ STROMY A KEŘE | F14: T | G14: 3.713 | H14: 0 | I14: =ROUND(G14*H14,6) -> 0 | L14: 0 | M14: =ROUND(ROUND(L14,2)*ROUND(G14,3),2) -> 0 | N14: 2018.1_OTSKP | O14: =(M14*21)/100 -> 0 | P14: 2
A15: PP
A16: VV | E16: 1650/100*0,225=3.713 [A]t
A17: TS | E17: 1. Položka obsahuje: – veškeré poplatky provozovateli skládky, recyklační linky nebo jiného zařízení na zpracování nebo likvidaci odpadů související s převzetím, uložením, zpracováním nebo likvidací odpadu 2. Položka neobsahuje: – náklady spojené s dopravou odpadu z místa stavby na místo převzetí provozovatelem skládky, recyklační linky nebo jiného zařízení na zpracování nebo likvidaci odpadů 3. Způsob měření: Tunou se rozumí hmotnost odpadu vytříděného v souladu se zákonem č. 185/2001 Sb., o nakládání s odpady, v platném znění.
A18: P | B18: 3 | C18: 015330 | E18: POPLATKY ZA LIKVIDACI ODPADŮ NEKONTAMINOVANÝCH - 17 05 04 KAMENNÁ SUŤ | F18: T | G18: 262.5 | H18: 0 | I18: =ROUND(G18*H18,6) -> 0 | L18: 0 | M18: =ROUND(ROUND(L18,2)*ROUND(G18,3),2) -> 0 | N18: 2018.1_OTSKP | O18: =(M18*0)/100 -> 0 | P18: 0
A19: PP
A20: VV | E20: čištění příkopů: 350,0*0,5*1,5=262.500 [A] t
A21: TS | E21: 1. Položka obsahuje: – veškeré poplatky provozovateli skládky, recyklační linky nebo jiného zařízení na zpracování nebo likvidaci odpadů související s převzetím, uložením, zpracováním nebo likvidací odpadu 2. Položka neobsahuje: – náklady spojené s dopravou odpadu z místa stavby na místo převzetí provozovatelem skládky, recyklační linky nebo jiného zařízení na zpracování nebo likvidaci odpadů 3. Způsob měření: Tunou se rozumí hmotnost odpadu vytříděného v souladu se zákonem č. 185/2001 Sb., o nakládání s odpady, v platném znění.
A22: P | B22: 4 | C22: 02944 | E22: OSTAT POŽADAVKY - DOKUMENTACE SKUTEČ PROVEDENÍ V DIGIT FORMĚ | F22: KPL | G22: 1 | H22: 0 | I22: =ROUND(G22*H22,6) -> 0 | L22: 0 | M22: =ROUND(ROUND(L22,2)*ROUND(G22,3),2) -> 0 | N22: 2018.1_OTSKP | O22: =(M22*21)/100 -> 0 | P22: 2
A23: PP
A24: VV
A25: TS | E25: zahrnuje veškeré náklady spojené s objednatelem požadovanými pracemi
A26: P | B26: 5 | C26: 02946 | E26: OSTAT POŽADAVKY - FOTODOKUMENTACE | F26: KPL | G26: 1 | H26: 0 | I26: =ROUND(G26*H26,6) -> 0 | L26: 0 | M26: =ROUND(ROUND(L26,2)*ROUND(G26,3),2) -> 0 | N26: 2018.1_OTSKP | O26: =(M26*21)/100 -> 0 | P26: 2
A27: PP
A28: VV
A29: TS | E29: položka zahrnuje: - fotodokumentaci zadavatelem požadovaného děje a konstrukcí v požadovaných časových intervalech - zadavatelem specifikované výstupy (fotografie v papírovém a digitálním formátu) v požadovaném počtu
A30: P | B30: 6 | C30: 029611 | E30: OSTATNÍ POŽADAVKY - ODBORNÝ DOZOR | F30: HOD | G30: 56 | H30: 0 | I30: =ROUND(G30*H30,6) -> 0 | L30: 0 | M30: =ROUND(ROUND(L30,2)*ROUND(G30,3),2) -> 0 | N30: 2018.1_OTSKP | O30: =(M30*21)/100 -> 0 | P30: 2
A31: PP
A32: VV
A33: TS | E33: zahrnuje veškeré náklady spojené s objednatelem požadovaným dozorem
A34: SD | C34: 1 | E34: Zemní práce | J34: =0 -> 0 | K34: =0 -> 0 | L34: =0+L35+L39+L43+L47+L51+L55 -> 0 | M34: =0+M35+M39+M43+M47+M51+M55 -> 0
A35: P | B35: 7 | C35: 12932 | E35: ČIŠTĚNÍ PŘÍKOPŮ OD NÁNOSU DO 0,5M3/M | F35: M | G35: 350 | H35: 0 | I35: =ROUND(G35*H35,6) -> 0 | L35: 0 | M35: =ROUND(ROUND(L35,2)*ROUND(G35,3),2) -> 0 | N35: 2018.1_OTSKP | O35: =(M35*0)/100 -> 0 | P35: 0
A36: PP
A37: VV
A38: TS | E38: - vodorovná a svislá doprava, přemístění, přeložení, manipulace s výkopkem a uložení na skládku (bez poplatku)
A39: P | B39: 8 | C39: 155113R | E39: Odstranění vegetace skalní plochy horolezecky vč. stažení k zemi s odvozem 20 km | F39: M2 | G39: 1650 | H39: 0 | I39: =ROUND(G39*H39,6) -> 0 | L39: 0 | M39: =ROUND(ROUND(L39,2)*ROUND(G39,3),2) -> 0 | N39: [bez vazby na CS] | O39: =(M39*21)/100 -> 0 | P39: 2
A40: PP | E40: vč. dopravy vlakem do 2 km
A41: VV
A42: TS | E42: Odstranění vegatace se měří v [m2] plochy, na které se vegetace odstraňuje a zahrnuje zejména: - poražení stromů průměru do 10 cm a odstranění keřů - spálení na hromadách nebo štěpkování - dopravu a uložení, případné další práce s nimi dle pokynů zadávací dokumentace. V ceně je obsažena doprava vlakem na meziskládku a doprava autem na trvalou skládku odpadu. V ceně není zahrnut poplatek za skládku.
A43: P | B43: 9 | C43: 155123R | E43: Očištění skalní plochy ruční nástroje (motyky, páčidla) horolezecky s odvozem do 20 km | F43: M3 | G43: 308 | H43: 0 | I43: =ROUND(G43*H43,6) -> 0 | L43: 0 | M43: =ROUND(ROUND(L43,2)*ROUND(G43,3),2) -> 0 | N43: [bez vazby na CS] | O43: =(M43*21)/100 -> 0 | P43: 2
A44: PP | E44: vč. dopravy vlakem do 2 km
A45: VV
A46: TS | E46: 1. Množství měrných jednotek se určuje v m3 materiálu odstraněného ze skalní stěny. 2. V cenách jsou započteny náklady na dopravu po železnici na meziskládku a přeložení materiálu na auta s dopravou na trvalou skládku odpadu. 3. V ceně není zahrnut poplatek za skládku.
A47: P | B47: 10 | C47: 155232R | E47: Vyčištění trhlin a dutin ve skalní stěně horolecky s odvozem do 20 km | F47: M3 | G47: 20 | H47: 0 | I47: =ROUND(G47*H47,6) -> 0 | L47: 0 | M47: =ROUND(ROUND(L47,2)*ROUND(G47,3),2) -> 0 | N47: [bez vazby na CS] | O47: =(M47*21)/100 -> 0 | P47: 2
A48: PP | E48: vč. dopravy vlakem do 2 km
A49: VV
A50: TS | E50: 1. V cenách jsou započteny i náklady na vyčištění trhlin stlačeným vzduchem. 2. V cenách jsou započteny náklady na dopravu po železnici na meziskládku a přeložení materiálu na auta s dopravou na trvalou skládku odpadu. 3. V ceně není zahrnut poplatek za skládku. 4. Množství měrných jednotek se určuje v m3 objemu vyčištěné dutiny.
A51: P | B51: 11 | C51: 155314R | E51: Odtěžení nestabilních hornin ze skalních stěn horolezecky hydraulickými klíny s odvozem do 20 km | F51: M3 | G51: 64 | H51: 0.00158 | I51: =ROUND(G51*H51,6) -> 0.10112 | L51: 0 | M51: =ROUND(ROUND(L51,2)*ROUND(G51,3),2) -> 0 | N51: [bez vazby na CS] | O51: =(M51*21)/100 -> 0 | P51: 2
A52: PP | E52: s dopravou vlakem do 2 km
A53: VV
A54: TS | E54: 1. V ceně jsou započteny i náklady na provedení vrtů. 2. V cenách jsou započteny náklady na dopravu po železnici na meziskládku a přeložení materiálu na auta s dopravou na trvalou skládku odpadu. 3. V ceně není zahrnut poplatek za skládku.
A55: P | B55: 12 | C55: 155533R | E55: Sanace dutin skalních stěn beztlakovým zalitím prováděná horolezecky | F55: M3 | G55: 20 | H55: 0.05992 | I55: =ROUND(G55*H55,6) -> 1.1984 | L55: 0 | M55: =ROUND(ROUND(L55,2)*ROUND(G55,3),2) -> 0 | N55: [bez vazby na CS] | O55: =(M55*21)/100 -> 0 | P55: 2
A56: PP | E56: zaplnění spar a puklin cementovou maltou VM K 100
A57: VV
A58: TS
A59: SD | C59: 2 | E59: Zakládání | J59: =0 -> 0 | K59: =0 -> 0 | L59: =0+L60+L64+L68 -> 0 | M59: =0+M60+M64+M68 -> 0
A60: P | B60: 13 | C60: 261316 | E60: VRTY PRO KOTV, INJEKT, MIKROPIL NA POVRCHU TŘ III D DO 80MM | F60: M | G60: 10 | H60: 0 | I60: =ROUND(G60*H60,6) -> 0 | L60: 0 | M60: =ROUND(ROUND(L60,2)*ROUND(G60,3),2) -> 0 | N60: 2018.1_OTSKP | O60: =(M60*21)/100 -> 0 | P60: 2
A61: PP
A62: VV | E62: 2*5,0=10.000 [A]m
A63: TS | E63: položka zahrnuje: přemístění, montáž a demontáž vrtných souprav svislou dopravu zeminy z vrtu vodorovnou dopravu zeminy bez uložení na skládku případně nutné pažení dočasné (včetně odpažení) i trvalé
A64: P | B64: 14 | C64: 286432R | E64: KOTVY LEPENÉ DÉLKY DO 5M ÚNOS DO 100KN | F64: KUS | G64: 2 | H64: 0 | I64: =ROUND(G64*H64,6) -> 0 | L64: 0 | M64: =ROUND(ROUND(L64,2)*ROUND(G64,3),2) -> 0 | N64: [bez vazby na CS] | O64: =(M64*21)/100 -> 0 | P64: 2
A65: PP | E65: kotvy CKT průměr 25 mm délky 5 m vlepení kotev na bázi polyesteru
A66: VV
A67: TS | E67: Zahrnuje kompletní dodávku kotvy délky od 4,01m do 5,00m a únosnosti do 100kN včetně příslušenství (podložky, matice, víčka a pod.), podle požadavků a popisu uvedených v dokumentci pro zadání stavby; - součástí je kompletní osazení kotvy, které zahrnuje všechny operace podle technologického předpisu výrobce nutné pro řádné osazení a aktivaci včetně všech pomocných mechanizmů, přípravků a hmot (např. lepící hmoty a pod.) ; - vrty pro kotvy nejsou součástí této položky uvedou se v položce 261 - vrty pro kotvení a injektáž na povrchu.
A68: P | B68: 15 | C68: 289941 | E68: ZPEVNĚNÍ SKALNÍCH PLOCH Z OCELOVÝCH SÍTÍ HOROLEZECKÝM ZPŮSOBEM | F68: M2 | G68: 2000 | H68: 0 | I68: =ROUND(G68*H68,6) -> 0 | L68: 0 | M68: =ROUND(ROUND(L68,2)*ROUND(G68,3),2) -> 0 | N68: 2018.1_OTSKP | O68: =(M68*21)/100 -> 0 | P68: 2
A69: PP | E69: ZPEVNĚNÍ SKALNÍCH PLOCH Z OCELOVÝCH SÍTÍ HOROLEZECKÝM ZPŮSOBEM
A70: VV
A71: TS | E71: Položka zahrnuje: - dodávku předepsaných sítí - úpravu, očištění a ochranu podkladu - ukotvení sítě na skalní stěně horolezci - vrty pro kotvy - dodání a osazení kotev předepsané délky v předepsaném rastru - nutné přesahy - mimostaveništní a vnitrostaveništní dopravu
A72: SD | C72: 9 | E72: Ostatní konstrukce a práce, bourání | J72: =0 -> 0 | K72: =0 -> 0 | L72: =0+L73 -> 0 | M72: =0+M73 -> 0
A73: P | B73: 16 | C73: 94490 | E73: OCHRANNÁ KONSTRUKCE | F73: M2 | G73: 1650 | H73: 0 | I73: =ROUND(G73*H73,6) -> 0 | L73: 0 | M73: =ROUND(ROUND(L73,2)*ROUND(G73,3),2) -> 0 | N73: 2018.1_OTSKP | O73: =(M73*0)/100 -> 0 | P73: 0
A74: PP | E74: dočasné ochranné sítě pro zajištění bezpečnosti horolezců a provozu na pozemních komunikacích a železnici
A75: VV
A76: TS | E76: Položka zahrnuje dovoz, montáž, údržbu, opotřebení (nájemné), demontáž, konzervaci, odvoz.

Sheet SO 98-98
A1: SŽDC05 | E1: Příloha k formuláři pro ocenění nabídky | P1: 3
P2: 3
A3: S | B3: Stavba: | C3: S631600206 | E3: Zvýšení stability skalních masivů na trati Pňovany – Bezdružice | L3: OST | M3: =Rekapitulace!C16 -> 0 | N3: Aspe | O3: 0,00 | P3: 2
A4: O | B4: Objekt: | C4: OST | E4: Všeobecný objekt | O4: 15,00 | P4: 2
A5: Typ | B5: Poř. číslo | C5: Kód položky | D5: Varianta | E5: Název položky | F5: MJ | G5: Množství | H5: Jednotková hmotnost | I5: Celková hmotnost | J5: Cena | N5: Cenové soustavy | O5: 21,00 | P5: 2
J6: Dodávka | L6: Montáž
J7: Jednotková | K7: Celkem | L7: Jednotková | M7: Celkem | S7: Počet položek s nulovou cenou | T7: =COUNTIFS(L8:L27,"=0",A8:A27,"P")+COUNTIFS(L8:L27,"",A8:A27,"P")+SUM(Q8:Q27) -> 5
A8: O1 | C8: SO 98-98 | E8: Všeobecný objekt | J8: =0+J9+J22 -> 0 | K8: =0+K9+K22 -> 0 | L8: =0+L9+L22 -> 0 | M8: =0+M9+M22 -> 0
A9: SD | C9: 1 | E9: Dokumentace stavby | J9: =0 -> 0 | K9: =0 -> 0 | L9: =0+L10+L14+L18 -> 0 | M9: =0+M10+M14+M18 -> 0
A10: P | B10: 1 | C10: VSEOB001 | E10: Geodetická dokumentace skutečného provedení stavby | F10: KPL | G10: 1 | H10: 0 | I10: =ROUND(G10*H10,6) -> 0 | L10: 0 | M10: =ROUND(ROUND(L10,2)*ROUND(G10,3),2) -> 0 | N10: R-položka | O10: =(M10*21)/100 -> 0 | P10: 2
A11: PP | E11: Vypracování geodetické části dokumentace skutečného provedení
A12: VV | E12: v předepsaném rozsahu a počtu dle VTP a ZTP
A13: TS | E13: Položka zahrnuje veškeré činnosti nezbytné k vypracování dokumentace skutečného provedení dle SOD na zhotovení stavby a v rozsahu vyhlášky č. 499/2006 Sb., v platném znění, a dle požadavků VTP a ZTP. Jedná se o souhrn činností zahrnujících vyhotovení dokumentace skutečného provedení stavby, která mimo jiné zahrnuje geodetické měření, zapracování všech změn během výstavby, geometrické plány pro zápis vlastnických a jiných věcných práv do katastru nemovitostí, výsledné měřící protokoly, aktuální údaje apod.
A14: P | B14: 2 | C14: VSEOB002 | E14: Dokumentace skutečného provedení v listinné formě | F14: KPL | G14: 1 | H14: 0 | I14: =ROUND(G14*H14,6) -> 0 | L14: 0 | M14: =ROUND(ROUND(L14,2)*ROUND(G14,3),2) -> 0 | N14: R-položka | O14: =(M14*21)/100 -> 0 | P14: 2
A15: PP | E15: Vypracování technické části dokumentace skutečného provedení
A16: VV | E16: v předepsaném rozsahu a počtu dle VTP a ZTP
A17: TS | E17: Položka zahrnuje veškeré činnosti nezbytné k vypracování dokumentace skutečného provedení dle SOD na zhotovení stavby a v rozsahu vyhlášky č. 499/2006 Sb. v platném znění a dle požadavků VTP a ZTP. Jedná se o souhrn činností zahrnujících vyhotovení dokumentace skutečného provedení stavby v předepsaném počtu, která mimo jiné zahrnuje , zapracování všech změn během výstavby, výsledné měřící protokoly, aktuální údaje a dokumenty k zařízení (vlastní SW, knihy kabelových plánů s měřícími protokoly a protokoly o jejich uložení, předpisy pro obsluhu, doklady ověřovacího provozu apod.), závěrečnou zprávu o nakládání s odpady apod
A18: P | B18: 3 | C18: VSEOB003 | E18: Dokumentace skutečného provedení v elektronické formě | F18: KPL | G18: 1 | H18: 0 | I18: =ROUND(G18*H18,6) -> 0 | L18: 0 | M18: =ROUND(ROUND(L18,2)*ROUND(G18,3),2) -> 0 | N18: R-položka | O18: =(M18*21)/100 -> 0 | P18: 2
A19: PP | E19: Vypracování kompletní dokumentace skutečného provedení v elektronické formě.
A20: VV | E20: v předepsaném rozsahu a počtu dle VTP a ZTP
A21: TS | E21: Položka zahrnuje veškeré činnosti nezbytné k vypracování kompletní elketroniké dokumentace skutečného provedení dle SOD na zhotovení stavby a v rozsahu vyhlášky č. 499/2006 Sb. v platném znění a dle požadavků VTP a ZTP.
A22: SD | C22: 2 | E22: Ostatní | J22: =0 -> 0 | K22: =0 -> 0 | L22: =0+L23+L27 -> 0 | M22: =0+M23+M27 -> 0
A23: P | B23: 4 | C23: VSEOB004 | E23: Osvědčení o shodě notifikovanou osobou | F23: KPL | G23: 1 | H23: 0 | I23: =ROUND(G23*H23,6) -> 0 | L23: 0 | M23: =ROUND(ROUND(L23,2)*ROUND(G23,3),2) -> 0 | N23: R-položka | O23: =(M23*21)/100 -> 0 | P23: 2
A24: PP | E24: Zajištění vydání osvědčení o shodě notifikovanou osobou
A25: VV | E25: v předepsaném rozsahu a počtu dle VTP a ZTP
A26: TS | E26: Položka zahrnuje veškeré činnosti nezbytné k zajištění vydání platného prohlášení o ověření subsystému notifikovanou osobou ve stádiu realizace podle Směrnice Evropského parlamentu a Rady 2008/57/ES ze dne 17. června 2008 o interoperabilitě železničního systému, ve znění pozdějších předpisů v souhrnu pro stavební objekty a provozní soubory. Položka zahrnuje všechny nezbytné práce, náklady a zařízení včetně všech doprav a pomocného materiálu nutných pro uskutečnění dané činnosti.
A27: P | B27: 5 | C27: VSEOB005 | E27: Osvědčení o bezpečnosti před uvedením do provozu | F27: KPL | G27: 1 | H27: 0 | I27: =ROUND(G27*H27,6) -> 0 | L27: 0 | M27: =ROUND(ROUND(L27,2)*ROUND(G27,3),2) -> 0 | N27: R-položka | O27: =(M27*21)/100 -> 0 | P27: 2
A28: PP | E28: Zajištění vydání osvědčení o bezpečnosti před uvedením do provozu.
A29: VV | E29: v předepsaném rozsahu a počtu dle VTP a ZTP
A30: TS | E30: Položka zahrnuje veškeré činnosti nezbytné k zajištění vydání zprávy o posouzení bezpečnosti dle prováděcího nařízení Komise (EU) č. 402/2013 ze dne 30. dubna 2013 o společné bezpečnostní metodě pro hodnocení a posuzování rizik a požadavky Drážního úřadu. Položka zahrnuje všechny nezbytné práce, náklady a zařízení včetně všech doprav a pomocného materiálu nutných pro uskutečnění dané činnosti.
