Workbook

Sheet Rekapitulace
B1: Soupis objektů s DPH
A4: S631600206 | B4: Zvýšení stability skalních masivů na trati Pňovany – Bezdružice | E4: Aspe
A5: ZŘ | B5: Základní řešení
B6: Odbytová cena: | C6: =0+C10+C16 -> 0
B7: OC+DPH: | C7: =0+E10+E16 -> 0
A9: Objekt | B9: Popis | C9: OC | D9: DPH | E9: OC+DPH
A10: E.1.1.2 | B10: Železniční spodek | C10: =0+C11+C12+C13+C14+C15 -> 0 | D10: =C10*0.21 -> 0 | E10: =0+E11+E12+E13+E14+E15 -> 0
A11: SO 101 | B11: Sanace skalních masivů v km 2,70 - 2,90 vpravo, vlevo | C11: ='SO 101'!K8+'SO 101'!M8 -> 0 | D11: =C11*0.21 -> 0 | E11: =C11+D11 -> 0
A12: SO 102 | B12: Sanace skalních masivů v km 11,80 - 11,90 vpravo, vlevo | C12: ='SO 102'!K8+'SO 102'!M8 -> 0 | D12: =C12*0.21 -> 0 | E12: =C12+D12 -> 0
A13: SO 103 | B13: Sanace skalních masivů v km 12,30 - 12,40 vpravo | C13: ='SO 103'!K8+'SO 103'!M8 -> 0 | D13: =C13*0.21 -> 0 | E13: =C13+D13 -> 0
A14: SO 104 | B14: Sanace skalních masivů v km 15,80 - 15,90 vpravo, vlevo | C14: ='SO 104'!K8+'SO 104'!M8 -> 0 | D14: =C14*0.21 -> 0 | E14: =C14+D14 -> 0
A15: SO 105 | B15: Sanace skalních masivů v km 16,60 - 16,75 vpravo, vlevo | C15: ='SO 105'!K8+'SO 105'!M8 -> 0 | D15: =C15*0.21 -> 0 | E15: =C15+D15 -> 0
A16: OST | B16: Všeobecný objekt | C16: =0+C17 -> 0 | D16: =C16*0.21 -> 0 | E16: =0+E17 -> 0
A17: SO 98-98 | B17: Všeobecný objekt | C17: ='SO 98-98'!K8+'SO 98-98'!M8 -> 0 | D17: =C17*0.21 -> 0 | E17: =C17+D17 -> 0

Sheet SO 101
A1: SŽDC05 | E1: Příloha k formuláři pro ocenění nabídky | P1: 3
P2: 3
A3: S | B3: Stavba: | C3: S631600206 | E3: Zvýšení stability skalních masivů na trati Pňovany – Bezdružice | L3: E.1.1.2 | M3: =Rekapitulace!C10 -> 0 | N3: Aspe | O3: 0,00 | P3: 2
A4: O | B4: Objekt: | C4: E.1.1.2 | E4: Železniční spodek | O4: 15,00 | P4: 2
A5: Typ | B5: Poř. číslo | C5: Kód položky | D5: Varianta | E5: Název položky | F5: MJ | G5: Množství | H5: Jednotková hmotnost | I5: Celková hmotnost | J5: Cena | N5: Cenové soustavy | O5: 21,00 | P5: 2
J6: Dodávka | L6: Montáž
J7: Jednotková | K7: Celkem | L7: Jednotková | M7: Celkem | S7: Počet položek s nulovou cenou | T7: =COUNTIFS(L8:L68,"=0",A8:A68,"P")+COUNTIFS(L8:L68,"",A8:A68,"P")+SUM(Q8:Q68) -> 15
A8: O1 | C8: SO 101 | E8: Sanace skalních masivů v km 2,70 - 2,90 vpravo, vlevo | J8: =0+J9+J38+J67 -> 0 | K8: =0+K9+K38+K67 -> 0 | L8: =0+L9+L38+L67 -> 0 | M8: =0+M9+M38+M67 -> 0
A9: SD | C9: 0 | E9: Všeobecné konstrukce a práce | J9: =0 -> 0 | K9: =0 -> 0 | L9: =0+L10+L14+L18+L22+L26+L30+L34 -> 0 | M9: =0+M10+M14+M18+M22+M26+M30+M34 -> 0
A10: P | B10: 1 | C10: 015112 | E10: POPLATKY ZA LIKVIDACI ODPADŮ NEKONTAMINOVANÝCH - 17 05 04 VYTĚŽENÉ ZEMINY A HORNINY - II. TŘÍDA TĚŽITELNOSTI | F10: T | G10: 783 | H10: 0 | I10: =ROUND(G10*H10,6) -> 0 | L10: 0 | M10: =ROUND(ROUND(L10,2)*ROUND(G10,3),2) -> 0 | N10: 2018.1_OTSKP | O10: =(M10*21)/100 -> 0 | P10: 2
A11: PP
A12: VV | E12: očištění skal: 335,0*1,8=603.000 [A]t vyčištění trhlin a dutin: 10,0*1,8=18.000 [B]t hornin. bloky: 90,0*1,8=162.000 [C]t Celkem: A+B+C=783.000 [D]t
A13: TS | E13: 1. Položka obsahuje: – veškeré poplatky provozovateli skládky, recyklační linky nebo jiného zařízení na zpracování nebo likvidaci odpadů související s převzetím, uložením, zpracováním nebo likvidací odpadu 2. Položka neobsahuje: – náklady spojené s dopravou odpadu z místa stavby na místo převzetí provozovatelem skládky, recyklační linky nebo jiného zařízení na zpracování nebo likvidaci odpadů 3. Způsob měření: Tunou se rozumí hmotnost odpadu vytříděného v souladu se zákonem č. 185/2001 Sb., o nakládání s odpady, v platném znění.
A14: P | B14: 2 | C14: 015160 | E14: POPLATKY ZA LIKVIDACI ODPADŮ NEKONTAMINOVANÝCH - 02 01 03 SMÝCENÉ STROMY A KEŘE | F14: T | G14: 3.488 | H14: 0 | I14: =ROUND(G14*H14,6) -> 0 | L14: 0 | M14: =ROUND(ROUND(L14,2)*ROUND(G14,3),2) -> 0 | N14: 2018.1_OTSKP | O14: =(M14*21)/100 -> 0 | P14: 2
A15: PP
A16: VV | E16: 1550/100*0,225=3.488 [A]t
A17: TS | E17: 1. Položka obsahuje: – veškeré poplatky provozovateli skládky, recyklační linky nebo jiného zařízení na zpracování nebo likvidaci odpadů související s převzetím, uložením, zpracováním nebo likvidací odpadu 2. Položka neobsahuje: – náklady spojené s dopravou odpadu z místa stavby na místo převzetí provozovatelem skládky, recyklační linky nebo jiného zařízení na zpracování nebo likvidaci odpadů 3. Způsob měření: Tunou se rozumí hmotnost odpadu vytříděného v souladu se zákonem č. 185/2001 Sb., o nakládání s odpady, v platném znění.
A18: P | B18: 3 | C18: 015330 | E18: POPLATKY ZA LIKVIDACI ODPADŮ NEKONTAMINOVANÝCH - 17 05 04 KAMENNÁ SUŤ | F18: T | G18: 450 | H18: 0 | I18: =ROUND(G18*H18,6) -> 0 | L18: 0 | M18: =ROUND(ROUND(L18,2)*ROUND(G18,3),2) -> 0 | N18: 2018.1_OTSKP | O18: =(M18*21)/100 -> 0 | P18: 2
A19: PP
A20: VV | E20: čištění příkopů: 600,0*0,5*1,5=450.000 [A]t
A21: TS | E21: 1. Položka obsahuje: – veškeré poplatky provozovateli skládky, recyklační linky nebo jiného zařízení na zpracování nebo likvidaci odpadů související s převzetím, uložením, zpracováním nebo likvidací odpadu 2. Položka neobsahuje: – náklady spojené s dopravou odpadu z místa stavby na místo převzetí provozovatelem skládky, recyklační linky nebo jiného zařízení na zpracování nebo likvidaci odpadů 3. Způsob měření: Tunou se rozumí hmotnost odpadu vytříděného v souladu se zákonem č. 185/2001 Sb., o nakládání s odpady, v platném znění.
A22: P | B22: 4 | C22: 015340 | E22: POPLATKY ZA LIKVIDACI ODPADŮ NEKONTAMINOVANÝCH - 02 01 03 PAŘEZY | F22: T | G22: 4 | H22: 0 | I22: =ROUND(G22*H22,6) -> 0 | L22: 0 | M22: =ROUND(ROUND(L22,2)*ROUND(G22,3),2) -> 0 | N22: 2018.1_OTSKP | O22: =(M22*21)/100 -> 0 | P22: 2
A23: PP
A24: VV | E24: 40*0,1=4.000 [A]t
A25: TS | E25: 1. Položka obsahuje: – veškeré poplatky provozovateli skládky, recyklační linky nebo jiného zařízení na zpracování nebo likvidaci odpadů související s převzetím, uložením, zpracováním nebo likvidací odpadu 2. Položka neobsahuje: – náklady spojené s dopravou odpadu z místa stavby na místo převzetí provozovatelem skládky, recyklační linky nebo jiného zařízení na zpracování nebo likvidaci odpadů 3. Způsob měření: Tunou se rozumí hmotnost odpadu vytříděného v souladu se zákonem č. 185/2001 Sb., o nakládání s odpady, v platném znění.
A26: P | B26: 5 | C26: 02944 | E26: OSTAT POŽADAVKY - DOKUMENTACE SKUTEČ PROVEDENÍ V DIGIT FORMĚ | F26: KPL | G26: 1 | H26: 0 | I26: =ROUND(G26*H26,6) -> 0 | L26: 0 | M26: =ROUND(ROUND(L26,2)*ROUND(G26,3),2) -> 0 | N26: 2018.1_OTSKP | O26: =(M26*21)/100 -> 0 | P26: 2
A27: PP
A28: VV
A29: TS | E29: zahrnuje veškeré náklady spojené s objednatelem požadovanými pracemi
A30: P | B30: 6 | C30: 02946 | E30: OSTAT POŽADAVKY - FOTODOKUMENTACE | F30: KPL | G30: 1 | H30: 0 | I30: =ROUND(G30*H30,6) -> 0 | L30: 0 | M30: =ROUND(ROUND(L30,2)*ROUND(G30,3),2) -> 0 | N30: 2018.1_OTSKP | O30: =(M30*21)/100 -> 0 | P30: 2
A31: PP
A32: VV
A33: TS | E33: položka zahrnuje: - fotodokumentaci zadavatelem požadovaného děje a konstrukcí v požadovaných časových intervalech - zadavatelem specifikované výstupy (fotografie v papírovém a digitálním formátu) v požadovaném počtu
A34: P | B34: 7 | C34: 029611 | E34: OSTATNÍ POŽADAVKY - ODBORNÝ DOZOR | F34: HOD | G34: 56 | H34: 0 | I34: =ROUND(G34*H34,6) -> 0 | L34: 0 | M34: =ROUND(ROUND(L34,2)*ROUND(G34,3),2) -> 0 | N34: 2018.1_OTSKP | O34: =(M34*21)/100 -> 0 | P34: 2
A35: PP | E35: geotechnický dozor
A36: VV
A37: TS | E37: zahrnuje veškeré náklady spojené s objednatelem požadovaným dozorem
A38: SD | C38: 1 | E38: Zemní práce | J38: =0 -> 0 | K38: =0 -> 0 | L38: =0+L39+L43+L47+L51+L55+L59+L63 -> 0 | M38: =0+M39+M43+M47+M51+M55+M59+M63 -> 0
A39: P | B39: 8 | C39: 112017R | E39: ODSTRANĚNÍ PAŘEZŮ D KMENE DO 0,5M HOROLEZECKY, ODVOZ DO 16KM | F39: KUS | G39: 40 | H39: 0 | I39: =ROUND(G39*H39,6) -> 0 | L39: 0 | M39: =ROUND(ROUND(L39,2)*ROUND(G39,3),2) -> 0 | N39: 2018.1_OTSKP | O39: =(M39*21)/100 -> 0 | P39: 2
A40: PP
...

Sheet SO 102
A1: SŽDC05 | E1: Příloha k formuláři pro ocenění nabídky | P1: 3
P2: 3
A3: S | B3: Stavba: | C3: S631600206 | E3: Zvýšení stability skalních masivů na trati Pňovany – Bezdružice | L3: E.1.1.2 | M3: =Rekapitulace!C10 -> 0 | N3: Aspe | O3: 0,00 | P3: 2
A4: O | B4: Objekt: | C4: E.1.1.2 | E4: Železniční spodek | O4: 15,00 | P4: 2
A5: Typ | B5: Poř. číslo | C5: Kód položky | D5: Varianta | E5: Název položky | F5: MJ | G5: Množství | H5: Jednotková hmotnost | I5: Celková hmotnost | J5: Cena | N5: Cenové soustavy | O5: 21,00 | P5: 2
J6: Dodávka | L6: Montáž
J7: Jednotková | K7: Celkem | L7: Jednotková | M7: Celkem | S7: Počet položek s nulovou cenou | T7: =COUNTIFS(L8:L68,"=0",A8:A68,"P")+COUNTIFS(L8:L68,"",A8:A68,"P")+SUM(Q8:Q68) -> 15
A8: O1 | C8: SO 102 | E8: Sanace skalních masivů v km 11,80 - 11,90 vpravo, vlevo | J8: =0+J9+J38+J67 -> 0 | K8: =0+K9+K38+K67 -> 0 | L8: =0+L9+L38+L67 -> 0 | M8: =0+M9+M38+M67 -> 0
A9: SD | C9: 0 | E9: Všeobecné konstrukce a práce | J9: =0 -> 0 | K9: =0 -> 0 | L9: =0+L10+L14+L18+L22+L26+L30+L34 -> 0 | M9: =0+M10+M14+M18+M22+M26+M30+M34 -> 0
A10: P | B10: 1 | C10: 015112 | E10: POPLATKY ZA LIKVIDACI ODPADŮ NEKONTAMINOVANÝCH - 17 05 04 VYTĚŽENÉ ZEMINY A HORNINY - II. TŘÍDA TĚŽITELNOSTI | F10: T | G10: 434.7 | H10: 0 | I10: =ROUND(G10*H10,6) -> 0 | L10: 0 | M10: =ROUND(ROUND(L10,2)*ROUND(G10,3),2) -> 0 | N10: 2018.1_OTSKP | O10: =(M10*21)/100 -> 0 | P10: 2
A11: PP
A12: VV | E12: očištění skal: 141,5*1,8=254.700 [A]t vyčištění trhlin a dutin: 10,0*1,8=18.000 [B]t hornin. bloky: 90,0*1,8=162.000 [C]t Celkem: A+B+C=434.700 [D]t
A13: TS | E13: 1. Položka obsahuje: – veškeré poplatky provozovateli skládky, recyklační linky nebo jiného zařízení na zpracování nebo likvidaci odpadů související s převzetím, uložením, zpracováním nebo likvidací odpadu 2. Položka neobsahuje: – náklady spojené s dopravou odpadu z místa stavby na místo převzetí provozovatelem skládky, recyklační linky nebo jiného zařízení na zpracování nebo likvidaci odpadů 3. Způsob měření: Tunou se rozumí hmotnost odpadu vytříděného v souladu se zákonem č. 185/2001 Sb., o nakládání s odpady, v platném znění.
A14: P | B14: 2 | C14: 015160 | E14: POPLATKY ZA LIKVIDACI ODPADŮ NEKONTAMINOVANÝCH - 02 01 03 SMÝCENÉ STROMY A KEŘE | F14: T | G14: 0.675 | H14: 0 | I14: =ROUND(G14*H14,6) -> 0 | L14: 0 | M14: =ROUND(ROUND(L14,2)*ROUND(G14,3),2) -> 0 | N14: 2018.1_OTSKP | O14: =(M14*21)/100 -> 0 | P14: 2
A15: PP
A16: VV | E16: 300/100*0,225=0.675 [A]t
A17: TS | E17: 1. Položka obsahuje: – veškeré poplatky provozovateli skládky, recyklační linky nebo jiného zařízení na zpracování nebo likvidaci odpadů související s převzetím, uložením, zpracováním nebo likvidací odpadu 2. Položka neobsahuje: – náklady spojené s dopravou odpadu z místa stavby na místo převzetí provozovatelem skládky, recyklační linky nebo jiného zařízení na zpracování nebo likvidaci odpadů 3. Způsob měření: Tunou se rozumí hmotnost odpadu vytříděného v souladu se zákonem č. 185/2001 Sb., o nakládání s odpady, v platném znění.
A18: P | B18: 3 | C18: 015330 | E18: POPLATKY ZA LIKVIDACŮ ODPADŮ NEKONTAMINOVANÝCH - 17 05 04 KAMENNÁ SUŤ | F18: T | G18: 247.5 | H18: 0 | I18: =ROUND(G18*H18,6) -> 0 | L18: 0 | M18: =ROUND(ROUND(L18,2)*ROUND(G18,3),2) -> 0 | N18: 2018.1_OTSKP | O18: =(M18*0)/100 -> 0 | P18: 0
A19: PP
A20: VV | E20: čištění příkopů: 330,0*0,5*1,5=247.500 [A] t
A21: TS | E21: 1. Položka obsahuje: – veškeré poplatky provozovateli skládky, recyklační linky nebo jiného zařízení na zpracování nebo likvidaci odpadů související s převzetím, uložením, zpracováním nebo likvidací odpadu 2. Položka neobsahuje: – náklady spojené s dopravou odpadu z místa stavby na místo převzetí provozovatelem skládky, recyklační linky nebo jiného zařízení na zpracování nebo likvidaci odpadů 3. Způsob měření: Tunou se rozumí hmotnost odpadu vytříděného v souladu se zákonem č. 185/2001 Sb., o nakládání s odpady, v platném znění.
A22: P | B22: 4 | C22: 015340 | E22: POPLATKY ZA LIKVIDACI ODPADŮ NEKONTAMINOVANÝCH - 02 01 03 PAŘEZY | F22: T | G22: 0.8 | H22: 0 | I22: =ROUND(G22*H22,6) -> 0 | L22: 0 | M22: =ROUND(ROUND(L22,2)*ROUND(G22,3),2) -> 0 | N22: 2018.1_OTSKP | O22: =(M22*21)/100 -> 0 | P22: 2
A23: PP
A24: VV | E24: 8*0,1=0.800 [A]t
A25: TS | E25: 1. Položka obsahuje: – veškeré poplatky provozovateli skládky, recyklační linky nebo jiného zařízení na zpracování nebo likvidaci odpadů související s převzetím, uložením, zpracováním nebo likvidací odpadu 2. Položka neobsahuje: – náklady spojené s dopravou odpadu z místa stavby na místo převzetí provozovatelem skládky, recyklační linky nebo jiného zařízení na zpracování nebo likvidaci odpadů 3. Způsob měření: Tunou se rozumí hmotnost odpadu vytříděného v souladu se zákonem č. 185/2001 Sb., o nakládání s odpady, v platném znění.
A26: P | B26: 5 | C26: 02944 | E26: OSTAT POŽADAVKY - DOKUMENTACE SKUTEČ PROVEDENÍ V DIGIT FORMĚ | F26: KPL | G26: 1 | H26: 0 | I26: =ROUND(G26*H26,6) -> 0 | L26: 0 | M26: =ROUND(ROUND(L26,2)*ROUND(G26,3),2) -> 0 | N26: 2018.1_OTSKP | O26: =(M26*21)/100 -> 0 | P26: 2
A27: PP
A28: VV
A29: TS | E29: zahrnuje veškeré náklady spojené s objednatelem požadovanými pracemi
A30: P | B30: 6 | C30: 02946 | E30: OSTAT POŽADAVKY - FOTODOKUMENTACE | F30: KPL | G30: 1 | H30: 0 | I30: =ROUND(G30*H30,6) -> 0 | L30: 0 | M30: =ROUND(ROUND(L30,2)*ROUND(G30,3),2) -> 0 | N30: 2018.1_OTSKP | O30: =(M30*21)/100 -> 0 | P30: 2
A31: PP
A32: VV
A33: TS | E33: položka zahrnuje: - fotodokumentaci zadavatelem požadovaného děje a konstrukcí v požadovaných časových intervalech - zadavatelem specifikované výstupy (fotografie v papírovém a digitálním formátu) v požadovaném počtu
A34: P | B34: 7 | C34: 029611 | E34: OSTATNÍ POŽADAVKY - ODBORNÝ DOZOR | F34: HOD | G34: 56 | H34: 0 | I34: =ROUND(G34*H34,6) -> 0 | L34: 0 | M34: =ROUND(ROUND(L34,2)*ROUND(G34,3),2) -> 0 | N34: 2018.1_OTSKP | O34: =(M34*21)/100 -> 0 | P34: 2
A35: PP | E35: geotechnický dozor
A36: VV
A37: TS | E37: zahrnuje veškeré náklady spojené s objednatelem požadovaným dozorem
A38: SD | C38: 1 | E38: Zemní práce | J38: =0 -> 0 | K38: =0 -> 0 | L38: =0+L39+L43+L47+L51+L55+L59+L63 -> 0 | M38: =0+M39+M43+M47+M51+M55+M59+M63 -> 0
A39: P | B39: 8 | C39: 112017 | E39: KÁCENÍ STROMŮ D KMENE DO 0,5M S ODSTRANĚNÍM PAŘEZŮ, ODVOZ DO 16KM | F39: KUS | G39: 8 | H39: 0 | I39: =ROUND(G39*H39,6) -> 0 | L39: 0 | M39: =ROUND(ROUND(L39,2)*ROUND(G39,3),2) -> 0 | N39: 2018.1_OTSKP | O39: =(M39*21)/100 -> 0 | P39: 2
A40: PP
...

Sheet SO 103
A1: SŽDC05 | E1: Příloha k formuláři pro ocenění nabídky | P1: 3
P2: 3
A3: S | B3: Stavba: | C3: S631600206 | E3: Zvýšení stability skalních masivů na trati Pňovany – Bezdružice | L3: E.1.1.2 | M3: =Rekapitulace!C10 -> 0 | N3: Aspe | O3: 0,00 | P3: 2
A4: O | B4: Objekt: | C4: E.1.1.2 | E4: Železniční spodek | O4: 15,00 | P4: 2
A5: Typ | B5: Poř. číslo | C5: Kód položky | D5: Varianta | E5: Název položky | F5: MJ | G5: Množství | H5: Jednotková hmotnost | I5: Celková hmotnost | J5: Cena | N5: Cenové soustavy | O5: 21,00 | P5: 2
J6: Dodávka | L6: Montáž
J7: Jednotková | K7: Celkem | L7: Jednotková | M7: Celkem | S7: Počet položek s nulovou cenou | T7: =COUNTIFS(L8:L94,"=0",A8:A94,"P")+COUNTIFS(L8:L94,"",A8:A94,"P")+SUM(Q8:Q94) -> 21
A8: O1 | C8: SO 103 | E8: Sanace skalních masivů v km 12,30 - 12,40 vpravo | J8: =0+J9+J38+J75+J84+J89 -> 0 | K8: =0+K9+K38+K75+K84+K89 -> 0 | L8: =0+L9+L38+L75+L84+L89 -> 0 | M8: =0+M9+M38+M75+M84+M89 -> 0
A9: SD | C9: 0 | E9: Všeobecné konstrukce a práce | J9: =0 -> 0 | K9: =0 -> 0 | L9: =0+L10+L14+L18+L22+L26+L30+L34 -> 0 | M9: =0+M10+M14+M18+M22+M26+M30+M34 -> 0
A10: P | B10: 1 | C10: 015112 | E10: POPLATKY ZA LIKVIDACI ODPADŮ NEKONTAMINOVANÝCH - 17 05 04 VYTĚŽENÉ ZEMINY A HORNINY - II. TŘÍDA TĚŽITELNOSTI | F10: T | G10: 525.6 | H10: 0 | I10: =ROUND(G10*H10,6) -> 0 | L10: 0 | M10: =ROUND(ROUND(L10,2)*ROUND(G10,3),2) -> 0 | N10: 2018.1_OTSKP | O10: =(M10*21)/100 -> 0 | P10: 2
A11: PP
A12: VV | E12: očištění skal: 89,0*1,8=160.200 [A]t vyčištění trhlin a dutin: 10,0*1,8=18.000 [B]t hornin. bloky: 144,0*1,8=259.200 [C]t výkop gabion. zeď: 30,0*1,8=54.000 [D]t kamen. zeď: 19,0*1,8=34.200 [E]t Celkem: A+B+C+D+E=525.600 [F]t
A13: TS | E13: 1. Položka obsahuje: – veškeré poplatky provozovateli skládky, recyklační linky nebo jiného zařízení na zpracování nebo likvidaci odpadů související s převzetím, uložením, zpracováním nebo likvidací odpadu 2. Položka neobsahuje: – náklady spojené s dopravou odpadu z místa stavby na místo převzetí provozovatelem skládky, recyklační linky nebo jiného zařízení na zpracování nebo likvidaci odpadů 3. Způsob měření: Tunou se rozumí hmotnost odpadu vytříděného v souladu se zákonem č. 185/2001 Sb., o nakládání s odpady, v platném znění.
A14: P | B14: 2 | C14: 015160 | E14: POPLATKY ZA LIKVIDACI ODPADŮ NEKONTAMINOVANÝCH - 02 01 03 SMÝCENÉ STROMY A KEŘE | F14: T | G14: 0.675 | H14: 0 | I14: =ROUND(G14*H14,6) -> 0 | L14: 0 | M14: =ROUND(ROUND(L14,2)*ROUND(G14,3),2) -> 0 | N14: 2018.1_OTSKP | O14: =(M14*21)/100 -> 0 | P14: 2
A15: PP
A16: VV | E16: 300/100*0,225=0.675 [A]t
A17: TS | E17: 1. Položka obsahuje: – veškeré poplatky provozovateli skládky, recyklační linky nebo jiného zařízení na zpracování nebo likvidaci odpadů související s převzetím, uložením, zpracováním nebo likvidací odpadu 2. Položka neobsahuje: – náklady spojené s dopravou odpadu z místa stavby na místo převzetí provozovatelem skládky, recyklační linky nebo jiného zařízení na zpracování nebo likvidaci odpadů 3. Způsob měření: Tunou se rozumí hmotnost odpadu vytříděného v souladu se zákonem č. 185/2001 Sb., o nakládání s odpady, v platném znění.
A18: P | B18: 3 | C18: 015330 | E18: POPLATKY ZA LIKVIDACI ODPADŮ NEKONTAMINOVANÝCH - 17 05 04 KAMENNÁ SUŤ | F18: T | G18: 131.25 | H18: 0 | I18: =ROUND(G18*H18,6) -> 0 | L18: 0 | M18: =ROUND(ROUND(L18,2)*ROUND(G18,3),2) -> 0 | N18: 2018.1_OTSKP | O18: =(M18*0)/100 -> 0 | P18: 0
A19: PP
A20: VV | E20: čištění příkopů: 175,0*0,5*1,5=131.250 [A] t
A21: TS | E21: 1. Položka obsahuje: – veškeré poplatky provozovateli skládky, recyklační linky nebo jiného zařízení na zpracování nebo likvidaci odpadů související s převzetím, uložením, zpracováním nebo likvidací odpadu 2. Položka neobsahuje: – náklady spojené s dopravou odpadu z místa stavby na místo převzetí provozovatelem skládky, recyklační linky nebo jiného zařízení na zpracování nebo likvidaci odpadů 3. Způsob měření: Tunou se rozumí hmotnost odpadu vytříděného v souladu se zákonem č. 185/2001 Sb., o nakládání s odpady, v platném znění.
A22: P | B22: 4 | C22: 015340 | E22: POPLATKY ZA LIKVIDACI ODPADŮ NEKONTAMINOVANÝCH - 02 01 03 PAŘEZY | F22: T | G22: 1 | H22: 0 | I22: =ROUND(G22*H22,6) -> 0 | L22: 0 | M22: =ROUND(ROUND(L22,2)*ROUND(G22,3),2) -> 0 | N22: 2018.1_OTSKP | O22: =(M22*21)/100 -> 0 | P22: 2
A23: PP
A24: VV | E24: 5*0,2=1.000 [A]t
A25: TS | E25: 1. Položka obsahuje: – veškeré poplatky provozovateli skládky, recyklační linky nebo jiného zařízení na zpracování nebo likvidaci odpadů související s převzetím, uložením, zpracováním nebo likvidací odpadu 2. Položka neobsahuje: – náklady spojené s dopravou odpadu z místa stavby na místo převzetí provozovatelem skládky, recyklační linky nebo jiného zařízení na zpracování nebo likvidaci odpadů 3. Způsob měření: Tunou se rozumí hmotnost odpadu vytříděného v souladu se zákonem č. 185/2001 Sb., o nakládání s odpady, v platném znění.
A26: P | B26: 5 | C26: 02944 | E26: OSTAT POŽADAVKY - DOKUMENTACE SKUTEČ PROVEDENÍ V DIGIT FORMĚ | F26: KPL | G26: 1 | H26: 0 | I26: =ROUND(G26*H26,6) -> 0 | L26: 0 | M26: =ROUND(ROUND(L26,2)*ROUND(G26,3),2) -> 0 | N26: 2018.1_OTSKP | O26: =(M26*21)/100 -> 0 | P26: 2
A27: PP
A28: VV
A29: TS | E29: zahrnuje veškeré náklady spojené s objednatelem požadovanými pracemi
A30: P | B30: 6 | C30: 02946 | E30: OSTAT POŽADAVKY - FOTODOKUMENTACE | F30: KPL | G30: 1 | H30: 0 | I30: =ROUND(G30*H30,6) -> 0 | L30: 0 | M30: =ROUND(ROUND(L30,2)*ROUND(G30,3),2) -> 0 | N30: 2018.1_OTSKP | O30: =(M30*21)/100 -> 0 | P30: 2
A31: PP
A32: VV
A33: TS | E33: položka zahrnuje: - fotodokumentaci zadavatelem požadovaného děje a konstrukcí v požadovaných časových intervalech - zadavatelem specifikované výstupy (fotografie v papírovém a digitálním formátu) v požadovaném počtu
A34: P | B34: 7 | C34: 029611 | E34: OSTATNÍ POŽADAVKY - ODBORNÝ DOZOR | F34: HOD | G34: 56 | H34: 0 | I34: =ROUND(G34*H34,6) -> 0 | L34: 0 | M34: =ROUND(ROUND(L34,2)*ROUND(G34,3),2) -> 0 | N34: 2018.1_OTSKP | O34: =(M34*21)/100 -> 0 | P34: 2
A35: PP
A36: VV
A37: TS | E37: zahrnuje veškeré náklady spojené s objednatelem požadovaným dozorem
A38: SD | C38: 1 | E38: Zemní práce | J38: =0 -> 0 | K38: =0 -> 0 | L38: =0+L39+L43+L47+L51+L55+L59+L63+L67+L71 -> 0 | M38: =0+M39+M43+M47+M51+M55+M59+M63+M67+M71 -> 0
A39: P | B39: 8 | C39: 112017 | E39: KÁCENÍ STROMŮ D KMENE DO 0,5M S ODSTRANĚNÍM PAŘEZŮ, ODVOZ DO 16KM | F39: KUS | G39: 5 | H39: 0 | I39: =ROUND(G39*H39,6) -> 0 | L39: 0 | M39: =ROUND(ROUND(L39,2)*ROUND(G39,3),2) -> 0 | N39: 2018.1_OTSKP | O39: =(M39*21)/100 -> 0 | P39: 2
A40: PP
...

Sheet SO 104
A1: SŽDC05 | E1: Příloha k formuláři pro ocenění nabídky | P1: 3
P2: 3
A3: S | B3: Stavba: | C3: S631600206 | E3: Zvýšení stability skalních masivů na trati Pňovany – Bezdružice | L3: E.1.1.2 | M3: =Rekapitulace!C10 -> 0 | N3: Aspe | O3: 0,00 | P3: 2
A4: O | B4: Objekt: | C4: E.1.1.2 | E4: Železniční spodek | O4: 15,00 | P4: 2
A5: Typ | B5: Poř. číslo | C5: Kód položky | D5: Varianta | E5: Název položky | F5: MJ | G5: Množství | H5: Jednotková hmotnost | I5: Celková hmotnost | J5: Cena | N5: Cenové soustavy | O5: 21,00 | P5: 2
J6: Dodávka | L6: Montáž
J7: Jednotková | K7: Celkem | L7: Jednotková | M7: Celkem | S7: Počet položek s nulovou cenou | T7: =COUNTIFS(L8:L65,"=0",A8:A65,"P")+COUNTIFS(L8:L65,"",A8:A65,"P")+SUM(Q8:Q65) -> 14
A8: O1 | C8: SO 104 | E8: Sanace skalních masivů v km 15,80 - 15,90 vpravo, vlevo | J8: =0+J9+J34+J59+J64 -> 0 | K8: =0+K9+K34+K59+K64 -> 0 | L8: =0+L9+L34+L59+L64 -> 0 | M8: =0+M9+M34+M59+M64 -> 0
A9: SD | C9: 0 | E9: Všeobecné konstrukce a práce | J9: =0 -> 0 | K9: =0 -> 0 | L9: =0+L10+L14+L18+L22+L26+L30 -> 0 | M9: =0+M10+M14+M18+M22+M26+M30 -> 0
A10: P | B10: 1 | C10: 015112 | E10: POPLATKY ZA LIKVIDACI ODPADŮ NEKONTAMINOVANÝCH - 17 05 04 VYTĚŽENÉ ZEMINY A HORNINY - II. TŘÍDA TĚŽITELNOSTI | F10: T | G10: 212.4 | H10: 0 | I10: =ROUND(G10*H10,6) -> 0 | L10: 0 | M10: =ROUND(ROUND(L10,2)*ROUND(G10,3),2) -> 0 | N10: 2018.1_OTSKP | O10: =(M10*21)/100 -> 0 | P10: 2
A11: PP
A12: VV | E12: očištění skal: 84,0*1,8=151.200 [A]t vyčištění trhlin a dutin: 10,0*1,8=18.000 [B]t hornin. bloky: 24,0*1,8=43.200 [C]t Celkem: A+B+C=212.400 [D]t
A13: TS | E13: 1. Položka obsahuje: – veškeré poplatky provozovateli skládky, recyklační linky nebo jiného zařízení na zpracování nebo likvidaci odpadů související s převzetím, uložením, zpracováním nebo likvidací odpadu 2. Položka neobsahuje: – náklady spojené s dopravou odpadu z místa stavby na místo převzetí provozovatelem skládky, recyklační linky nebo jiného zařízení na zpracování nebo likvidaci odpadů 3. Způsob měření: Tunou se rozumí hmotnost odpadu vytříděného v souladu se zákonem č. 185/2001 Sb., o nakládání s odpady, v platném znění.
A14: P | B14: 2 | C14: 015160 | E14: POPLATKY ZA LIKVIDACI ODPADŮ NEKONTAMINOVANÝCH - 02 01 03 SMÝCENÉ STROMY A KEŘE | F14: T | G14: 0.675 | H14: 0 | I14: =ROUND(G14*H14,6) -> 0 | L14: 0 | M14: =ROUND(ROUND(L14,2)*ROUND(G14,3),2) -> 0 | N14: 2018.1_OTSKP | O14: =(M14*21)/100 -> 0 | P14: 2
A15: PP
A16: VV | E16: 300/100*0,225=0.675 [A]t
A17: TS | E17: 1. Položka obsahuje: – veškeré poplatky provozovateli skládky, recyklační linky nebo jiného zařízení na zpracování nebo likvidaci odpadů související s převzetím, uložením, zpracováním nebo likvidací odpadu 2. Položka neobsahuje: – náklady spojené s dopravou odpadu z místa stavby na místo převzetí provozovatelem skládky, recyklační linky nebo jiného zařízení na zpracování nebo likvidaci odpadů 3. Způsob měření: Tunou se rozumí hmotnost odpadu vytříděného v souladu se zákonem č. 185/2001 Sb., o nakládání s odpady, v platném znění.
A18: P | B18: 3 | C18: 015330 | E18: POPLATKY ZA LIKVIDACI ODPADŮ NEKONTAMINOVANÝCH - 17 05 04 KAMENNÁ SUŤ | F18: T | G18: 157.5 | H18: 0 | I18: =ROUND(G18*H18,6) -> 0 | L18: 0 | M18: =ROUND(ROUND(L18,2)*ROUND(G18,3),2) -> 0 | N18: 2018.1_OTSKP | O18: =(M18*0)/100 -> 0 | P18: 0
A19: PP
A20: VV | E20: čištění příkopů: 210,0*0,5*1,5=157.500 [A] t
A21: TS | E21: 1. Položka obsahuje: – veškeré poplatky provozovateli skládky, recyklační linky nebo jiného zařízení na zpracování nebo likvidaci odpadů související s převzetím, uložením, zpracováním nebo likvidací odpadu 2. Položka neobsahuje: – náklady spojené s dopravou odpadu z místa stavby na místo převzetí provozovatelem skládky, recyklační linky nebo jiného zařízení na zpracování nebo likvidaci odpadů 3. Způsob měření: Tunou se rozumí hmotnost odpadu vytříděného v souladu se zákonem č. 185/2001 Sb., o nakládání s odpady, v platném znění.
A22: P | B22: 4 | C22: 02944 | E22: OSTAT POŽADAVKY - DOKUMENTACE SKUTEČ PROVEDENÍ V DIGIT FORMĚ | F22: KPL | G22: 1 | H22: 0 | I22: =ROUND(G22*H22,6) -> 0 | L22: 0 | M22: =ROUND(ROUND(L22,2)*ROUND(G22,3),2) -> 0 | N22: 2018.1_OTSKP | O22: =(M22*21)/100 -> 0 | P22: 2
A23: PP
A24: VV
A25: TS | E25: zahrnuje veškeré náklady spojené s objednatelem požadovanými pracemi
A26: P | B26: 5 | C26: 02946 | E26: OSTAT POŽADAVKY - FOTODOKUMENTACE | F26: KPL | G26: 1 | H26: 0 | I26: =ROUND(G26*H26,6) -> 0 | L26: 0 | M26: =ROUND(ROUND(L26,2)*ROUND(G26,3),2) -> 0 | N26: 2018.1_OTSKP | O26: =(M26*21)/100 -> 0 | P26: 2
A27: PP
A28: VV
A29: TS | E29: položka zahrnuje: - fotodokumentaci zadavatelem požadovaného děje a konstrukcí v požadovaných časových intervalech - zadavatelem specifikované výstupy (fotografie v papírovém a digitálním formátu) v požadovaném počtu
A30: P | B30: 6 | C30: 029611 | E30: OSTATNÍ POŽADAVKY - ODBORNÝ DOZOR | F30: HOD | G30: 56 | H30: 0 | I30: =ROUND(G30*H30,6) -> 0 | L30: 0 | M30: =ROUND(ROUND(L30,2)*ROUND(G30,3),2) -> 0 | N30: 2018.1_OTSKP | O30: =(M30*21)/100 -> 0 | P30: 2
A31: PP
A32: VV
A33: TS | E33: zahrnuje veškeré náklady spojené s objednatelem požadovaným dozorem
A34: SD | C34: 1 | E34: Zemní práce | J34: =0 -> 0 | K34: =0 -> 0 | L34: =0+L35+L39+L43+L47+L51+L55 -> 0 | M34: =0+M35+M39+M43+M47+M51+M55 -> 0
A35: P | B35: 7 | C35: 12932 | E35: ČIŠTĚNÍ PŘÍKOPŮ OD NÁNOSU DO 0,5M3/M | F35: M | G35: 210 | H35: 0 | I35: =ROUND(G35*H35,6) -> 0 | L35: 0 | M35: =ROUND(ROUND(L35,2)*ROUND(G35,3),2) -> 0 | N35: 2018.1_OTSKP | O35: =(M35*0)/100 -> 0 | P35: 0
A36: PP
A37: VV
A38: TS | E38: - vodorovná a svislá doprava, přemístění, přeložení, manipulace s výkopkem a uložení na skládku (bez poplatku)
A39: P | B39: 8 | C39: 155113R | E39: Odstranění vegetace skalní plochy horolezecky vč. stažení k zemi s odvozem 20 km | F39: M2 | G39: 300 | H39: 0 | I39: =ROUND(G39*H39,6) -> 0 | L39: 0 | M39: =ROUND(ROUND(L39,2)*ROUND(G39,3),2) -> 0 | N39: [bez vazby na CS] | O39: =(M39*21)/100 -> 0 | P39: 2
A40: PP | E40: vč. dopravy vlakem do 2 km
...

Sheet SO 105
A1: SŽDC05 | E1: Příloha k formuláři pro ocenění nabídky | P1: 3
P2: 3
A3: S | B3: Stavba: | C3: S631600206 | E3: Zvýšení stability skalních masivů na trati Pňovany – Bezdružice | L3: E.1.1.2 | M3: =Rekapitulace!C10 -> 0 | N3: Aspe | O3: 0,00 | P3: 2
A4: O | B4: Objekt: | C4: E.1.1.2 | E4: Železniční spodek | O4: 15,00 | P4: 2
A5: Typ | B5: Poř. číslo | C5: Kód položky | D5: Varianta | E5: Název položky | F5: MJ | G5: Množství | H5: Jednotková hmotnost | I5: Celková hmotnost | J5: Cena | N5: Cenové soustavy | O5: 21,00 | P5: 2
J6: Dodávka | L6: Montáž
J7: Jednotková | K7: Celkem | L7: Jednotková | M7: Celkem | S7: Počet položek s nulovou cenou | T7: =COUNTIFS(L8:L73,"=0",A8:A73,"P")+COUNTIFS(L8:L73,"",A8:A73,"P")+SUM(Q8:Q73) -> 16
A8: O1 | C8: SO 105 | E8: Sanace skalních masivů v km 16,60 - 16,75 vpravo, vlevo | J8: =0+J9+J34+J59+J72 -> 0 | K8: =0+K9+K34+K59+K72 -> 0 | L8: =0+L9+L34+L59+L72 -> 0 | M8: =0+M9+M34+M59+M72 -> 0
A9: SD | C9: 0 | E9: Všeobecné konstrukce a práce | J9: =0 -> 0 | K9: =0 -> 0 | L9: =0+L10+L14+L18+L22+L26+L30 -> 0 | M9: =0+M10+M14+M18+M22+M26+M30 -> 0
A10: P | B10: 1 | C10: 015112 | E10: POPLATKY ZA LIKVIDACI ODPADŮ NEKONTAMINOVANÝCH - 17 05 04 VYTĚŽENÉ ZEMINY A HORNINY - II. TŘÍDA TĚŽITELNOSTI | F10: T | G10: 705.6 | H10: 0 | I10: =ROUND(G10*H10,6) -> 0 | L10: 0 | M10: =ROUND(ROUND(L10,2)*ROUND(G10,3),2) -> 0 | N10: 2018.1_OTSKP | O10: =(M10*21)/100 -> 0 | P10: 2
A11: PP
A12: VV | E12: očištění skal: 308,0*1,8=554.400 [A]t vyčištění trhlin a dutin: 20,0*1,8=36.000 [B]t hornin. bloky: 64,0*1,8=115.200 [C]t Celkem: A+B+C=705.600 [D]t
A13: TS | E13: 1. Položka obsahuje: – veškeré poplatky provozovateli skládky, recyklační linky nebo jiného zařízení na zpracování nebo likvidaci odpadů související s převzetím, uložením, zpracováním nebo likvidací odpadu 2. Položka neobsahuje: – náklady spojené s dopravou odpadu z místa stavby na místo převzetí provozovatelem skládky, recyklační linky nebo jiného zařízení na zpracování nebo likvidaci odpadů 3. Způsob měření: Tunou se rozumí hmotnost odpadu vytříděného v souladu se zákonem č. 185/2001 Sb., o nakládání s odpady, v platném znění.
A14: P | B14: 2 | C14: 015160 | E14: POPLATKY ZA LIKVIDACI ODPADŮ NEKONTAMINOVANÝCH - 02 01 03 SMÝCENÉ STROMY A KEŘE | F14: T | G14: 3.713 | H14: 0 | I14: =ROUND(G14*H14,6) -> 0 | L14: 0 | M14: =ROUND(ROUND(L14,2)*ROUND(G14,3),2) -> 0 | N14: 2018.1_OTSKP | O14: =(M14*21)/100 -> 0 | P14: 2
A15: PP
A16: VV | E16: 1650/100*0,225=3.713 [A]t
A17: TS | E17: 1. Položka obsahuje: – veškeré poplatky provozovateli skládky, recyklační linky nebo jiného zařízení na zpracování nebo likvidaci odpadů související s převzetím, uložením, zpracováním nebo likvidací odpadu 2. Položka neobsahuje: – náklady spojené s dopravou odpadu z místa stavby na místo převzetí provozovatelem skládky, recyklační linky nebo jiného zařízení na zpracování nebo likvidaci odpadů 3. Způsob měření: Tunou se rozumí hmotnost odpadu vytříděného v souladu se zákonem č. 185/2001 Sb., o nakládání s odpady, v platném znění.
A18: P | B18: 3 | C18: 015330 | E18: POPLATKY ZA LIKVIDACI ODPADŮ NEKONTAMINOVANÝCH - 17 05 04 KAMENNÁ SUŤ | F18: T | G18: 262.5 | H18: 0 | I18: =ROUND(G18*H18,6) -> 0 | L18: 0 | M18: =ROUND(ROUND(L18,2)*ROUND(G18,3),2) -> 0 | N18: 2018.1_OTSKP | O18: =(M18*0)/100 -> 0 | P18: 0
A19: PP
A20: VV | E20: čištění příkopů: 350,0*0,5*1,5=262.500 [A] t
A21: TS | E21: 1. Položka obsahuje: – veškeré poplatky provozovateli skládky, recyklační linky nebo jiného zařízení na zpracování nebo likvidaci odpadů související s převzetím, uložením, zpracováním nebo likvidací odpadu 2. Položka neobsahuje: – náklady spojené s dopravou odpadu z místa stavby na místo převzetí provozovatelem skládky, recyklační linky nebo jiného zařízení na zpracování nebo likvidaci odpadů 3. Způsob měření: Tunou se rozumí hmotnost odpadu vytříděného v souladu se zákonem č. 185/2001 Sb., o nakládání s odpady, v platném znění.
A22: P | B22: 4 | C22: 02944 | E22: OSTAT POŽADAVKY - DOKUMENTACE SKUTEČ PROVEDENÍ V DIGIT FORMĚ | F22: KPL | G22: 1 | H22: 0 | I22: =ROUND(G22*H22,6) -> 0 | L22: 0 | M22: =ROUND(ROUND(L22,2)*ROUND(G22,3),2) -> 0 | N22: 2018.1_OTSKP | O22: =(M22*21)/100 -> 0 | P22: 2
A23: PP
A24: VV
A25: TS | E25: zahrnuje veškeré náklady spojené s objednatelem požadovanými pracemi
A26: P | B26: 5 | C26: 02946 | E26: OSTAT POŽADAVKY - FOTODOKUMENTACE | F26: KPL | G26: 1 | H26: 0 | I26: =ROUND(G26*H26,6) -> 0 | L26: 0 | M26: =ROUND(ROUND(L26,2)*ROUND(G26,3),2) -> 0 | N26: 2018.1_OTSKP | O26: =(M26*21)/100 -> 0 | P26: 2
A27: PP
A28: VV
A29: TS | E29: položka zahrnuje: - fotodokumentaci zadavatelem požadovaného děje a konstrukcí v požadovaných časových intervalech - zadavatelem specifikované výstupy (fotografie v papírovém a digitálním formátu) v požadovaném počtu
A30: P | B30: 6 | C30: 029611 | E30: OSTATNÍ POŽADAVKY - ODBORNÝ DOZOR | F30: HOD | G30: 56 | H30: 0 | I30: =ROUND(G30*H30,6) -> 0 | L30: 0 | M30: =ROUND(ROUND(L30,2)*ROUND(G30,3),2) -> 0 | N30: 2018.1_OTSKP | O30: =(M30*21)/100 -> 0 | P30: 2
A31: PP
A32: VV
A33: TS | E33: zahrnuje veškeré náklady spojené s objednatelem požadovaným dozorem
A34: SD | C34: 1 | E34: Zemní práce | J34: =0 -> 0 | K34: =0 -> 0 | L34: =0+L35+L39+L43+L47+L51+L55 -> 0 | M34: =0+M35+M39+M43+M47+M51+M55 -> 0
A35: P | B35: 7 | C35: 12932 | E35: ČIŠTĚNÍ PŘÍKOPŮ OD NÁNOSU DO 0,5M3/M | F35: M | G35: 350 | H35: 0 | I35: =ROUND(G35*H35,6) -> 0 | L35: 0 | M35: =ROUND(ROUND(L35,2)*ROUND(G35,3),2) -> 0 | N35: 2018.1_OTSKP | O35: =(M35*0)/100 -> 0 | P35: 0
A36: PP
A37: VV
A38: TS | E38: - vodorovná a svislá doprava, přemístění, přeložení, manipulace s výkopkem a uložení na skládku (bez poplatku)
A39: P | B39: 8 | C39: 155113R | E39: Odstranění vegetace skalní plochy horolezecky vč. stažení k zemi s odvozem 20 km | F39: M2 | G39: 1650 | H39: 0 | I39: =ROUND(G39*H39,6) -> 0 | L39: 0 | M39: =ROUND(ROUND(L39,2)*ROUND(G39,3),2) -> 0 | N39: [bez vazby na CS] | O39: =(M39*21)/100 -> 0 | P39: 2
A40: PP | E40: vč. dopravy vlakem do 2 km
...

Sheet SO 98-98
A1: SŽDC05 | E1: Příloha k formuláři pro ocenění nabídky | P1: 3
P2: 3
A3: S | B3: Stavba: | C3: S631600206 | E3: Zvýšení stability skalních masivů na trati Pňovany – Bezdružice | L3: OST | M3: =Rekapitulace!C16 -> 0 | N3: Aspe | O3: 0,00 | P3: 2
A4: O | B4: Objekt: | C4: OST | E4: Všeobecný objekt | O4: 15,00 | P4: 2
A5: Typ | B5: Poř. číslo | C5: Kód položky | D5: Varianta | E5: Název položky | F5: MJ | G5: Množství | H5: Jednotková hmotnost | I5: Celková hmotnost | J5: Cena | N5: Cenové soustavy | O5: 21,00 | P5: 2
J6: Dodávka | L6: Montáž
J7: Jednotková | K7: Celkem | L7: Jednotková | M7: Celkem | S7: Počet položek s nulovou cenou | T7: =COUNTIFS(L8:L27,"=0",A8:A27,"P")+COUNTIFS(L8:L27,"",A8:A27,"P")+SUM(Q8:Q27) -> 5
A8: O1 | C8: SO 98-98 | E8: Všeobecný objekt | J8: =0+J9+J22 -> 0 | K8: =0+K9+K22 -> 0 | L8: =0+L9+L22 -> 0 | M8: =0+M9+M22 -> 0
A9: SD | C9: 1 | E9: Dokumentace stavby | J9: =0 -> 0 | K9: =0 -> 0 | L9: =0+L10+L14+L18 -> 0 | M9: =0+M10+M14+M18 -> 0
A10: P | B10: 1 | C10: VSEOB001 | E10: Geodetická dokumentace skutečného provedení stavby | F10: KPL | G10: 1 | H10: 0 | I10: =ROUND(G10*H10,6) -> 0 | L10: 0 | M10: =ROUND(ROUND(L10,2)*ROUND(G10,3),2) -> 0 | N10: R-položka | O10: =(M10*21)/100 -> 0 | P10: 2
A11: PP | E11: Vypracování geodetické části dokumentace skutečného provedení
A12: VV | E12: v předepsaném rozsahu a počtu dle VTP a ZTP
A13: TS | E13: Položka zahrnuje veškeré činnosti nezbytné k vypracování dokumentace skutečného provedení dle SOD na zhotovení stavby a v rozsahu vyhlášky č. 499/2006 Sb., v platném znění, a dle požadavků VTP a ZTP. Jedná se o souhrn činností zahrnujících vyhotovení dokumentace skutečného provedení stavby, která mimo jiné zahrnuje geodetické měření, zapracování všech změn během výstavby, geometrické plány pro zápis vlastnických a jiných věcných práv do katastru nemovitostí, výsledné měřící protokoly, aktuální údaje apod.
A14: P | B14: 2 | C14: VSEOB002 | E14: Dokumentace skutečného provedení v listinné formě | F14: KPL | G14: 1 | H14: 0 | I14: =ROUND(G14*H14,6) -> 0 | L14: 0 | M14: =ROUND(ROUND(L14,2)*ROUND(G14,3),2) -> 0 | N14: R-položka | O14: =(M14*21)/100 -> 0 | P14: 2
A15: PP | E15: Vypracování technické části dokumentace skutečného provedení
A16: VV | E16: v předepsaném rozsahu a počtu dle VTP a ZTP
A17: TS | E17: Položka zahrnuje veškeré činnosti nezbytné k vypracování dokumentace skutečného provedení dle SOD na zhotovení stavby a v rozsahu vyhlášky č. 499/2006 Sb. v platném znění a dle požadavků VTP a ZTP. Jedná se o souhrn činností zahrnujících vyhotovení dokumentace skutečného provedení stavby v předepsaném počtu, která mimo jiné zahrnuje , zapracování všech změn během výstavby, výsledné měřící protokoly, aktuální údaje a dokumenty k zařízení (vlastní SW, knihy kabelových plánů s měřícími protokoly a protokoly o jejich uložení, předpisy pro obsluhu, doklady ověřovacího provozu apod.), závěrečnou zprávu o nakládání s odpady apod
A18: P | B18: 3 | C18: VSEOB003 | E18: Dokumentace skutečného provedení v elektronické formě | F18: KPL | G18: 1 | H18: 0 | I18: =ROUND(G18*H18,6) -> 0 | L18: 0 | M18: =ROUND(ROUND(L18,2)*ROUND(G18,3),2) -> 0 | N18: R-položka | O18: =(M18*21)/100 -> 0 | P18: 2
A19: PP | E19: Vypracování kompletní dokumentace skutečného provedení v elektronické formě.
A20: VV | E20: v předepsaném rozsahu a počtu dle VTP a ZTP
A21: TS | E21: Položka zahrnuje veškeré činnosti nezbytné k vypracování kompletní elketroniké dokumentace skutečného provedení dle SOD na zhotovení stavby a v rozsahu vyhlášky č. 499/2006 Sb. v platném znění a dle požadavků VTP a ZTP.
A22: SD | C22: 2 | E22: Ostatní | J22: =0 -> 0 | K22: =0 -> 0 | L22: =0+L23+L27 -> 0 | M22: =0+M23+M27 -> 0
A23: P | B23: 4 | C23: VSEOB004 | E23: Osvědčení o shodě notifikovanou osobou | F23: KPL | G23: 1 | H23: 0 | I23: =ROUND(G23*H23,6) -> 0 | L23: 0 | M23: =ROUND(ROUND(L23,2)*ROUND(G23,3),2) -> 0 | N23: R-položka | O23: =(M23*21)/100 -> 0 | P23: 2
A24: PP | E24: Zajištění vydání osvědčení o shodě notifikovanou osobou
A25: VV | E25: v předepsaném rozsahu a počtu dle VTP a ZTP
A26: TS | E26: Položka zahrnuje veškeré činnosti nezbytné k zajištění vydání platného prohlášení o ověření subsystému notifikovanou osobou ve stádiu realizace podle Směrnice Evropského parlamentu a Rady 2008/57/ES ze dne 17. června 2008 o interoperabilitě železničního systému, ve znění pozdějších předpisů v souhrnu pro stavební objekty a provozní soubory. Položka zahrnuje všechny nezbytné práce, náklady a zařízení včetně všech doprav a pomocného materiálu nutných pro uskutečnění dané činnosti.
A27: P | B27: 5 | C27: VSEOB005 | E27: Osvědčení o bezpečnosti před uvedením do provozu | F27: KPL | G27: 1 | H27: 0 | I27: =ROUND(G27*H27,6) -> 0 | L27: 0 | M27: =ROUND(ROUND(L27,2)*ROUND(G27,3),2) -> 0 | N27: R-položka | O27: =(M27*21)/100 -> 0 | P27: 2
A28: PP | E28: Zajištění vydání osvědčení o bezpečnosti před uvedením do provozu.
A29: VV | E29: v předepsaném rozsahu a počtu dle VTP a ZTP
A30: TS | E30: Položka zahrnuje veškeré činnosti nezbytné k zajištění vydání zprávy o posouzení bezpečnosti dle prováděcího nařízení Komise (EU) č. 402/2013 ze dne 30. dubna 2013 o společné bezpečnostní metodě pro hodnocení a posuzování rizik a požadavky Drážního úřadu. Položka zahrnuje všechny nezbytné práce, náklady a zařízení včetně všech doprav a pomocného materiálu nutných pro uskutečnění dané činnosti.
