Workbook

Sheet Rekapitulace stavby
A1: Export Komplet | AZ1: VZ | BA1: 2.0 | BB1: ZAMOK | BT1: False | BU1: False | BV1: {1fb932e4-dc28-42de-8724-921ae6ebf280}
BS2: 0,01 | BT2: 21
BS3: 0,01 | BT3: 15
D4: REKAPITULACE STAVBY | AS4: v --- níže se nacházejí doplnkové a pomocné údaje k sestavám --- v | BE4: Návod na vyplnění | BS4: 0,001
D5: Kód: | K5: 06-2021 | BE5: Měnit lze pouze buňky se žlutým podbarvením!_x000D_ _x000D_ 1) v Rekapitulaci stavby vyplňte údaje o Uchazeči (přenesou se do ostatních sestav i v jiných listech)_x000D_ _x000D_ 2) na vybraných listech vyplňte v sestavě Soupis prací ceny u položek | BS5: 0,01
D6: Stavba: | K6: oprava sociálních zařízení b.j. OŘ Olomouc | BS6: 0,01
D7: KSO: | AK7: CC-CZ: | BS7: 0,01
D8: Místo: | AK8: Datum: | BS8: 0,01
BS9: 0,01
D10: Zadavatel: | AK10: IČ: | BS10: 0,01
AK11: DIČ: | BS11: 0,01
BS12: 0,01
D13: Uchazeč: | AK13: IČ: | AN13: Vyplň údaj | BS13: 0,01
E14: Vyplň údaj | AK14: DIČ: | AN14: Vyplň údaj | BS14: 0,01
BS15: False
D16: Projektant: | AK16: IČ: | BS16: False
AK17: DIČ: | BS17: True
BS18: 0,01
D19: Zpracovatel: | AK19: IČ: | BS19: 0,01
AK20: DIČ: | BS20: False
D22: Poznámka:
E23: Soupis prací je sestaven s využitím Cenové soustavy ÚRS. Položky, které pochází z této cenové soustavy, jsou ve sloupci 'Cenová soustava' označeny popisem 'CS ÚRS' a úrovní příslušného kalendářního pololetí. Veškeré další informace vymezující popis a podmínky použití těchto položek z Cenové soustavy, které nejsou uvedeny přímo v soupisu prací, jsou neomezeně dálkově k dispozici na webu podminky.urs.cz.
D26: Cena bez DPH | AK26: =ROUND(AG54,2) -> 0
L28: Sazba daně | W28: Základ daně | AK28: Výše daně
D29: DPH | F29: základní | L29: 0.21 | W29: =ROUND(AZ54, 2) -> 0 | AK29: =ROUND(AV54, 2) -> 0
F30: snížená | L30: 0.15 | W30: =ROUND(BA54, 2) -> 0 | AK30: =ROUND(AW54, 2) -> 0
F31: zákl. přenesená | L31: 0.21 | W31: =ROUND(BB54, 2) -> 0 | AK31: 0
F32: sníž. přenesená | L32: 0.15 | W32: =ROUND(BC54, 2) -> 0 | AK32: 0
F33: nulová | L33: 0 | W33: =ROUND(BD54, 2) -> 0 | AK33: 0
D35: Cena s DPH | T35: v | X35: CZK | AK35: =SUM(AK26:AK33) -> 0
C42: REKAPITULACE OBJEKTŮ STAVBY A SOUPISŮ PRACÍ
C44: Kód: | L44: =K5 -> 06-2021
C45: Stavba: | L45: =K6 -> oprava sociálních zařízení b.j. OŘ Olomouc
C47: Místo: | L47: =IF(K8="","",K8) | AI47: Datum: | AM47: =IF(AN8= "","",AN8)
C49: Zadavatel: | L49: =IF(E11= "","",E11) | AI49: Projektant: | AM49: =IF(E17="","",E17) | AS49: Informatívní údaje z listů zakázek
C50: Uchazeč: | L50: =IF(E14= "Vyplň údaj","",E14) | AI50: Zpracovatel: | AM50: =IF(E20="","",E20)
C52: Kód | I52: Popis | AG52: Cena bez DPH [CZK] | AN52: Cena s DPH [CZK] | AQ52: Typ | AS52: z toho Ostat._x000D_ náklady [CZK] | AT52: DPH [CZK] | AU52: Normohodiny [h] | AV52: DPH základní [CZK] | AW52: DPH snížená [CZK] | AX52: DPH základní přenesená_x000D_ [CZK] | AY52: DPH snížená přenesená_x000D_ [CZK] | AZ52: Základna_x000D_ DPH základní | BA52: Základna_x000D_ DPH snížená | BB52: Základna_x000D_ DPH zákl. přenesená | BC52: Základna_x000D_ DPH sníž. přenesená | BD52: Základna_x000D_ DPH nulová
C54: Náklady stavby celkem | AG54: =ROUND(SUM(AG55:AG58),2) -> 0 | AN54: =SUM(AG54,AT54) -> 0 | AS54: =ROUND(SUM(AS55:AS58),2) -> 0 | AT54: =ROUND(SUM(AV54:AW54),2) -> 0 | AU54: =ROUND(SUM(AU55:AU58),5) -> 0 | AV54: =ROUND(AZ54*L29,2) -> 0 | AW54: =ROUND(BA54*L30,2) -> 0 | AX54: =ROUND(BB54*L29,2) -> 0 | AY54: =ROUND(BC54*L30,2) -> 0 | AZ54: =ROUND(SUM(AZ55:AZ58),2) -> 0 | BA54: =ROUND(SUM(BA55:BA58),2) -> 0 | BB54: =ROUND(SUM(BB55:BB58),2) -> 0 | BC54: =ROUND(SUM(BC55:BC58),2) -> 0 | BD54: =ROUND(SUM(BD55:BD58),2) -> 0 | BS54: D | BT54: 0 | BU54: ###NOIMPORT### | BV54: IMPORT | BW54: {1fb932e4-dc28-42de-8724-921ae6ebf280} | BX54: {00000000-0000-0000-0000-000000000000}
A55: / | D55: SO 01 | J55: Vidnava | AG55: ='SO 01 - Vidnava'!J30 -> 0 | AN55: =SUM(AG55,AT55) -> 0 | AQ55: STA | AS55: 0 | AT55: =ROUND(SUM(AV55:AW55),2) -> 0 | AU55: ='SO 01 - Vidnava'!P95 -> 0 | AV55: ='SO 01 - Vidnava'!J33 -> 0 | AW55: ='SO 01 - Vidnava'!J34 -> 0 | AX55: ='SO 01 - Vidnava'!J35 -> 0 | AY55: ='SO 01 - Vidnava'!J36 -> 0 | AZ55: ='SO 01 - Vidnava'!F33 -> 0 | BA55: ='SO 01 - Vidnava'!F34 -> 0 | BB55: ='SO 01 - Vidnava'!F35 -> 0 | BC55: ='SO 01 - Vidnava'!F36 -> 0 | BD55: ='SO 01 - Vidnava'!F37 -> 0 | BT55: 1 | BV55: IMPORT | BW55: {cf844e6d-a522-457a-8027-56eb289215c4} | BX55: {1fb932e4-dc28-42de-8724-921ae6ebf280} | CM55: 2
A56: / | D56: SO 02 | J56: Litovel Předměstí B.J. 2 NP | AG56: ='SO 02 - Litovel Předměstí...'!J30 -> 0 | AN56: =SUM(AG56,AT56) -> 0 | AQ56: STA | AS56: 0 | AT56: =ROUND(SUM(AV56:AW56),2) -> 0 | AU56: ='SO 02 - Litovel Předměstí...'!P97 -> 0 | AV56: ='SO 02 - Litovel Předměstí...'!J33 -> 0 | AW56: ='SO 02 - Litovel Předměstí...'!J34 -> 0 | AX56: ='SO 02 - Litovel Předměstí...'!J35 -> 0 | AY56: ='SO 02 - Litovel Předměstí...'!J36 -> 0 | AZ56: ='SO 02 - Litovel Předměstí...'!F33 -> 0 | BA56: ='SO 02 - Litovel Předměstí...'!F34 -> 0 | BB56: ='SO 02 - Litovel Předměstí...'!F35 -> 0 | BC56: ='SO 02 - Litovel Předměstí...'!F36 -> 0 | BD56: ='SO 02 - Litovel Předměstí...'!F37 -> 0 | BT56: 1 | BV56: IMPORT | BW56: {55b484dc-3018-444a-be22-429846d55546} | BX56: {1fb932e4-dc28-42de-8724-921ae6ebf280} | CM56: 2
A57: / | D57: SO 03 | J57: Litovel Předměstí B.J. 3 NP | AG57: ='SO 03 - Litovel Předměstí...'!J30 -> 0 | AN57: =SUM(AG57,AT57) -> 0 | AQ57: STA | AS57: 0 | AT57: =ROUND(SUM(AV57:AW57),2) -> 0 | AU57: ='SO 03 - Litovel Předměstí...'!P96 -> 0 | AV57: ='SO 03 - Litovel Předměstí...'!J33 -> 0 | AW57: ='SO 03 - Litovel Předměstí...'!J34 -> 0 | AX57: ='SO 03 - Litovel Předměstí...'!J35 -> 0 | AY57: ='SO 03 - Litovel Předměstí...'!J36 -> 0 | AZ57: ='SO 03 - Litovel Předměstí...'!F33 -> 0 | BA57: ='SO 03 - Litovel Předměstí...'!F34 -> 0 | BB57: ='SO 03 - Litovel Předměstí...'!F35 -> 0 | BC57: ='SO 03 - Litovel Předměstí...'!F36 -> 0 | BD57: ='SO 03 - Litovel Předměstí...'!F37 -> 0 | BT57: 1 | BV57: IMPORT | BW57: {c7386a82-62f7-4874-96f3-55cd7e3a8b8d} | BX57: {1fb932e4-dc28-42de-8724-921ae6ebf280} | CM57: 2
A58: / | D58: VON | J58: Vedlejší a ostatní náklady | AG58: ='VON - Vedlejší a ostatní ...'!J30 -> 0 | AN58: =SUM(AG58,AT58) -> 0 | AQ58: STA | AS58: 0 | AT58: =ROUND(SUM(AV58:AW58),2) -> 0 | AU58: ='VON - Vedlejší a ostatní ...'!P83 -> 0 | AV58: ='VON - Vedlejší a ostatní ...'!J33 -> 0 | AW58: ='VON - Vedlejší a ostatní ...'!J34 -> 0 | AX58: ='VON - Vedlejší a ostatní ...'!J35 -> 0 | AY58: ='VON - Vedlejší a ostatní ...'!J36 -> 0 | AZ58: ='VON - Vedlejší a ostatní ...'!F33 -> 0 | BA58: ='VON - Vedlejší a ostatní ...'!F34 -> 0 | BB58: ='VON - Vedlejší a ostatní ...'!F35 -> 0 | BC58: ='VON - Vedlejší a ostatní ...'!F36 -> 0 | BD58: ='VON - Vedlejší a ostatní ...'!F37 -> 0 | BT58: 1 | BV58: IMPORT | BW58: {80446af6-3aaf-4a90-beb1-bb56c8ef3756} | BX58: {1fb932e4-dc28-42de-8724-921ae6ebf280} | CM58: 2

Sheet SO 01 - Vidnava
AT2: {cf844e6d-a522-457a-8027-56eb289215c4}
AT3: 2
D4: KRYCÍ LIST SOUPISU PRACÍ | M4: v --- níže se nacházejí doplnkové a pomocné údaje k sestavám --- v | AT4: False
D6: Stavba:
E7: ='Rekapitulace stavby'!K6 -> oprava sociálních zařízení b.j. OŘ Olomouc
D8: Objekt:
E9: SO 01 - Vidnava
D11: KSO: | I11: CC-CZ:
D12: Místo: | I12: Datum: | J12: ='Rekapitulace stavby'!AN8 -> 0
D14: Zadavatel: | I14: IČ: | J14: =IF('Rekapitulace stavby'!AN10="","",'Rekapitulace stavby'!AN10)
E15: =IF('Rekapitulace stavby'!E11="","",'Rekapitulace stavby'!E11) | I15: DIČ: | J15: =IF('Rekapitulace stavby'!AN11="","",'Rekapitulace stavby'!AN11)
D17: Uchazeč: | I17: IČ: | J17: ='Rekapitulace stavby'!AN13 -> Vyplň údaj
E18: ='Rekapitulace stavby'!E14 -> Vyplň údaj | I18: DIČ: | J18: ='Rekapitulace stavby'!AN14 -> Vyplň údaj
D20: Projektant: | I20: IČ: | J20: =IF('Rekapitulace stavby'!AN16="","",'Rekapitulace stavby'!AN16)
E21: =IF('Rekapitulace stavby'!E17="","",'Rekapitulace stavby'!E17) | I21: DIČ: | J21: =IF('Rekapitulace stavby'!AN17="","",'Rekapitulace stavby'!AN17)
D23: Zpracovatel: | I23: IČ: | J23: =IF('Rekapitulace stavby'!AN19="","",'Rekapitulace stavby'!AN19)
E24: =IF('Rekapitulace stavby'!E20="","",'Rekapitulace stavby'!E20) | I24: DIČ: | J24: =IF('Rekapitulace stavby'!AN20="","",'Rekapitulace stavby'!AN20)
D26: Poznámka:
D30: Cena bez DPH | J30: =ROUND(J95, 2) -> 0
F32: Základ daně | I32: Sazba daně | J32: Výše daně
D33: DPH | E33: základní | F33: =ROUND((SUM(BE95:BE312)), 2) -> 0 | I33: 0.21 | J33: =ROUND(((SUM(BE95:BE312))*I33), 2) -> 0
E34: snížená | F34: =ROUND((SUM(BF95:BF312)), 2) -> 0 | I34: 0.15 | J34: =ROUND(((SUM(BF95:BF312))*I34), 2) -> 0
E35: zákl. přenesená | F35: =ROUND((SUM(BG95:BG312)), 2) -> 0 | I35: 0.21 | J35: =0 -> 0
E36: sníž. přenesená | F36: =ROUND((SUM(BH95:BH312)), 2) -> 0 | I36: 0.15 | J36: =0 -> 0
E37: nulová | F37: =ROUND((SUM(BI95:BI312)), 2) -> 0 | I37: 0 | J37: =0 -> 0
D39: Cena s DPH | G39: v | H39: CZK | J39: =SUM(J30:J37) -> 0
C45: REKAPITULACE ČLENĚNÍ SOUPISU PRACÍ
C47: Stavba:
E48: =E7 -> oprava sociálních zařízení b.j. OŘ Olomouc
C49: Objekt:
E50: =E9 -> SO 01 - Vidnava
C52: Místo: | F52: =F12 | I52: Datum: | J52: =IF(J12="","",J12) -> 0
C54: Zadavatel: | F54: =E15 | I54: Projektant: | J54: =E21
C55: Uchazeč: | F55: =IF(E18="","",E18) -> Vyplň údaj | I55: Zpracovatel: | J55: =E24
C57: Kód dílu - Popis | J57: Cena celkem [CZK]
C59: Náklady stavby celkem | J59: =J95 -> 0 | AU59: -1
D60: HSV - Práce a dodávky HSV | J60: =J96 -> 0
D61: 3 - Svislé a kompletní konstrukce | J61: =J97 -> 0
D62: 6 - Úpravy povrchů, podlahy a osazování výplní | J62: =J102 -> 0
D63: 9 - Ostatní konstrukce a práce, bourání | J63: =J117 -> 0
D64: 997 - Přesun sutě | J64: =J139 -> 0
D65: 998 - Přesun hmot | J65: =J150 -> 0
D66: PSV - Práce a dodávky PSV | J66: =J153 -> 0
D67: 722 - Zdravotechnika - vnitřní vodovod | J67: =J154 -> 0
D68: 711 - Izolace proti vodě, vlhkosti a plynům | J68: =J185 -> 0
D69: 721 - Zdravotechnika - vnitřní kanalizace | J69: =J190 -> 0
D70: 725 - Zdravotechnika - zařizovací předměty | J70: =J201 -> 0
D71: 735 - Ústřední vytápění - otopná tělesa | J71: =J237 -> 0
D72: 771 - Podlahy z dlaždic | J72: =J242 -> 0
D73: 781 - Dokončovací práce - obklady | J73: =J266 -> 0
D74: 784 - Dokončovací práce - malby a tapety | J74: =J293 -> 0
D75: HZS - Hodinové zúčtovací sazby | J75: =J306 -> 0
C82: SOUPIS PRACÍ
C84: Stavba:
E85: =E7 -> oprava sociálních zařízení b.j. OŘ Olomouc
C86: Objekt:
E87: =E9 -> SO 01 - Vidnava
C89: Místo: | F89: =F12 | I89: Datum: | J89: =IF(J12="","",J12) -> 0
C91: Zadavatel: | F91: =E15 | I91: Projektant: | J91: =E21
C92: Uchazeč: | F92: =IF(E18="","",E18) -> Vyplň údaj | I92: Zpracovatel: | J92: =E24
C94: PČ | D94: Typ | E94: Kód | F94: Popis | G94: MJ | H94: Množství | I94: J.cena [CZK] | J94: Cena celkem [CZK] | K94: Cenová soustava | N94: DPH | O94: J. Nh [h] | P94: Nh celkem [h] | Q94: J. hmotnost [t] | R94: Hmotnost celkem [t] | S94: J. suť [t] | T94: Suť Celkem [t]
C95: Náklady soupisu celkem | J95: =BK95 -> 0 | P95: =P96+P153+P306 -> 0 | R95: =R96+R153+R306 -> 2.0127897 | T95: =T96+T153+T306 -> 2.585014 | AT95: D | AU95: -1 | BK95: =BK96+BK153+BK306 -> 0
D96: D | E96: HSV | F96: Práce a dodávky HSV | J96: =BK96 -> 0 | P96: =P97+P102+P117+P139+P150 -> 0 | R96: =R97+R102+R117+R139+R150 -> 1.2711295 | T96: =T97+T102+T117+T139+T150 -> 2.1294 | AR96: 1 | AT96: D | AU96: 0 | AY96: ROZPOCET | BK96: =BK97+BK102+BK117+BK139+BK150 -> 0
D97: D | E97: 3 | F97: Svislé a kompletní konstrukce | J97: =BK97 -> 0 | P97: =SUM(P98:P101) -> 0 | R97: =SUM(R98:R101) -> 0.14284 | T97: =SUM(T98:T101) -> 0 | AR97: 1 | AT97: D | AU97: 1 | AY97: ROZPOCET | BK97: =SUM(BK98:BK101) -> 0
C98: 1 | D98: K | E98: 346244357 | F98: Obezdívka koupelnových van ploch zaoblených z přesných pórobetonových tvárnic, na tenké maltové lože, tl. 75 mm | G98: m2 | H98: 1.5 | J98: =ROUND(I98*H98,2) -> 0 | K98: CS ÚRS 2021 02 | N98: základní | P98: =O98*H98 -> 0 | Q98: 0.06736 | R98: =Q98*H98 -> 0.10104 | S98: 0 | T98: =S98*H98 -> 0 | AR98: 4 | AT98: K | AU98: 2 | AY98: ROZPOCET | BE98: =IF(N98="základní",J98,0) -> 0 | BF98: =IF(N98="snížená",J98,0) -> 0 | BG98: =IF(N98="zákl. přenesená",J98,0) -> 0 | BH98: =IF(N98="sníž. přenesená",J98,0) -> 0 | BI98: =IF(N98="nulová",J98,0) -> 0 | BJ98: 1 | BK98: =ROUND(I98*H98,2) -> 0 | BL98: 4 | BM98: -87118092
D99: Online PSC | F99: https://podminky.urs.cz/item/CS_URS_2021_02/346244357 | AT99: Online PSC | AU99: 2
C100: 2 | D100: K | E100: 346272226 | F100: Přizdívky z pórobetonových tvárnic objemová hmotnost do 500 kg/m3, na tenké maltové lože, tloušťka přizdívky 75 mm | G100: m2 | H100: 0.8 | J100: =ROUND(I100*H100,2) -> 0 | K100: CS ÚRS 2021 02 | N100: základní | P100: =O100*H100 -> 0 | Q100: 0.05225 | R100: =Q100*H100 -> 0.0418 | S100: 0 | T100: =S100*H100 -> 0 | AR100: 4 | AT100: K | AU100: 2 | AY100: ROZPOCET | BE100: =IF(N100="základní",J100,0) -> 0 | BF100: =IF(N100="snížená",J100,0) -> 0 | BG100: =IF(N100="zákl. přenesená",J100,0) -> 0 | BH100: =IF(N100="sníž. přenesená",J100,0) -> 0 | BI100: =IF(N100="nulová",J100,0) -> 0 | BJ100: 1 | BK100: =ROUND(I100*H100,2) -> 0 | BL100: 4 | BM100: 1809907220
D101: Online PSC | F101: https://podminky.urs.cz/item/CS_URS_2021_02/346272226 | AT101: Online PSC | AU101: 2
D102: D | E102: 6 | F102: Úpravy povrchů, podlahy a osazování výplní | J102: =BK102 -> 0 | P102: =SUM(P103:P116) -> 0 | R102: =SUM(R103:R116) -> 1.1255895 | T102: =SUM(T103:T116) -> 0 | AR102: 1 | AT102: D | AU102: 1 | AY102: ROZPOCET | BK102: =SUM(BK103:BK116) -> 0
C103: 3 | D103: K | E103: 611131121 | F103: Podkladní a spojovací vrstva vnitřních omítaných ploch penetrace disperzní nanášená ručně stropů | G103: m2 | H103: 4.08 | J103: =ROUND(I103*H103,2) -> 0 | K103: CS ÚRS 2021 02 | N103: základní | P103: =O103*H103 -> 0 | Q103: 0.000263 | R103: =Q103*H103 -> 0.00107304 | S103: 0 | T103: =S103*H103 -> 0 | AR103: 4 | AT103: K | AU103: 2 | AY103: ROZPOCET | BE103: =IF(N103="základní",J103,0) -> 0 | BF103: =IF(N103="snížená",J103,0) -> 0 | BG103: =IF(N103="zákl. přenesená",J103,0) -> 0 | BH103: =IF(N103="sníž. přenesená",J103,0) -> 0 | BI103: =IF(N103="nulová",J103,0) -> 0 | BJ103: 1 | BK103: =ROUND(I103*H103,2) -> 0 | BL103: 4 | BM103: -636045775
D104: Online PSC | F104: https://podminky.urs.cz/item/CS_URS_2021_02/611131121 | AT104: Online PSC | AU104: 2
C105: 4 | D105: K | E105: 611315413 | F105: Oprava vápenné omítky vnitřních ploch hladké, tloušťky do 20 mm stropů, v rozsahu opravované plochy přes 30 do 50% | G105: m2 | H105: 4.08 | J105: =ROUND(I105*H105,2) -> 0 | K105: CS ÚRS 2021 02 | N105: základní | P105: =O105*H105 -> 0 | Q105: 0.0282 | R105: =Q105*H105 -> 0.115056 | S105: 0 | T105: =S105*H105 -> 0 | AR105: 4 | AT105: K | AU105: 2 | AY105: ROZPOCET | BE105: =IF(N105="základní",J105,0) -> 0 | BF105: =IF(N105="snížená",J105,0) -> 0 | BG105: =IF(N105="zákl. přenesená",J105,0) -> 0 | BH105: =IF(N105="sníž. přenesená",J105,0) -> 0 | BI105: =IF(N105="nulová",J105,0) -> 0 | BJ105: 1 | BK105: =ROUND(I105*H105,2) -> 0 | BL105: 4 | BM105: 882010733
D106: Online PSC | F106: https://podminky.urs.cz/item/CS_URS_2021_02/611315413 | AT106: Online PSC | AU106: 2
C107: 5 | D107: K | E107: 612131121 | F107: Podkladní a spojovací vrstva vnitřních omítaných ploch penetrace disperzní nanášená ručně stěn | G107: m2 | H107: 29.88 | J107: =ROUND(I107*H107,2) -> 0 | K107: CS ÚRS 2021 02 | N107: základní | P107: =O107*H107 -> 0 | Q107: 0.000263 | R107: =Q107*H107 -> 0.00785844 | S107: 0 | T107: =S107*H107 -> 0 | AR107: 4 | AT107: K | AU107: 2 | AY107: ROZPOCET | BE107: =IF(N107="základní",J107,0) -> 0 | BF107: =IF(N107="snížená",J107,0) -> 0 | BG107: =IF(N107="zákl. přenesená",J107,0) -> 0 | BH107: =IF(N107="sníž. přenesená",J107,0) -> 0 | BI107: =IF(N107="nulová",J107,0) -> 0 | BJ107: 1 | BK107: =ROUND(I107*H107,2) -> 0 | BL107: 4 | BM107: 2129020127
D108: Online PSC | F108: https://podminky.urs.cz/item/CS_URS_2021_02/612131121 | AT108: Online PSC | AU108: 2
C109: 6 | D109: K | E109: 612325101 | F109: Vápenocementová omítka rýh hrubá ve stěnách, šířky rýhy do 150 mm | G109: m2 | H109: 0.9 | J109: =ROUND(I109*H109,2) -> 0 | K109: CS ÚRS 2021 02 | N109: základní | P109: =O109*H109 -> 0 | Q109: 0.0389 | R109: =Q109*H109 -> 0.03501 | S109: 0 | T109: =S109*H109 -> 0 | AR109: 4 | AT109: K | AU109: 2 | AY109: ROZPOCET | BE109: =IF(N109="základní",J109,0) -> 0 | BF109: =IF(N109="snížená",J109,0) -> 0 | BG109: =IF(N109="zákl. přenesená",J109,0) -> 0 | BH109: =IF(N109="sníž. přenesená",J109,0) -> 0 | BI109: =IF(N109="nulová",J109,0) -> 0 | BJ109: 1 | BK109: =ROUND(I109*H109,2) -> 0 | BL109: 4 | BM109: 957929518
D110: Online PSC | F110: https://podminky.urs.cz/item/CS_URS_2021_02/612325101 | AT110: Online PSC | AU110: 2
C111: 7 | D111: K | E111: 612325202 | F111: Vápenocementová omítka jednotlivých malých ploch hrubá na stěnách, plochy jednotlivě přes 0,09 do 0,25 m2 | G111: kus | H111: 10 | J111: =ROUND(I111*H111,2) -> 0 | K111: CS ÚRS 2021 02 | N111: základní | P111: =O111*H111 -> 0 | Q111: 0.0097 | R111: =Q111*H111 -> 0.097 | S111: 0 | T111: =S111*H111 -> 0 | AR111: 4 | AT111: K | AU111: 2 | AY111: ROZPOCET | BE111: =IF(N111="základní",J111,0) -> 0 | BF111: =IF(N111="snížená",J111,0) -> 0 | BG111: =IF(N111="zákl. přenesená",J111,0) -> 0 | BH111: =IF(N111="sníž. přenesená",J111,0) -> 0 | BI111: =IF(N111="nulová",J111,0) -> 0 | BJ111: 1 | BK111: =ROUND(I111*H111,2) -> 0 | BL111: 4 | BM111: -632058635
D112: Online PSC | F112: https://podminky.urs.cz/item/CS_URS_2021_02/612325202 | AT112: Online PSC | AU112: 2
C113: 8 | D113: K | E113: 612325423 | F113: Oprava vápenocementové omítky vnitřních ploch štukové dvouvrstvé, tloušťky do 20 mm a tloušťky štuku do 3 mm stěn, v rozsahu opravované plochy přes 30 do 50% | G113: m2 | H113: 29.88 | J113: =ROUND(I113*H113,2) -> 0 | K113: CS ÚRS 2021 02 | N113: základní | P113: =O113*H113 -> 0 | Q113: 0.0284 | R113: =Q113*H113 -> 0.848592 | S113: 0 | T113: =S113*H113 -> 0 | AR113: 4 | AT113: K | AU113: 2 | AY113: ROZPOCET | BE113: =IF(N113="základní",J113,0) -> 0 | BF113: =IF(N113="snížená",J113,0) -> 0 | BG113: =IF(N113="zákl. přenesená",J113,0) -> 0 | BH113: =IF(N113="sníž. přenesená",J113,0) -> 0 | BI113: =IF(N113="nulová",J113,0) -> 0 | BJ113: 1 | BK113: =ROUND(I113*H113,2) -> 0 | BL113: 4 | BM113: -400918993
D114: Online PSC | F114: https://podminky.urs.cz/item/CS_URS_2021_02/612325423 | AT114: Online PSC | AU114: 2
C115: 9 | D115: K | E115: 619995001 | F115: Začištění omítek (s dodáním hmot) kolem oken, dveří, podlah, obkladů apod. | G115: m | H115: 14 | J115: =ROUND(I115*H115,2) -> 0 | K115: CS ÚRS 2021 02 | N115: základní | P115: =O115*H115 -> 0 | Q115: 0.0015 | R115: =Q115*H115 -> 0.021 | S115: 0 | T115: =S115*H115 -> 0 | AR115: 4 | AT115: K | AU115: 2 | AY115: ROZPOCET | BE115: =IF(N115="základní",J115,0) -> 0 | BF115: =IF(N115="snížená",J115,0) -> 0 | BG115: =IF(N115="zákl. přenesená",J115,0) -> 0 | BH115: =IF(N115="sníž. přenesená",J115,0) -> 0 | BI115: =IF(N115="nulová",J115,0) -> 0 | BJ115: 1 | BK115: =ROUND(I115*H115,2) -> 0 | BL115: 4 | BM115: 731560822
D116: Online PSC | F116: https://podminky.urs.cz/item/CS_URS_2021_02/619995001 | AT116: Online PSC | AU116: 2
D117: D | E117: 9 | F117: Ostatní konstrukce a práce, bourání | J117: =BK117 -> 0 | P117: =SUM(P118:P138) -> 0 | R117: =SUM(R118:R138) -> 0.0027 | T117: =SUM(T118:T138) -> 2.1294 | AR117: 1 | AT117: D | AU117: 1 | AY117: ROZPOCET | BK117: =SUM(BK118:BK138) -> 0
C118: 10 | D118: K | E118: 949101111 | F118: Lešení pomocné pracovní pro objekty pozemních staveb pro zatížení do 150 kg/m2, o výšce lešeňové podlahy do 1,9 m | G118: m2 | H118: 10 | J118: =ROUND(I118*H118,2) -> 0 | K118: CS ÚRS 2021 02 | N118: základní | P118: =O118*H118 -> 0 | Q118: 0.00013 | R118: =Q118*H118 -> 0.0013 | S118: 0 | T118: =S118*H118 -> 0 | AR118: 4 | AT118: K | AU118: 2 | AY118: ROZPOCET | BE118: =IF(N118="základní",J118,0) -> 0 | BF118: =IF(N118="snížená",J118,0) -> 0 | BG118: =IF(N118="zákl. přenesená",J118,0) -> 0 | BH118: =IF(N118="sníž. přenesená",J118,0) -> 0 | BI118: =IF(N118="nulová",J118,0) -> 0 | BJ118: 1 | BK118: =ROUND(I118*H118,2) -> 0 | BL118: 4 | BM118: 202006712
D119: Online PSC | F119: https://podminky.urs.cz/item/CS_URS_2021_02/949101111 | AT119: Online PSC | AU119: 2
C120: 11 | D120: K | E120: 952901111 | F120: Vyčištění budov nebo objektů před předáním do užívání budov bytové nebo občanské výstavby, světlé výšky podlaží do 4 m | G120: m2 | H120: 28 | J120: =ROUND(I120*H120,2) -> 0 | K120: CS ÚRS 2021 02 | N120: základní | P120: =O120*H120 -> 0 | Q120: 3.5e-05 | R120: =Q120*H120 -> 0.00098 | S120: 0 | T120: =S120*H120 -> 0 | AR120: 4 | AT120: K | AU120: 2 | AY120: ROZPOCET | BE120: =IF(N120="základní",J120,0) -> 0 | BF120: =IF(N120="snížená",J120,0) -> 0 | BG120: =IF(N120="zákl. přenesená",J120,0) -> 0 | BH120: =IF(N120="sníž. přenesená",J120,0) -> 0 | BI120: =IF(N120="nulová",J120,0) -> 0 | BJ120: 1 | BK120: =ROUND(I120*H120,2) -> 0 | BL120: 4 | BM120: 1575017836
D121: Online PSC | F121: https://podminky.urs.cz/item/CS_URS_2021_02/952901111 | AT121: Online PSC | AU121: 2
C122: 12 | D122: K | E122: 952902031 | F122: Čištění budov při provádění oprav a udržovacích prací podlah hladkých omytím | G122: m2 | H122: 16 | J122: =ROUND(I122*H122,2) -> 0 | K122: CS ÚRS 2021 02 | N122: základní | P122: =O122*H122 -> 0 | Q122: 6.25e-06 | R122: =Q122*H122 -> 0.0001 | S122: 0 | T122: =S122*H122 -> 0 | AR122: 4 | AT122: K | AU122: 2 | AY122: ROZPOCET | BE122: =IF(N122="základní",J122,0) -> 0 | BF122: =IF(N122="snížená",J122,0) -> 0 | BG122: =IF(N122="zákl. přenesená",J122,0) -> 0 | BH122: =IF(N122="sníž. přenesená",J122,0) -> 0 | BI122: =IF(N122="nulová",J122,0) -> 0 | BJ122: 1 | BK122: =ROUND(I122*H122,2) -> 0 | BL122: 4 | BM122: -212473272
D123: Online PSC | F123: https://podminky.urs.cz/item/CS_URS_2021_02/952902031 | AT123: Online PSC | AU123: 2
C124: 13 | D124: K | E124: 952902041 | F124: Čištění budov při provádění oprav a udržovacích prací podlah hladkých drhnutím s chemickými prostředky | G124: m2 | H124: 8 | J124: =ROUND(I124*H124,2) -> 0 | K124: CS ÚRS 2021 02 | N124: základní | P124: =O124*H124 -> 0 | Q124: 4e-05 | R124: =Q124*H124 -> 0.00032 | S124: 0 | T124: =S124*H124 -> 0 | AR124: 4 | AT124: K | AU124: 2 | AY124: ROZPOCET | BE124: =IF(N124="základní",J124,0) -> 0 | BF124: =IF(N124="snížená",J124,0) -> 0 | BG124: =IF(N124="zákl. přenesená",J124,0) -> 0 | BH124: =IF(N124="sníž. přenesená",J124,0) -> 0 | BI124: =IF(N124="nulová",J124,0) -> 0 | BJ124: 1 | BK124: =ROUND(I124*H124,2) -> 0 | BL124: 4 | BM124: 841216988
D125: Online PSC | F125: https://podminky.urs.cz/item/CS_URS_2021_02/952902041 | AT125: Online PSC | AU125: 2
C126: 14 | D126: K | E126: 962031133 | F126: Bourání příček z cihel, tvárnic nebo příčkovek z cihel pálených, plných nebo dutých na maltu vápennou nebo vápenocementovou, tl. do 150 mm | G126: m2 | H126: 1.8 | J126: =ROUND(I126*H126,2) -> 0 | K126: CS ÚRS 2021 02 | N126: základní | P126: =O126*H126 -> 0 | Q126: 0 | R126: =Q126*H126 -> 0 | S126: 0.261 | T126: =S126*H126 -> 0.4698 | AR126: 4 | AT126: K | AU126: 2 | AY126: ROZPOCET | BE126: =IF(N126="základní",J126,0) -> 0 | BF126: =IF(N126="snížená",J126,0) -> 0 | BG126: =IF(N126="zákl. přenesená",J126,0) -> 0 | BH126: =IF(N126="sníž. přenesená",J126,0) -> 0 | BI126: =IF(N126="nulová",J126,0) -> 0 | BJ126: 1 | BK126: =ROUND(I126*H126,2) -> 0 | BL126: 4 | BM126: 1015165200
D127: Online PSC | F127: https://podminky.urs.cz/item/CS_URS_2021_02/962031133 | AT127: Online PSC | AU127: 2
C128: 15 | D128: K | E128: 965081223 | F128: Bourání podlah z dlaždic bez podkladního lože nebo mazaniny, s jakoukoliv výplní spár keramických nebo xylolitových tl. přes 10 mm plochy přes 1 m2 | G128: m2 | H128: 4.08 | J128: =ROUND(I128*H128,2) -> 0 | K128: CS ÚRS 2021 02 | N128: základní | P128: =O128*H128 -> 0 | Q128: 0 | R128: =Q128*H128 -> 0 | S128: 0.057 | T128: =S128*H128 -> 0.23256 | AR128: 4 | AT128: K | AU128: 2 | AY128: ROZPOCET | BE128: =IF(N128="základní",J128,0) -> 0 | BF128: =IF(N128="snížená",J128,0) -> 0 | BG128: =IF(N128="zákl. přenesená",J128,0) -> 0 | BH128: =IF(N128="sníž. přenesená",J128,0) -> 0 | BI128: =IF(N128="nulová",J128,0) -> 0 | BJ128: 1 | BK128: =ROUND(I128*H128,2) -> 0 | BL128: 4 | BM128: -262859494
D129: Online PSC | F129: https://podminky.urs.cz/item/CS_URS_2021_02/965081223 | AT129: Online PSC | AU129: 2
C130: 16 | D130: K | E130: 971033341 | F130: Vybourání otvorů ve zdivu základovém nebo nadzákladovém z cihel, tvárnic, příčkovek z cihel pálených na maltu vápennou nebo vápenocementovou plochy do 0,09 m2, tl. do 300 mm | G130: kus | H130: 6 | J130: =ROUND(I130*H130,2) -> 0 | K130: CS ÚRS 2021 02 | N130: základní | P130: =O130*H130 -> 0 | Q130: 0 | R130: =Q130*H130 -> 0 | S130: 0.054 | T130: =S130*H130 -> 0.324 | AR130: 4 | AT130: K | AU130: 2 | AY130: ROZPOCET | BE130: =IF(N130="základní",J130,0) -> 0 | BF130: =IF(N130="snížená",J130,0) -> 0 | BG130: =IF(N130="zákl. přenesená",J130,0) -> 0 | BH130: =IF(N130="sníž. přenesená",J130,0) -> 0 | BI130: =IF(N130="nulová",J130,0) -> 0 | BJ130: 1 | BK130: =ROUND(I130*H130,2) -> 0 | BL130: 4 | BM130: -1790769171
D131: Online PSC | F131: https://podminky.urs.cz/item/CS_URS_2021_02/971033341 | AT131: Online PSC | AU131: 2
C132: 17 | D132: K | E132: 972054231 | F132: Vybourání otvorů ve stropech nebo klenbách železobetonových bez odstranění podlahy a násypu, plochy do 0,09 m2, tl. do 120 mm | G132: kus | H132: 4 | J132: =ROUND(I132*H132,2) -> 0 | K132: CS ÚRS 2021 02 | N132: základní | P132: =O132*H132 -> 0 | Q132: 0 | R132: =Q132*H132 -> 0 | S132: 0.026 | T132: =S132*H132 -> 0.104 | AR132: 4 | AT132: K | AU132: 2 | AY132: ROZPOCET | BE132: =IF(N132="základní",J132,0) -> 0 | BF132: =IF(N132="snížená",J132,0) -> 0 | BG132: =IF(N132="zákl. přenesená",J132,0) -> 0 | BH132: =IF(N132="sníž. přenesená",J132,0) -> 0 | BI132: =IF(N132="nulová",J132,0) -> 0 | BJ132: 1 | BK132: =ROUND(I132*H132,2) -> 0 | BL132: 4 | BM132: -1127524812
D133: Online PSC | F133: https://podminky.urs.cz/item/CS_URS_2021_02/972054231 | AT133: Online PSC | AU133: 2
...

Sheet SO 02 - Litovel Předměstí...
AT2: {55b484dc-3018-444a-be22-429846d55546}
AT3: 2
D4: KRYCÍ LIST SOUPISU PRACÍ | M4: v --- níže se nacházejí doplnkové a pomocné údaje k sestavám --- v | AT4: False
D6: Stavba:
E7: ='Rekapitulace stavby'!K6 -> oprava sociálních zařízení b.j. OŘ Olomouc
D8: Objekt:
E9: SO 02 - Litovel Předměstí B.J. 2 NP
D11: KSO: | I11: CC-CZ:
D12: Místo: | I12: Datum: | J12: ='Rekapitulace stavby'!AN8 -> 0
D14: Zadavatel: | I14: IČ: | J14: =IF('Rekapitulace stavby'!AN10="","",'Rekapitulace stavby'!AN10)
E15: =IF('Rekapitulace stavby'!E11="","",'Rekapitulace stavby'!E11) | I15: DIČ: | J15: =IF('Rekapitulace stavby'!AN11="","",'Rekapitulace stavby'!AN11)
D17: Uchazeč: | I17: IČ: | J17: ='Rekapitulace stavby'!AN13 -> Vyplň údaj
E18: ='Rekapitulace stavby'!E14 -> Vyplň údaj | I18: DIČ: | J18: ='Rekapitulace stavby'!AN14 -> Vyplň údaj
D20: Projektant: | I20: IČ: | J20: =IF('Rekapitulace stavby'!AN16="","",'Rekapitulace stavby'!AN16)
E21: =IF('Rekapitulace stavby'!E17="","",'Rekapitulace stavby'!E17) | I21: DIČ: | J21: =IF('Rekapitulace stavby'!AN17="","",'Rekapitulace stavby'!AN17)
D23: Zpracovatel: | I23: IČ: | J23: =IF('Rekapitulace stavby'!AN19="","",'Rekapitulace stavby'!AN19)
E24: =IF('Rekapitulace stavby'!E20="","",'Rekapitulace stavby'!E20) | I24: DIČ: | J24: =IF('Rekapitulace stavby'!AN20="","",'Rekapitulace stavby'!AN20)
D26: Poznámka:
D30: Cena bez DPH | J30: =ROUND(J97, 2) -> 0
F32: Základ daně | I32: Sazba daně | J32: Výše daně
D33: DPH | E33: základní | F33: =ROUND((SUM(BE97:BE335)), 2) -> 0 | I33: 0.21 | J33: =ROUND(((SUM(BE97:BE335))*I33), 2) -> 0
E34: snížená | F34: =ROUND((SUM(BF97:BF335)), 2) -> 0 | I34: 0.15 | J34: =ROUND(((SUM(BF97:BF335))*I34), 2) -> 0
E35: zákl. přenesená | F35: =ROUND((SUM(BG97:BG335)), 2) -> 0 | I35: 0.21 | J35: =0 -> 0
E36: sníž. přenesená | F36: =ROUND((SUM(BH97:BH335)), 2) -> 0 | I36: 0.15 | J36: =0 -> 0
E37: nulová | F37: =ROUND((SUM(BI97:BI335)), 2) -> 0 | I37: 0 | J37: =0 -> 0
D39: Cena s DPH | G39: v | H39: CZK | J39: =SUM(J30:J37) -> 0
C45: REKAPITULACE ČLENĚNÍ SOUPISU PRACÍ
C47: Stavba:
E48: =E7 -> oprava sociálních zařízení b.j. OŘ Olomouc
C49: Objekt:
E50: =E9 -> SO 02 - Litovel Předměstí B.J. 2 NP
C52: Místo: | F52: =F12 | I52: Datum: | J52: =IF(J12="","",J12) -> 0
C54: Zadavatel: | F54: =E15 | I54: Projektant: | J54: =E21
C55: Uchazeč: | F55: =IF(E18="","",E18) -> Vyplň údaj | I55: Zpracovatel: | J55: =E24
C57: Kód dílu - Popis | J57: Cena celkem [CZK]
C59: Náklady stavby celkem | J59: =J97 -> 0 | AU59: -1
D60: HSV - Práce a dodávky HSV | J60: =J98 -> 0
D61: 3 - Svislé a kompletní konstrukce | J61: =J99 -> 0
D62: 6 - Úpravy povrchů, podlahy a osazování výplní | J62: =J109 -> 0
D63: 9 - Ostatní konstrukce a práce, bourání | J63: =J116 -> 0
D64: 997 - Přesun sutě | J64: =J129 -> 0
D65: 998 - Přesun hmot | J65: =J137 -> 0
D66: PSV - Práce a dodávky PSV | J66: =J140 -> 0
D67: 721 - Zdravotechnika - vnitřní kanalizace | J67: =J141 -> 0
D68: 722 - Zdravotechnika - vnitřní vodovod | J68: =J154 -> 0
D69: 711 - Izolace proti vodě, vlhkosti a plynům | J69: =J181 -> 0
D70: 725 - Zdravotechnika - zařizovací předměty | J70: =J188 -> 0
D71: 726 - Zdravotechnika - předstěnové instalace | J71: =J226 -> 0
D72: 741 - Elektroinstalace - silnoproud | J72: =J231 -> 0
D73: 742 - Elektroinstalace - slaboproud | J73: =J233 -> 0
D74: 766 - Konstrukce truhlářské | J74: =J245 -> 0
D75: 771 - Podlahy z dlaždic | J75: =J255 -> 0
D76: 781 - Dokončovací práce - obklady | J76: =J277 -> 0
D77: 784 - Dokončovací práce - malby a tapety | J77: =J311 -> 0
C84: SOUPIS PRACÍ
C86: Stavba:
E87: =E7 -> oprava sociálních zařízení b.j. OŘ Olomouc
C88: Objekt:
E89: =E9 -> SO 02 - Litovel Předměstí B.J. 2 NP
C91: Místo: | F91: =F12 | I91: Datum: | J91: =IF(J12="","",J12) -> 0
C93: Zadavatel: | F93: =E15 | I93: Projektant: | J93: =E21
C94: Uchazeč: | F94: =IF(E18="","",E18) -> Vyplň údaj | I94: Zpracovatel: | J94: =E24
C96: PČ | D96: Typ | E96: Kód | F96: Popis | G96: MJ | H96: Množství | I96: J.cena [CZK] | J96: Cena celkem [CZK] | K96: Cenová soustava | N96: DPH | O96: J. Nh [h] | P96: Nh celkem [h] | Q96: J. hmotnost [t] | R96: Hmotnost celkem [t] | S96: J. suť [t] | T96: Suť Celkem [t]
C97: Náklady soupisu celkem | J97: =BK97 -> 0 | P97: =P98+P140 -> 0 | R97: =R98+R140 -> 4.0593607 | T97: =T98+T140 -> 2.746213 | AT97: D | AU97: -1 | BK97: =BK98+BK140 -> 0
D98: D | E98: HSV | F98: Práce a dodávky HSV | J98: =BK98 -> 0 | P98: =P99+P109+P116+P129+P137 -> 0 | R98: =R99+R109+R116+R129+R137 -> 0.44492 | T98: =T99+T109+T116+T129+T137 -> 0.646798 | AR98: 1 | AT98: D | AU98: 0 | AY98: ROZPOCET | BK98: =BK99+BK109+BK116+BK129+BK137 -> 0
D99: D | E99: 3 | F99: Svislé a kompletní konstrukce | J99: =BK99 -> 0 | P99: =SUM(P100:P108) -> 0 | R99: =SUM(R100:R108) -> 0.318096 | T99: =SUM(T100:T108) -> 0 | AR99: 1 | AT99: D | AU99: 1 | AY99: ROZPOCET | BK99: =SUM(BK100:BK108) -> 0
C100: 1 | D100: K | E100: 342272225 | F100: Příčky z pórobetonových tvárnic hladkých na tenké maltové lože objemová hmotnost do 500 kg/m3, tloušťka příčky 100 mm | G100: m2 | H100: 3 | J100: =ROUND(I100*H100,2) -> 0 | K100: CS ÚRS 2021 02 | N100: základní | P100: =O100*H100 -> 0 | Q100: 0.05897 | R100: =Q100*H100 -> 0.17691 | S100: 0 | T100: =S100*H100 -> 0 | AR100: 4 | AT100: K | AU100: 2 | AY100: ROZPOCET | BE100: =IF(N100="základní",J100,0) -> 0 | BF100: =IF(N100="snížená",J100,0) -> 0 | BG100: =IF(N100="zákl. přenesená",J100,0) -> 0 | BH100: =IF(N100="sníž. přenesená",J100,0) -> 0 | BI100: =IF(N100="nulová",J100,0) -> 0 | BJ100: 1 | BK100: =ROUND(I100*H100,2) -> 0 | BL100: 4 | BM100: -1020447937
D101: Online PSC | F101: https://podminky.urs.cz/item/CS_URS_2021_02/342272225 | AT101: Online PSC | AU101: 2
D102: VV | F102: "sprchová stěna" 1,2*2,5 | H102: 3 | AT102: VV | AU102: 2 | AV102: 2 | AW102: True | AX102: 1 | AY102: ROZPOCET
C103: 2 | D103: K | E103: 346244352 | F103: Obezdívka koupelnových van ploch rovných z přesných pórobetonových tvárnic, na tenké maltové lože, tl. 50 mm | G103: m2 | H103: 1.89 | J103: =ROUND(I103*H103,2) -> 0 | K103: CS ÚRS 2021 02 | N103: základní | P103: =O103*H103 -> 0 | Q103: 0.05252 | R103: =Q103*H103 -> 0.0992628 | S103: 0 | T103: =S103*H103 -> 0 | AR103: 4 | AT103: K | AU103: 2 | AY103: ROZPOCET | BE103: =IF(N103="základní",J103,0) -> 0 | BF103: =IF(N103="snížená",J103,0) -> 0 | BG103: =IF(N103="zákl. přenesená",J103,0) -> 0 | BH103: =IF(N103="sníž. přenesená",J103,0) -> 0 | BI103: =IF(N103="nulová",J103,0) -> 0 | BJ103: 1 | BK103: =ROUND(I103*H103,2) -> 0 | BL103: 4 | BM103: 2030553268
D104: Online PSC | F104: https://podminky.urs.cz/item/CS_URS_2021_02/346244352 | AT104: Online PSC | AU104: 2
D105: VV | F105: (1,7+1)*0,7 | H105: 1.89 | AT105: VV | AU105: 2 | AV105: 2 | AW105: True | AX105: 1 | AY105: ROZPOCET
C106: 3 | D106: K | E106: 346272216 | F106: Přizdívky z pórobetonových tvárnic objemová hmotnost do 500 kg/m3, na tenké maltové lože, tloušťka přizdívky 50 mm | G106: m2 | H106: 0.96 | J106: =ROUND(I106*H106,2) -> 0 | K106: CS ÚRS 2021 02 | N106: základní | P106: =O106*H106 -> 0 | Q106: 0.04367 | R106: =Q106*H106 -> 0.0419232 | S106: 0 | T106: =S106*H106 -> 0 | AR106: 4 | AT106: K | AU106: 2 | AY106: ROZPOCET | BE106: =IF(N106="základní",J106,0) -> 0 | BF106: =IF(N106="snížená",J106,0) -> 0 | BG106: =IF(N106="zákl. přenesená",J106,0) -> 0 | BH106: =IF(N106="sníž. přenesená",J106,0) -> 0 | BI106: =IF(N106="nulová",J106,0) -> 0 | BJ106: 1 | BK106: =ROUND(I106*H106,2) -> 0 | BL106: 4 | BM106: -1853336624
D107: Online PSC | F107: https://podminky.urs.cz/item/CS_URS_2021_02/346272216 | AT107: Online PSC | AU107: 2
D108: VV | F108: "předstěnová instalace" 0,8*1,2 | H108: 0.96 | AT108: VV | AU108: 2 | AV108: 2 | AW108: True | AX108: 1 | AY108: ROZPOCET
D109: D | E109: 6 | F109: Úpravy povrchů, podlahy a osazování výplní | J109: =BK109 -> 0 | P109: =SUM(P110:P115) -> 0 | R109: =SUM(R110:R115) -> 0.126824 | T109: =SUM(T110:T115) -> 0 | AR109: 1 | AT109: D | AU109: 1 | AY109: ROZPOCET | BK109: =SUM(BK110:BK115) -> 0
C110: 4 | D110: K | E110: 611325111 | F110: Vápenocementová omítka rýh hladká ve stropech, šířky rýhy do 150 mm | G110: m2 | H110: 3.32 | J110: =ROUND(I110*H110,2) -> 0 | K110: CS ÚRS 2021 02 | N110: základní | P110: =O110*H110 -> 0 | Q110: 0.0382 | R110: =Q110*H110 -> 0.126824 | S110: 0 | T110: =S110*H110 -> 0 | AR110: 4 | AT110: K | AU110: 2 | AY110: ROZPOCET | BE110: =IF(N110="základní",J110,0) -> 0 | BF110: =IF(N110="snížená",J110,0) -> 0 | BG110: =IF(N110="zákl. přenesená",J110,0) -> 0 | BH110: =IF(N110="sníž. přenesená",J110,0) -> 0 | BI110: =IF(N110="nulová",J110,0) -> 0 | BJ110: 1 | BK110: =ROUND(I110*H110,2) -> 0 | BL110: 4 | BM110: -1522154940
D111: Online PSC | F111: https://podminky.urs.cz/item/CS_URS_2021_02/611325111 | AT111: Online PSC | AU111: 2
D112: VV | F112: 33,5*0,07 | H112: 2.345 | AT112: VV | AU112: 2 | AV112: 2 | AW112: True | AX112: 0 | AY112: ROZPOCET
D113: VV | F113: 25*0,03 | H113: 0.75 | AT113: VV | AU113: 2 | AV113: 2 | AW113: True | AX113: 0 | AY113: ROZPOCET
D114: VV | F114: 1,5*0,15 | H114: 0.225 | AT114: VV | AU114: 2 | AV114: 2 | AW114: True | AX114: 0 | AY114: ROZPOCET
D115: VV | F115: Součet | H115: 3.32 | AT115: VV | AU115: 2 | AV115: 4 | AW115: True | AX115: 1 | AY115: ROZPOCET
D116: D | E116: 9 | F116: Ostatní konstrukce a práce, bourání | J116: =BK116 -> 0 | P116: =SUM(P117:P128) -> 0 | R116: =SUM(R117:R128) -> 0 | T116: =SUM(T117:T128) -> 0.646798 | AR116: 1 | AT116: D | AU116: 1 | AY116: ROZPOCET | BK116: =SUM(BK117:BK128) -> 0
C117: 5 | D117: K | E117: 962031132 | F117: Bourání příček z cihel, tvárnic nebo příčkovek z cihel pálených, plných nebo dutých na maltu vápennou nebo vápenocementovou, tl. do 100 mm | G117: m2 | H117: 1.68 | J117: =ROUND(I117*H117,2) -> 0 | K117: CS ÚRS 2021 02 | N117: základní | P117: =O117*H117 -> 0 | Q117: 0 | R117: =Q117*H117 -> 0 | S117: 0.131 | T117: =S117*H117 -> 0.22008 | AR117: 4 | AT117: K | AU117: 2 | AY117: ROZPOCET | BE117: =IF(N117="základní",J117,0) -> 0 | BF117: =IF(N117="snížená",J117,0) -> 0 | BG117: =IF(N117="zákl. přenesená",J117,0) -> 0 | BH117: =IF(N117="sníž. přenesená",J117,0) -> 0 | BI117: =IF(N117="nulová",J117,0) -> 0 | BJ117: 1 | BK117: =ROUND(I117*H117,2) -> 0 | BL117: 4 | BM117: 210994033
D118: Online PSC | F118: https://podminky.urs.cz/item/CS_URS_2021_02/962031132 | AT118: Online PSC | AU118: 2
D119: VV | F119: "obezdívka vany" (1,7+0,7)*0,7 | H119: 1.68 | AT119: VV | AU119: 2 | AV119: 2 | AW119: True | AX119: 1 | AY119: ROZPOCET
C120: 6 | D120: K | E120: 962081141 | F120: Bourání zdiva příček nebo vybourání otvorů ze skleněných tvárnic, tl. do 150 mm | G120: m2 | H120: 1.649 | J120: =ROUND(I120*H120,2) -> 0 | K120: CS ÚRS 2021 02 | N120: základní | P120: =O120*H120 -> 0 | Q120: 0 | R120: =Q120*H120 -> 0 | S120: 0.082 | T120: =S120*H120 -> 0.135218 | AR120: 4 | AT120: K | AU120: 2 | AY120: ROZPOCET | BE120: =IF(N120="základní",J120,0) -> 0 | BF120: =IF(N120="snížená",J120,0) -> 0 | BG120: =IF(N120="zákl. přenesená",J120,0) -> 0 | BH120: =IF(N120="sníž. přenesená",J120,0) -> 0 | BI120: =IF(N120="nulová",J120,0) -> 0 | BJ120: 1 | BK120: =ROUND(I120*H120,2) -> 0 | BL120: 4 | BM120: 1424319381
D121: Online PSC | F121: https://podminky.urs.cz/item/CS_URS_2021_02/962081141 | AT121: Online PSC | AU121: 2
D122: VV | F122: "okno na WC" 0,97*1,7 | H122: 1.649 | AT122: VV | AU122: 2 | AV122: 2 | AW122: True | AX122: 1 | AY122: ROZPOCET
C123: 7 | D123: K | E123: 974031121 | F123: Vysekání rýh ve zdivu cihelném na maltu vápennou nebo vápenocementovou do hl. 30 mm a šířky do 30 mm | G123: m | H123: 25 | J123: =ROUND(I123*H123,2) -> 0 | K123: CS ÚRS 2021 02 | N123: základní | P123: =O123*H123 -> 0 | Q123: 0 | R123: =Q123*H123 -> 0 | S123: 0.002 | T123: =S123*H123 -> 0.05 | AR123: 4 | AT123: K | AU123: 2 | AY123: ROZPOCET | BE123: =IF(N123="základní",J123,0) -> 0 | BF123: =IF(N123="snížená",J123,0) -> 0 | BG123: =IF(N123="zákl. přenesená",J123,0) -> 0 | BH123: =IF(N123="sníž. přenesená",J123,0) -> 0 | BI123: =IF(N123="nulová",J123,0) -> 0 | BJ123: 1 | BK123: =ROUND(I123*H123,2) -> 0 | BL123: 4 | BM123: -895898497
D124: Online PSC | F124: https://podminky.urs.cz/item/CS_URS_2021_02/974031121 | AT124: Online PSC | AU124: 2
C125: 8 | D125: K | E125: 974031132 | F125: Vysekání rýh ve zdivu cihelném na maltu vápennou nebo vápenocementovou do hl. 50 mm a šířky do 70 mm | G125: m | H125: 33.5 | J125: =ROUND(I125*H125,2) -> 0 | K125: CS ÚRS 2021 02 | N125: základní | P125: =O125*H125 -> 0 | Q125: 0 | R125: =Q125*H125 -> 0 | S125: 0.006 | T125: =S125*H125 -> 0.201 | AR125: 4 | AT125: K | AU125: 2 | AY125: ROZPOCET | BE125: =IF(N125="základní",J125,0) -> 0 | BF125: =IF(N125="snížená",J125,0) -> 0 | BG125: =IF(N125="zákl. přenesená",J125,0) -> 0 | BH125: =IF(N125="sníž. přenesená",J125,0) -> 0 | BI125: =IF(N125="nulová",J125,0) -> 0 | BJ125: 1 | BK125: =ROUND(I125*H125,2) -> 0 | BL125: 4 | BM125: 1783159686
D126: Online PSC | F126: https://podminky.urs.cz/item/CS_URS_2021_02/974031132 | AT126: Online PSC | AU126: 2
C127: 9 | D127: K | E127: 974031154 | F127: Vysekání rýh ve zdivu cihelném na maltu vápennou nebo vápenocementovou do hl. 100 mm a šířky do 150 mm | G127: m | H127: 1.5 | J127: =ROUND(I127*H127,2) -> 0 | K127: CS ÚRS 2021 02 | N127: základní | P127: =O127*H127 -> 0 | Q127: 0 | R127: =Q127*H127 -> 0 | S127: 0.027 | T127: =S127*H127 -> 0.0405 | AR127: 4 | AT127: K | AU127: 2 | AY127: ROZPOCET | BE127: =IF(N127="základní",J127,0) -> 0 | BF127: =IF(N127="snížená",J127,0) -> 0 | BG127: =IF(N127="zákl. přenesená",J127,0) -> 0 | BH127: =IF(N127="sníž. přenesená",J127,0) -> 0 | BI127: =IF(N127="nulová",J127,0) -> 0 | BJ127: 1 | BK127: =ROUND(I127*H127,2) -> 0 | BL127: 4 | BM127: 1006293418
D128: Online PSC | F128: https://podminky.urs.cz/item/CS_URS_2021_02/974031154 | AT128: Online PSC | AU128: 2
D129: D | E129: 997 | F129: Přesun sutě | J129: =BK129 -> 0 | P129: =SUM(P130:P136) -> 0 | R129: =SUM(R130:R136) -> 0 | T129: =SUM(T130:T136) -> 0 | AR129: 1 | AT129: D | AU129: 1 | AY129: ROZPOCET | BK129: =SUM(BK130:BK136) -> 0
C130: 10 | D130: K | E130: 997013501 | F130: Odvoz suti a vybouraných hmot na skládku nebo meziskládku se složením, na vzdálenost do 1 km | G130: t | H130: 2.746 | J130: =ROUND(I130*H130,2) -> 0 | K130: CS ÚRS 2021 02 | N130: základní | P130: =O130*H130 -> 0 | Q130: 0 | R130: =Q130*H130 -> 0 | S130: 0 | T130: =S130*H130 -> 0 | AR130: 4 | AT130: K | AU130: 2 | AY130: ROZPOCET | BE130: =IF(N130="základní",J130,0) -> 0 | BF130: =IF(N130="snížená",J130,0) -> 0 | BG130: =IF(N130="zákl. přenesená",J130,0) -> 0 | BH130: =IF(N130="sníž. přenesená",J130,0) -> 0 | BI130: =IF(N130="nulová",J130,0) -> 0 | BJ130: 1 | BK130: =ROUND(I130*H130,2) -> 0 | BL130: 4 | BM130: -1052945530
D131: Online PSC | F131: https://podminky.urs.cz/item/CS_URS_2021_02/997013501 | AT131: Online PSC | AU131: 2
C132: 11 | D132: K | E132: 997013509 | F132: Odvoz suti a vybouraných hmot na skládku nebo meziskládku se složením, na vzdálenost Příplatek k ceně za každý další i započatý 1 km přes 1 km | G132: t | H132: 68.67 | J132: =ROUND(I132*H132,2) -> 0 | K132: CS ÚRS 2021 02 | N132: základní | P132: =O132*H132 -> 0 | Q132: 0 | R132: =Q132*H132 -> 0 | S132: 0 | T132: =S132*H132 -> 0 | AR132: 4 | AT132: K | AU132: 2 | AY132: ROZPOCET | BE132: =IF(N132="základní",J132,0) -> 0 | BF132: =IF(N132="snížená",J132,0) -> 0 | BG132: =IF(N132="zákl. přenesená",J132,0) -> 0 | BH132: =IF(N132="sníž. přenesená",J132,0) -> 0 | BI132: =IF(N132="nulová",J132,0) -> 0 | BJ132: 1 | BK132: =ROUND(I132*H132,2) -> 0 | BL132: 4 | BM132: 249632254
D133: Online PSC | F133: https://podminky.urs.cz/item/CS_URS_2021_02/997013509 | AT133: Online PSC | AU133: 2
...

Sheet SO 03 - Litovel Předměstí...
AT2: {c7386a82-62f7-4874-96f3-55cd7e3a8b8d}
AT3: 2
D4: KRYCÍ LIST SOUPISU PRACÍ | M4: v --- níže se nacházejí doplnkové a pomocné údaje k sestavám --- v | AT4: False
D6: Stavba:
E7: ='Rekapitulace stavby'!K6 -> oprava sociálních zařízení b.j. OŘ Olomouc
D8: Objekt:
E9: SO 03 - Litovel Předměstí B.J. 3 NP
D11: KSO: | I11: CC-CZ:
D12: Místo: | I12: Datum: | J12: ='Rekapitulace stavby'!AN8 -> 0
D14: Zadavatel: | I14: IČ: | J14: =IF('Rekapitulace stavby'!AN10="","",'Rekapitulace stavby'!AN10)
E15: =IF('Rekapitulace stavby'!E11="","",'Rekapitulace stavby'!E11) | I15: DIČ: | J15: =IF('Rekapitulace stavby'!AN11="","",'Rekapitulace stavby'!AN11)
D17: Uchazeč: | I17: IČ: | J17: ='Rekapitulace stavby'!AN13 -> Vyplň údaj
E18: ='Rekapitulace stavby'!E14 -> Vyplň údaj | I18: DIČ: | J18: ='Rekapitulace stavby'!AN14 -> Vyplň údaj
D20: Projektant: | I20: IČ: | J20: =IF('Rekapitulace stavby'!AN16="","",'Rekapitulace stavby'!AN16)
E21: =IF('Rekapitulace stavby'!E17="","",'Rekapitulace stavby'!E17) | I21: DIČ: | J21: =IF('Rekapitulace stavby'!AN17="","",'Rekapitulace stavby'!AN17)
D23: Zpracovatel: | I23: IČ: | J23: =IF('Rekapitulace stavby'!AN19="","",'Rekapitulace stavby'!AN19)
E24: =IF('Rekapitulace stavby'!E20="","",'Rekapitulace stavby'!E20) | I24: DIČ: | J24: =IF('Rekapitulace stavby'!AN20="","",'Rekapitulace stavby'!AN20)
D26: Poznámka:
D30: Cena bez DPH | J30: =ROUND(J96, 2) -> 0
F32: Základ daně | I32: Sazba daně | J32: Výše daně
D33: DPH | E33: základní | F33: =ROUND((SUM(BE96:BE311)), 2) -> 0 | I33: 0.21 | J33: =ROUND(((SUM(BE96:BE311))*I33), 2) -> 0
E34: snížená | F34: =ROUND((SUM(BF96:BF311)), 2) -> 0 | I34: 0.15 | J34: =ROUND(((SUM(BF96:BF311))*I34), 2) -> 0
E35: zákl. přenesená | F35: =ROUND((SUM(BG96:BG311)), 2) -> 0 | I35: 0.21 | J35: =0 -> 0
E36: sníž. přenesená | F36: =ROUND((SUM(BH96:BH311)), 2) -> 0 | I36: 0.15 | J36: =0 -> 0
E37: nulová | F37: =ROUND((SUM(BI96:BI311)), 2) -> 0 | I37: 0 | J37: =0 -> 0
D39: Cena s DPH | G39: v | H39: CZK | J39: =SUM(J30:J37) -> 0
C45: REKAPITULACE ČLENĚNÍ SOUPISU PRACÍ
C47: Stavba:
E48: =E7 -> oprava sociálních zařízení b.j. OŘ Olomouc
C49: Objekt:
E50: =E9 -> SO 03 - Litovel Předměstí B.J. 3 NP
C52: Místo: | F52: =F12 | I52: Datum: | J52: =IF(J12="","",J12) -> 0
C54: Zadavatel: | F54: =E15 | I54: Projektant: | J54: =E21
C55: Uchazeč: | F55: =IF(E18="","",E18) -> Vyplň údaj | I55: Zpracovatel: | J55: =E24
C57: Kód dílu - Popis | J57: Cena celkem [CZK]
C59: Náklady stavby celkem | J59: =J96 -> 0 | AU59: -1
D60: HSV - Práce a dodávky HSV | J60: =J97 -> 0
D61: 3 - Svislé a kompletní konstrukce | J61: =J98 -> 0
D62: 9 - Ostatní konstrukce a práce, bourání | J62: =J105 -> 0
D63: 997 - Přesun sutě | J63: =J115 -> 0
D64: 998 - Přesun hmot | J64: =J123 -> 0
D65: PSV - Práce a dodávky PSV | J65: =J126 -> 0
D66: 721 - Zdravotechnika - vnitřní kanalizace | J66: =J127 -> 0
D67: 722 - Zdravotechnika - vnitřní vodovod | J67: =J140 -> 0
D68: 711 - Izolace proti vodě, vlhkosti a plynům | J68: =J158 -> 0
D69: 725 - Zdravotechnika - zařizovací předměty | J69: =J167 -> 0
D70: 726 - Zdravotechnika - předstěnové instalace | J70: =J198 -> 0
D71: 741 - Elektroinstalace - silnoproud | J71: =J203 -> 0
D72: 742 - Elektroinstalace - slaboproud | J72: =J205 -> 0
D73: 766 - Konstrukce truhlářské | J73: =J217 -> 0
D74: 771 - Podlahy z dlaždic | J74: =J225 -> 0
D75: 781 - Dokončovací práce - obklady | J75: =J257 -> 0
D76: 784 - Dokončovací práce - malby a tapety | J76: =J289 -> 0
C83: SOUPIS PRACÍ
C85: Stavba:
E86: =E7 -> oprava sociálních zařízení b.j. OŘ Olomouc
C87: Objekt:
E88: =E9 -> SO 03 - Litovel Předměstí B.J. 3 NP
C90: Místo: | F90: =F12 | I90: Datum: | J90: =IF(J12="","",J12) -> 0
C92: Zadavatel: | F92: =E15 | I92: Projektant: | J92: =E21
C93: Uchazeč: | F93: =IF(E18="","",E18) -> Vyplň údaj | I93: Zpracovatel: | J93: =E24
C95: PČ | D95: Typ | E95: Kód | F95: Popis | G95: MJ | H95: Množství | I95: J.cena [CZK] | J95: Cena celkem [CZK] | K95: Cenová soustava | N95: DPH | O95: J. Nh [h] | P95: Nh celkem [h] | Q95: J. hmotnost [t] | R95: Hmotnost celkem [t] | S95: J. suť [t] | T95: Suť Celkem [t]
C96: Náklady soupisu celkem | J96: =BK96 -> 0 | P96: =P97+P126 -> 0 | R96: =R97+R126 -> 1.9340116 | T96: =T97+T126 -> 3.2508698 | AT96: D | AU96: -1 | BK96: =BK97+BK126 -> 0
D97: D | E97: HSV | F97: Práce a dodávky HSV | J97: =BK97 -> 0 | P97: =P98+P105+P115+P123 -> 0 | R97: =R98+R105+R115+R123 -> 0.1704555 | T97: =T98+T105+T115+T123 -> 0.39537 | AR97: 1 | AT97: D | AU97: 0 | AY97: ROZPOCET | BK97: =BK98+BK105+BK115+BK123 -> 0
D98: D | E98: 3 | F98: Svislé a kompletní konstrukce | J98: =BK98 -> 0 | P98: =SUM(P99:P104) -> 0 | R98: =SUM(R99:R104) -> 0.1704555 | T98: =SUM(T99:T104) -> 0 | AR98: 1 | AT98: D | AU98: 1 | AY98: ROZPOCET | BK98: =SUM(BK99:BK104) -> 0
C99: 1 | D99: K | E99: 342272225 | F99: Příčky z pórobetonových tvárnic hladkých na tenké maltové lože objemová hmotnost do 500 kg/m3, tloušťka příčky 100 mm | G99: m2 | H99: 2.15 | J99: =ROUND(I99*H99,2) -> 0 | K99: CS ÚRS 2021 02 | N99: základní | P99: =O99*H99 -> 0 | Q99: 0.05897 | R99: =Q99*H99 -> 0.1267855 | S99: 0 | T99: =S99*H99 -> 0 | AR99: 4 | AT99: K | AU99: 2 | AY99: ROZPOCET | BE99: =IF(N99="základní",J99,0) -> 0 | BF99: =IF(N99="snížená",J99,0) -> 0 | BG99: =IF(N99="zákl. přenesená",J99,0) -> 0 | BH99: =IF(N99="sníž. přenesená",J99,0) -> 0 | BI99: =IF(N99="nulová",J99,0) -> 0 | BJ99: 1 | BK99: =ROUND(I99*H99,2) -> 0 | BL99: 4 | BM99: -319542752
D100: Online PSC | F100: https://podminky.urs.cz/item/CS_URS_2021_02/342272225 | AT100: Online PSC | AU100: 2
D101: VV | F101: "sprcha" 1*2,15 | H101: 2.15 | AT101: VV | AU101: 2 | AV101: 2 | AW101: True | AX101: 1 | AY101: ROZPOCET
C102: 2 | D102: K | E102: 346272216 | F102: Přizdívky z pórobetonových tvárnic objemová hmotnost do 500 kg/m3, na tenké maltové lože, tloušťka přizdívky 50 mm | G102: m2 | H102: 1 | J102: =ROUND(I102*H102,2) -> 0 | K102: CS ÚRS 2021 02 | N102: základní | P102: =O102*H102 -> 0 | Q102: 0.04367 | R102: =Q102*H102 -> 0.04367 | S102: 0 | T102: =S102*H102 -> 0 | AR102: 4 | AT102: K | AU102: 2 | AY102: ROZPOCET | BE102: =IF(N102="základní",J102,0) -> 0 | BF102: =IF(N102="snížená",J102,0) -> 0 | BG102: =IF(N102="zákl. přenesená",J102,0) -> 0 | BH102: =IF(N102="sníž. přenesená",J102,0) -> 0 | BI102: =IF(N102="nulová",J102,0) -> 0 | BJ102: 1 | BK102: =ROUND(I102*H102,2) -> 0 | BL102: 4 | BM102: -253096216
D103: Online PSC | F103: https://podminky.urs.cz/item/CS_URS_2021_02/346272216 | AT103: Online PSC | AU103: 2
D104: VV | F104: 1*1 | H104: 1 | AT104: VV | AU104: 2 | AV104: 2 | AW104: True | AX104: 1 | AY104: ROZPOCET
D105: D | E105: 9 | F105: Ostatní konstrukce a práce, bourání | J105: =BK105 -> 0 | P105: =SUM(P106:P114) -> 0 | R105: =SUM(R106:R114) -> 0 | T105: =SUM(T106:T114) -> 0.39537 | AR105: 1 | AT105: D | AU105: 1 | AY105: ROZPOCET | BK105: =SUM(BK106:BK114) -> 0
C106: 3 | D106: K | E106: 962031132 | F106: Bourání příček z cihel, tvárnic nebo příčkovek z cihel pálených, plných nebo dutých na maltu vápennou nebo vápenocementovou, tl. do 100 mm | G106: m2 | H106: 2.17 | J106: =ROUND(I106*H106,2) -> 0 | K106: CS ÚRS 2021 02 | N106: základní | P106: =O106*H106 -> 0 | Q106: 0 | R106: =Q106*H106 -> 0 | S106: 0.131 | T106: =S106*H106 -> 0.28427 | AR106: 4 | AT106: K | AU106: 2 | AY106: ROZPOCET | BE106: =IF(N106="základní",J106,0) -> 0 | BF106: =IF(N106="snížená",J106,0) -> 0 | BG106: =IF(N106="zákl. přenesená",J106,0) -> 0 | BH106: =IF(N106="sníž. přenesená",J106,0) -> 0 | BI106: =IF(N106="nulová",J106,0) -> 0 | BJ106: 1 | BK106: =ROUND(I106*H106,2) -> 0 | BL106: 4 | BM106: -1012936411
D107: Online PSC | F107: https://podminky.urs.cz/item/CS_URS_2021_02/962031132 | AT107: Online PSC | AU107: 2
D108: VV | F108: "obezdívka vany" (0,7+1,7+0,7)*0,7 | H108: 2.17 | AT108: VV | AU108: 2 | AV108: 2 | AW108: True | AX108: 1 | AY108: ROZPOCET
C109: 4 | D109: K | E109: 974031121 | F109: Vysekání rýh ve zdivu cihelném na maltu vápennou nebo vápenocementovou do hl. 30 mm a šířky do 30 mm | G109: m | H109: 16.4 | J109: =ROUND(I109*H109,2) -> 0 | K109: CS ÚRS 2021 02 | N109: základní | P109: =O109*H109 -> 0 | Q109: 0 | R109: =Q109*H109 -> 0 | S109: 0.002 | T109: =S109*H109 -> 0.0328 | AR109: 4 | AT109: K | AU109: 2 | AY109: ROZPOCET | BE109: =IF(N109="základní",J109,0) -> 0 | BF109: =IF(N109="snížená",J109,0) -> 0 | BG109: =IF(N109="zákl. přenesená",J109,0) -> 0 | BH109: =IF(N109="sníž. přenesená",J109,0) -> 0 | BI109: =IF(N109="nulová",J109,0) -> 0 | BJ109: 1 | BK109: =ROUND(I109*H109,2) -> 0 | BL109: 4 | BM109: 478930107
D110: Online PSC | F110: https://podminky.urs.cz/item/CS_URS_2021_02/974031121 | AT110: Online PSC | AU110: 2
D111: VV | F111: 2,7+2,7+1,5+1,5+4+2,5+1,5 | H111: 16.4 | AT111: VV | AU111: 2 | AV111: 2 | AW111: True | AX111: 1 | AY111: ROZPOCET
C112: 5 | D112: K | E112: 974031132 | F112: Vysekání rýh ve zdivu cihelném na maltu vápennou nebo vápenocementovou do hl. 50 mm a šířky do 70 mm | G112: m | H112: 13.05 | J112: =ROUND(I112*H112,2) -> 0 | K112: CS ÚRS 2021 02 | N112: základní | P112: =O112*H112 -> 0 | Q112: 0 | R112: =Q112*H112 -> 0 | S112: 0.006 | T112: =S112*H112 -> 0.0783 | AR112: 4 | AT112: K | AU112: 2 | AY112: ROZPOCET | BE112: =IF(N112="základní",J112,0) -> 0 | BF112: =IF(N112="snížená",J112,0) -> 0 | BG112: =IF(N112="zákl. přenesená",J112,0) -> 0 | BH112: =IF(N112="sníž. přenesená",J112,0) -> 0 | BI112: =IF(N112="nulová",J112,0) -> 0 | BJ112: 1 | BK112: =ROUND(I112*H112,2) -> 0 | BL112: 4 | BM112: -1423370195
D113: Online PSC | F113: https://podminky.urs.cz/item/CS_URS_2021_02/974031132 | AT113: Online PSC | AU113: 2
D114: VV | F114: 2,7+2,7+1,4+1,25+1,5+1,1+1,2+1,2 | H114: 13.05 | AT114: VV | AU114: 2 | AV114: 2 | AW114: True | AX114: 1 | AY114: ROZPOCET
D115: D | E115: 997 | F115: Přesun sutě | J115: =BK115 -> 0 | P115: =SUM(P116:P122) -> 0 | R115: =SUM(R116:R122) -> 0 | T115: =SUM(T116:T122) -> 0 | AR115: 1 | AT115: D | AU115: 1 | AY115: ROZPOCET | BK115: =SUM(BK116:BK122) -> 0
C116: 6 | D116: K | E116: 997013501 | F116: Odvoz suti a vybouraných hmot na skládku nebo meziskládku se složením, na vzdálenost do 1 km | G116: t | H116: 3.251 | J116: =ROUND(I116*H116,2) -> 0 | K116: CS ÚRS 2021 02 | N116: základní | P116: =O116*H116 -> 0 | Q116: 0 | R116: =Q116*H116 -> 0 | S116: 0 | T116: =S116*H116 -> 0 | AR116: 4 | AT116: K | AU116: 2 | AY116: ROZPOCET | BE116: =IF(N116="základní",J116,0) -> 0 | BF116: =IF(N116="snížená",J116,0) -> 0 | BG116: =IF(N116="zákl. přenesená",J116,0) -> 0 | BH116: =IF(N116="sníž. přenesená",J116,0) -> 0 | BI116: =IF(N116="nulová",J116,0) -> 0 | BJ116: 1 | BK116: =ROUND(I116*H116,2) -> 0 | BL116: 4 | BM116: -121202245
D117: Online PSC | F117: https://podminky.urs.cz/item/CS_URS_2021_02/997013501 | AT117: Online PSC | AU117: 2
C118: 7 | D118: K | E118: 997013509 | F118: Odvoz suti a vybouraných hmot na skládku nebo meziskládku se složením, na vzdálenost Příplatek k ceně za každý další i započatý 1 km přes 1 km | G118: t | H118: 97.53 | J118: =ROUND(I118*H118,2) -> 0 | K118: CS ÚRS 2021 02 | N118: základní | P118: =O118*H118 -> 0 | Q118: 0 | R118: =Q118*H118 -> 0 | S118: 0 | T118: =S118*H118 -> 0 | AR118: 4 | AT118: K | AU118: 2 | AY118: ROZPOCET | BE118: =IF(N118="základní",J118,0) -> 0 | BF118: =IF(N118="snížená",J118,0) -> 0 | BG118: =IF(N118="zákl. přenesená",J118,0) -> 0 | BH118: =IF(N118="sníž. přenesená",J118,0) -> 0 | BI118: =IF(N118="nulová",J118,0) -> 0 | BJ118: 1 | BK118: =ROUND(I118*H118,2) -> 0 | BL118: 4 | BM118: -1876681937
D119: Online PSC | F119: https://podminky.urs.cz/item/CS_URS_2021_02/997013509 | AT119: Online PSC | AU119: 2
D120: VV | F120: 3,251*30 'Přepočtené koeficientem množství | H120: 97.53 | AT120: VV | AU120: 2 | AV120: 2 | AW120: False | AX120: 1 | AY120: ROZPOCET
C121: 8 | D121: K | E121: 997013631 | F121: Poplatek za uložení stavebního odpadu na skládce (skládkovné) směsného stavebního a demoličního zatříděného do Katalogu odpadů pod kódem 17 09 04 | G121: t | H121: 3.251 | J121: =ROUND(I121*H121,2) -> 0 | K121: CS ÚRS 2021 02 | N121: základní | P121: =O121*H121 -> 0 | Q121: 0 | R121: =Q121*H121 -> 0 | S121: 0 | T121: =S121*H121 -> 0 | AR121: 4 | AT121: K | AU121: 2 | AY121: ROZPOCET | BE121: =IF(N121="základní",J121,0) -> 0 | BF121: =IF(N121="snížená",J121,0) -> 0 | BG121: =IF(N121="zákl. přenesená",J121,0) -> 0 | BH121: =IF(N121="sníž. přenesená",J121,0) -> 0 | BI121: =IF(N121="nulová",J121,0) -> 0 | BJ121: 1 | BK121: =ROUND(I121*H121,2) -> 0 | BL121: 4 | BM121: 1745479751
D122: Online PSC | F122: https://podminky.urs.cz/item/CS_URS_2021_02/997013631 | AT122: Online PSC | AU122: 2
D123: D | E123: 998 | F123: Přesun hmot | J123: =BK123 -> 0 | P123: =SUM(P124:P125) -> 0 | R123: =SUM(R124:R125) -> 0 | T123: =SUM(T124:T125) -> 0 | AR123: 1 | AT123: D | AU123: 1 | AY123: ROZPOCET | BK123: =SUM(BK124:BK125) -> 0
C124: 9 | D124: K | E124: 998011001 | F124: Přesun hmot pro budovy občanské výstavby, bydlení, výrobu a služby s nosnou svislou konstrukcí zděnou z cihel, tvárnic nebo kamene vodorovná dopravní vzdálenost do 100 m pro budovy výšky do 6 m | G124: t | H124: 0.17 | J124: =ROUND(I124*H124,2) -> 0 | K124: CS ÚRS 2021 02 | N124: základní | P124: =O124*H124 -> 0 | Q124: 0 | R124: =Q124*H124 -> 0 | S124: 0 | T124: =S124*H124 -> 0 | AR124: 4 | AT124: K | AU124: 2 | AY124: ROZPOCET | BE124: =IF(N124="základní",J124,0) -> 0 | BF124: =IF(N124="snížená",J124,0) -> 0 | BG124: =IF(N124="zákl. přenesená",J124,0) -> 0 | BH124: =IF(N124="sníž. přenesená",J124,0) -> 0 | BI124: =IF(N124="nulová",J124,0) -> 0 | BJ124: 1 | BK124: =ROUND(I124*H124,2) -> 0 | BL124: 4 | BM124: -562572123
D125: Online PSC | F125: https://podminky.urs.cz/item/CS_URS_2021_02/998011001 | AT125: Online PSC | AU125: 2
D126: D | E126: PSV | F126: Práce a dodávky PSV | J126: =BK126 -> 0 | P126: =P127+P140+P167+P198+P203+P205+P217+P225+P257+P289 -> 0 | R126: =R127+R140+R167+R198+R203+R205+R217+R225+R257+R289 -> 1.7635561 | T126: =T127+T140+T167+T198+T203+T205+T217+T225+T257+T289 -> 2.8554998 | AR126: 2 | AT126: D | AU126: 0 | AY126: ROZPOCET | BK126: =BK127+BK140+BK167+BK198+BK203+BK205+BK217+BK225+BK257+BK289 -> 0
D127: D | E127: 721 | F127: Zdravotechnika - vnitřní kanalizace | J127: =BK127 -> 0 | P127: =SUM(P128:P139) -> 0 | R127: =SUM(R128:R139) -> 0.00857 | T127: =SUM(T128:T139) -> 0 | AR127: 2 | AT127: D | AU127: 1 | AY127: ROZPOCET | BK127: =SUM(BK128:BK139) -> 0
C128: 10 | D128: K | E128: 721174042 | F128: Potrubí z trub polypropylenových připojovací DN 40 | G128: m | H128: 5 | J128: =ROUND(I128*H128,2) -> 0 | K128: CS ÚRS 2021 02 | N128: základní | P128: =O128*H128 -> 0 | Q128: 0.00041 | R128: =Q128*H128 -> 0.00205 | S128: 0 | T128: =S128*H128 -> 0 | AR128: 16 | AT128: K | AU128: 2 | AY128: ROZPOCET | BE128: =IF(N128="základní",J128,0) -> 0 | BF128: =IF(N128="snížená",J128,0) -> 0 | BG128: =IF(N128="zákl. přenesená",J128,0) -> 0 | BH128: =IF(N128="sníž. přenesená",J128,0) -> 0 | BI128: =IF(N128="nulová",J128,0) -> 0 | BJ128: 1 | BK128: =ROUND(I128*H128,2) -> 0 | BL128: 16 | BM128: 1361580949
D129: Online PSC | F129: https://podminky.urs.cz/item/CS_URS_2021_02/721174042 | AT129: Online PSC | AU129: 2
C130: 11 | D130: K | E130: 721174043 | F130: Potrubí z trub polypropylenových připojovací DN 50 | G130: m | H130: 8 | J130: =ROUND(I130*H130,2) -> 0 | K130: CS ÚRS 2021 02 | N130: základní | P130: =O130*H130 -> 0 | Q130: 0.00048 | R130: =Q130*H130 -> 0.00384 | S130: 0 | T130: =S130*H130 -> 0 | AR130: 16 | AT130: K | AU130: 2 | AY130: ROZPOCET | BE130: =IF(N130="základní",J130,0) -> 0 | BF130: =IF(N130="snížená",J130,0) -> 0 | BG130: =IF(N130="zákl. přenesená",J130,0) -> 0 | BH130: =IF(N130="sníž. přenesená",J130,0) -> 0 | BI130: =IF(N130="nulová",J130,0) -> 0 | BJ130: 1 | BK130: =ROUND(I130*H130,2) -> 0 | BL130: 16 | BM130: 1580150400
D131: Online PSC | F131: https://podminky.urs.cz/item/CS_URS_2021_02/721174043 | AT131: Online PSC | AU131: 2
C132: 12 | D132: K | E132: 721174045 | F132: Potrubí z trub polypropylenových připojovací DN 110 | G132: m | H132: 1 | J132: =ROUND(I132*H132,2) -> 0 | K132: CS ÚRS 2021 02 | N132: základní | P132: =O132*H132 -> 0 | Q132: 0.00224 | R132: =Q132*H132 -> 0.00224 | S132: 0 | T132: =S132*H132 -> 0 | AR132: 16 | AT132: K | AU132: 2 | AY132: ROZPOCET | BE132: =IF(N132="základní",J132,0) -> 0 | BF132: =IF(N132="snížená",J132,0) -> 0 | BG132: =IF(N132="zákl. přenesená",J132,0) -> 0 | BH132: =IF(N132="sníž. přenesená",J132,0) -> 0 | BI132: =IF(N132="nulová",J132,0) -> 0 | BJ132: 1 | BK132: =ROUND(I132*H132,2) -> 0 | BL132: 16 | BM132: -457523532
D133: Online PSC | F133: https://podminky.urs.cz/item/CS_URS_2021_02/721174045 | AT133: Online PSC | AU133: 2
...

Sheet VON - Vedlejší a ostatní ...
AT2: {80446af6-3aaf-4a90-beb1-bb56c8ef3756}
AT3: 2
D4: KRYCÍ LIST SOUPISU PRACÍ | M4: v --- níže se nacházejí doplnkové a pomocné údaje k sestavám --- v | AT4: False
D6: Stavba:
E7: ='Rekapitulace stavby'!K6 -> oprava sociálních zařízení b.j. OŘ Olomouc
D8: Objekt:
E9: VON - Vedlejší a ostatní náklady
D11: KSO: | I11: CC-CZ:
D12: Místo: | I12: Datum: | J12: ='Rekapitulace stavby'!AN8 -> 0
D14: Zadavatel: | I14: IČ: | J14: =IF('Rekapitulace stavby'!AN10="","",'Rekapitulace stavby'!AN10)
E15: =IF('Rekapitulace stavby'!E11="","",'Rekapitulace stavby'!E11) | I15: DIČ: | J15: =IF('Rekapitulace stavby'!AN11="","",'Rekapitulace stavby'!AN11)
D17: Uchazeč: | I17: IČ: | J17: ='Rekapitulace stavby'!AN13 -> Vyplň údaj
E18: ='Rekapitulace stavby'!E14 -> Vyplň údaj | I18: DIČ: | J18: ='Rekapitulace stavby'!AN14 -> Vyplň údaj
D20: Projektant: | I20: IČ: | J20: =IF('Rekapitulace stavby'!AN16="","",'Rekapitulace stavby'!AN16)
E21: =IF('Rekapitulace stavby'!E17="","",'Rekapitulace stavby'!E17) | I21: DIČ: | J21: =IF('Rekapitulace stavby'!AN17="","",'Rekapitulace stavby'!AN17)
D23: Zpracovatel: | I23: IČ: | J23: =IF('Rekapitulace stavby'!AN19="","",'Rekapitulace stavby'!AN19)
E24: =IF('Rekapitulace stavby'!E20="","",'Rekapitulace stavby'!E20) | I24: DIČ: | J24: =IF('Rekapitulace stavby'!AN20="","",'Rekapitulace stavby'!AN20)
D26: Poznámka:
D30: Cena bez DPH | J30: =ROUND(J83, 2) -> 0
F32: Základ daně | I32: Sazba daně | J32: Výše daně
D33: DPH | E33: základní | F33: =ROUND((SUM(BE83:BE94)), 2) -> 0 | I33: 0.21 | J33: =ROUND(((SUM(BE83:BE94))*I33), 2) -> 0
E34: snížená | F34: =ROUND((SUM(BF83:BF94)), 2) -> 0 | I34: 0.15 | J34: =ROUND(((SUM(BF83:BF94))*I34), 2) -> 0
E35: zákl. přenesená | F35: =ROUND((SUM(BG83:BG94)), 2) -> 0 | I35: 0.21 | J35: =0 -> 0
E36: sníž. přenesená | F36: =ROUND((SUM(BH83:BH94)), 2) -> 0 | I36: 0.15 | J36: =0 -> 0
E37: nulová | F37: =ROUND((SUM(BI83:BI94)), 2) -> 0 | I37: 0 | J37: =0 -> 0
D39: Cena s DPH | G39: v | H39: CZK | J39: =SUM(J30:J37) -> 0
C45: REKAPITULACE ČLENĚNÍ SOUPISU PRACÍ
C47: Stavba:
E48: =E7 -> oprava sociálních zařízení b.j. OŘ Olomouc
C49: Objekt:
E50: =E9 -> VON - Vedlejší a ostatní náklady
C52: Místo: | F52: =F12 | I52: Datum: | J52: =IF(J12="","",J12) -> 0
C54: Zadavatel: | F54: =E15 | I54: Projektant: | J54: =E21
C55: Uchazeč: | F55: =IF(E18="","",E18) -> Vyplň údaj | I55: Zpracovatel: | J55: =E24
C57: Kód dílu - Popis | J57: Cena celkem [CZK]
C59: Náklady stavby celkem | J59: =J83 -> 0 | AU59: -1
D60: VRN - Vedlejší rozpočtové náklady | J60: =J84 -> 0
D61: VRN3 - Zařízení staveniště | J61: =J85 -> 0
D62: VRN4 - Inženýrská činnost | J62: =J88 -> 0
D63: VRN7 - Provozní vlivy | J63: =J91 -> 0
C70: SOUPIS PRACÍ
C72: Stavba:
E73: =E7 -> oprava sociálních zařízení b.j. OŘ Olomouc
C74: Objekt:
E75: =E9 -> VON - Vedlejší a ostatní náklady
C77: Místo: | F77: =F12 | I77: Datum: | J77: =IF(J12="","",J12) -> 0
C79: Zadavatel: | F79: =E15 | I79: Projektant: | J79: =E21
C80: Uchazeč: | F80: =IF(E18="","",E18) -> Vyplň údaj | I80: Zpracovatel: | J80: =E24
C82: PČ | D82: Typ | E82: Kód | F82: Popis | G82: MJ | H82: Množství | I82: J.cena [CZK] | J82: Cena celkem [CZK] | K82: Cenová soustava | N82: DPH | O82: J. Nh [h] | P82: Nh celkem [h] | Q82: J. hmotnost [t] | R82: Hmotnost celkem [t] | S82: J. suť [t] | T82: Suť Celkem [t]
C83: Náklady soupisu celkem | J83: =BK83 -> 0 | P83: =P84 -> 0 | R83: =R84 -> 0 | T83: =T84 -> 0 | AT83: D | AU83: -1 | BK83: =BK84 -> 0
D84: D | E84: VRN | F84: Vedlejší rozpočtové náklady | J84: =BK84 -> 0 | P84: =P85+P88+P91 -> 0 | R84: =R85+R88+R91 -> 0 | T84: =T85+T88+T91 -> 0 | AR84: 5 | AT84: D | AU84: 0 | AY84: ROZPOCET | BK84: =BK85+BK88+BK91 -> 0
D85: D | E85: VRN3 | F85: Zařízení staveniště | J85: =BK85 -> 0 | P85: =SUM(P86:P87) -> 0 | R85: =SUM(R86:R87) -> 0 | T85: =SUM(T86:T87) -> 0 | AR85: 5 | AT85: D | AU85: 1 | AY85: ROZPOCET | BK85: =SUM(BK86:BK87) -> 0
C86: 1 | D86: K | E86: 030001000 | F86: Zařízení staveniště | G86: soub. | H86: 2 | J86: =ROUND(I86*H86,2) -> 0 | K86: CS ÚRS 2021 02 | N86: základní | P86: =O86*H86 -> 0 | Q86: 0 | R86: =Q86*H86 -> 0 | S86: 0 | T86: =S86*H86 -> 0 | AR86: 1024 | AT86: K | AU86: 2 | AY86: ROZPOCET | BE86: =IF(N86="základní",J86,0) -> 0 | BF86: =IF(N86="snížená",J86,0) -> 0 | BG86: =IF(N86="zákl. přenesená",J86,0) -> 0 | BH86: =IF(N86="sníž. přenesená",J86,0) -> 0 | BI86: =IF(N86="nulová",J86,0) -> 0 | BJ86: 1 | BK86: =ROUND(I86*H86,2) -> 0 | BL86: 1024 | BM86: -400651959
D87: Online PSC | F87: https://podminky.urs.cz/item/CS_URS_2021_02/030001000 | AT87: Online PSC | AU87: 2
D88: D | E88: VRN4 | F88: Inženýrská činnost | J88: =BK88 -> 0 | P88: =SUM(P89:P90) -> 0 | R88: =SUM(R89:R90) -> 0 | T88: =SUM(T89:T90) -> 0 | AR88: 5 | AT88: D | AU88: 1 | AY88: ROZPOCET | BK88: =SUM(BK89:BK90) -> 0
C89: 2 | D89: K | E89: 045002000 | F89: Kompletační a koordinační činnost | G89: soub. | H89: 1 | J89: =ROUND(I89*H89,2) -> 0 | K89: CS ÚRS 2021 02 | N89: základní | P89: =O89*H89 -> 0 | Q89: 0 | R89: =Q89*H89 -> 0 | S89: 0 | T89: =S89*H89 -> 0 | AR89: 1024 | AT89: K | AU89: 2 | AY89: ROZPOCET | BE89: =IF(N89="základní",J89,0) -> 0 | BF89: =IF(N89="snížená",J89,0) -> 0 | BG89: =IF(N89="zákl. přenesená",J89,0) -> 0 | BH89: =IF(N89="sníž. přenesená",J89,0) -> 0 | BI89: =IF(N89="nulová",J89,0) -> 0 | BJ89: 1 | BK89: =ROUND(I89*H89,2) -> 0 | BL89: 1024 | BM89: 73390449
D90: Online PSC | F90: https://podminky.urs.cz/item/CS_URS_2021_02/045002000 | AT90: Online PSC | AU90: 2
D91: D | E91: VRN7 | F91: Provozní vlivy | J91: =BK91 -> 0 | P91: =SUM(P92:P94) -> 0 | R91: =SUM(R92:R94) -> 0 | T91: =SUM(T92:T94) -> 0 | AR91: 5 | AT91: D | AU91: 1 | AY91: ROZPOCET | BK91: =SUM(BK92:BK94) -> 0
C92: 3 | D92: K | E92: 070001000 | F92: Provozní vlivy | G92: soub. | H92: 2 | J92: =ROUND(I92*H92,2) -> 0 | K92: CS ÚRS 2021 02 | N92: základní | P92: =O92*H92 -> 0 | Q92: 0 | R92: =Q92*H92 -> 0 | S92: 0 | T92: =S92*H92 -> 0 | AR92: 1024 | AT92: K | AU92: 2 | AY92: ROZPOCET | BE92: =IF(N92="základní",J92,0) -> 0 | BF92: =IF(N92="snížená",J92,0) -> 0 | BG92: =IF(N92="zákl. přenesená",J92,0) -> 0 | BH92: =IF(N92="sníž. přenesená",J92,0) -> 0 | BI92: =IF(N92="nulová",J92,0) -> 0 | BJ92: 1 | BK92: =ROUND(I92*H92,2) -> 0 | BL92: 1024 | BM92: 248429476
D93: Online PSC | F93: https://podminky.urs.cz/item/CS_URS_2021_02/070001000 | AT93: Online PSC | AU93: 2
D94: P | F94: Poznámka k položce:_x000D_ oprava bude probíhat za provozu je nutné najemníkum zajistit:_x000D_ dodávku pitné i užitkové vody v době odpojení_x000D_ náhradní toalety_x000D_ hygienické zázemí | AT94: P | AU94: 2

Sheet Pokyny pro vyplnění
C3: Struktura údajů, formát souboru a metodika pro zpracování
C4: Struktura
C6: Soubor je složen ze záložky Rekapitulace stavby a záložek s názvem soupisu prací pro jednotlivé objekty ve formátu XLSX. Každá ze záložek přitom obsahuje
C7: ještě samostatné sestavy vymezené orámovaním a nadpisem sestavy.
C9: Rekapitulace stavby obsahuje sestavu Rekapitulace stavby a Rekapitulace objektů stavby a soupisů prací.
D10: V sestavě Rekapitulace stavby jsou uvedeny informace identifikující předmět veřejné zakázky na stavební práce, KSO, CC-CZ, CZ-CPV, CZ-CPA a rekapitulaci
D11: celkové nabídkové ceny uchazeče.
D13: Termínem "uchazeč" (resp. zhotovitel) se myslí "účastník zadávacího řízení" ve smyslu zákona o zadávání veřejných zakázek.
D15: V sestavě Rekapitulace objektů stavby a soupisů prací je uvedena rekapitulace stavebních objektů, inženýrských objektů, provozních souborů,
D16: vedlejších a ostatních nákladů a ostatních nákladů s rekapitulací nabídkové ceny za jednotlivé soupisy prací. Na základě údaje Typ je možné
D17: identifikovat, zda se jedná o objekt nebo soupis prací pro daný objekt:
E18: STA | F18: Stavební objekt pozemní
E19: ING | F19: Stavební objekt inženýrský
E20: PRO | F20: Provozní soubor
E21: VON | F21: Vedlejší a ostatní náklady
E22: OST | F22: Ostatní
E23: Soupis | F23: Soupis prací pro daný typ objektu
C25: Soupis prací pro jednotlivé objekty obsahuje sestavy Krycí list soupisu prací, Rekapitulace členění soupisu prací, Soupis prací. Za soupis prací může být považován
C26: i objekt stavby v případě, že neobsahuje podřízenou zakázku.
D27: Krycí list soupisu obsahuje rekapitulaci informací o předmětu veřejné zakázky ze sestavy Rekapitulace stavby, informaci o zařazení objektu do KSO,
D28: CC-CZ, CZ-CPV, CZ-CPA a rekapitulaci celkové nabídkové ceny uchazeče za aktuální soupis prací.
D30: Rekapitulace členění soupisu prací obsahuje rekapitulaci soupisu prací ve všech úrovních členění soupisu tak, jak byla tato členění použita (např.
D31: stavební díly, funkční díly, případně jiné členění) s rekapitulací nabídkové ceny.
D33: Soupis prací obsahuje položky veškerých stavebních nebo montážních prací, dodávek materiálů a služeb nezbytných pro zhotovení stavebního objektu,
D34: inženýrského objektu, provozního souboru, vedlejších a ostatních nákladů.
D35: Pro položky soupisu prací se zobrazují následující informace:
E36: PČ | G36: Pořadové číslo položky v aktuálním soupisu
E37: TYP | G37: Typ položky: K - konstrukce, M - materiál, PP - plný popis, PSC - poznámka k souboru cen, P - poznámka k položce, VV - výkaz výměr
E38: Kód | G38: Kód položky
E39: Popis | G39: Zkrácený popis položky
E40: MJ | G40: Měrná jednotka položky
E41: Množství | G41: Množství v měrné jednotce
E42: J.cena | G42: Jednotková cena položky. Zadaní může obsahovat namísto J.ceny sloupce J.materiál a J.montáž, jejichž součet definuje
G43: J.cenu položky.
E44: Cena celkem | G44: Celková cena položky daná jako součin množství a j.ceny
E45: Cenová soustava | G45: Příslušnost položky do cenové soustavy
D47: Ke každé položce soupisu prací se na samostatných řádcích může zobrazovat:
E48: Plný popis položky
E49: Poznámka k souboru cen a poznámka zadavatele
E50: Výkaz výměr
D51: Pokud je k řádku výkazu výměr evidovaný údaj ve sloupci Kód, jedná se o definovaný odkaz, na který se může odvolávat výkaz výměr z jiné položky.
C52: Metodika pro zpracování
C54: Jednotlivé sestavy jsou v souboru provázány. Editovatelné pole jsou zvýrazněny žlutým podbarvením, ostatní pole neslouží k editaci a nesmí být jakkoliv
C55: modifikovány.
C57: Uchazeč je pro podání nabídky povinen vyplnit žlutě podbarvená pole:
D58: Pole Uchazeč v sestavě Rekapitulace stavby - zde uchazeč vyplní svůj název (název subjektu)
D59: Pole IČ a DIČ v sestavě Rekapitulace stavby - zde uchazeč vyplní svoje IČ a DIČ
D60: Datum v sestavě Rekapitulace stavby - zde uchazeč vyplní datum vytvoření nabídky
D61: J.cena = jednotková cena v sestavě Soupis prací o maximálním počtu desetinných míst uvedených v poli
D62: - pokud sestavy soupisů prací obsahují pole J.cena, měla by být všechna tato pole vyplněna nenulovými
D63: Poznámka - nepovinný údaj pro položku soupisu
D65: V případě, že sestavy soupisů prací neobsahují pole J.cena, potom ve všech soupisech prací obsahují pole:
D66: - J.materiál - jednotková cena materiálu
D67: - J.montáž - jednotková cena montáže
D68: Uchazeč v tomto případě by měl vyplnit všechna pole J.materiál a pole J.montáž nenulovými kladnými číslicemi. V případech, kdy položka
D69: neobsahuje žádný materiál je přípustné, aby pole J.materiál bylo vyplněno nulou. V případech, kdy položka neobsahuje žádnou montáž je přípustné,
D70: aby pole J.montáž bylo vyplněno nulou. Obě pole - J.materiál, J.Montáž u jedné položky by však neměly být vyplněny nulou.
C75: Rekapitulace stavby
C76: Název | F76: Povinný | H76: Popis | I76: Typ | J76: Max. počet
C77: atributu | F77: (A/N) | J77: znaků
C79: Kód | F79: A | H79: Kód stavby | I79: String | J79: 20
C80: Stavba | F80: A | H80: Název stavby | I80: String | J80: 120
C81: Místo | F81: N | H81: Místo stavby | I81: String | J81: 50
C82: Datum | F82: A | H82: Datum vykonaného exportu | I82: Date
C83: KSO | F83: N | H83: Klasifikace stavebního objektu | I83: String | J83: 15
C84: CC-CZ | F84: N | H84: Klasifikace stavbeních děl | I84: String | J84: 15
C85: CZ-CPV | F85: N | H85: Společný slovník pro veřejné zakázky | I85: String | J85: 20
C86: CZ-CPA | F86: N | H86: Klasifikace produkce podle činností | I86: String | J86: 20
C87: Zadavatel | F87: N | H87: Zadavatel zadaní | I87: String | J87: 50
C88: IČ | F88: N | H88: IČ zadavatele zadaní | I88: String | J88: 20
C89: DIČ | F89: N | H89: DIČ zadavatele zadaní | I89: String | J89: 20
C90: Uchazeč | F90: N | H90: Uchazeč veřejné zakázky | I90: String | J90: 50
C91: Projektant | F91: N | H91: Projektant | I91: String | J91: 50
C92: Poznámka | F92: N | H92: Poznámka k zadání | I92: String | J92: 255
C93: Sazba DPH | F93: A | H93: Rekapitulace sazeb DPH u položek soupisů | I93: eGSazbaDph
C94: Základna DPH | F94: A | H94: Základna DPH určena součtem celkové ceny z položek soupisů | I94: Double
C95: Hodnota DPH | F95: A | H95: Hodnota DPH | I95: Double
C96: Cena bez DPH | F96: A | H96: Celková cena bez DPH za celou stavbu. Sčítává se ze všech listů. | I96: Double
C97: Cena s DPH | F97: A | H97: Celková cena s DPH za celou stavbu | I97: Double
C102: Rekapitulace objektů stavby a soupisů prací
C103: Název | F103: Povinný | H103: Popis | I103: Typ | J103: Max. počet
C104: atributu | F104: (A/N) | J104: znaků
C106: Kód | F106: A | H106: Přebírá se z Rekapitulace stavby | I106: String | J106: 20
C107: Stavba | F107: A | H107: Přebírá se z Rekapitulace stavby | I107: String | J107: 120
C108: Místo | F108: N | H108: Přebírá se z Rekapitulace stavby | I108: String | J108: 50
C109: Datum | F109: A | H109: Přebírá se z Rekapitulace stavby | I109: Date
C110: Zadavatel | F110: N | H110: Přebírá se z Rekapitulace stavby | I110: String | J110: 50
C111: Projektant | F111: N | H111: Přebírá se z Rekapitulace stavby | I111: String | J111: 50
C112: Uchazeč | F112: N | H112: Přebírá se z Rekapitulace stavby | I112: String | J112: 50
C113: Kód | F113: A | H113: Kód objektu | I113: String | J113: 20
C114: Objektu, Soupis prací | F114: A | H114: Název objektu | I114: String | J114: 120
C115: Cena bez DPH | F115: A | H115: Cena bez DPH za daný objekt | I115: Double
C116: Cena s DPH | F116: A | H116: Cena spolu s DPH za daný objekt | I116: Double
C117: Typ | F117: A | H117: Typ zakázky | I117: eGTypZakazky
C122: Krycí list soupisu
C123: Název | F123: Povinný | H123: Popis | I123: Typ | J123: Max. počet
C124: atributu | F124: (A/N) | J124: znaků
C126: Stavba | F126: A | H126: Přebírá se z Rekapitulace stavby | I126: String | J126: 120
C127: Objekt | F127: A | H127: Kód a název objektu | I127: String | J127: 20 + 120
C128: Soupis | F128: A | H128: Kód a název soupisu | I128: String | J128: 20 + 120
...
