Workbook

Sheet Rekapitulace stavby
A1: Export VZ | D1: List obsahuje: | K1: 1) Rekapitulace stavby | W1: 2) Rekapitulace objektů stavby a soupisů prací | BA1: 3.0 | BB1: ZAMOK | BT1: False | BU1: False | BV1: {2440a221-d12a-47b7-a967-f365b278c03f}
BS2: 0,01 | BT2: 21
BS3: 0,01 | BT3: 15
D4: REKAPITULACE STAVBY | AS4: v --- níže se nacházejí doplnkové a pomocné údaje k sestavám --- v | BE4: Návod na vyplnění | BS4: 0,001
D5: Kód: | K5: 65418068 | BE5: Měnit lze pouze buňky se žlutým podbarvením!_x000D_ _x000D_ 1) v Rekapitulaci stavby vyplňte údaje o Uchazeči (přenesou se do ostatních sestav i v jiných listech)_x000D_ _x000D_ 2) na vybraných listech vyplňte v sestavě Soupis prací ceny u položek_x000D_ _x000D_ Podrobnosti k vyplnění naleznete na poslední záložce s Pokyny pro vyplnění | BS5: 0,01
D6: Stavba: | K6: Rekonstrukce budovy OŘ Tragerova ul, ČB - II. Etapa | BS6: 0,01
D7: KSO: | AK7: CC-CZ: | BS7: 0,01
D8: Místo: | AK8: Datum: | AN8: 4.4.2018 | BS8: 0,01
BS9: 0,01
D10: Zadavatel: | AK10: IČ: | BS10: 0,01
AK11: DIČ: | BS11: 0,01
BS12: 0,01
D13: Uchazeč: | AK13: IČ: | AN13: Vyplň údaj | BS13: 0,01
E14: Vyplň údaj | AK14: DIČ: | AN14: Vyplň údaj | BS14: 0,01
BS15: False
D16: Projektant: | AK16: IČ: | BS16: False
AK17: DIČ: | BS17: True
BS18: 0,01
D19: Poznámka: | BS19: 0,01
BS20: False
D23: Cena bez DPH | AK23: =ROUND(AG51,2) -> 0
L25: Sazba daně | W25: Základ daně | AK25: Výše daně
D26: DPH | F26: základní | L26: 0.21 | W26: =ROUND(AZ51,2) -> 0 | AK26: =ROUND(AV51,2) -> 0
F27: snížená | L27: 0.15 | W27: =ROUND(BA51,2) -> 0 | AK27: =ROUND(AW51,2) -> 0
D28: DPH | F28: zákl. přenesená | L28: 0.21 | W28: =ROUND(BB51,2) -> 0 | AK28: 0
F29: sníž. přenesená | L29: 0.15 | W29: =ROUND(BC51,2) -> 0 | AK29: 0
F30: nulová | L30: 0 | W30: =ROUND(BD51,2) -> 0 | AK30: 0
D32: Cena s DPH | T32: v | X32: CZK | AK32: =SUM(AK23:AK30) -> 0
C39: REKAPITULACE OBJEKTŮ STAVBY A SOUPISŮ PRACÍ
C41: Kód: | L41: =K5 -> 65418068
C42: Stavba: | L42: =K6 -> Rekonstrukce budovy OŘ Tragerova ul, ČB - II. Etapa
C44: Místo: | L44: =IF(K8="","",K8) | AI44: Datum: | AM44: =IF(AN8= "","",AN8) -> 4.4.2018
C46: Zadavatel: | L46: =IF(E11= "","",E11) | AI46: Projektant: | AM46: =IF(E17="","",E17) | AS46: Informatívní údaje z listů zakázek
C47: Uchazeč: | L47: =IF(E14= "Vyplň údaj","",E14)
C49: Kód | I49: Objekt, Soupis prací | AG49: Cena bez DPH [CZK] | AN49: Cena s DPH [CZK] | AQ49: Typ | AS49: z toho Ostat._x000D_ náklady [CZK] | AT49: DPH [CZK] | AU49: Normohodiny [h] | AV49: DPH základní [CZK] | AW49: DPH snížená [CZK] | AX49: DPH základní přenesená_x000D_ [CZK] | AY49: DPH snížená přenesená_x000D_ [CZK] | AZ49: Základna_x000D_ DPH základní | BA49: Základna_x000D_ DPH snížená | BB49: Základna_x000D_ DPH zákl. přenesená | BC49: Základna_x000D_ DPH sníž. přenesená | BD49: Základna_x000D_ DPH nulová
C51: Náklady stavby celkem | AG51: =ROUND(AG52,2) -> 0 | AN51: =SUM(AG51,AT51) -> 0 | AS51: =ROUND(AS52,2) -> 0 | AT51: =ROUND(SUM(AV51:AW51),2) -> 0 | AU51: =ROUND(AU52,5) -> 0 | AV51: =ROUND(AZ51*L26,2) -> 0 | AW51: =ROUND(BA51*L27,2) -> 0 | AX51: =ROUND(BB51*L26,2) -> 0 | AY51: =ROUND(BC51*L27,2) -> 0 | AZ51: =ROUND(AZ52,2) -> 0 | BA51: =ROUND(BA52,2) -> 0 | BB51: =ROUND(BB52,2) -> 0 | BC51: =ROUND(BC52,2) -> 0 | BD51: =ROUND(BD52,2) -> 0 | BS51: D | BT51: 0 | BU51: ###NOIMPORT### | BV51: IMPORT | BW51: {2440a221-d12a-47b7-a967-f365b278c03f} | BX51: {00000000-0000-0000-0000-000000000000}
A52: / | D52: 65418068 | J52: Rekonstrukce budovy OR Tragerova ul, ČB - II. Etapa | AG52: ='65418068 - Rekonstrukce b...'!J27 -> 0 | AN52: =SUM(AG52,AT52) -> 0 | AQ52: STA | AS52: 0 | AT52: =ROUND(SUM(AV52:AW52),2) -> 0 | AU52: ='65418068 - Rekonstrukce b...'!P99 -> 0 | AV52: ='65418068 - Rekonstrukce b...'!J30 -> 0 | AW52: ='65418068 - Rekonstrukce b...'!J31 -> 0 | AX52: ='65418068 - Rekonstrukce b...'!J32 -> 0 | AY52: ='65418068 - Rekonstrukce b...'!J33 -> 0 | AZ52: ='65418068 - Rekonstrukce b...'!F30 -> 0 | BA52: ='65418068 - Rekonstrukce b...'!F31 -> 0 | BB52: ='65418068 - Rekonstrukce b...'!F32 -> 0 | BC52: ='65418068 - Rekonstrukce b...'!F33 -> 0 | BD52: ='65418068 - Rekonstrukce b...'!F34 -> 0 | BT52: 1 | BV52: IMPORT | BW52: {191b8c28-4d93-468b-874f-cab6e83fa87c} | BX52: {2440a221-d12a-47b7-a967-f365b278c03f} | CM52: 2

Sheet 65418068 - Rekonstrukce b...
D1: List obsahuje: | F1: 1) Krycí list soupisu | G1: 2) Rekapitulace | J1: 3) Soupis prací | K1: Zpět na list: | L1: Rekapitulace stavby
AT2: {191b8c28-4d93-468b-874f-cab6e83fa87c}
AT3: 2
D4: KRYCÍ LIST SOUPISU | M4: v --- níže se nacházejí doplnkové a pomocné údaje k sestavám --- v | AT4: True
D6: Stavba:
E7: ='Rekapitulace stavby'!K6 -> Rekonstrukce budovy OŘ Tragerova ul, ČB - II. Etapa
D8: Objekt:
E9: 65418068 - Rekonstrukce budovy OR Tragerova ul, ČB - II. Etapa
D11: KSO: | I11: CC-CZ:
D12: Místo: | F12: ul. A. Trägera 2849/90, České Budějovice | I12: Datum: | J12: ='Rekapitulace stavby'!AN8 -> 4.4.2018
D14: Zadavatel: | I14: IČ:
E15: Správa železniční dopravní cesty, s.o | I15: DIČ:
D17: Uchazeč: | I17: IČ: | J17: =IF('Rekapitulace stavby'!AN13="Vyplň údaj","",IF('Rekapitulace stavby'!AN13="","",'Rekapitulace stavby'!AN13))
E18: =IF('Rekapitulace stavby'!E14="Vyplň údaj","",IF('Rekapitulace stavby'!E14="","",'Rekapitulace stavby'!E14)) | I18: DIČ: | J18: =IF('Rekapitulace stavby'!AN14="Vyplň údaj","",IF('Rekapitulace stavby'!AN14="","",'Rekapitulace stavby'!AN14))
D20: Projektant: | I20: IČ:
I21: DIČ:
D23: Poznámka:
D27: Cena bez DPH | J27: =ROUND(J99,2) -> 0
F29: Základ daně | I29: Sazba daně | J29: Výše daně
D30: DPH | E30: základní | F30: =ROUND(SUM(BE99:BE371), 2) -> 0 | I30: 0.21 | J30: =ROUND(ROUND((SUM(BE99:BE371)), 2)*I30, 2) -> 0
E31: snížená | F31: =ROUND(SUM(BF99:BF371), 2) -> 0 | I31: 0.15 | J31: =ROUND(ROUND((SUM(BF99:BF371)), 2)*I31, 2) -> 0
D32: DPH | E32: zákl. přenesená | F32: =ROUND(SUM(BG99:BG371), 2) -> 0 | I32: 0.21 | J32: 0
E33: sníž. přenesená | F33: =ROUND(SUM(BH99:BH371), 2) -> 0 | I33: 0.15 | J33: 0
E34: nulová | F34: =ROUND(SUM(BI99:BI371), 2) -> 0 | I34: 0 | J34: 0
D36: Cena s DPH | G36: v | H36: CZK | J36: =SUM(J27:J34) -> 0
C42: REKAPITULACE ČLENĚNÍ SOUPISU PRACÍ
C44: Stavba:
E45: =E7 -> Rekonstrukce budovy OŘ Tragerova ul, ČB - II. Etapa
C46: Objekt:
E47: =E9 -> 65418068 - Rekonstrukce budovy OR Tragerova ul, ČB - II. Etapa
C49: Místo: | F49: =F12 -> ul. A. Trägera 2849/90, České Budějovice | I49: Datum: | J49: =IF(J12="","",J12) -> 4.4.2018
C51: Zadavatel: | F51: =E15 -> Správa železniční dopravní cesty, s.o | I51: Projektant: | J51: =E21
C52: Uchazeč: | F52: =IF(E18="","",E18)
C54: Kód dílu - Popis | J54: Cena celkem [CZK]
C56: Náklady soupisu celkem | J56: =J99 -> 0 | AU56: -1
D57: HSV - Práce a dodávky HSV | J57: =J100 -> 0
D58: 1 - Zemní práce | J58: =J101 -> 0
D59: 2 - Zakládání | J59: =J124 -> 0
D60: 3 - Svislé a kompletní konstrukce | J60: =J133 -> 0
D61: 4 - Vodorovné konstrukce | J61: =J136 -> 0
D62: 6 - Úpravy povrchů, podlahy a osazování výplní | J62: =J140 -> 0
D63: 9 - Ostatní konstrukce a práce, bourání | J63: =J215 -> 0
D64: 997 - Přesun sutě | J64: =J249 -> 0
D65: 998 - Přesun hmot | J65: =J254 -> 0
D66: PSV - Práce a dodávky PSV | J66: =J256 -> 0
D67: 712 - Povlakové krytiny | J67: =J257 -> 0
D68: 713 - Izolace tepelné | J68: =J269 -> 0
D69: 721 - Zdravotechnika | J69: =J281 -> 0
D70: 741 - Elektroinstalace | J70: =J285 -> 0
D71: 742 - Elektroinstalace | J71: =J288 -> 0
D72: 764 - Konstrukce klempířské | J72: =J290 -> 0
D73: 767 - Konstrukce zámečnické | J73: =J326 -> 0
D74: 783 - Dokončovací práce | J74: =J344 -> 0
D75: 786 - Dokončovací práce | J75: =J352 -> 0
D76: HZS - Hodinové zúčtovací sazby | J76: =J356 -> 0
D77: VRN - Vedlejší rozpočtové náklady | J77: =J367 -> 0
D78: VRN1 - Průzkumné, geodetické a projektové práce | J78: =J368 -> 0
D79: VRN4 - Inženýrská činnost | J79: =J370 -> 0
C86: SOUPIS PRACÍ
C88: Stavba:
E89: =E7 -> Rekonstrukce budovy OŘ Tragerova ul, ČB - II. Etapa
C90: Objekt:
E91: =E9 -> 65418068 - Rekonstrukce budovy OR Tragerova ul, ČB - II. Etapa
C93: Místo: | F93: =F12 -> ul. A. Trägera 2849/90, České Budějovice | I93: Datum: | J93: =IF(J12="","",J12) -> 4.4.2018
C95: Zadavatel: | F95: =E15 -> Správa železniční dopravní cesty, s.o | I95: Projektant: | J95: =E21
C96: Uchazeč: | F96: =IF(E18="","",E18)
C98: PČ | D98: Typ | E98: Kód | F98: Popis | G98: MJ | H98: Množství | I98: J.cena [CZK] | J98: Cena celkem [CZK] | K98: Cenová soustava | M98: Poznámka | N98: DPH | O98: J. Nh [h] | P98: Nh celkem [h] | Q98: J. hmotnost_x000D_ [t] | R98: Hmotnost_x000D_ celkem [t] | S98: J. suť [t] | T98: Suť Celkem [t]
C99: Náklady soupisu celkem | J99: =BK99 -> 0 | P99: =P100+P256+P356+P367 -> 0 | R99: =R100+R256+R356+R367 -> 81.767543 | T99: =T100+T256+T356+T367 -> 31.507873 | AT99: D | AU99: -1 | BK99: =BK100+BK256+BK356+BK367 -> 0
D100: D | E100: HSV | F100: Práce a dodávky HSV | J100: =BK100 -> 0 | P100: =P101+P124+P133+P136+P140+P215+P249+P254 -> 0 | R100: =R101+R124+R133+R136+R140+R215+R249+R254 -> 72.502867 | T100: =T101+T124+T133+T136+T140+T215+T249+T254 -> 24.502378 | AR100: 1 | AT100: D | AU100: 0 | AY100: ROZPOCET | BK100: =BK101+BK124+BK133+BK136+BK140+BK215+BK249+BK254 -> 0
D101: D | E101: 1 | F101: Zemní práce | J101: =BK101 -> 0 | P101: =SUM(P102:P123) -> 0 | R101: =SUM(R102:R123) -> 0 | T101: =SUM(T102:T123) -> 0 | AR101: 1 | AT101: D | AU101: 1 | AY101: ROZPOCET | BK101: =SUM(BK102:BK123) -> 0
C102: 1 | D102: K | E102: 132201101 | F102: Hloubení rýh š do 600 mm v hornině tř. 3 objemu do 100 m3 | G102: m3 | H102: 131.964 | J102: =ROUND(I102*H102,2) -> 0 | N102: zákl. přenesená | P102: =O102*H102 -> 0 | Q102: 0 | R102: =Q102*H102 -> 0 | S102: 0 | T102: =S102*H102 -> 0 | AR102: 4 | AT102: K | AU102: 2 | AY102: ROZPOCET | BE102: =IF(N102="základní",J102,0) -> 0 | BF102: =IF(N102="snížená",J102,0) -> 0 | BG102: =IF(N102="zákl. přenesená",J102,0) -> 0 | BH102: =IF(N102="sníž. přenesená",J102,0) -> 0 | BI102: =IF(N102="nulová",J102,0) -> 0 | BJ102: 4 | BK102: =ROUND(I102*H102,2) -> 0 | BL102: 4 | BM102: -193515359
D103: VV | F103: RÝHA PRO ZATAŽENÍ KZS - SOKL | AT103: VV | AU103: 2 | AV103: 1 | AW103: True | AX103: 0 | AY103: ROZPOCET
D104: VV | F104: 15,94*0,6*0,5*2 | H104: 9.564 | AT104: VV | AU104: 2 | AV104: 2 | AW104: True | AX104: 0 | AY104: ROZPOCET
D105: VV | F105: 43*0,6*0,5*2 | H105: 25.8 | AT105: VV | AU105: 2 | AV105: 2 | AW105: True | AX105: 0 | AY105: ROZPOCET
D106: VV | F106: RÝHA HROMOSVOD | AT106: VV | AU106: 2 | AV106: 1 | AW106: True | AX106: 0 | AY106: ROZPOCET
D107: VV | F107: (2*50+2*20)*0,6*1 + 3,5*0,6*1*6 | H107: 96.6 | AT107: VV | AU107: 2 | AV107: 2 | AW107: True | AX107: 0 | AY107: ROZPOCET
D108: VV | F108: Součet | H108: 131.964 | AT108: VV | AU108: 2 | AV108: 4 | AW108: True | AX108: 1 | AY108: ROZPOCET
C109: 2 | D109: K | E109: 132201109 | F109: Příplatek za lepivost k hloubení rýh š do 600 mm v hornině tř. 3 | G109: m3 | H109: 131.964 | J109: =ROUND(I109*H109,2) -> 0 | N109: zákl. přenesená | P109: =O109*H109 -> 0 | Q109: 0 | R109: =Q109*H109 -> 0 | S109: 0 | T109: =S109*H109 -> 0 | AR109: 4 | AT109: K | AU109: 2 | AY109: ROZPOCET | BE109: =IF(N109="základní",J109,0) -> 0 | BF109: =IF(N109="snížená",J109,0) -> 0 | BG109: =IF(N109="zákl. přenesená",J109,0) -> 0 | BH109: =IF(N109="sníž. přenesená",J109,0) -> 0 | BI109: =IF(N109="nulová",J109,0) -> 0 | BJ109: 4 | BK109: =ROUND(I109*H109,2) -> 0 | BL109: 4 | BM109: -94805259
C110: 3 | D110: K | E110: 162701105 | F110: Vodorovné přemístění do 10000 m výkopku/sypaniny z horniny tř. 1 až 4 | G110: m3 | H110: 4.715 | J110: =ROUND(I110*H110,2) -> 0 | N110: zákl. přenesená | P110: =O110*H110 -> 0 | Q110: 0 | R110: =Q110*H110 -> 0 | S110: 0 | T110: =S110*H110 -> 0 | AR110: 4 | AT110: K | AU110: 2 | AY110: ROZPOCET | BE110: =IF(N110="základní",J110,0) -> 0 | BF110: =IF(N110="snížená",J110,0) -> 0 | BG110: =IF(N110="zákl. přenesená",J110,0) -> 0 | BH110: =IF(N110="sníž. přenesená",J110,0) -> 0 | BI110: =IF(N110="nulová",J110,0) -> 0 | BJ110: 4 | BK110: =ROUND(I110*H110,2) -> 0 | BL110: 4 | BM110: -1487325106
D111: VV | F111: 131,964-127,249 | H111: 4.715 | AT111: VV | AU111: 2 | AV111: 2 | AW111: True | AX111: 0 | AY111: ROZPOCET
D112: VV | F112: Součet | H112: 4.715 | AT112: VV | AU112: 2 | AV112: 4 | AW112: True | AX112: 1 | AY112: ROZPOCET
C113: 4 | D113: K | E113: 167101101 | F113: Nakládání výkopku z hornin tř. 1 až 4 do 100 m3 | G113: m3 | H113: 4.715 | J113: =ROUND(I113*H113,2) -> 0 | N113: zákl. přenesená | P113: =O113*H113 -> 0 | Q113: 0 | R113: =Q113*H113 -> 0 | S113: 0 | T113: =S113*H113 -> 0 | AR113: 4 | AT113: K | AU113: 2 | AY113: ROZPOCET | BE113: =IF(N113="základní",J113,0) -> 0 | BF113: =IF(N113="snížená",J113,0) -> 0 | BG113: =IF(N113="zákl. přenesená",J113,0) -> 0 | BH113: =IF(N113="sníž. přenesená",J113,0) -> 0 | BI113: =IF(N113="nulová",J113,0) -> 0 | BJ113: 4 | BK113: =ROUND(I113*H113,2) -> 0 | BL113: 4 | BM113: 661853735
C114: 5 | D114: K | E114: 171201201 | F114: Uložení sypaniny na skládky | G114: m3 | H114: 4.715 | J114: =ROUND(I114*H114,2) -> 0 | N114: zákl. přenesená | P114: =O114*H114 -> 0 | Q114: 0 | R114: =Q114*H114 -> 0 | S114: 0 | T114: =S114*H114 -> 0 | AR114: 4 | AT114: K | AU114: 2 | AY114: ROZPOCET | BE114: =IF(N114="základní",J114,0) -> 0 | BF114: =IF(N114="snížená",J114,0) -> 0 | BG114: =IF(N114="zákl. přenesená",J114,0) -> 0 | BH114: =IF(N114="sníž. přenesená",J114,0) -> 0 | BI114: =IF(N114="nulová",J114,0) -> 0 | BJ114: 4 | BK114: =ROUND(I114*H114,2) -> 0 | BL114: 4 | BM114: 1150454278
C115: 6 | D115: K | E115: 171201211 | F115: Poplatek za uložení odpadu ze sypaniny na skládce (skládkovné) | G115: t | H115: 9.43 | J115: =ROUND(I115*H115,2) -> 0 | N115: zákl. přenesená | P115: =O115*H115 -> 0 | Q115: 0 | R115: =Q115*H115 -> 0 | S115: 0 | T115: =S115*H115 -> 0 | AR115: 4 | AT115: K | AU115: 2 | AY115: ROZPOCET | BE115: =IF(N115="základní",J115,0) -> 0 | BF115: =IF(N115="snížená",J115,0) -> 0 | BG115: =IF(N115="zákl. přenesená",J115,0) -> 0 | BH115: =IF(N115="sníž. přenesená",J115,0) -> 0 | BI115: =IF(N115="nulová",J115,0) -> 0 | BJ115: 4 | BK115: =ROUND(I115*H115,2) -> 0 | BL115: 4 | BM115: -320230770
D116: VV | F116: 4,715*2 | H116: 9.43 | AT116: VV | AU116: 2 | AV116: 2 | AW116: True | AX116: 1 | AY116: ROZPOCET
C117: 7 | D117: K | E117: 174101101 | F117: Zásyp jam, šachet rýh nebo kolem objektů sypaninou se zhutněním | G117: m3 | H117: 127.249 | J117: =ROUND(I117*H117,2) -> 0 | N117: zákl. přenesená | P117: =O117*H117 -> 0 | Q117: 0 | R117: =Q117*H117 -> 0 | S117: 0 | T117: =S117*H117 -> 0 | AR117: 4 | AT117: K | AU117: 2 | AY117: ROZPOCET | BE117: =IF(N117="základní",J117,0) -> 0 | BF117: =IF(N117="snížená",J117,0) -> 0 | BG117: =IF(N117="zákl. přenesená",J117,0) -> 0 | BH117: =IF(N117="sníž. přenesená",J117,0) -> 0 | BI117: =IF(N117="nulová",J117,0) -> 0 | BJ117: 4 | BK117: =ROUND(I117*H117,2) -> 0 | BL117: 4 | BM117: -1345304843
D118: VV | F118: ZPĚTNÝ ZÁSYP RÝHY PRO SOKL | AT118: VV | AU118: 2 | AV118: 1 | AW118: True | AX118: 0 | AY118: ROZPOCET
D119: VV | F119: 15,94*0,52*0,5*2 | H119: 8.289 | AT119: VV | AU119: 2 | AV119: 2 | AW119: True | AX119: 0 | AY119: ROZPOCET
D120: VV | F120: 43*0,52*0,5*2 | H120: 22.36 | AT120: VV | AU120: 2 | AV120: 2 | AW120: True | AX120: 0 | AY120: ROZPOCET
D121: VV | F121: RÝHA HROMOSVOD | AT121: VV | AU121: 2 | AV121: 1 | AW121: True | AX121: 0 | AY121: ROZPOCET
D122: VV | F122: (2*50+2*20)*0,6*1 + 3,5*0,6*1*6 | H122: 96.6 | AT122: VV | AU122: 2 | AV122: 2 | AW122: True | AX122: 0 | AY122: ROZPOCET
D123: VV | F123: Součet | H123: 127.249 | AT123: VV | AU123: 2 | AV123: 4 | AW123: True | AX123: 1 | AY123: ROZPOCET
D124: D | E124: 2 | F124: Zakládání | J124: =BK124 -> 0 | P124: =SUM(P125:P132) -> 0 | R124: =SUM(R125:R132) -> 22.763625 | T124: =SUM(T125:T132) -> 0 | AR124: 1 | AT124: D | AU124: 1 | AY124: ROZPOCET | BK124: =SUM(BK125:BK132) -> 0
C125: 8 | D125: K | E125: 273313611 | F125: Základové desky z betonu tř. C 16/20 | G125: m3 | H125: 3.713 | J125: =ROUND(I125*H125,2) -> 0 | N125: zákl. přenesená | P125: =O125*H125 -> 0 | Q125: 2.25634 | R125: =Q125*H125 -> 8.3777904 | S125: 0 | T125: =S125*H125 -> 0 | AR125: 4 | AT125: K | AU125: 2 | AY125: ROZPOCET | BE125: =IF(N125="základní",J125,0) -> 0 | BF125: =IF(N125="snížená",J125,0) -> 0 | BG125: =IF(N125="zákl. přenesená",J125,0) -> 0 | BH125: =IF(N125="sníž. přenesená",J125,0) -> 0 | BI125: =IF(N125="nulová",J125,0) -> 0 | BJ125: 4 | BK125: =ROUND(I125*H125,2) -> 0 | BL125: 4 | BM125: -308478479
D126: VV | F126: NÁJEZD KE GARÁŽÍM | AT126: VV | AU126: 2 | AV126: 1 | AW126: True | AX126: 0 | AY126: ROZPOCET
D127: VV | F127: 11*0,27*2,5/2 | H127: 3.713 | AT127: VV | AU127: 2 | AV127: 2 | AW127: True | AX127: 1 | AY127: ROZPOCET
C128: 9 | D128: K | E128: 275313511 | F128: Základové patky z betonu tř. C 12/15 | G128: m3 | H128: 6.375 | J128: =ROUND(I128*H128,2) -> 0 | N128: zákl. přenesená | P128: =O128*H128 -> 0 | Q128: 2.25634 | R128: =Q128*H128 -> 14.384167 | S128: 0 | T128: =S128*H128 -> 0 | AR128: 4 | AT128: K | AU128: 2 | AY128: ROZPOCET | BE128: =IF(N128="základní",J128,0) -> 0 | BF128: =IF(N128="snížená",J128,0) -> 0 | BG128: =IF(N128="zákl. přenesená",J128,0) -> 0 | BH128: =IF(N128="sníž. přenesená",J128,0) -> 0 | BI128: =IF(N128="nulová",J128,0) -> 0 | BJ128: 4 | BK128: =ROUND(I128*H128,2) -> 0 | BL128: 4 | BM128: 109080761
D129: VV | F129: 36*0,5*0,5*0,5+10*0,5*0,5*0,75"STŘECHA-záchytný systém,klima jetnotky,hromosvod" | H129: 6.375 | AT129: VV | AU129: 2 | AV129: 2 | AW129: True | AX129: 1 | AY129: ROZPOCET
C130: 10 | D130: K | E130: 273351121 | F130: Zřízení bednění základových desek | G130: m2 | H130: 0.675 | J130: =ROUND(I130*H130,2) -> 0 | N130: zákl. přenesená | P130: =O130*H130 -> 0 | Q130: 0.00247 | R130: =Q130*H130 -> 0.00166725 | S130: 0 | T130: =S130*H130 -> 0 | AR130: 4 | AT130: K | AU130: 2 | AY130: ROZPOCET | BE130: =IF(N130="základní",J130,0) -> 0 | BF130: =IF(N130="snížená",J130,0) -> 0 | BG130: =IF(N130="zákl. přenesená",J130,0) -> 0 | BH130: =IF(N130="sníž. přenesená",J130,0) -> 0 | BI130: =IF(N130="nulová",J130,0) -> 0 | BJ130: 4 | BK130: =ROUND(I130*H130,2) -> 0 | BL130: 4 | BM130: 469108218
D131: VV | F131: NÁJEZD KE GARÁŽÍM | AT131: VV | AU131: 2 | AV131: 1 | AW131: True | AX131: 0 | AY131: ROZPOCET
...
