Workbook

Sheet Rekapitulace stavby
A1: Export VZ | D1: List obsahuje: | K1: 1) Rekapitulace stavby | W1: 2) Rekapitulace objektů stavby a soupisů prací | BA1: 3.0 | BB1: ZAMOK | BT1: False | BU1: False | BV1: {2440a221-d12a-47b7-a967-f365b278c03f}
BS2: 0,01 | BT2: 21
BS3: 0,01 | BT3: 15
D4: REKAPITULACE STAVBY | AS4: v --- níže se nacházejí doplnkové a pomocné údaje k sestavám --- v | BE4: Návod na vyplnění | BS4: 0,001
D5: Kód: | K5: 65418068 | BE5: Měnit lze pouze buňky se žlutým podbarvením!_x000D_ _x000D_ 1) v Rekapitulaci stavby vyplňte údaje o Uchazeči (přenesou se do ostatních sestav i v jiných listech)_x000D_ _x000D_ 2) na vybraných listech vyplňte v sestavě Soupis prací ceny u položek_x000D_ _x000D_ Podrobnosti k vyplnění naleznete na poslední záložce s Pokyny pro vyplnění | BS5: 0,01
D6: Stavba: | K6: Rekonstrukce budovy OŘ Tragerova ul, ČB - II. Etapa | BS6: 0,01
D7: KSO: | AK7: CC-CZ: | BS7: 0,01
D8: Místo: | AK8: Datum: | AN8: 4.4.2018 | BS8: 0,01
BS9: 0,01
D10: Zadavatel: | AK10: IČ: | BS10: 0,01
AK11: DIČ: | BS11: 0,01
BS12: 0,01
D13: Uchazeč: | AK13: IČ: | AN13: Vyplň údaj | BS13: 0,01
E14: Vyplň údaj | AK14: DIČ: | AN14: Vyplň údaj | BS14: 0,01
BS15: False
D16: Projektant: | AK16: IČ: | BS16: False
AK17: DIČ: | BS17: True
BS18: 0,01
D19: Poznámka: | BS19: 0,01
BS20: False
D23: Cena bez DPH | AK23: =ROUND(AG51,2) -> 0
L25: Sazba daně | W25: Základ daně | AK25: Výše daně
D26: DPH | F26: základní | L26: 0.21 | W26: =ROUND(AZ51,2) -> 0 | AK26: =ROUND(AV51,2) -> 0
F27: snížená | L27: 0.15 | W27: =ROUND(BA51,2) -> 0 | AK27: =ROUND(AW51,2) -> 0
D28: DPH | F28: zákl. přenesená | L28: 0.21 | W28: =ROUND(BB51,2) -> 0 | AK28: 0
F29: sníž. přenesená | L29: 0.15 | W29: =ROUND(BC51,2) -> 0 | AK29: 0
F30: nulová | L30: 0 | W30: =ROUND(BD51,2) -> 0 | AK30: 0
D32: Cena s DPH | T32: v | X32: CZK | AK32: =SUM(AK23:AK30) -> 0
C39: REKAPITULACE OBJEKTŮ STAVBY A SOUPISŮ PRACÍ
C41: Kód: | L41: =K5 -> 65418068
C42: Stavba: | L42: =K6 -> Rekonstrukce budovy OŘ Tragerova ul, ČB - II. Etapa
C44: Místo: | L44: =IF(K8="","",K8) | AI44: Datum: | AM44: =IF(AN8= "","",AN8) -> 4.4.2018
C46: Zadavatel: | L46: =IF(E11= "","",E11) | AI46: Projektant: | AM46: =IF(E17="","",E17) | AS46: Informatívní údaje z listů zakázek
C47: Uchazeč: | L47: =IF(E14= "Vyplň údaj","",E14)
C49: Kód | I49: Objekt, Soupis prací | AG49: Cena bez DPH [CZK] | AN49: Cena s DPH [CZK] | AQ49: Typ | AS49: z toho Ostat._x000D_ náklady [CZK] | AT49: DPH [CZK] | AU49: Normohodiny [h] | AV49: DPH základní [CZK] | AW49: DPH snížená [CZK] | AX49: DPH základní přenesená_x000D_ [CZK] | AY49: DPH snížená přenesená_x000D_ [CZK] | AZ49: Základna_x000D_ DPH základní | BA49: Základna_x000D_ DPH snížená | BB49: Základna_x000D_ DPH zákl. přenesená | BC49: Základna_x000D_ DPH sníž. přenesená | BD49: Základna_x000D_ DPH nulová
C51: Náklady stavby celkem | AG51: =ROUND(AG52,2) -> 0 | AN51: =SUM(AG51,AT51) -> 0 | AS51: =ROUND(AS52,2) -> 0 | AT51: =ROUND(SUM(AV51:AW51),2) -> 0 | AU51: =ROUND(AU52,5) -> 0 | AV51: =ROUND(AZ51*L26,2) -> 0 | AW51: =ROUND(BA51*L27,2) -> 0 | AX51: =ROUND(BB51*L26,2) -> 0 | AY51: =ROUND(BC51*L27,2) -> 0 | AZ51: =ROUND(AZ52,2) -> 0 | BA51: =ROUND(BA52,2) -> 0 | BB51: =ROUND(BB52,2) -> 0 | BC51: =ROUND(BC52,2) -> 0 | BD51: =ROUND(BD52,2) -> 0 | BS51: D | BT51: 0 | BU51: ###NOIMPORT### | BV51: IMPORT | BW51: {2440a221-d12a-47b7-a967-f365b278c03f} | BX51: {00000000-0000-0000-0000-000000000000}
A52: / | D52: 65418068 | J52: Rekonstrukce budovy OR Tragerova ul, ČB - II. Etapa | AG52: ='65418068 - Rekonstrukce b...'!J27 -> 0 | AN52: =SUM(AG52,AT52) -> 0 | AQ52: STA | AS52: 0 | AT52: =ROUND(SUM(AV52:AW52),2) -> 0 | AU52: ='65418068 - Rekonstrukce b...'!P99 -> 0 | AV52: ='65418068 - Rekonstrukce b...'!J30 -> 0 | AW52: ='65418068 - Rekonstrukce b...'!J31 -> 0 | AX52: ='65418068 - Rekonstrukce b...'!J32 -> 0 | AY52: ='65418068 - Rekonstrukce b...'!J33 -> 0 | AZ52: ='65418068 - Rekonstrukce b...'!F30 -> 0 | BA52: ='65418068 - Rekonstrukce b...'!F31 -> 0 | BB52: ='65418068 - Rekonstrukce b...'!F32 -> 0 | BC52: ='65418068 - Rekonstrukce b...'!F33 -> 0 | BD52: ='65418068 - Rekonstrukce b...'!F34 -> 0 | BT52: 1 | BV52: IMPORT | BW52: {191b8c28-4d93-468b-874f-cab6e83fa87c} | BX52: {2440a221-d12a-47b7-a967-f365b278c03f} | CM52: 2

Sheet 65418068 - Rekonstrukce b...
D1: List obsahuje: | F1: 1) Krycí list soupisu | G1: 2) Rekapitulace | J1: 3) Soupis prací | K1: Zpět na list: | L1: Rekapitulace stavby
AT2: {191b8c28-4d93-468b-874f-cab6e83fa87c}
AT3: 2
D4: KRYCÍ LIST SOUPISU | M4: v --- níže se nacházejí doplnkové a pomocné údaje k sestavám --- v | AT4: True
D6: Stavba:
E7: ='Rekapitulace stavby'!K6 -> Rekonstrukce budovy OŘ Tragerova ul, ČB - II. Etapa
D8: Objekt:
E9: 65418068 - Rekonstrukce budovy OR Tragerova ul, ČB - II. Etapa
D11: KSO: | I11: CC-CZ:
D12: Místo: | F12: ul. A. Trägera 2849/90, České Budějovice | I12: Datum: | J12: ='Rekapitulace stavby'!AN8 -> 4.4.2018
D14: Zadavatel: | I14: IČ:
E15: Správa železniční dopravní cesty, s.o | I15: DIČ:
D17: Uchazeč: | I17: IČ: | J17: =IF('Rekapitulace stavby'!AN13="Vyplň údaj","",IF('Rekapitulace stavby'!AN13="","",'Rekapitulace stavby'!AN13))
E18: =IF('Rekapitulace stavby'!E14="Vyplň údaj","",IF('Rekapitulace stavby'!E14="","",'Rekapitulace stavby'!E14)) | I18: DIČ: | J18: =IF('Rekapitulace stavby'!AN14="Vyplň údaj","",IF('Rekapitulace stavby'!AN14="","",'Rekapitulace stavby'!AN14))
D20: Projektant: | I20: IČ:
I21: DIČ:
D23: Poznámka:
D27: Cena bez DPH | J27: =ROUND(J99,2) -> 0
F29: Základ daně | I29: Sazba daně | J29: Výše daně
D30: DPH | E30: základní | F30: =ROUND(SUM(BE99:BE371), 2) -> 0 | I30: 0.21 | J30: =ROUND(ROUND((SUM(BE99:BE371)), 2)*I30, 2) -> 0
E31: snížená | F31: =ROUND(SUM(BF99:BF371), 2) -> 0 | I31: 0.15 | J31: =ROUND(ROUND((SUM(BF99:BF371)), 2)*I31, 2) -> 0
D32: DPH | E32: zákl. přenesená | F32: =ROUND(SUM(BG99:BG371), 2) -> 0 | I32: 0.21 | J32: 0
E33: sníž. přenesená | F33: =ROUND(SUM(BH99:BH371), 2) -> 0 | I33: 0.15 | J33: 0
E34: nulová | F34: =ROUND(SUM(BI99:BI371), 2) -> 0 | I34: 0 | J34: 0
D36: Cena s DPH | G36: v | H36: CZK | J36: =SUM(J27:J34) -> 0
C42: REKAPITULACE ČLENĚNÍ SOUPISU PRACÍ
C44: Stavba:
E45: =E7 -> Rekonstrukce budovy OŘ Tragerova ul, ČB - II. Etapa
C46: Objekt:
E47: =E9 -> 65418068 - Rekonstrukce budovy OR Tragerova ul, ČB - II. Etapa
C49: Místo: | F49: =F12 -> ul. A. Trägera 2849/90, České Budějovice | I49: Datum: | J49: =IF(J12="","",J12) -> 4.4.2018
C51: Zadavatel: | F51: =E15 -> Správa železniční dopravní cesty, s.o | I51: Projektant: | J51: =E21
C52: Uchazeč: | F52: =IF(E18="","",E18)
C54: Kód dílu - Popis | J54: Cena celkem [CZK]
C56: Náklady soupisu celkem | J56: =J99 -> 0 | AU56: -1
D57: HSV - Práce a dodávky HSV | J57: =J100 -> 0
D58: 1 - Zemní práce | J58: =J101 -> 0
D59: 2 - Zakládání | J59: =J124 -> 0
D60: 3 - Svislé a kompletní konstrukce | J60: =J133 -> 0
D61: 4 - Vodorovné konstrukce | J61: =J136 -> 0
...
