Workbook

Sheet Rekapitulace stavby
A1: Export Komplet | BA1: 2.0 | BB1: ZAMOK | BT1: False | BU1: False | BV1: {092bc950-538c-414a-b369-d388c572eda6}
BS2: 0,01 | BT2: 21
BS3: 0,01 | BT3: 15
D4: REKAPITULACE STAVBY | AS4: v --- níže se nacházejí doplnkové a pomocné údaje k sestavám --- v | BE4: Návod na vyplnění | BS4: 0,001
D5: Kód: | K5: A35 | BE5: Měnit lze pouze buňky se žlutým podbarvením!_x000D_ _x000D_ 1) na prvním listu Rekapitulace stavby vyplňte v sestavě_x000D_ _x000D_ a) Souhrnný list_x000D_ - údaje o Uchazeči_x000D_ (přenesou se do ostatních sestav i v jiných listech)_x000D_ _x000D_ b) Rekapitulace objektů_x000D_ - potřebné Ostatní náklady_x000D_ _x000D_ 2) na vybraných listech vyplňte v sestavě_x000D_ _x000D_ a) Krycí list_x000D_ - údaje o Uchazeči, pokud se liší od údajů o Uchazeči na Souhrnném listu_x000D_ (údaje se přenesou do ostatních sestav v daném listu)_x000D_ _x000D_ b) Rekapitulace rozpočtu_x000D_ - potřebné Ostatní náklady_x000D_ _x000D_ c) Celkové náklady za stavbu_x000D_ - ceny u položek_x000D_ - množství, pokud má žluté podbarvení_x000D_ - a v případě potřeby poznámku (ta je ve skrytém sloupci) | BS5: 0,01
D6: Stavba: | K6: Oprava trati v úseku Kojetín - Valašské Meziříčí | BS6: 0,01
D7: KSO: | AK7: CC-CZ: | BS7: 0,01
D8: Místo: | K8: Kroměříž – Kojetín | AK8: Datum: | AN8: 1. 3. 2021 | BS8: 0,01
BS9: 0,01
D10: Zadavatel: | AK10: IČ: | AN10: 70994234 | BS10: 0,01
E11: Správa železnic, státní organizace | AK11: DIČ: | BS11: 0,01
BS12: 0,01
D13: Uchazeč: | AK13: IČ: | AN13: Vyplň údaj | BS13: 0,01
E14: Vyplň údaj | AK14: DIČ: | AN14: Vyplň údaj | BS14: 0,01
BS15: False
D16: Projektant: | AK16: IČ: | BS16: False
AK17: DIČ: | BS17: True
BS18: 0,01
D19: Zpracovatel: | AK19: IČ: | BS19: 0,01
E20: Jiří Vendel | AK20: DIČ: | BS20: True
D22: Poznámka:
D26: Cena bez DPH | AK26: =ROUND(AG94,2) -> 3275288
L28: Sazba daně | W28: Základ daně | AK28: Výše daně
D29: DPH | F29: základní | L29: 0.21 | W29: =ROUND(AZ94, 2) -> 3275288 | AK29: =ROUND(AV94, 2) -> 687810.48
F30: snížená | L30: 0.15 | W30: =ROUND(BA94, 2) -> 0 | AK30: =ROUND(AW94, 2) -> 0
F31: zákl. přenesená | L31: 0.21 | W31: =ROUND(BB94, 2) -> 0 | AK31: 0
F32: sníž. přenesená | L32: 0.15 | W32: =ROUND(BC94, 2) -> 0 | AK32: 0
F33: nulová | L33: 0 | W33: =ROUND(BD94, 2) -> 0 | AK33: 0
D35: Cena s DPH | T35: v | X35: CZK | AK35: =SUM(AK26:AK33) -> 3963098.5
D49: Projektant | AH49: Zpracovatel
D60: Datum a podpis: | V60: Razítko | AH60: Datum a podpis: | AM60: Razítko
D64: Objednavatel | AH64: Uchazeč
D75: Datum a podpis: | V75: Razítko | AH75: Datum a podpis: | AM75: Razítko
C82: REKAPITULACE OBJEKTŮ STAVBY A SOUPISŮ PRACÍ
C84: Kód: | L84: =K5 -> A35
C85: Stavba: | L85: =K6 -> Oprava trati v úseku Kojetín - Valašské Meziříčí
C87: Místo: | L87: =IF(K8="","",K8) -> Kroměříž – Kojetín | AI87: Datum: | AM87: =IF(AN8= "","",AN8) -> 1. 3. 2021
C89: Zadavatel: | L89: =IF(E11= "","",E11) -> Správa železnic, státní organizace | AI89: Projektant: | AM89: =IF(E17="","",E17) | AS89: Informatívní údaje z listů zakázek
C90: Uchazeč: | L90: =IF(E14= "Vyplň údaj","",E14) | AI90: Zpracovatel: | AM90: =IF(E20="","",E20) -> Jiří Vendel
C92: Kód | I92: Popis | AG92: Cena bez DPH [CZK] | AN92: Cena s DPH [CZK] | AQ92: Typ | AS92: z toho Ostat._x000D_ náklady [CZK] | AT92: DPH [CZK] | AU92: Normohodiny [h] | AV92: DPH základní [CZK] | AW92: DPH snížená [CZK] | AX92: DPH základní přenesená_x000D_ [CZK] | AY92: DPH snížená přenesená_x000D_ [CZK] | AZ92: Základna_x000D_ DPH základní | BA92: Základna_x000D_ DPH snížená | BB92: Základna_x000D_ DPH zákl. přenesená | BC92: Základna_x000D_ DPH sníž. přenesená | BD92: Základna_x000D_ DPH nulová
C94: Náklady z rozpočtů | AG94: =ROUND(SUM(AG95:AG97),2) -> 3275288 | AN94: =SUM(AG94,AT94) -> 3963098.5 | AS94: =ROUND(SUM(AS95:AS97),2) -> 0 | AT94: =ROUND(SUM(AV94:AW94),2) -> 687810.48 | AU94: =ROUND(SUM(AU95:AU97),5) -> 0 | AV94: =ROUND(AZ94*L29,2) -> 687810.48 | AW94: =ROUND(BA94*L30,2) -> 0 | AX94: =ROUND(BB94*L29,2) -> 0 | AY94: =ROUND(BC94*L30,2) -> 0 | AZ94: =ROUND(SUM(AZ95:AZ97),2) -> 3275288 | BA94: =ROUND(SUM(BA95:BA97),2) -> 0 | BB94: =ROUND(SUM(BB95:BB97),2) -> 0 | BC94: =ROUND(SUM(BC95:BC97),2) -> 0 | BD94: =ROUND(SUM(BD95:BD97),2) -> 0 | BS94: D | BT94: 0 | BU94: ###NOIMPORT### | BV94: IMPORT | BW94: {092bc950-538c-414a-b369-d388c572eda6} | BX94: {00000000-0000-0000-0000-000000000000}
A95: / | D95: SO01 | J95: Výměna kolejnic Hradisko – Postoupky | AG95: ='SO01 - Výměna kolejnic Hr...'!J30 -> 3275288 | AN95: =SUM(AG95,AT95) -> 3963098.5 | AQ95: STA | AS95: 0 | AT95: =ROUND(SUM(AV95:AW95),2) -> 687810.48 | AU95: ='SO01 - Výměna kolejnic Hr...'!P121 -> 0 | AV95: ='SO01 - Výměna kolejnic Hr...'!J33 -> 687810.48 | AW95: ='SO01 - Výměna kolejnic Hr...'!J34 -> 0 | AX95: ='SO01 - Výměna kolejnic Hr...'!J35 -> 0 | AY95: ='SO01 - Výměna kolejnic Hr...'!J36 -> 0 | AZ95: ='SO01 - Výměna kolejnic Hr...'!F33 -> 3275288 | BA95: ='SO01 - Výměna kolejnic Hr...'!F34 -> 0 | BB95: ='SO01 - Výměna kolejnic Hr...'!F35 -> 0 | BC95: ='SO01 - Výměna kolejnic Hr...'!F36 -> 0 | BD95: ='SO01 - Výměna kolejnic Hr...'!F37 -> 0 | BT95: 1 | BV95: IMPORT | BW95: {58c90ec1-ab44-41d6-acfc-f00960dfbd1a} | BX95: {092bc950-538c-414a-b369-d388c572eda6} | CM95: 2
A96: / | D96: SO02 | J96: Oprava přejezdu P7248 (km 13,945) | AG96: ='SO02 - Oprava přejezdu P7...'!J30 -> 0 | AN96: =SUM(AG96,AT96) -> 0 | AQ96: STA | AS96: 0 | AT96: =ROUND(SUM(AV96:AW96),2) -> 0 | AU96: ='SO02 - Oprava přejezdu P7...'!P120 -> 0 | AV96: ='SO02 - Oprava přejezdu P7...'!J33 -> 0 | AW96: ='SO02 - Oprava přejezdu P7...'!J34 -> 0 | AX96: ='SO02 - Oprava přejezdu P7...'!J35 -> 0 | AY96: ='SO02 - Oprava přejezdu P7...'!J36 -> 0 | AZ96: ='SO02 - Oprava přejezdu P7...'!F33 -> 0 | BA96: ='SO02 - Oprava přejezdu P7...'!F34 -> 0 | BB96: ='SO02 - Oprava přejezdu P7...'!F35 -> 0 | BC96: ='SO02 - Oprava přejezdu P7...'!F36 -> 0 | BD96: ='SO02 - Oprava přejezdu P7...'!F37 -> 0 | BT96: 1 | BV96: IMPORT | BW96: {65355999-976e-4a67-af36-004a78c2570c} | BX96: {092bc950-538c-414a-b369-d388c572eda6} | CM96: 2
A97: / | D97: VON | J97: Vedlejší a ostatní náklady | AG97: ='VON - Vedlejší a ostatní ...'!J30 -> 0 | AN97: =SUM(AG97,AT97) -> 0 | AQ97: STA | AS97: 0 | AT97: =ROUND(SUM(AV97:AW97),2) -> 0 | AU97: ='VON - Vedlejší a ostatní ...'!P117 -> 0 | AV97: ='VON - Vedlejší a ostatní ...'!J33 -> 0 | AW97: ='VON - Vedlejší a ostatní ...'!J34 -> 0 | AX97: ='VON - Vedlejší a ostatní ...'!J35 -> 0 | AY97: ='VON - Vedlejší a ostatní ...'!J36 -> 0 | AZ97: ='VON - Vedlejší a ostatní ...'!F33 -> 0 | BA97: ='VON - Vedlejší a ostatní ...'!F34 -> 0 | BB97: ='VON - Vedlejší a ostatní ...'!F35 -> 0 | BC97: ='VON - Vedlejší a ostatní ...'!F36 -> 0 | BD97: ='VON - Vedlejší a ostatní ...'!F37 -> 0 | BT97: 1 | BV97: IMPORT | BW97: {3e16e897-eb0a-42a4-ac68-ee477f35831c} | BX97: {092bc950-538c-414a-b369-d388c572eda6} | CM97: 2

Sheet SO01 - Výměna kolejnic Hr...
AT2: {58c90ec1-ab44-41d6-acfc-f00960dfbd1a} | AZ2: dělení_AB | BC2: 12 | BD2: 2
AT3: 2 | AZ3: AB_suť | BC3: 2,88 | BD3: 2
D4: KRYCÍ LIST SOUPISU PRACÍ | M4: v --- níže se nacházejí doplnkové a pomocné údaje k sestavám --- v | AT4: False | AZ4: AB_nový | BC4: 2,88 | BD4: 2
AZ5: GPK | BC5: 2,135 | BD5: 2
D6: Stavba: | AZ6: dopl_KL | BC6: 291,564 | BD6: 2
E7: ='Rekapitulace stavby'!K6 -> Oprava trati v úseku Kojetín - Valašské Meziříčí | AZ7: živice_odpad | BC7: 12 | BD7: 2
D8: Objekt: | AZ8: R65_75m | BC8: 34 | BD8: 2
E9: SO01 - Výměna kolejnic Hradisko – Postoupky | AZ9: KL_přejezdy_most | BC9: 60,984 | BD9: 2
AZ10: styk | BC10: 38 | BD10: 2
D11: KSO: | I11: CC-CZ: | AZ11: štěrk | BC11: 564,077 | BD11: 2
D12: Místo: | F12: Postoupky | I12: Datum: | J12: ='Rekapitulace stavby'!AN8 -> 1. 3. 2021 | AZ12: doměry | BC12: 225,6 | BD12: 2
D14: Zadavatel: | I14: IČ: | J14: 70994234
E15: Správa železnic, státní organizace | I15: DIČ:
D17: Uchazeč: | I17: IČ: | J17: ='Rekapitulace stavby'!AN13 -> Vyplň údaj
E18: ='Rekapitulace stavby'!E14 -> Vyplň údaj | I18: DIČ: | J18: ='Rekapitulace stavby'!AN14 -> Vyplň údaj
D20: Projektant: | I20: IČ: | J20: =IF('Rekapitulace stavby'!AN16="","",'Rekapitulace stavby'!AN16)
E21: =IF('Rekapitulace stavby'!E17="","",'Rekapitulace stavby'!E17) | I21: DIČ: | J21: =IF('Rekapitulace stavby'!AN17="","",'Rekapitulace stavby'!AN17)
D23: Zpracovatel: | I23: IČ:
E24: Jiří Vendel | I24: DIČ:
D26: Poznámka:
D30: Cena bez DPH | J30: =ROUND(J121, 2) -> 3275288
F32: Základ daně | I32: Sazba daně | J32: Výše daně
D33: DPH | E33: základní | F33: =ROUND((SUM(BE121:BE254)), 2) -> 3275288 | I33: 0.21 | J33: =ROUND(((SUM(BE121:BE254))*I33), 2) -> 687810.48
E34: snížená | F34: =ROUND((SUM(BF121:BF254)), 2) -> 0 | I34: 0.15 | J34: =ROUND(((SUM(BF121:BF254))*I34), 2) -> 0
E35: zákl. přenesená | F35: =ROUND((SUM(BG121:BG254)), 2) -> 0 | I35: 0.21 | J35: =0 -> 0
E36: sníž. přenesená | F36: =ROUND((SUM(BH121:BH254)), 2) -> 0 | I36: 0.15 | J36: =0 -> 0
E37: nulová | F37: =ROUND((SUM(BI121:BI254)), 2) -> 0 | I37: 0 | J37: =0 -> 0
D39: Cena s DPH | G39: v | H39: CZK | J39: =SUM(J30:J37) -> 3963098.5
D50: Projektant | G50: Zpracovatel
D61: Datum a podpis: | F61: Razítko | G61: Datum a podpis: | J61: Razítko
D65: Objednavatel | G65: Uchazeč
D76: Datum a podpis: | F76: Razítko | G76: Datum a podpis: | J76: Razítko
C82: REKAPITULACE ČLENĚNÍ SOUPISU PRACÍ
C84: Stavba:
E85: =E7 -> Oprava trati v úseku Kojetín - Valašské Meziříčí
C86: Objekt:
E87: =E9 -> SO01 - Výměna kolejnic Hradisko – Postoupky
C89: Místo: | F89: =F12 -> Postoupky | I89: Datum: | J89: =IF(J12="","",J12) -> 1. 3. 2021
C91: Zadavatel: | F91: =E15 -> Správa železnic, státní organizace | I91: Projektant: | J91: =E21
C92: Uchazeč: | F92: =IF(E18="","",E18) -> Vyplň údaj | I92: Zpracovatel: | J92: =E24 -> Jiří Vendel
C94: Kód dílu - Popis | J94: Cena celkem [CZK]
C96: Náklady ze soupisu prací | J96: =J121 -> 3275288 | AU96: -1
D97: HSV - Práce a dodávky HSV | J97: =J122 -> 0
D98: 5 - Komunikace pozemní | J98: =J123 -> 0
D99: Přejezdy - Oprava přejezdů v km P7238 a P7239 | J99: =J172 -> 0
D100: M - Dodávky materiálu | J100: =J216 -> 3275288
D101: OST - Ostatní | J101: =J233 -> 0
C108: SOUPIS PRACÍ
C110: Stavba:
E111: =E7 -> Oprava trati v úseku Kojetín - Valašské Meziříčí
C112: Objekt:
E113: =E9 -> SO01 - Výměna kolejnic Hradisko – Postoupky
C115: Místo: | F115: =F12 -> Postoupky | I115: Datum: | J115: =IF(J12="","",J12) -> 1. 3. 2021
C117: Zadavatel: | F117: =E15 -> Správa železnic, státní organizace | I117: Projektant: | J117: =E21
C118: Uchazeč: | F118: =IF(E18="","",E18) -> Vyplň údaj | I118: Zpracovatel: | J118: =E24 -> Jiří Vendel
C120: PČ | D120: Typ | E120: Kód | F120: Popis | G120: MJ | H120: Množství | I120: J.cena [CZK] | J120: Cena celkem [CZK] | K120: Cenová soustava | N120: DPH | O120: J. Nh [h] | P120: Nh celkem [h] | Q120: J. hmotnost [t] | R120: Hmotnost celkem [t] | S120: J. suť [t] | T120: Suť Celkem [t]
C121: Náklady soupisu celkem | J121: =BK121 -> 3275288 | P121: =P122+P216+P233 -> 0 | R121: =R122+R216+R233 -> 732.656 | T121: =T122+T216+T233 -> 0 | AT121: D | AU121: -1 | BK121: =BK122+BK216+BK233 -> 3275288
D122: D | E122: HSV | F122: Práce a dodávky HSV | J122: =BK122 -> 0 | P122: =P123+P172 -> 0 | R122: =R123+R172 -> 0 | T122: =T123+T172 -> 0 | AR122: 1 | AT122: D | AU122: 0 | AY122: ROZPOCET | BK122: =BK123+BK172 -> 0
D123: D | E123: 5 | F123: Komunikace pozemní | J123: =BK123 -> 0 | P123: =SUM(P124:P171) -> 0 | R123: =SUM(R124:R171) -> 0 | T123: =SUM(T124:T171) -> 0 | AR123: 1 | AT123: D | AU123: 1 | AY123: ROZPOCET | BK123: =SUM(BK124:BK171) -> 0
C124: 1 | D124: K | E124: 5905105030 | F124: Doplnění KL kamenivem souvisle strojně v koleji | G124: m3 | H124: 291.564 | J124: =ROUND(I124*H124,2) -> 0 | N124: základní | P124: =O124*H124 -> 0 | Q124: 0 | R124: =Q124*H124 -> 0 | S124: 0 | T124: =S124*H124 -> 0 | AR124: 4 | AT124: K | AU124: 2 | AY124: ROZPOCET | BE124: =IF(N124="základní",J124,0) -> 0 | BF124: =IF(N124="snížená",J124,0) -> 0 | BG124: =IF(N124="zákl. přenesená",J124,0) -> 0 | BH124: =IF(N124="sníž. přenesená",J124,0) -> 0 | BI124: =IF(N124="nulová",J124,0) -> 0 | BJ124: 1 | BK124: =ROUND(I124*H124,2) -> 0 | BL124: 4 | BM124: 365142028
D125: PP | F125: Doplnění KL kamenivem souvisle strojně v koleji. Poznámka: 1. V cenách jsou započteny náklady na doplnění kameniva ojediněle ručně vidlemi a/nebo souvisle strojně z výsypných vozů případně nakladačem. 2. V cenách nejsou obsaženy náklady na dodávku kameniva. | AT125: PP | AU125: 2
D126: VV | E126: dopl_KL | F126: GPK*1000*3,6*0,03+KL_přejezdy_most | H126: 291.564 | AT126: VV | AU126: 2 | AV126: 2 | AW126: True | AX126: 1 | AY126: ROZPOCET
C127: 2 | D127: K | E127: 5906110020 | F127: Oprava rozdělení pražců příčných betonových posun přes 10 cm | G127: kus | H127: 10 | J127: =ROUND(I127*H127,2) -> 0 | N127: základní | P127: =O127*H127 -> 0 | Q127: 0 | R127: =Q127*H127 -> 0 | S127: 0 | T127: =S127*H127 -> 0 | AR127: 4 | AT127: K | AU127: 2 | AY127: ROZPOCET | BE127: =IF(N127="základní",J127,0) -> 0 | BF127: =IF(N127="snížená",J127,0) -> 0 | BG127: =IF(N127="zákl. přenesená",J127,0) -> 0 | BH127: =IF(N127="sníž. přenesená",J127,0) -> 0 | BI127: =IF(N127="nulová",J127,0) -> 0 | BJ127: 1 | BK127: =ROUND(I127*H127,2) -> 0 | BL127: 4 | BM127: 306843332
D128: PP | F128: Oprava rozdělení pražců příčných betonových posun přes 10 cm. Poznámka: 1. V cenách jsou započteny náklady na uvolnění upevňovadel, odstranění kameniva v míře dostatečné pro posun pražce, jeho posunutí, dotažení upevňovadel, dohození a úprava KL. 2. V cenách nejsou obsaženy náklady na podbití pražce, doplnění a dodávku kameniva. | AT128: PP | AU128: 2
C129: 3 | D129: K | E129: 5907010030 | F129: Výměna LISŮ tv. R65 rozdělení "c" | G129: m | H129: 23 | J129: =ROUND(I129*H129,2) -> 0 | N129: základní | P129: =O129*H129 -> 0 | Q129: 0 | R129: =Q129*H129 -> 0 | S129: 0 | T129: =S129*H129 -> 0 | AR129: 4 | AT129: K | AU129: 2 | AY129: ROZPOCET | BE129: =IF(N129="základní",J129,0) -> 0 | BF129: =IF(N129="snížená",J129,0) -> 0 | BG129: =IF(N129="zákl. přenesená",J129,0) -> 0 | BH129: =IF(N129="sníž. přenesená",J129,0) -> 0 | BI129: =IF(N129="nulová",J129,0) -> 0 | BJ129: 1 | BK129: =ROUND(I129*H129,2) -> 0 | BL129: 4 | BM129: -1983335148
D130: PP | F130: Výměna LISŮ tv. R65 rozdělení "c". Poznámka: 1. V cenách jsou započteny náklady na demontáž upevňovadel, výměnu LISU, montáž upevňovadel, případnou úpravu dilatačních spár, zřízení nebo demontáž prozatímních styků a ošetření součástí mazivem. 2. V cenách nejsou započteny náklady na dělení kolejnic, zřízení svaru, demontáž nebo montáž styků. | AT130: PP | AU130: 2
D131: VV | F131: 2*3,5+4*4,0 " 2*4,0 v km 6,497 – 6,592 | H131: 23 | AT131: VV | AU131: 2 | AV131: 2 | AW131: True | AX131: 1 | AY131: ROZPOCET
C132: 4 | D132: K | E132: 5907020465 | F132: Souvislá výměna kolejnic současně s výměnou pryžové podložky tv. R65 rozdělení "c" – dl. 25 m + doměry | G132: m | H132: 225.6 | J132: =ROUND(I132*H132,2) -> 0 | N132: základní | P132: =O132*H132 -> 0 | Q132: 0 | R132: =Q132*H132 -> 0 | S132: 0 | T132: =S132*H132 -> 0 | AR132: 4 | AT132: K | AU132: 2 | AY132: ROZPOCET | BE132: =IF(N132="základní",J132,0) -> 0 | BF132: =IF(N132="snížená",J132,0) -> 0 | BG132: =IF(N132="zákl. přenesená",J132,0) -> 0 | BH132: =IF(N132="sníž. přenesená",J132,0) -> 0 | BI132: =IF(N132="nulová",J132,0) -> 0 | BJ132: 1 | BK132: =ROUND(I132*H132,2) -> 0 | BL132: 4 | BM132: 324013388
D133: PP | F133: Souvislá výměna kolejnic současně s výměnou pryžové podložky tv. R65 rozdělení "c". Poznámka: 1. V cenách jsou započteny náklady na demontáž upevňovadel, výměnu kolejnic, dílů a součástí, montáž upevňovadel, úpravu dilatačních spár, pryžových podložek, zřízení nebo demontáž prozatímních styků a ošetření součástí mazivem. 2. V cenách nejsou započteny náklady na dělení kolejnic, zřízení svaru, demontáž nebo montáž styků. | AT133: PP | AU133: 2
D134: VV | F134: ((6177-4860)-(R65_75m*75)/2-4,0-3,5-12,7)*2 "doměry | H134: 43.6 | AT134: VV | AU134: 2 | AV134: 2 | AW134: True | AX134: 0 | AY134: ROZPOCET
D135: VV | F135: (9+25+25+7+25)*2 "km 6,497 – 6,592 dl. 25 m - 4,0 m LIS | H135: 182 | AT135: VV | AU135: 2 | AV135: 2 | AW135: True | AX135: 0 | AY135: ROZPOCET
D136: VV | E136: doměry | F136: Součet | H136: 225.6 | AT136: VV | AU136: 2 | AV136: 4 | AW136: True | AX136: 1 | AY136: ROZPOCET
C137: 5 | D137: K | E137: 5907025465 | F137: Výměna kolejnicových pásů současně s výměnou pryžové podložky tv. R65 rozdělení "c" – dl. 75 m | G137: m | H137: 2550 | J137: =ROUND(I137*H137,2) -> 0 | N137: základní | P137: =O137*H137 -> 0 | Q137: 0 | R137: =Q137*H137 -> 0 | S137: 0 | T137: =S137*H137 -> 0 | AR137: 4 | AT137: K | AU137: 2 | AY137: ROZPOCET | BE137: =IF(N137="základní",J137,0) -> 0 | BF137: =IF(N137="snížená",J137,0) -> 0 | BG137: =IF(N137="zákl. přenesená",J137,0) -> 0 | BH137: =IF(N137="sníž. přenesená",J137,0) -> 0 | BI137: =IF(N137="nulová",J137,0) -> 0 | BJ137: 1 | BK137: =ROUND(I137*H137,2) -> 0 | BL137: 4 | BM137: 580833625
D138: PP | F138: Výměna kolejnicových pásů současně s výměnou pryžové podložky tv. R65 rozdělení "c". Poznámka: 1. V cenách jsou započteny náklady na demontáž upevňovadel, výměnu kolejnicových pásů, dílů a součástí, montáž upevňovadel, úpravu dilatačních spár, pryžových podložek, zřízení nebo demontáž prozatímních styků a ošetření součástí mazivem. 2. V cenách nejsou započteny náklady na dělení kolejnic, zřízení svaru, demontáž nebo montáž styků. | AT138: PP | AU138: 2
D139: VV | F139: R65_75m*75 | H139: 2550 | AT139: VV | AU139: 2 | AV139: 2 | AW139: True | AX139: 1 | AY139: ROZPOCET
C140: 6 | D140: K | E140: 5907045110 | F140: Příplatek za obtížnost při výměně kolejnic na rozponových podkladnicích tv. R65 | G140: m | H140: 2775.6 | J140: =ROUND(I140*H140,2) -> 0 | N140: základní | P140: =O140*H140 -> 0 | Q140: 0 | R140: =Q140*H140 -> 0 | S140: 0 | T140: =S140*H140 -> 0 | AR140: 4 | AT140: K | AU140: 2 | AY140: ROZPOCET | BE140: =IF(N140="základní",J140,0) -> 0 | BF140: =IF(N140="snížená",J140,0) -> 0 | BG140: =IF(N140="zákl. přenesená",J140,0) -> 0 | BH140: =IF(N140="sníž. přenesená",J140,0) -> 0 | BI140: =IF(N140="nulová",J140,0) -> 0 | BJ140: 1 | BK140: =ROUND(I140*H140,2) -> 0 | BL140: 4 | BM140: 1954469353
D141: PP | F141: Příplatek za obtížnost při výměně kolejnic na rozponových podkladnicích tv. R65. Poznámka: 1. V cenách jsou započteny náklady za obtížné podmínky výměny kolejnic. | AT141: PP | AU141: 2
D142: VV | F142: R65_75m*75+doměry | H142: 2775.6 | AT142: VV | AU142: 2 | AV142: 2 | AW142: True | AX142: 1 | AY142: ROZPOCET
C143: 7 | D143: K | E143: 5907050110 | F143: Dělení kolejnic kyslíkem tv. UIC60 nebo R65 | G143: kus | H143: 34 | J143: =ROUND(I143*H143,2) -> 0 | N143: základní | P143: =O143*H143 -> 0 | Q143: 0 | R143: =Q143*H143 -> 0 | S143: 0 | T143: =S143*H143 -> 0 | AR143: 4 | AT143: K | AU143: 2 | AY143: ROZPOCET | BE143: =IF(N143="základní",J143,0) -> 0 | BF143: =IF(N143="snížená",J143,0) -> 0 | BG143: =IF(N143="zákl. přenesená",J143,0) -> 0 | BH143: =IF(N143="sníž. přenesená",J143,0) -> 0 | BI143: =IF(N143="nulová",J143,0) -> 0 | BJ143: 1 | BK143: =ROUND(I143*H143,2) -> 0 | BL143: 4 | BM143: 534603946
D144: PP | F144: Dělení kolejnic kyslíkem tv. UIC60 nebo R65. Poznámka: 1. V cenách jsou započteny náklady na manipulaci, podložení, označení a provedení řezu kolejnice. | AT144: PP | AU144: 2
D145: VV | F145: 34 | H145: 34 | AT145: VV | AU145: 2 | AV145: 2 | AW145: True | AX145: 1 | AY145: ROZPOCET
C146: 8 | D146: K | E146: 5907055010 | F146: Vrtání kolejnic otvor o průměru do 10 mm | G146: kus | H146: 8 | J146: =ROUND(I146*H146,2) -> 0 | N146: základní | P146: =O146*H146 -> 0 | Q146: 0 | R146: =Q146*H146 -> 0 | S146: 0 | T146: =S146*H146 -> 0 | AR146: 4 | AT146: K | AU146: 2 | AY146: ROZPOCET | BE146: =IF(N146="základní",J146,0) -> 0 | BF146: =IF(N146="snížená",J146,0) -> 0 | BG146: =IF(N146="zákl. přenesená",J146,0) -> 0 | BH146: =IF(N146="sníž. přenesená",J146,0) -> 0 | BI146: =IF(N146="nulová",J146,0) -> 0 | BJ146: 1 | BK146: =ROUND(I146*H146,2) -> 0 | BL146: 4 | BM146: 1878175407
D147: PP | F147: Vrtání kolejnic otvor o průměru do 10 mm. Poznámka: 1. V cenách jsou započteny náklady na manipulaci, podložení, označení a provedení vrtu ve stojině kolejnice. | AT147: PP | AU147: 2
D148: VV | F148: 4*2 "LISy | H148: 8 | AT148: VV | AU148: 2 | AV148: 2 | AW148: True | AX148: 1 | AY148: ROZPOCET
C149: 9 | D149: K | E149: 5907055030 | F149: Vrtání kolejnic otvor o průměru přes 23 mm | G149: kus | H149: 152 | J149: =ROUND(I149*H149,2) -> 0 | N149: základní | P149: =O149*H149 -> 0 | Q149: 0 | R149: =Q149*H149 -> 0 | S149: 0 | T149: =S149*H149 -> 0 | AR149: 4 | AT149: K | AU149: 2 | AY149: ROZPOCET | BE149: =IF(N149="základní",J149,0) -> 0 | BF149: =IF(N149="snížená",J149,0) -> 0 | BG149: =IF(N149="zákl. přenesená",J149,0) -> 0 | BH149: =IF(N149="sníž. přenesená",J149,0) -> 0 | BI149: =IF(N149="nulová",J149,0) -> 0 | BJ149: 1 | BK149: =ROUND(I149*H149,2) -> 0 | BL149: 4 | BM149: -1620939818
D150: PP | F150: Vrtání kolejnic otvor o průměru přes 23 mm. Poznámka: 1. V cenách jsou započteny náklady na manipulaci, podložení, označení a provedení vrtu ve stojině kolejnice. | AT150: PP | AU150: 2
D151: VV | F151: styk*4 | H151: 152 | AT151: VV | AU151: 2 | AV151: 2 | AW151: True | AX151: 1 | AY151: ROZPOCET
C152: 10 | D152: K | E152: 5908005420 | F152: Oprava kolejnicového styku demontáž spojek tv. R65 | G152: styk | H152: 122 | J152: =ROUND(I152*H152,2) -> 0 | N152: základní | P152: =O152*H152 -> 0 | Q152: 0 | R152: =Q152*H152 -> 0 | S152: 0 | T152: =S152*H152 -> 0 | AR152: 4 | AT152: K | AU152: 2 | AY152: ROZPOCET | BE152: =IF(N152="základní",J152,0) -> 0 | BF152: =IF(N152="snížená",J152,0) -> 0 | BG152: =IF(N152="zákl. přenesená",J152,0) -> 0 | BH152: =IF(N152="sníž. přenesená",J152,0) -> 0 | BI152: =IF(N152="nulová",J152,0) -> 0 | BJ152: 1 | BK152: =ROUND(I152*H152,2) -> 0 | BL152: 4 | BM152: -395099068
D153: PP | F153: Oprava kolejnicového styku demontáž spojek tv. R65. Poznámka: 1. V cenách jsou započteny náklady na výměnu, demontáž nebo montáž vnitřní spojky a/nebo celého styku a ošetření součástí mazivem. U přechodových spojek se použije položka s větším tvarem. 2. V cenách nejsou obsaženy náklady na dodávku materiálu. | AT153: PP | AU153: 2
D154: VV | F154: 116 + 6 "km 4,860 – 6,117 + km 6,497 – 6,592 | H154: 122 | AT154: VV | AU154: 2 | AV154: 2 | AW154: True | AX154: 1 | AY154: ROZPOCET
C155: 11 | D155: K | E155: 5908010020 | F155: Zřízení kolejnicového styku bez rozřezu tv. R65 | G155: styk | H155: 38 | J155: =ROUND(I155*H155,2) -> 0 | N155: základní | P155: =O155*H155 -> 0 | Q155: 0 | R155: =Q155*H155 -> 0 | S155: 0 | T155: =S155*H155 -> 0 | AR155: 4 | AT155: K | AU155: 2 | AY155: ROZPOCET | BE155: =IF(N155="základní",J155,0) -> 0 | BF155: =IF(N155="snížená",J155,0) -> 0 | BG155: =IF(N155="zákl. přenesená",J155,0) -> 0 | BH155: =IF(N155="sníž. přenesená",J155,0) -> 0 | BI155: =IF(N155="nulová",J155,0) -> 0 | BJ155: 1 | BK155: =ROUND(I155*H155,2) -> 0 | BL155: 4 | BM155: 651020350
D156: PP | F156: Zřízení kolejnicového styku bez rozřezu tv. R65. Poznámka: 1. V cenách jsou započteny náklady na zřízení styku, případné nastavení dilatační spáry a ošetření součástí mazivem. U přechodového styku se použije položka s větším tvarem. 2. V cenách nejsou obsaženy náklady na dodávku materiálu. | AT156: PP | AU156: 2
D157: VV | E157: styk | F157: 36+2 "km 4,860 – 6,117 + km 6,497 – 6,592 | H157: 38 | AT157: VV | AU157: 2 | AV157: 2 | AW157: True | AX157: 1 | AY157: ROZPOCET
C158: 12 | D158: K | E158: 5908055010 | F158: Příplatek za výměnu deformovaného šroubu | G158: kus | H158: 14 | J158: =ROUND(I158*H158,2) -> 0 | N158: základní | P158: =O158*H158 -> 0 | Q158: 0 | R158: =Q158*H158 -> 0 | S158: 0 | T158: =S158*H158 -> 0 | AR158: 4 | AT158: K | AU158: 2 | AY158: ROZPOCET | BE158: =IF(N158="základní",J158,0) -> 0 | BF158: =IF(N158="snížená",J158,0) -> 0 | BG158: =IF(N158="zákl. přenesená",J158,0) -> 0 | BH158: =IF(N158="sníž. přenesená",J158,0) -> 0 | BI158: =IF(N158="nulová",J158,0) -> 0 | BJ158: 1 | BK158: =ROUND(I158*H158,2) -> 0 | BL158: 4 | BM158: -1136953869
D159: PP | F159: Příplatek za výměnu deformovaného šroubu. Poznámka: 1. V cenách jsou započteny náklady na ošetření závitů antikorozním přípravkem, demontáž, výměnu a montáž nové součásti. | AT159: PP | AU159: 2
C160: 13 | D160: K | E160: 5909032020 | F160: Přesná úprava GPK koleje směrové a výškové uspořádání pražce betonové | G160: km | H160: 2.135 | J160: =ROUND(I160*H160,2) -> 0 | N160: základní | P160: =O160*H160 -> 0 | Q160: 0 | R160: =Q160*H160 -> 0 | S160: 0 | T160: =S160*H160 -> 0 | AR160: 4 | AT160: K | AU160: 2 | AY160: ROZPOCET | BE160: =IF(N160="základní",J160,0) -> 0 | BF160: =IF(N160="snížená",J160,0) -> 0 | BG160: =IF(N160="zákl. přenesená",J160,0) -> 0 | BH160: =IF(N160="sníž. přenesená",J160,0) -> 0 | BI160: =IF(N160="nulová",J160,0) -> 0 | BJ160: 1 | BK160: =ROUND(I160*H160,2) -> 0 | BL160: 4 | BM160: -474399204
D161: PP | F161: Přesná úprava GPK koleje směrové a výškové uspořádání pražce betonové. Poznámka: 1. V cenách jsou započteny náklady na úpravu směrového a výškového uspořádání strojní linkou ASP s přesným zaměřením její prostorové polohy, úpravu KL pluhem a měření mezních stavebních odchylek dle ČSN, měření technologických veličin a předání tištěných výstupů objednateli. 2. V cenách nejsou obsaženy náklady na zaměření APK, doplnění a dodávku kameniva a snížení KL pod patou kolejnice. | AT161: PP | AU161: 2
D162: VV | E162: GPK | F162: (6,885-4,750) | H162: 2.135 | AT162: VV | AU162: 2 | AV162: 2 | AW162: True | AX162: 1 | AY162: ROZPOCET
C163: 14 | D163: K | E163: 5910020020 | F163: Svařování kolejnic termitem plný předehřev standardní spára svar sériový tv. R65 | G163: svar | H163: 28 | J163: =ROUND(I163*H163,2) -> 0 | N163: základní | P163: =O163*H163 -> 0 | Q163: 0 | R163: =Q163*H163 -> 0 | S163: 0 | T163: =S163*H163 -> 0 | AR163: 4 | AT163: K | AU163: 2 | AY163: ROZPOCET | BE163: =IF(N163="základní",J163,0) -> 0 | BF163: =IF(N163="snížená",J163,0) -> 0 | BG163: =IF(N163="zákl. přenesená",J163,0) -> 0 | BH163: =IF(N163="sníž. přenesená",J163,0) -> 0 | BI163: =IF(N163="nulová",J163,0) -> 0 | BJ163: 1 | BK163: =ROUND(I163*H163,2) -> 0 | BL163: 4 | BM163: 294305267
D164: PP | F164: Svařování kolejnic termitem plný předehřev standardní spára svar sériový tv. R65. Poznámka: 1. V cenách jsou započteny náklady na vybrání kameniva z mezipražcového prostoru, demontáž upevňovadel, směrové a výškové vyrovnání kolejnic, provedení svaru, montáž upevňovadel, vizuální kontrola, měření geometrie svaru. 2. V cenách nejsou obsaženy náklady na kontrolu svaru ultrazvukem, podbití pražců a demontáž styku. | AT164: PP | AU164: 2
...

Sheet SO02 - Oprava přejezdu P7...
AT2: {65355999-976e-4a67-af36-004a78c2570c} | AZ2: GPK | BC2: 1,09 | BD2: 2
AT3: 2 | AZ3: dopl_KL | BC3: 127,44 | BD3: 2
D4: KRYCÍ LIST SOUPISU PRACÍ | M4: v --- níže se nacházejí doplnkové a pomocné údaje k sestavám --- v | AT4: False | AZ4: výměna_KL | BC4: 9,72 | BD4: 2
AZ5: štěrk | BC5: 203,904 | BD5: 2
D6: Stavba:
E7: ='Rekapitulace stavby'!K6 -> Oprava trati v úseku Kojetín - Valašské Meziříčí
D8: Objekt:
E9: SO02 - Oprava přejezdu P7248 (km 13,945)
D11: KSO: | I11: CC-CZ:
D12: Místo: | F12: Hulín | I12: Datum: | J12: ='Rekapitulace stavby'!AN8 -> 1. 3. 2021
D14: Zadavatel: | I14: IČ: | J14: 70994234
E15: Správa železnic, státní organizace | I15: DIČ:
D17: Uchazeč: | I17: IČ: | J17: ='Rekapitulace stavby'!AN13 -> Vyplň údaj
E18: ='Rekapitulace stavby'!E14 -> Vyplň údaj | I18: DIČ: | J18: ='Rekapitulace stavby'!AN14 -> Vyplň údaj
D20: Projektant: | I20: IČ: | J20: =IF('Rekapitulace stavby'!AN16="","",'Rekapitulace stavby'!AN16)
E21: =IF('Rekapitulace stavby'!E17="","",'Rekapitulace stavby'!E17) | I21: DIČ: | J21: =IF('Rekapitulace stavby'!AN17="","",'Rekapitulace stavby'!AN17)
D23: Zpracovatel: | I23: IČ:
E24: Jiří Vendel | I24: DIČ:
D26: Poznámka:
D30: Cena bez DPH | J30: =ROUND(J120, 2) -> 0
F32: Základ daně | I32: Sazba daně | J32: Výše daně
D33: DPH | E33: základní | F33: =ROUND((SUM(BE120:BE175)), 2) -> 0 | I33: 0.21 | J33: =ROUND(((SUM(BE120:BE175))*I33), 2) -> 0
E34: snížená | F34: =ROUND((SUM(BF120:BF175)), 2) -> 0 | I34: 0.15 | J34: =ROUND(((SUM(BF120:BF175))*I34), 2) -> 0
E35: zákl. přenesená | F35: =ROUND((SUM(BG120:BG175)), 2) -> 0 | I35: 0.21 | J35: =0 -> 0
E36: sníž. přenesená | F36: =ROUND((SUM(BH120:BH175)), 2) -> 0 | I36: 0.15 | J36: =0 -> 0
E37: nulová | F37: =ROUND((SUM(BI120:BI175)), 2) -> 0 | I37: 0 | J37: =0 -> 0
D39: Cena s DPH | G39: v | H39: CZK | J39: =SUM(J30:J37) -> 0
D50: Projektant | G50: Zpracovatel
D61: Datum a podpis: | F61: Razítko | G61: Datum a podpis: | J61: Razítko
D65: Objednavatel | G65: Uchazeč
D76: Datum a podpis: | F76: Razítko | G76: Datum a podpis: | J76: Razítko
C82: REKAPITULACE ČLENĚNÍ SOUPISU PRACÍ
C84: Stavba:
E85: =E7 -> Oprava trati v úseku Kojetín - Valašské Meziříčí
C86: Objekt:
E87: =E9 -> SO02 - Oprava přejezdu P7248 (km 13,945)
C89: Místo: | F89: =F12 -> Hulín | I89: Datum: | J89: =IF(J12="","",J12) -> 1. 3. 2021
C91: Zadavatel: | F91: =E15 -> Správa železnic, státní organizace | I91: Projektant: | J91: =E21
C92: Uchazeč: | F92: =IF(E18="","",E18) -> Vyplň údaj | I92: Zpracovatel: | J92: =E24 -> Jiří Vendel
C94: Kód dílu - Popis | J94: Cena celkem [CZK]
C96: Náklady ze soupisu prací | J96: =J120 -> 0 | AU96: -1
D97: HSV - Práce a dodávky HSV | J97: =J121 -> 0
D98: 5 - Komunikace pozemní | J98: =J122 -> 0
D99: M - Dodávky materiálu | J99: =J153 -> 0
D100: OST - Ostatní | J100: =J166 -> 0
C107: SOUPIS PRACÍ
C109: Stavba:
E110: =E7 -> Oprava trati v úseku Kojetín - Valašské Meziříčí
C111: Objekt:
E112: =E9 -> SO02 - Oprava přejezdu P7248 (km 13,945)
C114: Místo: | F114: =F12 -> Hulín | I114: Datum: | J114: =IF(J12="","",J12) -> 1. 3. 2021
C116: Zadavatel: | F116: =E15 -> Správa železnic, státní organizace | I116: Projektant: | J116: =E21
C117: Uchazeč: | F117: =IF(E18="","",E18) -> Vyplň údaj | I117: Zpracovatel: | J117: =E24 -> Jiří Vendel
C119: PČ | D119: Typ | E119: Kód | F119: Popis | G119: MJ | H119: Množství | I119: J.cena [CZK] | J119: Cena celkem [CZK] | K119: Cenová soustava | N119: DPH | O119: J. Nh [h] | P119: Nh celkem [h] | Q119: J. hmotnost [t] | R119: Hmotnost celkem [t] | S119: J. suť [t] | T119: Suť Celkem [t]
C120: Náklady soupisu celkem | J120: =BK120 -> 0 | P120: =P121+P153+P166 -> 0 | R120: =R121+R153+R166 -> 204.01716 | T120: =T121+T153+T166 -> 0 | AT120: D | AU120: -1 | BK120: =BK121+BK153+BK166 -> 0
D121: D | E121: HSV | F121: Práce a dodávky HSV | J121: =BK121 -> 0 | P121: =P122 -> 0 | R121: =R122 -> 0 | T121: =T122 -> 0 | AR121: 1 | AT121: D | AU121: 0 | AY121: ROZPOCET | BK121: =BK122 -> 0
D122: D | E122: 5 | F122: Komunikace pozemní | J122: =BK122 -> 0 | P122: =SUM(P123:P152) -> 0 | R122: =SUM(R123:R152) -> 0 | T122: =SUM(T123:T152) -> 0 | AR122: 1 | AT122: D | AU122: 1 | AY122: ROZPOCET | BK122: =SUM(BK123:BK152) -> 0
C123: 1 | D123: K | E123: 5905035020 | F123: Výměna KL malou těžící mechanizací mimo lavičku lože zapuštěné | G123: m3 | H123: 9.72 | J123: =ROUND(I123*H123,2) -> 0 | N123: základní | P123: =O123*H123 -> 0 | Q123: 0 | R123: =Q123*H123 -> 0 | S123: 0 | T123: =S123*H123 -> 0 | AR123: 4 | AT123: K | AU123: 2 | AY123: ROZPOCET | BE123: =IF(N123="základní",J123,0) -> 0 | BF123: =IF(N123="snížená",J123,0) -> 0 | BG123: =IF(N123="zákl. přenesená",J123,0) -> 0 | BH123: =IF(N123="sníž. přenesená",J123,0) -> 0 | BI123: =IF(N123="nulová",J123,0) -> 0 | BJ123: 1 | BK123: =ROUND(I123*H123,2) -> 0 | BL123: 4 | BM123: -1700916707
D124: PP | F124: Výměna KL malou těžící mechanizací mimo lavičku lože zapuštěné. Poznámka: 1. V cenách jsou započteny náklady na odtěžení KL s použitím minirypadla, rozprostření výzisku na terén nebo naložení na dopravní prostředek, přehození kameniva, úprava KL do profilu a jeho případné snížení pod patou kolejnice. U výměny KL v celém profilu je v ceně započteno případné uvolnění, posun a dotažení pražce. 2. V cenách nejsou obsaženy náklady na podbití pražce, dodávku a doplnění kameniva. | AT124: PP | AU124: 2
D125: VV | E125: výměna_KL | F125: 0,45*(0,6-0,24)*2,4*25 "25 kastlů | H125: 9.72 | AT125: VV | AU125: 2 | AV125: 2 | AW125: True | AX125: 1 | AY125: ROZPOCET
C126: 2 | D126: K | E126: 5905105030 | F126: Doplnění KL kamenivem souvisle strojně v koleji | G126: m3 | H126: 127.44 | J126: =ROUND(I126*H126,2) -> 0 | N126: základní | P126: =O126*H126 -> 0 | Q126: 0 | R126: =Q126*H126 -> 0 | S126: 0 | T126: =S126*H126 -> 0 | AR126: 4 | AT126: K | AU126: 2 | AY126: ROZPOCET | BE126: =IF(N126="základní",J126,0) -> 0 | BF126: =IF(N126="snížená",J126,0) -> 0 | BG126: =IF(N126="zákl. přenesená",J126,0) -> 0 | BH126: =IF(N126="sníž. přenesená",J126,0) -> 0 | BI126: =IF(N126="nulová",J126,0) -> 0 | BJ126: 1 | BK126: =ROUND(I126*H126,2) -> 0 | BL126: 4 | BM126: -972252860
D127: PP | F127: Doplnění KL kamenivem souvisle strojně v koleji. Poznámka: 1. V cenách jsou započteny náklady na doplnění kameniva ojediněle ručně vidlemi a/nebo souvisle strojně z výsypných vozů případně nakladačem. 2. V cenách nejsou obsaženy náklady na dodávku kameniva. | AT127: PP | AU127: 2
D128: VV | E128: dopl_KL | F128: GPK*1000*3,6*0,03+výměna_KL | H128: 127.44 | AT128: VV | AU128: 2 | AV128: 2 | AW128: True | AX128: 1 | AY128: ROZPOCET
C129: 3 | D129: K | E129: 5907015390 | F129: Ojedinělá výměna kolejnic současně s výměnou kompletů a pryžové podložky tv. R65 rozdělení "c" | G129: m | H129: 50 | J129: =ROUND(I129*H129,2) -> 0 | N129: základní | P129: =O129*H129 -> 0 | Q129: 0 | R129: =Q129*H129 -> 0 | S129: 0 | T129: =S129*H129 -> 0 | AR129: 4 | AT129: K | AU129: 2 | AY129: ROZPOCET | BE129: =IF(N129="základní",J129,0) -> 0 | BF129: =IF(N129="snížená",J129,0) -> 0 | BG129: =IF(N129="zákl. přenesená",J129,0) -> 0 | BH129: =IF(N129="sníž. přenesená",J129,0) -> 0 | BI129: =IF(N129="nulová",J129,0) -> 0 | BJ129: 1 | BK129: =ROUND(I129*H129,2) -> 0 | BL129: 4 | BM129: 701289875
D130: PP | F130: Ojedinělá výměna kolejnic současně s výměnou kompletů a pryžové podložky tv. R65 rozdělení "c". Poznámka: 1. V cenách jsou započteny náklady na demontáž upevňovadel, výměnu kolejnic, dílů a součástí, úpravu dilatačních spár, pryžových podložek, montáž upevňovadel, zřízení nebo demontáž prozatímních styků a ošetření součástí mazivem. 2. V cenách nejsou započteny náklady na dělení kolejnic, zřízení svaru, demontáž nebo montáž styků. | AT130: PP | AU130: 2
C131: 4 | D131: K | E131: 5907050110 | F131: Dělení kolejnic kyslíkem soustavy UIC60 nebo R65 | G131: kus | H131: 4 | J131: =ROUND(I131*H131,2) -> 0 | N131: základní | P131: =O131*H131 -> 0 | Q131: 0 | R131: =Q131*H131 -> 0 | S131: 0 | T131: =S131*H131 -> 0 | AR131: 4 | AT131: K | AU131: 2 | AY131: ROZPOCET | BE131: =IF(N131="základní",J131,0) -> 0 | BF131: =IF(N131="snížená",J131,0) -> 0 | BG131: =IF(N131="zákl. přenesená",J131,0) -> 0 | BH131: =IF(N131="sníž. přenesená",J131,0) -> 0 | BI131: =IF(N131="nulová",J131,0) -> 0 | BJ131: 1 | BK131: =ROUND(I131*H131,2) -> 0 | BL131: 4 | BM131: -697460888
D132: PP | F132: Dělení kolejnic kyslíkem soustavy UIC60 nebo R65. Poznámka: 1. V cenách jsou započteny náklady na manipulaci, podložení, označení a provedení řezu kolejnice. | AT132: PP | AU132: 2
C133: 5 | D133: K | E133: 5908050010 | F133: Výměna upevnění podkladnicového komplety a pryžová podložka | G133: úl.pl. | H133: 102 | J133: =ROUND(I133*H133,2) -> 0 | N133: základní | P133: =O133*H133 -> 0 | Q133: 0 | R133: =Q133*H133 -> 0 | S133: 0 | T133: =S133*H133 -> 0 | AR133: 4 | AT133: K | AU133: 2 | AY133: ROZPOCET | BE133: =IF(N133="základní",J133,0) -> 0 | BF133: =IF(N133="snížená",J133,0) -> 0 | BG133: =IF(N133="zákl. přenesená",J133,0) -> 0 | BH133: =IF(N133="sníž. přenesená",J133,0) -> 0 | BI133: =IF(N133="nulová",J133,0) -> 0 | BJ133: 1 | BK133: =ROUND(I133*H133,2) -> 0 | BL133: 4 | BM133: 1801530493
D134: PP | F134: Výměna upevnění podkladnicového komplety a pryžová podložka. Poznámka: 1. V cenách jsou započteny náklady na demontáž, výměnu a montáž, ošetření součástí mazivem a naložení výzisku na dopravní prostředek. 2. V cenách nejsou obsaženy náklady na vrtání pražce a dodávku materiálu. | AT134: PP | AU134: 2
D135: VV | F135: (25+26)*2 "51 pražců s pružným upevněním | H135: 102 | AT135: VV | AU135: 2 | AV135: 2 | AW135: True | AX135: 1 | AY135: ROZPOCET
C136: 6 | D136: K | E136: 5909032020 | F136: Přesná úprava GPK koleje směrové a výškové uspořádání pražce betonové | G136: km | H136: 1.09 | J136: =ROUND(I136*H136,2) -> 0 | N136: základní | P136: =O136*H136 -> 0 | Q136: 0 | R136: =Q136*H136 -> 0 | S136: 0 | T136: =S136*H136 -> 0 | AR136: 4 | AT136: K | AU136: 2 | AY136: ROZPOCET | BE136: =IF(N136="základní",J136,0) -> 0 | BF136: =IF(N136="snížená",J136,0) -> 0 | BG136: =IF(N136="zákl. přenesená",J136,0) -> 0 | BH136: =IF(N136="sníž. přenesená",J136,0) -> 0 | BI136: =IF(N136="nulová",J136,0) -> 0 | BJ136: 1 | BK136: =ROUND(I136*H136,2) -> 0 | BL136: 4 | BM136: -553236093
D137: PP | F137: Přesná úprava GPK koleje směrové a výškové uspořádání pražce betonové. Poznámka: 1. V cenách jsou započteny náklady na úpravu směrového a výškového uspořádání strojní linkou ASP s přesným zaměřením její prostorové polohy, úpravu KL pluhem a měření mezních stavebních odchylek dle ČSN, měření technologických veličin a předání tištěných výstupů objednateli. 2. V cenách nejsou obsaženy náklady na zaměření APK, doplnění a dodávku kameniva a snížení KL pod patou kolejnice. | AT137: PP | AU137: 2
D138: VV | E138: GPK | F138: 1,09 "km 13,430 – 14,528 (odečteno 8 m na přejezd P7247) | H138: 1.09 | AT138: VV | AU138: 2 | AV138: 2 | AW138: True | AX138: 1 | AY138: ROZPOCET
C139: 7 | D139: K | E139: 5910020020 | F139: Svařování kolejnic termitem plný předehřev standardní spára svar sériový tv. R65 | G139: svar | H139: 4 | J139: =ROUND(I139*H139,2) -> 0 | N139: základní | P139: =O139*H139 -> 0 | Q139: 0 | R139: =Q139*H139 -> 0 | S139: 0 | T139: =S139*H139 -> 0 | AR139: 4 | AT139: K | AU139: 2 | AY139: ROZPOCET | BE139: =IF(N139="základní",J139,0) -> 0 | BF139: =IF(N139="snížená",J139,0) -> 0 | BG139: =IF(N139="zákl. přenesená",J139,0) -> 0 | BH139: =IF(N139="sníž. přenesená",J139,0) -> 0 | BI139: =IF(N139="nulová",J139,0) -> 0 | BJ139: 1 | BK139: =ROUND(I139*H139,2) -> 0 | BL139: 4 | BM139: -1261096674
D140: PP | F140: Svařování kolejnic termitem plný předehřev standardní spára svar sériový tv. R65. Poznámka: 1. V cenách jsou započteny náklady na vybrání kameniva z mezipražcového prostoru, demontáž upevňovadel, směrové a výškové vyrovnání kolejnic, provedení svaru, montáž upevňovadel, vizuální kontrola, měření geometrie svaru. 2. V cenách nejsou obsaženy náklady na kontrolu svaru ultrazvukem, podbití pražců a demontáž styku. | AT140: PP | AU140: 2
C141: 8 | D141: K | E141: 5910040010 | F141: Umožnění volné dilatace kolejnice demontáž upevňovadel bez osazení kluzných podložek rozdělení pražců "c" | G141: m | H141: 200 | J141: =ROUND(I141*H141,2) -> 0 | N141: základní | P141: =O141*H141 -> 0 | Q141: 0 | R141: =Q141*H141 -> 0 | S141: 0 | T141: =S141*H141 -> 0 | AR141: 4 | AT141: K | AU141: 2 | AY141: ROZPOCET | BE141: =IF(N141="základní",J141,0) -> 0 | BF141: =IF(N141="snížená",J141,0) -> 0 | BG141: =IF(N141="zákl. přenesená",J141,0) -> 0 | BH141: =IF(N141="sníž. přenesená",J141,0) -> 0 | BI141: =IF(N141="nulová",J141,0) -> 0 | BJ141: 1 | BK141: =ROUND(I141*H141,2) -> 0 | BL141: 4 | BM141: 1341329003
D142: PP | F142: Umožnění volné dilatace kolejnice demontáž upevňovadel bez osazení kluzných podložek rozdělení pražců "c". Poznámka: 1. V cenách jsou započteny náklady na uvolnění, demontáž a rovnoměrné prodloužení nebo zkrácení kolejnice, vyznačení značek a vedení dokumentace. 2. V cenách nejsou obsaženy náklady na demontáž kolejnicových spojek. | AT142: PP | AU142: 2
D143: VV | F143: 4*50 | H143: 200 | AT143: VV | AU143: 2 | AV143: 2 | AW143: True | AX143: 1 | AY143: ROZPOCET
C144: 9 | D144: K | E144: 5910040110 | F144: Umožnění volné dilatace kolejnice montáž upevňovadel bez odstranění kluzných podložek rozdělení pražců "c" | G144: m | H144: 200 | J144: =ROUND(I144*H144,2) -> 0 | N144: základní | P144: =O144*H144 -> 0 | Q144: 0 | R144: =Q144*H144 -> 0 | S144: 0 | T144: =S144*H144 -> 0 | AR144: 4 | AT144: K | AU144: 2 | AY144: ROZPOCET | BE144: =IF(N144="základní",J144,0) -> 0 | BF144: =IF(N144="snížená",J144,0) -> 0 | BG144: =IF(N144="zákl. přenesená",J144,0) -> 0 | BH144: =IF(N144="sníž. přenesená",J144,0) -> 0 | BI144: =IF(N144="nulová",J144,0) -> 0 | BJ144: 1 | BK144: =ROUND(I144*H144,2) -> 0 | BL144: 4 | BM144: -149707640
D145: PP | F145: Umožnění volné dilatace kolejnice montáž upevňovadel bez odstranění kluzných podložek rozdělení pražců "c". Poznámka: 1. V cenách jsou započteny náklady na uvolnění, demontáž a rovnoměrné prodloužení nebo zkrácení kolejnice, vyznačení značek a vedení dokumentace. 2. V cenách nejsou obsaženy náklady na demontáž kolejnicových spojek. | AT145: PP | AU145: 2
D146: VV | F146: 4*50 | H146: 200 | AT146: VV | AU146: 2 | AV146: 2 | AW146: True | AX146: 1 | AY146: ROZPOCET
C147: 10 | D147: K | E147: 5913035210 | F147: Demontáž celopryžové přejezdové konstrukce silně zatížené v koleji část vnější a vnitřní bez závěrných zídek | G147: m | H147: 13.2 | J147: =ROUND(I147*H147,2) -> 0 | N147: základní | P147: =O147*H147 -> 0 | Q147: 0 | R147: =Q147*H147 -> 0 | S147: 0 | T147: =S147*H147 -> 0 | AR147: 4 | AT147: K | AU147: 2 | AY147: ROZPOCET | BE147: =IF(N147="základní",J147,0) -> 0 | BF147: =IF(N147="snížená",J147,0) -> 0 | BG147: =IF(N147="zákl. přenesená",J147,0) -> 0 | BH147: =IF(N147="sníž. přenesená",J147,0) -> 0 | BI147: =IF(N147="nulová",J147,0) -> 0 | BJ147: 1 | BK147: =ROUND(I147*H147,2) -> 0 | BL147: 4 | BM147: -331591612
D148: PP | F148: Demontáž celopryžové přejezdové konstrukce silně zatížené v koleji část vnější a vnitřní bez závěrných zídek. Poznámka: 1. V cenách jsou započteny náklady na demontáž konstrukce, naložení na dopravní prostředek. | AT148: PP | AU148: 2
D149: VV | F149: 22*0,6 | H149: 13.2 | AT149: VV | AU149: 2 | AV149: 2 | AW149: True | AX149: 1 | AY149: ROZPOCET
C150: 11 | D150: K | E150: 5913040210 | F150: Montáž celopryžové přejezdové konstrukce silně zatížené v koleji část vnější a vnitřní bez závěrných zídek | G150: m | H150: 13.2 | J150: =ROUND(I150*H150,2) -> 0 | N150: základní | P150: =O150*H150 -> 0 | Q150: 0 | R150: =Q150*H150 -> 0 | S150: 0 | T150: =S150*H150 -> 0 | AR150: 4 | AT150: K | AU150: 2 | AY150: ROZPOCET | BE150: =IF(N150="základní",J150,0) -> 0 | BF150: =IF(N150="snížená",J150,0) -> 0 | BG150: =IF(N150="zákl. přenesená",J150,0) -> 0 | BH150: =IF(N150="sníž. přenesená",J150,0) -> 0 | BI150: =IF(N150="nulová",J150,0) -> 0 | BJ150: 1 | BK150: =ROUND(I150*H150,2) -> 0 | BL150: 4 | BM150: -1606083233
D151: PP | F151: Montáž celopryžové přejezdové konstrukce silně zatížené v koleji část vnější a vnitřní bez závěrných zídek. Poznámka: 1. V cenách jsou započteny náklady na montáž konstrukce. 2. V cenách nejsou obsaženy náklady na dodávku materiálu. | AT151: PP | AU151: 2
D152: VV | F152: 22*0,6 | H152: 13.2 | AT152: VV | AU152: 2 | AV152: 2 | AW152: True | AX152: 1 | AY152: ROZPOCET
D153: D | E153: M | F153: Dodávky materiálu | J153: =BK153 -> 0 | P153: =SUM(P154:P165) -> 0 | R153: =SUM(R154:R165) -> 204.01716 | T153: =SUM(T154:T165) -> 0 | AR153: 3 | AT153: D | AU153: 0 | AY153: ROZPOCET | BK153: =SUM(BK154:BK165) -> 0
C154: 12 | D154: M | E154: 5955101005 | F154: Kamenivo drcené štěrk frakce 31,5/63 třídy min. BII | G154: t | H154: 203.904 | J154: =ROUND(I154*H154,2) -> 0 | N154: základní | P154: =O154*H154 -> 0 | Q154: 1 | R154: =Q154*H154 -> 203.904 | S154: 0 | T154: =S154*H154 -> 0 | AR154: 8 | AT154: M | AU154: 1 | AY154: ROZPOCET | BE154: =IF(N154="základní",J154,0) -> 0 | BF154: =IF(N154="snížená",J154,0) -> 0 | BG154: =IF(N154="zákl. přenesená",J154,0) -> 0 | BH154: =IF(N154="sníž. přenesená",J154,0) -> 0 | BI154: =IF(N154="nulová",J154,0) -> 0 | BJ154: 1 | BK154: =ROUND(I154*H154,2) -> 0 | BL154: 4 | BM154: -1202179683
D155: PP | F155: Kamenivo drcené štěrk frakce 31,5/63 třídy min. BII | AT155: PP | AU155: 1
D156: VV | E156: štěrk | F156: dopl_KL*1,6 | H156: 203.904 | AT156: VV | AU156: 1 | AV156: 2 | AW156: True | AX156: 1 | AY156: ROZPOCET
C157: 13 | D157: M | E157: 5958125010 | F157: Komplety s antikorozní úpravou ŽS 4 (svěrka ŽS4, šroub RS 1, matice M24, podložka Fe6) | G157: kus | H157: 92 | J157: =ROUND(I157*H157,2) -> 0 | N157: základní | P157: =O157*H157 -> 0 | Q157: 0.00123 | R157: =Q157*H157 -> 0.11316 | S157: 0 | T157: =S157*H157 -> 0 | AR157: 8 | AT157: M | AU157: 1 | AY157: ROZPOCET | BE157: =IF(N157="základní",J157,0) -> 0 | BF157: =IF(N157="snížená",J157,0) -> 0 | BG157: =IF(N157="zákl. přenesená",J157,0) -> 0 | BH157: =IF(N157="sníž. přenesená",J157,0) -> 0 | BI157: =IF(N157="nulová",J157,0) -> 0 | BJ157: 1 | BK157: =ROUND(I157*H157,2) -> 0 | BL157: 4 | BM157: 1761518587
D158: PP | F158: Komplety s antikorozní úpravou ŽS 4 (svěrka ŽS4, šroub RS 1, matice M24, podložka Fe6) | AT158: PP | AU158: 1
D159: VV | F159: 23*4 | H159: 92 | AT159: VV | AU159: 1 | AV159: 2 | AW159: True | AX159: 1 | AY159: ROZPOCET
C160: 14 | D160: M | E160: 5963101050 | F160: Přejezd celopryžový Strail spínací táhlo střední 1200 mm | G160: kus | H160: 4 | J160: =ROUND(I160*H160,2) -> 0 | N160: základní | P160: =O160*H160 -> 0 | Q160: 0 | R160: =Q160*H160 -> 0 | S160: 0 | T160: =S160*H160 -> 0 | AR160: 8 | AT160: M | AU160: 1 | AY160: ROZPOCET | BE160: =IF(N160="základní",J160,0) -> 0 | BF160: =IF(N160="snížená",J160,0) -> 0 | BG160: =IF(N160="zákl. přenesená",J160,0) -> 0 | BH160: =IF(N160="sníž. přenesená",J160,0) -> 0 | BI160: =IF(N160="nulová",J160,0) -> 0 | BJ160: 1 | BK160: =ROUND(I160*H160,2) -> 0 | BL160: 4 | BM160: -1175080380
D161: PP | F161: Přejezd celopryžový Strail spínací táhlo střední 1200 mm | AT161: PP | AU161: 1
C162: 15 | D162: M | E162: 5963101085 | F162: Přejezd celopryžový Strail spínací táhlo 1200 mm | G162: kus | H162: 40 | J162: =ROUND(I162*H162,2) -> 0 | N162: základní | P162: =O162*H162 -> 0 | Q162: 0 | R162: =Q162*H162 -> 0 | S162: 0 | T162: =S162*H162 -> 0 | AR162: 8 | AT162: M | AU162: 1 | AY162: ROZPOCET | BE162: =IF(N162="základní",J162,0) -> 0 | BF162: =IF(N162="snížená",J162,0) -> 0 | BG162: =IF(N162="zákl. přenesená",J162,0) -> 0 | BH162: =IF(N162="sníž. přenesená",J162,0) -> 0 | BI162: =IF(N162="nulová",J162,0) -> 0 | BJ162: 1 | BK162: =ROUND(I162*H162,2) -> 0 | BL162: 4 | BM162: 1326965016
D163: PP | F163: Přejezd celopryžový Strail spínací táhlo 1200 mm | AT163: PP | AU163: 1
C164: 16 | D164: M | E164: 5963101035 | F164: Přejezd celopryžový Strail panel vnitřní | G164: kus | H164: 22 | J164: =ROUND(I164*H164,2) -> 0 | N164: základní | P164: =O164*H164 -> 0 | Q164: 0 | R164: =Q164*H164 -> 0 | S164: 0 | T164: =S164*H164 -> 0 | AR164: 8 | AT164: M | AU164: 1 | AY164: ROZPOCET | BE164: =IF(N164="základní",J164,0) -> 0 | BF164: =IF(N164="snížená",J164,0) -> 0 | BG164: =IF(N164="zákl. přenesená",J164,0) -> 0 | BH164: =IF(N164="sníž. přenesená",J164,0) -> 0 | BI164: =IF(N164="nulová",J164,0) -> 0 | BJ164: 1 | BK164: =ROUND(I164*H164,2) -> 0 | BL164: 4 | BM164: 1099734388
D165: PP | F165: Přejezd celopryžový Strail panel vnitřní | AT165: PP | AU165: 1
...

Sheet VON - Vedlejší a ostatní ...
AT2: {3e16e897-eb0a-42a4-ac68-ee477f35831c}
AT3: 2
D4: KRYCÍ LIST SOUPISU PRACÍ | M4: v --- níže se nacházejí doplnkové a pomocné údaje k sestavám --- v | AT4: False
D6: Stavba:
E7: ='Rekapitulace stavby'!K6 -> Oprava trati v úseku Kojetín - Valašské Meziříčí
D8: Objekt:
E9: VON - Vedlejší a ostatní náklady
D11: KSO: | I11: CC-CZ:
D12: Místo: | F12: Kroměříž – Kojetín | I12: Datum: | J12: ='Rekapitulace stavby'!AN8 -> 1. 3. 2021
D14: Zadavatel: | I14: IČ: | J14: 70994234
E15: Správa železnic, státní organizace | I15: DIČ:
D17: Uchazeč: | I17: IČ: | J17: ='Rekapitulace stavby'!AN13 -> Vyplň údaj
E18: ='Rekapitulace stavby'!E14 -> Vyplň údaj | I18: DIČ: | J18: ='Rekapitulace stavby'!AN14 -> Vyplň údaj
D20: Projektant: | I20: IČ: | J20: =IF('Rekapitulace stavby'!AN16="","",'Rekapitulace stavby'!AN16)
E21: =IF('Rekapitulace stavby'!E17="","",'Rekapitulace stavby'!E17) | I21: DIČ: | J21: =IF('Rekapitulace stavby'!AN17="","",'Rekapitulace stavby'!AN17)
D23: Zpracovatel: | I23: IČ:
E24: Jiří Vendel | I24: DIČ:
D26: Poznámka:
D30: Cena bez DPH | J30: =ROUND(J117, 2) -> 0
F32: Základ daně | I32: Sazba daně | J32: Výše daně
D33: DPH | E33: základní | F33: =ROUND((SUM(BE117:BE127)), 2) -> 0 | I33: 0.21 | J33: =ROUND(((SUM(BE117:BE127))*I33), 2) -> 0
E34: snížená | F34: =ROUND((SUM(BF117:BF127)), 2) -> 0 | I34: 0.15 | J34: =ROUND(((SUM(BF117:BF127))*I34), 2) -> 0
E35: zákl. přenesená | F35: =ROUND((SUM(BG117:BG127)), 2) -> 0 | I35: 0.21 | J35: =0 -> 0
E36: sníž. přenesená | F36: =ROUND((SUM(BH117:BH127)), 2) -> 0 | I36: 0.15 | J36: =0 -> 0
E37: nulová | F37: =ROUND((SUM(BI117:BI127)), 2) -> 0 | I37: 0 | J37: =0 -> 0
D39: Cena s DPH | G39: v | H39: CZK | J39: =SUM(J30:J37) -> 0
D50: Projektant | G50: Zpracovatel
D61: Datum a podpis: | F61: Razítko | G61: Datum a podpis: | J61: Razítko
D65: Objednavatel | G65: Uchazeč
D76: Datum a podpis: | F76: Razítko | G76: Datum a podpis: | J76: Razítko
C82: REKAPITULACE ČLENĚNÍ SOUPISU PRACÍ
C84: Stavba:
E85: =E7 -> Oprava trati v úseku Kojetín - Valašské Meziříčí
C86: Objekt:
E87: =E9 -> VON - Vedlejší a ostatní náklady
C89: Místo: | F89: =F12 -> Kroměříž – Kojetín | I89: Datum: | J89: =IF(J12="","",J12) -> 1. 3. 2021
C91: Zadavatel: | F91: =E15 -> Správa železnic, státní organizace | I91: Projektant: | J91: =E21
C92: Uchazeč: | F92: =IF(E18="","",E18) -> Vyplň údaj | I92: Zpracovatel: | J92: =E24 -> Jiří Vendel
C94: Kód dílu - Popis | J94: Cena celkem [CZK]
C96: Náklady ze soupisu prací | J96: =J117 -> 0 | AU96: -1
D97: VRN - Vedlejší rozpočtové náklady | J97: =J118 -> 0
C104: SOUPIS PRACÍ
C106: Stavba:
E107: =E7 -> Oprava trati v úseku Kojetín - Valašské Meziříčí
C108: Objekt:
E109: =E9 -> VON - Vedlejší a ostatní náklady
C111: Místo: | F111: =F12 -> Kroměříž – Kojetín | I111: Datum: | J111: =IF(J12="","",J12) -> 1. 3. 2021
C113: Zadavatel: | F113: =E15 -> Správa železnic, státní organizace | I113: Projektant: | J113: =E21
C114: Uchazeč: | F114: =IF(E18="","",E18) -> Vyplň údaj | I114: Zpracovatel: | J114: =E24 -> Jiří Vendel
C116: PČ | D116: Typ | E116: Kód | F116: Popis | G116: MJ | H116: Množství | I116: J.cena [CZK] | J116: Cena celkem [CZK] | K116: Cenová soustava | N116: DPH | O116: J. Nh [h] | P116: Nh celkem [h] | Q116: J. hmotnost [t] | R116: Hmotnost celkem [t] | S116: J. suť [t] | T116: Suť Celkem [t]
C117: Náklady soupisu celkem | J117: =BK117 -> 0 | P117: =P118 -> 0 | R117: =R118 -> 0 | T117: =T118 -> 0 | AT117: D | AU117: -1 | BK117: =BK118 -> 0
D118: D | E118: VRN | F118: Vedlejší rozpočtové náklady | J118: =BK118 -> 0 | P118: =SUM(P119:P127) -> 0 | R118: =SUM(R119:R127) -> 0 | T118: =SUM(T119:T127) -> 0 | AR118: 5 | AT118: D | AU118: 0 | AY118: ROZPOCET | BK118: =SUM(BK119:BK127) -> 0
C119: 1 | D119: K | E119: 033111001 | F119: Provozní vlivy Výluka silničního provozu se zajištěním objížďky | G119: Kč | H119: 2 | J119: =ROUND(I119*H119,2) -> 0 | N119: základní | P119: =O119*H119 -> 0 | Q119: 0 | R119: =Q119*H119 -> 0 | S119: 0 | T119: =S119*H119 -> 0 | AR119: 4 | AT119: K | AU119: 1 | AY119: ROZPOCET | BE119: =IF(N119="základní",J119,0) -> 0 | BF119: =IF(N119="snížená",J119,0) -> 0 | BG119: =IF(N119="zákl. přenesená",J119,0) -> 0 | BH119: =IF(N119="sníž. přenesená",J119,0) -> 0 | BI119: =IF(N119="nulová",J119,0) -> 0 | BJ119: 1 | BK119: =ROUND(I119*H119,2) -> 0 | BL119: 4 | BM119: 109660563
D120: PP | F120: Provozní vlivy Výluka silničního provozu se zajištěním objížďky | AT120: PP | AU120: 1
D121: VV | F121: 2 "P7233, P7248 | H121: 2 | AT121: VV | AU121: 1 | AV121: 2 | AW121: True | AX121: 1 | AY121: ROZPOCET
C122: 2 | D122: K | E122: 033131001 | F122: Provozní vlivy Organizační zajištění prací při zřizování a udržování BK kolejí a výhybek | G122: m | H122: 125 | J122: =ROUND(I122*H122,2) -> 0 | N122: základní | P122: =O122*H122 -> 0 | Q122: 0 | R122: =Q122*H122 -> 0 | S122: 0 | T122: =S122*H122 -> 0 | AR122: 4 | AT122: K | AU122: 1 | AY122: ROZPOCET | BE122: =IF(N122="základní",J122,0) -> 0 | BF122: =IF(N122="snížená",J122,0) -> 0 | BG122: =IF(N122="zákl. přenesená",J122,0) -> 0 | BH122: =IF(N122="sníž. přenesená",J122,0) -> 0 | BI122: =IF(N122="nulová",J122,0) -> 0 | BJ122: 1 | BK122: =ROUND(I122*H122,2) -> 0 | BL122: 4 | BM122: -1040697769
D123: PP | F123: Provozní vlivy Organizační zajištění prací při zřizování a udržování BK kolejí a výhybek - Organizační zajištění prací při zřizování a udržování bezstykové koleje podle př. S3/2, zejména technologická příprava pořízení schématu a projednání postupu, kontrola připravenosti a řízení postupu prací, předání prací a dokladů objednateli. | AT123: PP | AU123: 1
D124: VV | F124: 25+2*50 "přejezd P7248 | H124: 125 | AT124: VV | AU124: 1 | AV124: 2 | AW124: True | AX124: 1 | AY124: ROZPOCET
C125: 3 | D125: K | E125: 034111001 | F125: Další náklady na pracovníky Zákonné příplatky ke mzdě za práci o sobotách, nedělích a státem uznaných svátcích | G125: Kč/hod | H125: 160 | J125: =ROUND(I125*H125,2) -> 0 | N125: základní | P125: =O125*H125 -> 0 | Q125: 0 | R125: =Q125*H125 -> 0 | S125: 0 | T125: =S125*H125 -> 0 | AR125: 4 | AT125: K | AU125: 1 | AY125: ROZPOCET | BE125: =IF(N125="základní",J125,0) -> 0 | BF125: =IF(N125="snížená",J125,0) -> 0 | BG125: =IF(N125="zákl. přenesená",J125,0) -> 0 | BH125: =IF(N125="sníž. přenesená",J125,0) -> 0 | BI125: =IF(N125="nulová",J125,0) -> 0 | BJ125: 1 | BK125: =ROUND(I125*H125,2) -> 0 | BL125: 4 | BM125: -702858522
D126: PP | F126: Další náklady na pracovníky Zákonné příplatky ke mzdě za práci o sobotách, nedělích a státem uznaných svátcích | AT126: PP | AU126: 1
D127: VV | F127: 10*8*2 | H127: 160 | AT127: VV | AU127: 1 | AV127: 2 | AW127: True | AX127: 1 | AY127: ROZPOCET

Sheet Seznam figur
C4: SEZNAM FIGUR
C5: Kód: | D5: A35
C6: Stavba: | D6: Oprava trati v úseku Kojetín - Valašské Meziříčí
C7: Datum: | D7: ='Rekapitulace stavby'!AN8 -> 1. 3. 2021
C9: Kód | D9: Popis | E9: MJ | F9: Výměra
C10: SO01 | D10: Výměna kolejnic Hradisko – Postoupky
C11: AB_nový | F11: 2.88
C12: AB_nový | D12: živice_odpad*0,1*2,4 | F12: 2.88
C13: Použití figury:
C14: 5963146000 | D14: Asfaltový beton ACO 11S 50/70 střednězrnný-obrusná vrstva | E14: t | F14: 2.88
C15: 9902100200 | D15: Doprava obousměrná (např. dodávek z vlastních zásob zhotovitele nebo objednatele nebo výzisku) mechanizací o nosnosti přes 3,5 t sypanin (kameniva, písku, suti, dlažebních kostek, atd.) do 20 km – AB | E15: t | F15: 5.76
C16: AB_suť | F16: 2.88
C17: AB_suť | D17: živice_odpad*0,1*2,4 | F17: 2.88
C18: Použití figury:
C19: 9909000100 | D19: Poplatek za uložení suti nebo hmot na oficiální skládku | E19: t | F19: 2.88
C20: 9902100200 | D20: Doprava obousměrná (např. dodávek z vlastních zásob zhotovitele nebo objednatele nebo výzisku) mechanizací o nosnosti přes 3,5 t sypanin (kameniva, písku, suti, dlažebních kostek, atd.) do 20 km – AB | E20: t | F20: 5.76
C21: dělení_AB | F21: 12
C22: dělení_AB | D22: 3*2*2 "2 přejezdy a 2 řezech | F22: 12
C23: Použití figury:
C24: 5913235010 | D24: Dělení AB komunikace řezáním hloubky do 10 cm | E24: m | F24: 12
C25: 5963155005 | D25: Asfaltová páska těsnící | E25: m | F25: 12
C26: doměry | F26: 225.6
D27: ((6177-4860)-(R65_75m*75)/2-4,0-3,5-12,7)*2 "doměry | F27: 43.6
D28: (9+25+25+7+25)*2 "km 6,497 – 6,592 dl. 25 m - 4,0 m LIS | F28: 182
C29: doměry | D29: Součet | F29: 225.6
C30: Použití figury:
C31: 5907020465 | D31: Souvislá výměna kolejnic současně s výměnou pryžové podložky tv. R65 rozdělení "c" – dl. 25 m + doměry | E31: m | F31: 225.6
C32: 5907045110 | D32: Příplatek za obtížnost při výměně kolejnic na rozponových podkladnicích tv. R65 | E32: m | F32: 2775.6
C33: dopl_KL | F33: 291.564
C34: dopl_KL | D34: GPK*1000*3,6*0,03+KL_přejezdy_most | F34: 291.564
C35: Použití figury:
C36: 5905105030 | D36: Doplnění KL kamenivem souvisle strojně v koleji | E36: m3 | F36: 291.564
C37: 5955101005 | D37: Kamenivo drcené štěrk frakce 31,5/63 třídy min. BII | E37: t | F37: 564.077
C38: GPK | F38: 2.135
C39: GPK | D39: (6,885-4,750) | F39: 2.135
C40: Použití figury:
C41: 5909032020 | D41: Přesná úprava GPK koleje směrové a výškové uspořádání pražce betonové | E41: km | F41: 2.135
C42: 5905105030 | D42: Doplnění KL kamenivem souvisle strojně v koleji | E42: m3 | F42: 291.564
C43: KL_přejezdy_most | F43: 60.984
D44: ((3,8*0,3+3,6*0,15)*10-15*0,25*0,15*2,6)*2 "2 přejezdy | F44: 30.675
D45: 4,5*0,45*16-24*2,42*0,24*0,15 "výměna KL na mostě v km 5,634 | F45: 30.309
C46: KL_přejezdy_most | D46: Součet | F46: 60.984
C47: Použití figury:
C48: 5905035120 | D48: Výměna KL malou těžící mechanizací včetně lavičky pod ložnou plochou pražce lože zapuštěné | E48: m3 | F48: 60.984
C49: 5905105030 | D49: Doplnění KL kamenivem souvisle strojně v koleji | E49: m3 | F49: 291.564
C50: 5955101005 | D50: Kamenivo drcené štěrk frakce 31,5/63 třídy min. BII | E50: t | F50: 564.077
C51: R65_75m | F51: 34
C52: R65_75m | D52: 34 | F52: 34
C53: Použití figury:
C54: 5957104045 | D54: Kolejnicové pásy třídy R260 tv. R65 délky 75 metrů – dodávka SPRÁVY ŽELEZNIC | E54: kus | F54: 34
C55: 5907020465 | D55: Souvislá výměna kolejnic současně s výměnou pryžové podložky tv. R65 rozdělení "c" – dl. 25 m + doměry | E55: m | F55: 225.6
C56: 5907025465 | D56: Výměna kolejnicových pásů současně s výměnou pryžové podložky tv. R65 rozdělení "c" – dl. 75 m | E56: m | F56: 2550
C57: 5907045110 | D57: Příplatek za obtížnost při výměně kolejnic na rozponových podkladnicích tv. R65 | E57: m | F57: 2775.6
C58: 9902200100 | D58: Doprava obousměrná (např. dodávek z vlastních zásob zhotovitele nebo objednatele nebo výzisku) mechanizací o nosnosti přes 3,5 t objemnějšího kusového materiálu (prefabrikátů, stožárů, výhybek, rozvaděčů, vybouraných hmot atd.) do 10 km – SLOŽENÍ KOLEJNIC | E58: t | F58: 175.149
C59: styk | F59: 38
C60: styk | D60: 36+2 "km 4,860 – 6,117 + km 6,497 – 6,592 | F60: 38
C61: Použití figury:
C62: 5908010020 | D62: Zřízení kolejnicového styku bez rozřezu tv. R65 | E62: styk | F62: 38
C63: 5907055030 | D63: Vrtání kolejnic otvor o průměru přes 23 mm | E63: kus | F63: 152
C64: štěrk | F64: 564.077
C65: štěrk | D65: (KL_přejezdy_most+dopl_KL)*1,6 | F65: 564.077
C66: Použití figury:
C67: 5955101005 | D67: Kamenivo drcené štěrk frakce 31,5/63 třídy min. BII | E67: t | F67: 564.077
C68: 9902100400 | D68: Doprava obousměrná (např. dodávek z vlastních zásob zhotovitele nebo objednatele nebo výzisku) mechanizací o nosnosti přes 3,5 t sypanin (kameniva, písku, suti, dlažebních kostek, atd.) do 40 km – ŠTĚRK | E68: t | F68: 564.077
C69: živice_odpad | F69: 12
C70: živice_odpad | D70: 3*2*2 "živice na přejezdu P7238 | F70: 12
C71: Použití figury:
C72: 5913240010 | D72: Odstranění AB komunikace odtěžením nebo frézováním hloubky do 10 cm | E72: m2 | F72: 12
C73: 9909000100 | D73: Poplatek za uložení suti nebo hmot na oficiální skládku | E73: t | F73: 2.88
C74: 5963146000 | D74: Asfaltový beton ACO 11S 50/70 střednězrnný-obrusná vrstva | E74: t | F74: 2.88
C75: SO02 | D75: Oprava přejezdu P7248 (km 13,945)
C76: dopl_KL | F76: 127.44
C77: dopl_KL | D77: GPK*1000*3,6*0,03+výměna_KL | F77: 127.44
C78: Použití figury:
C79: 5905105030 | D79: Doplnění KL kamenivem souvisle strojně v koleji | E79: m3 | F79: 127.44
C80: 5955101005 | D80: Kamenivo drcené štěrk frakce 31,5/63 třídy min. BII | E80: t | F80: 203.904
C81: GPK | F81: 1.09
C82: GPK | D82: 1,09 "km 13,430 – 14,528 (odečteno 8 m na přejezd P7247) | F82: 1.09
C83: Použití figury:
C84: 5909032020 | D84: Přesná úprava GPK koleje směrové a výškové uspořádání pražce betonové | E84: km | F84: 1.09
C85: 5905105030 | D85: Doplnění KL kamenivem souvisle strojně v koleji | E85: m3 | F85: 127.44
C86: R65_75m | F86: 36
C87: štěrk | F87: 203.904
C88: štěrk | D88: dopl_KL*1,6 | F88: 203.904
C89: Použití figury:
C90: 5955101005 | D90: Kamenivo drcené štěrk frakce 31,5/63 třídy min. BII | E90: t | F90: 203.904
C91: 9902100400 | D91: Doprava obousměrná (např. dodávek z vlastních zásob zhotovitele nebo objednatele nebo výzisku) mechanizací o nosnosti přes 3,5 t sypanin (kameniva, písku, suti, dlažebních kostek, atd.) do 40 km – ŠTĚRK | E91: t | F91: 203.904
C92: výměna_KL | F92: 9.72
C93: výměna_KL | D93: 0,45*(0,6-0,24)*2,4*25 "25 kastlů | F93: 9.72
C94: Použití figury:
C95: 5905035020 | D95: Výměna KL malou těžící mechanizací mimo lavičku lože zapuštěné | E95: m3 | F95: 9.72
C96: 5905105030 | D96: Doplnění KL kamenivem souvisle strojně v koleji | E96: m3 | F96: 127.44
