Workbook

Sheet Rekapitulace stavby
A1: Export Komplet | BA1: 2.0 | BB1: ZAMOK | BT1: False | BU1: False | BV1: {092bc950-538c-414a-b369-d388c572eda6}
BS2: 0,01 | BT2: 21
BS3: 0,01 | BT3: 15
D4: REKAPITULACE STAVBY | AS4: v --- níže se nacházejí doplnkové a pomocné údaje k sestavám --- v | BE4: Návod na vyplnění | BS4: 0,001
D5: Kód: | K5: A35 | BE5: Měnit lze pouze buňky se žlutým podbarvením!_x000D_ _x000D_ 1) na prvním listu Rekapitulace stavby vyplňte v sestavě_x000D_ _x000D_ a) Souhrnný list_x000D_ - údaje o Uchazeči_x000D_ (přenesou se do ostatních sestav i v jiných listech)_x000D_ _x000D_ b) Rekapitulace objektů_x000D_ - potřebné Ostatní náklady_x000D_ _x000D_ 2) na vybraných listech vyplňte v sestavě_x000D_ _x000D_ a) Krycí list_x000D_ - údaje o Uchazeči, pokud se liší od údajů o Uchazeči na Souhrnném listu_x000D_ (údaje se přenesou do ostatních sestav v daném listu)_x000D_ _x000D_ b) Rekapitulace rozpočtu_x000D_ - potřebné Ostatní náklady_x000D_ _x000D_ c) Celkové náklady za stavbu_x000D_ - ceny u položek_x000D_ - množství, pokud má žluté podbarvení_x000D_ - a v případě potřeby poznámku (ta je ve skrytém sloupci) | BS5: 0,01
D6: Stavba: | K6: Oprava trati v úseku Kojetín - Valašské Meziříčí | BS6: 0,01
D7: KSO: | AK7: CC-CZ: | BS7: 0,01
D8: Místo: | K8: Kroměříž – Kojetín | AK8: Datum: | AN8: 1. 3. 2021 | BS8: 0,01
BS9: 0,01
D10: Zadavatel: | AK10: IČ: | AN10: 70994234 | BS10: 0,01
E11: Správa železnic, státní organizace | AK11: DIČ: | BS11: 0,01
BS12: 0,01
D13: Uchazeč: | AK13: IČ: | AN13: Vyplň údaj | BS13: 0,01
E14: Vyplň údaj | AK14: DIČ: | AN14: Vyplň údaj | BS14: 0,01
BS15: False
D16: Projektant: | AK16: IČ: | BS16: False
AK17: DIČ: | BS17: True
BS18: 0,01
D19: Zpracovatel: | AK19: IČ: | BS19: 0,01
E20: Jiří Vendel | AK20: DIČ: | BS20: True
D22: Poznámka:
D26: Cena bez DPH | AK26: =ROUND(AG94,2) -> 3275288
L28: Sazba daně | W28: Základ daně | AK28: Výše daně
D29: DPH | F29: základní | L29: 0.21 | W29: =ROUND(AZ94, 2) -> 3275288 | AK29: =ROUND(AV94, 2) -> 687810.48
F30: snížená | L30: 0.15 | W30: =ROUND(BA94, 2) -> 0 | AK30: =ROUND(AW94, 2) -> 0
F31: zákl. přenesená | L31: 0.21 | W31: =ROUND(BB94, 2) -> 0 | AK31: 0
F32: sníž. přenesená | L32: 0.15 | W32: =ROUND(BC94, 2) -> 0 | AK32: 0
F33: nulová | L33: 0 | W33: =ROUND(BD94, 2) -> 0 | AK33: 0
D35: Cena s DPH | T35: v | X35: CZK | AK35: =SUM(AK26:AK33) -> 3963098.5
D49: Projektant | AH49: Zpracovatel
D60: Datum a podpis: | V60: Razítko | AH60: Datum a podpis: | AM60: Razítko
D64: Objednavatel | AH64: Uchazeč
D75: Datum a podpis: | V75: Razítko | AH75: Datum a podpis: | AM75: Razítko
C82: REKAPITULACE OBJEKTŮ STAVBY A SOUPISŮ PRACÍ
C84: Kód: | L84: =K5 -> A35
C85: Stavba: | L85: =K6 -> Oprava trati v úseku Kojetín - Valašské Meziříčí
C87: Místo: | L87: =IF(K8="","",K8) -> Kroměříž – Kojetín | AI87: Datum: | AM87: =IF(AN8= "","",AN8) -> 1. 3. 2021
C89: Zadavatel: | L89: =IF(E11= "","",E11) -> Správa železnic, státní organizace | AI89: Projektant: | AM89: =IF(E17="","",E17) | AS89: Informatívní údaje z listů zakázek
C90: Uchazeč: | L90: =IF(E14= "Vyplň údaj","",E14) | AI90: Zpracovatel: | AM90: =IF(E20="","",E20) -> Jiří Vendel
C92: Kód | I92: Popis | AG92: Cena bez DPH [CZK] | AN92: Cena s DPH [CZK] | AQ92: Typ | AS92: z toho Ostat._x000D_ náklady [CZK] | AT92: DPH [CZK] | AU92: Normohodiny [h] | AV92: DPH základní [CZK] | AW92: DPH snížená [CZK] | AX92: DPH základní přenesená_x000D_ [CZK] | AY92: DPH snížená přenesená_x000D_ [CZK] | AZ92: Základna_x000D_ DPH základní | BA92: Základna_x000D_ DPH snížená | BB92: Základna_x000D_ DPH zákl. přenesená | BC92: Základna_x000D_ DPH sníž. přenesená | BD92: Základna_x000D_ DPH nulová
...

Sheet SO01 - Výměna kolejnic Hr...
AT2: {58c90ec1-ab44-41d6-acfc-f00960dfbd1a} | AZ2: dělení_AB | BC2: 12 | BD2: 2
AT3: 2 | AZ3: AB_suť | BC3: 2,88 | BD3: 2
D4: KRYCÍ LIST SOUPISU PRACÍ | M4: v --- níže se nacházejí doplnkové a pomocné údaje k sestavám --- v | AT4: False | AZ4: AB_nový | BC4: 2,88 | BD4: 2
AZ5: GPK | BC5: 2,135 | BD5: 2
D6: Stavba: | AZ6: dopl_KL | BC6: 291,564 | BD6: 2
E7: ='Rekapitulace stavby'!K6 -> Oprava trati v úseku Kojetín - Valašské Meziříčí | AZ7: živice_odpad | BC7: 12 | BD7: 2
D8: Objekt: | AZ8: R65_75m | BC8: 34 | BD8: 2
E9: SO01 - Výměna kolejnic Hradisko – Postoupky | AZ9: KL_přejezdy_most | BC9: 60,984 | BD9: 2
AZ10: styk | BC10: 38 | BD10: 2
D11: KSO: | I11: CC-CZ: | AZ11: štěrk | BC11: 564,077 | BD11: 2
D12: Místo: | F12: Postoupky | I12: Datum: | J12: ='Rekapitulace stavby'!AN8 -> 1. 3. 2021 | AZ12: doměry | BC12: 225,6 | BD12: 2
D14: Zadavatel: | I14: IČ: | J14: 70994234
E15: Správa železnic, státní organizace | I15: DIČ:
D17: Uchazeč: | I17: IČ: | J17: ='Rekapitulace stavby'!AN13 -> Vyplň údaj
E18: ='Rekapitulace stavby'!E14 -> Vyplň údaj | I18: DIČ: | J18: ='Rekapitulace stavby'!AN14 -> Vyplň údaj
D20: Projektant: | I20: IČ: | J20: =IF('Rekapitulace stavby'!AN16="","",'Rekapitulace stavby'!AN16)
E21: =IF('Rekapitulace stavby'!E17="","",'Rekapitulace stavby'!E17) | I21: DIČ: | J21: =IF('Rekapitulace stavby'!AN17="","",'Rekapitulace stavby'!AN17)
D23: Zpracovatel: | I23: IČ:
E24: Jiří Vendel | I24: DIČ:
D26: Poznámka:
D30: Cena bez DPH | J30: =ROUND(J121, 2) -> 3275288
F32: Základ daně | I32: Sazba daně | J32: Výše daně
D33: DPH | E33: základní | F33: =ROUND((SUM(BE121:BE254)), 2) -> 3275288 | I33: 0.21 | J33: =ROUND(((SUM(BE121:BE254))*I33), 2) -> 687810.48
E34: snížená | F34: =ROUND((SUM(BF121:BF254)), 2) -> 0 | I34: 0.15 | J34: =ROUND(((SUM(BF121:BF254))*I34), 2) -> 0
E35: zákl. přenesená | F35: =ROUND((SUM(BG121:BG254)), 2) -> 0 | I35: 0.21 | J35: =0 -> 0
E36: sníž. přenesená | F36: =ROUND((SUM(BH121:BH254)), 2) -> 0 | I36: 0.15 | J36: =0 -> 0
E37: nulová | F37: =ROUND((SUM(BI121:BI254)), 2) -> 0 | I37: 0 | J37: =0 -> 0
D39: Cena s DPH | G39: v | H39: CZK | J39: =SUM(J30:J37) -> 3963098.5
D50: Projektant | G50: Zpracovatel
D61: Datum a podpis: | F61: Razítko | G61: Datum a podpis: | J61: Razítko
D65: Objednavatel | G65: Uchazeč
D76: Datum a podpis: | F76: Razítko | G76: Datum a podpis: | J76: Razítko
C82: REKAPITULACE ČLENĚNÍ SOUPISU PRACÍ
C84: Stavba:
E85: =E7 -> Oprava trati v úseku Kojetín - Valašské Meziříčí
C86: Objekt:
E87: =E9 -> SO01 - Výměna kolejnic Hradisko – Postoupky
C89: Místo: | F89: =F12 -> Postoupky | I89: Datum: | J89: =IF(J12="","",J12) -> 1. 3. 2021
C91: Zadavatel: | F91: =E15 -> Správa železnic, státní organizace | I91: Projektant: | J91: =E21
C92: Uchazeč: | F92: =IF(E18="","",E18) -> Vyplň údaj | I92: Zpracovatel: | J92: =E24 -> Jiří Vendel
...

Sheet SO02 - Oprava přejezdu P7...
AT2: {65355999-976e-4a67-af36-004a78c2570c} | AZ2: GPK | BC2: 1,09 | BD2: 2
AT3: 2 | AZ3: dopl_KL | BC3: 127,44 | BD3: 2
D4: KRYCÍ LIST SOUPISU PRACÍ | M4: v --- níže se nacházejí doplnkové a pomocné údaje k sestavám --- v | AT4: False | AZ4: výměna_KL | BC4: 9,72 | BD4: 2
AZ5: štěrk | BC5: 203,904 | BD5: 2
D6: Stavba:
E7: ='Rekapitulace stavby'!K6 -> Oprava trati v úseku Kojetín - Valašské Meziříčí
D8: Objekt:
E9: SO02 - Oprava přejezdu P7248 (km 13,945)
D11: KSO: | I11: CC-CZ:
D12: Místo: | F12: Hulín | I12: Datum: | J12: ='Rekapitulace stavby'!AN8 -> 1. 3. 2021
D14: Zadavatel: | I14: IČ: | J14: 70994234
E15: Správa železnic, státní organizace | I15: DIČ:
D17: Uchazeč: | I17: IČ: | J17: ='Rekapitulace stavby'!AN13 -> Vyplň údaj
E18: ='Rekapitulace stavby'!E14 -> Vyplň údaj | I18: DIČ: | J18: ='Rekapitulace stavby'!AN14 -> Vyplň údaj
D20: Projektant: | I20: IČ: | J20: =IF('Rekapitulace stavby'!AN16="","",'Rekapitulace stavby'!AN16)
E21: =IF('Rekapitulace stavby'!E17="","",'Rekapitulace stavby'!E17) | I21: DIČ: | J21: =IF('Rekapitulace stavby'!AN17="","",'Rekapitulace stavby'!AN17)
D23: Zpracovatel: | I23: IČ:
E24: Jiří Vendel | I24: DIČ:
D26: Poznámka:
D30: Cena bez DPH | J30: =ROUND(J120, 2) -> 0
F32: Základ daně | I32: Sazba daně | J32: Výše daně
D33: DPH | E33: základní | F33: =ROUND((SUM(BE120:BE175)), 2) -> 0 | I33: 0.21 | J33: =ROUND(((SUM(BE120:BE175))*I33), 2) -> 0
E34: snížená | F34: =ROUND((SUM(BF120:BF175)), 2) -> 0 | I34: 0.15 | J34: =ROUND(((SUM(BF120:BF175))*I34), 2) -> 0
E35: zákl. přenesená | F35: =ROUND((SUM(BG120:BG175)), 2) -> 0 | I35: 0.21 | J35: =0 -> 0
E36: sníž. přenesená | F36: =ROUND((SUM(BH120:BH175)), 2) -> 0 | I36: 0.15 | J36: =0 -> 0
E37: nulová | F37: =ROUND((SUM(BI120:BI175)), 2) -> 0 | I37: 0 | J37: =0 -> 0
D39: Cena s DPH | G39: v | H39: CZK | J39: =SUM(J30:J37) -> 0
D50: Projektant | G50: Zpracovatel
D61: Datum a podpis: | F61: Razítko | G61: Datum a podpis: | J61: Razítko
D65: Objednavatel | G65: Uchazeč
D76: Datum a podpis: | F76: Razítko | G76: Datum a podpis: | J76: Razítko
C82: REKAPITULACE ČLENĚNÍ SOUPISU PRACÍ
C84: Stavba:
E85: =E7 -> Oprava trati v úseku Kojetín - Valašské Meziříčí
C86: Objekt:
E87: =E9 -> SO02 - Oprava přejezdu P7248 (km 13,945)
C89: Místo: | F89: =F12 -> Hulín | I89: Datum: | J89: =IF(J12="","",J12) -> 1. 3. 2021
C91: Zadavatel: | F91: =E15 -> Správa železnic, státní organizace | I91: Projektant: | J91: =E21
C92: Uchazeč: | F92: =IF(E18="","",E18) -> Vyplň údaj | I92: Zpracovatel: | J92: =E24 -> Jiří Vendel
C94: Kód dílu - Popis | J94: Cena celkem [CZK]
...

Sheet VON - Vedlejší a ostatní ...
AT2: {3e16e897-eb0a-42a4-ac68-ee477f35831c}
AT3: 2
D4: KRYCÍ LIST SOUPISU PRACÍ | M4: v --- níže se nacházejí doplnkové a pomocné údaje k sestavám --- v | AT4: False
D6: Stavba:
E7: ='Rekapitulace stavby'!K6 -> Oprava trati v úseku Kojetín - Valašské Meziříčí
D8: Objekt:
E9: VON - Vedlejší a ostatní náklady
D11: KSO: | I11: CC-CZ:
D12: Místo: | F12: Kroměříž – Kojetín | I12: Datum: | J12: ='Rekapitulace stavby'!AN8 -> 1. 3. 2021
D14: Zadavatel: | I14: IČ: | J14: 70994234
E15: Správa železnic, státní organizace | I15: DIČ:
D17: Uchazeč: | I17: IČ: | J17: ='Rekapitulace stavby'!AN13 -> Vyplň údaj
E18: ='Rekapitulace stavby'!E14 -> Vyplň údaj | I18: DIČ: | J18: ='Rekapitulace stavby'!AN14 -> Vyplň údaj
D20: Projektant: | I20: IČ: | J20: =IF('Rekapitulace stavby'!AN16="","",'Rekapitulace stavby'!AN16)
E21: =IF('Rekapitulace stavby'!E17="","",'Rekapitulace stavby'!E17) | I21: DIČ: | J21: =IF('Rekapitulace stavby'!AN17="","",'Rekapitulace stavby'!AN17)
D23: Zpracovatel: | I23: IČ:
E24: Jiří Vendel | I24: DIČ:
D26: Poznámka:
D30: Cena bez DPH | J30: =ROUND(J117, 2) -> 0
F32: Základ daně | I32: Sazba daně | J32: Výše daně
D33: DPH | E33: základní | F33: =ROUND((SUM(BE117:BE127)), 2) -> 0 | I33: 0.21 | J33: =ROUND(((SUM(BE117:BE127))*I33), 2) -> 0
E34: snížená | F34: =ROUND((SUM(BF117:BF127)), 2) -> 0 | I34: 0.15 | J34: =ROUND(((SUM(BF117:BF127))*I34), 2) -> 0
E35: zákl. přenesená | F35: =ROUND((SUM(BG117:BG127)), 2) -> 0 | I35: 0.21 | J35: =0 -> 0
E36: sníž. přenesená | F36: =ROUND((SUM(BH117:BH127)), 2) -> 0 | I36: 0.15 | J36: =0 -> 0
E37: nulová | F37: =ROUND((SUM(BI117:BI127)), 2) -> 0 | I37: 0 | J37: =0 -> 0
D39: Cena s DPH | G39: v | H39: CZK | J39: =SUM(J30:J37) -> 0
D50: Projektant | G50: Zpracovatel
D61: Datum a podpis: | F61: Razítko | G61: Datum a podpis: | J61: Razítko
D65: Objednavatel | G65: Uchazeč
D76: Datum a podpis: | F76: Razítko | G76: Datum a podpis: | J76: Razítko
C82: REKAPITULACE ČLENĚNÍ SOUPISU PRACÍ
C84: Stavba:
E85: =E7 -> Oprava trati v úseku Kojetín - Valašské Meziříčí
C86: Objekt:
E87: =E9 -> VON - Vedlejší a ostatní náklady
C89: Místo: | F89: =F12 -> Kroměříž – Kojetín | I89: Datum: | J89: =IF(J12="","",J12) -> 1. 3. 2021
C91: Zadavatel: | F91: =E15 -> Správa železnic, státní organizace | I91: Projektant: | J91: =E21
C92: Uchazeč: | F92: =IF(E18="","",E18) -> Vyplň údaj | I92: Zpracovatel: | J92: =E24 -> Jiří Vendel
C94: Kód dílu - Popis | J94: Cena celkem [CZK]
C96: Náklady ze soupisu prací | J96: =J117 -> 0 | AU96: -1
...

Sheet Seznam figur
C4: SEZNAM FIGUR
C5: Kód: | D5: A35
C6: Stavba: | D6: Oprava trati v úseku Kojetín - Valašské Meziříčí
C7: Datum: | D7: ='Rekapitulace stavby'!AN8 -> 1. 3. 2021
C9: Kód | D9: Popis | E9: MJ | F9: Výměra
C10: SO01 | D10: Výměna kolejnic Hradisko – Postoupky
C11: AB_nový | F11: 2.88
C12: AB_nový | D12: živice_odpad*0,1*2,4 | F12: 2.88
C13: Použití figury:
C14: 5963146000 | D14: Asfaltový beton ACO 11S 50/70 střednězrnný-obrusná vrstva | E14: t | F14: 2.88
C15: 9902100200 | D15: Doprava obousměrná (např. dodávek z vlastních zásob zhotovitele nebo objednatele nebo výzisku) mechanizací o nosnosti přes 3,5 t sypanin (kameniva, písku, suti, dlažebních kostek, atd.) do 20 km – AB | E15: t | F15: 5.76
C16: AB_suť | F16: 2.88
C17: AB_suť | D17: živice_odpad*0,1*2,4 | F17: 2.88
C18: Použití figury:
C19: 9909000100 | D19: Poplatek za uložení suti nebo hmot na oficiální skládku | E19: t | F19: 2.88
C20: 9902100200 | D20: Doprava obousměrná (např. dodávek z vlastních zásob zhotovitele nebo objednatele nebo výzisku) mechanizací o nosnosti přes 3,5 t sypanin (kameniva, písku, suti, dlažebních kostek, atd.) do 20 km – AB | E20: t | F20: 5.76
C21: dělení_AB | F21: 12
C22: dělení_AB | D22: 3*2*2 "2 přejezdy a 2 řezech | F22: 12
C23: Použití figury:
C24: 5913235010 | D24: Dělení AB komunikace řezáním hloubky do 10 cm | E24: m | F24: 12
C25: 5963155005 | D25: Asfaltová páska těsnící | E25: m | F25: 12
C26: doměry | F26: 225.6
D27: ((6177-4860)-(R65_75m*75)/2-4,0-3,5-12,7)*2 "doměry | F27: 43.6
D28: (9+25+25+7+25)*2 "km 6,497 – 6,592 dl. 25 m - 4,0 m LIS | F28: 182
C29: doměry | D29: Součet | F29: 225.6
C30: Použití figury:
C31: 5907020465 | D31: Souvislá výměna kolejnic současně s výměnou pryžové podložky tv. R65 rozdělení "c" – dl. 25 m + doměry | E31: m | F31: 225.6
C32: 5907045110 | D32: Příplatek za obtížnost při výměně kolejnic na rozponových podkladnicích tv. R65 | E32: m | F32: 2775.6
C33: dopl_KL | F33: 291.564
C34: dopl_KL | D34: GPK*1000*3,6*0,03+KL_přejezdy_most | F34: 291.564
C35: Použití figury:
C36: 5905105030 | D36: Doplnění KL kamenivem souvisle strojně v koleji | E36: m3 | F36: 291.564
C37: 5955101005 | D37: Kamenivo drcené štěrk frakce 31,5/63 třídy min. BII | E37: t | F37: 564.077
C38: GPK | F38: 2.135
C39: GPK | D39: (6,885-4,750) | F39: 2.135
C40: Použití figury:
C41: 5909032020 | D41: Přesná úprava GPK koleje směrové a výškové uspořádání pražce betonové | E41: km | F41: 2.135
C42: 5905105030 | D42: Doplnění KL kamenivem souvisle strojně v koleji | E42: m3 | F42: 291.564
C43: KL_přejezdy_most | F43: 60.984
D44: ((3,8*0,3+3,6*0,15)*10-15*0,25*0,15*2,6)*2 "2 přejezdy | F44: 30.675
...
