Workbook

Sheet Rekapitulace stavby
A1: Export Komplet | BA1: 2.0 | BB1: ZAMOK | BT1: False | BU1: False | BV1: {8a171299-d0e3-464d-8a3a-d9ed9be4f09f}
BS2: 0,01 | BT2: 21
BS3: 0,01 | BT3: 15
D4: REKAPITULACE STAVBY | AS4: v --- níže se nacházejí doplnkové a pomocné údaje k sestavám --- v | BE4: Návod na vyplnění | BS4: 0,001
D5: Kód: | K5: 2020 | BE5: Měnit lze pouze buňky se žlutým podbarvením!_x000D_ _x000D_ 1) na prvním listu Rekapitulace stavby vyplňte v sestavě_x000D_ _x000D_ a) Souhrnný list_x000D_ - údaje o Uchazeči_x000D_ (přenesou se do ostatních sestav i v jiných listech)_x000D_ _x000D_ b) Rekapitulace objektů_x000D_ - potřebné Ostatní náklady_x000D_ _x000D_ 2) na vybraných listech vyplňte v sestavě_x000D_ _x000D_ a) Krycí list_x000D_ - údaje o Uchazeči, pokud se liší od údajů o Uchazeči na Souhrnném listu_x000D_ (údaje se přenesou do ostatních sestav v daném listu)_x000D_ _x000D_ b) Rekapitulace rozpočtu_x000D_ - potřebné Ostatní náklady_x000D_ _x000D_ c) Celkové náklady za stavbu_x000D_ - ceny u položek_x000D_ - množství, pokud má žluté podbarvení_x000D_ - a v případě potřeby poznámku (ta je ve skrytém sloupci) | BS5: 0,01
D6: Stavba: | K6: Oprava SZZ, kolejí a výhybek v žst. Pocínovice | BS6: 0,01
D7: KSO: | AK7: CC-CZ: | BS7: 0,01
D8: Místo: | K8: Pocínovice | AK8: Datum: | AN8: 21. 9. 2020 | BS8: 0,01
BS9: 0,01
D10: Zadavatel: | AK10: IČ: | BS10: 0,01
E11: Správa železnic, státní organizace | AK11: DIČ: | BS11: 0,01
BS12: 0,01
D13: Uchazeč: | AK13: IČ: | AN13: Vyplň údaj | BS13: 0,01
E14: Vyplň údaj | AK14: DIČ: | AN14: Vyplň údaj | BS14: 0,01
BS15: False
D16: Projektant: | AK16: IČ: | BS16: False
AK17: DIČ: | BS17: True
BS18: 0,01
D19: Zpracovatel: | AK19: IČ: | BS19: 0,01
AK20: DIČ: | BS20: True
D22: Poznámka:
D26: Cena bez DPH | AK26: =ROUND(AG94,2) -> 0
L28: Sazba daně | W28: Základ daně | AK28: Výše daně
D29: DPH | F29: základní | L29: 0.21 | W29: =ROUND(AZ94, 2) -> 0 | AK29: =ROUND(AV94, 2) -> 0
F30: snížená | L30: 0.15 | W30: =ROUND(BA94, 2) -> 0 | AK30: =ROUND(AW94, 2) -> 0
F31: zákl. přenesená | L31: 0.21 | W31: =ROUND(BB94, 2) -> 0 | AK31: 0
F32: sníž. přenesená | L32: 0.15 | W32: =ROUND(BC94, 2) -> 0 | AK32: 0
F33: nulová | L33: 0 | W33: =ROUND(BD94, 2) -> 0 | AK33: 0
D35: Cena s DPH | T35: v | X35: CZK | AK35: =SUM(AK26:AK33) -> 0
D49: Projektant | AH49: Zpracovatel
D60: Datum a podpis: | V60: Razítko | AH60: Datum a podpis: | AM60: Razítko
D64: Objednavatel | AH64: Uchazeč
D75: Datum a podpis: | V75: Razítko | AH75: Datum a podpis: | AM75: Razítko
C82: REKAPITULACE OBJEKTŮ STAVBY A SOUPISŮ PRACÍ
C84: Kód: | L84: =K5 -> 2020
C85: Stavba: | L85: =K6 -> Oprava SZZ, kolejí a výhybek v žst. Pocínovice
C87: Místo: | L87: =IF(K8="","",K8) -> Pocínovice | AI87: Datum: | AM87: =IF(AN8= "","",AN8) -> 21. 9. 2020
C89: Zadavatel: | L89: =IF(E11= "","",E11) -> Správa železnic, státní organizace | AI89: Projektant: | AM89: =IF(E17="","",E17) | AS89: Informatívní údaje z listů zakázek
C90: Uchazeč: | L90: =IF(E14= "Vyplň údaj","",E14) | AI90: Zpracovatel: | AM90: =IF(E20="","",E20)
C92: Kód | I92: Popis | AG92: Cena bez DPH [CZK] | AN92: Cena s DPH [CZK] | AQ92: Typ | AS92: z toho Ostat._x000D_ náklady [CZK] | AT92: DPH [CZK] | AU92: Normohodiny [h] | AV92: DPH základní [CZK] | AW92: DPH snížená [CZK] | AX92: DPH základní přenesená_x000D_ [CZK] | AY92: DPH snížená přenesená_x000D_ [CZK] | AZ92: Základna_x000D_ DPH základní | BA92: Základna_x000D_ DPH snížená | BB92: Základna_x000D_ DPH zákl. přenesená | BC92: Základna_x000D_ DPH sníž. přenesená | BD92: Základna_x000D_ DPH nulová
...

Sheet 01.1.1 - Klimatizace
AT2: {c49d2e2b-c81d-46a1-8b37-95a91db9d7bb}
AT3: 2
D4: KRYCÍ LIST SOUPISU PRACÍ | M4: v --- níže se nacházejí doplnkové a pomocné údaje k sestavám --- v | AT4: False
D6: Stavba:
E7: ='Rekapitulace stavby'!K6 -> Oprava SZZ, kolejí a výhybek v žst. Pocínovice
D8: Objekt:
E9: 01 - Oprava sdělovacího a zabezpečovacího zařízení žst. Pocínovice
D10: Soupis:
E11: 01.1 - Vnitřní část zabezpečovacího zařízení
D12: Úroveň 3:
E13: 01.1.1 - Klimatizace
D15: KSO: | I15: CC-CZ:
D16: Místo: | F16: Pocínovice | I16: Datum: | J16: ='Rekapitulace stavby'!AN8 -> 21. 9. 2020
D18: Zadavatel: | I18: IČ:
E19: Správa železnic, státní organizace | I19: DIČ:
D21: Uchazeč: | I21: IČ: | J21: ='Rekapitulace stavby'!AN13 -> Vyplň údaj
E22: ='Rekapitulace stavby'!E14 -> Vyplň údaj | I22: DIČ: | J22: ='Rekapitulace stavby'!AN14 -> Vyplň údaj
D24: Projektant: | I24: IČ: | J24: =IF('Rekapitulace stavby'!AN16="","",'Rekapitulace stavby'!AN16)
E25: =IF('Rekapitulace stavby'!E17="","",'Rekapitulace stavby'!E17) | I25: DIČ: | J25: =IF('Rekapitulace stavby'!AN17="","",'Rekapitulace stavby'!AN17)
D27: Zpracovatel: | I27: IČ: | J27: =IF('Rekapitulace stavby'!AN19="","",'Rekapitulace stavby'!AN19)
E28: =IF('Rekapitulace stavby'!E20="","",'Rekapitulace stavby'!E20) | I28: DIČ: | J28: =IF('Rekapitulace stavby'!AN20="","",'Rekapitulace stavby'!AN20)
D30: Poznámka:
D34: Cena bez DPH | J34: =ROUND(J124, 2) -> 0
F36: Základ daně | I36: Sazba daně | J36: Výše daně
D37: DPH | E37: základní | F37: =ROUND((SUM(BE124:BE140)), 2) -> 0 | I37: 0.21 | J37: =ROUND(((SUM(BE124:BE140))*I37), 2) -> 0
E38: snížená | F38: =ROUND((SUM(BF124:BF140)), 2) -> 0 | I38: 0.15 | J38: =ROUND(((SUM(BF124:BF140))*I38), 2) -> 0
E39: zákl. přenesená | F39: =ROUND((SUM(BG124:BG140)), 2) -> 0 | I39: 0.21 | J39: =0 -> 0
E40: sníž. přenesená | F40: =ROUND((SUM(BH124:BH140)), 2) -> 0 | I40: 0.15 | J40: =0 -> 0
E41: nulová | F41: =ROUND((SUM(BI124:BI140)), 2) -> 0 | I41: 0 | J41: =0 -> 0
D43: Cena s DPH | G43: v | H43: CZK | J43: =SUM(J34:J41) -> 0
D50: Projektant | G50: Zpracovatel
D61: Datum a podpis: | F61: Razítko | G61: Datum a podpis: | J61: Razítko
D65: Objednavatel | G65: Uchazeč
D76: Datum a podpis: | F76: Razítko | G76: Datum a podpis: | J76: Razítko
C82: REKAPITULACE ČLENĚNÍ SOUPISU PRACÍ
C84: Stavba:
E85: =E7 -> Oprava SZZ, kolejí a výhybek v žst. Pocínovice
C86: Objekt:
E87: 01 - Oprava sdělovacího a zabezpečovacího zařízení žst. Pocínovice
C88: Soupis:
...

Sheet 01.1.2 - Napájení
AT2: {2782f88f-5d91-4a9c-9529-09b1ec1578d2}
AT3: 2
D4: KRYCÍ LIST SOUPISU PRACÍ | M4: v --- níže se nacházejí doplnkové a pomocné údaje k sestavám --- v | AT4: False
D6: Stavba:
E7: ='Rekapitulace stavby'!K6 -> Oprava SZZ, kolejí a výhybek v žst. Pocínovice
D8: Objekt:
E9: 01 - Oprava sdělovacího a zabezpečovacího zařízení žst. Pocínovice
D10: Soupis:
E11: 01.1 - Vnitřní část zabezpečovacího zařízení
D12: Úroveň 3:
E13: 01.1.2 - Napájení
D15: KSO: | I15: CC-CZ:
D16: Místo: | F16: Pocínovice | I16: Datum: | J16: ='Rekapitulace stavby'!AN8 -> 21. 9. 2020
D18: Zadavatel: | I18: IČ:
E19: Správa železnic, státní organizace | I19: DIČ:
D21: Uchazeč: | I21: IČ: | J21: ='Rekapitulace stavby'!AN13 -> Vyplň údaj
E22: ='Rekapitulace stavby'!E14 -> Vyplň údaj | I22: DIČ: | J22: ='Rekapitulace stavby'!AN14 -> Vyplň údaj
D24: Projektant: | I24: IČ: | J24: =IF('Rekapitulace stavby'!AN16="","",'Rekapitulace stavby'!AN16)
E25: =IF('Rekapitulace stavby'!E17="","",'Rekapitulace stavby'!E17) | I25: DIČ: | J25: =IF('Rekapitulace stavby'!AN17="","",'Rekapitulace stavby'!AN17)
D27: Zpracovatel: | I27: IČ: | J27: =IF('Rekapitulace stavby'!AN19="","",'Rekapitulace stavby'!AN19)
E28: =IF('Rekapitulace stavby'!E20="","",'Rekapitulace stavby'!E20) | I28: DIČ: | J28: =IF('Rekapitulace stavby'!AN20="","",'Rekapitulace stavby'!AN20)
D30: Poznámka:
D34: Cena bez DPH | J34: =ROUND(J124, 2) -> 0
F36: Základ daně | I36: Sazba daně | J36: Výše daně
D37: DPH | E37: základní | F37: =ROUND((SUM(BE124:BE166)), 2) -> 0 | I37: 0.21 | J37: =ROUND(((SUM(BE124:BE166))*I37), 2) -> 0
E38: snížená | F38: =ROUND((SUM(BF124:BF166)), 2) -> 0 | I38: 0.15 | J38: =ROUND(((SUM(BF124:BF166))*I38), 2) -> 0
E39: zákl. přenesená | F39: =ROUND((SUM(BG124:BG166)), 2) -> 0 | I39: 0.21 | J39: =0 -> 0
E40: sníž. přenesená | F40: =ROUND((SUM(BH124:BH166)), 2) -> 0 | I40: 0.15 | J40: =0 -> 0
E41: nulová | F41: =ROUND((SUM(BI124:BI166)), 2) -> 0 | I41: 0 | J41: =0 -> 0
D43: Cena s DPH | G43: v | H43: CZK | J43: =SUM(J34:J41) -> 0
D50: Projektant | G50: Zpracovatel
D61: Datum a podpis: | F61: Razítko | G61: Datum a podpis: | J61: Razítko
D65: Objednavatel | G65: Uchazeč
D76: Datum a podpis: | F76: Razítko | G76: Datum a podpis: | J76: Razítko
C82: REKAPITULACE ČLENĚNÍ SOUPISU PRACÍ
C84: Stavba:
E85: =E7 -> Oprava SZZ, kolejí a výhybek v žst. Pocínovice
C86: Objekt:
E87: 01 - Oprava sdělovacího a zabezpečovacího zařízení žst. Pocínovice
C88: Soupis:
...

Sheet 01.1.3 - Technologie zabe...
AT2: {8f0043cf-41b2-478f-abcd-c389f7b2df72}
AT3: 2
D4: KRYCÍ LIST SOUPISU PRACÍ | M4: v --- níže se nacházejí doplnkové a pomocné údaje k sestavám --- v | AT4: False
D6: Stavba:
E7: ='Rekapitulace stavby'!K6 -> Oprava SZZ, kolejí a výhybek v žst. Pocínovice
D8: Objekt:
E9: 01 - Oprava sdělovacího a zabezpečovacího zařízení žst. Pocínovice
D10: Soupis:
E11: 01.1 - Vnitřní část zabezpečovacího zařízení
D12: Úroveň 3:
E13: 01.1.3 - Technologie zabezpečovacího zařízení
D15: KSO: | I15: CC-CZ:
D16: Místo: | F16: Pocínovice | I16: Datum: | J16: ='Rekapitulace stavby'!AN8 -> 21. 9. 2020
D18: Zadavatel: | I18: IČ:
E19: Správa železnic, státní organizace | I19: DIČ:
D21: Uchazeč: | I21: IČ: | J21: ='Rekapitulace stavby'!AN13 -> Vyplň údaj
E22: ='Rekapitulace stavby'!E14 -> Vyplň údaj | I22: DIČ: | J22: ='Rekapitulace stavby'!AN14 -> Vyplň údaj
D24: Projektant: | I24: IČ: | J24: =IF('Rekapitulace stavby'!AN16="","",'Rekapitulace stavby'!AN16)
E25: =IF('Rekapitulace stavby'!E17="","",'Rekapitulace stavby'!E17) | I25: DIČ: | J25: =IF('Rekapitulace stavby'!AN17="","",'Rekapitulace stavby'!AN17)
D27: Zpracovatel: | I27: IČ: | J27: =IF('Rekapitulace stavby'!AN19="","",'Rekapitulace stavby'!AN19)
E28: =IF('Rekapitulace stavby'!E20="","",'Rekapitulace stavby'!E20) | I28: DIČ: | J28: =IF('Rekapitulace stavby'!AN20="","",'Rekapitulace stavby'!AN20)
D30: Poznámka:
D34: Cena bez DPH | J34: =ROUND(J124, 2) -> 0
F36: Základ daně | I36: Sazba daně | J36: Výše daně
D37: DPH | E37: základní | F37: =ROUND((SUM(BE124:BE514)), 2) -> 0 | I37: 0.21 | J37: =ROUND(((SUM(BE124:BE514))*I37), 2) -> 0
E38: snížená | F38: =ROUND((SUM(BF124:BF514)), 2) -> 0 | I38: 0.15 | J38: =ROUND(((SUM(BF124:BF514))*I38), 2) -> 0
E39: zákl. přenesená | F39: =ROUND((SUM(BG124:BG514)), 2) -> 0 | I39: 0.21 | J39: =0 -> 0
E40: sníž. přenesená | F40: =ROUND((SUM(BH124:BH514)), 2) -> 0 | I40: 0.15 | J40: =0 -> 0
E41: nulová | F41: =ROUND((SUM(BI124:BI514)), 2) -> 0 | I41: 0 | J41: =0 -> 0
D43: Cena s DPH | G43: v | H43: CZK | J43: =SUM(J34:J41) -> 0
D50: Projektant | G50: Zpracovatel
D61: Datum a podpis: | F61: Razítko | G61: Datum a podpis: | J61: Razítko
D65: Objednavatel | G65: Uchazeč
D76: Datum a podpis: | F76: Razítko | G76: Datum a podpis: | J76: Razítko
C82: REKAPITULACE ČLENĚNÍ SOUPISU PRACÍ
C84: Stavba:
E85: =E7 -> Oprava SZZ, kolejí a výhybek v žst. Pocínovice
C86: Objekt:
E87: 01 - Oprava sdělovacího a zabezpečovacího zařízení žst. Pocínovice
C88: Soupis:
...

Sheet 01.2 - Venkovní část zabe...
AT2: {095f36e0-fbcd-4ea2-8b9b-cd9b1db33474}
AT3: 2
D4: KRYCÍ LIST SOUPISU PRACÍ | M4: v --- níže se nacházejí doplnkové a pomocné údaje k sestavám --- v | AT4: False
D6: Stavba:
E7: ='Rekapitulace stavby'!K6 -> Oprava SZZ, kolejí a výhybek v žst. Pocínovice
D8: Objekt:
E9: 01 - Oprava sdělovacího a zabezpečovacího zařízení žst. Pocínovice
D10: Soupis:
E11: 01.2 - Venkovní část zabezpečovacího zařízení,zkoušení
D13: KSO: | I13: CC-CZ:
D14: Místo: | F14: Pocínovice | I14: Datum: | J14: ='Rekapitulace stavby'!AN8 -> 21. 9. 2020
D16: Zadavatel: | I16: IČ:
E17: Správa železnic, státní organizace | I17: DIČ:
D19: Uchazeč: | I19: IČ: | J19: ='Rekapitulace stavby'!AN13 -> Vyplň údaj
E20: ='Rekapitulace stavby'!E14 -> Vyplň údaj | I20: DIČ: | J20: ='Rekapitulace stavby'!AN14 -> Vyplň údaj
D22: Projektant: | I22: IČ: | J22: =IF('Rekapitulace stavby'!AN16="","",'Rekapitulace stavby'!AN16)
E23: =IF('Rekapitulace stavby'!E17="","",'Rekapitulace stavby'!E17) | I23: DIČ: | J23: =IF('Rekapitulace stavby'!AN17="","",'Rekapitulace stavby'!AN17)
D25: Zpracovatel: | I25: IČ: | J25: =IF('Rekapitulace stavby'!AN19="","",'Rekapitulace stavby'!AN19)
E26: =IF('Rekapitulace stavby'!E20="","",'Rekapitulace stavby'!E20) | I26: DIČ: | J26: =IF('Rekapitulace stavby'!AN20="","",'Rekapitulace stavby'!AN20)
D28: Poznámka:
D32: Cena bez DPH | J32: =ROUND(J120, 2) -> 0
F34: Základ daně | I34: Sazba daně | J34: Výše daně
D35: DPH | E35: základní | F35: =ROUND((SUM(BE120:BE320)), 2) -> 0 | I35: 0.21 | J35: =ROUND(((SUM(BE120:BE320))*I35), 2) -> 0
E36: snížená | F36: =ROUND((SUM(BF120:BF320)), 2) -> 0 | I36: 0.15 | J36: =ROUND(((SUM(BF120:BF320))*I36), 2) -> 0
E37: zákl. přenesená | F37: =ROUND((SUM(BG120:BG320)), 2) -> 0 | I37: 0.21 | J37: =0 -> 0
E38: sníž. přenesená | F38: =ROUND((SUM(BH120:BH320)), 2) -> 0 | I38: 0.15 | J38: =0 -> 0
E39: nulová | F39: =ROUND((SUM(BI120:BI320)), 2) -> 0 | I39: 0 | J39: =0 -> 0
D41: Cena s DPH | G41: v | H41: CZK | J41: =SUM(J32:J39) -> 0
D50: Projektant | G50: Zpracovatel
D61: Datum a podpis: | F61: Razítko | G61: Datum a podpis: | J61: Razítko
D65: Objednavatel | G65: Uchazeč
D76: Datum a podpis: | F76: Razítko | G76: Datum a podpis: | J76: Razítko
C82: REKAPITULACE ČLENĚNÍ SOUPISU PRACÍ
C84: Stavba:
E85: =E7 -> Oprava SZZ, kolejí a výhybek v žst. Pocínovice
C86: Objekt:
E87: 01 - Oprava sdělovacího a zabezpečovacího zařízení žst. Pocínovice
C88: Soupis:
E89: =E11 -> 01.2 - Venkovní část zabezpečovacího zařízení,zkoušení
C91: Místo: | F91: =F14 -> Pocínovice | I91: Datum: | J91: =IF(J14="","",J14) -> 21. 9. 2020
...

Sheet 01.3 - Oprava kabelizace,...
AT2: {2b1e3fc4-291e-41f2-940b-15b635521926}
AT3: 2
D4: KRYCÍ LIST SOUPISU PRACÍ | M4: v --- níže se nacházejí doplnkové a pomocné údaje k sestavám --- v | AT4: False
D6: Stavba:
E7: ='Rekapitulace stavby'!K6 -> Oprava SZZ, kolejí a výhybek v žst. Pocínovice
D8: Objekt:
E9: 01 - Oprava sdělovacího a zabezpečovacího zařízení žst. Pocínovice
D10: Soupis:
E11: 01.3 - Oprava kabelizace, zemní práce
D13: KSO: | I13: CC-CZ:
D14: Místo: | F14: Pocínovice | I14: Datum: | J14: ='Rekapitulace stavby'!AN8 -> 21. 9. 2020
D16: Zadavatel: | I16: IČ:
E17: Správa železnic, státní organizace | I17: DIČ:
D19: Uchazeč: | I19: IČ: | J19: ='Rekapitulace stavby'!AN13 -> Vyplň údaj
E20: ='Rekapitulace stavby'!E14 -> Vyplň údaj | I20: DIČ: | J20: ='Rekapitulace stavby'!AN14 -> Vyplň údaj
D22: Projektant: | I22: IČ: | J22: =IF('Rekapitulace stavby'!AN16="","",'Rekapitulace stavby'!AN16)
E23: =IF('Rekapitulace stavby'!E17="","",'Rekapitulace stavby'!E17) | I23: DIČ: | J23: =IF('Rekapitulace stavby'!AN17="","",'Rekapitulace stavby'!AN17)
D25: Zpracovatel: | I25: IČ: | J25: =IF('Rekapitulace stavby'!AN19="","",'Rekapitulace stavby'!AN19)
E26: =IF('Rekapitulace stavby'!E20="","",'Rekapitulace stavby'!E20) | I26: DIČ: | J26: =IF('Rekapitulace stavby'!AN20="","",'Rekapitulace stavby'!AN20)
D28: Poznámka:
D32: Cena bez DPH | J32: =ROUND(J121, 2) -> 0
F34: Základ daně | I34: Sazba daně | J34: Výše daně
D35: DPH | E35: základní | F35: =ROUND((SUM(BE121:BE156)), 2) -> 0 | I35: 0.21 | J35: =ROUND(((SUM(BE121:BE156))*I35), 2) -> 0
E36: snížená | F36: =ROUND((SUM(BF121:BF156)), 2) -> 0 | I36: 0.15 | J36: =ROUND(((SUM(BF121:BF156))*I36), 2) -> 0
E37: zákl. přenesená | F37: =ROUND((SUM(BG121:BG156)), 2) -> 0 | I37: 0.21 | J37: =0 -> 0
E38: sníž. přenesená | F38: =ROUND((SUM(BH121:BH156)), 2) -> 0 | I38: 0.15 | J38: =0 -> 0
E39: nulová | F39: =ROUND((SUM(BI121:BI156)), 2) -> 0 | I39: 0 | J39: =0 -> 0
D41: Cena s DPH | G41: v | H41: CZK | J41: =SUM(J32:J39) -> 0
D50: Projektant | G50: Zpracovatel
D61: Datum a podpis: | F61: Razítko | G61: Datum a podpis: | J61: Razítko
D65: Objednavatel | G65: Uchazeč
D76: Datum a podpis: | F76: Razítko | G76: Datum a podpis: | J76: Razítko
C82: REKAPITULACE ČLENĚNÍ SOUPISU PRACÍ
C84: Stavba:
E85: =E7 -> Oprava SZZ, kolejí a výhybek v žst. Pocínovice
C86: Objekt:
E87: 01 - Oprava sdělovacího a zabezpečovacího zařízení žst. Pocínovice
C88: Soupis:
E89: =E11 -> 01.3 - Oprava kabelizace, zemní práce
C91: Místo: | F91: =F14 -> Pocínovice | I91: Datum: | J91: =IF(J14="","",J14) -> 21. 9. 2020
...

Sheet 01.4 - Materiál zadavatel...
AT2: {3bdaffb3-7043-4788-8997-ee0829f9a2c3}
AT3: 2
D4: KRYCÍ LIST SOUPISU PRACÍ | M4: v --- níže se nacházejí doplnkové a pomocné údaje k sestavám --- v | AT4: False
D6: Stavba:
E7: ='Rekapitulace stavby'!K6 -> Oprava SZZ, kolejí a výhybek v žst. Pocínovice
D8: Objekt:
E9: 01 - Oprava sdělovacího a zabezpečovacího zařízení žst. Pocínovice
D10: Soupis:
E11: 01.4 - Materiál zadavatele - NEOCEŇOVAT!
D13: KSO: | I13: CC-CZ:
D14: Místo: | F14: Pocínovice | I14: Datum: | J14: ='Rekapitulace stavby'!AN8 -> 21. 9. 2020
D16: Zadavatel: | I16: IČ:
E17: Správa železnic, státní organizace | I17: DIČ:
D19: Uchazeč: | I19: IČ: | J19: ='Rekapitulace stavby'!AN13 -> Vyplň údaj
E20: ='Rekapitulace stavby'!E14 -> Vyplň údaj | I20: DIČ: | J20: ='Rekapitulace stavby'!AN14 -> Vyplň údaj
D22: Projektant: | I22: IČ: | J22: =IF('Rekapitulace stavby'!AN16="","",'Rekapitulace stavby'!AN16)
E23: =IF('Rekapitulace stavby'!E17="","",'Rekapitulace stavby'!E17) | I23: DIČ: | J23: =IF('Rekapitulace stavby'!AN17="","",'Rekapitulace stavby'!AN17)
D25: Zpracovatel: | I25: IČ: | J25: =IF('Rekapitulace stavby'!AN19="","",'Rekapitulace stavby'!AN19)
E26: =IF('Rekapitulace stavby'!E20="","",'Rekapitulace stavby'!E20) | I26: DIČ: | J26: =IF('Rekapitulace stavby'!AN20="","",'Rekapitulace stavby'!AN20)
D28: Poznámka:
D32: Cena bez DPH | J32: =ROUND(J120, 2) -> 0
F34: Základ daně | I34: Sazba daně | J34: Výše daně
D35: DPH | E35: základní | F35: =ROUND((SUM(BE120:BE124)), 2) -> 0 | I35: 0.21 | J35: =ROUND(((SUM(BE120:BE124))*I35), 2) -> 0
E36: snížená | F36: =ROUND((SUM(BF120:BF124)), 2) -> 0 | I36: 0.15 | J36: =ROUND(((SUM(BF120:BF124))*I36), 2) -> 0
E37: zákl. přenesená | F37: =ROUND((SUM(BG120:BG124)), 2) -> 0 | I37: 0.21 | J37: =0 -> 0
E38: sníž. přenesená | F38: =ROUND((SUM(BH120:BH124)), 2) -> 0 | I38: 0.15 | J38: =0 -> 0
E39: nulová | F39: =ROUND((SUM(BI120:BI124)), 2) -> 0 | I39: 0 | J39: =0 -> 0
D41: Cena s DPH | G41: v | H41: CZK | J41: =SUM(J32:J39) -> 0
D50: Projektant | G50: Zpracovatel
D61: Datum a podpis: | F61: Razítko | G61: Datum a podpis: | J61: Razítko
D65: Objednavatel | G65: Uchazeč
D76: Datum a podpis: | F76: Razítko | G76: Datum a podpis: | J76: Razítko
C82: REKAPITULACE ČLENĚNÍ SOUPISU PRACÍ
C84: Stavba:
E85: =E7 -> Oprava SZZ, kolejí a výhybek v žst. Pocínovice
C86: Objekt:
E87: 01 - Oprava sdělovacího a zabezpečovacího zařízení žst. Pocínovice
C88: Soupis:
E89: =E11 -> 01.4 - Materiál zadavatele - NEOCEŇOVAT!
C91: Místo: | F91: =F14 -> Pocínovice | I91: Datum: | J91: =IF(J14="","",J14) -> 21. 9. 2020
...

Sheet 01.5 - Sdělovací zařízení
AT2: {0937faba-987e-44d6-80e7-20ed06ed8960}
AT3: 2
D4: KRYCÍ LIST SOUPISU PRACÍ | M4: v --- níže se nacházejí doplnkové a pomocné údaje k sestavám --- v | AT4: False
D6: Stavba:
E7: ='Rekapitulace stavby'!K6 -> Oprava SZZ, kolejí a výhybek v žst. Pocínovice
D8: Objekt:
E9: 01 - Oprava sdělovacího a zabezpečovacího zařízení žst. Pocínovice
D10: Soupis:
E11: 01.5 - Sdělovací zařízení
D13: KSO: | I13: CC-CZ:
D14: Místo: | F14: Pocínovice | I14: Datum: | J14: ='Rekapitulace stavby'!AN8 -> 21. 9. 2020
D16: Zadavatel: | I16: IČ:
E17: Správa železnic, státní organizace | I17: DIČ:
D19: Uchazeč: | I19: IČ: | J19: ='Rekapitulace stavby'!AN13 -> Vyplň údaj
E20: ='Rekapitulace stavby'!E14 -> Vyplň údaj | I20: DIČ: | J20: ='Rekapitulace stavby'!AN14 -> Vyplň údaj
D22: Projektant: | I22: IČ: | J22: =IF('Rekapitulace stavby'!AN16="","",'Rekapitulace stavby'!AN16)
E23: =IF('Rekapitulace stavby'!E17="","",'Rekapitulace stavby'!E17) | I23: DIČ: | J23: =IF('Rekapitulace stavby'!AN17="","",'Rekapitulace stavby'!AN17)
D25: Zpracovatel: | I25: IČ: | J25: =IF('Rekapitulace stavby'!AN19="","",'Rekapitulace stavby'!AN19)
E26: =IF('Rekapitulace stavby'!E20="","",'Rekapitulace stavby'!E20) | I26: DIČ: | J26: =IF('Rekapitulace stavby'!AN20="","",'Rekapitulace stavby'!AN20)
D28: Poznámka:
D32: Cena bez DPH | J32: =ROUND(J121, 2) -> 0
F34: Základ daně | I34: Sazba daně | J34: Výše daně
D35: DPH | E35: základní | F35: =ROUND((SUM(BE121:BE209)), 2) -> 0 | I35: 0.21 | J35: =ROUND(((SUM(BE121:BE209))*I35), 2) -> 0
E36: snížená | F36: =ROUND((SUM(BF121:BF209)), 2) -> 0 | I36: 0.15 | J36: =ROUND(((SUM(BF121:BF209))*I36), 2) -> 0
E37: zákl. přenesená | F37: =ROUND((SUM(BG121:BG209)), 2) -> 0 | I37: 0.21 | J37: =0 -> 0
E38: sníž. přenesená | F38: =ROUND((SUM(BH121:BH209)), 2) -> 0 | I38: 0.15 | J38: =0 -> 0
E39: nulová | F39: =ROUND((SUM(BI121:BI209)), 2) -> 0 | I39: 0 | J39: =0 -> 0
D41: Cena s DPH | G41: v | H41: CZK | J41: =SUM(J32:J39) -> 0
D50: Projektant | G50: Zpracovatel
D61: Datum a podpis: | F61: Razítko | G61: Datum a podpis: | J61: Razítko
D65: Objednavatel | G65: Uchazeč
D76: Datum a podpis: | F76: Razítko | G76: Datum a podpis: | J76: Razítko
C82: REKAPITULACE ČLENĚNÍ SOUPISU PRACÍ
C84: Stavba:
E85: =E7 -> Oprava SZZ, kolejí a výhybek v žst. Pocínovice
C86: Objekt:
E87: 01 - Oprava sdělovacího a zabezpečovacího zařízení žst. Pocínovice
C88: Soupis:
E89: =E11 -> 01.5 - Sdělovací zařízení
C91: Místo: | F91: =F14 -> Pocínovice | I91: Datum: | J91: =IF(J14="","",J14) -> 21. 9. 2020
...

Sheet 01.6 - DDTS
AT2: {3839812e-bcbc-4d91-90ec-4e815c39d163}
AT3: 2
D4: KRYCÍ LIST SOUPISU PRACÍ | M4: v --- níže se nacházejí doplnkové a pomocné údaje k sestavám --- v | AT4: False
D6: Stavba:
E7: ='Rekapitulace stavby'!K6 -> Oprava SZZ, kolejí a výhybek v žst. Pocínovice
D8: Objekt:
E9: 01 - Oprava sdělovacího a zabezpečovacího zařízení žst. Pocínovice
D10: Soupis:
E11: 01.6 - DDTS
D13: KSO: | I13: CC-CZ:
D14: Místo: | F14: Pocínovice | I14: Datum: | J14: ='Rekapitulace stavby'!AN8 -> 21. 9. 2020
D16: Zadavatel: | I16: IČ:
E17: Správa železnic, státní organizace | I17: DIČ:
D19: Uchazeč: | I19: IČ: | J19: ='Rekapitulace stavby'!AN13 -> Vyplň údaj
E20: ='Rekapitulace stavby'!E14 -> Vyplň údaj | I20: DIČ: | J20: ='Rekapitulace stavby'!AN14 -> Vyplň údaj
D22: Projektant: | I22: IČ: | J22: =IF('Rekapitulace stavby'!AN16="","",'Rekapitulace stavby'!AN16)
E23: =IF('Rekapitulace stavby'!E17="","",'Rekapitulace stavby'!E17) | I23: DIČ: | J23: =IF('Rekapitulace stavby'!AN17="","",'Rekapitulace stavby'!AN17)
D25: Zpracovatel: | I25: IČ: | J25: =IF('Rekapitulace stavby'!AN19="","",'Rekapitulace stavby'!AN19)
E26: =IF('Rekapitulace stavby'!E20="","",'Rekapitulace stavby'!E20) | I26: DIČ: | J26: =IF('Rekapitulace stavby'!AN20="","",'Rekapitulace stavby'!AN20)
D28: Poznámka:
D32: Cena bez DPH | J32: =ROUND(J121, 2) -> 0
F34: Základ daně | I34: Sazba daně | J34: Výše daně
D35: DPH | E35: základní | F35: =ROUND((SUM(BE121:BE150)), 2) -> 0 | I35: 0.21 | J35: =ROUND(((SUM(BE121:BE150))*I35), 2) -> 0
E36: snížená | F36: =ROUND((SUM(BF121:BF150)), 2) -> 0 | I36: 0.15 | J36: =ROUND(((SUM(BF121:BF150))*I36), 2) -> 0
E37: zákl. přenesená | F37: =ROUND((SUM(BG121:BG150)), 2) -> 0 | I37: 0.21 | J37: =0 -> 0
E38: sníž. přenesená | F38: =ROUND((SUM(BH121:BH150)), 2) -> 0 | I38: 0.15 | J38: =0 -> 0
E39: nulová | F39: =ROUND((SUM(BI121:BI150)), 2) -> 0 | I39: 0 | J39: =0 -> 0
D41: Cena s DPH | G41: v | H41: CZK | J41: =SUM(J32:J39) -> 0
D50: Projektant | G50: Zpracovatel
D61: Datum a podpis: | F61: Razítko | G61: Datum a podpis: | J61: Razítko
D65: Objednavatel | G65: Uchazeč
D76: Datum a podpis: | F76: Razítko | G76: Datum a podpis: | J76: Razítko
C82: REKAPITULACE ČLENĚNÍ SOUPISU PRACÍ
C84: Stavba:
E85: =E7 -> Oprava SZZ, kolejí a výhybek v žst. Pocínovice
C86: Objekt:
E87: 01 - Oprava sdělovacího a zabezpečovacího zařízení žst. Pocínovice
C88: Soupis:
E89: =E11 -> 01.6 - DDTS
C91: Místo: | F91: =F14 -> Pocínovice | I91: Datum: | J91: =IF(J14="","",J14) -> 21. 9. 2020
...

Sheet 01.7 - Vedlejší a ostatní...
AT2: {d04154d4-37e4-4ee6-a323-f118dc421f4a}
AT3: 2
D4: KRYCÍ LIST SOUPISU PRACÍ | M4: v --- níže se nacházejí doplnkové a pomocné údaje k sestavám --- v | AT4: False
D6: Stavba:
E7: ='Rekapitulace stavby'!K6 -> Oprava SZZ, kolejí a výhybek v žst. Pocínovice
D8: Objekt:
E9: 01 - Oprava sdělovacího a zabezpečovacího zařízení žst. Pocínovice
D10: Soupis:
E11: 01.7 - Vedlejší a ostatní náklady
D13: KSO: | I13: CC-CZ:
D14: Místo: | F14: Pocínovice | I14: Datum: | J14: ='Rekapitulace stavby'!AN8 -> 21. 9. 2020
D16: Zadavatel: | I16: IČ:
E17: Správa železnic, státní organizace | I17: DIČ:
D19: Uchazeč: | I19: IČ: | J19: ='Rekapitulace stavby'!AN13 -> Vyplň údaj
E20: ='Rekapitulace stavby'!E14 -> Vyplň údaj | I20: DIČ: | J20: ='Rekapitulace stavby'!AN14 -> Vyplň údaj
D22: Projektant: | I22: IČ: | J22: =IF('Rekapitulace stavby'!AN16="","",'Rekapitulace stavby'!AN16)
E23: =IF('Rekapitulace stavby'!E17="","",'Rekapitulace stavby'!E17) | I23: DIČ: | J23: =IF('Rekapitulace stavby'!AN17="","",'Rekapitulace stavby'!AN17)
D25: Zpracovatel: | I25: IČ: | J25: =IF('Rekapitulace stavby'!AN19="","",'Rekapitulace stavby'!AN19)
E26: =IF('Rekapitulace stavby'!E20="","",'Rekapitulace stavby'!E20) | I26: DIČ: | J26: =IF('Rekapitulace stavby'!AN20="","",'Rekapitulace stavby'!AN20)
D28: Poznámka:
D32: Cena bez DPH | J32: =ROUND(J121, 2) -> 0
F34: Základ daně | I34: Sazba daně | J34: Výše daně
D35: DPH | E35: základní | F35: =ROUND((SUM(BE121:BE134)), 2) -> 0 | I35: 0.21 | J35: =ROUND(((SUM(BE121:BE134))*I35), 2) -> 0
E36: snížená | F36: =ROUND((SUM(BF121:BF134)), 2) -> 0 | I36: 0.15 | J36: =ROUND(((SUM(BF121:BF134))*I36), 2) -> 0
E37: zákl. přenesená | F37: =ROUND((SUM(BG121:BG134)), 2) -> 0 | I37: 0.21 | J37: =0 -> 0
E38: sníž. přenesená | F38: =ROUND((SUM(BH121:BH134)), 2) -> 0 | I38: 0.15 | J38: =0 -> 0
E39: nulová | F39: =ROUND((SUM(BI121:BI134)), 2) -> 0 | I39: 0 | J39: =0 -> 0
D41: Cena s DPH | G41: v | H41: CZK | J41: =SUM(J32:J39) -> 0
D50: Projektant | G50: Zpracovatel
D61: Datum a podpis: | F61: Razítko | G61: Datum a podpis: | J61: Razítko
D65: Objednavatel | G65: Uchazeč
D76: Datum a podpis: | F76: Razítko | G76: Datum a podpis: | J76: Razítko
C82: REKAPITULACE ČLENĚNÍ SOUPISU PRACÍ
C84: Stavba:
E85: =E7 -> Oprava SZZ, kolejí a výhybek v žst. Pocínovice
C86: Objekt:
E87: 01 - Oprava sdělovacího a zabezpečovacího zařízení žst. Pocínovice
C88: Soupis:
E89: =E11 -> 01.7 - Vedlejší a ostatní náklady
C91: Místo: | F91: =F14 -> Pocínovice | I91: Datum: | J91: =IF(J14="","",J14) -> 21. 9. 2020
...

Sheet 01.8 - Náklady na dopravu
AT2: {d229a2b4-677f-4789-a13c-9c63e2fed32a}
AT3: 2
D4: KRYCÍ LIST SOUPISU PRACÍ | M4: v --- níže se nacházejí doplnkové a pomocné údaje k sestavám --- v | AT4: False
D6: Stavba:
E7: ='Rekapitulace stavby'!K6 -> Oprava SZZ, kolejí a výhybek v žst. Pocínovice
D8: Objekt:
E9: 01 - Oprava sdělovacího a zabezpečovacího zařízení žst. Pocínovice
D10: Soupis:
E11: 01.8 - Náklady na dopravu
D13: KSO: | I13: CC-CZ:
D14: Místo: | F14: Pocínovice | I14: Datum: | J14: ='Rekapitulace stavby'!AN8 -> 21. 9. 2020
D16: Zadavatel: | I16: IČ:
E17: Správa železnic, státní organizace | I17: DIČ:
D19: Uchazeč: | I19: IČ: | J19: ='Rekapitulace stavby'!AN13 -> Vyplň údaj
E20: ='Rekapitulace stavby'!E14 -> Vyplň údaj | I20: DIČ: | J20: ='Rekapitulace stavby'!AN14 -> Vyplň údaj
D22: Projektant: | I22: IČ: | J22: =IF('Rekapitulace stavby'!AN16="","",'Rekapitulace stavby'!AN16)
E23: =IF('Rekapitulace stavby'!E17="","",'Rekapitulace stavby'!E17) | I23: DIČ: | J23: =IF('Rekapitulace stavby'!AN17="","",'Rekapitulace stavby'!AN17)
D25: Zpracovatel: | I25: IČ: | J25: =IF('Rekapitulace stavby'!AN19="","",'Rekapitulace stavby'!AN19)
E26: =IF('Rekapitulace stavby'!E20="","",'Rekapitulace stavby'!E20) | I26: DIČ: | J26: =IF('Rekapitulace stavby'!AN20="","",'Rekapitulace stavby'!AN20)
D28: Poznámka:
D32: Cena bez DPH | J32: =ROUND(J120, 2) -> 0
F34: Základ daně | I34: Sazba daně | J34: Výše daně
D35: DPH | E35: základní | F35: =ROUND((SUM(BE120:BE130)), 2) -> 0 | I35: 0.21 | J35: =ROUND(((SUM(BE120:BE130))*I35), 2) -> 0
E36: snížená | F36: =ROUND((SUM(BF120:BF130)), 2) -> 0 | I36: 0.15 | J36: =ROUND(((SUM(BF120:BF130))*I36), 2) -> 0
E37: zákl. přenesená | F37: =ROUND((SUM(BG120:BG130)), 2) -> 0 | I37: 0.21 | J37: =0 -> 0
E38: sníž. přenesená | F38: =ROUND((SUM(BH120:BH130)), 2) -> 0 | I38: 0.15 | J38: =0 -> 0
E39: nulová | F39: =ROUND((SUM(BI120:BI130)), 2) -> 0 | I39: 0 | J39: =0 -> 0
D41: Cena s DPH | G41: v | H41: CZK | J41: =SUM(J32:J39) -> 0
D50: Projektant | G50: Zpracovatel
D61: Datum a podpis: | F61: Razítko | G61: Datum a podpis: | J61: Razítko
D65: Objednavatel | G65: Uchazeč
D76: Datum a podpis: | F76: Razítko | G76: Datum a podpis: | J76: Razítko
C82: REKAPITULACE ČLENĚNÍ SOUPISU PRACÍ
C84: Stavba:
E85: =E7 -> Oprava SZZ, kolejí a výhybek v žst. Pocínovice
C86: Objekt:
E87: 01 - Oprava sdělovacího a zabezpečovacího zařízení žst. Pocínovice
C88: Soupis:
E89: =E11 -> 01.8 - Náklady na dopravu
C91: Místo: | F91: =F14 -> Pocínovice | I91: Datum: | J91: =IF(J14="","",J14) -> 21. 9. 2020
...

Sheet 02.1 - Výměna mostnic na ...
AT2: {d684f2ad-d6c2-424b-baf4-2cdc7a311249}
AT3: 2
D4: KRYCÍ LIST SOUPISU PRACÍ | M4: v --- níže se nacházejí doplnkové a pomocné údaje k sestavám --- v | AT4: False
D6: Stavba:
E7: ='Rekapitulace stavby'!K6 -> Oprava SZZ, kolejí a výhybek v žst. Pocínovice
D8: Objekt:
E9: 02 - Výměna mostnic na mostě v km 8,374
D10: Soupis:
E11: 02.1 - Výměna mostnic na mostě v km 8,374
D13: KSO: | I13: CC-CZ:
D14: Místo: | F14: Pocínovice | I14: Datum: | J14: ='Rekapitulace stavby'!AN8 -> 21. 9. 2020
D16: Zadavatel: | I16: IČ:
E17: Správa železnic, státní organizace | I17: DIČ:
D19: Uchazeč: | I19: IČ: | J19: ='Rekapitulace stavby'!AN13 -> Vyplň údaj
E20: ='Rekapitulace stavby'!E14 -> Vyplň údaj | I20: DIČ: | J20: ='Rekapitulace stavby'!AN14 -> Vyplň údaj
D22: Projektant: | I22: IČ: | J22: =IF('Rekapitulace stavby'!AN16="","",'Rekapitulace stavby'!AN16)
E23: =IF('Rekapitulace stavby'!E17="","",'Rekapitulace stavby'!E17) | I23: DIČ: | J23: =IF('Rekapitulace stavby'!AN17="","",'Rekapitulace stavby'!AN17)
D25: Zpracovatel: | I25: IČ: | J25: =IF('Rekapitulace stavby'!AN19="","",'Rekapitulace stavby'!AN19)
E26: =IF('Rekapitulace stavby'!E20="","",'Rekapitulace stavby'!E20) | I26: DIČ: | J26: =IF('Rekapitulace stavby'!AN20="","",'Rekapitulace stavby'!AN20)
D28: Poznámka:
D32: Cena bez DPH | J32: =ROUND(J121, 2) -> 0
F34: Základ daně | I34: Sazba daně | J34: Výše daně
D35: DPH | E35: základní | F35: =ROUND((SUM(BE121:BE168)), 2) -> 0 | I35: 0.21 | J35: =ROUND(((SUM(BE121:BE168))*I35), 2) -> 0
E36: snížená | F36: =ROUND((SUM(BF121:BF168)), 2) -> 0 | I36: 0.15 | J36: =ROUND(((SUM(BF121:BF168))*I36), 2) -> 0
E37: zákl. přenesená | F37: =ROUND((SUM(BG121:BG168)), 2) -> 0 | I37: 0.21 | J37: =0 -> 0
E38: sníž. přenesená | F38: =ROUND((SUM(BH121:BH168)), 2) -> 0 | I38: 0.15 | J38: =0 -> 0
E39: nulová | F39: =ROUND((SUM(BI121:BI168)), 2) -> 0 | I39: 0 | J39: =0 -> 0
D41: Cena s DPH | G41: v | H41: CZK | J41: =SUM(J32:J39) -> 0
D50: Projektant | G50: Zpracovatel
D61: Datum a podpis: | F61: Razítko | G61: Datum a podpis: | J61: Razítko
D65: Objednavatel | G65: Uchazeč
D76: Datum a podpis: | F76: Razítko | G76: Datum a podpis: | J76: Razítko
C82: REKAPITULACE ČLENĚNÍ SOUPISU PRACÍ
C84: Stavba:
E85: =E7 -> Oprava SZZ, kolejí a výhybek v žst. Pocínovice
C86: Objekt:
E87: 02 - Výměna mostnic na mostě v km 8,374
C88: Soupis:
E89: =E11 -> 02.1 - Výměna mostnic na mostě v km 8,374
C91: Místo: | F91: =F14 -> Pocínovice | I91: Datum: | J91: =IF(J14="","",J14) -> 21. 9. 2020
...

Sheet 02.2 - Vedlejší a ostatní...
AT2: {fcc95776-5425-4d6e-ac11-6bb13e40618f}
AT3: 2
D4: KRYCÍ LIST SOUPISU PRACÍ | M4: v --- níže se nacházejí doplnkové a pomocné údaje k sestavám --- v | AT4: False
D6: Stavba:
E7: ='Rekapitulace stavby'!K6 -> Oprava SZZ, kolejí a výhybek v žst. Pocínovice
D8: Objekt:
E9: 02 - Výměna mostnic na mostě v km 8,374
D10: Soupis:
E11: 02.2 - Vedlejší a ostatní náklady
D13: KSO: | I13: CC-CZ:
D14: Místo: | F14: Pocínovice | I14: Datum: | J14: ='Rekapitulace stavby'!AN8 -> 21. 9. 2020
D16: Zadavatel: | I16: IČ:
E17: Správa železnic, státní organizace | I17: DIČ:
D19: Uchazeč: | I19: IČ: | J19: ='Rekapitulace stavby'!AN13 -> Vyplň údaj
E20: ='Rekapitulace stavby'!E14 -> Vyplň údaj | I20: DIČ: | J20: ='Rekapitulace stavby'!AN14 -> Vyplň údaj
D22: Projektant: | I22: IČ: | J22: =IF('Rekapitulace stavby'!AN16="","",'Rekapitulace stavby'!AN16)
E23: =IF('Rekapitulace stavby'!E17="","",'Rekapitulace stavby'!E17) | I23: DIČ: | J23: =IF('Rekapitulace stavby'!AN17="","",'Rekapitulace stavby'!AN17)
D25: Zpracovatel: | I25: IČ: | J25: =IF('Rekapitulace stavby'!AN19="","",'Rekapitulace stavby'!AN19)
E26: =IF('Rekapitulace stavby'!E20="","",'Rekapitulace stavby'!E20) | I26: DIČ: | J26: =IF('Rekapitulace stavby'!AN20="","",'Rekapitulace stavby'!AN20)
D28: Poznámka:
D32: Cena bez DPH | J32: =ROUND(J122, 2) -> 0
F34: Základ daně | I34: Sazba daně | J34: Výše daně
D35: DPH | E35: základní | F35: =ROUND((SUM(BE122:BE130)), 2) -> 0 | I35: 0.21 | J35: =ROUND(((SUM(BE122:BE130))*I35), 2) -> 0
E36: snížená | F36: =ROUND((SUM(BF122:BF130)), 2) -> 0 | I36: 0.15 | J36: =ROUND(((SUM(BF122:BF130))*I36), 2) -> 0
E37: zákl. přenesená | F37: =ROUND((SUM(BG122:BG130)), 2) -> 0 | I37: 0.21 | J37: =0 -> 0
E38: sníž. přenesená | F38: =ROUND((SUM(BH122:BH130)), 2) -> 0 | I38: 0.15 | J38: =0 -> 0
E39: nulová | F39: =ROUND((SUM(BI122:BI130)), 2) -> 0 | I39: 0 | J39: =0 -> 0
D41: Cena s DPH | G41: v | H41: CZK | J41: =SUM(J32:J39) -> 0
D50: Projektant | G50: Zpracovatel
D61: Datum a podpis: | F61: Razítko | G61: Datum a podpis: | J61: Razítko
D65: Objednavatel | G65: Uchazeč
D76: Datum a podpis: | F76: Razítko | G76: Datum a podpis: | J76: Razítko
C82: REKAPITULACE ČLENĚNÍ SOUPISU PRACÍ
C84: Stavba:
E85: =E7 -> Oprava SZZ, kolejí a výhybek v žst. Pocínovice
C86: Objekt:
E87: 02 - Výměna mostnic na mostě v km 8,374
C88: Soupis:
E89: =E11 -> 02.2 - Vedlejší a ostatní náklady
C91: Místo: | F91: =F14 -> Pocínovice | I91: Datum: | J91: =IF(J14="","",J14) -> 21. 9. 2020
...

Sheet 03.1.1 - Oprava 1. SK
AT2: {62acf7d3-adaa-4233-a4d1-a5a3a1b2eb68}
AT3: 2
D4: KRYCÍ LIST SOUPISU PRACÍ | M4: v --- níže se nacházejí doplnkové a pomocné údaje k sestavám --- v | AT4: False
D6: Stavba:
E7: ='Rekapitulace stavby'!K6 -> Oprava SZZ, kolejí a výhybek v žst. Pocínovice
D8: Objekt:
E9: 03 - Oprava kolejí a výhybek v žst. Pocínovice
D10: Soupis:
E11: 03.1. - Oprava kolejí
D12: Úroveň 3:
E13: 03.1.1 - Oprava 1. SK
D15: KSO: | I15: CC-CZ:
D16: Místo: | F16: Pocínovice | I16: Datum: | J16: ='Rekapitulace stavby'!AN8 -> 21. 9. 2020
D18: Zadavatel: | I18: IČ:
E19: Správa železnic, státní organizace | I19: DIČ:
D21: Uchazeč: | I21: IČ: | J21: ='Rekapitulace stavby'!AN13 -> Vyplň údaj
E22: ='Rekapitulace stavby'!E14 -> Vyplň údaj | I22: DIČ: | J22: ='Rekapitulace stavby'!AN14 -> Vyplň údaj
D24: Projektant: | I24: IČ: | J24: =IF('Rekapitulace stavby'!AN16="","",'Rekapitulace stavby'!AN16)
E25: =IF('Rekapitulace stavby'!E17="","",'Rekapitulace stavby'!E17) | I25: DIČ: | J25: =IF('Rekapitulace stavby'!AN17="","",'Rekapitulace stavby'!AN17)
D27: Zpracovatel: | I27: IČ: | J27: =IF('Rekapitulace stavby'!AN19="","",'Rekapitulace stavby'!AN19)
E28: =IF('Rekapitulace stavby'!E20="","",'Rekapitulace stavby'!E20) | I28: DIČ: | J28: =IF('Rekapitulace stavby'!AN20="","",'Rekapitulace stavby'!AN20)
D30: Poznámka:
D34: Cena bez DPH | J34: =ROUND(J124, 2) -> 0
F36: Základ daně | I36: Sazba daně | J36: Výše daně
D37: DPH | E37: základní | F37: =ROUND((SUM(BE124:BE220)), 2) -> 0 | I37: 0.21 | J37: =ROUND(((SUM(BE124:BE220))*I37), 2) -> 0
E38: snížená | F38: =ROUND((SUM(BF124:BF220)), 2) -> 0 | I38: 0.15 | J38: =ROUND(((SUM(BF124:BF220))*I38), 2) -> 0
E39: zákl. přenesená | F39: =ROUND((SUM(BG124:BG220)), 2) -> 0 | I39: 0.21 | J39: =0 -> 0
E40: sníž. přenesená | F40: =ROUND((SUM(BH124:BH220)), 2) -> 0 | I40: 0.15 | J40: =0 -> 0
E41: nulová | F41: =ROUND((SUM(BI124:BI220)), 2) -> 0 | I41: 0 | J41: =0 -> 0
D43: Cena s DPH | G43: v | H43: CZK | J43: =SUM(J34:J41) -> 0
D50: Projektant | G50: Zpracovatel
D61: Datum a podpis: | F61: Razítko | G61: Datum a podpis: | J61: Razítko
D65: Objednavatel | G65: Uchazeč
D76: Datum a podpis: | F76: Razítko | G76: Datum a podpis: | J76: Razítko
C82: REKAPITULACE ČLENĚNÍ SOUPISU PRACÍ
C84: Stavba:
E85: =E7 -> Oprava SZZ, kolejí a výhybek v žst. Pocínovice
C86: Objekt:
E87: 03 - Oprava kolejí a výhybek v žst. Pocínovice
C88: Soupis:
...

Sheet 03.1.2 - Oprava 2. SK
AT2: {4d322d52-3ba9-4b4d-bd0c-106cec596b6c}
AT3: 2
D4: KRYCÍ LIST SOUPISU PRACÍ | M4: v --- níže se nacházejí doplnkové a pomocné údaje k sestavám --- v | AT4: False
D6: Stavba:
E7: ='Rekapitulace stavby'!K6 -> Oprava SZZ, kolejí a výhybek v žst. Pocínovice
D8: Objekt:
E9: 03 - Oprava kolejí a výhybek v žst. Pocínovice
D10: Soupis:
E11: 03.1. - Oprava kolejí
D12: Úroveň 3:
E13: 03.1.2 - Oprava 2. SK
D15: KSO: | I15: CC-CZ:
D16: Místo: | F16: Pocínovice | I16: Datum: | J16: ='Rekapitulace stavby'!AN8 -> 21. 9. 2020
D18: Zadavatel: | I18: IČ:
E19: Správa železnic, státní organizace | I19: DIČ:
D21: Uchazeč: | I21: IČ: | J21: ='Rekapitulace stavby'!AN13 -> Vyplň údaj
E22: ='Rekapitulace stavby'!E14 -> Vyplň údaj | I22: DIČ: | J22: ='Rekapitulace stavby'!AN14 -> Vyplň údaj
D24: Projektant: | I24: IČ: | J24: =IF('Rekapitulace stavby'!AN16="","",'Rekapitulace stavby'!AN16)
E25: =IF('Rekapitulace stavby'!E17="","",'Rekapitulace stavby'!E17) | I25: DIČ: | J25: =IF('Rekapitulace stavby'!AN17="","",'Rekapitulace stavby'!AN17)
D27: Zpracovatel: | I27: IČ: | J27: =IF('Rekapitulace stavby'!AN19="","",'Rekapitulace stavby'!AN19)
E28: =IF('Rekapitulace stavby'!E20="","",'Rekapitulace stavby'!E20) | I28: DIČ: | J28: =IF('Rekapitulace stavby'!AN20="","",'Rekapitulace stavby'!AN20)
D30: Poznámka:
D34: Cena bez DPH | J34: =ROUND(J124, 2) -> 0
F36: Základ daně | I36: Sazba daně | J36: Výše daně
D37: DPH | E37: základní | F37: =ROUND((SUM(BE124:BE210)), 2) -> 0 | I37: 0.21 | J37: =ROUND(((SUM(BE124:BE210))*I37), 2) -> 0
E38: snížená | F38: =ROUND((SUM(BF124:BF210)), 2) -> 0 | I38: 0.15 | J38: =ROUND(((SUM(BF124:BF210))*I38), 2) -> 0
E39: zákl. přenesená | F39: =ROUND((SUM(BG124:BG210)), 2) -> 0 | I39: 0.21 | J39: =0 -> 0
E40: sníž. přenesená | F40: =ROUND((SUM(BH124:BH210)), 2) -> 0 | I40: 0.15 | J40: =0 -> 0
E41: nulová | F41: =ROUND((SUM(BI124:BI210)), 2) -> 0 | I41: 0 | J41: =0 -> 0
D43: Cena s DPH | G43: v | H43: CZK | J43: =SUM(J34:J41) -> 0
D50: Projektant | G50: Zpracovatel
D61: Datum a podpis: | F61: Razítko | G61: Datum a podpis: | J61: Razítko
D65: Objednavatel | G65: Uchazeč
D76: Datum a podpis: | F76: Razítko | G76: Datum a podpis: | J76: Razítko
C82: REKAPITULACE ČLENĚNÍ SOUPISU PRACÍ
C84: Stavba:
E85: =E7 -> Oprava SZZ, kolejí a výhybek v žst. Pocínovice
C86: Objekt:
E87: 03 - Oprava kolejí a výhybek v žst. Pocínovice
C88: Soupis:
...

Sheet 03.1.3 - Oprava 3. SK a z...
AT2: {f8b1313d-e5e0-42a1-9180-425b20d91074}
AT3: 2
D4: KRYCÍ LIST SOUPISU PRACÍ | M4: v --- níže se nacházejí doplnkové a pomocné údaje k sestavám --- v | AT4: False
D6: Stavba:
E7: ='Rekapitulace stavby'!K6 -> Oprava SZZ, kolejí a výhybek v žst. Pocínovice
D8: Objekt:
E9: 03 - Oprava kolejí a výhybek v žst. Pocínovice
D10: Soupis:
E11: 03.1. - Oprava kolejí
D12: Úroveň 3:
E13: 03.1.3 - Oprava 3. SK a zrušení koleje 3a
D15: KSO: | I15: CC-CZ:
D16: Místo: | F16: Pocínovice | I16: Datum: | J16: ='Rekapitulace stavby'!AN8 -> 21. 9. 2020
D18: Zadavatel: | I18: IČ:
E19: Správa železnic, státní organizace | I19: DIČ:
D21: Uchazeč: | I21: IČ: | J21: ='Rekapitulace stavby'!AN13 -> Vyplň údaj
E22: ='Rekapitulace stavby'!E14 -> Vyplň údaj | I22: DIČ: | J22: ='Rekapitulace stavby'!AN14 -> Vyplň údaj
D24: Projektant: | I24: IČ: | J24: =IF('Rekapitulace stavby'!AN16="","",'Rekapitulace stavby'!AN16)
E25: =IF('Rekapitulace stavby'!E17="","",'Rekapitulace stavby'!E17) | I25: DIČ: | J25: =IF('Rekapitulace stavby'!AN17="","",'Rekapitulace stavby'!AN17)
D27: Zpracovatel: | I27: IČ: | J27: =IF('Rekapitulace stavby'!AN19="","",'Rekapitulace stavby'!AN19)
E28: =IF('Rekapitulace stavby'!E20="","",'Rekapitulace stavby'!E20) | I28: DIČ: | J28: =IF('Rekapitulace stavby'!AN20="","",'Rekapitulace stavby'!AN20)
D30: Poznámka:
D34: Cena bez DPH | J34: =ROUND(J124, 2) -> 0
F36: Základ daně | I36: Sazba daně | J36: Výše daně
D37: DPH | E37: základní | F37: =ROUND((SUM(BE124:BE199)), 2) -> 0 | I37: 0.21 | J37: =ROUND(((SUM(BE124:BE199))*I37), 2) -> 0
E38: snížená | F38: =ROUND((SUM(BF124:BF199)), 2) -> 0 | I38: 0.15 | J38: =ROUND(((SUM(BF124:BF199))*I38), 2) -> 0
E39: zákl. přenesená | F39: =ROUND((SUM(BG124:BG199)), 2) -> 0 | I39: 0.21 | J39: =0 -> 0
E40: sníž. přenesená | F40: =ROUND((SUM(BH124:BH199)), 2) -> 0 | I40: 0.15 | J40: =0 -> 0
E41: nulová | F41: =ROUND((SUM(BI124:BI199)), 2) -> 0 | I41: 0 | J41: =0 -> 0
D43: Cena s DPH | G43: v | H43: CZK | J43: =SUM(J34:J41) -> 0
D50: Projektant | G50: Zpracovatel
D61: Datum a podpis: | F61: Razítko | G61: Datum a podpis: | J61: Razítko
D65: Objednavatel | G65: Uchazeč
D76: Datum a podpis: | F76: Razítko | G76: Datum a podpis: | J76: Razítko
C82: REKAPITULACE ČLENĚNÍ SOUPISU PRACÍ
C84: Stavba:
E85: =E7 -> Oprava SZZ, kolejí a výhybek v žst. Pocínovice
C86: Objekt:
E87: 03 - Oprava kolejí a výhybek v žst. Pocínovice
C88: Soupis:
...

Sheet 03.1.4 - Oprava km 8,379 ...
AT2: {4fd5dce9-93d3-4e7e-8745-903baffe7de3}
AT3: 2
D4: KRYCÍ LIST SOUPISU PRACÍ | M4: v --- níže se nacházejí doplnkové a pomocné údaje k sestavám --- v | AT4: False
D6: Stavba:
E7: ='Rekapitulace stavby'!K6 -> Oprava SZZ, kolejí a výhybek v žst. Pocínovice
D8: Objekt:
E9: 03 - Oprava kolejí a výhybek v žst. Pocínovice
D10: Soupis:
E11: 03.1. - Oprava kolejí
D12: Úroveň 3:
E13: 03.1.4 - Oprava km 8,379 - 8,730
D15: KSO: | I15: CC-CZ:
D16: Místo: | F16: Pocínovice | I16: Datum: | J16: ='Rekapitulace stavby'!AN8 -> 21. 9. 2020
D18: Zadavatel: | I18: IČ:
E19: Správa železnic, státní organizace | I19: DIČ:
D21: Uchazeč: | I21: IČ: | J21: ='Rekapitulace stavby'!AN13 -> Vyplň údaj
E22: ='Rekapitulace stavby'!E14 -> Vyplň údaj | I22: DIČ: | J22: ='Rekapitulace stavby'!AN14 -> Vyplň údaj
D24: Projektant: | I24: IČ: | J24: =IF('Rekapitulace stavby'!AN16="","",'Rekapitulace stavby'!AN16)
E25: =IF('Rekapitulace stavby'!E17="","",'Rekapitulace stavby'!E17) | I25: DIČ: | J25: =IF('Rekapitulace stavby'!AN17="","",'Rekapitulace stavby'!AN17)
D27: Zpracovatel: | I27: IČ: | J27: =IF('Rekapitulace stavby'!AN19="","",'Rekapitulace stavby'!AN19)
E28: =IF('Rekapitulace stavby'!E20="","",'Rekapitulace stavby'!E20) | I28: DIČ: | J28: =IF('Rekapitulace stavby'!AN20="","",'Rekapitulace stavby'!AN20)
D30: Poznámka:
D34: Cena bez DPH | J34: =ROUND(J124, 2) -> 0
F36: Základ daně | I36: Sazba daně | J36: Výše daně
D37: DPH | E37: základní | F37: =ROUND((SUM(BE124:BE209)), 2) -> 0 | I37: 0.21 | J37: =ROUND(((SUM(BE124:BE209))*I37), 2) -> 0
E38: snížená | F38: =ROUND((SUM(BF124:BF209)), 2) -> 0 | I38: 0.15 | J38: =ROUND(((SUM(BF124:BF209))*I38), 2) -> 0
E39: zákl. přenesená | F39: =ROUND((SUM(BG124:BG209)), 2) -> 0 | I39: 0.21 | J39: =0 -> 0
E40: sníž. přenesená | F40: =ROUND((SUM(BH124:BH209)), 2) -> 0 | I40: 0.15 | J40: =0 -> 0
E41: nulová | F41: =ROUND((SUM(BI124:BI209)), 2) -> 0 | I41: 0 | J41: =0 -> 0
D43: Cena s DPH | G43: v | H43: CZK | J43: =SUM(J34:J41) -> 0
D50: Projektant | G50: Zpracovatel
D61: Datum a podpis: | F61: Razítko | G61: Datum a podpis: | J61: Razítko
D65: Objednavatel | G65: Uchazeč
D76: Datum a podpis: | F76: Razítko | G76: Datum a podpis: | J76: Razítko
C82: REKAPITULACE ČLENĚNÍ SOUPISU PRACÍ
C84: Stavba:
E85: =E7 -> Oprava SZZ, kolejí a výhybek v žst. Pocínovice
C86: Objekt:
E87: 03 - Oprava kolejí a výhybek v žst. Pocínovice
C88: Soupis:
...

Sheet 03.2.1 - Výhybka č.1
AT2: {ed5fe7ed-2c74-4268-8932-c4b79a9b0f3d}
AT3: 2
D4: KRYCÍ LIST SOUPISU PRACÍ | M4: v --- níže se nacházejí doplnkové a pomocné údaje k sestavám --- v | AT4: False
D6: Stavba:
E7: ='Rekapitulace stavby'!K6 -> Oprava SZZ, kolejí a výhybek v žst. Pocínovice
D8: Objekt:
E9: 03 - Oprava kolejí a výhybek v žst. Pocínovice
D10: Soupis:
E11: 03.2 - Oprava výhybek
D12: Úroveň 3:
E13: 03.2.1 - Výhybka č.1
D15: KSO: | I15: CC-CZ:
D16: Místo: | F16: Pocínovice | I16: Datum: | J16: ='Rekapitulace stavby'!AN8 -> 21. 9. 2020
D18: Zadavatel: | I18: IČ:
E19: Správa železnic, státní organizace | I19: DIČ:
D21: Uchazeč: | I21: IČ: | J21: ='Rekapitulace stavby'!AN13 -> Vyplň údaj
E22: ='Rekapitulace stavby'!E14 -> Vyplň údaj | I22: DIČ: | J22: ='Rekapitulace stavby'!AN14 -> Vyplň údaj
D24: Projektant: | I24: IČ: | J24: =IF('Rekapitulace stavby'!AN16="","",'Rekapitulace stavby'!AN16)
E25: =IF('Rekapitulace stavby'!E17="","",'Rekapitulace stavby'!E17) | I25: DIČ: | J25: =IF('Rekapitulace stavby'!AN17="","",'Rekapitulace stavby'!AN17)
D27: Zpracovatel: | I27: IČ: | J27: =IF('Rekapitulace stavby'!AN19="","",'Rekapitulace stavby'!AN19)
E28: =IF('Rekapitulace stavby'!E20="","",'Rekapitulace stavby'!E20) | I28: DIČ: | J28: =IF('Rekapitulace stavby'!AN20="","",'Rekapitulace stavby'!AN20)
D30: Poznámka:
D34: Cena bez DPH | J34: =ROUND(J124, 2) -> 0
F36: Základ daně | I36: Sazba daně | J36: Výše daně
D37: DPH | E37: základní | F37: =ROUND((SUM(BE124:BE247)), 2) -> 0 | I37: 0.21 | J37: =ROUND(((SUM(BE124:BE247))*I37), 2) -> 0
E38: snížená | F38: =ROUND((SUM(BF124:BF247)), 2) -> 0 | I38: 0.15 | J38: =ROUND(((SUM(BF124:BF247))*I38), 2) -> 0
E39: zákl. přenesená | F39: =ROUND((SUM(BG124:BG247)), 2) -> 0 | I39: 0.21 | J39: =0 -> 0
E40: sníž. přenesená | F40: =ROUND((SUM(BH124:BH247)), 2) -> 0 | I40: 0.15 | J40: =0 -> 0
E41: nulová | F41: =ROUND((SUM(BI124:BI247)), 2) -> 0 | I41: 0 | J41: =0 -> 0
D43: Cena s DPH | G43: v | H43: CZK | J43: =SUM(J34:J41) -> 0
D50: Projektant | G50: Zpracovatel
D61: Datum a podpis: | F61: Razítko | G61: Datum a podpis: | J61: Razítko
D65: Objednavatel | G65: Uchazeč
D76: Datum a podpis: | F76: Razítko | G76: Datum a podpis: | J76: Razítko
C82: REKAPITULACE ČLENĚNÍ SOUPISU PRACÍ
C84: Stavba:
E85: =E7 -> Oprava SZZ, kolejí a výhybek v žst. Pocínovice
C86: Objekt:
E87: 03 - Oprava kolejí a výhybek v žst. Pocínovice
C88: Soupis:
...

Sheet 03.2.2 - Zrušení výhybky ...
AT2: {d7e85343-ced6-4c40-93cb-999daba3ded8}
AT3: 2
D4: KRYCÍ LIST SOUPISU PRACÍ | M4: v --- níže se nacházejí doplnkové a pomocné údaje k sestavám --- v | AT4: False
D6: Stavba:
E7: ='Rekapitulace stavby'!K6 -> Oprava SZZ, kolejí a výhybek v žst. Pocínovice
D8: Objekt:
E9: 03 - Oprava kolejí a výhybek v žst. Pocínovice
D10: Soupis:
E11: 03.2 - Oprava výhybek
D12: Úroveň 3:
E13: 03.2.2 - Zrušení výhybky č.3 + kolejová spojka
D15: KSO: | I15: CC-CZ:
D16: Místo: | F16: Pocínovice | I16: Datum: | J16: ='Rekapitulace stavby'!AN8 -> 21. 9. 2020
D18: Zadavatel: | I18: IČ:
E19: Správa železnic, státní organizace | I19: DIČ:
D21: Uchazeč: | I21: IČ: | J21: ='Rekapitulace stavby'!AN13 -> Vyplň údaj
E22: ='Rekapitulace stavby'!E14 -> Vyplň údaj | I22: DIČ: | J22: ='Rekapitulace stavby'!AN14 -> Vyplň údaj
D24: Projektant: | I24: IČ: | J24: =IF('Rekapitulace stavby'!AN16="","",'Rekapitulace stavby'!AN16)
E25: =IF('Rekapitulace stavby'!E17="","",'Rekapitulace stavby'!E17) | I25: DIČ: | J25: =IF('Rekapitulace stavby'!AN17="","",'Rekapitulace stavby'!AN17)
D27: Zpracovatel: | I27: IČ: | J27: =IF('Rekapitulace stavby'!AN19="","",'Rekapitulace stavby'!AN19)
E28: =IF('Rekapitulace stavby'!E20="","",'Rekapitulace stavby'!E20) | I28: DIČ: | J28: =IF('Rekapitulace stavby'!AN20="","",'Rekapitulace stavby'!AN20)
D30: Poznámka:
D34: Cena bez DPH | J34: =ROUND(J124, 2) -> 0
F36: Základ daně | I36: Sazba daně | J36: Výše daně
D37: DPH | E37: základní | F37: =ROUND((SUM(BE124:BE204)), 2) -> 0 | I37: 0.21 | J37: =ROUND(((SUM(BE124:BE204))*I37), 2) -> 0
E38: snížená | F38: =ROUND((SUM(BF124:BF204)), 2) -> 0 | I38: 0.15 | J38: =ROUND(((SUM(BF124:BF204))*I38), 2) -> 0
E39: zákl. přenesená | F39: =ROUND((SUM(BG124:BG204)), 2) -> 0 | I39: 0.21 | J39: =0 -> 0
E40: sníž. přenesená | F40: =ROUND((SUM(BH124:BH204)), 2) -> 0 | I40: 0.15 | J40: =0 -> 0
E41: nulová | F41: =ROUND((SUM(BI124:BI204)), 2) -> 0 | I41: 0 | J41: =0 -> 0
D43: Cena s DPH | G43: v | H43: CZK | J43: =SUM(J34:J41) -> 0
D50: Projektant | G50: Zpracovatel
D61: Datum a podpis: | F61: Razítko | G61: Datum a podpis: | J61: Razítko
D65: Objednavatel | G65: Uchazeč
D76: Datum a podpis: | F76: Razítko | G76: Datum a podpis: | J76: Razítko
C82: REKAPITULACE ČLENĚNÍ SOUPISU PRACÍ
C84: Stavba:
E85: =E7 -> Oprava SZZ, kolejí a výhybek v žst. Pocínovice
C86: Objekt:
E87: 03 - Oprava kolejí a výhybek v žst. Pocínovice
C88: Soupis:
...

Sheet 03.2.3 - Výhybka č.4
AT2: {98180d3e-a51d-4ba4-968f-7cf8fe5d548e}
AT3: 2
D4: KRYCÍ LIST SOUPISU PRACÍ | M4: v --- níže se nacházejí doplnkové a pomocné údaje k sestavám --- v | AT4: False
D6: Stavba:
E7: ='Rekapitulace stavby'!K6 -> Oprava SZZ, kolejí a výhybek v žst. Pocínovice
D8: Objekt:
E9: 03 - Oprava kolejí a výhybek v žst. Pocínovice
D10: Soupis:
E11: 03.2 - Oprava výhybek
D12: Úroveň 3:
E13: 03.2.3 - Výhybka č.4
D15: KSO: | I15: CC-CZ:
D16: Místo: | F16: Pocínovice | I16: Datum: | J16: ='Rekapitulace stavby'!AN8 -> 21. 9. 2020
D18: Zadavatel: | I18: IČ:
E19: Správa železnic, státní organizace | I19: DIČ:
D21: Uchazeč: | I21: IČ: | J21: ='Rekapitulace stavby'!AN13 -> Vyplň údaj
E22: ='Rekapitulace stavby'!E14 -> Vyplň údaj | I22: DIČ: | J22: ='Rekapitulace stavby'!AN14 -> Vyplň údaj
D24: Projektant: | I24: IČ: | J24: =IF('Rekapitulace stavby'!AN16="","",'Rekapitulace stavby'!AN16)
E25: =IF('Rekapitulace stavby'!E17="","",'Rekapitulace stavby'!E17) | I25: DIČ: | J25: =IF('Rekapitulace stavby'!AN17="","",'Rekapitulace stavby'!AN17)
D27: Zpracovatel: | I27: IČ: | J27: =IF('Rekapitulace stavby'!AN19="","",'Rekapitulace stavby'!AN19)
E28: =IF('Rekapitulace stavby'!E20="","",'Rekapitulace stavby'!E20) | I28: DIČ: | J28: =IF('Rekapitulace stavby'!AN20="","",'Rekapitulace stavby'!AN20)
D30: Poznámka:
D34: Cena bez DPH | J34: =ROUND(J124, 2) -> 0
F36: Základ daně | I36: Sazba daně | J36: Výše daně
D37: DPH | E37: základní | F37: =ROUND((SUM(BE124:BE220)), 2) -> 0 | I37: 0.21 | J37: =ROUND(((SUM(BE124:BE220))*I37), 2) -> 0
E38: snížená | F38: =ROUND((SUM(BF124:BF220)), 2) -> 0 | I38: 0.15 | J38: =ROUND(((SUM(BF124:BF220))*I38), 2) -> 0
E39: zákl. přenesená | F39: =ROUND((SUM(BG124:BG220)), 2) -> 0 | I39: 0.21 | J39: =0 -> 0
E40: sníž. přenesená | F40: =ROUND((SUM(BH124:BH220)), 2) -> 0 | I40: 0.15 | J40: =0 -> 0
E41: nulová | F41: =ROUND((SUM(BI124:BI220)), 2) -> 0 | I41: 0 | J41: =0 -> 0
D43: Cena s DPH | G43: v | H43: CZK | J43: =SUM(J34:J41) -> 0
D50: Projektant | G50: Zpracovatel
D61: Datum a podpis: | F61: Razítko | G61: Datum a podpis: | J61: Razítko
D65: Objednavatel | G65: Uchazeč
D76: Datum a podpis: | F76: Razítko | G76: Datum a podpis: | J76: Razítko
C82: REKAPITULACE ČLENĚNÍ SOUPISU PRACÍ
C84: Stavba:
E85: =E7 -> Oprava SZZ, kolejí a výhybek v žst. Pocínovice
C86: Objekt:
E87: 03 - Oprava kolejí a výhybek v žst. Pocínovice
C88: Soupis:
...

Sheet 03.2.4 - Výhybka č.5
AT2: {d8000023-2a2d-41f6-ae1f-a4f2713544b5}
AT3: 2
D4: KRYCÍ LIST SOUPISU PRACÍ | M4: v --- níže se nacházejí doplnkové a pomocné údaje k sestavám --- v | AT4: False
D6: Stavba:
E7: ='Rekapitulace stavby'!K6 -> Oprava SZZ, kolejí a výhybek v žst. Pocínovice
D8: Objekt:
E9: 03 - Oprava kolejí a výhybek v žst. Pocínovice
D10: Soupis:
E11: 03.2 - Oprava výhybek
D12: Úroveň 3:
E13: 03.2.4 - Výhybka č.5
D15: KSO: | I15: CC-CZ:
D16: Místo: | F16: Pocínovice | I16: Datum: | J16: ='Rekapitulace stavby'!AN8 -> 21. 9. 2020
D18: Zadavatel: | I18: IČ:
E19: Správa železnic, státní organizace | I19: DIČ:
D21: Uchazeč: | I21: IČ: | J21: ='Rekapitulace stavby'!AN13 -> Vyplň údaj
E22: ='Rekapitulace stavby'!E14 -> Vyplň údaj | I22: DIČ: | J22: ='Rekapitulace stavby'!AN14 -> Vyplň údaj
D24: Projektant: | I24: IČ: | J24: =IF('Rekapitulace stavby'!AN16="","",'Rekapitulace stavby'!AN16)
E25: =IF('Rekapitulace stavby'!E17="","",'Rekapitulace stavby'!E17) | I25: DIČ: | J25: =IF('Rekapitulace stavby'!AN17="","",'Rekapitulace stavby'!AN17)
D27: Zpracovatel: | I27: IČ: | J27: =IF('Rekapitulace stavby'!AN19="","",'Rekapitulace stavby'!AN19)
E28: =IF('Rekapitulace stavby'!E20="","",'Rekapitulace stavby'!E20) | I28: DIČ: | J28: =IF('Rekapitulace stavby'!AN20="","",'Rekapitulace stavby'!AN20)
D30: Poznámka:
D34: Cena bez DPH | J34: =ROUND(J124, 2) -> 0
F36: Základ daně | I36: Sazba daně | J36: Výše daně
D37: DPH | E37: základní | F37: =ROUND((SUM(BE124:BE220)), 2) -> 0 | I37: 0.21 | J37: =ROUND(((SUM(BE124:BE220))*I37), 2) -> 0
E38: snížená | F38: =ROUND((SUM(BF124:BF220)), 2) -> 0 | I38: 0.15 | J38: =ROUND(((SUM(BF124:BF220))*I38), 2) -> 0
E39: zákl. přenesená | F39: =ROUND((SUM(BG124:BG220)), 2) -> 0 | I39: 0.21 | J39: =0 -> 0
E40: sníž. přenesená | F40: =ROUND((SUM(BH124:BH220)), 2) -> 0 | I40: 0.15 | J40: =0 -> 0
E41: nulová | F41: =ROUND((SUM(BI124:BI220)), 2) -> 0 | I41: 0 | J41: =0 -> 0
D43: Cena s DPH | G43: v | H43: CZK | J43: =SUM(J34:J41) -> 0
D50: Projektant | G50: Zpracovatel
D61: Datum a podpis: | F61: Razítko | G61: Datum a podpis: | J61: Razítko
D65: Objednavatel | G65: Uchazeč
D76: Datum a podpis: | F76: Razítko | G76: Datum a podpis: | J76: Razítko
C82: REKAPITULACE ČLENĚNÍ SOUPISU PRACÍ
C84: Stavba:
E85: =E7 -> Oprava SZZ, kolejí a výhybek v žst. Pocínovice
C86: Objekt:
E87: 03 - Oprava kolejí a výhybek v žst. Pocínovice
C88: Soupis:
...

Sheet 03.3.1 - Materiál zadavat...
AT2: {7e5a17f5-5f6c-4ef0-a7a2-f631c5475810}
AT3: 2
D4: KRYCÍ LIST SOUPISU PRACÍ | M4: v --- níže se nacházejí doplnkové a pomocné údaje k sestavám --- v | AT4: False
D6: Stavba:
E7: ='Rekapitulace stavby'!K6 -> Oprava SZZ, kolejí a výhybek v žst. Pocínovice
D8: Objekt:
E9: 03 - Oprava kolejí a výhybek v žst. Pocínovice
D10: Soupis:
E11: 03.3 - Materiál zadavatele - NEOCEŇOVAT!
D12: Úroveň 3:
E13: 03.3.1 - Materiál zadavatele - NEOCEŇOVAT!
D15: KSO: | I15: CC-CZ:
D16: Místo: | F16: Pocínovice | I16: Datum: | J16: ='Rekapitulace stavby'!AN8 -> 21. 9. 2020
D18: Zadavatel: | I18: IČ:
E19: Správa železnic, státní organizace | I19: DIČ:
D21: Uchazeč: | I21: IČ: | J21: ='Rekapitulace stavby'!AN13 -> Vyplň údaj
E22: ='Rekapitulace stavby'!E14 -> Vyplň údaj | I22: DIČ: | J22: ='Rekapitulace stavby'!AN14 -> Vyplň údaj
D24: Projektant: | I24: IČ: | J24: =IF('Rekapitulace stavby'!AN16="","",'Rekapitulace stavby'!AN16)
E25: =IF('Rekapitulace stavby'!E17="","",'Rekapitulace stavby'!E17) | I25: DIČ: | J25: =IF('Rekapitulace stavby'!AN17="","",'Rekapitulace stavby'!AN17)
D27: Zpracovatel: | I27: IČ: | J27: =IF('Rekapitulace stavby'!AN19="","",'Rekapitulace stavby'!AN19)
E28: =IF('Rekapitulace stavby'!E20="","",'Rekapitulace stavby'!E20) | I28: DIČ: | J28: =IF('Rekapitulace stavby'!AN20="","",'Rekapitulace stavby'!AN20)
D30: Poznámka:
D34: Cena bez DPH | J34: =ROUND(J124, 2) -> 0
F36: Základ daně | I36: Sazba daně | J36: Výše daně
D37: DPH | E37: základní | F37: =ROUND((SUM(BE124:BE149)), 2) -> 0 | I37: 0.21 | J37: =ROUND(((SUM(BE124:BE149))*I37), 2) -> 0
E38: snížená | F38: =ROUND((SUM(BF124:BF149)), 2) -> 0 | I38: 0.15 | J38: =ROUND(((SUM(BF124:BF149))*I38), 2) -> 0
E39: zákl. přenesená | F39: =ROUND((SUM(BG124:BG149)), 2) -> 0 | I39: 0.21 | J39: =0 -> 0
E40: sníž. přenesená | F40: =ROUND((SUM(BH124:BH149)), 2) -> 0 | I40: 0.15 | J40: =0 -> 0
E41: nulová | F41: =ROUND((SUM(BI124:BI149)), 2) -> 0 | I41: 0 | J41: =0 -> 0
D43: Cena s DPH | G43: v | H43: CZK | J43: =SUM(J34:J41) -> 0
D50: Projektant | G50: Zpracovatel
D61: Datum a podpis: | F61: Razítko | G61: Datum a podpis: | J61: Razítko
D65: Objednavatel | G65: Uchazeč
D76: Datum a podpis: | F76: Razítko | G76: Datum a podpis: | J76: Razítko
C82: REKAPITULACE ČLENĚNÍ SOUPISU PRACÍ
C84: Stavba:
E85: =E7 -> Oprava SZZ, kolejí a výhybek v žst. Pocínovice
C86: Objekt:
E87: 03 - Oprava kolejí a výhybek v žst. Pocínovice
C88: Soupis:
...

Sheet 03.4.1 - Vedlejší a ostat...
AT2: {7bab07de-0abb-4062-b207-1d08c0b31852}
AT3: 2
D4: KRYCÍ LIST SOUPISU PRACÍ | M4: v --- níže se nacházejí doplnkové a pomocné údaje k sestavám --- v | AT4: False
D6: Stavba:
E7: ='Rekapitulace stavby'!K6 -> Oprava SZZ, kolejí a výhybek v žst. Pocínovice
D8: Objekt:
E9: 03 - Oprava kolejí a výhybek v žst. Pocínovice
D10: Soupis:
E11: 03.4 - Vedlejší a ostatní náklady
D12: Úroveň 3:
E13: 03.4.1 - Vedlejší a ostatní náklady
D15: KSO: | I15: CC-CZ:
D16: Místo: | F16: Pocínovice | I16: Datum: | J16: ='Rekapitulace stavby'!AN8 -> 21. 9. 2020
D18: Zadavatel: | I18: IČ:
E19: Správa železnic, státní organizace | I19: DIČ:
D21: Uchazeč: | I21: IČ: | J21: ='Rekapitulace stavby'!AN13 -> Vyplň údaj
E22: ='Rekapitulace stavby'!E14 -> Vyplň údaj | I22: DIČ: | J22: ='Rekapitulace stavby'!AN14 -> Vyplň údaj
D24: Projektant: | I24: IČ: | J24: =IF('Rekapitulace stavby'!AN16="","",'Rekapitulace stavby'!AN16)
E25: =IF('Rekapitulace stavby'!E17="","",'Rekapitulace stavby'!E17) | I25: DIČ: | J25: =IF('Rekapitulace stavby'!AN17="","",'Rekapitulace stavby'!AN17)
D27: Zpracovatel: | I27: IČ: | J27: =IF('Rekapitulace stavby'!AN19="","",'Rekapitulace stavby'!AN19)
E28: =IF('Rekapitulace stavby'!E20="","",'Rekapitulace stavby'!E20) | I28: DIČ: | J28: =IF('Rekapitulace stavby'!AN20="","",'Rekapitulace stavby'!AN20)
D30: Poznámka:
D34: Cena bez DPH | J34: =ROUND(J124, 2) -> 0
F36: Základ daně | I36: Sazba daně | J36: Výše daně
D37: DPH | E37: základní | F37: =ROUND((SUM(BE124:BE140)), 2) -> 0 | I37: 0.21 | J37: =ROUND(((SUM(BE124:BE140))*I37), 2) -> 0
E38: snížená | F38: =ROUND((SUM(BF124:BF140)), 2) -> 0 | I38: 0.15 | J38: =ROUND(((SUM(BF124:BF140))*I38), 2) -> 0
E39: zákl. přenesená | F39: =ROUND((SUM(BG124:BG140)), 2) -> 0 | I39: 0.21 | J39: =0 -> 0
E40: sníž. přenesená | F40: =ROUND((SUM(BH124:BH140)), 2) -> 0 | I40: 0.15 | J40: =0 -> 0
E41: nulová | F41: =ROUND((SUM(BI124:BI140)), 2) -> 0 | I41: 0 | J41: =0 -> 0
D43: Cena s DPH | G43: v | H43: CZK | J43: =SUM(J34:J41) -> 0
D50: Projektant | G50: Zpracovatel
D61: Datum a podpis: | F61: Razítko | G61: Datum a podpis: | J61: Razítko
D65: Objednavatel | G65: Uchazeč
D76: Datum a podpis: | F76: Razítko | G76: Datum a podpis: | J76: Razítko
C82: REKAPITULACE ČLENĚNÍ SOUPISU PRACÍ
C84: Stavba:
E85: =E7 -> Oprava SZZ, kolejí a výhybek v žst. Pocínovice
C86: Objekt:
E87: 03 - Oprava kolejí a výhybek v žst. Pocínovice
C88: Soupis:
...

Sheet 04.1.1 - Elektromontáže
AT2: {44d70899-c2e1-4f0c-9fbe-0d3586a9827b}
AT3: 2
D4: KRYCÍ LIST SOUPISU PRACÍ | M4: v --- níže se nacházejí doplnkové a pomocné údaje k sestavám --- v | AT4: False
D6: Stavba:
E7: ='Rekapitulace stavby'!K6 -> Oprava SZZ, kolejí a výhybek v žst. Pocínovice
D8: Objekt:
E9: 04 - Oprava osvětlení a EOV v žst. Pocínovice
D10: Soupis:
E11: 04.1 - EOV
D12: Úroveň 3:
E13: 04.1.1 - Elektromontáže
D15: KSO: | I15: CC-CZ:
D16: Místo: | F16: Pocínovice | I16: Datum: | J16: ='Rekapitulace stavby'!AN8 -> 21. 9. 2020
D18: Zadavatel: | I18: IČ:
E19: Správa železnic, státní organizace | I19: DIČ:
D21: Uchazeč: | I21: IČ: | J21: ='Rekapitulace stavby'!AN13 -> Vyplň údaj
E22: ='Rekapitulace stavby'!E14 -> Vyplň údaj | I22: DIČ: | J22: ='Rekapitulace stavby'!AN14 -> Vyplň údaj
D24: Projektant: | I24: IČ: | J24: =IF('Rekapitulace stavby'!AN16="","",'Rekapitulace stavby'!AN16)
E25: =IF('Rekapitulace stavby'!E17="","",'Rekapitulace stavby'!E17) | I25: DIČ: | J25: =IF('Rekapitulace stavby'!AN17="","",'Rekapitulace stavby'!AN17)
D27: Zpracovatel: | I27: IČ: | J27: =IF('Rekapitulace stavby'!AN19="","",'Rekapitulace stavby'!AN19)
E28: =IF('Rekapitulace stavby'!E20="","",'Rekapitulace stavby'!E20) | I28: DIČ: | J28: =IF('Rekapitulace stavby'!AN20="","",'Rekapitulace stavby'!AN20)
D30: Poznámka:
D34: Cena bez DPH | J34: =ROUND(J126, 2) -> 0
F36: Základ daně | I36: Sazba daně | J36: Výše daně
D37: DPH | E37: základní | F37: =ROUND((SUM(BE126:BE282)), 2) -> 0 | I37: 0.21 | J37: =ROUND(((SUM(BE126:BE282))*I37), 2) -> 0
E38: snížená | F38: =ROUND((SUM(BF126:BF282)), 2) -> 0 | I38: 0.15 | J38: =ROUND(((SUM(BF126:BF282))*I38), 2) -> 0
E39: zákl. přenesená | F39: =ROUND((SUM(BG126:BG282)), 2) -> 0 | I39: 0.21 | J39: =0 -> 0
E40: sníž. přenesená | F40: =ROUND((SUM(BH126:BH282)), 2) -> 0 | I40: 0.15 | J40: =0 -> 0
E41: nulová | F41: =ROUND((SUM(BI126:BI282)), 2) -> 0 | I41: 0 | J41: =0 -> 0
D43: Cena s DPH | G43: v | H43: CZK | J43: =SUM(J34:J41) -> 0
