Workbook

Sheet Rekapitulace stavby
A1: Export Komplet | BA1: 2.0 | BB1: ZAMOK | BT1: False | BU1: False | BV1: {8a171299-d0e3-464d-8a3a-d9ed9be4f09f}
BS2: 0,01 | BT2: 21
BS3: 0,01 | BT3: 15
D4: REKAPITULACE STAVBY | AS4: v --- níže se nacházejí doplnkové a pomocné údaje k sestavám --- v | BE4: Návod na vyplnění | BS4: 0,001
D5: Kód: | K5: 2020 | BE5: Měnit lze pouze buňky se žlutým podbarvením!_x000D_ _x000D_ 1) na prvním listu Rekapitulace stavby vyplňte v sestavě_x000D_ _x000D_ a) Souhrnný list_x000D_ - údaje o Uchazeči_x000D_ (přenesou se do ostatních sestav i v jiných listech)_x000D_ _x000D_ b) Rekapitulace objektů_x000D_ - potřebné Ostatní náklady_x000D_ _x000D_ 2) na vybraných listech vyplňte v sestavě_x000D_ _x000D_ a) Krycí list_x000D_ - údaje o Uchazeči, pokud se liší od údajů o Uchazeči na Souhrnném listu_x000D_ (údaje se přenesou do ostatních sestav v daném listu)_x000D_ _x000D_ b) Rekapitulace rozpočtu_x000D_ - potřebné Ostatní náklady_x000D_ _x000D_ c) Celkové náklady za stavbu_x000D_ - ceny u položek_x000D_ - množství, pokud má žluté podbarvení_x000D_ - a v případě potřeby poznámku (ta je ve skrytém sloupci) | BS5: 0,01
D6: Stavba: | K6: Oprava SZZ, kolejí a výhybek v žst. Pocínovice | BS6: 0,01
D7: KSO: | AK7: CC-CZ: | BS7: 0,01
D8: Místo: | K8: Pocínovice | AK8: Datum: | AN8: 21. 9. 2020 | BS8: 0,01
BS9: 0,01
D10: Zadavatel: | AK10: IČ: | BS10: 0,01
E11: Správa železnic, státní organizace | AK11: DIČ: | BS11: 0,01
BS12: 0,01
D13: Uchazeč: | AK13: IČ: | AN13: Vyplň údaj | BS13: 0,01
E14: Vyplň údaj | AK14: DIČ: | AN14: Vyplň údaj | BS14: 0,01
BS15: False
D16: Projektant: | AK16: IČ: | BS16: False
AK17: DIČ: | BS17: True
BS18: 0,01
D19: Zpracovatel: | AK19: IČ: | BS19: 0,01
AK20: DIČ: | BS20: True
D22: Poznámka:
D26: Cena bez DPH | AK26: =ROUND(AG94,2) -> 0
L28: Sazba daně | W28: Základ daně | AK28: Výše daně
D29: DPH | F29: základní | L29: 0.21 | W29: =ROUND(AZ94, 2) -> 0 | AK29: =ROUND(AV94, 2) -> 0
F30: snížená | L30: 0.15 | W30: =ROUND(BA94, 2) -> 0 | AK30: =ROUND(AW94, 2) -> 0
F31: zákl. přenesená | L31: 0.21 | W31: =ROUND(BB94, 2) -> 0 | AK31: 0
F32: sníž. přenesená | L32: 0.15 | W32: =ROUND(BC94, 2) -> 0 | AK32: 0
F33: nulová | L33: 0 | W33: =ROUND(BD94, 2) -> 0 | AK33: 0
D35: Cena s DPH | T35: v | X35: CZK | AK35: =SUM(AK26:AK33) -> 0
D49: Projektant | AH49: Zpracovatel
D60: Datum a podpis: | V60: Razítko | AH60: Datum a podpis: | AM60: Razítko
D64: Objednavatel | AH64: Uchazeč
D75: Datum a podpis: | V75: Razítko | AH75: Datum a podpis: | AM75: Razítko
C82: REKAPITULACE OBJEKTŮ STAVBY A SOUPISŮ PRACÍ
C84: Kód: | L84: =K5 -> 2020
C85: Stavba: | L85: =K6 -> Oprava SZZ, kolejí a výhybek v žst. Pocínovice
C87: Místo: | L87: =IF(K8="","",K8) -> Pocínovice | AI87: Datum: | AM87: =IF(AN8= "","",AN8) -> 21. 9. 2020
C89: Zadavatel: | L89: =IF(E11= "","",E11) -> Správa železnic, státní organizace | AI89: Projektant: | AM89: =IF(E17="","",E17) | AS89: Informatívní údaje z listů zakázek
C90: Uchazeč: | L90: =IF(E14= "Vyplň údaj","",E14) | AI90: Zpracovatel: | AM90: =IF(E20="","",E20)
C92: Kód | I92: Popis | AG92: Cena bez DPH [CZK] | AN92: Cena s DPH [CZK] | AQ92: Typ | AS92: z toho Ostat._x000D_ náklady [CZK] | AT92: DPH [CZK] | AU92: Normohodiny [h] | AV92: DPH základní [CZK] | AW92: DPH snížená [CZK] | AX92: DPH základní přenesená_x000D_ [CZK] | AY92: DPH snížená přenesená_x000D_ [CZK] | AZ92: Základna_x000D_ DPH základní | BA92: Základna_x000D_ DPH snížená | BB92: Základna_x000D_ DPH zákl. přenesená | BC92: Základna_x000D_ DPH sníž. přenesená | BD92: Základna_x000D_ DPH nulová
C94: Náklady z rozpočtů | AG94: =ROUND(AG95+AG107+AG110+AG125,2) -> 0 | AN94: =SUM(AG94,AT94) -> 0 | AS94: =ROUND(AS95+AS107+AS110+AS125,2) -> 0 | AT94: =ROUND(SUM(AV94:AW94),2) -> 0 | AU94: =ROUND(AU95+AU107+AU110+AU125,5) -> 0 | AV94: =ROUND(AZ94*L29,2) -> 0 | AW94: =ROUND(BA94*L30,2) -> 0 | AX94: =ROUND(BB94*L29,2) -> 0 | AY94: =ROUND(BC94*L30,2) -> 0 | AZ94: =ROUND(AZ95+AZ107+AZ110+AZ125,2) -> 0 | BA94: =ROUND(BA95+BA107+BA110+BA125,2) -> 0 | BB94: =ROUND(BB95+BB107+BB110+BB125,2) -> 0 | BC94: =ROUND(BC95+BC107+BC110+BC125,2) -> 0 | BD94: =ROUND(BD95+BD107+BD110+BD125,2) -> 0 | BS94: D | BT94: 0 | BU94: ###NOIMPORT### | BV94: IMPORT | BW94: {8a171299-d0e3-464d-8a3a-d9ed9be4f09f} | BX94: {00000000-0000-0000-0000-000000000000}
D95: 01 | J95: Oprava sdělovacího a zabezpečovacího zařízení žst. Pocínovice | AG95: =ROUND(AG96+SUM(AG100:AG106),2) -> 0 | AN95: =SUM(AG95,AT95) -> 0 | AQ95: PRO | AS95: =ROUND(AS96+SUM(AS100:AS106),2) -> 0 | AT95: =ROUND(SUM(AV95:AW95),2) -> 0 | AU95: =ROUND(AU96+SUM(AU100:AU106),5) -> 0 | AV95: =ROUND(AZ95*L29,2) -> 0 | AW95: =ROUND(BA95*L30,2) -> 0 | AX95: =ROUND(BB95*L29,2) -> 0 | AY95: =ROUND(BC95*L30,2) -> 0 | AZ95: =ROUND(AZ96+SUM(AZ100:AZ106),2) -> 0 | BA95: =ROUND(BA96+SUM(BA100:BA106),2) -> 0 | BB95: =ROUND(BB96+SUM(BB100:BB106),2) -> 0 | BC95: =ROUND(BC96+SUM(BC100:BC106),2) -> 0 | BD95: =ROUND(BD96+SUM(BD100:BD106),2) -> 0 | BS95: D | BT95: 1 | BU95: ###NOIMPORT### | BV95: IMPORT | BW95: {35043e53-808c-49f5-ac3f-8fbcb9dfb9f0} | BX95: {8a171299-d0e3-464d-8a3a-d9ed9be4f09f} | CM95: 2
E96: 01.1 | K96: Vnitřní část zabezpečovacího zařízení | AG96: =ROUND(SUM(AG97:AG99),2) -> 0 | AN96: =SUM(AG96,AT96) -> 0 | AQ96: Soupis | AS96: =ROUND(SUM(AS97:AS99),2) -> 0 | AT96: =ROUND(SUM(AV96:AW96),2) -> 0 | AU96: =ROUND(SUM(AU97:AU99),5) -> 0 | AV96: =ROUND(AZ96*L29,2) -> 0 | AW96: =ROUND(BA96*L30,2) -> 0 | AX96: =ROUND(BB96*L29,2) -> 0 | AY96: =ROUND(BC96*L30,2) -> 0 | AZ96: =ROUND(SUM(AZ97:AZ99),2) -> 0 | BA96: =ROUND(SUM(BA97:BA99),2) -> 0 | BB96: =ROUND(SUM(BB97:BB99),2) -> 0 | BC96: =ROUND(SUM(BC97:BC99),2) -> 0 | BD96: =ROUND(SUM(BD97:BD99),2) -> 0 | BS96: D | BT96: 2 | BU96: ###NOIMPORT### | BV96: IMPORT | BW96: {fb03ba6f-df7e-4bdd-8d8c-bd86b26a256f} | BX96: {35043e53-808c-49f5-ac3f-8fbcb9dfb9f0}
A97: / | F97: 01.1.1 | L97: Klimatizace | AG97: ='01.1.1 - Klimatizace'!J34 -> 0 | AN97: =SUM(AG97,AT97) -> 0 | AQ97: Soupis | AS97: 0 | AT97: =ROUND(SUM(AV97:AW97),2) -> 0 | AU97: ='01.1.1 - Klimatizace'!P124 -> 0 | AV97: ='01.1.1 - Klimatizace'!J37 -> 0 | AW97: ='01.1.1 - Klimatizace'!J38 -> 0 | AX97: ='01.1.1 - Klimatizace'!J39 -> 0 | AY97: ='01.1.1 - Klimatizace'!J40 -> 0 | AZ97: ='01.1.1 - Klimatizace'!F37 -> 0 | BA97: ='01.1.1 - Klimatizace'!F38 -> 0 | BB97: ='01.1.1 - Klimatizace'!F39 -> 0 | BC97: ='01.1.1 - Klimatizace'!F40 -> 0 | BD97: ='01.1.1 - Klimatizace'!F41 -> 0 | BT97: 3 | BV97: IMPORT | BW97: {c49d2e2b-c81d-46a1-8b37-95a91db9d7bb} | BX97: {fb03ba6f-df7e-4bdd-8d8c-bd86b26a256f}
A98: / | F98: 01.1.2 | L98: Napájení | AG98: ='01.1.2 - Napájení'!J34 -> 0 | AN98: =SUM(AG98,AT98) -> 0 | AQ98: Soupis | AS98: 0 | AT98: =ROUND(SUM(AV98:AW98),2) -> 0 | AU98: ='01.1.2 - Napájení'!P124 -> 0 | AV98: ='01.1.2 - Napájení'!J37 -> 0 | AW98: ='01.1.2 - Napájení'!J38 -> 0 | AX98: ='01.1.2 - Napájení'!J39 -> 0 | AY98: ='01.1.2 - Napájení'!J40 -> 0 | AZ98: ='01.1.2 - Napájení'!F37 -> 0 | BA98: ='01.1.2 - Napájení'!F38 -> 0 | BB98: ='01.1.2 - Napájení'!F39 -> 0 | BC98: ='01.1.2 - Napájení'!F40 -> 0 | BD98: ='01.1.2 - Napájení'!F41 -> 0 | BT98: 3 | BV98: IMPORT | BW98: {2782f88f-5d91-4a9c-9529-09b1ec1578d2} | BX98: {fb03ba6f-df7e-4bdd-8d8c-bd86b26a256f}
A99: / | F99: 01.1.3 | L99: Technologie zabezpečovacího zařízení | AG99: ='01.1.3 - Technologie zabe...'!J34 -> 0 | AN99: =SUM(AG99,AT99) -> 0 | AQ99: Soupis | AS99: 0 | AT99: =ROUND(SUM(AV99:AW99),2) -> 0 | AU99: ='01.1.3 - Technologie zabe...'!P124 -> 0 | AV99: ='01.1.3 - Technologie zabe...'!J37 -> 0 | AW99: ='01.1.3 - Technologie zabe...'!J38 -> 0 | AX99: ='01.1.3 - Technologie zabe...'!J39 -> 0 | AY99: ='01.1.3 - Technologie zabe...'!J40 -> 0 | AZ99: ='01.1.3 - Technologie zabe...'!F37 -> 0 | BA99: ='01.1.3 - Technologie zabe...'!F38 -> 0 | BB99: ='01.1.3 - Technologie zabe...'!F39 -> 0 | BC99: ='01.1.3 - Technologie zabe...'!F40 -> 0 | BD99: ='01.1.3 - Technologie zabe...'!F41 -> 0 | BT99: 3 | BV99: IMPORT | BW99: {8f0043cf-41b2-478f-abcd-c389f7b2df72} | BX99: {fb03ba6f-df7e-4bdd-8d8c-bd86b26a256f}
A100: / | E100: 01.2 | K100: Venkovní část zabezpečovacího zařízení,zkoušení | AG100: ='01.2 - Venkovní část zabe...'!J32 -> 0 | AN100: =SUM(AG100,AT100) -> 0 | AQ100: Soupis | AS100: 0 | AT100: =ROUND(SUM(AV100:AW100),2) -> 0 | AU100: ='01.2 - Venkovní část zabe...'!P120 -> 0 | AV100: ='01.2 - Venkovní část zabe...'!J35 -> 0 | AW100: ='01.2 - Venkovní část zabe...'!J36 -> 0 | AX100: ='01.2 - Venkovní část zabe...'!J37 -> 0 | AY100: ='01.2 - Venkovní část zabe...'!J38 -> 0 | AZ100: ='01.2 - Venkovní část zabe...'!F35 -> 0 | BA100: ='01.2 - Venkovní část zabe...'!F36 -> 0 | BB100: ='01.2 - Venkovní část zabe...'!F37 -> 0 | BC100: ='01.2 - Venkovní část zabe...'!F38 -> 0 | BD100: ='01.2 - Venkovní část zabe...'!F39 -> 0 | BT100: 2 | BV100: IMPORT | BW100: {095f36e0-fbcd-4ea2-8b9b-cd9b1db33474} | BX100: {35043e53-808c-49f5-ac3f-8fbcb9dfb9f0}
A101: / | E101: 01.3 | K101: Oprava kabelizace, zemní práce | AG101: ='01.3 - Oprava kabelizace,...'!J32 -> 0 | AN101: =SUM(AG101,AT101) -> 0 | AQ101: Soupis | AS101: 0 | AT101: =ROUND(SUM(AV101:AW101),2) -> 0 | AU101: ='01.3 - Oprava kabelizace,...'!P121 -> 0 | AV101: ='01.3 - Oprava kabelizace,...'!J35 -> 0 | AW101: ='01.3 - Oprava kabelizace,...'!J36 -> 0 | AX101: ='01.3 - Oprava kabelizace,...'!J37 -> 0 | AY101: ='01.3 - Oprava kabelizace,...'!J38 -> 0 | AZ101: ='01.3 - Oprava kabelizace,...'!F35 -> 0 | BA101: ='01.3 - Oprava kabelizace,...'!F36 -> 0 | BB101: ='01.3 - Oprava kabelizace,...'!F37 -> 0 | BC101: ='01.3 - Oprava kabelizace,...'!F38 -> 0 | BD101: ='01.3 - Oprava kabelizace,...'!F39 -> 0 | BT101: 2 | BV101: IMPORT | BW101: {2b1e3fc4-291e-41f2-940b-15b635521926} | BX101: {35043e53-808c-49f5-ac3f-8fbcb9dfb9f0}
A102: / | E102: 01.4 | K102: Materiál zadavatele - NEOCEŇOVAT! | AG102: ='01.4 - Materiál zadavatel...'!J32 -> 0 | AN102: =SUM(AG102,AT102) -> 0 | AQ102: Soupis | AS102: 0 | AT102: =ROUND(SUM(AV102:AW102),2) -> 0 | AU102: ='01.4 - Materiál zadavatel...'!P120 -> 0 | AV102: ='01.4 - Materiál zadavatel...'!J35 -> 0 | AW102: ='01.4 - Materiál zadavatel...'!J36 -> 0 | AX102: ='01.4 - Materiál zadavatel...'!J37 -> 0 | AY102: ='01.4 - Materiál zadavatel...'!J38 -> 0 | AZ102: ='01.4 - Materiál zadavatel...'!F35 -> 0 | BA102: ='01.4 - Materiál zadavatel...'!F36 -> 0 | BB102: ='01.4 - Materiál zadavatel...'!F37 -> 0 | BC102: ='01.4 - Materiál zadavatel...'!F38 -> 0 | BD102: ='01.4 - Materiál zadavatel...'!F39 -> 0 | BT102: 2 | BV102: IMPORT | BW102: {3bdaffb3-7043-4788-8997-ee0829f9a2c3} | BX102: {35043e53-808c-49f5-ac3f-8fbcb9dfb9f0}
A103: / | E103: 01.5 | K103: Sdělovací zařízení | AG103: ='01.5 - Sdělovací zařízení'!J32 -> 0 | AN103: =SUM(AG103,AT103) -> 0 | AQ103: Soupis | AS103: 0 | AT103: =ROUND(SUM(AV103:AW103),2) -> 0 | AU103: ='01.5 - Sdělovací zařízení'!P121 -> 0 | AV103: ='01.5 - Sdělovací zařízení'!J35 -> 0 | AW103: ='01.5 - Sdělovací zařízení'!J36 -> 0 | AX103: ='01.5 - Sdělovací zařízení'!J37 -> 0 | AY103: ='01.5 - Sdělovací zařízení'!J38 -> 0 | AZ103: ='01.5 - Sdělovací zařízení'!F35 -> 0 | BA103: ='01.5 - Sdělovací zařízení'!F36 -> 0 | BB103: ='01.5 - Sdělovací zařízení'!F37 -> 0 | BC103: ='01.5 - Sdělovací zařízení'!F38 -> 0 | BD103: ='01.5 - Sdělovací zařízení'!F39 -> 0 | BT103: 2 | BV103: IMPORT | BW103: {0937faba-987e-44d6-80e7-20ed06ed8960} | BX103: {35043e53-808c-49f5-ac3f-8fbcb9dfb9f0}
A104: / | E104: 01.6 | K104: DDTS | AG104: ='01.6 - DDTS'!J32 -> 0 | AN104: =SUM(AG104,AT104) -> 0 | AQ104: Soupis | AS104: 0 | AT104: =ROUND(SUM(AV104:AW104),2) -> 0 | AU104: ='01.6 - DDTS'!P121 -> 0 | AV104: ='01.6 - DDTS'!J35 -> 0 | AW104: ='01.6 - DDTS'!J36 -> 0 | AX104: ='01.6 - DDTS'!J37 -> 0 | AY104: ='01.6 - DDTS'!J38 -> 0 | AZ104: ='01.6 - DDTS'!F35 -> 0 | BA104: ='01.6 - DDTS'!F36 -> 0 | BB104: ='01.6 - DDTS'!F37 -> 0 | BC104: ='01.6 - DDTS'!F38 -> 0 | BD104: ='01.6 - DDTS'!F39 -> 0 | BT104: 2 | BV104: IMPORT | BW104: {3839812e-bcbc-4d91-90ec-4e815c39d163} | BX104: {35043e53-808c-49f5-ac3f-8fbcb9dfb9f0}
A105: / | E105: 01.7 | K105: Vedlejší a ostatní náklady | AG105: ='01.7 - Vedlejší a ostatní...'!J32 -> 0 | AN105: =SUM(AG105,AT105) -> 0 | AQ105: Soupis | AS105: 0 | AT105: =ROUND(SUM(AV105:AW105),2) -> 0 | AU105: ='01.7 - Vedlejší a ostatní...'!P121 -> 0 | AV105: ='01.7 - Vedlejší a ostatní...'!J35 -> 0 | AW105: ='01.7 - Vedlejší a ostatní...'!J36 -> 0 | AX105: ='01.7 - Vedlejší a ostatní...'!J37 -> 0 | AY105: ='01.7 - Vedlejší a ostatní...'!J38 -> 0 | AZ105: ='01.7 - Vedlejší a ostatní...'!F35 -> 0 | BA105: ='01.7 - Vedlejší a ostatní...'!F36 -> 0 | BB105: ='01.7 - Vedlejší a ostatní...'!F37 -> 0 | BC105: ='01.7 - Vedlejší a ostatní...'!F38 -> 0 | BD105: ='01.7 - Vedlejší a ostatní...'!F39 -> 0 | BT105: 2 | BV105: IMPORT | BW105: {d04154d4-37e4-4ee6-a323-f118dc421f4a} | BX105: {35043e53-808c-49f5-ac3f-8fbcb9dfb9f0}
A106: / | E106: 01.8 | K106: Náklady na dopravu | AG106: ='01.8 - Náklady na dopravu'!J32 -> 0 | AN106: =SUM(AG106,AT106) -> 0 | AQ106: Soupis | AS106: 0 | AT106: =ROUND(SUM(AV106:AW106),2) -> 0 | AU106: ='01.8 - Náklady na dopravu'!P120 -> 0 | AV106: ='01.8 - Náklady na dopravu'!J35 -> 0 | AW106: ='01.8 - Náklady na dopravu'!J36 -> 0 | AX106: ='01.8 - Náklady na dopravu'!J37 -> 0 | AY106: ='01.8 - Náklady na dopravu'!J38 -> 0 | AZ106: ='01.8 - Náklady na dopravu'!F35 -> 0 | BA106: ='01.8 - Náklady na dopravu'!F36 -> 0 | BB106: ='01.8 - Náklady na dopravu'!F37 -> 0 | BC106: ='01.8 - Náklady na dopravu'!F38 -> 0 | BD106: ='01.8 - Náklady na dopravu'!F39 -> 0 | BT106: 2 | BV106: IMPORT | BW106: {d229a2b4-677f-4789-a13c-9c63e2fed32a} | BX106: {35043e53-808c-49f5-ac3f-8fbcb9dfb9f0}
D107: 02 | J107: Výměna mostnic na mostě v km 8,374 | AG107: =ROUND(SUM(AG108:AG109),2) -> 0 | AN107: =SUM(AG107,AT107) -> 0 | AQ107: STA | AS107: =ROUND(SUM(AS108:AS109),2) -> 0 | AT107: =ROUND(SUM(AV107:AW107),2) -> 0 | AU107: =ROUND(SUM(AU108:AU109),5) -> 0 | AV107: =ROUND(AZ107*L29,2) -> 0 | AW107: =ROUND(BA107*L30,2) -> 0 | AX107: =ROUND(BB107*L29,2) -> 0 | AY107: =ROUND(BC107*L30,2) -> 0 | AZ107: =ROUND(SUM(AZ108:AZ109),2) -> 0 | BA107: =ROUND(SUM(BA108:BA109),2) -> 0 | BB107: =ROUND(SUM(BB108:BB109),2) -> 0 | BC107: =ROUND(SUM(BC108:BC109),2) -> 0 | BD107: =ROUND(SUM(BD108:BD109),2) -> 0 | BS107: D | BT107: 1 | BU107: ###NOIMPORT### | BV107: IMPORT | BW107: {04d40930-7977-49e4-8f7c-960127fab931} | BX107: {8a171299-d0e3-464d-8a3a-d9ed9be4f09f} | CM107: 2
A108: / | E108: 02.1 | K108: Výměna mostnic na mostě v km 8,374 | AG108: ='02.1 - Výměna mostnic na ...'!J32 -> 0 | AN108: =SUM(AG108,AT108) -> 0 | AQ108: Soupis | AS108: 0 | AT108: =ROUND(SUM(AV108:AW108),2) -> 0 | AU108: ='02.1 - Výměna mostnic na ...'!P121 -> 0 | AV108: ='02.1 - Výměna mostnic na ...'!J35 -> 0 | AW108: ='02.1 - Výměna mostnic na ...'!J36 -> 0 | AX108: ='02.1 - Výměna mostnic na ...'!J37 -> 0 | AY108: ='02.1 - Výměna mostnic na ...'!J38 -> 0 | AZ108: ='02.1 - Výměna mostnic na ...'!F35 -> 0 | BA108: ='02.1 - Výměna mostnic na ...'!F36 -> 0 | BB108: ='02.1 - Výměna mostnic na ...'!F37 -> 0 | BC108: ='02.1 - Výměna mostnic na ...'!F38 -> 0 | BD108: ='02.1 - Výměna mostnic na ...'!F39 -> 0 | BT108: 2 | BV108: IMPORT | BW108: {d684f2ad-d6c2-424b-baf4-2cdc7a311249} | BX108: {04d40930-7977-49e4-8f7c-960127fab931}
A109: / | E109: 02.2 | K109: Vedlejší a ostatní náklady | AG109: ='02.2 - Vedlejší a ostatní...'!J32 -> 0 | AN109: =SUM(AG109,AT109) -> 0 | AQ109: Soupis | AS109: 0 | AT109: =ROUND(SUM(AV109:AW109),2) -> 0 | AU109: ='02.2 - Vedlejší a ostatní...'!P122 -> 0 | AV109: ='02.2 - Vedlejší a ostatní...'!J35 -> 0 | AW109: ='02.2 - Vedlejší a ostatní...'!J36 -> 0 | AX109: ='02.2 - Vedlejší a ostatní...'!J37 -> 0 | AY109: ='02.2 - Vedlejší a ostatní...'!J38 -> 0 | AZ109: ='02.2 - Vedlejší a ostatní...'!F35 -> 0 | BA109: ='02.2 - Vedlejší a ostatní...'!F36 -> 0 | BB109: ='02.2 - Vedlejší a ostatní...'!F37 -> 0 | BC109: ='02.2 - Vedlejší a ostatní...'!F38 -> 0 | BD109: ='02.2 - Vedlejší a ostatní...'!F39 -> 0 | BT109: 2 | BV109: IMPORT | BW109: {fcc95776-5425-4d6e-ac11-6bb13e40618f} | BX109: {04d40930-7977-49e4-8f7c-960127fab931}
D110: 03 | J110: Oprava kolejí a výhybek v žst. Pocínovice | AG110: =ROUND(AG111+AG116+AG121+AG123,2) -> 0 | AN110: =SUM(AG110,AT110) -> 0 | AQ110: STA | AS110: =ROUND(AS111+AS116+AS121+AS123,2) -> 0 | AT110: =ROUND(SUM(AV110:AW110),2) -> 0 | AU110: =ROUND(AU111+AU116+AU121+AU123,5) -> 0 | AV110: =ROUND(AZ110*L29,2) -> 0 | AW110: =ROUND(BA110*L30,2) -> 0 | AX110: =ROUND(BB110*L29,2) -> 0 | AY110: =ROUND(BC110*L30,2) -> 0 | AZ110: =ROUND(AZ111+AZ116+AZ121+AZ123,2) -> 0 | BA110: =ROUND(BA111+BA116+BA121+BA123,2) -> 0 | BB110: =ROUND(BB111+BB116+BB121+BB123,2) -> 0 | BC110: =ROUND(BC111+BC116+BC121+BC123,2) -> 0 | BD110: =ROUND(BD111+BD116+BD121+BD123,2) -> 0 | BS110: D | BT110: 1 | BU110: ###NOIMPORT### | BV110: IMPORT | BW110: {ba19024b-156a-4de6-ac0a-235e380c92d4} | BX110: {8a171299-d0e3-464d-8a3a-d9ed9be4f09f} | CM110: 2
E111: 03.1. | K111: Oprava kolejí | AG111: =ROUND(SUM(AG112:AG115),2) -> 0 | AN111: =SUM(AG111,AT111) -> 0 | AQ111: Soupis | AS111: =ROUND(SUM(AS112:AS115),2) -> 0 | AT111: =ROUND(SUM(AV111:AW111),2) -> 0 | AU111: =ROUND(SUM(AU112:AU115),5) -> 0 | AV111: =ROUND(AZ111*L29,2) -> 0 | AW111: =ROUND(BA111*L30,2) -> 0 | AX111: =ROUND(BB111*L29,2) -> 0 | AY111: =ROUND(BC111*L30,2) -> 0 | AZ111: =ROUND(SUM(AZ112:AZ115),2) -> 0 | BA111: =ROUND(SUM(BA112:BA115),2) -> 0 | BB111: =ROUND(SUM(BB112:BB115),2) -> 0 | BC111: =ROUND(SUM(BC112:BC115),2) -> 0 | BD111: =ROUND(SUM(BD112:BD115),2) -> 0 | BS111: D | BT111: 2 | BU111: ###NOIMPORT### | BV111: IMPORT | BW111: {8f736d4c-5c4a-4772-bd8a-b8403fb9726b} | BX111: {ba19024b-156a-4de6-ac0a-235e380c92d4}
A112: / | F112: 03.1.1 | L112: Oprava 1. SK | AG112: ='03.1.1 - Oprava 1. SK'!J34 -> 0 | AN112: =SUM(AG112,AT112) -> 0 | AQ112: Soupis | AS112: 0 | AT112: =ROUND(SUM(AV112:AW112),2) -> 0 | AU112: ='03.1.1 - Oprava 1. SK'!P124 -> 0 | AV112: ='03.1.1 - Oprava 1. SK'!J37 -> 0 | AW112: ='03.1.1 - Oprava 1. SK'!J38 -> 0 | AX112: ='03.1.1 - Oprava 1. SK'!J39 -> 0 | AY112: ='03.1.1 - Oprava 1. SK'!J40 -> 0 | AZ112: ='03.1.1 - Oprava 1. SK'!F37 -> 0 | BA112: ='03.1.1 - Oprava 1. SK'!F38 -> 0 | BB112: ='03.1.1 - Oprava 1. SK'!F39 -> 0 | BC112: ='03.1.1 - Oprava 1. SK'!F40 -> 0 | BD112: ='03.1.1 - Oprava 1. SK'!F41 -> 0 | BT112: 3 | BV112: IMPORT | BW112: {62acf7d3-adaa-4233-a4d1-a5a3a1b2eb68} | BX112: {8f736d4c-5c4a-4772-bd8a-b8403fb9726b}
A113: / | F113: 03.1.2 | L113: Oprava 2. SK | AG113: ='03.1.2 - Oprava 2. SK'!J34 -> 0 | AN113: =SUM(AG113,AT113) -> 0 | AQ113: Soupis | AS113: 0 | AT113: =ROUND(SUM(AV113:AW113),2) -> 0 | AU113: ='03.1.2 - Oprava 2. SK'!P124 -> 0 | AV113: ='03.1.2 - Oprava 2. SK'!J37 -> 0 | AW113: ='03.1.2 - Oprava 2. SK'!J38 -> 0 | AX113: ='03.1.2 - Oprava 2. SK'!J39 -> 0 | AY113: ='03.1.2 - Oprava 2. SK'!J40 -> 0 | AZ113: ='03.1.2 - Oprava 2. SK'!F37 -> 0 | BA113: ='03.1.2 - Oprava 2. SK'!F38 -> 0 | BB113: ='03.1.2 - Oprava 2. SK'!F39 -> 0 | BC113: ='03.1.2 - Oprava 2. SK'!F40 -> 0 | BD113: ='03.1.2 - Oprava 2. SK'!F41 -> 0 | BT113: 3 | BV113: IMPORT | BW113: {4d322d52-3ba9-4b4d-bd0c-106cec596b6c} | BX113: {8f736d4c-5c4a-4772-bd8a-b8403fb9726b}
A114: / | F114: 03.1.3 | L114: Oprava 3. SK a zrušení koleje 3a | AG114: ='03.1.3 - Oprava 3. SK a z...'!J34 -> 0 | AN114: =SUM(AG114,AT114) -> 0 | AQ114: Soupis | AS114: 0 | AT114: =ROUND(SUM(AV114:AW114),2) -> 0 | AU114: ='03.1.3 - Oprava 3. SK a z...'!P124 -> 0 | AV114: ='03.1.3 - Oprava 3. SK a z...'!J37 -> 0 | AW114: ='03.1.3 - Oprava 3. SK a z...'!J38 -> 0 | AX114: ='03.1.3 - Oprava 3. SK a z...'!J39 -> 0 | AY114: ='03.1.3 - Oprava 3. SK a z...'!J40 -> 0 | AZ114: ='03.1.3 - Oprava 3. SK a z...'!F37 -> 0 | BA114: ='03.1.3 - Oprava 3. SK a z...'!F38 -> 0 | BB114: ='03.1.3 - Oprava 3. SK a z...'!F39 -> 0 | BC114: ='03.1.3 - Oprava 3. SK a z...'!F40 -> 0 | BD114: ='03.1.3 - Oprava 3. SK a z...'!F41 -> 0 | BT114: 3 | BV114: IMPORT | BW114: {f8b1313d-e5e0-42a1-9180-425b20d91074} | BX114: {8f736d4c-5c4a-4772-bd8a-b8403fb9726b}
A115: / | F115: 03.1.4 | L115: Oprava km 8,379 - 8,730 | AG115: ='03.1.4 - Oprava km 8,379 ...'!J34 -> 0 | AN115: =SUM(AG115,AT115) -> 0 | AQ115: Soupis | AS115: 0 | AT115: =ROUND(SUM(AV115:AW115),2) -> 0 | AU115: ='03.1.4 - Oprava km 8,379 ...'!P124 -> 0 | AV115: ='03.1.4 - Oprava km 8,379 ...'!J37 -> 0 | AW115: ='03.1.4 - Oprava km 8,379 ...'!J38 -> 0 | AX115: ='03.1.4 - Oprava km 8,379 ...'!J39 -> 0 | AY115: ='03.1.4 - Oprava km 8,379 ...'!J40 -> 0 | AZ115: ='03.1.4 - Oprava km 8,379 ...'!F37 -> 0 | BA115: ='03.1.4 - Oprava km 8,379 ...'!F38 -> 0 | BB115: ='03.1.4 - Oprava km 8,379 ...'!F39 -> 0 | BC115: ='03.1.4 - Oprava km 8,379 ...'!F40 -> 0 | BD115: ='03.1.4 - Oprava km 8,379 ...'!F41 -> 0 | BT115: 3 | BV115: IMPORT | BW115: {4fd5dce9-93d3-4e7e-8745-903baffe7de3} | BX115: {8f736d4c-5c4a-4772-bd8a-b8403fb9726b}
E116: 03.2 | K116: Oprava výhybek | AG116: =ROUND(SUM(AG117:AG120),2) -> 0 | AN116: =SUM(AG116,AT116) -> 0 | AQ116: Soupis | AS116: =ROUND(SUM(AS117:AS120),2) -> 0 | AT116: =ROUND(SUM(AV116:AW116),2) -> 0 | AU116: =ROUND(SUM(AU117:AU120),5) -> 0 | AV116: =ROUND(AZ116*L29,2) -> 0 | AW116: =ROUND(BA116*L30,2) -> 0 | AX116: =ROUND(BB116*L29,2) -> 0 | AY116: =ROUND(BC116*L30,2) -> 0 | AZ116: =ROUND(SUM(AZ117:AZ120),2) -> 0 | BA116: =ROUND(SUM(BA117:BA120),2) -> 0 | BB116: =ROUND(SUM(BB117:BB120),2) -> 0 | BC116: =ROUND(SUM(BC117:BC120),2) -> 0 | BD116: =ROUND(SUM(BD117:BD120),2) -> 0 | BS116: D | BT116: 2 | BU116: ###NOIMPORT### | BV116: IMPORT | BW116: {d77ba621-1e44-4542-8109-8b83482b8b57} | BX116: {ba19024b-156a-4de6-ac0a-235e380c92d4}
A117: / | F117: 03.2.1 | L117: Výhybka č.1 | AG117: ='03.2.1 - Výhybka č.1'!J34 -> 0 | AN117: =SUM(AG117,AT117) -> 0 | AQ117: Soupis | AS117: 0 | AT117: =ROUND(SUM(AV117:AW117),2) -> 0 | AU117: ='03.2.1 - Výhybka č.1'!P124 -> 0 | AV117: ='03.2.1 - Výhybka č.1'!J37 -> 0 | AW117: ='03.2.1 - Výhybka č.1'!J38 -> 0 | AX117: ='03.2.1 - Výhybka č.1'!J39 -> 0 | AY117: ='03.2.1 - Výhybka č.1'!J40 -> 0 | AZ117: ='03.2.1 - Výhybka č.1'!F37 -> 0 | BA117: ='03.2.1 - Výhybka č.1'!F38 -> 0 | BB117: ='03.2.1 - Výhybka č.1'!F39 -> 0 | BC117: ='03.2.1 - Výhybka č.1'!F40 -> 0 | BD117: ='03.2.1 - Výhybka č.1'!F41 -> 0 | BT117: 3 | BV117: IMPORT | BW117: {ed5fe7ed-2c74-4268-8932-c4b79a9b0f3d} | BX117: {d77ba621-1e44-4542-8109-8b83482b8b57}
A118: / | F118: 03.2.2 | L118: Zrušení výhybky č.3 + kolejová spojka | AG118: ='03.2.2 - Zrušení výhybky ...'!J34 -> 0 | AN118: =SUM(AG118,AT118) -> 0 | AQ118: Soupis | AS118: 0 | AT118: =ROUND(SUM(AV118:AW118),2) -> 0 | AU118: ='03.2.2 - Zrušení výhybky ...'!P124 -> 0 | AV118: ='03.2.2 - Zrušení výhybky ...'!J37 -> 0 | AW118: ='03.2.2 - Zrušení výhybky ...'!J38 -> 0 | AX118: ='03.2.2 - Zrušení výhybky ...'!J39 -> 0 | AY118: ='03.2.2 - Zrušení výhybky ...'!J40 -> 0 | AZ118: ='03.2.2 - Zrušení výhybky ...'!F37 -> 0 | BA118: ='03.2.2 - Zrušení výhybky ...'!F38 -> 0 | BB118: ='03.2.2 - Zrušení výhybky ...'!F39 -> 0 | BC118: ='03.2.2 - Zrušení výhybky ...'!F40 -> 0 | BD118: ='03.2.2 - Zrušení výhybky ...'!F41 -> 0 | BT118: 3 | BV118: IMPORT | BW118: {d7e85343-ced6-4c40-93cb-999daba3ded8} | BX118: {d77ba621-1e44-4542-8109-8b83482b8b57}
A119: / | F119: 03.2.3 | L119: Výhybka č.4 | AG119: ='03.2.3 - Výhybka č.4'!J34 -> 0 | AN119: =SUM(AG119,AT119) -> 0 | AQ119: Soupis | AS119: 0 | AT119: =ROUND(SUM(AV119:AW119),2) -> 0 | AU119: ='03.2.3 - Výhybka č.4'!P124 -> 0 | AV119: ='03.2.3 - Výhybka č.4'!J37 -> 0 | AW119: ='03.2.3 - Výhybka č.4'!J38 -> 0 | AX119: ='03.2.3 - Výhybka č.4'!J39 -> 0 | AY119: ='03.2.3 - Výhybka č.4'!J40 -> 0 | AZ119: ='03.2.3 - Výhybka č.4'!F37 -> 0 | BA119: ='03.2.3 - Výhybka č.4'!F38 -> 0 | BB119: ='03.2.3 - Výhybka č.4'!F39 -> 0 | BC119: ='03.2.3 - Výhybka č.4'!F40 -> 0 | BD119: ='03.2.3 - Výhybka č.4'!F41 -> 0 | BT119: 3 | BV119: IMPORT | BW119: {98180d3e-a51d-4ba4-968f-7cf8fe5d548e} | BX119: {d77ba621-1e44-4542-8109-8b83482b8b57}
A120: / | F120: 03.2.4 | L120: Výhybka č.5 | AG120: ='03.2.4 - Výhybka č.5'!J34 -> 0 | AN120: =SUM(AG120,AT120) -> 0 | AQ120: Soupis | AS120: 0 | AT120: =ROUND(SUM(AV120:AW120),2) -> 0 | AU120: ='03.2.4 - Výhybka č.5'!P124 -> 0 | AV120: ='03.2.4 - Výhybka č.5'!J37 -> 0 | AW120: ='03.2.4 - Výhybka č.5'!J38 -> 0 | AX120: ='03.2.4 - Výhybka č.5'!J39 -> 0 | AY120: ='03.2.4 - Výhybka č.5'!J40 -> 0 | AZ120: ='03.2.4 - Výhybka č.5'!F37 -> 0 | BA120: ='03.2.4 - Výhybka č.5'!F38 -> 0 | BB120: ='03.2.4 - Výhybka č.5'!F39 -> 0 | BC120: ='03.2.4 - Výhybka č.5'!F40 -> 0 | BD120: ='03.2.4 - Výhybka č.5'!F41 -> 0 | BT120: 3 | BV120: IMPORT | BW120: {d8000023-2a2d-41f6-ae1f-a4f2713544b5} | BX120: {d77ba621-1e44-4542-8109-8b83482b8b57}
E121: 03.3 | K121: Materiál zadavatele - NEOCEŇOVAT! | AG121: =ROUND(AG122,2) -> 0 | AN121: =SUM(AG121,AT121) -> 0 | AQ121: Soupis | AS121: =ROUND(AS122,2) -> 0 | AT121: =ROUND(SUM(AV121:AW121),2) -> 0 | AU121: =ROUND(AU122,5) -> 0 | AV121: =ROUND(AZ121*L29,2) -> 0 | AW121: =ROUND(BA121*L30,2) -> 0 | AX121: =ROUND(BB121*L29,2) -> 0 | AY121: =ROUND(BC121*L30,2) -> 0 | AZ121: =ROUND(AZ122,2) -> 0 | BA121: =ROUND(BA122,2) -> 0 | BB121: =ROUND(BB122,2) -> 0 | BC121: =ROUND(BC122,2) -> 0 | BD121: =ROUND(BD122,2) -> 0 | BS121: D | BT121: 2 | BU121: ###NOIMPORT### | BV121: IMPORT | BW121: {83869200-d9db-47d1-8605-53d62d2b03ca} | BX121: {ba19024b-156a-4de6-ac0a-235e380c92d4}
A122: / | F122: 03.3.1 | L122: Materiál zadavatele - NEOCEŇOVAT! | AG122: ='03.3.1 - Materiál zadavat...'!J34 -> 0 | AN122: =SUM(AG122,AT122) -> 0 | AQ122: Soupis | AS122: 0 | AT122: =ROUND(SUM(AV122:AW122),2) -> 0 | AU122: ='03.3.1 - Materiál zadavat...'!P124 -> 0 | AV122: ='03.3.1 - Materiál zadavat...'!J37 -> 0 | AW122: ='03.3.1 - Materiál zadavat...'!J38 -> 0 | AX122: ='03.3.1 - Materiál zadavat...'!J39 -> 0 | AY122: ='03.3.1 - Materiál zadavat...'!J40 -> 0 | AZ122: ='03.3.1 - Materiál zadavat...'!F37 -> 0 | BA122: ='03.3.1 - Materiál zadavat...'!F38 -> 0 | BB122: ='03.3.1 - Materiál zadavat...'!F39 -> 0 | BC122: ='03.3.1 - Materiál zadavat...'!F40 -> 0 | BD122: ='03.3.1 - Materiál zadavat...'!F41 -> 0 | BT122: 3 | BV122: IMPORT | BW122: {7e5a17f5-5f6c-4ef0-a7a2-f631c5475810} | BX122: {83869200-d9db-47d1-8605-53d62d2b03ca}
E123: 03.4 | K123: Vedlejší a ostatní náklady | AG123: =ROUND(AG124,2) -> 0 | AN123: =SUM(AG123,AT123) -> 0 | AQ123: Soupis | AS123: =ROUND(AS124,2) -> 0 | AT123: =ROUND(SUM(AV123:AW123),2) -> 0 | AU123: =ROUND(AU124,5) -> 0 | AV123: =ROUND(AZ123*L29,2) -> 0 | AW123: =ROUND(BA123*L30,2) -> 0 | AX123: =ROUND(BB123*L29,2) -> 0 | AY123: =ROUND(BC123*L30,2) -> 0 | AZ123: =ROUND(AZ124,2) -> 0 | BA123: =ROUND(BA124,2) -> 0 | BB123: =ROUND(BB124,2) -> 0 | BC123: =ROUND(BC124,2) -> 0 | BD123: =ROUND(BD124,2) -> 0 | BS123: D | BT123: 2 | BU123: ###NOIMPORT### | BV123: IMPORT | BW123: {ab21435e-af26-4b3a-a02c-778f06f0a2c5} | BX123: {ba19024b-156a-4de6-ac0a-235e380c92d4}
A124: / | F124: 03.4.1 | L124: Vedlejší a ostatní náklady | AG124: ='03.4.1 - Vedlejší a ostat...'!J34 -> 0 | AN124: =SUM(AG124,AT124) -> 0 | AQ124: Soupis | AS124: 0 | AT124: =ROUND(SUM(AV124:AW124),2) -> 0 | AU124: ='03.4.1 - Vedlejší a ostat...'!P124 -> 0 | AV124: ='03.4.1 - Vedlejší a ostat...'!J37 -> 0 | AW124: ='03.4.1 - Vedlejší a ostat...'!J38 -> 0 | AX124: ='03.4.1 - Vedlejší a ostat...'!J39 -> 0 | AY124: ='03.4.1 - Vedlejší a ostat...'!J40 -> 0 | AZ124: ='03.4.1 - Vedlejší a ostat...'!F37 -> 0 | BA124: ='03.4.1 - Vedlejší a ostat...'!F38 -> 0 | BB124: ='03.4.1 - Vedlejší a ostat...'!F39 -> 0 | BC124: ='03.4.1 - Vedlejší a ostat...'!F40 -> 0 | BD124: ='03.4.1 - Vedlejší a ostat...'!F41 -> 0 | BT124: 3 | BV124: IMPORT | BW124: {7bab07de-0abb-4062-b207-1d08c0b31852} | BX124: {ab21435e-af26-4b3a-a02c-778f06f0a2c5}
D125: 04 | J125: Oprava osvětlení a EOV v žst. Pocínovice | AG125: =ROUND(AG126+AG130,2) -> 0 | AN125: =SUM(AG125,AT125) -> 0 | AQ125: STA | AS125: =ROUND(AS126+AS130,2) -> 0 | AT125: =ROUND(SUM(AV125:AW125),2) -> 0 | AU125: =ROUND(AU126+AU130,5) -> 0 | AV125: =ROUND(AZ125*L29,2) -> 0 | AW125: =ROUND(BA125*L30,2) -> 0 | AX125: =ROUND(BB125*L29,2) -> 0 | AY125: =ROUND(BC125*L30,2) -> 0 | AZ125: =ROUND(AZ126+AZ130,2) -> 0 | BA125: =ROUND(BA126+BA130,2) -> 0 | BB125: =ROUND(BB126+BB130,2) -> 0 | BC125: =ROUND(BC126+BC130,2) -> 0 | BD125: =ROUND(BD126+BD130,2) -> 0 | BS125: D | BT125: 1 | BU125: ###NOIMPORT### | BV125: IMPORT | BW125: {f822b703-fc1d-4d9f-99af-c5260cd3663f} | BX125: {8a171299-d0e3-464d-8a3a-d9ed9be4f09f} | CM125: 2
E126: 04.1 | K126: EOV | AG126: =ROUND(SUM(AG127:AG129),2) -> 0 | AN126: =SUM(AG126,AT126) -> 0 | AQ126: Soupis | AS126: =ROUND(SUM(AS127:AS129),2) -> 0 | AT126: =ROUND(SUM(AV126:AW126),2) -> 0 | AU126: =ROUND(SUM(AU127:AU129),5) -> 0 | AV126: =ROUND(AZ126*L29,2) -> 0 | AW126: =ROUND(BA126*L30,2) -> 0 | AX126: =ROUND(BB126*L29,2) -> 0 | AY126: =ROUND(BC126*L30,2) -> 0 | AZ126: =ROUND(SUM(AZ127:AZ129),2) -> 0 | BA126: =ROUND(SUM(BA127:BA129),2) -> 0 | BB126: =ROUND(SUM(BB127:BB129),2) -> 0 | BC126: =ROUND(SUM(BC127:BC129),2) -> 0 | BD126: =ROUND(SUM(BD127:BD129),2) -> 0 | BS126: D | BT126: 2 | BU126: ###NOIMPORT### | BV126: IMPORT | BW126: {4c730d88-7e2c-4fea-af57-6df87dee5b6b} | BX126: {f822b703-fc1d-4d9f-99af-c5260cd3663f}
A127: / | F127: 04.1.1 | L127: Elektromontáže | AG127: ='04.1.1 - Elektromontáže'!J34 -> 0 | AN127: =SUM(AG127,AT127) -> 0 | AQ127: Soupis | AS127: 0 | AT127: =ROUND(SUM(AV127:AW127),2) -> 0 | AU127: ='04.1.1 - Elektromontáže'!P126 -> 0 | AV127: ='04.1.1 - Elektromontáže'!J37 -> 0 | AW127: ='04.1.1 - Elektromontáže'!J38 -> 0 | AX127: ='04.1.1 - Elektromontáže'!J39 -> 0 | AY127: ='04.1.1 - Elektromontáže'!J40 -> 0 | AZ127: ='04.1.1 - Elektromontáže'!F37 -> 0 | BA127: ='04.1.1 - Elektromontáže'!F38 -> 0 | BB127: ='04.1.1 - Elektromontáže'!F39 -> 0 | BC127: ='04.1.1 - Elektromontáže'!F40 -> 0 | BD127: ='04.1.1 - Elektromontáže'!F41 -> 0 | BT127: 3 | BV127: IMPORT | BW127: {44d70899-c2e1-4f0c-9fbe-0d3586a9827b} | BX127: {4c730d88-7e2c-4fea-af57-6df87dee5b6b}
A128: / | F128: 04.1.2 | L128: Zemní práce | AG128: ='04.1.2 - Zemní práce'!J34 -> 0 | AN128: =SUM(AG128,AT128) -> 0 | AQ128: Soupis | AS128: 0 | AT128: =ROUND(SUM(AV128:AW128),2) -> 0 | AU128: ='04.1.2 - Zemní práce'!P126 -> 0 | AV128: ='04.1.2 - Zemní práce'!J37 -> 0 | AW128: ='04.1.2 - Zemní práce'!J38 -> 0 | AX128: ='04.1.2 - Zemní práce'!J39 -> 0 | AY128: ='04.1.2 - Zemní práce'!J40 -> 0 | AZ128: ='04.1.2 - Zemní práce'!F37 -> 0 | BA128: ='04.1.2 - Zemní práce'!F38 -> 0 | BB128: ='04.1.2 - Zemní práce'!F39 -> 0 | BC128: ='04.1.2 - Zemní práce'!F40 -> 0 | BD128: ='04.1.2 - Zemní práce'!F41 -> 0 | BT128: 3 | BV128: IMPORT | BW128: {faa14738-90fa-4c77-920f-9edbae1dc107} | BX128: {4c730d88-7e2c-4fea-af57-6df87dee5b6b}
A129: / | F129: 04.1.3. | L129: Vedlejší a ostatní náklady | AG129: ='04.1.3. - Vedlejší a osta...'!J34 -> 0 | AN129: =SUM(AG129,AT129) -> 0 | AQ129: Soupis | AS129: 0 | AT129: =ROUND(SUM(AV129:AW129),2) -> 0 | AU129: ='04.1.3. - Vedlejší a osta...'!P126 -> 0 | AV129: ='04.1.3. - Vedlejší a osta...'!J37 -> 0 | AW129: ='04.1.3. - Vedlejší a osta...'!J38 -> 0 | AX129: ='04.1.3. - Vedlejší a osta...'!J39 -> 0 | AY129: ='04.1.3. - Vedlejší a osta...'!J40 -> 0 | AZ129: ='04.1.3. - Vedlejší a osta...'!F37 -> 0 | BA129: ='04.1.3. - Vedlejší a osta...'!F38 -> 0 | BB129: ='04.1.3. - Vedlejší a osta...'!F39 -> 0 | BC129: ='04.1.3. - Vedlejší a osta...'!F40 -> 0 | BD129: ='04.1.3. - Vedlejší a osta...'!F41 -> 0 | BT129: 3 | BV129: IMPORT | BW129: {b876464e-285b-4277-950d-d35425f3fa37} | BX129: {4c730d88-7e2c-4fea-af57-6df87dee5b6b}
E130: 04.2 | K130: Oprava osvětlení | AG130: =ROUND(SUM(AG131:AG133),2) -> 0 | AN130: =SUM(AG130,AT130) -> 0 | AQ130: Soupis | AS130: =ROUND(SUM(AS131:AS133),2) -> 0 | AT130: =ROUND(SUM(AV130:AW130),2) -> 0 | AU130: =ROUND(SUM(AU131:AU133),5) -> 0 | AV130: =ROUND(AZ130*L29,2) -> 0 | AW130: =ROUND(BA130*L30,2) -> 0 | AX130: =ROUND(BB130*L29,2) -> 0 | AY130: =ROUND(BC130*L30,2) -> 0 | AZ130: =ROUND(SUM(AZ131:AZ133),2) -> 0 | BA130: =ROUND(SUM(BA131:BA133),2) -> 0 | BB130: =ROUND(SUM(BB131:BB133),2) -> 0 | BC130: =ROUND(SUM(BC131:BC133),2) -> 0 | BD130: =ROUND(SUM(BD131:BD133),2) -> 0 | BS130: D | BT130: 2 | BU130: ###NOIMPORT### | BV130: IMPORT | BW130: {e97b9bdd-94b1-4c62-94d9-422a78714053} | BX130: {f822b703-fc1d-4d9f-99af-c5260cd3663f}
A131: / | F131: 04.2.1 | L131: Elektromontáže | AG131: ='04.2.1 - Elektromontáže'!J34 -> 0 | AN131: =SUM(AG131,AT131) -> 0 | AQ131: Soupis | AS131: 0 | AT131: =ROUND(SUM(AV131:AW131),2) -> 0 | AU131: ='04.2.1 - Elektromontáže'!P125 -> 0 | AV131: ='04.2.1 - Elektromontáže'!J37 -> 0 | AW131: ='04.2.1 - Elektromontáže'!J38 -> 0 | AX131: ='04.2.1 - Elektromontáže'!J39 -> 0 | AY131: ='04.2.1 - Elektromontáže'!J40 -> 0 | AZ131: ='04.2.1 - Elektromontáže'!F37 -> 0 | BA131: ='04.2.1 - Elektromontáže'!F38 -> 0 | BB131: ='04.2.1 - Elektromontáže'!F39 -> 0 | BC131: ='04.2.1 - Elektromontáže'!F40 -> 0 | BD131: ='04.2.1 - Elektromontáže'!F41 -> 0 | BT131: 3 | BV131: IMPORT | BW131: {3e0196a0-faaa-4d1b-82d6-c317632f470e} | BX131: {e97b9bdd-94b1-4c62-94d9-422a78714053}
A132: / | F132: 04.2.2 | L132: Zemní práce | AG132: ='04.2.2 - Zemní práce'!J34 -> 0 | AN132: =SUM(AG132,AT132) -> 0 | AQ132: Soupis | AS132: 0 | AT132: =ROUND(SUM(AV132:AW132),2) -> 0 | AU132: ='04.2.2 - Zemní práce'!P126 -> 0 | AV132: ='04.2.2 - Zemní práce'!J37 -> 0 | AW132: ='04.2.2 - Zemní práce'!J38 -> 0 | AX132: ='04.2.2 - Zemní práce'!J39 -> 0 | AY132: ='04.2.2 - Zemní práce'!J40 -> 0 | AZ132: ='04.2.2 - Zemní práce'!F37 -> 0 | BA132: ='04.2.2 - Zemní práce'!F38 -> 0 | BB132: ='04.2.2 - Zemní práce'!F39 -> 0 | BC132: ='04.2.2 - Zemní práce'!F40 -> 0 | BD132: ='04.2.2 - Zemní práce'!F41 -> 0 | BT132: 3 | BV132: IMPORT | BW132: {bc74449c-e405-4083-8302-fb0da6ef34b7} | BX132: {e97b9bdd-94b1-4c62-94d9-422a78714053}
A133: / | F133: 04.2.3 | L133: Vedlejší a ostatní náklady | AG133: ='04.2.3 - Vedlejší a ostat...'!J34 -> 0 | AN133: =SUM(AG133,AT133) -> 0 | AQ133: Soupis | AS133: 0 | AT133: =ROUND(SUM(AV133:AW133),2) -> 0 | AU133: ='04.2.3 - Vedlejší a ostat...'!P126 -> 0 | AV133: ='04.2.3 - Vedlejší a ostat...'!J37 -> 0 | AW133: ='04.2.3 - Vedlejší a ostat...'!J38 -> 0 | AX133: ='04.2.3 - Vedlejší a ostat...'!J39 -> 0 | AY133: ='04.2.3 - Vedlejší a ostat...'!J40 -> 0 | AZ133: ='04.2.3 - Vedlejší a ostat...'!F37 -> 0 | BA133: ='04.2.3 - Vedlejší a ostat...'!F38 -> 0 | BB133: ='04.2.3 - Vedlejší a ostat...'!F39 -> 0 | BC133: ='04.2.3 - Vedlejší a ostat...'!F40 -> 0 | BD133: ='04.2.3 - Vedlejší a ostat...'!F41 -> 0 | BT133: 3 | BV133: IMPORT | BW133: {2de0c2d2-3353-4e4e-99d8-729919dce17e} | BX133: {e97b9bdd-94b1-4c62-94d9-422a78714053}

Sheet 01.1.1 - Klimatizace
AT2: {c49d2e2b-c81d-46a1-8b37-95a91db9d7bb}
AT3: 2
D4: KRYCÍ LIST SOUPISU PRACÍ | M4: v --- níže se nacházejí doplnkové a pomocné údaje k sestavám --- v | AT4: False
D6: Stavba:
E7: ='Rekapitulace stavby'!K6 -> Oprava SZZ, kolejí a výhybek v žst. Pocínovice
D8: Objekt:
E9: 01 - Oprava sdělovacího a zabezpečovacího zařízení žst. Pocínovice
D10: Soupis:
E11: 01.1 - Vnitřní část zabezpečovacího zařízení
D12: Úroveň 3:
E13: 01.1.1 - Klimatizace
D15: KSO: | I15: CC-CZ:
D16: Místo: | F16: Pocínovice | I16: Datum: | J16: ='Rekapitulace stavby'!AN8 -> 21. 9. 2020
D18: Zadavatel: | I18: IČ:
E19: Správa železnic, státní organizace | I19: DIČ:
D21: Uchazeč: | I21: IČ: | J21: ='Rekapitulace stavby'!AN13 -> Vyplň údaj
E22: ='Rekapitulace stavby'!E14 -> Vyplň údaj | I22: DIČ: | J22: ='Rekapitulace stavby'!AN14 -> Vyplň údaj
D24: Projektant: | I24: IČ: | J24: =IF('Rekapitulace stavby'!AN16="","",'Rekapitulace stavby'!AN16)
E25: =IF('Rekapitulace stavby'!E17="","",'Rekapitulace stavby'!E17) | I25: DIČ: | J25: =IF('Rekapitulace stavby'!AN17="","",'Rekapitulace stavby'!AN17)
D27: Zpracovatel: | I27: IČ: | J27: =IF('Rekapitulace stavby'!AN19="","",'Rekapitulace stavby'!AN19)
E28: =IF('Rekapitulace stavby'!E20="","",'Rekapitulace stavby'!E20) | I28: DIČ: | J28: =IF('Rekapitulace stavby'!AN20="","",'Rekapitulace stavby'!AN20)
D30: Poznámka:
D34: Cena bez DPH | J34: =ROUND(J124, 2) -> 0
F36: Základ daně | I36: Sazba daně | J36: Výše daně
D37: DPH | E37: základní | F37: =ROUND((SUM(BE124:BE140)), 2) -> 0 | I37: 0.21 | J37: =ROUND(((SUM(BE124:BE140))*I37), 2) -> 0
E38: snížená | F38: =ROUND((SUM(BF124:BF140)), 2) -> 0 | I38: 0.15 | J38: =ROUND(((SUM(BF124:BF140))*I38), 2) -> 0
E39: zákl. přenesená | F39: =ROUND((SUM(BG124:BG140)), 2) -> 0 | I39: 0.21 | J39: =0 -> 0
E40: sníž. přenesená | F40: =ROUND((SUM(BH124:BH140)), 2) -> 0 | I40: 0.15 | J40: =0 -> 0
E41: nulová | F41: =ROUND((SUM(BI124:BI140)), 2) -> 0 | I41: 0 | J41: =0 -> 0
D43: Cena s DPH | G43: v | H43: CZK | J43: =SUM(J34:J41) -> 0
D50: Projektant | G50: Zpracovatel
D61: Datum a podpis: | F61: Razítko | G61: Datum a podpis: | J61: Razítko
D65: Objednavatel | G65: Uchazeč
D76: Datum a podpis: | F76: Razítko | G76: Datum a podpis: | J76: Razítko
C82: REKAPITULACE ČLENĚNÍ SOUPISU PRACÍ
C84: Stavba:
E85: =E7 -> Oprava SZZ, kolejí a výhybek v žst. Pocínovice
C86: Objekt:
E87: 01 - Oprava sdělovacího a zabezpečovacího zařízení žst. Pocínovice
C88: Soupis:
E89: 01.1 - Vnitřní část zabezpečovacího zařízení
C90: Úroveň 3:
E91: =E13 -> 01.1.1 - Klimatizace
C93: Místo: | F93: =F16 -> Pocínovice | I93: Datum: | J93: =IF(J16="","",J16) -> 21. 9. 2020
C95: Zadavatel: | F95: =E19 -> Správa železnic, státní organizace | I95: Projektant: | J95: =E25
C96: Uchazeč: | F96: =IF(E22="","",E22) -> Vyplň údaj | I96: Zpracovatel: | J96: =E28
C98: Kód dílu - Popis | J98: Cena celkem [CZK]
C100: Náklady ze soupisu prací | J100: =J124 -> 0 | AU100: -1
C107: SOUPIS PRACÍ
C109: Stavba:
E110: =E7 -> Oprava SZZ, kolejí a výhybek v žst. Pocínovice
C111: Objekt:
E112: 01 - Oprava sdělovacího a zabezpečovacího zařízení žst. Pocínovice
C113: Soupis:
E114: 01.1 - Vnitřní část zabezpečovacího zařízení
C115: Úroveň 3:
E116: =E13 -> 01.1.1 - Klimatizace
C118: Místo: | F118: =F16 -> Pocínovice | I118: Datum: | J118: =IF(J16="","",J16) -> 21. 9. 2020
C120: Zadavatel: | F120: =E19 -> Správa železnic, státní organizace | I120: Projektant: | J120: =E25
C121: Uchazeč: | F121: =IF(E22="","",E22) -> Vyplň údaj | I121: Zpracovatel: | J121: =E28
C123: PČ | D123: Typ | E123: Kód | F123: Popis | G123: MJ | H123: Množství | I123: J.cena [CZK] | J123: Cena celkem [CZK] | K123: Cenová soustava | N123: DPH | O123: J. Nh [h] | P123: Nh celkem [h] | Q123: J. hmotnost [t] | R123: Hmotnost celkem [t] | S123: J. suť [t] | T123: Suť Celkem [t]
C124: Náklady soupisu celkem | J124: =BK124 -> 0 | P124: =SUM(P125:P140) -> 0 | R124: =SUM(R125:R140) -> 0 | T124: =SUM(T125:T140) -> 0 | AT124: D | AU124: -1 | BK124: =SUM(BK125:BK140) -> 0
C125: 1 | D125: M | E125: 7590180030 | F125: Klimatizace Podstropní klimatizační jednotka (venkovní i vnitřní jednotka) nad 7 kW | G125: kus | H125: 1 | J125: =ROUND(I125*H125,2) -> 0 | K125: Sborník UOŽI 01 2020 | N125: základní | P125: =O125*H125 -> 0 | Q125: 0 | R125: =Q125*H125 -> 0 | S125: 0 | T125: =S125*H125 -> 0 | AR125: 2 | AT125: M | AU125: 0 | AY125: ROZPOCET | BE125: =IF(N125="základní",J125,0) -> 0 | BF125: =IF(N125="snížená",J125,0) -> 0 | BG125: =IF(N125="zákl. přenesená",J125,0) -> 0 | BH125: =IF(N125="sníž. přenesená",J125,0) -> 0 | BI125: =IF(N125="nulová",J125,0) -> 0 | BJ125: 1 | BK125: =ROUND(I125*H125,2) -> 0 | BL125: 1 | BM125: -618607157
D126: PP | F126: Klimatizace Podstropní klimatizační jednotka (venkovní i vnitřní jednotka) nad 7 kW | AT126: PP | AU126: 0
C127: 2 | D127: M | E127: 7590180102 | F127: Klimatizace potrubí Cu 12 mm izolované | G127: m | H127: 20 | J127: =ROUND(I127*H127,2) -> 0 | K127: Sborník UOŽI 01 2020 | N127: základní | P127: =O127*H127 -> 0 | Q127: 0 | R127: =Q127*H127 -> 0 | S127: 0 | T127: =S127*H127 -> 0 | AR127: 2 | AT127: M | AU127: 0 | AY127: ROZPOCET | BE127: =IF(N127="základní",J127,0) -> 0 | BF127: =IF(N127="snížená",J127,0) -> 0 | BG127: =IF(N127="zákl. přenesená",J127,0) -> 0 | BH127: =IF(N127="sníž. přenesená",J127,0) -> 0 | BI127: =IF(N127="nulová",J127,0) -> 0 | BJ127: 1 | BK127: =ROUND(I127*H127,2) -> 0 | BL127: 1 | BM127: -65446310
D128: PP | F128: Klimatizace potrubí Cu 12 mm izolované | AT128: PP | AU128: 0
C129: 3 | D129: M | E129: 7590180070 | F129: Klimatizace Konzole venkovní pro zavěšení klimatizační jednotky | G129: kus | H129: 2 | J129: =ROUND(I129*H129,2) -> 0 | K129: Sborník UOŽI 01 2020 | N129: základní | P129: =O129*H129 -> 0 | Q129: 0 | R129: =Q129*H129 -> 0 | S129: 0 | T129: =S129*H129 -> 0 | AR129: 2 | AT129: M | AU129: 0 | AY129: ROZPOCET | BE129: =IF(N129="základní",J129,0) -> 0 | BF129: =IF(N129="snížená",J129,0) -> 0 | BG129: =IF(N129="zákl. přenesená",J129,0) -> 0 | BH129: =IF(N129="sníž. přenesená",J129,0) -> 0 | BI129: =IF(N129="nulová",J129,0) -> 0 | BJ129: 1 | BK129: =ROUND(I129*H129,2) -> 0 | BL129: 1 | BM129: 1184452536
D130: PP | F130: Klimatizace Konzole venkovní pro zavěšení klimatizační jednotky | AT130: PP | AU130: 0
C131: 4 | D131: M | E131: 7590180110 | F131: Klimatizace plyn R410A | G131: kg | H131: 2 | J131: =ROUND(I131*H131,2) -> 0 | K131: Sborník UOŽI 01 2020 | N131: základní | P131: =O131*H131 -> 0 | Q131: 0 | R131: =Q131*H131 -> 0 | S131: 0 | T131: =S131*H131 -> 0 | AR131: 2 | AT131: M | AU131: 0 | AY131: ROZPOCET | BE131: =IF(N131="základní",J131,0) -> 0 | BF131: =IF(N131="snížená",J131,0) -> 0 | BG131: =IF(N131="zákl. přenesená",J131,0) -> 0 | BH131: =IF(N131="sníž. přenesená",J131,0) -> 0 | BI131: =IF(N131="nulová",J131,0) -> 0 | BJ131: 1 | BK131: =ROUND(I131*H131,2) -> 0 | BL131: 1 | BM131: 1709079842
D132: PP | F132: Klimatizace plyn R410A | AT132: PP | AU132: 0
C133: 5 | D133: M | E133: 7590180040 | F133: Klimatizace Klimatizace - Ovladač | G133: kus | H133: 1 | J133: =ROUND(I133*H133,2) -> 0 | K133: Sborník UOŽI 01 2020 | N133: základní | P133: =O133*H133 -> 0 | Q133: 0 | R133: =Q133*H133 -> 0 | S133: 0 | T133: =S133*H133 -> 0 | AR133: 2 | AT133: M | AU133: 0 | AY133: ROZPOCET | BE133: =IF(N133="základní",J133,0) -> 0 | BF133: =IF(N133="snížená",J133,0) -> 0 | BG133: =IF(N133="zákl. přenesená",J133,0) -> 0 | BH133: =IF(N133="sníž. přenesená",J133,0) -> 0 | BI133: =IF(N133="nulová",J133,0) -> 0 | BJ133: 1 | BK133: =ROUND(I133*H133,2) -> 0 | BL133: 1 | BM133: 1956606182
D134: PP | F134: Klimatizace Klimatizace - Ovladač | AT134: PP | AU134: 0
C135: 6 | D135: K | E135: 7590185025 | F135: Montáž klimatizační jednotky včetně rozvodů nad 5 kW | G135: kus | H135: 1 | J135: =ROUND(I135*H135,2) -> 0 | K135: Sborník UOŽI 01 2020 | N135: základní | P135: =O135*H135 -> 0 | Q135: 0 | R135: =Q135*H135 -> 0 | S135: 0 | T135: =S135*H135 -> 0 | AR135: 1 | AT135: K | AU135: 0 | AY135: ROZPOCET | BE135: =IF(N135="základní",J135,0) -> 0 | BF135: =IF(N135="snížená",J135,0) -> 0 | BG135: =IF(N135="zákl. přenesená",J135,0) -> 0 | BH135: =IF(N135="sníž. přenesená",J135,0) -> 0 | BI135: =IF(N135="nulová",J135,0) -> 0 | BJ135: 1 | BK135: =ROUND(I135*H135,2) -> 0 | BL135: 1 | BM135: 1721152472
D136: PP | F136: Montáž klimatizační jednotky včetně rozvodů nad 5 kW - venkovních a vnitřních částí | AT136: PP | AU136: 0
C137: 7 | D137: K | E137: 7598095659 | F137: Vyhotovení revizní správy klimatizace | G137: kus | H137: 1 | J137: =ROUND(I137*H137,2) -> 0 | K137: Sborník UOŽI 01 2020 | N137: základní | P137: =O137*H137 -> 0 | Q137: 0 | R137: =Q137*H137 -> 0 | S137: 0 | T137: =S137*H137 -> 0 | AR137: 1 | AT137: K | AU137: 0 | AY137: ROZPOCET | BE137: =IF(N137="základní",J137,0) -> 0 | BF137: =IF(N137="snížená",J137,0) -> 0 | BG137: =IF(N137="zákl. přenesená",J137,0) -> 0 | BH137: =IF(N137="sníž. přenesená",J137,0) -> 0 | BI137: =IF(N137="nulová",J137,0) -> 0 | BJ137: 1 | BK137: =ROUND(I137*H137,2) -> 0 | BL137: 1 | BM137: 1521211779
D138: PP | F138: Vyhotovení revizní správy klimatizace - vykonání prohlídky a zkoušky pro napájení elektrického zařízení včetně vyhotovení revizní zprávy podle vyhl. 100/1995 Sb. a norem ČSN | AT138: PP | AU138: 0
C139: 8 | D139: K | E139: 7499151010 | F139: Dokončovací práce na elektrickém zařízení | G139: hod | H139: 20 | J139: =ROUND(I139*H139,2) -> 0 | K139: Sborník UOŽI 01 2020 | N139: základní | P139: =O139*H139 -> 0 | Q139: 0 | R139: =Q139*H139 -> 0 | S139: 0 | T139: =S139*H139 -> 0 | AR139: 1 | AT139: K | AU139: 0 | AY139: ROZPOCET | BE139: =IF(N139="základní",J139,0) -> 0 | BF139: =IF(N139="snížená",J139,0) -> 0 | BG139: =IF(N139="zákl. přenesená",J139,0) -> 0 | BH139: =IF(N139="sníž. přenesená",J139,0) -> 0 | BI139: =IF(N139="nulová",J139,0) -> 0 | BJ139: 1 | BK139: =ROUND(I139*H139,2) -> 0 | BL139: 1 | BM139: -193085607
D140: PP | F140: Dokončovací práce na elektrickém zařízení - uvádění zařízení do provozu, drobné montážní práce v rozvaděčích, koordinaci se zhotoviteli souvisejících zařízení apod. | AT140: PP | AU140: 0

Sheet 01.1.2 - Napájení
AT2: {2782f88f-5d91-4a9c-9529-09b1ec1578d2}
AT3: 2
D4: KRYCÍ LIST SOUPISU PRACÍ | M4: v --- níže se nacházejí doplnkové a pomocné údaje k sestavám --- v | AT4: False
D6: Stavba:
E7: ='Rekapitulace stavby'!K6 -> Oprava SZZ, kolejí a výhybek v žst. Pocínovice
D8: Objekt:
E9: 01 - Oprava sdělovacího a zabezpečovacího zařízení žst. Pocínovice
D10: Soupis:
E11: 01.1 - Vnitřní část zabezpečovacího zařízení
D12: Úroveň 3:
E13: 01.1.2 - Napájení
D15: KSO: | I15: CC-CZ:
D16: Místo: | F16: Pocínovice | I16: Datum: | J16: ='Rekapitulace stavby'!AN8 -> 21. 9. 2020
D18: Zadavatel: | I18: IČ:
E19: Správa železnic, státní organizace | I19: DIČ:
D21: Uchazeč: | I21: IČ: | J21: ='Rekapitulace stavby'!AN13 -> Vyplň údaj
E22: ='Rekapitulace stavby'!E14 -> Vyplň údaj | I22: DIČ: | J22: ='Rekapitulace stavby'!AN14 -> Vyplň údaj
D24: Projektant: | I24: IČ: | J24: =IF('Rekapitulace stavby'!AN16="","",'Rekapitulace stavby'!AN16)
E25: =IF('Rekapitulace stavby'!E17="","",'Rekapitulace stavby'!E17) | I25: DIČ: | J25: =IF('Rekapitulace stavby'!AN17="","",'Rekapitulace stavby'!AN17)
D27: Zpracovatel: | I27: IČ: | J27: =IF('Rekapitulace stavby'!AN19="","",'Rekapitulace stavby'!AN19)
E28: =IF('Rekapitulace stavby'!E20="","",'Rekapitulace stavby'!E20) | I28: DIČ: | J28: =IF('Rekapitulace stavby'!AN20="","",'Rekapitulace stavby'!AN20)
D30: Poznámka:
D34: Cena bez DPH | J34: =ROUND(J124, 2) -> 0
F36: Základ daně | I36: Sazba daně | J36: Výše daně
D37: DPH | E37: základní | F37: =ROUND((SUM(BE124:BE166)), 2) -> 0 | I37: 0.21 | J37: =ROUND(((SUM(BE124:BE166))*I37), 2) -> 0
E38: snížená | F38: =ROUND((SUM(BF124:BF166)), 2) -> 0 | I38: 0.15 | J38: =ROUND(((SUM(BF124:BF166))*I38), 2) -> 0
E39: zákl. přenesená | F39: =ROUND((SUM(BG124:BG166)), 2) -> 0 | I39: 0.21 | J39: =0 -> 0
E40: sníž. přenesená | F40: =ROUND((SUM(BH124:BH166)), 2) -> 0 | I40: 0.15 | J40: =0 -> 0
E41: nulová | F41: =ROUND((SUM(BI124:BI166)), 2) -> 0 | I41: 0 | J41: =0 -> 0
D43: Cena s DPH | G43: v | H43: CZK | J43: =SUM(J34:J41) -> 0
D50: Projektant | G50: Zpracovatel
D61: Datum a podpis: | F61: Razítko | G61: Datum a podpis: | J61: Razítko
D65: Objednavatel | G65: Uchazeč
D76: Datum a podpis: | F76: Razítko | G76: Datum a podpis: | J76: Razítko
C82: REKAPITULACE ČLENĚNÍ SOUPISU PRACÍ
C84: Stavba:
E85: =E7 -> Oprava SZZ, kolejí a výhybek v žst. Pocínovice
C86: Objekt:
E87: 01 - Oprava sdělovacího a zabezpečovacího zařízení žst. Pocínovice
C88: Soupis:
E89: 01.1 - Vnitřní část zabezpečovacího zařízení
C90: Úroveň 3:
E91: =E13 -> 01.1.2 - Napájení
C93: Místo: | F93: =F16 -> Pocínovice | I93: Datum: | J93: =IF(J16="","",J16) -> 21. 9. 2020
C95: Zadavatel: | F95: =E19 -> Správa železnic, státní organizace | I95: Projektant: | J95: =E25
C96: Uchazeč: | F96: =IF(E22="","",E22) -> Vyplň údaj | I96: Zpracovatel: | J96: =E28
C98: Kód dílu - Popis | J98: Cena celkem [CZK]
C100: Náklady ze soupisu prací | J100: =J124 -> 0 | AU100: -1
C107: SOUPIS PRACÍ
C109: Stavba:
E110: =E7 -> Oprava SZZ, kolejí a výhybek v žst. Pocínovice
C111: Objekt:
E112: 01 - Oprava sdělovacího a zabezpečovacího zařízení žst. Pocínovice
C113: Soupis:
E114: 01.1 - Vnitřní část zabezpečovacího zařízení
C115: Úroveň 3:
E116: =E13 -> 01.1.2 - Napájení
C118: Místo: | F118: =F16 -> Pocínovice | I118: Datum: | J118: =IF(J16="","",J16) -> 21. 9. 2020
C120: Zadavatel: | F120: =E19 -> Správa železnic, státní organizace | I120: Projektant: | J120: =E25
C121: Uchazeč: | F121: =IF(E22="","",E22) -> Vyplň údaj | I121: Zpracovatel: | J121: =E28
C123: PČ | D123: Typ | E123: Kód | F123: Popis | G123: MJ | H123: Množství | I123: J.cena [CZK] | J123: Cena celkem [CZK] | K123: Cenová soustava | N123: DPH | O123: J. Nh [h] | P123: Nh celkem [h] | Q123: J. hmotnost [t] | R123: Hmotnost celkem [t] | S123: J. suť [t] | T123: Suť Celkem [t]
C124: Náklady soupisu celkem | J124: =BK124 -> 0 | P124: =SUM(P125:P166) -> 0 | R124: =SUM(R125:R166) -> 0 | T124: =SUM(T125:T166) -> 0 | AT124: D | AU124: -1 | BK124: =SUM(BK125:BK166) -> 0
C125: 1 | D125: M | E125: 7492502030 | F125: Kabely, vodiče, šňůry Cu - nn Kabel silový 4 a 5-žílový Cu, plastová izolace CYKY 5J6 (5Cx6) | G125: m | H125: 30 | J125: =ROUND(I125*H125,2) -> 0 | K125: Sborník UOŽI 01 2020 | N125: základní | P125: =O125*H125 -> 0 | Q125: 0 | R125: =Q125*H125 -> 0 | S125: 0 | T125: =S125*H125 -> 0 | AR125: 2 | AT125: M | AU125: 0 | AY125: ROZPOCET | BE125: =IF(N125="základní",J125,0) -> 0 | BF125: =IF(N125="snížená",J125,0) -> 0 | BG125: =IF(N125="zákl. přenesená",J125,0) -> 0 | BH125: =IF(N125="sníž. přenesená",J125,0) -> 0 | BI125: =IF(N125="nulová",J125,0) -> 0 | BJ125: 1 | BK125: =ROUND(I125*H125,2) -> 0 | BL125: 1 | BM125: -1188120902
D126: PP | F126: Kabely, vodiče, šňůry Cu - nn Kabel silový 4 a 5-žílový Cu, plastová izolace CYKY 5J6 (5Cx6) | AT126: PP | AU126: 0
C127: 2 | D127: M | E127: 7494003090 | F127: Modulární přístroje Jističe do 63 A; 6 kA 3-pólové In 50 A, Ue AC 230/400 V / DC 216 V, charakteristika B, 3pól, Icn 6 kA | G127: kus | H127: 5 | J127: =ROUND(I127*H127,2) -> 0 | K127: Sborník UOŽI 01 2020 | N127: základní | P127: =O127*H127 -> 0 | Q127: 0 | R127: =Q127*H127 -> 0 | S127: 0 | T127: =S127*H127 -> 0 | AR127: 2 | AT127: M | AU127: 0 | AY127: ROZPOCET | BE127: =IF(N127="základní",J127,0) -> 0 | BF127: =IF(N127="snížená",J127,0) -> 0 | BG127: =IF(N127="zákl. přenesená",J127,0) -> 0 | BH127: =IF(N127="sníž. přenesená",J127,0) -> 0 | BI127: =IF(N127="nulová",J127,0) -> 0 | BJ127: 1 | BK127: =ROUND(I127*H127,2) -> 0 | BL127: 1 | BM127: 1722051453
D128: PP | F128: Modulární přístroje Jističe do 63 A; 6 kA 3-pólové In 50 A, Ue AC 230/400 V / DC 216 V, charakteristika B, 3pól, Icn 6 kA | AT128: PP | AU128: 0
C129: 3 | D129: M | E129: 7494003088 | F129: Modulární přístroje Jističe do 63 A; 6 kA 3-pólové In 40 A, Ue AC 230/400 V / DC 216 V, charakteristika B, 3pól, Icn 6 kA | G129: kus | H129: 1 | J129: =ROUND(I129*H129,2) -> 0 | K129: Sborník UOŽI 01 2020 | N129: základní | P129: =O129*H129 -> 0 | Q129: 0 | R129: =Q129*H129 -> 0 | S129: 0 | T129: =S129*H129 -> 0 | AR129: 2 | AT129: M | AU129: 0 | AY129: ROZPOCET | BE129: =IF(N129="základní",J129,0) -> 0 | BF129: =IF(N129="snížená",J129,0) -> 0 | BG129: =IF(N129="zákl. přenesená",J129,0) -> 0 | BH129: =IF(N129="sníž. přenesená",J129,0) -> 0 | BI129: =IF(N129="nulová",J129,0) -> 0 | BJ129: 1 | BK129: =ROUND(I129*H129,2) -> 0 | BL129: 1 | BM129: -831775273
D130: PP | F130: Modulární přístroje Jističe do 63 A; 6 kA 3-pólové In 40 A, Ue AC 230/400 V / DC 216 V, charakteristika B, 3pól, Icn 6 kA | AT130: PP | AU130: 0
C131: 4 | D131: M | E131: 7494003086 | F131: Modulární přístroje Jističe do 63 A; 6 kA 3-pólové In 32 A, Ue AC 230/400 V / DC 216 V, charakteristika B, 3pól, Icn 6 kA | G131: kus | H131: 1 | J131: =ROUND(I131*H131,2) -> 0 | K131: Sborník UOŽI 01 2020 | N131: základní | P131: =O131*H131 -> 0 | Q131: 0 | R131: =Q131*H131 -> 0 | S131: 0 | T131: =S131*H131 -> 0 | AR131: 2 | AT131: M | AU131: 0 | AY131: ROZPOCET | BE131: =IF(N131="základní",J131,0) -> 0 | BF131: =IF(N131="snížená",J131,0) -> 0 | BG131: =IF(N131="zákl. přenesená",J131,0) -> 0 | BH131: =IF(N131="sníž. přenesená",J131,0) -> 0 | BI131: =IF(N131="nulová",J131,0) -> 0 | BJ131: 1 | BK131: =ROUND(I131*H131,2) -> 0 | BL131: 1 | BM131: 1995506638
D132: PP | F132: Modulární přístroje Jističe do 63 A; 6 kA 3-pólové In 32 A, Ue AC 230/400 V / DC 216 V, charakteristika B, 3pól, Icn 6 kA | AT132: PP | AU132: 0
C133: 5 | D133: M | E133: 7492501750 | F133: Kabely, vodiče, šňůry Cu - nn Kabel silový 2 a 3-žílový Cu, plastová izolace CYKY 3O2,5 (3Ax2,5) | G133: m | H133: 30 | J133: =ROUND(I133*H133,2) -> 0 | K133: Sborník UOŽI 01 2020 | N133: základní | P133: =O133*H133 -> 0 | Q133: 0 | R133: =Q133*H133 -> 0 | S133: 0 | T133: =S133*H133 -> 0 | AR133: 2 | AT133: M | AU133: 0 | AY133: ROZPOCET | BE133: =IF(N133="základní",J133,0) -> 0 | BF133: =IF(N133="snížená",J133,0) -> 0 | BG133: =IF(N133="zákl. přenesená",J133,0) -> 0 | BH133: =IF(N133="sníž. přenesená",J133,0) -> 0 | BI133: =IF(N133="nulová",J133,0) -> 0 | BJ133: 1 | BK133: =ROUND(I133*H133,2) -> 0 | BL133: 1 | BM133: -1890375450
D134: PP | F134: Kabely, vodiče, šňůry Cu - nn Kabel silový 2 a 3-žílový Cu, plastová izolace CYKY 3O2,5 (3Ax2,5) | AT134: PP | AU134: 0
C135: 6 | D135: M | E135: 7491200020 | F135: Elektroinstalační materiál Elektroinstalační lišty a kabelové žlaby Lišta LV 18x13 vkládací bílá 3m | G135: kus | H135: 8 | J135: =ROUND(I135*H135,2) -> 0 | K135: Sborník UOŽI 01 2020 | N135: základní | P135: =O135*H135 -> 0 | Q135: 0 | R135: =Q135*H135 -> 0 | S135: 0 | T135: =S135*H135 -> 0 | AR135: 2 | AT135: M | AU135: 0 | AY135: ROZPOCET | BE135: =IF(N135="základní",J135,0) -> 0 | BF135: =IF(N135="snížená",J135,0) -> 0 | BG135: =IF(N135="zákl. přenesená",J135,0) -> 0 | BH135: =IF(N135="sníž. přenesená",J135,0) -> 0 | BI135: =IF(N135="nulová",J135,0) -> 0 | BJ135: 1 | BK135: =ROUND(I135*H135,2) -> 0 | BL135: 1 | BM135: 1198778553
D136: PP | F136: Elektroinstalační materiál Elektroinstalační lišty a kabelové žlaby Lišta LV 18x13 vkládací bílá 3m | AT136: PP | AU136: 0
C137: 7 | D137: M | E137: 7491200010 | F137: Elektroinstalační materiál Elektroinstalační lišty a kabelové žlaby Lišta LV 11x10 vkládací bílá 3m | G137: kus | H137: 8 | J137: =ROUND(I137*H137,2) -> 0 | K137: Sborník UOŽI 01 2020 | N137: základní | P137: =O137*H137 -> 0 | Q137: 0 | R137: =Q137*H137 -> 0 | S137: 0 | T137: =S137*H137 -> 0 | AR137: 2 | AT137: M | AU137: 0 | AY137: ROZPOCET | BE137: =IF(N137="základní",J137,0) -> 0 | BF137: =IF(N137="snížená",J137,0) -> 0 | BG137: =IF(N137="zákl. přenesená",J137,0) -> 0 | BH137: =IF(N137="sníž. přenesená",J137,0) -> 0 | BI137: =IF(N137="nulová",J137,0) -> 0 | BJ137: 1 | BK137: =ROUND(I137*H137,2) -> 0 | BL137: 1 | BM137: 1634542680
D138: PP | F138: Elektroinstalační materiál Elektroinstalační lišty a kabelové žlaby Lišta LV 11x10 vkládací bílá 3m | AT138: PP | AU138: 0
C139: 8 | D139: M | E139: 7494003654 | F139: Modulární přístroje Jističe Příslušenství 1x zapínací kontakt, 1x rozpínací kontakt, např. pro LTE, LTN, LVN, MSO | G139: kus | H139: 1 | J139: =ROUND(I139*H139,2) -> 0 | K139: Sborník UOŽI 01 2020 | N139: základní | P139: =O139*H139 -> 0 | Q139: 0 | R139: =Q139*H139 -> 0 | S139: 0 | T139: =S139*H139 -> 0 | AR139: 2 | AT139: M | AU139: 0 | AY139: ROZPOCET | BE139: =IF(N139="základní",J139,0) -> 0 | BF139: =IF(N139="snížená",J139,0) -> 0 | BG139: =IF(N139="zákl. přenesená",J139,0) -> 0 | BH139: =IF(N139="sníž. přenesená",J139,0) -> 0 | BI139: =IF(N139="nulová",J139,0) -> 0 | BJ139: 1 | BK139: =ROUND(I139*H139,2) -> 0 | BL139: 1 | BM139: 1538491435
D140: PP | F140: Modulární přístroje Jističe Příslušenství 1x zapínací kontakt, 1x rozpínací kontakt, např. pro LTE, LTN, LVN, MSO | AT140: PP | AU140: 0
C141: 9 | D141: M | E141: 7494003692 | F141: Modulární přístroje Jističe Příslušenství Ue DC 24 V, 2x zapínací kontakt, např. pro LTE, LTN, LVN | G141: kus | H141: 1 | J141: =ROUND(I141*H141,2) -> 0 | K141: Sborník UOŽI 01 2020 | N141: základní | P141: =O141*H141 -> 0 | Q141: 0 | R141: =Q141*H141 -> 0 | S141: 0 | T141: =S141*H141 -> 0 | AR141: 2 | AT141: M | AU141: 0 | AY141: ROZPOCET | BE141: =IF(N141="základní",J141,0) -> 0 | BF141: =IF(N141="snížená",J141,0) -> 0 | BG141: =IF(N141="zákl. přenesená",J141,0) -> 0 | BH141: =IF(N141="sníž. přenesená",J141,0) -> 0 | BI141: =IF(N141="nulová",J141,0) -> 0 | BJ141: 1 | BK141: =ROUND(I141*H141,2) -> 0 | BL141: 1 | BM141: 464597046
D142: PP | F142: Modulární přístroje Jističe Příslušenství Ue DC 24 V, 2x zapínací kontakt, např. pro LTE, LTN, LVN | AT142: PP | AU142: 0
C143: 10 | D143: K | E143: 7491251010 | F143: Montáž lišt elektroinstalačních, kabelových žlabů z PVC-U jednokomorových zaklapávacích rozměru 40/40 mm | G143: m | H143: 48 | J143: =ROUND(I143*H143,2) -> 0 | K143: Sborník UOŽI 01 2020 | N143: základní | P143: =O143*H143 -> 0 | Q143: 0 | R143: =Q143*H143 -> 0 | S143: 0 | T143: =S143*H143 -> 0 | AR143: 1 | AT143: K | AU143: 0 | AY143: ROZPOCET | BE143: =IF(N143="základní",J143,0) -> 0 | BF143: =IF(N143="snížená",J143,0) -> 0 | BG143: =IF(N143="zákl. přenesená",J143,0) -> 0 | BH143: =IF(N143="sníž. přenesená",J143,0) -> 0 | BI143: =IF(N143="nulová",J143,0) -> 0 | BJ143: 1 | BK143: =ROUND(I143*H143,2) -> 0 | BL143: 1 | BM143: 861832615
D144: PP | F144: Montáž lišt elektroinstalačních, kabelových žlabů z PVC-U jednokomorových zaklapávacích rozměru 40/40 mm - na konstrukci, omítku apod. včetně spojek, ohybů, rohů, bez krabic | AT144: PP | AU144: 0
C145: 11 | D145: K | E145: 7492471010 | F145: Demontáže kabelových vedení nn | G145: m | H145: 24 | J145: =ROUND(I145*H145,2) -> 0 | K145: Sborník UOŽI 01 2020 | N145: základní | P145: =O145*H145 -> 0 | Q145: 0 | R145: =Q145*H145 -> 0 | S145: 0 | T145: =S145*H145 -> 0 | AR145: 1 | AT145: K | AU145: 0 | AY145: ROZPOCET | BE145: =IF(N145="základní",J145,0) -> 0 | BF145: =IF(N145="snížená",J145,0) -> 0 | BG145: =IF(N145="zákl. přenesená",J145,0) -> 0 | BH145: =IF(N145="sníž. přenesená",J145,0) -> 0 | BI145: =IF(N145="nulová",J145,0) -> 0 | BJ145: 1 | BK145: =ROUND(I145*H145,2) -> 0 | BL145: 1 | BM145: -1438249083
D146: PP | F146: Demontáže kabelových vedení nn - demontáž ze zemní kynety, roštu, rozvaděče, trubky, chráničky apod. | AT146: PP | AU146: 0
C147: 12 | D147: K | E147: 7492553010 | F147: Montáž kabelů 2- a 3-žílových Cu do 16 mm2 | G147: m | H147: 30 | J147: =ROUND(I147*H147,2) -> 0 | K147: Sborník UOŽI 01 2020 | N147: základní | P147: =O147*H147 -> 0 | Q147: 0 | R147: =Q147*H147 -> 0 | S147: 0 | T147: =S147*H147 -> 0 | AR147: 1 | AT147: K | AU147: 0 | AY147: ROZPOCET | BE147: =IF(N147="základní",J147,0) -> 0 | BF147: =IF(N147="snížená",J147,0) -> 0 | BG147: =IF(N147="zákl. přenesená",J147,0) -> 0 | BH147: =IF(N147="sníž. přenesená",J147,0) -> 0 | BI147: =IF(N147="nulová",J147,0) -> 0 | BJ147: 1 | BK147: =ROUND(I147*H147,2) -> 0 | BL147: 1 | BM147: 1227039582
D148: PP | F148: Montáž kabelů 2- a 3-žílových Cu do 16 mm2 - uložení do země, chráničky, na rošty, pod omítku apod. | AT148: PP | AU148: 0
C149: 13 | D149: K | E149: 7492554010 | F149: Montáž kabelů 4- a 5-žílových Cu do 16 mm2 | G149: m | H149: 30 | J149: =ROUND(I149*H149,2) -> 0 | K149: Sborník UOŽI 01 2020 | N149: základní | P149: =O149*H149 -> 0 | Q149: 0 | R149: =Q149*H149 -> 0 | S149: 0 | T149: =S149*H149 -> 0 | AR149: 1 | AT149: K | AU149: 0 | AY149: ROZPOCET | BE149: =IF(N149="základní",J149,0) -> 0 | BF149: =IF(N149="snížená",J149,0) -> 0 | BG149: =IF(N149="zákl. přenesená",J149,0) -> 0 | BH149: =IF(N149="sníž. přenesená",J149,0) -> 0 | BI149: =IF(N149="nulová",J149,0) -> 0 | BJ149: 1 | BK149: =ROUND(I149*H149,2) -> 0 | BL149: 1 | BM149: -1691526189
D150: PP | F150: Montáž kabelů 4- a 5-žílových Cu do 16 mm2 - uložení do země, chráničky, na rošty, pod omítku apod. | AT150: PP | AU150: 0
C151: 14 | D151: K | E151: 7492751020 | F151: Montáž ukončení kabelů nn v rozvaděči nebo na přístroji izolovaných s označením 2 - 5-ti žílových do 2,5 mm2 | G151: kus | H151: 2 | J151: =ROUND(I151*H151,2) -> 0 | K151: Sborník UOŽI 01 2020 | N151: základní | P151: =O151*H151 -> 0 | Q151: 0 | R151: =Q151*H151 -> 0 | S151: 0 | T151: =S151*H151 -> 0 | AR151: 1 | AT151: K | AU151: 0 | AY151: ROZPOCET | BE151: =IF(N151="základní",J151,0) -> 0 | BF151: =IF(N151="snížená",J151,0) -> 0 | BG151: =IF(N151="zákl. přenesená",J151,0) -> 0 | BH151: =IF(N151="sníž. přenesená",J151,0) -> 0 | BI151: =IF(N151="nulová",J151,0) -> 0 | BJ151: 1 | BK151: =ROUND(I151*H151,2) -> 0 | BL151: 1 | BM151: 88110084
D152: PP | F152: Montáž ukončení kabelů nn v rozvaděči nebo na přístroji izolovaných s označením 2 - 5-ti žílových do 2,5 mm2 - montáž kabelové koncovky nebo záklopky včetně odizolování pláště a izolace žil kabelu, ukončení žil v rozvaděči, upevnění kabelových ok, roz. trubice, zakončení stínění apod. | AT152: PP | AU152: 0
C153: 15 | D153: K | E153: 7492751022 | F153: Montáž ukončení kabelů nn v rozvaděči nebo na přístroji izolovaných s označením 2 - 5-ti žílových do 25 mm2 | G153: kus | H153: 4 | J153: =ROUND(I153*H153,2) -> 0 | K153: Sborník UOŽI 01 2020 | N153: základní | P153: =O153*H153 -> 0 | Q153: 0 | R153: =Q153*H153 -> 0 | S153: 0 | T153: =S153*H153 -> 0 | AR153: 1 | AT153: K | AU153: 0 | AY153: ROZPOCET | BE153: =IF(N153="základní",J153,0) -> 0 | BF153: =IF(N153="snížená",J153,0) -> 0 | BG153: =IF(N153="zákl. přenesená",J153,0) -> 0 | BH153: =IF(N153="sníž. přenesená",J153,0) -> 0 | BI153: =IF(N153="nulová",J153,0) -> 0 | BJ153: 1 | BK153: =ROUND(I153*H153,2) -> 0 | BL153: 1 | BM153: 1203238923
D154: PP | F154: Montáž ukončení kabelů nn v rozvaděči nebo na přístroji izolovaných s označením 2 - 5-ti žílových do 25 mm2 - montáž kabelové koncovky nebo záklopky včetně odizolování pláště a izolace žil kabelu, ukončení žil v rozvaděči, upevnění kabelových ok, roz. trubice, zakončení stínění apod. | AT154: PP | AU154: 0
C155: 16 | D155: K | E155: 7494351012 | F155: Montáž jističů (do 10 kA) jednopólových přes 20 do 63 A | G155: kus | H155: 3 | J155: =ROUND(I155*H155,2) -> 0 | K155: Sborník UOŽI 01 2020 | N155: základní | P155: =O155*H155 -> 0 | Q155: 0 | R155: =Q155*H155 -> 0 | S155: 0 | T155: =S155*H155 -> 0 | AR155: 1 | AT155: K | AU155: 0 | AY155: ROZPOCET | BE155: =IF(N155="základní",J155,0) -> 0 | BF155: =IF(N155="snížená",J155,0) -> 0 | BG155: =IF(N155="zákl. přenesená",J155,0) -> 0 | BH155: =IF(N155="sníž. přenesená",J155,0) -> 0 | BI155: =IF(N155="nulová",J155,0) -> 0 | BJ155: 1 | BK155: =ROUND(I155*H155,2) -> 0 | BL155: 1 | BM155: -265760772
D156: PP | F156: Montáž jističů (do 10 kA) jednopólových přes 20 do 63 A | AT156: PP | AU156: 0
C157: 17 | D157: K | E157: 7494351080 | F157: Montáž jističů (do 10 kA) přídavných zařízení k instalačním jističům do 125 A pomocného spínače (1x zap., 1x vyp. kontakt) | G157: kus | H157: 4 | J157: =ROUND(I157*H157,2) -> 0 | K157: Sborník UOŽI 01 2020 | N157: základní | P157: =O157*H157 -> 0 | Q157: 0 | R157: =Q157*H157 -> 0 | S157: 0 | T157: =S157*H157 -> 0 | AR157: 1 | AT157: K | AU157: 0 | AY157: ROZPOCET | BE157: =IF(N157="základní",J157,0) -> 0 | BF157: =IF(N157="snížená",J157,0) -> 0 | BG157: =IF(N157="zákl. přenesená",J157,0) -> 0 | BH157: =IF(N157="sníž. přenesená",J157,0) -> 0 | BI157: =IF(N157="nulová",J157,0) -> 0 | BJ157: 1 | BK157: =ROUND(I157*H157,2) -> 0 | BL157: 1 | BM157: 407050394
D158: PP | F158: Montáž jističů (do 10 kA) přídavných zařízení k instalačním jističům do 125 A pomocného spínače (1x zap., 1x vyp. kontakt) | AT158: PP | AU158: 0
C159: 18 | D159: K | E159: 7494351085 | F159: Montáž jističů (do 10 kA) přídavných zařízení k instalačním jističům do 125 A napěťové spouště | G159: kus | H159: 1 | J159: =ROUND(I159*H159,2) -> 0 | K159: Sborník UOŽI 01 2020 | N159: základní | P159: =O159*H159 -> 0 | Q159: 0 | R159: =Q159*H159 -> 0 | S159: 0 | T159: =S159*H159 -> 0 | AR159: 1 | AT159: K | AU159: 0 | AY159: ROZPOCET | BE159: =IF(N159="základní",J159,0) -> 0 | BF159: =IF(N159="snížená",J159,0) -> 0 | BG159: =IF(N159="zákl. přenesená",J159,0) -> 0 | BH159: =IF(N159="sníž. přenesená",J159,0) -> 0 | BI159: =IF(N159="nulová",J159,0) -> 0 | BJ159: 1 | BK159: =ROUND(I159*H159,2) -> 0 | BL159: 1 | BM159: -1667018320
D160: PP | F160: Montáž jističů (do 10 kA) přídavných zařízení k instalačním jističům do 125 A napěťové spouště | AT160: PP | AU160: 0
C161: 19 | D161: K | E161: 7494371015 | F161: Demontáž zařízení jističe nebo vypínače z rozvaděče nn | G161: kus | H161: 4 | J161: =ROUND(I161*H161,2) -> 0 | K161: Sborník UOŽI 01 2020 | N161: základní | P161: =O161*H161 -> 0 | Q161: 0 | R161: =Q161*H161 -> 0 | S161: 0 | T161: =S161*H161 -> 0 | AR161: 1 | AT161: K | AU161: 0 | AY161: ROZPOCET | BE161: =IF(N161="základní",J161,0) -> 0 | BF161: =IF(N161="snížená",J161,0) -> 0 | BG161: =IF(N161="zákl. přenesená",J161,0) -> 0 | BH161: =IF(N161="sníž. přenesená",J161,0) -> 0 | BI161: =IF(N161="nulová",J161,0) -> 0 | BJ161: 1 | BK161: =ROUND(I161*H161,2) -> 0 | BL161: 1 | BM161: 1334583462
D162: PP | F162: Demontáž zařízení jističe nebo vypínače z rozvaděče nn - stávajícího z rozvaděče nn včetně odpojení přívodních kabelů nebo pasů a nakládky na určený prostředek | AT162: PP | AU162: 0
...

Sheet 01.1.3 - Technologie zabe...
AT2: {8f0043cf-41b2-478f-abcd-c389f7b2df72}
AT3: 2
D4: KRYCÍ LIST SOUPISU PRACÍ | M4: v --- níže se nacházejí doplnkové a pomocné údaje k sestavám --- v | AT4: False
D6: Stavba:
E7: ='Rekapitulace stavby'!K6 -> Oprava SZZ, kolejí a výhybek v žst. Pocínovice
D8: Objekt:
E9: 01 - Oprava sdělovacího a zabezpečovacího zařízení žst. Pocínovice
D10: Soupis:
E11: 01.1 - Vnitřní část zabezpečovacího zařízení
D12: Úroveň 3:
E13: 01.1.3 - Technologie zabezpečovacího zařízení
D15: KSO: | I15: CC-CZ:
D16: Místo: | F16: Pocínovice | I16: Datum: | J16: ='Rekapitulace stavby'!AN8 -> 21. 9. 2020
D18: Zadavatel: | I18: IČ:
E19: Správa železnic, státní organizace | I19: DIČ:
D21: Uchazeč: | I21: IČ: | J21: ='Rekapitulace stavby'!AN13 -> Vyplň údaj
E22: ='Rekapitulace stavby'!E14 -> Vyplň údaj | I22: DIČ: | J22: ='Rekapitulace stavby'!AN14 -> Vyplň údaj
D24: Projektant: | I24: IČ: | J24: =IF('Rekapitulace stavby'!AN16="","",'Rekapitulace stavby'!AN16)
E25: =IF('Rekapitulace stavby'!E17="","",'Rekapitulace stavby'!E17) | I25: DIČ: | J25: =IF('Rekapitulace stavby'!AN17="","",'Rekapitulace stavby'!AN17)
D27: Zpracovatel: | I27: IČ: | J27: =IF('Rekapitulace stavby'!AN19="","",'Rekapitulace stavby'!AN19)
E28: =IF('Rekapitulace stavby'!E20="","",'Rekapitulace stavby'!E20) | I28: DIČ: | J28: =IF('Rekapitulace stavby'!AN20="","",'Rekapitulace stavby'!AN20)
D30: Poznámka:
D34: Cena bez DPH | J34: =ROUND(J124, 2) -> 0
F36: Základ daně | I36: Sazba daně | J36: Výše daně
D37: DPH | E37: základní | F37: =ROUND((SUM(BE124:BE514)), 2) -> 0 | I37: 0.21 | J37: =ROUND(((SUM(BE124:BE514))*I37), 2) -> 0
E38: snížená | F38: =ROUND((SUM(BF124:BF514)), 2) -> 0 | I38: 0.15 | J38: =ROUND(((SUM(BF124:BF514))*I38), 2) -> 0
E39: zákl. přenesená | F39: =ROUND((SUM(BG124:BG514)), 2) -> 0 | I39: 0.21 | J39: =0 -> 0
E40: sníž. přenesená | F40: =ROUND((SUM(BH124:BH514)), 2) -> 0 | I40: 0.15 | J40: =0 -> 0
E41: nulová | F41: =ROUND((SUM(BI124:BI514)), 2) -> 0 | I41: 0 | J41: =0 -> 0
D43: Cena s DPH | G43: v | H43: CZK | J43: =SUM(J34:J41) -> 0
D50: Projektant | G50: Zpracovatel
D61: Datum a podpis: | F61: Razítko | G61: Datum a podpis: | J61: Razítko
D65: Objednavatel | G65: Uchazeč
D76: Datum a podpis: | F76: Razítko | G76: Datum a podpis: | J76: Razítko
C82: REKAPITULACE ČLENĚNÍ SOUPISU PRACÍ
C84: Stavba:
E85: =E7 -> Oprava SZZ, kolejí a výhybek v žst. Pocínovice
C86: Objekt:
E87: 01 - Oprava sdělovacího a zabezpečovacího zařízení žst. Pocínovice
C88: Soupis:
E89: 01.1 - Vnitřní část zabezpečovacího zařízení
C90: Úroveň 3:
E91: =E13 -> 01.1.3 - Technologie zabezpečovacího zařízení
C93: Místo: | F93: =F16 -> Pocínovice | I93: Datum: | J93: =IF(J16="","",J16) -> 21. 9. 2020
C95: Zadavatel: | F95: =E19 -> Správa železnic, státní organizace | I95: Projektant: | J95: =E25
C96: Uchazeč: | F96: =IF(E22="","",E22) -> Vyplň údaj | I96: Zpracovatel: | J96: =E28
C98: Kód dílu - Popis | J98: Cena celkem [CZK]
C100: Náklady ze soupisu prací | J100: =J124 -> 0 | AU100: -1
C107: SOUPIS PRACÍ
C109: Stavba:
E110: =E7 -> Oprava SZZ, kolejí a výhybek v žst. Pocínovice
C111: Objekt:
E112: 01 - Oprava sdělovacího a zabezpečovacího zařízení žst. Pocínovice
C113: Soupis:
E114: 01.1 - Vnitřní část zabezpečovacího zařízení
C115: Úroveň 3:
E116: =E13 -> 01.1.3 - Technologie zabezpečovacího zařízení
C118: Místo: | F118: =F16 -> Pocínovice | I118: Datum: | J118: =IF(J16="","",J16) -> 21. 9. 2020
C120: Zadavatel: | F120: =E19 -> Správa železnic, státní organizace | I120: Projektant: | J120: =E25
C121: Uchazeč: | F121: =IF(E22="","",E22) -> Vyplň údaj | I121: Zpracovatel: | J121: =E28
C123: PČ | D123: Typ | E123: Kód | F123: Popis | G123: MJ | H123: Množství | I123: J.cena [CZK] | J123: Cena celkem [CZK] | K123: Cenová soustava | N123: DPH | O123: J. Nh [h] | P123: Nh celkem [h] | Q123: J. hmotnost [t] | R123: Hmotnost celkem [t] | S123: J. suť [t] | T123: Suť Celkem [t]
C124: Náklady soupisu celkem | J124: =BK124 -> 0 | P124: =SUM(P125:P514) -> 0 | R124: =SUM(R125:R514) -> 0 | T124: =SUM(T125:T514) -> 0 | AT124: D | AU124: -1 | BK124: =SUM(BK125:BK514) -> 0
C125: 1 | D125: M | E125: R1 | F125: Vnitřní kabelové rozvody dodávka od 20 do 50 kabelů | G125: m | H125: 30 | J125: =ROUND(I125*H125,2) -> 0 | N125: základní | P125: =O125*H125 -> 0 | Q125: 0 | R125: =Q125*H125 -> 0 | S125: 0 | T125: =S125*H125 -> 0 | AR125: 2 | AT125: M | AU125: 0 | AY125: ROZPOCET | BE125: =IF(N125="základní",J125,0) -> 0 | BF125: =IF(N125="snížená",J125,0) -> 0 | BG125: =IF(N125="zákl. přenesená",J125,0) -> 0 | BH125: =IF(N125="sníž. přenesená",J125,0) -> 0 | BI125: =IF(N125="nulová",J125,0) -> 0 | BJ125: 1 | BK125: =ROUND(I125*H125,2) -> 0 | BL125: 1 | BM125: -1928070967
D126: PP | F126: Vnitřní kabelové rozvody dodávka od 20 do 50 kabelů. Dodávka kabelů vč.eventuálních konektorů a potřebného pomocného materiálu a jeho dopravy na místo určenívnitřní kabelové rozvody se měří v délkových jednotkách (m).položka obsahuje všechny náklady na kabely včetnš pomocného materiálu, na dopravu do místa určení | AT126: PP | AU126: 0
C127: 2 | D127: K | E127: R1.2 | F127: Vnitřní kabelové rozvody montáž od 20 do 50 kabelů | G127: m | H127: 30 | J127: =ROUND(I127*H127,2) -> 0 | N127: základní | P127: =O127*H127 -> 0 | Q127: 0 | R127: =Q127*H127 -> 0 | S127: 0 | T127: =S127*H127 -> 0 | AR127: 1 | AT127: K | AU127: 0 | AY127: ROZPOCET | BE127: =IF(N127="základní",J127,0) -> 0 | BF127: =IF(N127="snížená",J127,0) -> 0 | BG127: =IF(N127="zákl. přenesená",J127,0) -> 0 | BH127: =IF(N127="sníž. přenesená",J127,0) -> 0 | BI127: =IF(N127="nulová",J127,0) -> 0 | BJ127: 1 | BK127: =ROUND(I127*H127,2) -> 0 | BL127: 1 | BM127: 1957619474
D128: PP | F128: Vnitřní kabelové rozvody montáž od 20 do 50 kabelů.Položení kabelu do rozvodného žlabu, vyformování, vyvázání vč.zapojení na stojany nebo skříněmontáž vnitřeních kabelových rozvodů se měří v délkových jednotkách (m), se všemi pomocnými a doplňujícími pracemi a součástmi, případné použití mechanizmů, náklady na mzdy | AT128: PP | AU128: 0
C129: 4 | D129: K | E129: R11 | F129: Montáž měniče na místo určení | G129: kus | H129: 2 | J129: =ROUND(I129*H129,2) -> 0 | N129: základní | P129: =O129*H129 -> 0 | Q129: 0 | R129: =Q129*H129 -> 0 | S129: 0 | T129: =S129*H129 -> 0 | AR129: 1 | AT129: K | AU129: 0 | AY129: ROZPOCET | BE129: =IF(N129="základní",J129,0) -> 0 | BF129: =IF(N129="snížená",J129,0) -> 0 | BG129: =IF(N129="zákl. přenesená",J129,0) -> 0 | BH129: =IF(N129="sníž. přenesená",J129,0) -> 0 | BI129: =IF(N129="nulová",J129,0) -> 0 | BJ129: 1 | BK129: =ROUND(I129*H129,2) -> 0 | BL129: 1 | BM129: -1527551126
D130: PP | F130: Montáž měniče na místo určení. Jeho připojení a přezkoušení.Montáž měniče se měří v kusech (ks).Položka obsahuje všechny náklady na montáž dodaného zařízení se všemi pomocnými a doplňujícími pracemi a součástmi, případné použití mechanizmů, náklady na mzdy. | AT130: PP | AU130: 0
C131: 46 | D131: M | E131: 7593100890 | F131: Měniče Elektronický měnič napětí přestavníkový | G131: kus | H131: 1 | J131: =ROUND(I131*H131,2) -> 0 | K131: Sborník UOŽI 01 2020 | N131: základní | P131: =O131*H131 -> 0 | Q131: 0 | R131: =Q131*H131 -> 0 | S131: 0 | T131: =S131*H131 -> 0 | AR131: 2 | AT131: M | AU131: 0 | AY131: ROZPOCET | BE131: =IF(N131="základní",J131,0) -> 0 | BF131: =IF(N131="snížená",J131,0) -> 0 | BG131: =IF(N131="zákl. přenesená",J131,0) -> 0 | BH131: =IF(N131="sníž. přenesená",J131,0) -> 0 | BI131: =IF(N131="nulová",J131,0) -> 0 | BJ131: 1 | BK131: =ROUND(I131*H131,2) -> 0 | BL131: 1 | BM131: 1604161186
D132: PP | F132: Měniče Elektronický měnič napětí přestavníkový | AT132: PP | AU132: 0
C133: 47 | D133: M | E133: 7593100880 | F133: Měniče Elektronický měnič napětí 50Hz | G133: kus | H133: 1 | J133: =ROUND(I133*H133,2) -> 0 | K133: Sborník UOŽI 01 2020 | N133: základní | P133: =O133*H133 -> 0 | Q133: 0 | R133: =Q133*H133 -> 0 | S133: 0 | T133: =S133*H133 -> 0 | AR133: 2 | AT133: M | AU133: 0 | AY133: ROZPOCET | BE133: =IF(N133="základní",J133,0) -> 0 | BF133: =IF(N133="snížená",J133,0) -> 0 | BG133: =IF(N133="zákl. přenesená",J133,0) -> 0 | BH133: =IF(N133="sníž. přenesená",J133,0) -> 0 | BI133: =IF(N133="nulová",J133,0) -> 0 | BJ133: 1 | BK133: =ROUND(I133*H133,2) -> 0 | BL133: 1 | BM133: -112484648
D134: PP | F134: Měniče Elektronický měnič napětí 50Hz | AT134: PP | AU134: 0
C135: 5 | D135: M | E135: R13 | F135: Graficko-technologická nástavba GTN - dodávka | G135: kus | H135: 0.2 | J135: =ROUND(I135*H135,2) -> 0 | N135: základní | P135: =O135*H135 -> 0 | Q135: 0 | R135: =Q135*H135 -> 0 | S135: 0 | T135: =S135*H135 -> 0 | AR135: 2 | AT135: M | AU135: 0 | AY135: ROZPOCET | BE135: =IF(N135="základní",J135,0) -> 0 | BF135: =IF(N135="snížená",J135,0) -> 0 | BG135: =IF(N135="zákl. přenesená",J135,0) -> 0 | BH135: =IF(N135="sníž. přenesená",J135,0) -> 0 | BI135: =IF(N135="nulová",J135,0) -> 0 | BJ135: 1 | BK135: =ROUND(I135*H135,2) -> 0 | BL135: 1 | BM135: -4278280
D136: PP | F136: Graficko-technologická nástavba GTN - dodávka. Dodání kompletního vnitřního zařízení pro zabezpečení vyhyb.jednotky vč.souvisejících venkovních prvků a potřebného pomocného materiálu a jeho dopravy na místo určení. Položka obsahuje všechny náklady na pořízenízařízení včetně pomocného materiálu, na dopravu do místa určení. | AT136: PP | AU136: 0
D137: P | F137: Poznámka k položce:_x000D_ Provedena repase a úprava vyzískaného materiálu. Nezálohována. | AT137: P | AU137: 0
C138: 6 | D138: K | E138: R13.2 | F138: Graficko-technologická nástavba GTN - montáž | G138: kus | H138: 1 | J138: =ROUND(I138*H138,2) -> 0 | N138: základní | P138: =O138*H138 -> 0 | Q138: 0 | R138: =Q138*H138 -> 0 | S138: 0 | T138: =S138*H138 -> 0 | AR138: 1 | AT138: K | AU138: 0 | AY138: ROZPOCET | BE138: =IF(N138="základní",J138,0) -> 0 | BF138: =IF(N138="snížená",J138,0) -> 0 | BG138: =IF(N138="zákl. přenesená",J138,0) -> 0 | BH138: =IF(N138="sníž. přenesená",J138,0) -> 0 | BI138: =IF(N138="nulová",J138,0) -> 0 | BJ138: 1 | BK138: =ROUND(I138*H138,2) -> 0 | BL138: 1 | BM138: 1932753740
D139: PP | F139: Graficko-technologická nástavba GTN - montáž. Upevnění zařízení do stojanu(skříně), zapojení, instalace individuálního SW, přezkoušení. Položka obsahuje všechny náklady na montáž dodaného zařízení se všemi pomocnými a doplňujícími pracemi a součástmi, případné použití mechanizmů, náklady na mzdy | AT139: PP | AU139: 0
C140: 7 | D140: M | E140: R14 | F140: Dodávka základního SW elektronického stavědla s elektronickým rozhraním | G140: kus | H140: 1 | J140: =ROUND(I140*H140,2) -> 0 | N140: základní | P140: =O140*H140 -> 0 | Q140: 0 | R140: =Q140*H140 -> 0 | S140: 0 | T140: =S140*H140 -> 0 | AR140: 2 | AT140: M | AU140: 0 | AY140: ROZPOCET | BE140: =IF(N140="základní",J140,0) -> 0 | BF140: =IF(N140="snížená",J140,0) -> 0 | BG140: =IF(N140="zákl. přenesená",J140,0) -> 0 | BH140: =IF(N140="sníž. přenesená",J140,0) -> 0 | BI140: =IF(N140="nulová",J140,0) -> 0 | BJ140: 1 | BK140: =ROUND(I140*H140,2) -> 0 | BL140: 1 | BM140: 24572312
D141: PP | F141: Dodávka základního SW elektronického stavědla s elektronickým rozhraním. Dodání základního programového vybavení podle typu určeného položkou.Programové vybavení se měří kusech (ks).Položka obsahuje všechny náklady na pořízení příslušného programového vybavení. | AT141: PP | AU141: 0
C142: 8 | D142: K | E142: R14.2 | F142: Montáž individuálního SW elektronického stavědla s reléovým rozhraním | G142: V.J. | H142: 3 | J142: =ROUND(I142*H142,2) -> 0 | N142: základní | P142: =O142*H142 -> 0 | Q142: 0 | R142: =Q142*H142 -> 0 | S142: 0 | T142: =S142*H142 -> 0 | AR142: 1 | AT142: K | AU142: 0 | AY142: ROZPOCET | BE142: =IF(N142="základní",J142,0) -> 0 | BF142: =IF(N142="snížená",J142,0) -> 0 | BG142: =IF(N142="zákl. přenesená",J142,0) -> 0 | BH142: =IF(N142="sníž. přenesená",J142,0) -> 0 | BI142: =IF(N142="nulová",J142,0) -> 0 | BJ142: 1 | BK142: =ROUND(I142*H142,2) -> 0 | BL142: 1 | BM142: -1644378376
D143: PP | F143: Montáž individuálního SW elektronického stavědla s reléovým rozhraním | AT143: PP | AU143: 0
C144: 10 | D144: M | E144: R5 | F144: Dodávka vybavení servisního a diagnostického pracoviště vč. SW | G144: kus | H144: 1 | J144: =ROUND(I144*H144,2) -> 0 | N144: základní | P144: =O144*H144 -> 0 | Q144: 0 | R144: =Q144*H144 -> 0 | S144: 0 | T144: =S144*H144 -> 0 | AR144: 2 | AT144: M | AU144: 0 | AY144: ROZPOCET | BE144: =IF(N144="základní",J144,0) -> 0 | BF144: =IF(N144="snížená",J144,0) -> 0 | BG144: =IF(N144="zákl. přenesená",J144,0) -> 0 | BH144: =IF(N144="sníž. přenesená",J144,0) -> 0 | BI144: =IF(N144="nulová",J144,0) -> 0 | BJ144: 1 | BK144: =ROUND(I144*H144,2) -> 0 | BL144: 1 | BM144: 1689712986
D145: PP | F145: Dodávka vybavení servisního a diagnostického pracoviště vč. SW. Výroba a dodávka stolů(2ks+židle 2ks) pro umístění počítačového vybavení pracoviště a jejich doprava na místo určení, dodání výpočetní techniky a programového vybavení, spojovacího a pomocného materiálu, včetně dopravy. Servisní pracoviště se měří v kusech (ks).Položka obsahuje všechny náklady na dodávku vybavení pro servisní pracoviště diagnostiky se všemi pomocnými a doplňujícími pracemi a součástmi, případné použití mechanizmů, včetně dopravy ze skladu k místu montáže, náklady na mzdy | AT145: PP | AU145: 0
D146: P | F146: Poznámka k položce:_x000D_ Bude provedena dodávka nového serveru a SWITCHE | AT146: P | AU146: 0
C147: 11 | D147: K | E147: R20.1 | F147: Montáž skříně (stojanu) volné vazby vystrojené | G147: kus | H147: 3 | J147: =ROUND(I147*H147,2) -> 0 | N147: základní | P147: =O147*H147 -> 0 | Q147: 0 | R147: =Q147*H147 -> 0 | S147: 0 | T147: =S147*H147 -> 0 | AR147: 1 | AT147: K | AU147: 0 | AY147: ROZPOCET | BE147: =IF(N147="základní",J147,0) -> 0 | BF147: =IF(N147="snížená",J147,0) -> 0 | BG147: =IF(N147="zákl. přenesená",J147,0) -> 0 | BH147: =IF(N147="sníž. přenesená",J147,0) -> 0 | BI147: =IF(N147="nulová",J147,0) -> 0 | BJ147: 1 | BK147: =ROUND(I147*H147,2) -> 0 | BL147: 1 | BM147: 1524021904
D148: PP | F148: Montáž skříně (stojanu) volné vazby vystrojené | AT148: PP | AU148: 0
C149: 12 | D149: K | E149: R21.1 | F149: Skříň DOZ - montáž | G149: kus | H149: 1 | J149: =ROUND(I149*H149,2) -> 0 | N149: základní | P149: =O149*H149 -> 0 | Q149: 0 | R149: =Q149*H149 -> 0 | S149: 0 | T149: =S149*H149 -> 0 | AR149: 1 | AT149: K | AU149: 0 | AY149: ROZPOCET | BE149: =IF(N149="základní",J149,0) -> 0 | BF149: =IF(N149="snížená",J149,0) -> 0 | BG149: =IF(N149="zákl. přenesená",J149,0) -> 0 | BH149: =IF(N149="sníž. přenesená",J149,0) -> 0 | BI149: =IF(N149="nulová",J149,0) -> 0 | BJ149: 1 | BK149: =ROUND(I149*H149,2) -> 0 | BL149: 1 | BM149: -1285250614
D150: PP | F150: Skříň DOZ - montáž. Montáž skříně (stojanu) logiky elektronických kolejových obvodů vystrojené do 60 kol. obvodů | AT150: PP | AU150: 0
C151: 13 | D151: M | E151: R22 | F151: Elektronická vazba s prováděcími počítači pro zabezpečení výhybkové jednotky - dodávka | G151: kus | H151: 3 | J151: =ROUND(I151*H151,2) -> 0 | N151: základní | P151: =O151*H151 -> 0 | Q151: 0 | R151: =Q151*H151 -> 0 | S151: 0 | T151: =S151*H151 -> 0 | AR151: 2 | AT151: M | AU151: 0 | AY151: ROZPOCET | BE151: =IF(N151="základní",J151,0) -> 0 | BF151: =IF(N151="snížená",J151,0) -> 0 | BG151: =IF(N151="zákl. přenesená",J151,0) -> 0 | BH151: =IF(N151="sníž. přenesená",J151,0) -> 0 | BI151: =IF(N151="nulová",J151,0) -> 0 | BJ151: 1 | BK151: =ROUND(I151*H151,2) -> 0 | BL151: 1 | BM151: -167331792
D152: PP | F152: Elektronická vazba s prováděcími počítači pro zabezpečení výhybkové jednotky - dodávka. Dodávka skříně (stojanu) traťových kolejových obvodů v dopravě vystrojené do 12-ti kol. obvodů | AT152: PP | AU152: 0
C153: 14 | D153: K | E153: R22.1 | F153: Elektronická vazba s prováděcími počítači pro zabezpečení výhybkové jednotky - montáž | G153: kus | H153: 3 | J153: =ROUND(I153*H153,2) -> 0 | N153: základní | P153: =O153*H153 -> 0 | Q153: 0 | R153: =Q153*H153 -> 0 | S153: 0 | T153: =S153*H153 -> 0 | AR153: 1 | AT153: K | AU153: 0 | AY153: ROZPOCET | BE153: =IF(N153="základní",J153,0) -> 0 | BF153: =IF(N153="snížená",J153,0) -> 0 | BG153: =IF(N153="zákl. přenesená",J153,0) -> 0 | BH153: =IF(N153="sníž. přenesená",J153,0) -> 0 | BI153: =IF(N153="nulová",J153,0) -> 0 | BJ153: 1 | BK153: =ROUND(I153*H153,2) -> 0 | BL153: 1 | BM153: -395283081
D154: PP | F154: Elektronická vazba s prováděcími počítači pro zabezpečení výhybkové jednotky - montáž. Montáž skříně (stojanu) traťových kolejových obvodů v dopravě vystrojené do 12-ti kol. obvodů | AT154: PP | AU154: 0
C155: 15 | D155: M | E155: R23 | F155: Dodávka skříně počítačů náprav vystrojené | G155: kus | H155: 0.4 | J155: =ROUND(I155*H155,2) -> 0 | N155: základní | P155: =O155*H155 -> 0 | Q155: 0 | R155: =Q155*H155 -> 0 | S155: 0 | T155: =S155*H155 -> 0 | AR155: 2 | AT155: M | AU155: 0 | AY155: ROZPOCET | BE155: =IF(N155="základní",J155,0) -> 0 | BF155: =IF(N155="snížená",J155,0) -> 0 | BG155: =IF(N155="zákl. přenesená",J155,0) -> 0 | BH155: =IF(N155="sníž. přenesená",J155,0) -> 0 | BI155: =IF(N155="nulová",J155,0) -> 0 | BJ155: 1 | BK155: =ROUND(I155*H155,2) -> 0 | BL155: 1 | BM155: 1606690370
D156: PP | F156: Dodávka skříně počítačů náprav vystrojené . Vnitřní kabelové rozvody dodávka 20 do 50 kabelů. Dodávka skříně počítačů náprav vystrojené | AT156: PP | AU156: 0
D157: P | F157: Poznámka k položce:_x000D_ Provedena repase a úprava stávajících počítačů náprav | AT157: P | AU157: 0
C158: 16 | D158: K | E158: R23.1 | F158: Montáž skříně počítačů náprav vystrojené | G158: kus | H158: 1 | J158: =ROUND(I158*H158,2) -> 0 | N158: základní | P158: =O158*H158 -> 0 | Q158: 0 | R158: =Q158*H158 -> 0 | S158: 0 | T158: =S158*H158 -> 0 | AR158: 1 | AT158: K | AU158: 0 | AY158: ROZPOCET | BE158: =IF(N158="základní",J158,0) -> 0 | BF158: =IF(N158="snížená",J158,0) -> 0 | BG158: =IF(N158="zákl. přenesená",J158,0) -> 0 | BH158: =IF(N158="sníž. přenesená",J158,0) -> 0 | BI158: =IF(N158="nulová",J158,0) -> 0 | BJ158: 1 | BK158: =ROUND(I158*H158,2) -> 0 | BL158: 1 | BM158: -2103682912
D159: PP | F159: Montáž skříně počítačů náprav vystrojené (16 bodů/6 úseků) | AT159: PP | AU159: 0
C160: 17 | D160: M | E160: R24 | F160: SW pro GTN | G160: kus | H160: 1 | J160: =ROUND(I160*H160,2) -> 0 | N160: základní | P160: =O160*H160 -> 0 | Q160: 0 | R160: =Q160*H160 -> 0 | S160: 0 | T160: =S160*H160 -> 0 | AR160: 2 | AT160: M | AU160: 0 | AY160: ROZPOCET | BE160: =IF(N160="základní",J160,0) -> 0 | BF160: =IF(N160="snížená",J160,0) -> 0 | BG160: =IF(N160="zákl. přenesená",J160,0) -> 0 | BH160: =IF(N160="sníž. přenesená",J160,0) -> 0 | BI160: =IF(N160="nulová",J160,0) -> 0 | BJ160: 1 | BK160: =ROUND(I160*H160,2) -> 0 | BL160: 1 | BM160: 1400192875
D161: PP | F161: SW pro GTN. | AT161: PP | AU161: 0
C162: 188 | D162: M | E162: 7594300288 | F162: Počítače náprav Vnitřní prvky PN Frauscher Vyhodnocovací jednotka IMC074 GS03 | G162: kus | H162: 6 | J162: =ROUND(I162*H162,2) -> 0 | K162: Sborník UOŽI 01 2020 | N162: základní | P162: =O162*H162 -> 0 | Q162: 0 | R162: =Q162*H162 -> 0 | S162: 0 | T162: =S162*H162 -> 0 | AR162: 128 | AT162: M | AU162: 0 | AY162: ROZPOCET | BE162: =IF(N162="základní",J162,0) -> 0 | BF162: =IF(N162="snížená",J162,0) -> 0 | BG162: =IF(N162="zákl. přenesená",J162,0) -> 0 | BH162: =IF(N162="sníž. přenesená",J162,0) -> 0 | BI162: =IF(N162="nulová",J162,0) -> 0 | BJ162: 1 | BK162: =ROUND(I162*H162,2) -> 0 | BL162: 128 | BM162: 466328791
...

Sheet 01.2 - Venkovní část zabe...
AT2: {095f36e0-fbcd-4ea2-8b9b-cd9b1db33474}
AT3: 2
D4: KRYCÍ LIST SOUPISU PRACÍ | M4: v --- níže se nacházejí doplnkové a pomocné údaje k sestavám --- v | AT4: False
D6: Stavba:
E7: ='Rekapitulace stavby'!K6 -> Oprava SZZ, kolejí a výhybek v žst. Pocínovice
D8: Objekt:
E9: 01 - Oprava sdělovacího a zabezpečovacího zařízení žst. Pocínovice
D10: Soupis:
E11: 01.2 - Venkovní část zabezpečovacího zařízení,zkoušení
D13: KSO: | I13: CC-CZ:
D14: Místo: | F14: Pocínovice | I14: Datum: | J14: ='Rekapitulace stavby'!AN8 -> 21. 9. 2020
D16: Zadavatel: | I16: IČ:
E17: Správa železnic, státní organizace | I17: DIČ:
D19: Uchazeč: | I19: IČ: | J19: ='Rekapitulace stavby'!AN13 -> Vyplň údaj
E20: ='Rekapitulace stavby'!E14 -> Vyplň údaj | I20: DIČ: | J20: ='Rekapitulace stavby'!AN14 -> Vyplň údaj
D22: Projektant: | I22: IČ: | J22: =IF('Rekapitulace stavby'!AN16="","",'Rekapitulace stavby'!AN16)
E23: =IF('Rekapitulace stavby'!E17="","",'Rekapitulace stavby'!E17) | I23: DIČ: | J23: =IF('Rekapitulace stavby'!AN17="","",'Rekapitulace stavby'!AN17)
D25: Zpracovatel: | I25: IČ: | J25: =IF('Rekapitulace stavby'!AN19="","",'Rekapitulace stavby'!AN19)
E26: =IF('Rekapitulace stavby'!E20="","",'Rekapitulace stavby'!E20) | I26: DIČ: | J26: =IF('Rekapitulace stavby'!AN20="","",'Rekapitulace stavby'!AN20)
D28: Poznámka:
D32: Cena bez DPH | J32: =ROUND(J120, 2) -> 0
F34: Základ daně | I34: Sazba daně | J34: Výše daně
D35: DPH | E35: základní | F35: =ROUND((SUM(BE120:BE320)), 2) -> 0 | I35: 0.21 | J35: =ROUND(((SUM(BE120:BE320))*I35), 2) -> 0
E36: snížená | F36: =ROUND((SUM(BF120:BF320)), 2) -> 0 | I36: 0.15 | J36: =ROUND(((SUM(BF120:BF320))*I36), 2) -> 0
E37: zákl. přenesená | F37: =ROUND((SUM(BG120:BG320)), 2) -> 0 | I37: 0.21 | J37: =0 -> 0
E38: sníž. přenesená | F38: =ROUND((SUM(BH120:BH320)), 2) -> 0 | I38: 0.15 | J38: =0 -> 0
E39: nulová | F39: =ROUND((SUM(BI120:BI320)), 2) -> 0 | I39: 0 | J39: =0 -> 0
D41: Cena s DPH | G41: v | H41: CZK | J41: =SUM(J32:J39) -> 0
D50: Projektant | G50: Zpracovatel
D61: Datum a podpis: | F61: Razítko | G61: Datum a podpis: | J61: Razítko
D65: Objednavatel | G65: Uchazeč
D76: Datum a podpis: | F76: Razítko | G76: Datum a podpis: | J76: Razítko
C82: REKAPITULACE ČLENĚNÍ SOUPISU PRACÍ
C84: Stavba:
E85: =E7 -> Oprava SZZ, kolejí a výhybek v žst. Pocínovice
C86: Objekt:
E87: 01 - Oprava sdělovacího a zabezpečovacího zařízení žst. Pocínovice
C88: Soupis:
E89: =E11 -> 01.2 - Venkovní část zabezpečovacího zařízení,zkoušení
C91: Místo: | F91: =F14 -> Pocínovice | I91: Datum: | J91: =IF(J14="","",J14) -> 21. 9. 2020
C93: Zadavatel: | F93: =E17 -> Správa železnic, státní organizace | I93: Projektant: | J93: =E23
C94: Uchazeč: | F94: =IF(E20="","",E20) -> Vyplň údaj | I94: Zpracovatel: | J94: =E26
C96: Kód dílu - Popis | J96: Cena celkem [CZK]
C98: Náklady ze soupisu prací | J98: =J120 -> 0 | AU98: -1
C105: SOUPIS PRACÍ
C107: Stavba:
E108: =E7 -> Oprava SZZ, kolejí a výhybek v žst. Pocínovice
C109: Objekt:
E110: 01 - Oprava sdělovacího a zabezpečovacího zařízení žst. Pocínovice
C111: Soupis:
E112: =E11 -> 01.2 - Venkovní část zabezpečovacího zařízení,zkoušení
C114: Místo: | F114: =F14 -> Pocínovice | I114: Datum: | J114: =IF(J14="","",J14) -> 21. 9. 2020
C116: Zadavatel: | F116: =E17 -> Správa železnic, státní organizace | I116: Projektant: | J116: =E23
C117: Uchazeč: | F117: =IF(E20="","",E20) -> Vyplň údaj | I117: Zpracovatel: | J117: =E26
C119: PČ | D119: Typ | E119: Kód | F119: Popis | G119: MJ | H119: Množství | I119: J.cena [CZK] | J119: Cena celkem [CZK] | K119: Cenová soustava | N119: DPH | O119: J. Nh [h] | P119: Nh celkem [h] | Q119: J. hmotnost [t] | R119: Hmotnost celkem [t] | S119: J. suť [t] | T119: Suť Celkem [t]
C120: Náklady soupisu celkem | J120: =BK120 -> 0 | P120: =SUM(P121:P320) -> 0 | R120: =SUM(R121:R320) -> 0 | T120: =SUM(T121:T320) -> 0 | AT120: D | AU120: -1 | BK120: =SUM(BK121:BK320) -> 0
C121: 1 | D121: K | E121: 7590555198 | F121: Montáž forma pro kabely TCEKPFLE, TCEKPFLEY, TCEKPFLEZE, TCEKPFLEZY svorkovice WAGO do 12 P 1,0 | G121: kus | H121: 9 | J121: =ROUND(I121*H121,2) -> 0 | K121: Sborník UOŽI 01 2020 | N121: základní | P121: =O121*H121 -> 0 | Q121: 0 | R121: =Q121*H121 -> 0 | S121: 0 | T121: =S121*H121 -> 0 | AR121: 1 | AT121: K | AU121: 0 | AY121: ROZPOCET | BE121: =IF(N121="základní",J121,0) -> 0 | BF121: =IF(N121="snížená",J121,0) -> 0 | BG121: =IF(N121="zákl. přenesená",J121,0) -> 0 | BH121: =IF(N121="sníž. přenesená",J121,0) -> 0 | BI121: =IF(N121="nulová",J121,0) -> 0 | BJ121: 1 | BK121: =ROUND(I121*H121,2) -> 0 | BL121: 1 | BM121: -1004887339
D122: PP | F122: Montáž forma pro kabely TCEKPFLE, TCEKPFLEY, TCEKPFLEZE, TCEKPFLEZY svorkovice WAGO do 12 P 1,0 - odstranění pláště na jednom konci kabelu, odstranění izolace z konců žil na svorkovnici, zhotovení vodní zábrany, zformování a konečná úprava kabelu, kontrolní a závěrečné měření na kabelu, zapojení po měření, montáž příchytky a štítku kabelové formy | AT122: PP | AU122: 0
C123: 15 | D123: K | E123: 7590555196 | F123: Montáž forma pro kabely TCEKPFLE, TCEKPFLEY, TCEKPFLEZE, TCEKPFLEZY svorkovice WAGO do 7 P 1,0 | G123: kus | H123: 11 | J123: =ROUND(I123*H123,2) -> 0 | K123: Sborník UOŽI 01 2020 | N123: základní | P123: =O123*H123 -> 0 | Q123: 0 | R123: =Q123*H123 -> 0 | S123: 0 | T123: =S123*H123 -> 0 | AR123: 1 | AT123: K | AU123: 0 | AY123: ROZPOCET | BE123: =IF(N123="základní",J123,0) -> 0 | BF123: =IF(N123="snížená",J123,0) -> 0 | BG123: =IF(N123="zákl. přenesená",J123,0) -> 0 | BH123: =IF(N123="sníž. přenesená",J123,0) -> 0 | BI123: =IF(N123="nulová",J123,0) -> 0 | BJ123: 1 | BK123: =ROUND(I123*H123,2) -> 0 | BL123: 1 | BM123: 731976055
D124: PP | F124: Montáž forma pro kabely TCEKPFLE, TCEKPFLEY, TCEKPFLEZE, TCEKPFLEZY svorkovice WAGO do 7 P 1,0 - odstranění pláště na jednom konci kabelu, odstranění izolace z konců žil na svorkovnici, zhotovení vodní zábrany, zformování a konečná úprava kabelu, kontrolní a závěrečné měření na kabelu, zapojení po měření, montáž příchytky a štítku kabelové formy | AT124: PP | AU124: 0
C125: 16 | D125: K | E125: 7590555202 | F125: Montáž forma pro kabely TCEKPFLE, TCEKPFLEY, TCEKPFLEZE, TCEKPFLEZY svorkovice WAGO do 24 P 1,0 | G125: kus | H125: 5 | J125: =ROUND(I125*H125,2) -> 0 | K125: Sborník UOŽI 01 2020 | N125: základní | P125: =O125*H125 -> 0 | Q125: 0 | R125: =Q125*H125 -> 0 | S125: 0 | T125: =S125*H125 -> 0 | AR125: 1 | AT125: K | AU125: 0 | AY125: ROZPOCET | BE125: =IF(N125="základní",J125,0) -> 0 | BF125: =IF(N125="snížená",J125,0) -> 0 | BG125: =IF(N125="zákl. přenesená",J125,0) -> 0 | BH125: =IF(N125="sníž. přenesená",J125,0) -> 0 | BI125: =IF(N125="nulová",J125,0) -> 0 | BJ125: 1 | BK125: =ROUND(I125*H125,2) -> 0 | BL125: 1 | BM125: 1803109150
D126: PP | F126: Montáž forma pro kabely TCEKPFLE, TCEKPFLEY, TCEKPFLEZE, TCEKPFLEZY svorkovice WAGO do 24 P 1,0 - odstranění pláště na jednom konci kabelu, odstranění izolace z konců žil na svorkovnici, zhotovení vodní zábrany, zformování a konečná úprava kabelu, kontrolní a závěrečné měření na kabelu, zapojení po měření, montáž příchytky a štítku kabelové formy | AT126: PP | AU126: 0
C127: 17 | D127: K | E127: 7590555192 | F127: Montáž forma pro kabely TCEKPFLE, TCEKPFLEY, TCEKPFLEZE, TCEKPFLEZY svorkovice WAGO do 3 P 1,0 | G127: kus | H127: 9 | J127: =ROUND(I127*H127,2) -> 0 | K127: Sborník UOŽI 01 2020 | N127: základní | P127: =O127*H127 -> 0 | Q127: 0 | R127: =Q127*H127 -> 0 | S127: 0 | T127: =S127*H127 -> 0 | AR127: 1 | AT127: K | AU127: 0 | AY127: ROZPOCET | BE127: =IF(N127="základní",J127,0) -> 0 | BF127: =IF(N127="snížená",J127,0) -> 0 | BG127: =IF(N127="zákl. přenesená",J127,0) -> 0 | BH127: =IF(N127="sníž. přenesená",J127,0) -> 0 | BI127: =IF(N127="nulová",J127,0) -> 0 | BJ127: 1 | BK127: =ROUND(I127*H127,2) -> 0 | BL127: 1 | BM127: -171956643
D128: PP | F128: Montáž forma pro kabely TCEKPFLE, TCEKPFLEY, TCEKPFLEZE, TCEKPFLEZY svorkovice WAGO do 3 P 1,0 - odstranění pláště na jednom konci kabelu, odstranění izolace z konců žil na svorkovnici, zhotovení vodní zábrany, zformování a konečná úprava kabelu, kontrolní a závěrečné měření na kabelu, zapojení po měření, montáž příchytky a štítku kabelové formy | AT128: PP | AU128: 0
C129: 18 | D129: K | E129: 7590555194 | F129: Montáž forma pro kabely TCEKPFLE, TCEKPFLEY, TCEKPFLEZE, TCEKPFLEZY svorkovice WAGO do 4 P 1,0 | G129: kus | H129: 7 | J129: =ROUND(I129*H129,2) -> 0 | K129: Sborník UOŽI 01 2020 | N129: základní | P129: =O129*H129 -> 0 | Q129: 0 | R129: =Q129*H129 -> 0 | S129: 0 | T129: =S129*H129 -> 0 | AR129: 1 | AT129: K | AU129: 0 | AY129: ROZPOCET | BE129: =IF(N129="základní",J129,0) -> 0 | BF129: =IF(N129="snížená",J129,0) -> 0 | BG129: =IF(N129="zákl. přenesená",J129,0) -> 0 | BH129: =IF(N129="sníž. přenesená",J129,0) -> 0 | BI129: =IF(N129="nulová",J129,0) -> 0 | BJ129: 1 | BK129: =ROUND(I129*H129,2) -> 0 | BL129: 1 | BM129: -2103788961
D130: PP | F130: Montáž forma pro kabely TCEKPFLE, TCEKPFLEY, TCEKPFLEZE, TCEKPFLEZY svorkovice WAGO do 4 P 1,0 - odstranění pláště na jednom konci kabelu, odstranění izolace z konců žil na svorkovnici, zhotovení vodní zábrany, zformování a konečná úprava kabelu, kontrolní a závěrečné měření na kabelu, zapojení po měření, montáž příchytky a štítku kabelové formy | AT130: PP | AU130: 0
C131: 2 | D131: K | E131: 7590617030 | F131: Demontáž kolejové desky | G131: kus | H131: 1 | J131: =ROUND(I131*H131,2) -> 0 | K131: Sborník UOŽI 01 2020 | N131: základní | P131: =O131*H131 -> 0 | Q131: 0 | R131: =Q131*H131 -> 0 | S131: 0 | T131: =S131*H131 -> 0 | AR131: 1 | AT131: K | AU131: 0 | AY131: ROZPOCET | BE131: =IF(N131="základní",J131,0) -> 0 | BF131: =IF(N131="snížená",J131,0) -> 0 | BG131: =IF(N131="zákl. přenesená",J131,0) -> 0 | BH131: =IF(N131="sníž. přenesená",J131,0) -> 0 | BI131: =IF(N131="nulová",J131,0) -> 0 | BJ131: 1 | BK131: =ROUND(I131*H131,2) -> 0 | BL131: 1 | BM131: 2020481791
D132: PP | F132: Demontáž kolejové desky - včetně odpojení kabelů | AT132: PP | AU132: 0
C133: 3 | D133: K | E133: 7590417080 | F133: Demontáž stavědlového přístroje 29 pravítek | G133: pole | H133: 1 | J133: =ROUND(I133*H133,2) -> 0 | K133: Sborník UOŽI 01 2020 | N133: základní | P133: =O133*H133 -> 0 | Q133: 0 | R133: =Q133*H133 -> 0 | S133: 0 | T133: =S133*H133 -> 0 | AR133: 1 | AT133: K | AU133: 0 | AY133: ROZPOCET | BE133: =IF(N133="základní",J133,0) -> 0 | BF133: =IF(N133="snížená",J133,0) -> 0 | BG133: =IF(N133="zákl. přenesená",J133,0) -> 0 | BH133: =IF(N133="sníž. přenesená",J133,0) -> 0 | BI133: =IF(N133="nulová",J133,0) -> 0 | BJ133: 1 | BK133: =ROUND(I133*H133,2) -> 0 | BL133: 1 | BM133: 1824461063
D134: PP | F134: Demontáž stavědlového přístroje 29 pravítek | AT134: PP | AU134: 0
C135: 4 | D135: K | E135: 7590417020 | F135: Demontáž hradlové skříně stavědla do 6 polí | G135: kus | H135: 1 | J135: =ROUND(I135*H135,2) -> 0 | K135: Sborník UOŽI 01 2020 | N135: základní | P135: =O135*H135 -> 0 | Q135: 0 | R135: =Q135*H135 -> 0 | S135: 0 | T135: =S135*H135 -> 0 | AR135: 1 | AT135: K | AU135: 0 | AY135: ROZPOCET | BE135: =IF(N135="základní",J135,0) -> 0 | BF135: =IF(N135="snížená",J135,0) -> 0 | BG135: =IF(N135="zákl. přenesená",J135,0) -> 0 | BH135: =IF(N135="sníž. přenesená",J135,0) -> 0 | BI135: =IF(N135="nulová",J135,0) -> 0 | BJ135: 1 | BK135: =ROUND(I135*H135,2) -> 0 | BL135: 1 | BM135: -408335506
D136: PP | F136: Demontáž hradlové skříně stavědla do 6 polí - včetně odpojení zařízení od kabelových rozvodů | AT136: PP | AU136: 0
C137: 5 | D137: K | E137: 7591305010 | F137: Montáž zámku výměnového jednoduchého | G137: kus | H137: 5 | J137: =ROUND(I137*H137,2) -> 0 | K137: Sborník UOŽI 01 2020 | N137: základní | P137: =O137*H137 -> 0 | Q137: 0 | R137: =Q137*H137 -> 0 | S137: 0 | T137: =S137*H137 -> 0 | AR137: 1 | AT137: K | AU137: 0 | AY137: ROZPOCET | BE137: =IF(N137="základní",J137,0) -> 0 | BF137: =IF(N137="snížená",J137,0) -> 0 | BG137: =IF(N137="zákl. přenesená",J137,0) -> 0 | BH137: =IF(N137="sníž. přenesená",J137,0) -> 0 | BI137: =IF(N137="nulová",J137,0) -> 0 | BJ137: 1 | BK137: =ROUND(I137*H137,2) -> 0 | BL137: 1 | BM137: 1728761682
D138: PP | F138: Montáž zámku výměnového jednoduchého - úprava štěrkového lože, rozebrání zámku, uvolnění závěrného háku, montáž ochranné skříňky a kostry zámku, regulace závěrného háku, přetypování a sestavení zámku, nasazení krytu a jeho zajištění, oštítkování klíčů a kontrola činnosti | AT138: PP | AU138: 0
C139: 6 | D139: K | E139: 7590415416 | F139: Montáž tabule na zavěšování klíčů | G139: kus | H139: 1 | J139: =ROUND(I139*H139,2) -> 0 | K139: Sborník UOŽI 01 2020 | N139: základní | P139: =O139*H139 -> 0 | Q139: 0 | R139: =Q139*H139 -> 0 | S139: 0 | T139: =S139*H139 -> 0 | AR139: 1 | AT139: K | AU139: 0 | AY139: ROZPOCET | BE139: =IF(N139="základní",J139,0) -> 0 | BF139: =IF(N139="snížená",J139,0) -> 0 | BG139: =IF(N139="zákl. přenesená",J139,0) -> 0 | BH139: =IF(N139="sníž. přenesená",J139,0) -> 0 | BI139: =IF(N139="nulová",J139,0) -> 0 | BJ139: 1 | BK139: =ROUND(I139*H139,2) -> 0 | BL139: 1 | BM139: 1119443223
D140: PP | F140: Montáž tabule na zavěšování klíčů | AT140: PP | AU140: 0
C141: 7 | D141: K | E141: 7590417416 | F141: Demontáž tabule na zavěšování klíčů | G141: kus | H141: 1 | J141: =ROUND(I141*H141,2) -> 0 | K141: Sborník UOŽI 01 2020 | N141: základní | P141: =O141*H141 -> 0 | Q141: 0 | R141: =Q141*H141 -> 0 | S141: 0 | T141: =S141*H141 -> 0 | AR141: 1 | AT141: K | AU141: 0 | AY141: ROZPOCET | BE141: =IF(N141="základní",J141,0) -> 0 | BF141: =IF(N141="snížená",J141,0) -> 0 | BG141: =IF(N141="zákl. přenesená",J141,0) -> 0 | BH141: =IF(N141="sníž. přenesená",J141,0) -> 0 | BI141: =IF(N141="nulová",J141,0) -> 0 | BJ141: 1 | BK141: =ROUND(I141*H141,2) -> 0 | BL141: 1 | BM141: -200354490
D142: PP | F142: Demontáž tabule na zavěšování klíčů | AT142: PP | AU142: 0
C143: 8 | D143: K | E143: 7590525231 | F143: Montáž kabelu návěstního volně uloženého s jádrem 1 mm Cu TCEKEZE, TCEKFE, TCEKPFLEY, TCEKPFLEZE do 16 P | G143: m | H143: 650 | J143: =ROUND(I143*H143,2) -> 0 | K143: Sborník UOŽI 01 2020 | N143: základní | P143: =O143*H143 -> 0 | Q143: 0 | R143: =Q143*H143 -> 0 | S143: 0 | T143: =S143*H143 -> 0 | AR143: 1 | AT143: K | AU143: 0 | AY143: ROZPOCET | BE143: =IF(N143="základní",J143,0) -> 0 | BF143: =IF(N143="snížená",J143,0) -> 0 | BG143: =IF(N143="zákl. přenesená",J143,0) -> 0 | BH143: =IF(N143="sníž. přenesená",J143,0) -> 0 | BI143: =IF(N143="nulová",J143,0) -> 0 | BJ143: 1 | BK143: =ROUND(I143*H143,2) -> 0 | BL143: 1 | BM143: 422584509
D144: PP | F144: Montáž kabelu návěstního volně uloženého s jádrem 1 mm Cu TCEKEZE, TCEKFE, TCEKPFLEY, TCEKPFLEZE do 16 P - příprava kabelového bubnu a přistavení na místo tažení, odvinutí, naměření, odřezání a uložení kabelu do kabelového lože nebo žlabu, protažení překážkami, včetně přípravných a závěrečných prací, přeměření izolačního stavu kabelu, uzavření konců kabelu, přemístění kabelového bubnu | AT144: PP | AU144: 0
C145: 19 | D145: K | E145: 7590525232 | F145: Montáž kabelu návěstního volně uloženého s jádrem 1 mm Cu TCEKEZE, TCEKFE, TCEKPFLEY, TCEKPFLEZE do 30 P | G145: m | H145: 420 | J145: =ROUND(I145*H145,2) -> 0 | K145: Sborník UOŽI 01 2020 | N145: základní | P145: =O145*H145 -> 0 | Q145: 0 | R145: =Q145*H145 -> 0 | S145: 0 | T145: =S145*H145 -> 0 | AR145: 1 | AT145: K | AU145: 0 | AY145: ROZPOCET | BE145: =IF(N145="základní",J145,0) -> 0 | BF145: =IF(N145="snížená",J145,0) -> 0 | BG145: =IF(N145="zákl. přenesená",J145,0) -> 0 | BH145: =IF(N145="sníž. přenesená",J145,0) -> 0 | BI145: =IF(N145="nulová",J145,0) -> 0 | BJ145: 1 | BK145: =ROUND(I145*H145,2) -> 0 | BL145: 1 | BM145: 259293044
D146: PP | F146: Montáž kabelu návěstního volně uloženého s jádrem 1 mm Cu TCEKEZE, TCEKFE, TCEKPFLEY, TCEKPFLEZE do 30 P - příprava kabelového bubnu a přistavení na místo tažení, odvinutí, naměření, odřezání a uložení kabelu do kabelového lože nebo žlabu, protažení překážkami, včetně přípravných a závěrečných prací, přeměření izolačního stavu kabelu, uzavření konců kabelu, přemístění kabelového bubnu | AT146: PP | AU146: 0
C147: 20 | D147: K | E147: 7590525230 | F147: Montáž kabelu návěstního volně uloženého s jádrem 1 mm Cu TCEKEZE, TCEKFE, TCEKPFLEY, TCEKPFLEZE do 7 P | G147: m | H147: 1080 | J147: =ROUND(I147*H147,2) -> 0 | K147: Sborník UOŽI 01 2020 | N147: základní | P147: =O147*H147 -> 0 | Q147: 0 | R147: =Q147*H147 -> 0 | S147: 0 | T147: =S147*H147 -> 0 | AR147: 1 | AT147: K | AU147: 0 | AY147: ROZPOCET | BE147: =IF(N147="základní",J147,0) -> 0 | BF147: =IF(N147="snížená",J147,0) -> 0 | BG147: =IF(N147="zákl. přenesená",J147,0) -> 0 | BH147: =IF(N147="sníž. přenesená",J147,0) -> 0 | BI147: =IF(N147="nulová",J147,0) -> 0 | BJ147: 1 | BK147: =ROUND(I147*H147,2) -> 0 | BL147: 1 | BM147: -1390844442
D148: PP | F148: Montáž kabelu návěstního volně uloženého s jádrem 1 mm Cu TCEKEZE, TCEKFE, TCEKPFLEY, TCEKPFLEZE do 7 P - příprava kabelového bubnu a přistavení na místo tažení, odvinutí, naměření, odřezání a uložení kabelu do kabelového lože nebo žlabu, protažení překážkami, včetně přípravných a závěrečných prací, přeměření izolačního stavu kabelu, uzavření konců kabelu, přemístění kabelového bubnu | AT148: PP | AU148: 0
C149: 9 | D149: K | E149: 7590525055 | F149: Příprava kabelového bubnu a uzavření konců kabelu do 100 žil | G149: kus | H149: 5 | J149: =ROUND(I149*H149,2) -> 0 | K149: Sborník UOŽI 01 2020 | N149: základní | P149: =O149*H149 -> 0 | Q149: 0 | R149: =Q149*H149 -> 0 | S149: 0 | T149: =S149*H149 -> 0 | AR149: 1 | AT149: K | AU149: 0 | AY149: ROZPOCET | BE149: =IF(N149="základní",J149,0) -> 0 | BF149: =IF(N149="snížená",J149,0) -> 0 | BG149: =IF(N149="zákl. přenesená",J149,0) -> 0 | BH149: =IF(N149="sníž. přenesená",J149,0) -> 0 | BI149: =IF(N149="nulová",J149,0) -> 0 | BJ149: 1 | BK149: =ROUND(I149*H149,2) -> 0 | BL149: 1 | BM149: -1712454135
D150: PP | F150: Příprava kabelového bubnu a uzavření konců kabelu do 100 žil - příprava a přistavení kabelového bubnu na místo tažení nebo na místo odvíjení kabelu, naměření délky, odříznutí, odpancéřování, úprava a uzavření dvou konců kabelu. Položku je možné použít pouze pro akce, které nejsou souvislým pokračováním prací spojených s ukládáním nebo zatahováním kabelu a pro přetáčení kabelu z bubnu na buben. V položkách pro kladení a zatahování kabelů jsou již obsaženy v přiměřené výši náklady na manipulaci s kabelovým bubnem a na uzavírání kabelových konců | AT150: PP | AU150: 0
C151: 10 | D151: K | E151: 7590525128 | F151: Montáž kabelu metalického zatažení do chráničky přes 6 do 9 kg/m | G151: m | H151: 50 | J151: =ROUND(I151*H151,2) -> 0 | K151: Sborník UOŽI 01 2020 | N151: základní | P151: =O151*H151 -> 0 | Q151: 0 | R151: =Q151*H151 -> 0 | S151: 0 | T151: =S151*H151 -> 0 | AR151: 1 | AT151: K | AU151: 0 | AY151: ROZPOCET | BE151: =IF(N151="základní",J151,0) -> 0 | BF151: =IF(N151="snížená",J151,0) -> 0 | BG151: =IF(N151="zákl. přenesená",J151,0) -> 0 | BH151: =IF(N151="sníž. přenesená",J151,0) -> 0 | BI151: =IF(N151="nulová",J151,0) -> 0 | BJ151: 1 | BK151: =ROUND(I151*H151,2) -> 0 | BL151: 1 | BM151: -648086675
D152: PP | F152: Montáž kabelu metalického zatažení do chráničky přes 6 do 9 kg/m | AT152: PP | AU152: 0
C153: 11 | D153: K | E153: 7590525560 | F153: Montáž smršťovací spojky Raychem bez pancíře na dvouplášťovém celoplastovém kabelu do 32 žil | G153: kus | H153: 35 | J153: =ROUND(I153*H153,2) -> 0 | K153: Sborník UOŽI 01 2020 | N153: základní | P153: =O153*H153 -> 0 | Q153: 0 | R153: =Q153*H153 -> 0 | S153: 0 | T153: =S153*H153 -> 0 | AR153: 1 | AT153: K | AU153: 0 | AY153: ROZPOCET | BE153: =IF(N153="základní",J153,0) -> 0 | BF153: =IF(N153="snížená",J153,0) -> 0 | BG153: =IF(N153="zákl. přenesená",J153,0) -> 0 | BH153: =IF(N153="sníž. přenesená",J153,0) -> 0 | BI153: =IF(N153="nulová",J153,0) -> 0 | BJ153: 1 | BK153: =ROUND(I153*H153,2) -> 0 | BL153: 1 | BM153: 1646566133
D154: PP | F154: Montáž smršťovací spojky Raychem bez pancíře na dvouplášťovém celoplastovém kabelu do 32 žil - nasazení manžety, spojení žil, převlečení manžety, nahřátí pro její tepelné smrštění, uložení spojky v jámě | AT154: PP | AU154: 0
C155: 21 | D155: K | E155: 7593505150 | F155: Pokládka výstražné fólie do výkopu | G155: m | H155: 600 | J155: =ROUND(I155*H155,2) -> 0 | K155: Sborník UOŽI 01 2020 | N155: základní | P155: =O155*H155 -> 0 | Q155: 0 | R155: =Q155*H155 -> 0 | S155: 0 | T155: =S155*H155 -> 0 | AR155: 1 | AT155: K | AU155: 0 | AY155: ROZPOCET | BE155: =IF(N155="základní",J155,0) -> 0 | BF155: =IF(N155="snížená",J155,0) -> 0 | BG155: =IF(N155="zákl. přenesená",J155,0) -> 0 | BH155: =IF(N155="sníž. přenesená",J155,0) -> 0 | BI155: =IF(N155="nulová",J155,0) -> 0 | BJ155: 1 | BK155: =ROUND(I155*H155,2) -> 0 | BL155: 1 | BM155: 1215930506
D156: PP | F156: Pokládka výstražné fólie do výkopu | AT156: PP | AU156: 0
C157: 22 | D157: M | E157: 7593500595 | F157: Trasy kabelového vedení Kabelové krycí desky a pásy Fólie výstražná modrá š. 20 cm | G157: m | H157: 600 | J157: =ROUND(I157*H157,2) -> 0 | K157: Sborník UOŽI 01 2020 | N157: základní | P157: =O157*H157 -> 0 | Q157: 0 | R157: =Q157*H157 -> 0 | S157: 0 | T157: =S157*H157 -> 0 | AR157: 128 | AT157: M | AU157: 0 | AY157: ROZPOCET | BE157: =IF(N157="základní",J157,0) -> 0 | BF157: =IF(N157="snížená",J157,0) -> 0 | BG157: =IF(N157="zákl. přenesená",J157,0) -> 0 | BH157: =IF(N157="sníž. přenesená",J157,0) -> 0 | BI157: =IF(N157="nulová",J157,0) -> 0 | BJ157: 1 | BK157: =ROUND(I157*H157,2) -> 0 | BL157: 128 | BM157: -553262634
D158: PP | F158: Trasy kabelového vedení Kabelové krycí desky a pásy Fólie výstražná modrá š. 20 cm | AT158: PP | AU158: 0
C159: 12 | D159: M | E159: 7590541409 | F159: Slaboproudé rozvody, kabely pro přívod a vnitřní instalaci Spojky metalických kabelů a příslušenství Teplem smrštitelná zesílená spojka pro netlakované kabely XAGA 500-100/25-500/EY | G159: kus | H159: 35 | J159: =ROUND(I159*H159,2) -> 0 | K159: Sborník UOŽI 01 2020 | N159: základní | P159: =O159*H159 -> 0 | Q159: 0 | R159: =Q159*H159 -> 0 | S159: 0 | T159: =S159*H159 -> 0 | AR159: 128 | AT159: M | AU159: 0 | AY159: ROZPOCET | BE159: =IF(N159="základní",J159,0) -> 0 | BF159: =IF(N159="snížená",J159,0) -> 0 | BG159: =IF(N159="zákl. přenesená",J159,0) -> 0 | BH159: =IF(N159="sníž. přenesená",J159,0) -> 0 | BI159: =IF(N159="nulová",J159,0) -> 0 | BJ159: 1 | BK159: =ROUND(I159*H159,2) -> 0 | BL159: 128 | BM159: -1284198172
D160: PP | F160: Slaboproudé rozvody, kabely pro přívod a vnitřní instalaci Spojky metalických kabelů a příslušenství Teplem smrštitelná zesílená spojka pro netlakované kabely XAGA 500-100/25-500/EY | AT160: PP | AU160: 0
C161: 13 | D161: K | E161: 7598095060 | F161: Přezkoušení tabule na zavěšování klíčů | G161: kus | H161: 1 | J161: =ROUND(I161*H161,2) -> 0 | K161: Sborník UOŽI 01 2020 | N161: základní | P161: =O161*H161 -> 0 | Q161: 0 | R161: =Q161*H161 -> 0 | S161: 0 | T161: =S161*H161 -> 0 | AR161: 1 | AT161: K | AU161: 0 | AY161: ROZPOCET | BE161: =IF(N161="základní",J161,0) -> 0 | BF161: =IF(N161="snížená",J161,0) -> 0 | BG161: =IF(N161="zákl. přenesená",J161,0) -> 0 | BH161: =IF(N161="sníž. přenesená",J161,0) -> 0 | BI161: =IF(N161="nulová",J161,0) -> 0 | BJ161: 1 | BK161: =ROUND(I161*H161,2) -> 0 | BL161: 1 | BM161: -760405811
D162: PP | F162: Přezkoušení tabule na zavěšování klíčů - přezkoušení činnosti podle závěrové tabulky, uzavření a zaplombování | AT162: PP | AU162: 0
C163: 14 | D163: K | E163: 7598015185 | F163: Jednosměrné měření kabelu místního | G163: pár | H163: 120 | J163: =ROUND(I163*H163,2) -> 0 | K163: Sborník UOŽI 01 2020 | N163: základní | P163: =O163*H163 -> 0 | Q163: 0 | R163: =Q163*H163 -> 0 | S163: 0 | T163: =S163*H163 -> 0 | AR163: 1 | AT163: K | AU163: 0 | AY163: ROZPOCET | BE163: =IF(N163="základní",J163,0) -> 0 | BF163: =IF(N163="snížená",J163,0) -> 0 | BG163: =IF(N163="zákl. přenesená",J163,0) -> 0 | BH163: =IF(N163="sníž. přenesená",J163,0) -> 0 | BI163: =IF(N163="nulová",J163,0) -> 0 | BJ163: 1 | BK163: =ROUND(I163*H163,2) -> 0 | BL163: 1 | BM163: 1770503162
D164: PP | F164: Jednosměrné měření kabelu místního | AT164: PP | AU164: 0
...

Sheet 01.3 - Oprava kabelizace,...
AT2: {2b1e3fc4-291e-41f2-940b-15b635521926}
AT3: 2
D4: KRYCÍ LIST SOUPISU PRACÍ | M4: v --- níže se nacházejí doplnkové a pomocné údaje k sestavám --- v | AT4: False
D6: Stavba:
E7: ='Rekapitulace stavby'!K6 -> Oprava SZZ, kolejí a výhybek v žst. Pocínovice
D8: Objekt:
E9: 01 - Oprava sdělovacího a zabezpečovacího zařízení žst. Pocínovice
D10: Soupis:
E11: 01.3 - Oprava kabelizace, zemní práce
D13: KSO: | I13: CC-CZ:
D14: Místo: | F14: Pocínovice | I14: Datum: | J14: ='Rekapitulace stavby'!AN8 -> 21. 9. 2020
D16: Zadavatel: | I16: IČ:
E17: Správa železnic, státní organizace | I17: DIČ:
D19: Uchazeč: | I19: IČ: | J19: ='Rekapitulace stavby'!AN13 -> Vyplň údaj
E20: ='Rekapitulace stavby'!E14 -> Vyplň údaj | I20: DIČ: | J20: ='Rekapitulace stavby'!AN14 -> Vyplň údaj
D22: Projektant: | I22: IČ: | J22: =IF('Rekapitulace stavby'!AN16="","",'Rekapitulace stavby'!AN16)
E23: =IF('Rekapitulace stavby'!E17="","",'Rekapitulace stavby'!E17) | I23: DIČ: | J23: =IF('Rekapitulace stavby'!AN17="","",'Rekapitulace stavby'!AN17)
D25: Zpracovatel: | I25: IČ: | J25: =IF('Rekapitulace stavby'!AN19="","",'Rekapitulace stavby'!AN19)
E26: =IF('Rekapitulace stavby'!E20="","",'Rekapitulace stavby'!E20) | I26: DIČ: | J26: =IF('Rekapitulace stavby'!AN20="","",'Rekapitulace stavby'!AN20)
D28: Poznámka:
D32: Cena bez DPH | J32: =ROUND(J121, 2) -> 0
F34: Základ daně | I34: Sazba daně | J34: Výše daně
D35: DPH | E35: základní | F35: =ROUND((SUM(BE121:BE156)), 2) -> 0 | I35: 0.21 | J35: =ROUND(((SUM(BE121:BE156))*I35), 2) -> 0
E36: snížená | F36: =ROUND((SUM(BF121:BF156)), 2) -> 0 | I36: 0.15 | J36: =ROUND(((SUM(BF121:BF156))*I36), 2) -> 0
E37: zákl. přenesená | F37: =ROUND((SUM(BG121:BG156)), 2) -> 0 | I37: 0.21 | J37: =0 -> 0
E38: sníž. přenesená | F38: =ROUND((SUM(BH121:BH156)), 2) -> 0 | I38: 0.15 | J38: =0 -> 0
E39: nulová | F39: =ROUND((SUM(BI121:BI156)), 2) -> 0 | I39: 0 | J39: =0 -> 0
D41: Cena s DPH | G41: v | H41: CZK | J41: =SUM(J32:J39) -> 0
D50: Projektant | G50: Zpracovatel
D61: Datum a podpis: | F61: Razítko | G61: Datum a podpis: | J61: Razítko
D65: Objednavatel | G65: Uchazeč
D76: Datum a podpis: | F76: Razítko | G76: Datum a podpis: | J76: Razítko
C82: REKAPITULACE ČLENĚNÍ SOUPISU PRACÍ
C84: Stavba:
E85: =E7 -> Oprava SZZ, kolejí a výhybek v žst. Pocínovice
C86: Objekt:
E87: 01 - Oprava sdělovacího a zabezpečovacího zařízení žst. Pocínovice
C88: Soupis:
E89: =E11 -> 01.3 - Oprava kabelizace, zemní práce
C91: Místo: | F91: =F14 -> Pocínovice | I91: Datum: | J91: =IF(J14="","",J14) -> 21. 9. 2020
C93: Zadavatel: | F93: =E17 -> Správa železnic, státní organizace | I93: Projektant: | J93: =E23
C94: Uchazeč: | F94: =IF(E20="","",E20) -> Vyplň údaj | I94: Zpracovatel: | J94: =E26
C96: Kód dílu - Popis | J96: Cena celkem [CZK]
C98: Náklady ze soupisu prací | J98: =J121 -> 0 | AU98: -1
D99: 1 - Oprava kabelizace, zemní práce | J99: =J122 -> 0
C106: SOUPIS PRACÍ
C108: Stavba:
E109: =E7 -> Oprava SZZ, kolejí a výhybek v žst. Pocínovice
C110: Objekt:
E111: 01 - Oprava sdělovacího a zabezpečovacího zařízení žst. Pocínovice
C112: Soupis:
E113: =E11 -> 01.3 - Oprava kabelizace, zemní práce
C115: Místo: | F115: =F14 -> Pocínovice | I115: Datum: | J115: =IF(J14="","",J14) -> 21. 9. 2020
C117: Zadavatel: | F117: =E17 -> Správa železnic, státní organizace | I117: Projektant: | J117: =E23
C118: Uchazeč: | F118: =IF(E20="","",E20) -> Vyplň údaj | I118: Zpracovatel: | J118: =E26
C120: PČ | D120: Typ | E120: Kód | F120: Popis | G120: MJ | H120: Množství | I120: J.cena [CZK] | J120: Cena celkem [CZK] | K120: Cenová soustava | N120: DPH | O120: J. Nh [h] | P120: Nh celkem [h] | Q120: J. hmotnost [t] | R120: Hmotnost celkem [t] | S120: J. suť [t] | T120: Suť Celkem [t]
C121: Náklady soupisu celkem | J121: =BK121 -> 0 | P121: =P122 -> 0 | R121: =R122 -> 0.22952 | T121: =T122 -> 0 | AT121: D | AU121: -1 | BK121: =BK122 -> 0
D122: D | E122: 1 | F122: Oprava kabelizace, zemní práce | J122: =BK122 -> 0 | P122: =SUM(P123:P156) -> 0 | R122: =SUM(R123:R156) -> 0.22952 | T122: =SUM(T123:T156) -> 0 | AR122: 1 | AT122: D | AU122: 0 | AY122: ROZPOCET | BK122: =SUM(BK123:BK156) -> 0
C123: 1 | D123: K | E123: 132252501 | F123: Hloubení rýh š do 800 mm vedle kolejí strojně v hornině třídy těžitelnosti I, skupiny 3 | G123: m3 | H123: 170 | J123: =ROUND(I123*H123,2) -> 0 | K123: CS ÚRS 2020 02 | N123: základní | P123: =O123*H123 -> 0 | Q123: 0 | R123: =Q123*H123 -> 0 | S123: 0 | T123: =S123*H123 -> 0 | AR123: 1 | AT123: K | AU123: 1 | AY123: ROZPOCET | BE123: =IF(N123="základní",J123,0) -> 0 | BF123: =IF(N123="snížená",J123,0) -> 0 | BG123: =IF(N123="zákl. přenesená",J123,0) -> 0 | BH123: =IF(N123="sníž. přenesená",J123,0) -> 0 | BI123: =IF(N123="nulová",J123,0) -> 0 | BJ123: 1 | BK123: =ROUND(I123*H123,2) -> 0 | BL123: 1 | BM123: 785997147
D124: PP | F124: Hloubení rýh vedle kolejí šířky do 800 mm strojně zapažených i nezapažených, hloubky do 1,5 m, pro jakýkoliv objem výkopu v hornině třídy těžitelnosti I skupiny 3 | AT124: PP | AU124: 1
C125: 2 | D125: K | E125: 132212611 | F125: Hloubení rýh š do 800 mm vedle kolejí ručně přes 2 m3 v hornině třídy těžitelnosti I, skupiny 3 | G125: m3 | H125: 30 | J125: =ROUND(I125*H125,2) -> 0 | K125: CS ÚRS 2020 02 | N125: základní | P125: =O125*H125 -> 0 | Q125: 0 | R125: =Q125*H125 -> 0 | S125: 0 | T125: =S125*H125 -> 0 | AR125: 1 | AT125: K | AU125: 1 | AY125: ROZPOCET | BE125: =IF(N125="základní",J125,0) -> 0 | BF125: =IF(N125="snížená",J125,0) -> 0 | BG125: =IF(N125="zákl. přenesená",J125,0) -> 0 | BH125: =IF(N125="sníž. přenesená",J125,0) -> 0 | BI125: =IF(N125="nulová",J125,0) -> 0 | BJ125: 1 | BK125: =ROUND(I125*H125,2) -> 0 | BL125: 1 | BM125: 494149862
D126: PP | F126: Hloubení rýh vedle kolejí šířky do 800 mm ručně zapažených i nezapažených, hloubky do 1,5 m objemu přes 2 m3 v hornině třídy těžitelnosti I skupiny 3 | AT126: PP | AU126: 1
C127: 3 | D127: K | E127: 132312511 | F127: Hloubení rýh š do 800 mm pod kolejí přes 2 m3 v hornině třídy těžitelnosti II, skupiny 4 ručně | G127: m3 | H127: 5 | J127: =ROUND(I127*H127,2) -> 0 | K127: CS ÚRS 2020 02 | N127: základní | P127: =O127*H127 -> 0 | Q127: 0 | R127: =Q127*H127 -> 0 | S127: 0 | T127: =S127*H127 -> 0 | AR127: 1 | AT127: K | AU127: 1 | AY127: ROZPOCET | BE127: =IF(N127="základní",J127,0) -> 0 | BF127: =IF(N127="snížená",J127,0) -> 0 | BG127: =IF(N127="zákl. přenesená",J127,0) -> 0 | BH127: =IF(N127="sníž. přenesená",J127,0) -> 0 | BI127: =IF(N127="nulová",J127,0) -> 0 | BJ127: 1 | BK127: =ROUND(I127*H127,2) -> 0 | BL127: 1 | BM127: -876581586
D128: PP | F128: Hloubení rýh pod kolejí šířky do 800 mm ručně zapažených i nezapažených, hloubky do 1,5 m objemu přes 2 m3 v hornině třídy těžitelnosti II skupiny 4 | AT128: PP | AU128: 1
C129: 16 | D129: K | E129: 131313102 | F129: Hloubení jam v nesoudržných horninách třídy těžitelnosti II, skupiny 4 ručně | G129: m3 | H129: 20 | J129: =ROUND(I129*H129,2) -> 0 | K129: CS ÚRS 2020 02 | N129: základní | P129: =O129*H129 -> 0 | Q129: 0 | R129: =Q129*H129 -> 0 | S129: 0 | T129: =S129*H129 -> 0 | AR129: 1 | AT129: K | AU129: 1 | AY129: ROZPOCET | BE129: =IF(N129="základní",J129,0) -> 0 | BF129: =IF(N129="snížená",J129,0) -> 0 | BG129: =IF(N129="zákl. přenesená",J129,0) -> 0 | BH129: =IF(N129="sníž. přenesená",J129,0) -> 0 | BI129: =IF(N129="nulová",J129,0) -> 0 | BJ129: 1 | BK129: =ROUND(I129*H129,2) -> 0 | BL129: 1 | BM129: 1751009687
D130: PP | F130: Hloubení jam ručně zapažených i nezapažených s urovnáním dna do předepsaného profilu a spádu v hornině třídy těžitelnosti II skupiny 4 nesoudržných | AT130: PP | AU130: 1
C131: 17 | D131: K | E131: 131151102 | F131: Hloubení jam nezapažených v hornině třídy těžitelnosti I, skupiny 1 a 2 objem do 50 m3 strojně | G131: m3 | H131: 30 | J131: =ROUND(I131*H131,2) -> 0 | K131: CS ÚRS 2020 02 | N131: základní | P131: =O131*H131 -> 0 | Q131: 0 | R131: =Q131*H131 -> 0 | S131: 0 | T131: =S131*H131 -> 0 | AR131: 1 | AT131: K | AU131: 1 | AY131: ROZPOCET | BE131: =IF(N131="základní",J131,0) -> 0 | BF131: =IF(N131="snížená",J131,0) -> 0 | BG131: =IF(N131="zákl. přenesená",J131,0) -> 0 | BH131: =IF(N131="sníž. přenesená",J131,0) -> 0 | BI131: =IF(N131="nulová",J131,0) -> 0 | BJ131: 1 | BK131: =ROUND(I131*H131,2) -> 0 | BL131: 1 | BM131: -1717462648
D132: PP | F132: Hloubení nezapažených jam a zářezů strojně s urovnáním dna do předepsaného profilu a spádu v hornině třídy těžitelnosti I skupiny 1 a 2 přes 20 do 50 m3 | AT132: PP | AU132: 1
C133: 4 | D133: K | E133: 174151101 | F133: Zásyp jam, šachet rýh nebo kolem objektů sypaninou se zhutněním | G133: m3 | H133: 255 | J133: =ROUND(I133*H133,2) -> 0 | K133: CS ÚRS 2020 02 | N133: základní | P133: =O133*H133 -> 0 | Q133: 0 | R133: =Q133*H133 -> 0 | S133: 0 | T133: =S133*H133 -> 0 | AR133: 1 | AT133: K | AU133: 1 | AY133: ROZPOCET | BE133: =IF(N133="základní",J133,0) -> 0 | BF133: =IF(N133="snížená",J133,0) -> 0 | BG133: =IF(N133="zákl. přenesená",J133,0) -> 0 | BH133: =IF(N133="sníž. přenesená",J133,0) -> 0 | BI133: =IF(N133="nulová",J133,0) -> 0 | BJ133: 1 | BK133: =ROUND(I133*H133,2) -> 0 | BL133: 1 | BM133: 804829698
D134: PP | F134: Zásyp sypaninou z jakékoliv horniny strojně s uložením výkopku ve vrstvách se zhutněním jam, šachet, rýh nebo kolem objektů v těchto vykopávkách | AT134: PP | AU134: 1
C135: 10 | D135: K | E135: 181351003 | F135: Rozprostření ornice tl vrstvy do 200 mm pl do 100 m2 v rovině nebo ve svahu do 1:5 strojně | G135: m2 | H135: 300 | J135: =ROUND(I135*H135,2) -> 0 | K135: CS ÚRS 2020 02 | N135: základní | P135: =O135*H135 -> 0 | Q135: 0 | R135: =Q135*H135 -> 0 | S135: 0 | T135: =S135*H135 -> 0 | AR135: 1 | AT135: K | AU135: 1 | AY135: ROZPOCET | BE135: =IF(N135="základní",J135,0) -> 0 | BF135: =IF(N135="snížená",J135,0) -> 0 | BG135: =IF(N135="zákl. přenesená",J135,0) -> 0 | BH135: =IF(N135="sníž. přenesená",J135,0) -> 0 | BI135: =IF(N135="nulová",J135,0) -> 0 | BJ135: 1 | BK135: =ROUND(I135*H135,2) -> 0 | BL135: 1 | BM135: -148492253
D136: PP | F136: Rozprostření a urovnání ornice v rovině nebo ve svahu sklonu do 1:5 strojně při souvislé ploše do 100 m2, tl. vrstvy do 200 mm | AT136: PP | AU136: 1
C137: 14 | D137: K | E137: 460620013 | F137: Provizorní úprava terénu se zhutněním v hornině tř I skupiny 3 | G137: m2 | H137: 300 | J137: =ROUND(I137*H137,2) -> 0 | K137: CS ÚRS 2020 02 | N137: základní | P137: =O137*H137 -> 0 | Q137: 0 | R137: =Q137*H137 -> 0 | S137: 0 | T137: =S137*H137 -> 0 | AR137: 1 | AT137: K | AU137: 1 | AY137: ROZPOCET | BE137: =IF(N137="základní",J137,0) -> 0 | BF137: =IF(N137="snížená",J137,0) -> 0 | BG137: =IF(N137="zákl. přenesená",J137,0) -> 0 | BH137: =IF(N137="sníž. přenesená",J137,0) -> 0 | BI137: =IF(N137="nulová",J137,0) -> 0 | BJ137: 1 | BK137: =ROUND(I137*H137,2) -> 0 | BL137: 1 | BM137: -584216369
D138: PP | F138: Úprava terénu provizorní úprava terénu včetně odkopání drobných nerovností a zásypu prohlubní se zhutněním, v hornině třídy těžitelnosti I skupiny 3 | AT138: PP | AU138: 1
C139: 11 | D139: K | E139: 220060341 | F139: Přeměření izolačního stavu a kontinuity kabelu úložného 10 žil | G139: kus | H139: 7 | J139: =ROUND(I139*H139,2) -> 0 | K139: CS ÚRS 2020 02 | N139: základní | P139: =O139*H139 -> 0 | Q139: 0 | R139: =Q139*H139 -> 0 | S139: 0 | T139: =S139*H139 -> 0 | AR139: 1 | AT139: K | AU139: 1 | AY139: ROZPOCET | BE139: =IF(N139="základní",J139,0) -> 0 | BF139: =IF(N139="snížená",J139,0) -> 0 | BG139: =IF(N139="zákl. přenesená",J139,0) -> 0 | BH139: =IF(N139="sníž. přenesená",J139,0) -> 0 | BI139: =IF(N139="nulová",J139,0) -> 0 | BJ139: 1 | BK139: =ROUND(I139*H139,2) -> 0 | BL139: 1 | BM139: -735257082
D140: PP | F140: Přeměření izolačního stavu a kontinuity žil kabelu včetně úpravy dvou konců kabelu ke zkoušení, přezkoušení elektrických hodnot kabelu, úpravy a uzavření dvou konců konců kabelu úložného 10 žil | AT140: PP | AU140: 1
C141: 12 | D141: K | E141: 220060343 | F141: Přeměření izolačního stavu a kontinuity kabelu úložného 30 žil | G141: kus | H141: 12 | J141: =ROUND(I141*H141,2) -> 0 | K141: CS ÚRS 2020 02 | N141: základní | P141: =O141*H141 -> 0 | Q141: 0 | R141: =Q141*H141 -> 0 | S141: 0 | T141: =S141*H141 -> 0 | AR141: 1 | AT141: K | AU141: 1 | AY141: ROZPOCET | BE141: =IF(N141="základní",J141,0) -> 0 | BF141: =IF(N141="snížená",J141,0) -> 0 | BG141: =IF(N141="zákl. přenesená",J141,0) -> 0 | BH141: =IF(N141="sníž. přenesená",J141,0) -> 0 | BI141: =IF(N141="nulová",J141,0) -> 0 | BJ141: 1 | BK141: =ROUND(I141*H141,2) -> 0 | BL141: 1 | BM141: 1043169269
D142: PP | F142: Přeměření izolačního stavu a kontinuity žil kabelu včetně úpravy dvou konců kabelu ke zkoušení, přezkoušení elektrických hodnot kabelu, úpravy a uzavření dvou konců konců kabelu úložného 30 žil | AT142: PP | AU142: 1
C143: 13 | D143: K | E143: 220060345 | F143: Přeměření izolačního stavu a kontinuity kabelu úložného 60 žil | G143: kus | H143: 3 | J143: =ROUND(I143*H143,2) -> 0 | K143: CS ÚRS 2020 02 | N143: základní | P143: =O143*H143 -> 0 | Q143: 0 | R143: =Q143*H143 -> 0 | S143: 0 | T143: =S143*H143 -> 0 | AR143: 1 | AT143: K | AU143: 1 | AY143: ROZPOCET | BE143: =IF(N143="základní",J143,0) -> 0 | BF143: =IF(N143="snížená",J143,0) -> 0 | BG143: =IF(N143="zákl. přenesená",J143,0) -> 0 | BH143: =IF(N143="sníž. přenesená",J143,0) -> 0 | BI143: =IF(N143="nulová",J143,0) -> 0 | BJ143: 1 | BK143: =ROUND(I143*H143,2) -> 0 | BL143: 1 | BM143: -1264214122
D144: PP | F144: Přeměření izolačního stavu a kontinuity žil kabelu včetně úpravy dvou konců kabelu ke zkoušení, přezkoušení elektrických hodnot kabelu, úpravy a uzavření dvou konců konců kabelu úložného 60 žil | AT144: PP | AU144: 1
C145: 6 | D145: K | E145: HZS4222 | F145: Hodinová zúčtovací sazba geodet specialista | G145: hod | H145: 40 | J145: =ROUND(I145*H145,2) -> 0 | K145: CS ÚRS 2020 02 | N145: základní | P145: =O145*H145 -> 0 | Q145: 0 | R145: =Q145*H145 -> 0 | S145: 0 | T145: =S145*H145 -> 0 | AR145: 1 | AT145: K | AU145: 1 | AY145: ROZPOCET | BE145: =IF(N145="základní",J145,0) -> 0 | BF145: =IF(N145="snížená",J145,0) -> 0 | BG145: =IF(N145="zákl. přenesená",J145,0) -> 0 | BH145: =IF(N145="sníž. přenesená",J145,0) -> 0 | BI145: =IF(N145="nulová",J145,0) -> 0 | BJ145: 1 | BK145: =ROUND(I145*H145,2) -> 0 | BL145: 1 | BM145: -564091945
D146: PP | F146: Hodinové zúčtovací sazby ostatních profesí revizní a kontrolní činnost geodet specialista | AT146: PP | AU146: 1
C147: 7 | D147: K | E147: 460010021 | F147: Vytyčení trasy vedení podzemního v obvodu železniční stanice | G147: km | H147: 0.8 | J147: =ROUND(I147*H147,2) -> 0 | K147: CS ÚRS 2020 02 | N147: základní | P147: =O147*H147 -> 0 | Q147: 0.0088 | R147: =Q147*H147 -> 0.00704 | S147: 0 | T147: =S147*H147 -> 0 | AR147: 1 | AT147: K | AU147: 1 | AY147: ROZPOCET | BE147: =IF(N147="základní",J147,0) -> 0 | BF147: =IF(N147="snížená",J147,0) -> 0 | BG147: =IF(N147="zákl. přenesená",J147,0) -> 0 | BH147: =IF(N147="sníž. přenesená",J147,0) -> 0 | BI147: =IF(N147="nulová",J147,0) -> 0 | BJ147: 1 | BK147: =ROUND(I147*H147,2) -> 0 | BL147: 1 | BM147: -961547003
D148: PP | F148: Vytyčení trasy vedení kabelového (podzemního) v obvodu železniční stanice | AT148: PP | AU148: 1
C149: 8 | D149: M | E149: 55283922 | F149: trubka ocelová bezešvá hladká jakost 11 353 127x8,0mm | G149: m | H149: 10 | J149: =ROUND(I149*H149,2) -> 0 | K149: CS ÚRS 2020 02 | N149: základní | P149: =O149*H149 -> 0 | Q149: 0.0219 | R149: =Q149*H149 -> 0.219 | S149: 0 | T149: =S149*H149 -> 0 | AR149: 128 | AT149: M | AU149: 1 | AY149: ROZPOCET | BE149: =IF(N149="základní",J149,0) -> 0 | BF149: =IF(N149="snížená",J149,0) -> 0 | BG149: =IF(N149="zákl. přenesená",J149,0) -> 0 | BH149: =IF(N149="sníž. přenesená",J149,0) -> 0 | BI149: =IF(N149="nulová",J149,0) -> 0 | BJ149: 1 | BK149: =ROUND(I149*H149,2) -> 0 | BL149: 128 | BM149: -794928068
D150: PP | F150: trubka ocelová bezešvá hladká jakost 11 353 127x8,0mm | AT150: PP | AU150: 1
D151: P | F151: Poznámka k položce:_x000D_ Stožár pro kamery | AT151: P | AU151: 1
C152: 9 | D152: K | E152: HZS2132 | F152: Hodinová zúčtovací sazba zámečník odborný | G152: hod | H152: 50 | J152: =ROUND(I152*H152,2) -> 0 | K152: CS ÚRS 2020 02 | N152: základní | P152: =O152*H152 -> 0 | Q152: 0 | R152: =Q152*H152 -> 0 | S152: 0 | T152: =S152*H152 -> 0 | AR152: 1 | AT152: K | AU152: 1 | AY152: ROZPOCET | BE152: =IF(N152="základní",J152,0) -> 0 | BF152: =IF(N152="snížená",J152,0) -> 0 | BG152: =IF(N152="zákl. přenesená",J152,0) -> 0 | BH152: =IF(N152="sníž. přenesená",J152,0) -> 0 | BI152: =IF(N152="nulová",J152,0) -> 0 | BJ152: 1 | BK152: =ROUND(I152*H152,2) -> 0 | BL152: 1 | BM152: 294650730
D153: PP | F153: Hodinové zúčtovací sazby profesí PSV provádění stavebních konstrukcí zámečník odborný | AT153: PP | AU153: 1
D154: P | F154: Poznámka k položce:_x000D_ Provedení montáže konzole pro kamery, úprava stožáru pro kamery a jeho montáž na určené místo. | AT154: P | AU154: 1
C155: 15 | D155: K | E155: 727111141 | F155: Prostup předizolovaného kovového potrubí D 18 mm stěnou tl 15 cm požární odolnost EI 180 | G155: kus | H155: 6 | J155: =ROUND(I155*H155,2) -> 0 | K155: CS ÚRS 2020 02 | N155: základní | P155: =O155*H155 -> 0 | Q155: 0.00058 | R155: =Q155*H155 -> 0.00348 | S155: 0 | T155: =S155*H155 -> 0 | AR155: 1 | AT155: K | AU155: 1 | AY155: ROZPOCET | BE155: =IF(N155="základní",J155,0) -> 0 | BF155: =IF(N155="snížená",J155,0) -> 0 | BG155: =IF(N155="zákl. přenesená",J155,0) -> 0 | BH155: =IF(N155="sníž. přenesená",J155,0) -> 0 | BI155: =IF(N155="nulová",J155,0) -> 0 | BJ155: 1 | BK155: =ROUND(I155*H155,2) -> 0 | BL155: 1 | BM155: -750939476
D156: PP | F156: Protipožární trubní ucpávky předizolované kovové potrubí prostup stěnou tloušťky 150 mm požární odolnost EI 180 D 18 | AT156: PP | AU156: 1

Sheet 01.4 - Materiál zadavatel...
AT2: {3bdaffb3-7043-4788-8997-ee0829f9a2c3}
AT3: 2
D4: KRYCÍ LIST SOUPISU PRACÍ | M4: v --- níže se nacházejí doplnkové a pomocné údaje k sestavám --- v | AT4: False
D6: Stavba:
E7: ='Rekapitulace stavby'!K6 -> Oprava SZZ, kolejí a výhybek v žst. Pocínovice
D8: Objekt:
E9: 01 - Oprava sdělovacího a zabezpečovacího zařízení žst. Pocínovice
D10: Soupis:
E11: 01.4 - Materiál zadavatele - NEOCEŇOVAT!
D13: KSO: | I13: CC-CZ:
D14: Místo: | F14: Pocínovice | I14: Datum: | J14: ='Rekapitulace stavby'!AN8 -> 21. 9. 2020
D16: Zadavatel: | I16: IČ:
E17: Správa železnic, státní organizace | I17: DIČ:
D19: Uchazeč: | I19: IČ: | J19: ='Rekapitulace stavby'!AN13 -> Vyplň údaj
E20: ='Rekapitulace stavby'!E14 -> Vyplň údaj | I20: DIČ: | J20: ='Rekapitulace stavby'!AN14 -> Vyplň údaj
D22: Projektant: | I22: IČ: | J22: =IF('Rekapitulace stavby'!AN16="","",'Rekapitulace stavby'!AN16)
E23: =IF('Rekapitulace stavby'!E17="","",'Rekapitulace stavby'!E17) | I23: DIČ: | J23: =IF('Rekapitulace stavby'!AN17="","",'Rekapitulace stavby'!AN17)
D25: Zpracovatel: | I25: IČ: | J25: =IF('Rekapitulace stavby'!AN19="","",'Rekapitulace stavby'!AN19)
E26: =IF('Rekapitulace stavby'!E20="","",'Rekapitulace stavby'!E20) | I26: DIČ: | J26: =IF('Rekapitulace stavby'!AN20="","",'Rekapitulace stavby'!AN20)
D28: Poznámka:
D32: Cena bez DPH | J32: =ROUND(J120, 2) -> 0
F34: Základ daně | I34: Sazba daně | J34: Výše daně
D35: DPH | E35: základní | F35: =ROUND((SUM(BE120:BE124)), 2) -> 0 | I35: 0.21 | J35: =ROUND(((SUM(BE120:BE124))*I35), 2) -> 0
E36: snížená | F36: =ROUND((SUM(BF120:BF124)), 2) -> 0 | I36: 0.15 | J36: =ROUND(((SUM(BF120:BF124))*I36), 2) -> 0
E37: zákl. přenesená | F37: =ROUND((SUM(BG120:BG124)), 2) -> 0 | I37: 0.21 | J37: =0 -> 0
E38: sníž. přenesená | F38: =ROUND((SUM(BH120:BH124)), 2) -> 0 | I38: 0.15 | J38: =0 -> 0
E39: nulová | F39: =ROUND((SUM(BI120:BI124)), 2) -> 0 | I39: 0 | J39: =0 -> 0
D41: Cena s DPH | G41: v | H41: CZK | J41: =SUM(J32:J39) -> 0
D50: Projektant | G50: Zpracovatel
D61: Datum a podpis: | F61: Razítko | G61: Datum a podpis: | J61: Razítko
D65: Objednavatel | G65: Uchazeč
D76: Datum a podpis: | F76: Razítko | G76: Datum a podpis: | J76: Razítko
C82: REKAPITULACE ČLENĚNÍ SOUPISU PRACÍ
C84: Stavba:
E85: =E7 -> Oprava SZZ, kolejí a výhybek v žst. Pocínovice
C86: Objekt:
E87: 01 - Oprava sdělovacího a zabezpečovacího zařízení žst. Pocínovice
C88: Soupis:
E89: =E11 -> 01.4 - Materiál zadavatele - NEOCEŇOVAT!
C91: Místo: | F91: =F14 -> Pocínovice | I91: Datum: | J91: =IF(J14="","",J14) -> 21. 9. 2020
C93: Zadavatel: | F93: =E17 -> Správa železnic, státní organizace | I93: Projektant: | J93: =E23
C94: Uchazeč: | F94: =IF(E20="","",E20) -> Vyplň údaj | I94: Zpracovatel: | J94: =E26
C96: Kód dílu - Popis | J96: Cena celkem [CZK]
C98: Náklady ze soupisu prací | J98: =J120 -> 0 | AU98: -1
C105: SOUPIS PRACÍ
C107: Stavba:
E108: =E7 -> Oprava SZZ, kolejí a výhybek v žst. Pocínovice
C109: Objekt:
E110: 01 - Oprava sdělovacího a zabezpečovacího zařízení žst. Pocínovice
C111: Soupis:
E112: =E11 -> 01.4 - Materiál zadavatele - NEOCEŇOVAT!
C114: Místo: | F114: =F14 -> Pocínovice | I114: Datum: | J114: =IF(J14="","",J14) -> 21. 9. 2020
C116: Zadavatel: | F116: =E17 -> Správa železnic, státní organizace | I116: Projektant: | J116: =E23
C117: Uchazeč: | F117: =IF(E20="","",E20) -> Vyplň údaj | I117: Zpracovatel: | J117: =E26
C119: PČ | D119: Typ | E119: Kód | F119: Popis | G119: MJ | H119: Množství | I119: J.cena [CZK] | J119: Cena celkem [CZK] | K119: Cenová soustava | N119: DPH | O119: J. Nh [h] | P119: Nh celkem [h] | Q119: J. hmotnost [t] | R119: Hmotnost celkem [t] | S119: J. suť [t] | T119: Suť Celkem [t]
C120: Náklady soupisu celkem | J120: =BK120 -> 0 | P120: =SUM(P121:P124) -> 0 | R120: =SUM(R121:R124) -> 0 | T120: =SUM(T121:T124) -> 0 | AT120: D | AU120: -1 | BK120: =SUM(BK121:BK124) -> 0
C121: 1 | D121: M | E121: 7590710290 | F121: Návěstidla světelná Návěstidlo trpasl. 2 sv. typ:3603 (CV012525062) | G121: kus | H121: 2 | I121: 0 | J121: =ROUND(I121*H121,2) -> 0 | K121: Sborník UOŽI 01 2020 | N121: základní | P121: =O121*H121 -> 0 | Q121: 0 | R121: =Q121*H121 -> 0 | S121: 0 | T121: =S121*H121 -> 0 | AR121: 2 | AT121: M | AU121: 0 | AY121: ROZPOCET | BE121: =IF(N121="základní",J121,0) -> 0 | BF121: =IF(N121="snížená",J121,0) -> 0 | BG121: =IF(N121="zákl. přenesená",J121,0) -> 0 | BH121: =IF(N121="sníž. přenesená",J121,0) -> 0 | BI121: =IF(N121="nulová",J121,0) -> 0 | BJ121: 1 | BK121: =ROUND(I121*H121,2) -> 0 | BL121: 1 | BM121: -728713952
D122: PP | F122: Návěstidla světelná Návěstidlo trpasl. 2 sv. typ:3603 (CV012525062) | AT122: PP | AU122: 0
C123: 2 | D123: M | E123: 7590720480 | F123: Součásti světelných návěstidel Základ trpasl.návěstidla ZTN (HM0321859999904) | G123: kus | H123: 2 | I123: 0 | J123: =ROUND(I123*H123,2) -> 0 | K123: Sborník UOŽI 01 2020 | N123: základní | P123: =O123*H123 -> 0 | Q123: 0 | R123: =Q123*H123 -> 0 | S123: 0 | T123: =S123*H123 -> 0 | AR123: 2 | AT123: M | AU123: 0 | AY123: ROZPOCET | BE123: =IF(N123="základní",J123,0) -> 0 | BF123: =IF(N123="snížená",J123,0) -> 0 | BG123: =IF(N123="zákl. přenesená",J123,0) -> 0 | BH123: =IF(N123="sníž. přenesená",J123,0) -> 0 | BI123: =IF(N123="nulová",J123,0) -> 0 | BJ123: 1 | BK123: =ROUND(I123*H123,2) -> 0 | BL123: 1 | BM123: -892871455
D124: PP | F124: Součásti světelných návěstidel Základ trpasl.návěstidla ZTN (HM0321859999904) | AT124: PP | AU124: 0

Sheet 01.5 - Sdělovací zařízení
AT2: {0937faba-987e-44d6-80e7-20ed06ed8960}
AT3: 2
D4: KRYCÍ LIST SOUPISU PRACÍ | M4: v --- níže se nacházejí doplnkové a pomocné údaje k sestavám --- v | AT4: False
D6: Stavba:
E7: ='Rekapitulace stavby'!K6 -> Oprava SZZ, kolejí a výhybek v žst. Pocínovice
D8: Objekt:
E9: 01 - Oprava sdělovacího a zabezpečovacího zařízení žst. Pocínovice
D10: Soupis:
E11: 01.5 - Sdělovací zařízení
D13: KSO: | I13: CC-CZ:
D14: Místo: | F14: Pocínovice | I14: Datum: | J14: ='Rekapitulace stavby'!AN8 -> 21. 9. 2020
D16: Zadavatel: | I16: IČ:
E17: Správa železnic, státní organizace | I17: DIČ:
D19: Uchazeč: | I19: IČ: | J19: ='Rekapitulace stavby'!AN13 -> Vyplň údaj
E20: ='Rekapitulace stavby'!E14 -> Vyplň údaj | I20: DIČ: | J20: ='Rekapitulace stavby'!AN14 -> Vyplň údaj
D22: Projektant: | I22: IČ: | J22: =IF('Rekapitulace stavby'!AN16="","",'Rekapitulace stavby'!AN16)
E23: =IF('Rekapitulace stavby'!E17="","",'Rekapitulace stavby'!E17) | I23: DIČ: | J23: =IF('Rekapitulace stavby'!AN17="","",'Rekapitulace stavby'!AN17)
D25: Zpracovatel: | I25: IČ: | J25: =IF('Rekapitulace stavby'!AN19="","",'Rekapitulace stavby'!AN19)
E26: =IF('Rekapitulace stavby'!E20="","",'Rekapitulace stavby'!E20) | I26: DIČ: | J26: =IF('Rekapitulace stavby'!AN20="","",'Rekapitulace stavby'!AN20)
D28: Poznámka:
D32: Cena bez DPH | J32: =ROUND(J121, 2) -> 0
F34: Základ daně | I34: Sazba daně | J34: Výše daně
D35: DPH | E35: základní | F35: =ROUND((SUM(BE121:BE209)), 2) -> 0 | I35: 0.21 | J35: =ROUND(((SUM(BE121:BE209))*I35), 2) -> 0
E36: snížená | F36: =ROUND((SUM(BF121:BF209)), 2) -> 0 | I36: 0.15 | J36: =ROUND(((SUM(BF121:BF209))*I36), 2) -> 0
E37: zákl. přenesená | F37: =ROUND((SUM(BG121:BG209)), 2) -> 0 | I37: 0.21 | J37: =0 -> 0
E38: sníž. přenesená | F38: =ROUND((SUM(BH121:BH209)), 2) -> 0 | I38: 0.15 | J38: =0 -> 0
E39: nulová | F39: =ROUND((SUM(BI121:BI209)), 2) -> 0 | I39: 0 | J39: =0 -> 0
D41: Cena s DPH | G41: v | H41: CZK | J41: =SUM(J32:J39) -> 0
D50: Projektant | G50: Zpracovatel
D61: Datum a podpis: | F61: Razítko | G61: Datum a podpis: | J61: Razítko
D65: Objednavatel | G65: Uchazeč
D76: Datum a podpis: | F76: Razítko | G76: Datum a podpis: | J76: Razítko
C82: REKAPITULACE ČLENĚNÍ SOUPISU PRACÍ
C84: Stavba:
E85: =E7 -> Oprava SZZ, kolejí a výhybek v žst. Pocínovice
C86: Objekt:
E87: 01 - Oprava sdělovacího a zabezpečovacího zařízení žst. Pocínovice
C88: Soupis:
E89: =E11 -> 01.5 - Sdělovací zařízení
C91: Místo: | F91: =F14 -> Pocínovice | I91: Datum: | J91: =IF(J14="","",J14) -> 21. 9. 2020
C93: Zadavatel: | F93: =E17 -> Správa železnic, státní organizace | I93: Projektant: | J93: =E23
C94: Uchazeč: | F94: =IF(E20="","",E20) -> Vyplň údaj | I94: Zpracovatel: | J94: =E26
C96: Kód dílu - Popis | J96: Cena celkem [CZK]
C98: Náklady ze soupisu prací | J98: =J121 -> 0 | AU98: -1
D99: HSV - Sdělovací zařízení | J99: =J122 -> 0
C106: SOUPIS PRACÍ
C108: Stavba:
E109: =E7 -> Oprava SZZ, kolejí a výhybek v žst. Pocínovice
C110: Objekt:
E111: 01 - Oprava sdělovacího a zabezpečovacího zařízení žst. Pocínovice
C112: Soupis:
E113: =E11 -> 01.5 - Sdělovací zařízení
C115: Místo: | F115: =F14 -> Pocínovice | I115: Datum: | J115: =IF(J14="","",J14) -> 21. 9. 2020
C117: Zadavatel: | F117: =E17 -> Správa železnic, státní organizace | I117: Projektant: | J117: =E23
C118: Uchazeč: | F118: =IF(E20="","",E20) -> Vyplň údaj | I118: Zpracovatel: | J118: =E26
C120: PČ | D120: Typ | E120: Kód | F120: Popis | G120: MJ | H120: Množství | I120: J.cena [CZK] | J120: Cena celkem [CZK] | K120: Cenová soustava | N120: DPH | O120: J. Nh [h] | P120: Nh celkem [h] | Q120: J. hmotnost [t] | R120: Hmotnost celkem [t] | S120: J. suť [t] | T120: Suť Celkem [t]
C121: Náklady soupisu celkem | J121: =BK121 -> 0 | P121: =P122 -> 0 | R121: =R122 -> 0 | T121: =T122 -> 0 | AT121: D | AU121: -1 | BK121: =BK122 -> 0
D122: D | E122: HSV | F122: Sdělovací zařízení | J122: =BK122 -> 0 | P122: =SUM(P123:P209) -> 0 | R122: =SUM(R123:R209) -> 0 | T122: =SUM(T123:T209) -> 0 | AR122: 1 | AT122: D | AU122: 0 | AY122: ROZPOCET | BK122: =SUM(BK123:BK209) -> 0
C123: 1 | D123: K | E123: 5915005020 | F123: Hloubení rýh nebo jam na železničním spodku II. třídy | G123: m3 | H123: 11.8 | J123: =ROUND(I123*H123,2) -> 0 | K123: Sborník UOŽI 01 2020 | N123: základní | P123: =O123*H123 -> 0 | Q123: 0 | R123: =Q123*H123 -> 0 | S123: 0 | T123: =S123*H123 -> 0 | AR123: 1 | AT123: K | AU123: 1 | AY123: ROZPOCET | BE123: =IF(N123="základní",J123,0) -> 0 | BF123: =IF(N123="snížená",J123,0) -> 0 | BG123: =IF(N123="zákl. přenesená",J123,0) -> 0 | BH123: =IF(N123="sníž. přenesená",J123,0) -> 0 | BI123: =IF(N123="nulová",J123,0) -> 0 | BJ123: 1 | BK123: =ROUND(I123*H123,2) -> 0 | BL123: 1 | BM123: -28966811
D124: PP | F124: Hloubení rýh nebo jam na železničním spodku II. třídy. Poznámka: 1. V cenách jsou započteny náklady na hloubení a uložení výzisku na terén nebo naložení na dopravní prostředek a uložení na úložišti. | AT124: PP | AU124: 1
C125: 2 | D125: K | E125: 5915007020 | F125: Zásyp jam nebo rýh sypaninou na železničním spodku se zhutněním | G125: m3 | H125: 11.8 | J125: =ROUND(I125*H125,2) -> 0 | K125: Sborník UOŽI 01 2020 | N125: základní | P125: =O125*H125 -> 0 | Q125: 0 | R125: =Q125*H125 -> 0 | S125: 0 | T125: =S125*H125 -> 0 | AR125: 1 | AT125: K | AU125: 1 | AY125: ROZPOCET | BE125: =IF(N125="základní",J125,0) -> 0 | BF125: =IF(N125="snížená",J125,0) -> 0 | BG125: =IF(N125="zákl. přenesená",J125,0) -> 0 | BH125: =IF(N125="sníž. přenesená",J125,0) -> 0 | BI125: =IF(N125="nulová",J125,0) -> 0 | BJ125: 1 | BK125: =ROUND(I125*H125,2) -> 0 | BL125: 1 | BM125: -1989046726
D126: PP | F126: Zásyp jam nebo rýh sypaninou na železničním spodku se zhutněním. Poznámka: 1. Ceny zásypu jam a rýh se zhutněním jsou určeny pro jakoukoliv míru zhutnění. | AT126: PP | AU126: 1
C127: 3 | D127: M | E127: 7590540529 | F127: Slaboproudé rozvody, kabely pro přívod a vnitřní instalaci UTP/FTP kategorie 5e 100Mhz 1 Gbps FTP Stíněný plášť, PE venkovní, drát | G127: m | H127: 80 | J127: =ROUND(I127*H127,2) -> 0 | K127: Sborník UOŽI 01 2020 | N127: základní | P127: =O127*H127 -> 0 | Q127: 0 | R127: =Q127*H127 -> 0 | S127: 0 | T127: =S127*H127 -> 0 | AR127: 2 | AT127: M | AU127: 1 | AY127: ROZPOCET | BE127: =IF(N127="základní",J127,0) -> 0 | BF127: =IF(N127="snížená",J127,0) -> 0 | BG127: =IF(N127="zákl. přenesená",J127,0) -> 0 | BH127: =IF(N127="sníž. přenesená",J127,0) -> 0 | BI127: =IF(N127="nulová",J127,0) -> 0 | BJ127: 1 | BK127: =ROUND(I127*H127,2) -> 0 | BL127: 1 | BM127: 365024734
D128: PP | F128: Slaboproudé rozvody, kabely pro přívod a vnitřní instalaci UTP/FTP kategorie 5e 100Mhz 1 Gbps FTP Stíněný plášť, PE venkovní, drát | AT128: PP | AU128: 1
C129: 4 | D129: K | E129: 7496756090 | F129: Montáž dálkové diagnostiky TS ŽDC kabelu F/UTP Cat5e | G129: m | H129: 80 | J129: =ROUND(I129*H129,2) -> 0 | K129: Sborník UOŽI 01 2020 | N129: základní | P129: =O129*H129 -> 0 | Q129: 0 | R129: =Q129*H129 -> 0 | S129: 0 | T129: =S129*H129 -> 0 | AR129: 1 | AT129: K | AU129: 1 | AY129: ROZPOCET | BE129: =IF(N129="základní",J129,0) -> 0 | BF129: =IF(N129="snížená",J129,0) -> 0 | BG129: =IF(N129="zákl. přenesená",J129,0) -> 0 | BH129: =IF(N129="sníž. přenesená",J129,0) -> 0 | BI129: =IF(N129="nulová",J129,0) -> 0 | BJ129: 1 | BK129: =ROUND(I129*H129,2) -> 0 | BL129: 1 | BM129: -1584060326
D130: PP | F130: Montáž dálkové diagnostiky TS ŽDC kabelu F/UTP Cat5e | AT130: PP | AU130: 1
C131: 5 | D131: K | E131: 7592605020 | F131: Konfigurace SW v PC | G131: hod | H131: 18 | J131: =ROUND(I131*H131,2) -> 0 | K131: Sborník UOŽI 01 2020 | N131: základní | P131: =O131*H131 -> 0 | Q131: 0 | R131: =Q131*H131 -> 0 | S131: 0 | T131: =S131*H131 -> 0 | AR131: 1 | AT131: K | AU131: 1 | AY131: ROZPOCET | BE131: =IF(N131="základní",J131,0) -> 0 | BF131: =IF(N131="snížená",J131,0) -> 0 | BG131: =IF(N131="zákl. přenesená",J131,0) -> 0 | BH131: =IF(N131="sníž. přenesená",J131,0) -> 0 | BI131: =IF(N131="nulová",J131,0) -> 0 | BJ131: 1 | BK131: =ROUND(I131*H131,2) -> 0 | BL131: 1 | BM131: 906406879
D132: PP | F132: Konfigurace SW v PC | AT132: PP | AU132: 1
C133: 6 | D133: M | E133: 7596731436 | F133: Kamerové systémy CCTV Kamera fixní Přepěťová ochrana 10/100M Ethernet + PoE A/B nebo Hi PoE (max.70W) | G133: kus | H133: 2 | J133: =ROUND(I133*H133,2) -> 0 | K133: Sborník UOŽI 01 2020 | N133: základní | P133: =O133*H133 -> 0 | Q133: 0 | R133: =Q133*H133 -> 0 | S133: 0 | T133: =S133*H133 -> 0 | AR133: 128 | AT133: M | AU133: 1 | AY133: ROZPOCET | BE133: =IF(N133="základní",J133,0) -> 0 | BF133: =IF(N133="snížená",J133,0) -> 0 | BG133: =IF(N133="zákl. přenesená",J133,0) -> 0 | BH133: =IF(N133="sníž. přenesená",J133,0) -> 0 | BI133: =IF(N133="nulová",J133,0) -> 0 | BJ133: 1 | BK133: =ROUND(I133*H133,2) -> 0 | BL133: 128 | BM133: 626161685
D134: PP | F134: Kamerové systémy CCTV Kamera fixní Přepěťová ochrana 10/100M Ethernet + PoE A/B nebo Hi PoE (max.70W) | AT134: PP | AU134: 1
C135: 7 | D135: M | E135: 7596730100 | F135: Kamerové systémy CCTV Kamera fixní Konzole k PTZ kamerám Samsung pro montáž na zeď | G135: kus | H135: 2 | J135: =ROUND(I135*H135,2) -> 0 | K135: Sborník UOŽI 01 2020 | N135: základní | P135: =O135*H135 -> 0 | Q135: 0 | R135: =Q135*H135 -> 0 | S135: 0 | T135: =S135*H135 -> 0 | AR135: 2 | AT135: M | AU135: 1 | AY135: ROZPOCET | BE135: =IF(N135="základní",J135,0) -> 0 | BF135: =IF(N135="snížená",J135,0) -> 0 | BG135: =IF(N135="zákl. přenesená",J135,0) -> 0 | BH135: =IF(N135="sníž. přenesená",J135,0) -> 0 | BI135: =IF(N135="nulová",J135,0) -> 0 | BJ135: 1 | BK135: =ROUND(I135*H135,2) -> 0 | BL135: 1 | BM135: -592988710
D136: PP | F136: Kamerové systémy CCTV Kamera fixní Konzole k PTZ kamerám Samsung pro montáž na zeď | AT136: PP | AU136: 1
C137: 8 | D137: M | E137: 7596720002 | F137: Díly televizních zařízení 3 Mpx venkovní válečková IP kamera s IR, antivandal | G137: kus | H137: 2 | J137: =ROUND(I137*H137,2) -> 0 | K137: Sborník UOŽI 01 2020 | N137: základní | P137: =O137*H137 -> 0 | Q137: 0 | R137: =Q137*H137 -> 0 | S137: 0 | T137: =S137*H137 -> 0 | AR137: 2 | AT137: M | AU137: 1 | AY137: ROZPOCET | BE137: =IF(N137="základní",J137,0) -> 0 | BF137: =IF(N137="snížená",J137,0) -> 0 | BG137: =IF(N137="zákl. přenesená",J137,0) -> 0 | BH137: =IF(N137="sníž. přenesená",J137,0) -> 0 | BI137: =IF(N137="nulová",J137,0) -> 0 | BJ137: 1 | BK137: =ROUND(I137*H137,2) -> 0 | BL137: 1 | BM137: -1162864139
D138: PP | F138: Díly televizních zařízení 3 Mpx venkovní válečková IP kamera s IR, antivandal | AT138: PP | AU138: 1
C139: 9 | D139: K | E139: 7595215210 | F139: Montáž PBX (elektronické, digitální, VoIP, GSM-GW…) montáž přepěťové ochrany | G139: kus | H139: 2 | J139: =ROUND(I139*H139,2) -> 0 | K139: Sborník UOŽI 01 2020 | N139: základní | P139: =O139*H139 -> 0 | Q139: 0 | R139: =Q139*H139 -> 0 | S139: 0 | T139: =S139*H139 -> 0 | AR139: 1 | AT139: K | AU139: 1 | AY139: ROZPOCET | BE139: =IF(N139="základní",J139,0) -> 0 | BF139: =IF(N139="snížená",J139,0) -> 0 | BG139: =IF(N139="zákl. přenesená",J139,0) -> 0 | BH139: =IF(N139="sníž. přenesená",J139,0) -> 0 | BI139: =IF(N139="nulová",J139,0) -> 0 | BJ139: 1 | BK139: =ROUND(I139*H139,2) -> 0 | BL139: 1 | BM139: 506769883
D140: PP | F140: Montáž PBX (elektronické, digitální, VoIP, GSM-GW…) montáž přepěťové ochrany | AT140: PP | AU140: 1
C141: 10 | D141: K | E141: 7596735050 | F141: Montáž a provedení kamerové zkoušky | G141: kus | H141: 2 | J141: =ROUND(I141*H141,2) -> 0 | K141: Sborník UOŽI 01 2020 | N141: základní | P141: =O141*H141 -> 0 | Q141: 0 | R141: =Q141*H141 -> 0 | S141: 0 | T141: =S141*H141 -> 0 | AR141: 1 | AT141: K | AU141: 1 | AY141: ROZPOCET | BE141: =IF(N141="základní",J141,0) -> 0 | BF141: =IF(N141="snížená",J141,0) -> 0 | BG141: =IF(N141="zákl. přenesená",J141,0) -> 0 | BH141: =IF(N141="sníž. přenesená",J141,0) -> 0 | BI141: =IF(N141="nulová",J141,0) -> 0 | BJ141: 1 | BK141: =ROUND(I141*H141,2) -> 0 | BL141: 1 | BM141: -698162331
D142: PP | F142: Montáž a provedení kamerové zkoušky | AT142: PP | AU142: 1
C143: 11 | D143: K | E143: 7596735065 | F143: Zprovoznění kamery venkovní | G143: kus | H143: 2 | J143: =ROUND(I143*H143,2) -> 0 | K143: Sborník UOŽI 01 2020 | N143: základní | P143: =O143*H143 -> 0 | Q143: 0 | R143: =Q143*H143 -> 0 | S143: 0 | T143: =S143*H143 -> 0 | AR143: 1 | AT143: K | AU143: 1 | AY143: ROZPOCET | BE143: =IF(N143="základní",J143,0) -> 0 | BF143: =IF(N143="snížená",J143,0) -> 0 | BG143: =IF(N143="zákl. přenesená",J143,0) -> 0 | BH143: =IF(N143="sníž. přenesená",J143,0) -> 0 | BI143: =IF(N143="nulová",J143,0) -> 0 | BJ143: 1 | BK143: =ROUND(I143*H143,2) -> 0 | BL143: 1 | BM143: -271835143
D144: PP | F144: Zprovoznění kamery venkovní | AT144: PP | AU144: 1
C145: 12 | D145: M | E145: 7491100110 | F145: Trubková vedení Ohebné elektroinstalační trubky KOPOFLEX 40 rudá | G145: m | H145: 15 | J145: =ROUND(I145*H145,2) -> 0 | K145: Sborník UOŽI 01 2020 | N145: základní | P145: =O145*H145 -> 0 | Q145: 0 | R145: =Q145*H145 -> 0 | S145: 0 | T145: =S145*H145 -> 0 | AR145: 128 | AT145: M | AU145: 1 | AY145: ROZPOCET | BE145: =IF(N145="základní",J145,0) -> 0 | BF145: =IF(N145="snížená",J145,0) -> 0 | BG145: =IF(N145="zákl. přenesená",J145,0) -> 0 | BH145: =IF(N145="sníž. přenesená",J145,0) -> 0 | BI145: =IF(N145="nulová",J145,0) -> 0 | BJ145: 1 | BK145: =ROUND(I145*H145,2) -> 0 | BL145: 128 | BM145: -278801230
D146: PP | F146: Trubková vedení Ohebné elektroinstalační trubky KOPOFLEX 40 rudá | AT146: PP | AU146: 1
C147: 13 | D147: M | E147: 7491200060 | F147: Elektroinstalační materiál Elektroinstalační lišty a kabelové žlaby Lišta NIEDAX PH 5822 | G147: m | H147: 20 | J147: =ROUND(I147*H147,2) -> 0 | K147: Sborník UOŽI 01 2020 | N147: základní | P147: =O147*H147 -> 0 | Q147: 0 | R147: =Q147*H147 -> 0 | S147: 0 | T147: =S147*H147 -> 0 | AR147: 2 | AT147: M | AU147: 1 | AY147: ROZPOCET | BE147: =IF(N147="základní",J147,0) -> 0 | BF147: =IF(N147="snížená",J147,0) -> 0 | BG147: =IF(N147="zákl. přenesená",J147,0) -> 0 | BH147: =IF(N147="sníž. přenesená",J147,0) -> 0 | BI147: =IF(N147="nulová",J147,0) -> 0 | BJ147: 1 | BK147: =ROUND(I147*H147,2) -> 0 | BL147: 1 | BM147: 1634559271
D148: PP | F148: Elektroinstalační materiál Elektroinstalační lišty a kabelové žlaby Lišta NIEDAX PH 5822 | AT148: PP | AU148: 1
C149: 14 | D149: K | E149: 7491151030 | F149: Montáž trubek ohebných elektroinstalačních ochranných z tvrdého PE uložených pevně, průměru do 47 mm | G149: m | H149: 15 | J149: =ROUND(I149*H149,2) -> 0 | K149: Sborník UOŽI 01 2020 | N149: základní | P149: =O149*H149 -> 0 | Q149: 0 | R149: =Q149*H149 -> 0 | S149: 0 | T149: =S149*H149 -> 0 | AR149: 1 | AT149: K | AU149: 1 | AY149: ROZPOCET | BE149: =IF(N149="základní",J149,0) -> 0 | BF149: =IF(N149="snížená",J149,0) -> 0 | BG149: =IF(N149="zákl. přenesená",J149,0) -> 0 | BH149: =IF(N149="sníž. přenesená",J149,0) -> 0 | BI149: =IF(N149="nulová",J149,0) -> 0 | BJ149: 1 | BK149: =ROUND(I149*H149,2) -> 0 | BL149: 1 | BM149: 2083321951
D150: PP | F150: Montáž trubek ohebných elektroinstalačních ochranných z tvrdého PE uložených pevně, průměru do 47 mm - včetně naznačení trasy, rozměření, řezání trubek, kladení, osazení, zajištění a upevnění | AT150: PP | AU150: 1
C151: 15 | D151: K | E151: 7491251010 | F151: Montáž lišt elektroinstalačních, kabelových žlabů z PVC-U jednokomorových zaklapávacích rozměru 40/40 mm | G151: m | H151: 20 | J151: =ROUND(I151*H151,2) -> 0 | K151: Sborník UOŽI 01 2020 | N151: základní | P151: =O151*H151 -> 0 | Q151: 0 | R151: =Q151*H151 -> 0 | S151: 0 | T151: =S151*H151 -> 0 | AR151: 1 | AT151: K | AU151: 1 | AY151: ROZPOCET | BE151: =IF(N151="základní",J151,0) -> 0 | BF151: =IF(N151="snížená",J151,0) -> 0 | BG151: =IF(N151="zákl. přenesená",J151,0) -> 0 | BH151: =IF(N151="sníž. přenesená",J151,0) -> 0 | BI151: =IF(N151="nulová",J151,0) -> 0 | BJ151: 1 | BK151: =ROUND(I151*H151,2) -> 0 | BL151: 1 | BM151: 1385667579
D152: PP | F152: Montáž lišt elektroinstalačních, kabelových žlabů z PVC-U jednokomorových zaklapávacích rozměru 40/40 mm - na konstrukci, omítku apod. včetně spojek, ohybů, rohů, bez krabic | AT152: PP | AU152: 1
C153: 16 | D153: M | E153: 7596810020 | F153: Telefonní zapojovače Malá sdělovací technika pro ČD Zapojovač telef.náhradní NTZ 2 (CV540539002) | G153: kus | H153: 1 | J153: =ROUND(I153*H153,2) -> 0 | K153: Sborník UOŽI 01 2020 | N153: základní | P153: =O153*H153 -> 0 | Q153: 0 | R153: =Q153*H153 -> 0 | S153: 0 | T153: =S153*H153 -> 0 | AR153: 128 | AT153: M | AU153: 1 | AY153: ROZPOCET | BE153: =IF(N153="základní",J153,0) -> 0 | BF153: =IF(N153="snížená",J153,0) -> 0 | BG153: =IF(N153="zákl. přenesená",J153,0) -> 0 | BH153: =IF(N153="sníž. přenesená",J153,0) -> 0 | BI153: =IF(N153="nulová",J153,0) -> 0 | BJ153: 1 | BK153: =ROUND(I153*H153,2) -> 0 | BL153: 128 | BM153: -2044667752
D154: PP | F154: Telefonní zapojovače Malá sdělovací technika pro ČD Zapojovač telef.náhradní NTZ 2 (CV540539002) | AT154: PP | AU154: 1
C155: 17 | D155: K | E155: 7596815090 | F155: Montáž zapojovače svírkového (náhradního) pro 10 okruhů nebo náhradní telefonní zapojovač | G155: kus | H155: 1 | J155: =ROUND(I155*H155,2) -> 0 | K155: Sborník UOŽI 01 2020 | N155: základní | P155: =O155*H155 -> 0 | Q155: 0 | R155: =Q155*H155 -> 0 | S155: 0 | T155: =S155*H155 -> 0 | AR155: 1 | AT155: K | AU155: 1 | AY155: ROZPOCET | BE155: =IF(N155="základní",J155,0) -> 0 | BF155: =IF(N155="snížená",J155,0) -> 0 | BG155: =IF(N155="zákl. přenesená",J155,0) -> 0 | BH155: =IF(N155="sníž. přenesená",J155,0) -> 0 | BI155: =IF(N155="nulová",J155,0) -> 0 | BJ155: 1 | BK155: =ROUND(I155*H155,2) -> 0 | BL155: 1 | BM155: 938493704
D156: PP | F156: Montáž zapojovače svírkového (náhradního) pro 10 okruhů nebo náhradní telefonní zapojovač - úplná montáž, připevnění na místo určení, zatažení kabelů, zhotovení formy, připojení napájení, vyzkoušení zařízení | AT156: PP | AU156: 1
C157: 18 | D157: M | E157: 7590540065 | F157: Slaboproudé rozvody, kabely pro přívod a vnitřní instalaci Instalační kabely SYKFY 20 x 2 x 0,5 | G157: m | H157: 25 | J157: =ROUND(I157*H157,2) -> 0 | K157: Sborník UOŽI 01 2020 | N157: základní | P157: =O157*H157 -> 0 | Q157: 0 | R157: =Q157*H157 -> 0 | S157: 0 | T157: =S157*H157 -> 0 | AR157: 128 | AT157: M | AU157: 1 | AY157: ROZPOCET | BE157: =IF(N157="základní",J157,0) -> 0 | BF157: =IF(N157="snížená",J157,0) -> 0 | BG157: =IF(N157="zákl. přenesená",J157,0) -> 0 | BH157: =IF(N157="sníž. přenesená",J157,0) -> 0 | BI157: =IF(N157="nulová",J157,0) -> 0 | BJ157: 1 | BK157: =ROUND(I157*H157,2) -> 0 | BL157: 128 | BM157: 571852950
D158: PP | F158: Slaboproudé rozvody, kabely pro přívod a vnitřní instalaci Instalační kabely SYKFY 20 x 2 x 0,5 | AT158: PP | AU158: 1
C159: 19 | D159: K | E159: 7590525148 | F159: Uložení do žlabu/trubky/lišty kabelu SYKFY 20x2x0,5 | G159: m | H159: 25 | J159: =ROUND(I159*H159,2) -> 0 | K159: Sborník UOŽI 01 2020 | N159: základní | P159: =O159*H159 -> 0 | Q159: 0 | R159: =Q159*H159 -> 0 | S159: 0 | T159: =S159*H159 -> 0 | AR159: 1 | AT159: K | AU159: 1 | AY159: ROZPOCET | BE159: =IF(N159="základní",J159,0) -> 0 | BF159: =IF(N159="snížená",J159,0) -> 0 | BG159: =IF(N159="zákl. přenesená",J159,0) -> 0 | BH159: =IF(N159="sníž. přenesená",J159,0) -> 0 | BI159: =IF(N159="nulová",J159,0) -> 0 | BJ159: 1 | BK159: =ROUND(I159*H159,2) -> 0 | BL159: 1 | BM159: 1222680631
D160: PP | F160: Uložení do žlabu/trubky/lišty kabelu SYKFY 20x2x0,5 | AT160: PP | AU160: 1
C161: 20 | D161: K | E161: 7595605170 | F161: Montáž routeru (směrovače), switche (přepínače) a huby (rozbočovače) instalace a konfigurace routeru upevněného expertní | G161: kus | H161: 1 | J161: =ROUND(I161*H161,2) -> 0 | K161: Sborník UOŽI 01 2020 | N161: základní | P161: =O161*H161 -> 0 | Q161: 0 | R161: =Q161*H161 -> 0 | S161: 0 | T161: =S161*H161 -> 0 | AR161: 1 | AT161: K | AU161: 1 | AY161: ROZPOCET | BE161: =IF(N161="základní",J161,0) -> 0 | BF161: =IF(N161="snížená",J161,0) -> 0 | BG161: =IF(N161="zákl. přenesená",J161,0) -> 0 | BH161: =IF(N161="sníž. přenesená",J161,0) -> 0 | BI161: =IF(N161="nulová",J161,0) -> 0 | BJ161: 1 | BK161: =ROUND(I161*H161,2) -> 0 | BL161: 1 | BM161: -998943671
D162: PP | F162: Montáž routeru (směrovače), switche (přepínače) a huby (rozbočovače) instalace a konfigurace routeru upevněného expertní | AT162: PP | AU162: 1
C163: 21 | D163: M | E163: 7596001670 | F163: Rádiová zařízení Sdružovač, zátěž apod. Rozhlasová ústředna RU6IP | G163: kus | H163: 1 | J163: =ROUND(I163*H163,2) -> 0 | K163: Sborník UOŽI 01 2020 | N163: základní | P163: =O163*H163 -> 0 | Q163: 0 | R163: =Q163*H163 -> 0 | S163: 0 | T163: =S163*H163 -> 0 | AR163: 128 | AT163: M | AU163: 1 | AY163: ROZPOCET | BE163: =IF(N163="základní",J163,0) -> 0 | BF163: =IF(N163="snížená",J163,0) -> 0 | BG163: =IF(N163="zákl. přenesená",J163,0) -> 0 | BH163: =IF(N163="sníž. přenesená",J163,0) -> 0 | BI163: =IF(N163="nulová",J163,0) -> 0 | BJ163: 1 | BK163: =ROUND(I163*H163,2) -> 0 | BL163: 128 | BM163: 1342262707
D164: PP | F164: Rádiová zařízení Sdružovač, zátěž apod. Rozhlasová ústředna RU6IP | AT164: PP | AU164: 1
...

Sheet 01.6 - DDTS
AT2: {3839812e-bcbc-4d91-90ec-4e815c39d163}
AT3: 2
D4: KRYCÍ LIST SOUPISU PRACÍ | M4: v --- níže se nacházejí doplnkové a pomocné údaje k sestavám --- v | AT4: False
D6: Stavba:
E7: ='Rekapitulace stavby'!K6 -> Oprava SZZ, kolejí a výhybek v žst. Pocínovice
D8: Objekt:
E9: 01 - Oprava sdělovacího a zabezpečovacího zařízení žst. Pocínovice
D10: Soupis:
E11: 01.6 - DDTS
D13: KSO: | I13: CC-CZ:
D14: Místo: | F14: Pocínovice | I14: Datum: | J14: ='Rekapitulace stavby'!AN8 -> 21. 9. 2020
D16: Zadavatel: | I16: IČ:
E17: Správa železnic, státní organizace | I17: DIČ:
D19: Uchazeč: | I19: IČ: | J19: ='Rekapitulace stavby'!AN13 -> Vyplň údaj
E20: ='Rekapitulace stavby'!E14 -> Vyplň údaj | I20: DIČ: | J20: ='Rekapitulace stavby'!AN14 -> Vyplň údaj
D22: Projektant: | I22: IČ: | J22: =IF('Rekapitulace stavby'!AN16="","",'Rekapitulace stavby'!AN16)
E23: =IF('Rekapitulace stavby'!E17="","",'Rekapitulace stavby'!E17) | I23: DIČ: | J23: =IF('Rekapitulace stavby'!AN17="","",'Rekapitulace stavby'!AN17)
D25: Zpracovatel: | I25: IČ: | J25: =IF('Rekapitulace stavby'!AN19="","",'Rekapitulace stavby'!AN19)
E26: =IF('Rekapitulace stavby'!E20="","",'Rekapitulace stavby'!E20) | I26: DIČ: | J26: =IF('Rekapitulace stavby'!AN20="","",'Rekapitulace stavby'!AN20)
D28: Poznámka:
D32: Cena bez DPH | J32: =ROUND(J121, 2) -> 0
F34: Základ daně | I34: Sazba daně | J34: Výše daně
D35: DPH | E35: základní | F35: =ROUND((SUM(BE121:BE150)), 2) -> 0 | I35: 0.21 | J35: =ROUND(((SUM(BE121:BE150))*I35), 2) -> 0
E36: snížená | F36: =ROUND((SUM(BF121:BF150)), 2) -> 0 | I36: 0.15 | J36: =ROUND(((SUM(BF121:BF150))*I36), 2) -> 0
E37: zákl. přenesená | F37: =ROUND((SUM(BG121:BG150)), 2) -> 0 | I37: 0.21 | J37: =0 -> 0
E38: sníž. přenesená | F38: =ROUND((SUM(BH121:BH150)), 2) -> 0 | I38: 0.15 | J38: =0 -> 0
E39: nulová | F39: =ROUND((SUM(BI121:BI150)), 2) -> 0 | I39: 0 | J39: =0 -> 0
D41: Cena s DPH | G41: v | H41: CZK | J41: =SUM(J32:J39) -> 0
D50: Projektant | G50: Zpracovatel
D61: Datum a podpis: | F61: Razítko | G61: Datum a podpis: | J61: Razítko
D65: Objednavatel | G65: Uchazeč
D76: Datum a podpis: | F76: Razítko | G76: Datum a podpis: | J76: Razítko
C82: REKAPITULACE ČLENĚNÍ SOUPISU PRACÍ
C84: Stavba:
E85: =E7 -> Oprava SZZ, kolejí a výhybek v žst. Pocínovice
C86: Objekt:
E87: 01 - Oprava sdělovacího a zabezpečovacího zařízení žst. Pocínovice
C88: Soupis:
E89: =E11 -> 01.6 - DDTS
C91: Místo: | F91: =F14 -> Pocínovice | I91: Datum: | J91: =IF(J14="","",J14) -> 21. 9. 2020
C93: Zadavatel: | F93: =E17 -> Správa železnic, státní organizace | I93: Projektant: | J93: =E23
C94: Uchazeč: | F94: =IF(E20="","",E20) -> Vyplň údaj | I94: Zpracovatel: | J94: =E26
C96: Kód dílu - Popis | J96: Cena celkem [CZK]
C98: Náklady ze soupisu prací | J98: =J121 -> 0 | AU98: -1
D99: OST - Ostatní | J99: =J122 -> 0
C106: SOUPIS PRACÍ
C108: Stavba:
E109: =E7 -> Oprava SZZ, kolejí a výhybek v žst. Pocínovice
C110: Objekt:
E111: 01 - Oprava sdělovacího a zabezpečovacího zařízení žst. Pocínovice
C112: Soupis:
E113: =E11 -> 01.6 - DDTS
C115: Místo: | F115: =F14 -> Pocínovice | I115: Datum: | J115: =IF(J14="","",J14) -> 21. 9. 2020
C117: Zadavatel: | F117: =E17 -> Správa železnic, státní organizace | I117: Projektant: | J117: =E23
C118: Uchazeč: | F118: =IF(E20="","",E20) -> Vyplň údaj | I118: Zpracovatel: | J118: =E26
C120: PČ | D120: Typ | E120: Kód | F120: Popis | G120: MJ | H120: Množství | I120: J.cena [CZK] | J120: Cena celkem [CZK] | K120: Cenová soustava | N120: DPH | O120: J. Nh [h] | P120: Nh celkem [h] | Q120: J. hmotnost [t] | R120: Hmotnost celkem [t] | S120: J. suť [t] | T120: Suť Celkem [t]
C121: Náklady soupisu celkem | J121: =BK121 -> 0 | P121: =P122 -> 0 | R121: =R122 -> 0 | T121: =T122 -> 0 | AT121: D | AU121: -1 | BK121: =BK122 -> 0
D122: D | E122: OST | F122: Ostatní | J122: =BK122 -> 0 | P122: =SUM(P123:P150) -> 0 | R122: =SUM(R123:R150) -> 0 | T122: =SUM(T123:T150) -> 0 | AR122: 4 | AT122: D | AU122: 0 | AY122: ROZPOCET | BK122: =SUM(BK123:BK150) -> 0
C123: 1 | D123: K | E123: 7592525025 | F123: Doplnění aplikačního SW DDTS ŽDC o dohled jednoho TLS v dispečerské klientské aplikaci | G123: kus | H123: 4 | J123: =ROUND(I123*H123,2) -> 0 | K123: Sborník UOŽI 01 2020 | N123: základní | P123: =O123*H123 -> 0 | Q123: 0 | R123: =Q123*H123 -> 0 | S123: 0 | T123: =S123*H123 -> 0 | AR123: 1 | AT123: K | AU123: 1 | AY123: ROZPOCET | BE123: =IF(N123="základní",J123,0) -> 0 | BF123: =IF(N123="snížená",J123,0) -> 0 | BG123: =IF(N123="zákl. přenesená",J123,0) -> 0 | BH123: =IF(N123="sníž. přenesená",J123,0) -> 0 | BI123: =IF(N123="nulová",J123,0) -> 0 | BJ123: 1 | BK123: =ROUND(I123*H123,2) -> 0 | BL123: 1 | BM123: 1099170244
D124: PP | F124: Doplnění aplikačního SW DDTS ŽDC o dohled jednoho TLS v dispečerské klientské aplikaci | AT124: PP | AU124: 1
C125: 2 | D125: K | E125: 7592525060 | F125: Softwarové práce na zařízení integračního koncentrátoru InK DDTS ŽDC TLS EOV v počtu výhybek do 4 kusů | G125: kus | H125: 1 | J125: =ROUND(I125*H125,2) -> 0 | K125: Sborník UOŽI 01 2020 | N125: základní | P125: =O125*H125 -> 0 | Q125: 0 | R125: =Q125*H125 -> 0 | S125: 0 | T125: =S125*H125 -> 0 | AR125: 1 | AT125: K | AU125: 1 | AY125: ROZPOCET | BE125: =IF(N125="základní",J125,0) -> 0 | BF125: =IF(N125="snížená",J125,0) -> 0 | BG125: =IF(N125="zákl. přenesená",J125,0) -> 0 | BH125: =IF(N125="sníž. přenesená",J125,0) -> 0 | BI125: =IF(N125="nulová",J125,0) -> 0 | BJ125: 1 | BK125: =ROUND(I125*H125,2) -> 0 | BL125: 1 | BM125: 1317210144
D126: PP | F126: Softwarové práce na zařízení integračního koncentrátoru InK DDTS ŽDC TLS EOV v počtu výhybek do 4 kusů - SW úprava, doplnění, kontrola, zkouška nebo integrace signálů z energetických a elektrotechnických systémů stažených do jednoho PLC do integračního koncentrátoru | AT126: PP | AU126: 1
C127: 3 | D127: K | E127: 7592525065 | F127: Softwarové práce na zařízení integračního koncentrátoru InK DDTS ŽDC TLS OSV v počtu světelných okruhů do 4 kusů | G127: kus | H127: 1 | J127: =ROUND(I127*H127,2) -> 0 | K127: Sborník UOŽI 01 2020 | N127: základní | P127: =O127*H127 -> 0 | Q127: 0 | R127: =Q127*H127 -> 0 | S127: 0 | T127: =S127*H127 -> 0 | AR127: 1 | AT127: K | AU127: 1 | AY127: ROZPOCET | BE127: =IF(N127="základní",J127,0) -> 0 | BF127: =IF(N127="snížená",J127,0) -> 0 | BG127: =IF(N127="zákl. přenesená",J127,0) -> 0 | BH127: =IF(N127="sníž. přenesená",J127,0) -> 0 | BI127: =IF(N127="nulová",J127,0) -> 0 | BJ127: 1 | BK127: =ROUND(I127*H127,2) -> 0 | BL127: 1 | BM127: 1114544427
D128: PP | F128: Softwarové práce na zařízení integračního koncentrátoru InK DDTS ŽDC TLS OSV v počtu světelných okruhů do 4 kusů - SW úprava, doplnění, kontrola, zkouška nebo integrace signálů z energetických a elektrotechnických systémů stažených do jednoho PLC do integračního koncentrátoru | AT128: PP | AU128: 1
C129: 4 | D129: K | E129: 7592525093 | F129: Softwarové práce na zařízení integračního koncentrátoru InK DDTS ŽDC TLS KAM v počtu kamer do 15 kusů | G129: kus | H129: 1 | J129: =ROUND(I129*H129,2) -> 0 | K129: Sborník UOŽI 01 2020 | N129: základní | P129: =O129*H129 -> 0 | Q129: 0 | R129: =Q129*H129 -> 0 | S129: 0 | T129: =S129*H129 -> 0 | AR129: 1 | AT129: K | AU129: 1 | AY129: ROZPOCET | BE129: =IF(N129="základní",J129,0) -> 0 | BF129: =IF(N129="snížená",J129,0) -> 0 | BG129: =IF(N129="zákl. přenesená",J129,0) -> 0 | BH129: =IF(N129="sníž. přenesená",J129,0) -> 0 | BI129: =IF(N129="nulová",J129,0) -> 0 | BJ129: 1 | BK129: =ROUND(I129*H129,2) -> 0 | BL129: 1 | BM129: -304739691
D130: PP | F130: Softwarové práce na zařízení integračního koncentrátoru InK DDTS ŽDC TLS KAM v počtu kamer do 15 kusů - SW úprava, doplnění, kontrola, zkouška nebo integrace signálů z energetických a elektrotechnických systémů stažených do jednoho PLC do integračního koncentrátoru | AT130: PP | AU130: 1
C131: 5 | D131: K | E131: 7592525100 | F131: Softwarové práce na zařízení integračního koncentrátoru InK DDTS ŽDC aktivní prvek přenosového systému LTDS | G131: kus | H131: 1 | J131: =ROUND(I131*H131,2) -> 0 | K131: Sborník UOŽI 01 2020 | N131: základní | P131: =O131*H131 -> 0 | Q131: 0 | R131: =Q131*H131 -> 0 | S131: 0 | T131: =S131*H131 -> 0 | AR131: 1 | AT131: K | AU131: 1 | AY131: ROZPOCET | BE131: =IF(N131="základní",J131,0) -> 0 | BF131: =IF(N131="snížená",J131,0) -> 0 | BG131: =IF(N131="zákl. přenesená",J131,0) -> 0 | BH131: =IF(N131="sníž. přenesená",J131,0) -> 0 | BI131: =IF(N131="nulová",J131,0) -> 0 | BJ131: 1 | BK131: =ROUND(I131*H131,2) -> 0 | BL131: 1 | BM131: -1725874356
D132: PP | F132: Softwarové práce na zařízení integračního koncentrátoru InK DDTS ŽDC aktivní prvek přenosového systému LTDS - SW úprava, doplnění, kontrola, zkouška nebo integrace signálů z energetických a elektrotechnických systémů stažených do jednoho PLC do integračního koncentrátoru | AT132: PP | AU132: 1
C133: 6 | D133: K | E133: 7592525128 | F133: Softwarové práce na zařízení integračního koncentrátoru InK DDTS ŽDC TLS ROZ | G133: kus | H133: 1 | J133: =ROUND(I133*H133,2) -> 0 | K133: Sborník UOŽI 01 2020 | N133: základní | P133: =O133*H133 -> 0 | Q133: 0 | R133: =Q133*H133 -> 0 | S133: 0 | T133: =S133*H133 -> 0 | AR133: 1 | AT133: K | AU133: 1 | AY133: ROZPOCET | BE133: =IF(N133="základní",J133,0) -> 0 | BF133: =IF(N133="snížená",J133,0) -> 0 | BG133: =IF(N133="zákl. přenesená",J133,0) -> 0 | BH133: =IF(N133="sníž. přenesená",J133,0) -> 0 | BI133: =IF(N133="nulová",J133,0) -> 0 | BJ133: 1 | BK133: =ROUND(I133*H133,2) -> 0 | BL133: 1 | BM133: -165060549
D134: PP | F134: Softwarové práce na zařízení integračního koncentrátoru InK DDTS ŽDC TLS ROZ - SW úprava, doplnění, kontrola, zkouška nebo integrace signálů z energetických a elektrotechnických systémů stažených do jednoho PLC do integračního koncentrátoru | AT134: PP | AU134: 1
C135: 7 | D135: K | E135: 7592525162 | F135: Softwarové práce na zařízení integračního koncentrátoru InK a integračního serveru InS DDTS ŽDC parametrizace a naplnění nových nebo upravovaných datových struktur | G135: kus | H135: 1 | J135: =ROUND(I135*H135,2) -> 0 | K135: Sborník UOŽI 01 2020 | N135: základní | P135: =O135*H135 -> 0 | Q135: 0 | R135: =Q135*H135 -> 0 | S135: 0 | T135: =S135*H135 -> 0 | AR135: 1 | AT135: K | AU135: 1 | AY135: ROZPOCET | BE135: =IF(N135="základní",J135,0) -> 0 | BF135: =IF(N135="snížená",J135,0) -> 0 | BG135: =IF(N135="zákl. přenesená",J135,0) -> 0 | BH135: =IF(N135="sníž. přenesená",J135,0) -> 0 | BI135: =IF(N135="nulová",J135,0) -> 0 | BJ135: 1 | BK135: =ROUND(I135*H135,2) -> 0 | BL135: 1 | BM135: 569309245
D136: PP | F136: Softwarové práce na zařízení integračního koncentrátoru InK a integračního serveru InS DDTS ŽDC parametrizace a naplnění nových nebo upravovaných datových struktur - technologických, telemetrických nebo řídících pro přenos informací na zařízení Ink a InS | AT136: PP | AU136: 1
C137: 8 | D137: K | E137: 7592525164 | F137: Softwarové práce na zařízení integračního koncentrátoru InK a integračního serveru InS DDTS ŽDC odzkoušení nového programového vybavení | G137: kus | H137: 1 | J137: =ROUND(I137*H137,2) -> 0 | K137: Sborník UOŽI 01 2020 | N137: základní | P137: =O137*H137 -> 0 | Q137: 0 | R137: =Q137*H137 -> 0 | S137: 0 | T137: =S137*H137 -> 0 | AR137: 1 | AT137: K | AU137: 1 | AY137: ROZPOCET | BE137: =IF(N137="základní",J137,0) -> 0 | BF137: =IF(N137="snížená",J137,0) -> 0 | BG137: =IF(N137="zákl. přenesená",J137,0) -> 0 | BH137: =IF(N137="sníž. přenesená",J137,0) -> 0 | BI137: =IF(N137="nulová",J137,0) -> 0 | BJ137: 1 | BK137: =ROUND(I137*H137,2) -> 0 | BL137: 1 | BM137: -222260416
D138: PP | F138: Softwarové práce na zařízení integračního koncentrátoru InK a integračního serveru InS DDTS ŽDC odzkoušení nového programového vybavení - včetně ověření uživatelských funkcí na úplné implementaci a verifikace přenášených dat | AT138: PP | AU138: 1
C139: 9 | D139: K | E139: 7592525168 | F139: Softwarové práce na zařízení integračního koncentrátoru InK a integračního serveru InS DDTS ŽDC úprava a odzkoušení nově doplněných nebo upravených programových prostředků | G139: kus | H139: 1 | J139: =ROUND(I139*H139,2) -> 0 | K139: Sborník UOŽI 01 2020 | N139: základní | P139: =O139*H139 -> 0 | Q139: 0 | R139: =Q139*H139 -> 0 | S139: 0 | T139: =S139*H139 -> 0 | AR139: 1 | AT139: K | AU139: 1 | AY139: ROZPOCET | BE139: =IF(N139="základní",J139,0) -> 0 | BF139: =IF(N139="snížená",J139,0) -> 0 | BG139: =IF(N139="zákl. přenesená",J139,0) -> 0 | BH139: =IF(N139="sníž. přenesená",J139,0) -> 0 | BI139: =IF(N139="nulová",J139,0) -> 0 | BJ139: 1 | BK139: =ROUND(I139*H139,2) -> 0 | BL139: 1 | BM139: 1629036127
D140: PP | F140: Softwarové práce na zařízení integračního koncentrátoru InK a integračního serveru InS DDTS ŽDC úprava a odzkoušení nově doplněných nebo upravených programových prostředků - pro export dat ze zařízení InK a InS | AT140: PP | AU140: 1
C141: 10 | D141: K | E141: 7592525170 | F141: Softwarové práce na zařízení integračního koncentrátoru InK a integračního serveru InS DDTS ŽDC konfigurace nově doplněných nebo upravených přenosů dat ze systémů TLS | G141: kus | H141: 1 | J141: =ROUND(I141*H141,2) -> 0 | K141: Sborník UOŽI 01 2020 | N141: základní | P141: =O141*H141 -> 0 | Q141: 0 | R141: =Q141*H141 -> 0 | S141: 0 | T141: =S141*H141 -> 0 | AR141: 1 | AT141: K | AU141: 1 | AY141: ROZPOCET | BE141: =IF(N141="základní",J141,0) -> 0 | BF141: =IF(N141="snížená",J141,0) -> 0 | BG141: =IF(N141="zákl. přenesená",J141,0) -> 0 | BH141: =IF(N141="sníž. přenesená",J141,0) -> 0 | BI141: =IF(N141="nulová",J141,0) -> 0 | BJ141: 1 | BK141: =ROUND(I141*H141,2) -> 0 | BL141: 1 | BM141: 94133500
D142: PP | F142: Softwarové práce na zařízení integračního koncentrátoru InK a integračního serveru InS DDTS ŽDC konfigurace nově doplněných nebo upravených přenosů dat ze systémů TLS - do datových struktur na zařízení Ink a InS | AT142: PP | AU142: 1
C143: 11 | D143: K | E143: 7592525175 | F143: Softwarové práce na zařízení integračního koncentrátoru InK a integračního serveru InS DDTS ŽDC integrace TLS | G143: kus | H143: 1 | J143: =ROUND(I143*H143,2) -> 0 | K143: Sborník UOŽI 01 2020 | N143: základní | P143: =O143*H143 -> 0 | Q143: 0 | R143: =Q143*H143 -> 0 | S143: 0 | T143: =S143*H143 -> 0 | AR143: 1 | AT143: K | AU143: 1 | AY143: ROZPOCET | BE143: =IF(N143="základní",J143,0) -> 0 | BF143: =IF(N143="snížená",J143,0) -> 0 | BG143: =IF(N143="zákl. přenesená",J143,0) -> 0 | BH143: =IF(N143="sníž. přenesená",J143,0) -> 0 | BI143: =IF(N143="nulová",J143,0) -> 0 | BJ143: 1 | BK143: =ROUND(I143*H143,2) -> 0 | BL143: 1 | BM143: 2140426553
D144: PP | F144: Softwarové práce na zařízení integračního koncentrátoru InK a integračního serveru InS DDTS ŽDC integrace TLS - úprava, doplnění, kontrola, zkouška nebo integrace jednoho rozváděče nebo ústředny z technologického systému integrované ŽST/Zast. (EOV, OSV, EPS, EZS, ASHS, EPZ, …) do InS | AT144: PP | AU144: 1
C145: 12 | D145: K | E145: 7592525180 | F145: Odzkoušení programového vybavení po montáži nebo úpravě DDTS ŽDC | G145: kus | H145: 1 | J145: =ROUND(I145*H145,2) -> 0 | K145: Sborník UOŽI 01 2020 | N145: základní | P145: =O145*H145 -> 0 | Q145: 0 | R145: =Q145*H145 -> 0 | S145: 0 | T145: =S145*H145 -> 0 | AR145: 1 | AT145: K | AU145: 1 | AY145: ROZPOCET | BE145: =IF(N145="základní",J145,0) -> 0 | BF145: =IF(N145="snížená",J145,0) -> 0 | BG145: =IF(N145="zákl. přenesená",J145,0) -> 0 | BH145: =IF(N145="sníž. přenesená",J145,0) -> 0 | BI145: =IF(N145="nulová",J145,0) -> 0 | BJ145: 1 | BK145: =ROUND(I145*H145,2) -> 0 | BL145: 1 | BM145: -437534443
D146: PP | F146: Odzkoušení programového vybavení po montáži nebo úpravě DDTS ŽDC - nově provedených úprav nebo nově doplněných systémů TLS na zařízení Ink a InS | AT146: PP | AU146: 1
C147: 13 | D147: K | E147: 7592525185 | F147: Závěrečná zkouška po montáži nebo úpravě DDTS ŽDC | G147: kus | H147: 1 | J147: =ROUND(I147*H147,2) -> 0 | K147: Sborník UOŽI 01 2020 | N147: základní | P147: =O147*H147 -> 0 | Q147: 0 | R147: =Q147*H147 -> 0 | S147: 0 | T147: =S147*H147 -> 0 | AR147: 1 | AT147: K | AU147: 1 | AY147: ROZPOCET | BE147: =IF(N147="základní",J147,0) -> 0 | BF147: =IF(N147="snížená",J147,0) -> 0 | BG147: =IF(N147="zákl. přenesená",J147,0) -> 0 | BH147: =IF(N147="sníž. přenesená",J147,0) -> 0 | BI147: =IF(N147="nulová",J147,0) -> 0 | BJ147: 1 | BK147: =ROUND(I147*H147,2) -> 0 | BL147: 1 | BM147: 1217068266
D148: PP | F148: Závěrečná zkouška po montáži nebo úpravě DDTS ŽDC - nově doplněného nebo upraveného programového a aplikačního vybavení zařízení Ink a InS pro jeden TLS | AT148: PP | AU148: 1
C149: 14 | D149: K | E149: 7593333990 | F149: Hodinová zúčtovací sazba pro opravu elektronických prvků a zařízení | G149: hod | H149: 20 | J149: =ROUND(I149*H149,2) -> 0 | K149: Sborník UOŽI 01 2020 | N149: základní | P149: =O149*H149 -> 0 | Q149: 0 | R149: =Q149*H149 -> 0 | S149: 0 | T149: =S149*H149 -> 0 | AR149: 1 | AT149: K | AU149: 1 | AY149: ROZPOCET | BE149: =IF(N149="základní",J149,0) -> 0 | BF149: =IF(N149="snížená",J149,0) -> 0 | BG149: =IF(N149="zákl. přenesená",J149,0) -> 0 | BH149: =IF(N149="sníž. přenesená",J149,0) -> 0 | BI149: =IF(N149="nulová",J149,0) -> 0 | BJ149: 1 | BK149: =ROUND(I149*H149,2) -> 0 | BL149: 1 | BM149: 165312694
D150: PP | F150: Hodinová zúčtovací sazba pro opravu elektronických prvků a zařízení | AT150: PP | AU150: 1

Sheet 01.7 - Vedlejší a ostatní...
AT2: {d04154d4-37e4-4ee6-a323-f118dc421f4a}
AT3: 2
D4: KRYCÍ LIST SOUPISU PRACÍ | M4: v --- níže se nacházejí doplnkové a pomocné údaje k sestavám --- v | AT4: False
D6: Stavba:
E7: ='Rekapitulace stavby'!K6 -> Oprava SZZ, kolejí a výhybek v žst. Pocínovice
D8: Objekt:
E9: 01 - Oprava sdělovacího a zabezpečovacího zařízení žst. Pocínovice
D10: Soupis:
E11: 01.7 - Vedlejší a ostatní náklady
D13: KSO: | I13: CC-CZ:
D14: Místo: | F14: Pocínovice | I14: Datum: | J14: ='Rekapitulace stavby'!AN8 -> 21. 9. 2020
D16: Zadavatel: | I16: IČ:
E17: Správa železnic, státní organizace | I17: DIČ:
D19: Uchazeč: | I19: IČ: | J19: ='Rekapitulace stavby'!AN13 -> Vyplň údaj
E20: ='Rekapitulace stavby'!E14 -> Vyplň údaj | I20: DIČ: | J20: ='Rekapitulace stavby'!AN14 -> Vyplň údaj
D22: Projektant: | I22: IČ: | J22: =IF('Rekapitulace stavby'!AN16="","",'Rekapitulace stavby'!AN16)
E23: =IF('Rekapitulace stavby'!E17="","",'Rekapitulace stavby'!E17) | I23: DIČ: | J23: =IF('Rekapitulace stavby'!AN17="","",'Rekapitulace stavby'!AN17)
D25: Zpracovatel: | I25: IČ: | J25: =IF('Rekapitulace stavby'!AN19="","",'Rekapitulace stavby'!AN19)
E26: =IF('Rekapitulace stavby'!E20="","",'Rekapitulace stavby'!E20) | I26: DIČ: | J26: =IF('Rekapitulace stavby'!AN20="","",'Rekapitulace stavby'!AN20)
D28: Poznámka:
D32: Cena bez DPH | J32: =ROUND(J121, 2) -> 0
F34: Základ daně | I34: Sazba daně | J34: Výše daně
D35: DPH | E35: základní | F35: =ROUND((SUM(BE121:BE134)), 2) -> 0 | I35: 0.21 | J35: =ROUND(((SUM(BE121:BE134))*I35), 2) -> 0
E36: snížená | F36: =ROUND((SUM(BF121:BF134)), 2) -> 0 | I36: 0.15 | J36: =ROUND(((SUM(BF121:BF134))*I36), 2) -> 0
E37: zákl. přenesená | F37: =ROUND((SUM(BG121:BG134)), 2) -> 0 | I37: 0.21 | J37: =0 -> 0
E38: sníž. přenesená | F38: =ROUND((SUM(BH121:BH134)), 2) -> 0 | I38: 0.15 | J38: =0 -> 0
E39: nulová | F39: =ROUND((SUM(BI121:BI134)), 2) -> 0 | I39: 0 | J39: =0 -> 0
D41: Cena s DPH | G41: v | H41: CZK | J41: =SUM(J32:J39) -> 0
D50: Projektant | G50: Zpracovatel
D61: Datum a podpis: | F61: Razítko | G61: Datum a podpis: | J61: Razítko
D65: Objednavatel | G65: Uchazeč
D76: Datum a podpis: | F76: Razítko | G76: Datum a podpis: | J76: Razítko
C82: REKAPITULACE ČLENĚNÍ SOUPISU PRACÍ
C84: Stavba:
E85: =E7 -> Oprava SZZ, kolejí a výhybek v žst. Pocínovice
C86: Objekt:
E87: 01 - Oprava sdělovacího a zabezpečovacího zařízení žst. Pocínovice
C88: Soupis:
E89: =E11 -> 01.7 - Vedlejší a ostatní náklady
C91: Místo: | F91: =F14 -> Pocínovice | I91: Datum: | J91: =IF(J14="","",J14) -> 21. 9. 2020
C93: Zadavatel: | F93: =E17 -> Správa železnic, státní organizace | I93: Projektant: | J93: =E23
C94: Uchazeč: | F94: =IF(E20="","",E20) -> Vyplň údaj | I94: Zpracovatel: | J94: =E26
C96: Kód dílu - Popis | J96: Cena celkem [CZK]
C98: Náklady ze soupisu prací | J98: =J121 -> 0 | AU98: -1
D99: VRN - Vedlejší rozpočtové náklady | J99: =J122 -> 0
C106: SOUPIS PRACÍ
C108: Stavba:
E109: =E7 -> Oprava SZZ, kolejí a výhybek v žst. Pocínovice
C110: Objekt:
E111: 01 - Oprava sdělovacího a zabezpečovacího zařízení žst. Pocínovice
C112: Soupis:
E113: =E11 -> 01.7 - Vedlejší a ostatní náklady
C115: Místo: | F115: =F14 -> Pocínovice | I115: Datum: | J115: =IF(J14="","",J14) -> 21. 9. 2020
C117: Zadavatel: | F117: =E17 -> Správa železnic, státní organizace | I117: Projektant: | J117: =E23
C118: Uchazeč: | F118: =IF(E20="","",E20) -> Vyplň údaj | I118: Zpracovatel: | J118: =E26
C120: PČ | D120: Typ | E120: Kód | F120: Popis | G120: MJ | H120: Množství | I120: J.cena [CZK] | J120: Cena celkem [CZK] | K120: Cenová soustava | N120: DPH | O120: J. Nh [h] | P120: Nh celkem [h] | Q120: J. hmotnost [t] | R120: Hmotnost celkem [t] | S120: J. suť [t] | T120: Suť Celkem [t]
C121: Náklady soupisu celkem | J121: =BK121 -> 0 | P121: =P122 -> 0 | R121: =R122 -> 0 | T121: =T122 -> 0 | AT121: D | AU121: -1 | BK121: =BK122 -> 0
D122: D | E122: VRN | F122: Vedlejší rozpočtové náklady | J122: =BK122 -> 0 | P122: =SUM(P123:P134) -> 0 | R122: =SUM(R123:R134) -> 0 | T122: =SUM(T123:T134) -> 0 | AR122: 5 | AT122: D | AU122: 0 | AY122: ROZPOCET | BK122: =SUM(BK123:BK134) -> 0
C123: 4 | D123: K | E123: 023101041 | F123: Projektové práce Projektové práce v rozsahu ZRN (vyjma dále jmenované práce) přes 20 mil. Kč | G123: % | J123: =ROUND(I123*H123,2) -> 0 | K123: Sborník UOŽI 01 2020 | N123: základní | P123: =O123*H123 -> 0 | Q123: 0 | R123: =Q123*H123 -> 0 | S123: 0 | T123: =S123*H123 -> 0 | AR123: 4 | AT123: K | AU123: 1 | AY123: ROZPOCET | BE123: =IF(N123="základní",J123,0) -> 0 | BF123: =IF(N123="snížená",J123,0) -> 0 | BG123: =IF(N123="zákl. přenesená",J123,0) -> 0 | BH123: =IF(N123="sníž. přenesená",J123,0) -> 0 | BI123: =IF(N123="nulová",J123,0) -> 0 | BJ123: 1 | BK123: =ROUND(I123*H123,2) -> 0 | BL123: 4 | BM123: 797257650
D124: PP | F124: Projektové práce Projektové práce v rozsahu ZRN (vyjma dále jmenované práce) přes 20 mil. Kč | AT124: PP | AU124: 1
D125: P | F125: Poznámka k položce:_x000D_ Základna pro výpočet - ZRN | AT125: P | AU125: 1
C126: 2 | D126: K | E126: 023131011 | F126: Projektové práce Dokumentace skutečného provedení zabezpečovacích, sdělovacích, elektrických zařízení | G126: % | J126: =ROUND(I126*H126,2) -> 0 | K126: Sborník UOŽI 01 2020 | N126: základní | P126: =O126*H126 -> 0 | Q126: 0 | R126: =Q126*H126 -> 0 | S126: 0 | T126: =S126*H126 -> 0 | AR126: 4 | AT126: K | AU126: 1 | AY126: ROZPOCET | BE126: =IF(N126="základní",J126,0) -> 0 | BF126: =IF(N126="snížená",J126,0) -> 0 | BG126: =IF(N126="zákl. přenesená",J126,0) -> 0 | BH126: =IF(N126="sníž. přenesená",J126,0) -> 0 | BI126: =IF(N126="nulová",J126,0) -> 0 | BJ126: 1 | BK126: =ROUND(I126*H126,2) -> 0 | BL126: 4 | BM126: 1171816199
D127: PP | F127: Projektové práce Dokumentace skutečného provedení zabezpečovacích, sdělovacích, elektrických zařízení - V sazbě jsou obsaženy náklady na zaměření a vyhotovení dokumentace skutečného provedení elektrických zařízení dle vyhlášky 146/2008 Sb. včetně zpracování dat v digitální podobě v otevřené formě a její předání objednateli | AT127: PP | AU127: 1
D128: P | F128: Poznámka k položce:_x000D_ Základna pro výpočet - dotyčné práce | AT128: P | AU128: 1
C129: 3 | D129: K | E129: 031101021 | F129: Zařízení a vybavení staveniště vyjma dále jmenované práce včetně opatření na ochranu sousedních pozemků, včetně opatření na ochranu sousedních pozemků, informační tabule, dopravního značení na staveništi aj. při velikosti nákladů přes 3 do 5 mil. Kč | G129: % | J129: =ROUND(I129*H129,2) -> 0 | K129: Sborník UOŽI 01 2020 | N129: základní | P129: =O129*H129 -> 0 | Q129: 0 | R129: =Q129*H129 -> 0 | S129: 0 | T129: =S129*H129 -> 0 | AR129: 4 | AT129: K | AU129: 1 | AY129: ROZPOCET | BE129: =IF(N129="základní",J129,0) -> 0 | BF129: =IF(N129="snížená",J129,0) -> 0 | BG129: =IF(N129="zákl. přenesená",J129,0) -> 0 | BH129: =IF(N129="sníž. přenesená",J129,0) -> 0 | BI129: =IF(N129="nulová",J129,0) -> 0 | BJ129: 1 | BK129: =ROUND(I129*H129,2) -> 0 | BL129: 4 | BM129: 424058547
D130: PP | F130: Zařízení a vybavení staveniště vyjma dále jmenované práce včetně opatření na ochranu sousedních pozemků, včetně opatření na ochranu sousedních pozemků, informační tabule, dopravního značení na staveništi aj. při velikosti nákladů přes 3 do 5 mil. Kč | AT130: PP | AU130: 1
D131: P | F131: Poznámka k položce:_x000D_ Základna pro výpočet - ZRN | AT131: P | AU131: 1
C132: 5 | D132: K | E132: 024101401 | F132: Inženýrská činnost koordinační a kompletační činnost | G132: % | J132: =ROUND(I132*H132,2) -> 0 | K132: Sborník UOŽI 01 2020 | N132: základní | P132: =O132*H132 -> 0 | Q132: 0 | R132: =Q132*H132 -> 0 | S132: 0 | T132: =S132*H132 -> 0 | AR132: 4 | AT132: K | AU132: 1 | AY132: ROZPOCET | BE132: =IF(N132="základní",J132,0) -> 0 | BF132: =IF(N132="snížená",J132,0) -> 0 | BG132: =IF(N132="zákl. přenesená",J132,0) -> 0 | BH132: =IF(N132="sníž. přenesená",J132,0) -> 0 | BI132: =IF(N132="nulová",J132,0) -> 0 | BJ132: 1 | BK132: =ROUND(I132*H132,2) -> 0 | BL132: 4 | BM132: 1487201853
D133: PP | F133: Inženýrská činnost koordinační a kompletační činnost | AT133: PP | AU133: 1
D134: P | F134: Poznámka k položce:_x000D_ Základna pro výpočet - ZRN | AT134: P | AU134: 1

Sheet 01.8 - Náklady na dopravu
AT2: {d229a2b4-677f-4789-a13c-9c63e2fed32a}
AT3: 2
D4: KRYCÍ LIST SOUPISU PRACÍ | M4: v --- níže se nacházejí doplnkové a pomocné údaje k sestavám --- v | AT4: False
D6: Stavba:
E7: ='Rekapitulace stavby'!K6 -> Oprava SZZ, kolejí a výhybek v žst. Pocínovice
D8: Objekt:
E9: 01 - Oprava sdělovacího a zabezpečovacího zařízení žst. Pocínovice
D10: Soupis:
E11: 01.8 - Náklady na dopravu
D13: KSO: | I13: CC-CZ:
D14: Místo: | F14: Pocínovice | I14: Datum: | J14: ='Rekapitulace stavby'!AN8 -> 21. 9. 2020
D16: Zadavatel: | I16: IČ:
E17: Správa železnic, státní organizace | I17: DIČ:
D19: Uchazeč: | I19: IČ: | J19: ='Rekapitulace stavby'!AN13 -> Vyplň údaj
E20: ='Rekapitulace stavby'!E14 -> Vyplň údaj | I20: DIČ: | J20: ='Rekapitulace stavby'!AN14 -> Vyplň údaj
D22: Projektant: | I22: IČ: | J22: =IF('Rekapitulace stavby'!AN16="","",'Rekapitulace stavby'!AN16)
E23: =IF('Rekapitulace stavby'!E17="","",'Rekapitulace stavby'!E17) | I23: DIČ: | J23: =IF('Rekapitulace stavby'!AN17="","",'Rekapitulace stavby'!AN17)
D25: Zpracovatel: | I25: IČ: | J25: =IF('Rekapitulace stavby'!AN19="","",'Rekapitulace stavby'!AN19)
E26: =IF('Rekapitulace stavby'!E20="","",'Rekapitulace stavby'!E20) | I26: DIČ: | J26: =IF('Rekapitulace stavby'!AN20="","",'Rekapitulace stavby'!AN20)
D28: Poznámka:
D32: Cena bez DPH | J32: =ROUND(J120, 2) -> 0
F34: Základ daně | I34: Sazba daně | J34: Výše daně
D35: DPH | E35: základní | F35: =ROUND((SUM(BE120:BE130)), 2) -> 0 | I35: 0.21 | J35: =ROUND(((SUM(BE120:BE130))*I35), 2) -> 0
E36: snížená | F36: =ROUND((SUM(BF120:BF130)), 2) -> 0 | I36: 0.15 | J36: =ROUND(((SUM(BF120:BF130))*I36), 2) -> 0
E37: zákl. přenesená | F37: =ROUND((SUM(BG120:BG130)), 2) -> 0 | I37: 0.21 | J37: =0 -> 0
E38: sníž. přenesená | F38: =ROUND((SUM(BH120:BH130)), 2) -> 0 | I38: 0.15 | J38: =0 -> 0
E39: nulová | F39: =ROUND((SUM(BI120:BI130)), 2) -> 0 | I39: 0 | J39: =0 -> 0
D41: Cena s DPH | G41: v | H41: CZK | J41: =SUM(J32:J39) -> 0
D50: Projektant | G50: Zpracovatel
D61: Datum a podpis: | F61: Razítko | G61: Datum a podpis: | J61: Razítko
D65: Objednavatel | G65: Uchazeč
D76: Datum a podpis: | F76: Razítko | G76: Datum a podpis: | J76: Razítko
C82: REKAPITULACE ČLENĚNÍ SOUPISU PRACÍ
C84: Stavba:
E85: =E7 -> Oprava SZZ, kolejí a výhybek v žst. Pocínovice
C86: Objekt:
E87: 01 - Oprava sdělovacího a zabezpečovacího zařízení žst. Pocínovice
C88: Soupis:
E89: =E11 -> 01.8 - Náklady na dopravu
C91: Místo: | F91: =F14 -> Pocínovice | I91: Datum: | J91: =IF(J14="","",J14) -> 21. 9. 2020
C93: Zadavatel: | F93: =E17 -> Správa železnic, státní organizace | I93: Projektant: | J93: =E23
C94: Uchazeč: | F94: =IF(E20="","",E20) -> Vyplň údaj | I94: Zpracovatel: | J94: =E26
C96: Kód dílu - Popis | J96: Cena celkem [CZK]
C98: Náklady ze soupisu prací | J98: =J120 -> 0 | AU98: -1
C105: SOUPIS PRACÍ
C107: Stavba:
E108: =E7 -> Oprava SZZ, kolejí a výhybek v žst. Pocínovice
C109: Objekt:
E110: 01 - Oprava sdělovacího a zabezpečovacího zařízení žst. Pocínovice
C111: Soupis:
E112: =E11 -> 01.8 - Náklady na dopravu
C114: Místo: | F114: =F14 -> Pocínovice | I114: Datum: | J114: =IF(J14="","",J14) -> 21. 9. 2020
C116: Zadavatel: | F116: =E17 -> Správa železnic, státní organizace | I116: Projektant: | J116: =E23
C117: Uchazeč: | F117: =IF(E20="","",E20) -> Vyplň údaj | I117: Zpracovatel: | J117: =E26
C119: PČ | D119: Typ | E119: Kód | F119: Popis | G119: MJ | H119: Množství | I119: J.cena [CZK] | J119: Cena celkem [CZK] | K119: Cenová soustava | N119: DPH | O119: J. Nh [h] | P119: Nh celkem [h] | Q119: J. hmotnost [t] | R119: Hmotnost celkem [t] | S119: J. suť [t] | T119: Suť Celkem [t]
C120: Náklady soupisu celkem | J120: =BK120 -> 0 | P120: =SUM(P121:P130) -> 0 | R120: =SUM(R121:R130) -> 0 | T120: =SUM(T121:T130) -> 0 | AT120: D | AU120: -1 | BK120: =SUM(BK121:BK130) -> 0
C121: 1 | D121: K | E121: 9901000600 | F121: Doprava obousměrná (např. dodávek z vlastních zásob zhotovitele nebo objednatele nebo výzisku) mechanizací o nosnosti do 3,5 t elektrosoučástek, montážního materiálu, kameniva, písku, dlažebních kostek, suti, atd. do 80 km | G121: kus | H121: 70 | J121: =ROUND(I121*H121,2) -> 0 | K121: Sborník UOŽI 01 2020 | N121: základní | P121: =O121*H121 -> 0 | Q121: 0 | R121: =Q121*H121 -> 0 | S121: 0 | T121: =S121*H121 -> 0 | AR121: 512 | AT121: K | AU121: 0 | AY121: ROZPOCET | BE121: =IF(N121="základní",J121,0) -> 0 | BF121: =IF(N121="snížená",J121,0) -> 0 | BG121: =IF(N121="zákl. přenesená",J121,0) -> 0 | BH121: =IF(N121="sníž. přenesená",J121,0) -> 0 | BI121: =IF(N121="nulová",J121,0) -> 0 | BJ121: 1 | BK121: =ROUND(I121*H121,2) -> 0 | BL121: 512 | BM121: -677378280
D122: PP | F122: Doprava obousměrná (např. dodávek z vlastních zásob zhotovitele nebo objednatele nebo výzisku) mechanizací o nosnosti do 3,5 t elektrosoučástek, montážního materiálu, kameniva, písku, dlažebních kostek, suti, atd. do 80 km. Poznámka: 1. Ceny jsou určeny pro dopravu silničními i kolejovými vozidly.2. V cenách obousměrné dopravy jsou započteny náklady na přepravu materiálu na místo určení včetně složení, poplatku za použití dopravní cesty a zpáteční cesty nenaloženého dopravního prostředku.3. V cenách jednosměrné dopravy jsou započteny náklady na přepravu materiálu na místo určení včetně složení a poplatku za použití dopravní cesty. Tyto položky se použijí i v případě, kdy se předpokládá, že dopravní prostředek bude naložen i na zpáteční cestě. V tomto případě se použijí položky pro každý směr samostatně (např. doprava materiálu na stavbu a odvoz výzisku nebo suti ze stavby). | AT122: PP | AU122: 0
D123: P | F123: Poznámka k položce:_x000D_ Měrnou jednotkou je kus stroje. | AT123: P | AU123: 0
C124: 2 | D124: K | E124: 9902100600 | F124: Doprava obousměrná (např. dodávek z vlastních zásob zhotovitele nebo objednatele nebo výzisku) mechanizací o nosnosti přes 3,5 t sypanin (kameniva, písku, suti, dlažebních kostek, atd.) do 80 km | G124: t | H124: 12 | J124: =ROUND(I124*H124,2) -> 0 | K124: Sborník UOŽI 01 2020 | N124: základní | P124: =O124*H124 -> 0 | Q124: 0 | R124: =Q124*H124 -> 0 | S124: 0 | T124: =S124*H124 -> 0 | AR124: 512 | AT124: K | AU124: 0 | AY124: ROZPOCET | BE124: =IF(N124="základní",J124,0) -> 0 | BF124: =IF(N124="snížená",J124,0) -> 0 | BG124: =IF(N124="zákl. přenesená",J124,0) -> 0 | BH124: =IF(N124="sníž. přenesená",J124,0) -> 0 | BI124: =IF(N124="nulová",J124,0) -> 0 | BJ124: 1 | BK124: =ROUND(I124*H124,2) -> 0 | BL124: 512 | BM124: 384170742
D125: PP | F125: Doprava obousměrná (např. dodávek z vlastních zásob zhotovitele nebo objednatele nebo výzisku) mechanizací o nosnosti přes 3,5 t sypanin (kameniva, písku, suti, dlažebních kostek, atd.) do 80 km. Poznámka: 1. Ceny jsou určeny pro dopravu silničními i kolejovými vozidly.2. V cenách obousměrné dopravy jsou započteny náklady na přepravu materiálu na místo určení včetně složení, poplatku za použití dopravní cesty a zpáteční cesty nenaloženého dopravního prostředku.3. V cenách jednosměrné dopravy jsou započteny náklady na přepravu materiálu na místo určení včetně složení a poplatku za použití dopravní cesty. Tyto položky se použijí i v případě, kdy se předpokládá, že dopravní prostředek bude naložen i na zpáteční cestě. V tomto případě se použijí položky pro každý směr samostatně (např. doprava materiálu na stavbu a odvoz výzisku nebo suti ze stavby). | AT125: PP | AU125: 0
D126: P | F126: Poznámka k položce:_x000D_ Měrnou jednotkou je t přepravovaného materiálu. | AT126: P | AU126: 0
C127: 3 | D127: K | E127: 9902900200 | F127: Naložení objemnějšího kusového materiálu, vybouraných hmot | G127: t | H127: 15 | J127: =ROUND(I127*H127,2) -> 0 | K127: Sborník UOŽI 01 2020 | N127: základní | P127: =O127*H127 -> 0 | Q127: 0 | R127: =Q127*H127 -> 0 | S127: 0 | T127: =S127*H127 -> 0 | AR127: 512 | AT127: K | AU127: 0 | AY127: ROZPOCET | BE127: =IF(N127="základní",J127,0) -> 0 | BF127: =IF(N127="snížená",J127,0) -> 0 | BG127: =IF(N127="zákl. přenesená",J127,0) -> 0 | BH127: =IF(N127="sníž. přenesená",J127,0) -> 0 | BI127: =IF(N127="nulová",J127,0) -> 0 | BJ127: 1 | BK127: =ROUND(I127*H127,2) -> 0 | BL127: 512 | BM127: -438335600
D128: PP | F128: Naložení objemnějšího kusového materiálu, vybouraných hmot . Poznámka: 1. Ceny jsou určeny pro nakládání materiálu v případech, kdy není naložení součástí dodávky materiálu nebo není uvedeno v popisu cen a pro nakládání z meziskládky.2. Ceny se použijí i pro nakládání materiálu z vlastních zásob objednatele. | AT128: PP | AU128: 0
C129: 4 | D129: K | E129: 9903100100 | F129: Přeprava mechanizace na místo prováděných prací o hmotnosti do 12 t přes 50 do 100 km | G129: kus | H129: 1 | J129: =ROUND(I129*H129,2) -> 0 | K129: Sborník UOŽI 01 2020 | N129: základní | P129: =O129*H129 -> 0 | Q129: 0 | R129: =Q129*H129 -> 0 | S129: 0 | T129: =S129*H129 -> 0 | AR129: 512 | AT129: K | AU129: 0 | AY129: ROZPOCET | BE129: =IF(N129="základní",J129,0) -> 0 | BF129: =IF(N129="snížená",J129,0) -> 0 | BG129: =IF(N129="zákl. přenesená",J129,0) -> 0 | BH129: =IF(N129="sníž. přenesená",J129,0) -> 0 | BI129: =IF(N129="nulová",J129,0) -> 0 | BJ129: 1 | BK129: =ROUND(I129*H129,2) -> 0 | BL129: 512 | BM129: 647795273
D130: PP | F130: Přeprava mechanizace na místo prováděných prací o hmotnosti do 12 t přes 50 do 100 km . Poznámka: 1. Ceny jsou určeny pro dopravu mechanizmů na místo prováděných prací po silnici i po kolejích.2. V ceně jsou započteny i náklady na zpáteční cestu dopravního prostředku. Měrnou jednotkou je kus přepravovaného stroje. | AT130: PP | AU130: 0

Sheet 02.1 - Výměna mostnic na ...
AT2: {d684f2ad-d6c2-424b-baf4-2cdc7a311249}
AT3: 2
D4: KRYCÍ LIST SOUPISU PRACÍ | M4: v --- níže se nacházejí doplnkové a pomocné údaje k sestavám --- v | AT4: False
D6: Stavba:
E7: ='Rekapitulace stavby'!K6 -> Oprava SZZ, kolejí a výhybek v žst. Pocínovice
D8: Objekt:
E9: 02 - Výměna mostnic na mostě v km 8,374
D10: Soupis:
E11: 02.1 - Výměna mostnic na mostě v km 8,374
D13: KSO: | I13: CC-CZ:
D14: Místo: | F14: Pocínovice | I14: Datum: | J14: ='Rekapitulace stavby'!AN8 -> 21. 9. 2020
D16: Zadavatel: | I16: IČ:
E17: Správa železnic, státní organizace | I17: DIČ:
D19: Uchazeč: | I19: IČ: | J19: ='Rekapitulace stavby'!AN13 -> Vyplň údaj
E20: ='Rekapitulace stavby'!E14 -> Vyplň údaj | I20: DIČ: | J20: ='Rekapitulace stavby'!AN14 -> Vyplň údaj
D22: Projektant: | I22: IČ: | J22: =IF('Rekapitulace stavby'!AN16="","",'Rekapitulace stavby'!AN16)
E23: =IF('Rekapitulace stavby'!E17="","",'Rekapitulace stavby'!E17) | I23: DIČ: | J23: =IF('Rekapitulace stavby'!AN17="","",'Rekapitulace stavby'!AN17)
D25: Zpracovatel: | I25: IČ: | J25: =IF('Rekapitulace stavby'!AN19="","",'Rekapitulace stavby'!AN19)
E26: =IF('Rekapitulace stavby'!E20="","",'Rekapitulace stavby'!E20) | I26: DIČ: | J26: =IF('Rekapitulace stavby'!AN20="","",'Rekapitulace stavby'!AN20)
D28: Poznámka:
D32: Cena bez DPH | J32: =ROUND(J121, 2) -> 0
F34: Základ daně | I34: Sazba daně | J34: Výše daně
D35: DPH | E35: základní | F35: =ROUND((SUM(BE121:BE168)), 2) -> 0 | I35: 0.21 | J35: =ROUND(((SUM(BE121:BE168))*I35), 2) -> 0
E36: snížená | F36: =ROUND((SUM(BF121:BF168)), 2) -> 0 | I36: 0.15 | J36: =ROUND(((SUM(BF121:BF168))*I36), 2) -> 0
E37: zákl. přenesená | F37: =ROUND((SUM(BG121:BG168)), 2) -> 0 | I37: 0.21 | J37: =0 -> 0
E38: sníž. přenesená | F38: =ROUND((SUM(BH121:BH168)), 2) -> 0 | I38: 0.15 | J38: =0 -> 0
E39: nulová | F39: =ROUND((SUM(BI121:BI168)), 2) -> 0 | I39: 0 | J39: =0 -> 0
D41: Cena s DPH | G41: v | H41: CZK | J41: =SUM(J32:J39) -> 0
D50: Projektant | G50: Zpracovatel
D61: Datum a podpis: | F61: Razítko | G61: Datum a podpis: | J61: Razítko
D65: Objednavatel | G65: Uchazeč
D76: Datum a podpis: | F76: Razítko | G76: Datum a podpis: | J76: Razítko
C82: REKAPITULACE ČLENĚNÍ SOUPISU PRACÍ
C84: Stavba:
E85: =E7 -> Oprava SZZ, kolejí a výhybek v žst. Pocínovice
C86: Objekt:
E87: 02 - Výměna mostnic na mostě v km 8,374
C88: Soupis:
E89: =E11 -> 02.1 - Výměna mostnic na mostě v km 8,374
C91: Místo: | F91: =F14 -> Pocínovice | I91: Datum: | J91: =IF(J14="","",J14) -> 21. 9. 2020
C93: Zadavatel: | F93: =E17 -> Správa železnic, státní organizace | I93: Projektant: | J93: =E23
C94: Uchazeč: | F94: =IF(E20="","",E20) -> Vyplň údaj | I94: Zpracovatel: | J94: =E26
C96: Kód dílu - Popis | J96: Cena celkem [CZK]
C98: Náklady ze soupisu prací | J98: =J121 -> 0 | AU98: -1
D99: HSV - Výměna mostnic na mostě v km 8,374 | J99: =J122 -> 0
C106: SOUPIS PRACÍ
C108: Stavba:
E109: =E7 -> Oprava SZZ, kolejí a výhybek v žst. Pocínovice
C110: Objekt:
E111: 02 - Výměna mostnic na mostě v km 8,374
C112: Soupis:
E113: =E11 -> 02.1 - Výměna mostnic na mostě v km 8,374
C115: Místo: | F115: =F14 -> Pocínovice | I115: Datum: | J115: =IF(J14="","",J14) -> 21. 9. 2020
C117: Zadavatel: | F117: =E17 -> Správa železnic, státní organizace | I117: Projektant: | J117: =E23
C118: Uchazeč: | F118: =IF(E20="","",E20) -> Vyplň údaj | I118: Zpracovatel: | J118: =E26
C120: PČ | D120: Typ | E120: Kód | F120: Popis | G120: MJ | H120: Množství | I120: J.cena [CZK] | J120: Cena celkem [CZK] | K120: Cenová soustava | N120: DPH | O120: J. Nh [h] | P120: Nh celkem [h] | Q120: J. hmotnost [t] | R120: Hmotnost celkem [t] | S120: J. suť [t] | T120: Suť Celkem [t]
C121: Náklady soupisu celkem | J121: =BK121 -> 0 | P121: =P122 -> 0 | R121: =R122 -> 3.2138725 | T121: =T122 -> 6.094274 | AT121: D | AU121: -1 | BK121: =BK122 -> 0
D122: D | E122: HSV | F122: Výměna mostnic na mostě v km 8,374 | J122: =BK122 -> 0 | P122: =SUM(P123:P168) -> 0 | R122: =SUM(R123:R168) -> 3.2138725 | T122: =SUM(T123:T168) -> 6.094274 | AR122: 1 | AT122: D | AU122: 0 | AY122: ROZPOCET | BK122: =SUM(BK123:BK168) -> 0
C123: 1 | D123: K | E123: 421941521 | F123: Demontáž podlahových plechů bez výztuh na mostech | G123: m2 | H123: 18.711 | J123: =ROUND(I123*H123,2) -> 0 | K123: CS ÚRS 2020 02 | N123: základní | P123: =O123*H123 -> 0 | Q123: 0.00037 | R123: =Q123*H123 -> 0.00692307 | S123: 0.06 | T123: =S123*H123 -> 1.12266 | AR123: 4 | AT123: K | AU123: 1 | AY123: ROZPOCET | BE123: =IF(N123="základní",J123,0) -> 0 | BF123: =IF(N123="snížená",J123,0) -> 0 | BG123: =IF(N123="zákl. přenesená",J123,0) -> 0 | BH123: =IF(N123="sníž. přenesená",J123,0) -> 0 | BI123: =IF(N123="nulová",J123,0) -> 0 | BJ123: 1 | BK123: =ROUND(I123*H123,2) -> 0 | BL123: 4 | BM123: 247264178
D124: PP | F124: Demontáž podlahových plechů bez výztuh | AT124: PP | AU124: 1
D125: VV | F125: 1,17*9,9"středové plechy | H125: 11.583 | AT125: VV | AU125: 1 | AV125: 2 | AW125: True | AX125: 0 | AY125: ROZPOCET
D126: VV | F126: (0,42+0,30)*9,9"plechy na hlavách | H126: 7.128 | AT126: VV | AU126: 1 | AV126: 2 | AW126: True | AX126: 0 | AY126: ROZPOCET
D127: VV | F127: Součet | H127: 18.711 | AT127: VV | AU127: 1 | AV127: 4 | AW127: True | AX127: 1 | AY127: ROZPOCET
C128: 2 | D128: M | E128: 13611304 | F128: plech ocelový černý žebrovaný S235JR slza tl 4mm tabule | G128: t | H128: 0.224 | J128: =ROUND(I128*H128,2) -> 0 | K128: CS ÚRS 2020 02 | N128: základní | P128: =O128*H128 -> 0 | Q128: 1 | R128: =Q128*H128 -> 0.224 | S128: 0 | T128: =S128*H128 -> 0 | AR128: 8 | AT128: M | AU128: 1 | AY128: ROZPOCET | BE128: =IF(N128="základní",J128,0) -> 0 | BF128: =IF(N128="snížená",J128,0) -> 0 | BG128: =IF(N128="zákl. přenesená",J128,0) -> 0 | BH128: =IF(N128="sníž. přenesená",J128,0) -> 0 | BI128: =IF(N128="nulová",J128,0) -> 0 | BJ128: 1 | BK128: =ROUND(I128*H128,2) -> 0 | BL128: 4 | BM128: -1875873300
D129: PP | F129: plech ocelový černý žebrovaný S235JR slza tl 4mm tabule | AT129: PP | AU129: 1
D130: VV | F130: (0,36+0,36)*9,9*0,004*7,850"plechy na hlavách | H130: 0.224 | AT130: VV | AU130: 1 | AV130: 2 | AW130: True | AX130: 0 | AY130: ROZPOCET
D131: VV | F131: Součet | H131: 0.224 | AT131: VV | AU131: 1 | AV131: 4 | AW131: True | AX131: 1 | AY131: ROZPOCET
C132: 3 | D132: K | E132: 421941221 | F132: Výroba podlahy z plechů bez výztuh opravě mostu | G132: m2 | H132: 7.128 | J132: =ROUND(I132*H132,2) -> 0 | K132: CS ÚRS 2020 02 | N132: základní | P132: =O132*H132 -> 0 | Q132: 0.00078 | R132: =Q132*H132 -> 0.00555984 | S132: 0 | T132: =S132*H132 -> 0 | AR132: 4 | AT132: K | AU132: 1 | AY132: ROZPOCET | BE132: =IF(N132="základní",J132,0) -> 0 | BF132: =IF(N132="snížená",J132,0) -> 0 | BG132: =IF(N132="zákl. přenesená",J132,0) -> 0 | BH132: =IF(N132="sníž. přenesená",J132,0) -> 0 | BI132: =IF(N132="nulová",J132,0) -> 0 | BJ132: 1 | BK132: =ROUND(I132*H132,2) -> 0 | BL132: 4 | BM132: -227603355
D133: PP | F133: Oprava podlah z plechů výroba bez výztuh | AT133: PP | AU133: 1
C134: 4 | D134: K | E134: 421941321 | F134: Montáž podlahy z plechů bez výztuh při opravě mostu | G134: m2 | H134: 18.711 | J134: =ROUND(I134*H134,2) -> 0 | K134: CS ÚRS 2020 02 | N134: základní | P134: =O134*H134 -> 0 | Q134: 0.0006 | R134: =Q134*H134 -> 0.0112266 | S134: 0 | T134: =S134*H134 -> 0 | AR134: 4 | AT134: K | AU134: 1 | AY134: ROZPOCET | BE134: =IF(N134="základní",J134,0) -> 0 | BF134: =IF(N134="snížená",J134,0) -> 0 | BG134: =IF(N134="zákl. přenesená",J134,0) -> 0 | BH134: =IF(N134="sníž. přenesená",J134,0) -> 0 | BI134: =IF(N134="nulová",J134,0) -> 0 | BJ134: 1 | BK134: =ROUND(I134*H134,2) -> 0 | BL134: 4 | BM134: -1254634025
D135: PP | F135: Oprava podlah z plechů montáž bez výztuh | AT135: PP | AU135: 1
C136: 5 | D136: K | E136: 521272215 | F136: Demontáž mostnic s odsunem hmot mimo objekt mostu | G136: kus | H136: 15 | J136: =ROUND(I136*H136,2) -> 0 | K136: CS ÚRS 2020 02 | N136: základní | P136: =O136*H136 -> 0 | Q136: 0.00058 | R136: =Q136*H136 -> 0.0087 | S136: 0.166 | T136: =S136*H136 -> 2.49 | AR136: 4 | AT136: K | AU136: 1 | AY136: ROZPOCET | BE136: =IF(N136="základní",J136,0) -> 0 | BF136: =IF(N136="snížená",J136,0) -> 0 | BG136: =IF(N136="zákl. přenesená",J136,0) -> 0 | BH136: =IF(N136="sníž. přenesená",J136,0) -> 0 | BI136: =IF(N136="nulová",J136,0) -> 0 | BJ136: 1 | BK136: =ROUND(I136*H136,2) -> 0 | BL136: 4 | BM136: -1054025791
D137: PP | F137: Demontáž mostnic s odsunem hmot mimo objekt mostu se zřízením pomocné montážní lávky | AT137: PP | AU137: 1
C138: 6 | D138: K | E138: 521273111 | F138: Výroba dřevěných mostnic železničního mostu v přímé, v oblouku nebo přechodnici bez převýšení | G138: kus | H138: 15 | J138: =ROUND(I138*H138,2) -> 0 | K138: CS ÚRS 2020 02 | N138: základní | P138: =O138*H138 -> 0 | Q138: 0.00211 | R138: =Q138*H138 -> 0.03165 | S138: 0 | T138: =S138*H138 -> 0 | AR138: 4 | AT138: K | AU138: 1 | AY138: ROZPOCET | BE138: =IF(N138="základní",J138,0) -> 0 | BF138: =IF(N138="snížená",J138,0) -> 0 | BG138: =IF(N138="zákl. přenesená",J138,0) -> 0 | BH138: =IF(N138="sníž. přenesená",J138,0) -> 0 | BI138: =IF(N138="nulová",J138,0) -> 0 | BJ138: 1 | BK138: =ROUND(I138*H138,2) -> 0 | BL138: 4 | BM138: -642428115
D139: PP | F139: Mostnice na železničních mostech z tvrdého dřeva s plošným uložením výroba bez převýšení v přímé, v oblouku nebo přechodnici | AT139: PP | AU139: 1
C140: 7 | D140: K | E140: 521273211 | F140: Montáž dřevěných mostnic železničního mostu v přímé, v oblouku nebo přechodnici bez převýšení | G140: kus | H140: 15 | J140: =ROUND(I140*H140,2) -> 0 | K140: CS ÚRS 2020 02 | N140: základní | P140: =O140*H140 -> 0 | Q140: 0.00266 | R140: =Q140*H140 -> 0.0399 | S140: 0 | T140: =S140*H140 -> 0 | AR140: 4 | AT140: K | AU140: 1 | AY140: ROZPOCET | BE140: =IF(N140="základní",J140,0) -> 0 | BF140: =IF(N140="snížená",J140,0) -> 0 | BG140: =IF(N140="zákl. přenesená",J140,0) -> 0 | BH140: =IF(N140="sníž. přenesená",J140,0) -> 0 | BI140: =IF(N140="nulová",J140,0) -> 0 | BJ140: 1 | BK140: =ROUND(I140*H140,2) -> 0 | BL140: 4 | BM140: 988421785
D141: PP | F141: Mostnice na železničních mostech z tvrdého dřeva s plošným uložením montáž bez převýšení v přímé, v oblouku nebo přechodnici | AT141: PP | AU141: 1
C142: 8 | D142: M | E142: 60815370 | F142: mostnice dřevěná impregnovaná olejem DB 240x260mm dl 2,5m | G142: m3 | H142: 2.652 | J142: =ROUND(I142*H142,2) -> 0 | K142: CS ÚRS 2020 02 | N142: základní | P142: =O142*H142 -> 0 | Q142: 0.815 | R142: =Q142*H142 -> 2.16138 | S142: 0 | T142: =S142*H142 -> 0 | AR142: 8 | AT142: M | AU142: 1 | AY142: ROZPOCET | BE142: =IF(N142="základní",J142,0) -> 0 | BF142: =IF(N142="snížená",J142,0) -> 0 | BG142: =IF(N142="zákl. přenesená",J142,0) -> 0 | BH142: =IF(N142="sníž. přenesená",J142,0) -> 0 | BI142: =IF(N142="nulová",J142,0) -> 0 | BJ142: 1 | BK142: =ROUND(I142*H142,2) -> 0 | BL142: 4 | BM142: -1732998117
D143: PP | F143: mostnice dřevěná impregnovaná olejem DB 240x260mm dl 2,5m | AT143: PP | AU143: 1
D144: VV | F144: (15+2)*0,24*0,26*2,5 | H144: 2.652 | AT144: VV | AU144: 1 | AV144: 2 | AW144: True | AX144: 0 | AY144: ROZPOCET
D145: VV | F145: Součet | H145: 2.652 | AT145: VV | AU145: 1 | AV145: 4 | AW145: True | AX145: 1 | AY145: ROZPOCET
C146: 9 | D146: K | E146: 521271921 | F146: Dotažení mostnicového šroubu po dosednutí vlivem provozu | G146: kus | H146: 30 | J146: =ROUND(I146*H146,2) -> 0 | K146: CS ÚRS 2020 02 | N146: základní | P146: =O146*H146 -> 0 | Q146: 0 | R146: =Q146*H146 -> 0 | S146: 0 | T146: =S146*H146 -> 0 | AR146: 4 | AT146: K | AU146: 1 | AY146: ROZPOCET | BE146: =IF(N146="základní",J146,0) -> 0 | BF146: =IF(N146="snížená",J146,0) -> 0 | BG146: =IF(N146="zákl. přenesená",J146,0) -> 0 | BH146: =IF(N146="sníž. přenesená",J146,0) -> 0 | BI146: =IF(N146="nulová",J146,0) -> 0 | BJ146: 1 | BK146: =ROUND(I146*H146,2) -> 0 | BL146: 4 | BM146: 1631555303
D147: PP | F147: Údržba mostnicových šroubů dotažení po dosednutí vlivem provozu | AT147: PP | AU147: 1
C148: 10 | D148: K | E148: 521283221 | F148: Demontáž pozednic včetně odstranění štěrkového podsypu | G148: kus | H148: 2 | J148: =ROUND(I148*H148,2) -> 0 | K148: CS ÚRS 2020 02 | N148: základní | P148: =O148*H148 -> 0 | Q148: 0.00058 | R148: =Q148*H148 -> 0.00116 | S148: 0.166 | T148: =S148*H148 -> 0.332 | AR148: 4 | AT148: K | AU148: 1 | AY148: ROZPOCET | BE148: =IF(N148="základní",J148,0) -> 0 | BF148: =IF(N148="snížená",J148,0) -> 0 | BG148: =IF(N148="zákl. přenesená",J148,0) -> 0 | BH148: =IF(N148="sníž. přenesená",J148,0) -> 0 | BI148: =IF(N148="nulová",J148,0) -> 0 | BJ148: 1 | BK148: =ROUND(I148*H148,2) -> 0 | BL148: 4 | BM148: -187255266
D149: PP | F149: Demontáž pozednic s odstraněním štěrku | AT149: PP | AU149: 1
