Workbook

Sheet Rekapitulace zakázky
A1: Export Komplet | BA1: 2.0 | BB1: ZAMOK | BT1: False | BU1: False | BV1: {3f4c3366-3d92-4650-be4d-6b3dcda359b1}
BS2: 0,01 | BT2: 21
BS3: 0,01 | BT3: 15
D4: REKAPITULACE ZAKÁZKY | AS4: v --- níže se nacházejí doplnkové a pomocné údaje k sestavám --- v | BE4: Návod na vyplnění | BS4: 0,001
D5: Kód: | K5: 650180262Z-1 | BE5: Měnit lze pouze buňky se žlutým podbarvením!_x000D_ _x000D_ 1) na prvním listu Rekapitulace stavby vyplňte v sestavě_x000D_ _x000D_ a) Souhrnný list_x000D_ - údaje o Uchazeči_x000D_ (přenesou se do ostatních sestav i v jiných listech)_x000D_ _x000D_ b) Rekapitulace objektů_x000D_ - potřebné Ostatní náklady_x000D_ _x000D_ 2) na vybraných listech vyplňte v sestavě_x000D_ _x000D_ a) Krycí list_x000D_ - údaje o Uchazeči, pokud se liší od údajů o Uchazeči na Souhrnném listu_x000D_ (údaje se přenesou do ostatních sestav v daném listu)_x000D_ _x000D_ b) Rekapitulace rozpočtu_x000D_ - potřebné Ostatní náklady_x000D_ _x000D_ c) Celkové náklady za stavbu_x000D_ - ceny u položek_x000D_ - množství, pokud má žluté podbarvení_x000D_ - a v případě potřeby poznámku (ta je ve skrytém sloupci) | BS5: 0,01
D6: Zakázka: | K6: Údržba, opravy a odstraňování závad u SMT v roce 2020 | BS6: 0,1
D7: KSO: | AK7: CC-CZ: | BS7: 1
D8: Místo: | AK8: Datum: | AN8: 26. 5. 2020 | BS8: 10
BS9: 100
D10: Zadavatel: | AK10: IČ: | BS10: 0,1
AK11: DIČ: | BS11: 0,1
BS12: 0,1
D13: Uchazeč: | AK13: IČ: | AN13: Vyplň údaj | BS13: 0,1
E14: Vyplň údaj | AK14: DIČ: | AN14: Vyplň údaj | BS14: 0,1
BS15: False
D16: Projektant: | AK16: IČ: | BS16: False
AK17: DIČ: | BS17: True
BS18: 0,01
D19: Zpracovatel: | AK19: IČ: | BS19: 0,01
AK20: DIČ: | BS20: True
D22: Poznámka:
D26: Cena bez DPH | AK26: =ROUND(AG94,2) -> 0
L28: Sazba daně | W28: Základ daně | AK28: Výše daně
D29: DPH | F29: základní | L29: 0.21 | W29: =ROUND(AZ94, 2) -> 0 | AK29: =ROUND(AV94, 2) -> 0
F30: snížená | L30: 0.15 | W30: =ROUND(BA94, 2) -> 0 | AK30: =ROUND(AW94, 2) -> 0
F31: zákl. přenesená | L31: 0.21 | W31: =ROUND(BB94, 2) -> 0 | AK31: 0
F32: sníž. přenesená | L32: 0.15 | W32: =ROUND(BC94, 2) -> 0 | AK32: 0
F33: nulová | L33: 0 | W33: =ROUND(BD94, 2) -> 0 | AK33: 0
D35: Cena s DPH | T35: v | X35: CZK | AK35: =SUM(AK26:AK33) -> 0
D49: Projektant | AH49: Zpracovatel
D60: Datum a podpis: | V60: Razítko | AH60: Datum a podpis: | AM60: Razítko
D64: Objednavatel | AH64: Uchazeč
D75: Datum a podpis: | V75: Razítko | AH75: Datum a podpis: | AM75: Razítko
C82: REKAPITULACE OBJEKTŮ ZAKÁZKY A SOUPISŮ PRACÍ
C84: Kód: | L84: =K5 -> 650180262Z-1
C85: Zakázka: | L85: =K6 -> Údržba, opravy a odstraňování závad u SMT v roce 2020
C87: Místo: | L87: =IF(K8="","",K8) | AI87: Datum: | AM87: =IF(AN8= "","",AN8) -> 26. 5. 2020
C89: Zadavatel: | L89: =IF(E11= "","",E11) | AI89: Projektant: | AM89: =IF(E17="","",E17) | AS89: Informatívní údaje z listů zakázek
C90: Uchazeč: | L90: =IF(E14= "Vyplň údaj","",E14) | AI90: Zpracovatel: | AM90: =IF(E20="","",E20)
C92: Kód | I92: Popis | AG92: Cena bez DPH [CZK] | AN92: Cena s DPH [CZK] | AQ92: Typ | AS92: z toho Ostat._x000D_ náklady [CZK] | AT92: DPH [CZK] | AU92: Normohodiny [h] | AV92: DPH základní [CZK] | AW92: DPH snížená [CZK] | AX92: DPH základní přenesená_x000D_ [CZK] | AY92: DPH snížená přenesená_x000D_ [CZK] | AZ92: Základna_x000D_ DPH základní | BA92: Základna_x000D_ DPH snížená | BB92: Základna_x000D_ DPH zákl. přenesená | BC92: Základna_x000D_ DPH sníž. přenesená | BD92: Základna_x000D_ DPH nulová
...

Sheet 001 - Mosty a tunely
AT2: {d81c0f59-3532-43b4-84b9-3f325b42863a}
AT3: 2
D4: KRYCÍ LIST SOUPISU PRACÍ | M4: v --- níže se nacházejí doplnkové a pomocné údaje k sestavám --- v | AT4: False
D6: Zakázka:
E7: ='Rekapitulace zakázky'!K6 -> Údržba, opravy a odstraňování závad u SMT v roce 2020
D8: Objekt:
E9: 001 - Mosty a tunely
D11: KSO: | I11: CC-CZ:
D12: Místo: | I12: Datum: | J12: ='Rekapitulace zakázky'!AN8 -> 26. 5. 2020
D14: Zadavatel: | I14: IČ: | J14: =IF('Rekapitulace zakázky'!AN10="","",'Rekapitulace zakázky'!AN10)
E15: =IF('Rekapitulace zakázky'!E11="","",'Rekapitulace zakázky'!E11) | I15: DIČ: | J15: =IF('Rekapitulace zakázky'!AN11="","",'Rekapitulace zakázky'!AN11)
D17: Uchazeč: | I17: IČ: | J17: ='Rekapitulace zakázky'!AN13 -> Vyplň údaj
E18: ='Rekapitulace zakázky'!E14 -> Vyplň údaj | I18: DIČ: | J18: ='Rekapitulace zakázky'!AN14 -> Vyplň údaj
D20: Projektant: | I20: IČ: | J20: =IF('Rekapitulace zakázky'!AN16="","",'Rekapitulace zakázky'!AN16)
E21: =IF('Rekapitulace zakázky'!E17="","",'Rekapitulace zakázky'!E17) | I21: DIČ: | J21: =IF('Rekapitulace zakázky'!AN17="","",'Rekapitulace zakázky'!AN17)
D23: Zpracovatel: | I23: IČ: | J23: =IF('Rekapitulace zakázky'!AN19="","",'Rekapitulace zakázky'!AN19)
E24: =IF('Rekapitulace zakázky'!E20="","",'Rekapitulace zakázky'!E20) | I24: DIČ: | J24: =IF('Rekapitulace zakázky'!AN20="","",'Rekapitulace zakázky'!AN20)
D26: Poznámka:
D30: Cena bez DPH | J30: =ROUND(J147, 2) -> 0
F32: Základ daně | I32: Sazba daně | J32: Výše daně
D33: DPH | E33: základní | F33: =ROUND((SUM(BE147:BE2852)), 2) -> 0 | I33: 0.21 | J33: =ROUND(((SUM(BE147:BE2852))*I33), 2) -> 0
E34: snížená | F34: =ROUND((SUM(BF147:BF2852)), 2) -> 0 | I34: 0.15 | J34: =ROUND(((SUM(BF147:BF2852))*I34), 2) -> 0
E35: zákl. přenesená | F35: =ROUND((SUM(BG147:BG2852)), 2) -> 0 | I35: 0.21 | J35: =0 -> 0
E36: sníž. přenesená | F36: =ROUND((SUM(BH147:BH2852)), 2) -> 0 | I36: 0.15 | J36: =0 -> 0
E37: nulová | F37: =ROUND((SUM(BI147:BI2852)), 2) -> 0 | I37: 0 | J37: =0 -> 0
D39: Cena s DPH | G39: v | H39: CZK | J39: =SUM(J30:J37) -> 0
D50: Projektant | G50: Zpracovatel
D61: Datum a podpis: | F61: Razítko | G61: Datum a podpis: | J61: Razítko
D65: Objednavatel | G65: Uchazeč
D76: Datum a podpis: | F76: Razítko | G76: Datum a podpis: | J76: Razítko
C82: REKAPITULACE ČLENĚNÍ SOUPISU PRACÍ
C84: Zakázka:
E85: =E7 -> Údržba, opravy a odstraňování závad u SMT v roce 2020
C86: Objekt:
E87: =E9 -> 001 - Mosty a tunely
C89: Místo: | F89: =F12 | I89: Datum: | J89: =IF(J12="","",J12) -> 26. 5. 2020
C91: Zadavatel: | F91: =E15 | I91: Projektant: | J91: =E21
C92: Uchazeč: | F92: =IF(E18="","",E18) -> Vyplň údaj | I92: Zpracovatel: | J92: =E24
C94: Kód dílu - Popis | J94: Cena celkem [CZK]
C96: Náklady ze soupisu prací | J96: =J147 -> 0 | AU96: -1
...

Sheet 002 - Traťové hospodářství
AT2: {93a07637-a0e0-4ab7-9b0c-3cefe3e992b7}
AT3: 2
D4: KRYCÍ LIST SOUPISU PRACÍ | M4: v --- níže se nacházejí doplnkové a pomocné údaje k sestavám --- v | AT4: False
D6: Zakázka:
E7: ='Rekapitulace zakázky'!K6 -> Údržba, opravy a odstraňování závad u SMT v roce 2020
D8: Objekt:
E9: 002 - Traťové hospodářství
D11: KSO: | I11: CC-CZ:
D12: Místo: | I12: Datum: | J12: ='Rekapitulace zakázky'!AN8 -> 26. 5. 2020
D14: Zadavatel: | I14: IČ: | J14: =IF('Rekapitulace zakázky'!AN10="","",'Rekapitulace zakázky'!AN10)
E15: =IF('Rekapitulace zakázky'!E11="","",'Rekapitulace zakázky'!E11) | I15: DIČ: | J15: =IF('Rekapitulace zakázky'!AN11="","",'Rekapitulace zakázky'!AN11)
D17: Uchazeč: | I17: IČ: | J17: ='Rekapitulace zakázky'!AN13 -> Vyplň údaj
E18: ='Rekapitulace zakázky'!E14 -> Vyplň údaj | I18: DIČ: | J18: ='Rekapitulace zakázky'!AN14 -> Vyplň údaj
D20: Projektant: | I20: IČ: | J20: =IF('Rekapitulace zakázky'!AN16="","",'Rekapitulace zakázky'!AN16)
E21: =IF('Rekapitulace zakázky'!E17="","",'Rekapitulace zakázky'!E17) | I21: DIČ: | J21: =IF('Rekapitulace zakázky'!AN17="","",'Rekapitulace zakázky'!AN17)
D23: Zpracovatel: | I23: IČ: | J23: =IF('Rekapitulace zakázky'!AN19="","",'Rekapitulace zakázky'!AN19)
E24: =IF('Rekapitulace zakázky'!E20="","",'Rekapitulace zakázky'!E20) | I24: DIČ: | J24: =IF('Rekapitulace zakázky'!AN20="","",'Rekapitulace zakázky'!AN20)
D26: Poznámka:
D30: Cena bez DPH | J30: =ROUND(J119, 2) -> 0
F32: Základ daně | I32: Sazba daně | J32: Výše daně
D33: DPH | E33: základní | F33: =ROUND((SUM(BE119:BE263)), 2) -> 0 | I33: 0.21 | J33: =ROUND(((SUM(BE119:BE263))*I33), 2) -> 0
E34: snížená | F34: =ROUND((SUM(BF119:BF263)), 2) -> 0 | I34: 0.15 | J34: =ROUND(((SUM(BF119:BF263))*I34), 2) -> 0
E35: zákl. přenesená | F35: =ROUND((SUM(BG119:BG263)), 2) -> 0 | I35: 0.21 | J35: =0 -> 0
E36: sníž. přenesená | F36: =ROUND((SUM(BH119:BH263)), 2) -> 0 | I36: 0.15 | J36: =0 -> 0
E37: nulová | F37: =ROUND((SUM(BI119:BI263)), 2) -> 0 | I37: 0 | J37: =0 -> 0
D39: Cena s DPH | G39: v | H39: CZK | J39: =SUM(J30:J37) -> 0
D50: Projektant | G50: Zpracovatel
D61: Datum a podpis: | F61: Razítko | G61: Datum a podpis: | J61: Razítko
D65: Objednavatel | G65: Uchazeč
D76: Datum a podpis: | F76: Razítko | G76: Datum a podpis: | J76: Razítko
C82: REKAPITULACE ČLENĚNÍ SOUPISU PRACÍ
C84: Zakázka:
E85: =E7 -> Údržba, opravy a odstraňování závad u SMT v roce 2020
C86: Objekt:
E87: =E9 -> 002 - Traťové hospodářství
C89: Místo: | F89: =F12 | I89: Datum: | J89: =IF(J12="","",J12) -> 26. 5. 2020
C91: Zadavatel: | F91: =E15 | I91: Projektant: | J91: =E21
C92: Uchazeč: | F92: =IF(E18="","",E18) -> Vyplň údaj | I92: Zpracovatel: | J92: =E24
C94: Kód dílu - Popis | J94: Cena celkem [CZK]
C96: Náklady ze soupisu prací | J96: =J119 -> 0 | AU96: -1
...

Sheet 003 - VRN - Vedlejší rozp...
AT2: {c83cabf5-69e6-4979-910b-6537eb4e5e3c}
AT3: 2
D4: KRYCÍ LIST SOUPISU PRACÍ | M4: v --- níže se nacházejí doplnkové a pomocné údaje k sestavám --- v | AT4: False
D6: Zakázka:
E7: ='Rekapitulace zakázky'!K6 -> Údržba, opravy a odstraňování závad u SMT v roce 2020
D8: Objekt:
E9: 003 - VRN - Vedlejší rozpočtové náklady
D11: KSO: | I11: CC-CZ:
D12: Místo: | I12: Datum: | J12: ='Rekapitulace zakázky'!AN8 -> 26. 5. 2020
D14: Zadavatel: | I14: IČ: | J14: =IF('Rekapitulace zakázky'!AN10="","",'Rekapitulace zakázky'!AN10)
E15: =IF('Rekapitulace zakázky'!E11="","",'Rekapitulace zakázky'!E11) | I15: DIČ: | J15: =IF('Rekapitulace zakázky'!AN11="","",'Rekapitulace zakázky'!AN11)
D17: Uchazeč: | I17: IČ: | J17: ='Rekapitulace zakázky'!AN13 -> Vyplň údaj
E18: ='Rekapitulace zakázky'!E14 -> Vyplň údaj | I18: DIČ: | J18: ='Rekapitulace zakázky'!AN14 -> Vyplň údaj
D20: Projektant: | I20: IČ: | J20: =IF('Rekapitulace zakázky'!AN16="","",'Rekapitulace zakázky'!AN16)
E21: =IF('Rekapitulace zakázky'!E17="","",'Rekapitulace zakázky'!E17) | I21: DIČ: | J21: =IF('Rekapitulace zakázky'!AN17="","",'Rekapitulace zakázky'!AN17)
D23: Zpracovatel: | I23: IČ: | J23: =IF('Rekapitulace zakázky'!AN19="","",'Rekapitulace zakázky'!AN19)
E24: =IF('Rekapitulace zakázky'!E20="","",'Rekapitulace zakázky'!E20) | I24: DIČ: | J24: =IF('Rekapitulace zakázky'!AN20="","",'Rekapitulace zakázky'!AN20)
D26: Poznámka:
D30: Cena bez DPH | J30: =ROUND(J122, 2) -> 0
F32: Základ daně | I32: Sazba daně | J32: Výše daně
D33: DPH | E33: základní | F33: =ROUND((SUM(BE122:BE149)), 2) -> 0 | I33: 0.21 | J33: =ROUND(((SUM(BE122:BE149))*I33), 2) -> 0
E34: snížená | F34: =ROUND((SUM(BF122:BF149)), 2) -> 0 | I34: 0.15 | J34: =ROUND(((SUM(BF122:BF149))*I34), 2) -> 0
E35: zákl. přenesená | F35: =ROUND((SUM(BG122:BG149)), 2) -> 0 | I35: 0.21 | J35: =0 -> 0
E36: sníž. přenesená | F36: =ROUND((SUM(BH122:BH149)), 2) -> 0 | I36: 0.15 | J36: =0 -> 0
E37: nulová | F37: =ROUND((SUM(BI122:BI149)), 2) -> 0 | I37: 0 | J37: =0 -> 0
D39: Cena s DPH | G39: v | H39: CZK | J39: =SUM(J30:J37) -> 0
D50: Projektant | G50: Zpracovatel
D61: Datum a podpis: | F61: Razítko | G61: Datum a podpis: | J61: Razítko
D65: Objednavatel | G65: Uchazeč
D76: Datum a podpis: | F76: Razítko | G76: Datum a podpis: | J76: Razítko
C82: REKAPITULACE ČLENĚNÍ SOUPISU PRACÍ
C84: Zakázka:
E85: =E7 -> Údržba, opravy a odstraňování závad u SMT v roce 2020
C86: Objekt:
E87: =E9 -> 003 - VRN - Vedlejší rozpočtové náklady
C89: Místo: | F89: =F12 | I89: Datum: | J89: =IF(J12="","",J12) -> 26. 5. 2020
C91: Zadavatel: | F91: =E15 | I91: Projektant: | J91: =E21
C92: Uchazeč: | F92: =IF(E18="","",E18) -> Vyplň údaj | I92: Zpracovatel: | J92: =E24
C94: Kód dílu - Popis | J94: Cena celkem [CZK]
C96: Náklady ze soupisu prací | J96: =J122 -> 0 | AU96: -1
...
