Workbook

Sheet Rekapitulace zakázky
A1: Export Komplet | BA1: 2.0 | BB1: ZAMOK | BT1: False | BU1: False | BV1: {3f4c3366-3d92-4650-be4d-6b3dcda359b1}
BS2: 0,01 | BT2: 21
BS3: 0,01 | BT3: 15
D4: REKAPITULACE ZAKÁZKY | AS4: v --- níže se nacházejí doplnkové a pomocné údaje k sestavám --- v | BE4: Návod na vyplnění | BS4: 0,001
D5: Kód: | K5: 650180262Z-1 | BE5: Měnit lze pouze buňky se žlutým podbarvením!_x000D_ _x000D_ 1) na prvním listu Rekapitulace stavby vyplňte v sestavě_x000D_ _x000D_ a) Souhrnný list_x000D_ - údaje o Uchazeči_x000D_ (přenesou se do ostatních sestav i v jiných listech)_x000D_ _x000D_ b) Rekapitulace objektů_x000D_ - potřebné Ostatní náklady_x000D_ _x000D_ 2) na vybraných listech vyplňte v sestavě_x000D_ _x000D_ a) Krycí list_x000D_ - údaje o Uchazeči, pokud se liší od údajů o Uchazeči na Souhrnném listu_x000D_ (údaje se přenesou do ostatních sestav v daném listu)_x000D_ _x000D_ b) Rekapitulace rozpočtu_x000D_ - potřebné Ostatní náklady_x000D_ _x000D_ c) Celkové náklady za stavbu_x000D_ - ceny u položek_x000D_ - množství, pokud má žluté podbarvení_x000D_ - a v případě potřeby poznámku (ta je ve skrytém sloupci) | BS5: 0,01
D6: Zakázka: | K6: Údržba, opravy a odstraňování závad u SMT v roce 2020 | BS6: 0,1
D7: KSO: | AK7: CC-CZ: | BS7: 1
D8: Místo: | AK8: Datum: | AN8: 26. 5. 2020 | BS8: 10
BS9: 100
D10: Zadavatel: | AK10: IČ: | BS10: 0,1
AK11: DIČ: | BS11: 0,1
BS12: 0,1
D13: Uchazeč: | AK13: IČ: | AN13: Vyplň údaj | BS13: 0,1
E14: Vyplň údaj | AK14: DIČ: | AN14: Vyplň údaj | BS14: 0,1
BS15: False
D16: Projektant: | AK16: IČ: | BS16: False
AK17: DIČ: | BS17: True
BS18: 0,01
D19: Zpracovatel: | AK19: IČ: | BS19: 0,01
AK20: DIČ: | BS20: True
D22: Poznámka:
D26: Cena bez DPH | AK26: =ROUND(AG94,2) -> 0
L28: Sazba daně | W28: Základ daně | AK28: Výše daně
D29: DPH | F29: základní | L29: 0.21 | W29: =ROUND(AZ94, 2) -> 0 | AK29: =ROUND(AV94, 2) -> 0
F30: snížená | L30: 0.15 | W30: =ROUND(BA94, 2) -> 0 | AK30: =ROUND(AW94, 2) -> 0
F31: zákl. přenesená | L31: 0.21 | W31: =ROUND(BB94, 2) -> 0 | AK31: 0
F32: sníž. přenesená | L32: 0.15 | W32: =ROUND(BC94, 2) -> 0 | AK32: 0
F33: nulová | L33: 0 | W33: =ROUND(BD94, 2) -> 0 | AK33: 0
D35: Cena s DPH | T35: v | X35: CZK | AK35: =SUM(AK26:AK33) -> 0
D49: Projektant | AH49: Zpracovatel
D60: Datum a podpis: | V60: Razítko | AH60: Datum a podpis: | AM60: Razítko
D64: Objednavatel | AH64: Uchazeč
D75: Datum a podpis: | V75: Razítko | AH75: Datum a podpis: | AM75: Razítko
C82: REKAPITULACE OBJEKTŮ ZAKÁZKY A SOUPISŮ PRACÍ
C84: Kód: | L84: =K5 -> 650180262Z-1
C85: Zakázka: | L85: =K6 -> Údržba, opravy a odstraňování závad u SMT v roce 2020
C87: Místo: | L87: =IF(K8="","",K8) | AI87: Datum: | AM87: =IF(AN8= "","",AN8) -> 26. 5. 2020
C89: Zadavatel: | L89: =IF(E11= "","",E11) | AI89: Projektant: | AM89: =IF(E17="","",E17) | AS89: Informatívní údaje z listů zakázek
C90: Uchazeč: | L90: =IF(E14= "Vyplň údaj","",E14) | AI90: Zpracovatel: | AM90: =IF(E20="","",E20)
C92: Kód | I92: Popis | AG92: Cena bez DPH [CZK] | AN92: Cena s DPH [CZK] | AQ92: Typ | AS92: z toho Ostat._x000D_ náklady [CZK] | AT92: DPH [CZK] | AU92: Normohodiny [h] | AV92: DPH základní [CZK] | AW92: DPH snížená [CZK] | AX92: DPH základní přenesená_x000D_ [CZK] | AY92: DPH snížená přenesená_x000D_ [CZK] | AZ92: Základna_x000D_ DPH základní | BA92: Základna_x000D_ DPH snížená | BB92: Základna_x000D_ DPH zákl. přenesená | BC92: Základna_x000D_ DPH sníž. přenesená | BD92: Základna_x000D_ DPH nulová
C94: Náklady z rozpočtů | AG94: =ROUND(SUM(AG95:AG97),2) -> 0 | AN94: =SUM(AG94,AT94) -> 0 | AS94: =ROUND(SUM(AS95:AS97),2) -> 0 | AT94: =ROUND(SUM(AV94:AW94),2) -> 0 | AU94: =ROUND(SUM(AU95:AU97),5) -> 0 | AV94: =ROUND(AZ94*L29,2) -> 0 | AW94: =ROUND(BA94*L30,2) -> 0 | AX94: =ROUND(BB94*L29,2) -> 0 | AY94: =ROUND(BC94*L30,2) -> 0 | AZ94: =ROUND(SUM(AZ95:AZ97),2) -> 0 | BA94: =ROUND(SUM(BA95:BA97),2) -> 0 | BB94: =ROUND(SUM(BB95:BB97),2) -> 0 | BC94: =ROUND(SUM(BC95:BC97),2) -> 0 | BD94: =ROUND(SUM(BD95:BD97),2) -> 0 | BS94: D | BT94: 0 | BU94: ###NOIMPORT### | BV94: IMPORT | BW94: {3f4c3366-3d92-4650-be4d-6b3dcda359b1} | BX94: {00000000-0000-0000-0000-000000000000}
A95: / | D95: 001 | J95: Mosty a tunely | AG95: ='001 - Mosty a tunely'!J30 -> 0 | AN95: =SUM(AG95,AT95) -> 0 | AQ95: STA | AS95: 0 | AT95: =ROUND(SUM(AV95:AW95),2) -> 0 | AU95: ='001 - Mosty a tunely'!P147 -> 0 | AV95: ='001 - Mosty a tunely'!J33 -> 0 | AW95: ='001 - Mosty a tunely'!J34 -> 0 | AX95: ='001 - Mosty a tunely'!J35 -> 0 | AY95: ='001 - Mosty a tunely'!J36 -> 0 | AZ95: ='001 - Mosty a tunely'!F33 -> 0 | BA95: ='001 - Mosty a tunely'!F34 -> 0 | BB95: ='001 - Mosty a tunely'!F35 -> 0 | BC95: ='001 - Mosty a tunely'!F36 -> 0 | BD95: ='001 - Mosty a tunely'!F37 -> 0 | BT95: 1 | BV95: IMPORT | BW95: {d81c0f59-3532-43b4-84b9-3f325b42863a} | BX95: {3f4c3366-3d92-4650-be4d-6b3dcda359b1} | CM95: 2
A96: / | D96: 002 | J96: Traťové hospodářství | AG96: ='002 - Traťové hospodářství'!J30 -> 0 | AN96: =SUM(AG96,AT96) -> 0 | AQ96: STA | AS96: 0 | AT96: =ROUND(SUM(AV96:AW96),2) -> 0 | AU96: ='002 - Traťové hospodářství'!P119 -> 0 | AV96: ='002 - Traťové hospodářství'!J33 -> 0 | AW96: ='002 - Traťové hospodářství'!J34 -> 0 | AX96: ='002 - Traťové hospodářství'!J35 -> 0 | AY96: ='002 - Traťové hospodářství'!J36 -> 0 | AZ96: ='002 - Traťové hospodářství'!F33 -> 0 | BA96: ='002 - Traťové hospodářství'!F34 -> 0 | BB96: ='002 - Traťové hospodářství'!F35 -> 0 | BC96: ='002 - Traťové hospodářství'!F36 -> 0 | BD96: ='002 - Traťové hospodářství'!F37 -> 0 | BT96: 1 | BV96: IMPORT | BW96: {93a07637-a0e0-4ab7-9b0c-3cefe3e992b7} | BX96: {3f4c3366-3d92-4650-be4d-6b3dcda359b1} | CM96: 2
A97: / | D97: 003 | J97: VRN - Vedlejší rozpočtové náklady | AG97: ='003 - VRN - Vedlejší rozp...'!J30 -> 0 | AN97: =SUM(AG97,AT97) -> 0 | AQ97: STA | AS97: 0 | AT97: =ROUND(SUM(AV97:AW97),2) -> 0 | AU97: ='003 - VRN - Vedlejší rozp...'!P122 -> 0 | AV97: ='003 - VRN - Vedlejší rozp...'!J33 -> 0 | AW97: ='003 - VRN - Vedlejší rozp...'!J34 -> 0 | AX97: ='003 - VRN - Vedlejší rozp...'!J35 -> 0 | AY97: ='003 - VRN - Vedlejší rozp...'!J36 -> 0 | AZ97: ='003 - VRN - Vedlejší rozp...'!F33 -> 0 | BA97: ='003 - VRN - Vedlejší rozp...'!F34 -> 0 | BB97: ='003 - VRN - Vedlejší rozp...'!F35 -> 0 | BC97: ='003 - VRN - Vedlejší rozp...'!F36 -> 0 | BD97: ='003 - VRN - Vedlejší rozp...'!F37 -> 0 | BT97: 1 | BV97: IMPORT | BW97: {c83cabf5-69e6-4979-910b-6537eb4e5e3c} | BX97: {3f4c3366-3d92-4650-be4d-6b3dcda359b1} | CM97: 2

Sheet 001 - Mosty a tunely
AT2: {d81c0f59-3532-43b4-84b9-3f325b42863a}
AT3: 2
D4: KRYCÍ LIST SOUPISU PRACÍ | M4: v --- níže se nacházejí doplnkové a pomocné údaje k sestavám --- v | AT4: False
D6: Zakázka:
E7: ='Rekapitulace zakázky'!K6 -> Údržba, opravy a odstraňování závad u SMT v roce 2020
D8: Objekt:
E9: 001 - Mosty a tunely
D11: KSO: | I11: CC-CZ:
D12: Místo: | I12: Datum: | J12: ='Rekapitulace zakázky'!AN8 -> 26. 5. 2020
D14: Zadavatel: | I14: IČ: | J14: =IF('Rekapitulace zakázky'!AN10="","",'Rekapitulace zakázky'!AN10)
E15: =IF('Rekapitulace zakázky'!E11="","",'Rekapitulace zakázky'!E11) | I15: DIČ: | J15: =IF('Rekapitulace zakázky'!AN11="","",'Rekapitulace zakázky'!AN11)
D17: Uchazeč: | I17: IČ: | J17: ='Rekapitulace zakázky'!AN13 -> Vyplň údaj
E18: ='Rekapitulace zakázky'!E14 -> Vyplň údaj | I18: DIČ: | J18: ='Rekapitulace zakázky'!AN14 -> Vyplň údaj
D20: Projektant: | I20: IČ: | J20: =IF('Rekapitulace zakázky'!AN16="","",'Rekapitulace zakázky'!AN16)
E21: =IF('Rekapitulace zakázky'!E17="","",'Rekapitulace zakázky'!E17) | I21: DIČ: | J21: =IF('Rekapitulace zakázky'!AN17="","",'Rekapitulace zakázky'!AN17)
D23: Zpracovatel: | I23: IČ: | J23: =IF('Rekapitulace zakázky'!AN19="","",'Rekapitulace zakázky'!AN19)
E24: =IF('Rekapitulace zakázky'!E20="","",'Rekapitulace zakázky'!E20) | I24: DIČ: | J24: =IF('Rekapitulace zakázky'!AN20="","",'Rekapitulace zakázky'!AN20)
D26: Poznámka:
D30: Cena bez DPH | J30: =ROUND(J147, 2) -> 0
F32: Základ daně | I32: Sazba daně | J32: Výše daně
D33: DPH | E33: základní | F33: =ROUND((SUM(BE147:BE2852)), 2) -> 0 | I33: 0.21 | J33: =ROUND(((SUM(BE147:BE2852))*I33), 2) -> 0
E34: snížená | F34: =ROUND((SUM(BF147:BF2852)), 2) -> 0 | I34: 0.15 | J34: =ROUND(((SUM(BF147:BF2852))*I34), 2) -> 0
E35: zákl. přenesená | F35: =ROUND((SUM(BG147:BG2852)), 2) -> 0 | I35: 0.21 | J35: =0 -> 0
E36: sníž. přenesená | F36: =ROUND((SUM(BH147:BH2852)), 2) -> 0 | I36: 0.15 | J36: =0 -> 0
E37: nulová | F37: =ROUND((SUM(BI147:BI2852)), 2) -> 0 | I37: 0 | J37: =0 -> 0
D39: Cena s DPH | G39: v | H39: CZK | J39: =SUM(J30:J37) -> 0
D50: Projektant | G50: Zpracovatel
D61: Datum a podpis: | F61: Razítko | G61: Datum a podpis: | J61: Razítko
D65: Objednavatel | G65: Uchazeč
D76: Datum a podpis: | F76: Razítko | G76: Datum a podpis: | J76: Razítko
C82: REKAPITULACE ČLENĚNÍ SOUPISU PRACÍ
C84: Zakázka:
E85: =E7 -> Údržba, opravy a odstraňování závad u SMT v roce 2020
C86: Objekt:
E87: =E9 -> 001 - Mosty a tunely
C89: Místo: | F89: =F12 | I89: Datum: | J89: =IF(J12="","",J12) -> 26. 5. 2020
C91: Zadavatel: | F91: =E15 | I91: Projektant: | J91: =E21
C92: Uchazeč: | F92: =IF(E18="","",E18) -> Vyplň údaj | I92: Zpracovatel: | J92: =E24
C94: Kód dílu - Popis | J94: Cena celkem [CZK]
C96: Náklady ze soupisu prací | J96: =J147 -> 0 | AU96: -1
D97: HSV - Práce a dodávky HSV | J97: =J148 -> 0
D98: 1 - Zemní práce | J98: =J149 -> 0
D99: 2 - Zakládání | J99: =J691 -> 0
D100: 3 - Svislé a kompletní konstrukce | J100: =J840 -> 0
D101: 4 - Vodorovné konstrukce | J101: =J1008 -> 0
D102: 5 - Komunikace | J102: =J1179 -> 0
D103: 6 - Úpravy povrchů, podlahy a osazování výplní | J103: =J1256 -> 0
D104: 8 - Trubní vedení | J104: =J1334 -> 0
D105: 9 - Ostatní konstrukce a práce-bourání | J105: =J1422 -> 0
D106: 997 - Přesun sutě | J106: =J2307 -> 0
D107: 998 - Přesun hmot | J107: =J2369 -> 0
D108: N00 - Nepojmenované práce | J108: =J2426 -> 0
D109: N01 - Nepojmenovaný díl | J109: =J2427 -> 0
D110: PSV - Práce a dodávky PSV | J110: =J2437 -> 0
D111: 711 - Izolace proti vodě, vlhkosti a plynům | J111: =J2438 -> 0
D112: 767 - Konstrukce zámečnické | J112: =J2509 -> 0
D113: 781 - Dokončovací práce - obklady keramické | J113: =J2640 -> 0
D114: 783 - Dokončovací práce - nátěry | J114: =J2662 -> 0
D115: 784 - Dokončovací práce - malby a tapety | J115: =J2738 -> 0
D116: 789 - Povrchové úpravy ocelových konstrukcí a technologických zařízení | J116: =J2762 -> 0
D117: 721 - Zdravotechnika - vnitřní kanalizace | J117: =J2769 -> 0
D118: 777 - Podlahy lité | J118: =J2776 -> 0
D119: 762 - Konstrukce tesařské | J119: =J2779 -> 0
D120: 764 - Konstrukce klempířské | J120: =J2792 -> 0
D121: 771 - Podlahy z dlaždic | J121: =J2809 -> 0
D122: 782 - Dokončovací práce - obklady z kamene | J122: =J2824 -> 0
D123: OST - Ostatní | J123: =J2828 -> 0
D124: M - Mechanizace | J124: =J2829 -> 0
D125: 21-M - Elektromontáže | J125: =J2830 -> 0
D126: 43-M - Montáž ocelových konstrukcí | J126: =J2837 -> 0
D127: 46-M - Zemní práce při extr.mont.pracích | J127: =J2841 -> 0
C134: SOUPIS PRACÍ
C136: Zakázka:
E137: =E7 -> Údržba, opravy a odstraňování závad u SMT v roce 2020
C138: Objekt:
E139: =E9 -> 001 - Mosty a tunely
C141: Místo: | F141: =F12 | I141: Datum: | J141: =IF(J12="","",J12) -> 26. 5. 2020
C143: Zadavatel: | F143: =E15 | I143: Projektant: | J143: =E21
C144: Uchazeč: | F144: =IF(E18="","",E18) -> Vyplň údaj | I144: Zpracovatel: | J144: =E24
C146: PČ | D146: Typ | E146: Kód | F146: Popis | G146: MJ | H146: Množství | I146: J.cena [CZK] | J146: Cena celkem [CZK] | K146: Cenová soustava | N146: DPH | O146: J. Nh [h] | P146: Nh celkem [h] | Q146: J. hmotnost [t] | R146: Hmotnost celkem [t] | S146: J. suť [t] | T146: Suť Celkem [t]
C147: Náklady soupisu celkem | J147: =BK147 -> 0 | P147: =P148+P2426+P2437+P2828 -> 0 | R147: =R148+R2426+R2437+R2828 -> 231.30291 | T147: =T148+T2426+T2437+T2828 -> 69.16595 | AT147: D | AU147: -1 | BK147: =BK148+BK2426+BK2437+BK2828 -> 0
D148: D | E148: HSV | F148: Práce a dodávky HSV | J148: =BK148 -> 0 | P148: =P149+P691+P840+P1008+P1179+P1256+P1334+P1422+P2307+P2369 -> 0 | R148: =R149+R691+R840+R1008+R1179+R1256+R1334+R1422+R2307+R2369 -> 223.93595 | T148: =T149+T691+T840+T1008+T1179+T1256+T1334+T1422+T2307+T2369 -> 68.84332 | AR148: 1 | AT148: D | AU148: 0 | AY148: ROZPOCET | BK148: =BK149+BK691+BK840+BK1008+BK1179+BK1256+BK1334+BK1422+BK2307+BK2369 -> 0
D149: D | E149: 1 | F149: Zemní práce | J149: =BK149 -> 0 | P149: =SUM(P150:P690) -> 0 | R149: =SUM(R150:R690) -> 10.448451 | T149: =SUM(T150:T690) -> 7.321 | AR149: 1 | AT149: D | AU149: 1 | AY149: ROZPOCET | BK149: =SUM(BK150:BK690) -> 0
C150: 1 | D150: K | E150: 111203201 | F150: Odstranění křovin a stromů s ponecháním kořenů z plochy do 1000 m2 | G150: m2 | H150: 1 | J150: =ROUND(I150*H150,2) -> 0 | K150: CS ÚRS 2020 01 | N150: základní | P150: =O150*H150 -> 0 | Q150: 0 | R150: =Q150*H150 -> 0 | S150: 0 | T150: =S150*H150 -> 0 | AR150: 4 | AT150: K | AU150: 2 | AY150: ROZPOCET | BE150: =IF(N150="základní",J150,0) -> 0 | BF150: =IF(N150="snížená",J150,0) -> 0 | BG150: =IF(N150="zákl. přenesená",J150,0) -> 0 | BH150: =IF(N150="sníž. přenesená",J150,0) -> 0 | BI150: =IF(N150="nulová",J150,0) -> 0 | BJ150: 1 | BK150: =ROUND(I150*H150,2) -> 0 | BL150: 4 | BM150: 201986203
D151: PP | F151: Odstranění křovin a stromů s ponecháním kořenů průměru kmene do 100 mm, při jakémkoliv sklonu terénu mimo LTM, při celkové ploše do 1 000 m2 | AT151: PP | AU151: 2
D152: PSC | F152: Poznámka k souboru cen:_x000D_ 1. Cenu -3201 lze použít i pro LTM při jakékoliv celkové ploše jednotlivě přes 30 m2. 2. Ceny jsou určeny pro případy, kdy se kořeny (pařezy) ponechají v půdě z důvodu stabilizace území. 3. V cenách jsou započteny i náklady na případné nutné odklizení na hromady do vzdálenosti 50 m nebo naložení na dopravní prostředek. 4. V cenách nejsou započteny náklady na další manipulaci s porostem, tyto práce se oceňují cenou souboru cen 162 3.. Vodorovné přemístění smýcených křovin, katalogu 800-1 Zemní práce. 5. Množství jednotek se určí samostatně za každý objekt v m2 plochy rovné součtu půdorysných ploch omezených obalovými křivkami korun jednotlivých křovin a stromů, popř. jejich skupin, jejichž koruny se půdorysně překrývají; je-li tento součet ploch větší než půdorysná plocha staveniště, počítá se pouze s plochou staveniště. 6. Ponechané pařezy a kořeny nesmějí přesahovat výšku 150 mm nad přilehlým terénem; v této výšce se také měří průměr kmene. | AT152: PSC | AU152: 2
C153: 2 | D153: K | E153: 111211101 | F153: Odstranění křovin a stromů průměru kmene do 100 mm i s kořeny sklonu terénu do 1:5 ručně | G153: m2 | H153: 1 | J153: =ROUND(I153*H153,2) -> 0 | K153: CS ÚRS 2020 01 | N153: základní | P153: =O153*H153 -> 0 | Q153: 0 | R153: =Q153*H153 -> 0 | S153: 0 | T153: =S153*H153 -> 0 | AR153: 4 | AT153: K | AU153: 2 | AY153: ROZPOCET | BE153: =IF(N153="základní",J153,0) -> 0 | BF153: =IF(N153="snížená",J153,0) -> 0 | BG153: =IF(N153="zákl. přenesená",J153,0) -> 0 | BH153: =IF(N153="sníž. přenesená",J153,0) -> 0 | BI153: =IF(N153="nulová",J153,0) -> 0 | BJ153: 1 | BK153: =ROUND(I153*H153,2) -> 0 | BL153: 4 | BM153: -1751346221
D154: PP | F154: Odstranění křovin a stromů s odstraněním kořenů ručně průměru kmene do 100 mm jakékoliv plochy v rovině nebo ve svahu o sklonu do 1:5 | AT154: PP | AU154: 2
D155: PSC | F155: Poznámka k souboru cen:_x000D_ 1. V ceně jsou započteny i náklady na případné nutné odklizení křovin a stromů na hromady na vzdálenost do 50 m, nebo naložení na dopravní prostředek. 2. Průměr kmenů stromů (křovin) se měří 0,15 m nad přilehlým terénem. 3. Množství jednotek se určí samostatně za každý objekt v m2 plochy rovné součtu půdorysných ploch omezených obalovými křivkami korun jednotlivých stromů a křovin, popř. skupin stromů a křovin, jejichž koruny se půdorysně překrývají. Jestliže by byl zmíněný součet ploch větší než půdorysná plocha staveniště, počítá se pouze s plochou staveniště. | AT155: PSC | AU155: 2
C156: 3 | D156: K | E156: 111211201 | F156: Odstranění křovin a stromů průměru kmene do 100 mm i s kořeny sklonu terénu přes 1:5 ručně | G156: m2 | H156: 1 | J156: =ROUND(I156*H156,2) -> 0 | K156: CS ÚRS 2020 01 | N156: základní | P156: =O156*H156 -> 0 | Q156: 0 | R156: =Q156*H156 -> 0 | S156: 0 | T156: =S156*H156 -> 0 | AR156: 4 | AT156: K | AU156: 2 | AY156: ROZPOCET | BE156: =IF(N156="základní",J156,0) -> 0 | BF156: =IF(N156="snížená",J156,0) -> 0 | BG156: =IF(N156="zákl. přenesená",J156,0) -> 0 | BH156: =IF(N156="sníž. přenesená",J156,0) -> 0 | BI156: =IF(N156="nulová",J156,0) -> 0 | BJ156: 1 | BK156: =ROUND(I156*H156,2) -> 0 | BL156: 4 | BM156: -239371572
D157: PP | F157: Odstranění křovin a stromů s odstraněním kořenů ručně průměru kmene do 100 mm jakékoliv plochy v rovině nebo ve svahu o sklonu přes 1:5 | AT157: PP | AU157: 2
D158: PSC | F158: Poznámka k souboru cen:_x000D_ 1. V ceně jsou započteny i náklady na případné nutné odklizení křovin a stromů na hromady na vzdálenost do 50 m, nebo naložení na dopravní prostředek. 2. Průměr kmenů stromů (křovin) se měří 0,15 m nad přilehlým terénem. 3. Množství jednotek se určí samostatně za každý objekt v m2 plochy rovné součtu půdorysných ploch omezených obalovými křivkami korun jednotlivých stromů a křovin, popř. skupin stromů a křovin, jejichž koruny se půdorysně překrývají. Jestliže by byl zmíněný součet ploch větší než půdorysná plocha staveniště, počítá se pouze s plochou staveniště. | AT158: PSC | AU158: 2
C159: 4 | D159: K | E159: 111251101 | F159: Odstranění křovin a stromů průměru kmene do 100 mm i s kořeny sklonu terénu do 1:5 z celkové plochy do 100 m2 strojně | G159: m2 | H159: 1 | J159: =ROUND(I159*H159,2) -> 0 | K159: CS ÚRS 2020 01 | N159: základní | P159: =O159*H159 -> 0 | Q159: 0 | R159: =Q159*H159 -> 0 | S159: 0 | T159: =S159*H159 -> 0 | AR159: 4 | AT159: K | AU159: 2 | AY159: ROZPOCET | BE159: =IF(N159="základní",J159,0) -> 0 | BF159: =IF(N159="snížená",J159,0) -> 0 | BG159: =IF(N159="zákl. přenesená",J159,0) -> 0 | BH159: =IF(N159="sníž. přenesená",J159,0) -> 0 | BI159: =IF(N159="nulová",J159,0) -> 0 | BJ159: 1 | BK159: =ROUND(I159*H159,2) -> 0 | BL159: 4 | BM159: 1781935105
D160: PP | F160: Odstranění křovin a stromů s odstraněním kořenů strojně průměru kmene do 100 mm v rovině nebo ve svahu sklonu terénu do 1:5, při celkové ploše do 100 m2 | AT160: PP | AU160: 2
D161: PSC | F161: Poznámka k souboru cen:_x000D_ 1. V ceně jsou započteny i náklady na případné nutné odklizení křovin a stromů na hromady na vzdálenost do 50 m, nebo naložení na dopravní prostředek. 2. Průměr kmenů stromů (křovin) se měří 0,15 m nad přilehlým terénem. 3. Množství jednotek se určí samostatně za každý objekt v m2 plochy rovné součtu půdorysných ploch omezených obalovými křivkami korun jednotlivých stromů a křovin, popř. skupin stromů a křovin, jejichž koruny se půdorysně překrývají. Jestliže by byl zmíněný součet ploch větší než půdorysná plocha staveniště, počítá se pouze s plochou staveniště. | AT161: PSC | AU161: 2
C162: 5 | D162: K | E162: 111251102 | F162: Odstranění křovin a stromů průměru kmene do 100 mm i s kořeny sklonu terénu do 1:5 z celkové plochy přes 100 do 500 m2 strojně | G162: m2 | H162: 1 | J162: =ROUND(I162*H162,2) -> 0 | K162: CS ÚRS 2020 01 | N162: základní | P162: =O162*H162 -> 0 | Q162: 0 | R162: =Q162*H162 -> 0 | S162: 0 | T162: =S162*H162 -> 0 | AR162: 4 | AT162: K | AU162: 2 | AY162: ROZPOCET | BE162: =IF(N162="základní",J162,0) -> 0 | BF162: =IF(N162="snížená",J162,0) -> 0 | BG162: =IF(N162="zákl. přenesená",J162,0) -> 0 | BH162: =IF(N162="sníž. přenesená",J162,0) -> 0 | BI162: =IF(N162="nulová",J162,0) -> 0 | BJ162: 1 | BK162: =ROUND(I162*H162,2) -> 0 | BL162: 4 | BM162: -835805450
D163: PP | F163: Odstranění křovin a stromů s odstraněním kořenů strojně průměru kmene do 100 mm v rovině nebo ve svahu sklonu terénu do 1:5, při celkové ploše přes 100 do 500 m2 | AT163: PP | AU163: 2
D164: PSC | F164: Poznámka k souboru cen:_x000D_ 1. V ceně jsou započteny i náklady na případné nutné odklizení křovin a stromů na hromady na vzdálenost do 50 m, nebo naložení na dopravní prostředek. 2. Průměr kmenů stromů (křovin) se měří 0,15 m nad přilehlým terénem. 3. Množství jednotek se určí samostatně za každý objekt v m2 plochy rovné součtu půdorysných ploch omezených obalovými křivkami korun jednotlivých stromů a křovin, popř. skupin stromů a křovin, jejichž koruny se půdorysně překrývají. Jestliže by byl zmíněný součet ploch větší než půdorysná plocha staveniště, počítá se pouze s plochou staveniště. | AT164: PSC | AU164: 2
C165: 6 | D165: K | E165: 111251103 | F165: Odstranění křovin a stromů průměru kmene do 100 mm i s kořeny sklonu terénu do 1:5 z celkové plochy přes 500 m2 strojně | G165: m2 | H165: 1 | J165: =ROUND(I165*H165,2) -> 0 | K165: CS ÚRS 2020 01 | N165: základní | P165: =O165*H165 -> 0 | Q165: 0 | R165: =Q165*H165 -> 0 | S165: 0 | T165: =S165*H165 -> 0 | AR165: 4 | AT165: K | AU165: 2 | AY165: ROZPOCET | BE165: =IF(N165="základní",J165,0) -> 0 | BF165: =IF(N165="snížená",J165,0) -> 0 | BG165: =IF(N165="zákl. přenesená",J165,0) -> 0 | BH165: =IF(N165="sníž. přenesená",J165,0) -> 0 | BI165: =IF(N165="nulová",J165,0) -> 0 | BJ165: 1 | BK165: =ROUND(I165*H165,2) -> 0 | BL165: 4 | BM165: 647527999
D166: PP | F166: Odstranění křovin a stromů s odstraněním kořenů strojně průměru kmene do 100 mm v rovině nebo ve svahu sklonu terénu do 1:5, při celkové ploše přes 500 m2 | AT166: PP | AU166: 2
...

Sheet 002 - Traťové hospodářství
AT2: {93a07637-a0e0-4ab7-9b0c-3cefe3e992b7}
AT3: 2
D4: KRYCÍ LIST SOUPISU PRACÍ | M4: v --- níže se nacházejí doplnkové a pomocné údaje k sestavám --- v | AT4: False
D6: Zakázka:
E7: ='Rekapitulace zakázky'!K6 -> Údržba, opravy a odstraňování závad u SMT v roce 2020
D8: Objekt:
E9: 002 - Traťové hospodářství
D11: KSO: | I11: CC-CZ:
D12: Místo: | I12: Datum: | J12: ='Rekapitulace zakázky'!AN8 -> 26. 5. 2020
D14: Zadavatel: | I14: IČ: | J14: =IF('Rekapitulace zakázky'!AN10="","",'Rekapitulace zakázky'!AN10)
E15: =IF('Rekapitulace zakázky'!E11="","",'Rekapitulace zakázky'!E11) | I15: DIČ: | J15: =IF('Rekapitulace zakázky'!AN11="","",'Rekapitulace zakázky'!AN11)
D17: Uchazeč: | I17: IČ: | J17: ='Rekapitulace zakázky'!AN13 -> Vyplň údaj
E18: ='Rekapitulace zakázky'!E14 -> Vyplň údaj | I18: DIČ: | J18: ='Rekapitulace zakázky'!AN14 -> Vyplň údaj
D20: Projektant: | I20: IČ: | J20: =IF('Rekapitulace zakázky'!AN16="","",'Rekapitulace zakázky'!AN16)
E21: =IF('Rekapitulace zakázky'!E17="","",'Rekapitulace zakázky'!E17) | I21: DIČ: | J21: =IF('Rekapitulace zakázky'!AN17="","",'Rekapitulace zakázky'!AN17)
D23: Zpracovatel: | I23: IČ: | J23: =IF('Rekapitulace zakázky'!AN19="","",'Rekapitulace zakázky'!AN19)
E24: =IF('Rekapitulace zakázky'!E20="","",'Rekapitulace zakázky'!E20) | I24: DIČ: | J24: =IF('Rekapitulace zakázky'!AN20="","",'Rekapitulace zakázky'!AN20)
D26: Poznámka:
D30: Cena bez DPH | J30: =ROUND(J119, 2) -> 0
F32: Základ daně | I32: Sazba daně | J32: Výše daně
D33: DPH | E33: základní | F33: =ROUND((SUM(BE119:BE263)), 2) -> 0 | I33: 0.21 | J33: =ROUND(((SUM(BE119:BE263))*I33), 2) -> 0
E34: snížená | F34: =ROUND((SUM(BF119:BF263)), 2) -> 0 | I34: 0.15 | J34: =ROUND(((SUM(BF119:BF263))*I34), 2) -> 0
E35: zákl. přenesená | F35: =ROUND((SUM(BG119:BG263)), 2) -> 0 | I35: 0.21 | J35: =0 -> 0
E36: sníž. přenesená | F36: =ROUND((SUM(BH119:BH263)), 2) -> 0 | I36: 0.15 | J36: =0 -> 0
E37: nulová | F37: =ROUND((SUM(BI119:BI263)), 2) -> 0 | I37: 0 | J37: =0 -> 0
D39: Cena s DPH | G39: v | H39: CZK | J39: =SUM(J30:J37) -> 0
D50: Projektant | G50: Zpracovatel
D61: Datum a podpis: | F61: Razítko | G61: Datum a podpis: | J61: Razítko
D65: Objednavatel | G65: Uchazeč
D76: Datum a podpis: | F76: Razítko | G76: Datum a podpis: | J76: Razítko
C82: REKAPITULACE ČLENĚNÍ SOUPISU PRACÍ
C84: Zakázka:
E85: =E7 -> Údržba, opravy a odstraňování závad u SMT v roce 2020
C86: Objekt:
E87: =E9 -> 002 - Traťové hospodářství
C89: Místo: | F89: =F12 | I89: Datum: | J89: =IF(J12="","",J12) -> 26. 5. 2020
C91: Zadavatel: | F91: =E15 | I91: Projektant: | J91: =E21
C92: Uchazeč: | F92: =IF(E18="","",E18) -> Vyplň údaj | I92: Zpracovatel: | J92: =E24
C94: Kód dílu - Popis | J94: Cena celkem [CZK]
C96: Náklady ze soupisu prací | J96: =J119 -> 0 | AU96: -1
D97: HSV - Práce a dodávky HSV | J97: =J120 -> 0
D98: 5 - Komunikace | J98: =J121 -> 0
D99: OST - Ostatní | J99: =J235 -> 0
C106: SOUPIS PRACÍ
C108: Zakázka:
E109: =E7 -> Údržba, opravy a odstraňování závad u SMT v roce 2020
C110: Objekt:
E111: =E9 -> 002 - Traťové hospodářství
C113: Místo: | F113: =F12 | I113: Datum: | J113: =IF(J12="","",J12) -> 26. 5. 2020
C115: Zadavatel: | F115: =E15 | I115: Projektant: | J115: =E21
C116: Uchazeč: | F116: =IF(E18="","",E18) -> Vyplň údaj | I116: Zpracovatel: | J116: =E24
C118: PČ | D118: Typ | E118: Kód | F118: Popis | G118: MJ | H118: Množství | I118: J.cena [CZK] | J118: Cena celkem [CZK] | K118: Cenová soustava | N118: DPH | O118: J. Nh [h] | P118: Nh celkem [h] | Q118: J. hmotnost [t] | R118: Hmotnost celkem [t] | S118: J. suť [t] | T118: Suť Celkem [t]
C119: Náklady soupisu celkem | J119: =BK119 -> 0 | P119: =P120+P235 -> 0 | R119: =R120+R235 -> 3.00225 | T119: =T120+T235 -> 0 | AT119: D | AU119: -1 | BK119: =BK120+BK235 -> 0
D120: D | E120: HSV | F120: Práce a dodávky HSV | J120: =BK120 -> 0 | P120: =P121 -> 0 | R120: =R121 -> 3.00225 | T120: =T121 -> 0 | AR120: 1 | AT120: D | AU120: 0 | AY120: ROZPOCET | BK120: =BK121 -> 0
D121: D | E121: 5 | F121: Komunikace | J121: =BK121 -> 0 | P121: =SUM(P122:P234) -> 0 | R121: =SUM(R122:R234) -> 3.00225 | T121: =SUM(T122:T234) -> 0 | AR121: 1 | AT121: D | AU121: 1 | AY121: ROZPOCET | BK121: =SUM(BK122:BK234) -> 0
C122: 1 | D122: M | E122: 7590190040 | F122: Ostatní Uzávěr šroubový (CV721039001) | G122: kus | H122: 1 | J122: =ROUND(I122*H122,2) -> 0 | K122: Sborník UOŽI 01 2020 | N122: základní | P122: =O122*H122 -> 0 | Q122: 0 | R122: =Q122*H122 -> 0 | S122: 0 | T122: =S122*H122 -> 0 | AR122: 8 | AT122: M | AU122: 2 | AY122: ROZPOCET | BE122: =IF(N122="základní",J122,0) -> 0 | BF122: =IF(N122="snížená",J122,0) -> 0 | BG122: =IF(N122="zákl. přenesená",J122,0) -> 0 | BH122: =IF(N122="sníž. přenesená",J122,0) -> 0 | BI122: =IF(N122="nulová",J122,0) -> 0 | BJ122: 1 | BK122: =ROUND(I122*H122,2) -> 0 | BL122: 4 | BM122: 777796198
D123: PP | F123: Ostatní Uzávěr šroubový (CV721039001) | AT123: PP | AU123: 2
D124: P | F124: Poznámka k položce:_x000D_ Zámek na poklop (např. poklop k vtokové jímce propustku, poklop k šachtám), k revizním vstupům, a pod. | AT124: P | AU124: 2
C125: 2 | D125: K | E125: 5905015010 | F125: Oprava stezky ručně s odstraněním drnu a nánosu do 10 cm | G125: m2 | H125: 1 | J125: =ROUND(I125*H125,2) -> 0 | K125: Sborník UOŽI 01 2020 | N125: základní | P125: =O125*H125 -> 0 | Q125: 0 | R125: =Q125*H125 -> 0 | S125: 0 | T125: =S125*H125 -> 0 | AR125: 4 | AT125: K | AU125: 2 | AY125: ROZPOCET | BE125: =IF(N125="základní",J125,0) -> 0 | BF125: =IF(N125="snížená",J125,0) -> 0 | BG125: =IF(N125="zákl. přenesená",J125,0) -> 0 | BH125: =IF(N125="sníž. přenesená",J125,0) -> 0 | BI125: =IF(N125="nulová",J125,0) -> 0 | BJ125: 1 | BK125: =ROUND(I125*H125,2) -> 0 | BL125: 4 | BM125: 1401246715
D126: PP | F126: Oprava stezky ručně s odstraněním drnu a nánosu do 10 cm. Poznámka: 1. V cenách jsou započteny náklady na ruční odstranění drnu a nánosu a rozprostření výzisku na terén nebo naložení na dopravní prostředek a urovnání povrchu stezky. 2. V cenách nejsou obsaženy náklady na doplnění a úpravu štěrkodrtě. | AT126: PP | AU126: 2
D127: PSC | F127: Poznámka k souboru cen:_x000D_ 1. V cenách jsou započteny náklady na ruční odstranění drnu a nánosu a rozprostření výzisku na terén nebo naložení na dopravní prostředek a urovnání povrchu stezky. 2. V cenách nejsou obsaženy náklady na doplnění a úpravu štěrkodrtě. | AT127: PSC | AU127: 2
C128: 3 | D128: K | E128: 5905025010 | F128: Doplnění stezky štěrkodrtí ojediněle ručně | G128: m3 | H128: 1 | J128: =ROUND(I128*H128,2) -> 0 | K128: Sborník UOŽI 01 2020 | N128: základní | P128: =O128*H128 -> 0 | Q128: 0 | R128: =Q128*H128 -> 0 | S128: 0 | T128: =S128*H128 -> 0 | AR128: 4 | AT128: K | AU128: 2 | AY128: ROZPOCET | BE128: =IF(N128="základní",J128,0) -> 0 | BF128: =IF(N128="snížená",J128,0) -> 0 | BG128: =IF(N128="zákl. přenesená",J128,0) -> 0 | BH128: =IF(N128="sníž. přenesená",J128,0) -> 0 | BI128: =IF(N128="nulová",J128,0) -> 0 | BJ128: 1 | BK128: =ROUND(I128*H128,2) -> 0 | BL128: 4 | BM128: 1531854186
D129: PP | F129: Doplnění stezky štěrkodrtí ojediněle ručně. Poznámka: 1. V cenách jsou započteny náklady na doplnění kameniva včetně rozprostření ojediněle ručně z vozíku nebo souvisle mechanizací z vozíků nebo železničních vozů. 2. V cenách nejsou obsaženy náklady na dodávku kameniva. | AT129: PP | AU129: 2
D130: PSC | F130: Poznámka k souboru cen:_x000D_ 1. V cenách jsou započteny náklady na doplnění kameniva včetně rozprostření ojediněle ručně z vozíku nebo souvisle mechanizací z vozíků nebo železničních vozů. 2. V cenách nejsou obsaženy náklady na dodávku kameniva. | AT130: PSC | AU130: 2
C131: 4 | D131: M | E131: 5955101025 | F131: Kamenivo drcené drť frakce 4/8 | G131: t | H131: 1 | J131: =ROUND(I131*H131,2) -> 0 | K131: Sborník UOŽI 01 2020 | N131: základní | P131: =O131*H131 -> 0 | Q131: 1 | R131: =Q131*H131 -> 1 | S131: 0 | T131: =S131*H131 -> 0 | AR131: 8 | AT131: M | AU131: 2 | AY131: ROZPOCET | BE131: =IF(N131="základní",J131,0) -> 0 | BF131: =IF(N131="snížená",J131,0) -> 0 | BG131: =IF(N131="zákl. přenesená",J131,0) -> 0 | BH131: =IF(N131="sníž. přenesená",J131,0) -> 0 | BI131: =IF(N131="nulová",J131,0) -> 0 | BJ131: 1 | BK131: =ROUND(I131*H131,2) -> 0 | BL131: 4 | BM131: -2105202723
D132: PP | F132: Kamenivo drcené drť frakce 4/8 | AT132: PP | AU132: 2
C133: 5 | D133: K | E133: 5905055010 | F133: Odstranění stávajícího kolejového lože odtěžením v koleji | G133: m3 | H133: 1 | J133: =ROUND(I133*H133,2) -> 0 | K133: Sborník UOŽI 01 2020 | N133: základní | P133: =O133*H133 -> 0 | Q133: 0 | R133: =Q133*H133 -> 0 | S133: 0 | T133: =S133*H133 -> 0 | AR133: 4 | AT133: K | AU133: 2 | AY133: ROZPOCET | BE133: =IF(N133="základní",J133,0) -> 0 | BF133: =IF(N133="snížená",J133,0) -> 0 | BG133: =IF(N133="zákl. přenesená",J133,0) -> 0 | BH133: =IF(N133="sníž. přenesená",J133,0) -> 0 | BI133: =IF(N133="nulová",J133,0) -> 0 | BJ133: 1 | BK133: =ROUND(I133*H133,2) -> 0 | BL133: 4 | BM133: 478533424
D134: PP | F134: Odstranění stávajícího kolejového lože odtěžením v koleji. Poznámka: 1. V cenách jsou započteny náklady na odstranění KL, úpravu pláně a rozprostření výzisku na terén nebo jeho naložení na dopravní prostředek. 2. Položka se použije v případech, kdy se nové KL nezřizuje. | AT134: PP | AU134: 2
D135: PSC | F135: Poznámka k souboru cen:_x000D_ 1. V cenách jsou započteny náklady na odstranění KL, úpravu pláně a rozprostření výzisku na terén nebo jeho naložení na dopravní prostředek. 2. Položka se použije v případech, kdy se nové KL nezřizuje. | AT135: PSC | AU135: 2
C136: 6 | D136: K | E136: 5905060010 | F136: Zřízení nového kolejového lože v koleji | G136: m3 | H136: 1 | J136: =ROUND(I136*H136,2) -> 0 | K136: Sborník UOŽI 01 2020 | N136: základní | P136: =O136*H136 -> 0 | Q136: 0 | R136: =Q136*H136 -> 0 | S136: 0 | T136: =S136*H136 -> 0 | AR136: 4 | AT136: K | AU136: 2 | AY136: ROZPOCET | BE136: =IF(N136="základní",J136,0) -> 0 | BF136: =IF(N136="snížená",J136,0) -> 0 | BG136: =IF(N136="zákl. přenesená",J136,0) -> 0 | BH136: =IF(N136="sníž. přenesená",J136,0) -> 0 | BI136: =IF(N136="nulová",J136,0) -> 0 | BJ136: 1 | BK136: =ROUND(I136*H136,2) -> 0 | BL136: 4 | BM136: -1552415761
D137: PP | F137: Zřízení nového kolejového lože v koleji. Poznámka: 1. V cenách jsou započteny náklady na zřízení KL nově zřizované koleje, vložení geosyntetika, rozprostření vrstvy kameniva, zřízení homogenizované vrstvy kameniva a úprava KL do profilu. 2. V cenách nejsou obsaženy náklady na položení KR, úpravu směrového a výškového uspořádání, doplnění a dodávku kameniva a snížení KL pod patou kolejnice. 3. Položka se použije v případech nově zřizované koleje nebo výhybky. | AT137: PP | AU137: 2
D138: PSC | F138: Poznámka k souboru cen:_x000D_ 1. V cenách jsou započteny náklady na zřízení KL nově zřizované koleje, vložení geosyntetika, rozprostření vrstvy kameniva, zřízení homogenizované vrstvy kameniva a úprava KL do profilu. 2. V cenách nejsou obsaženy náklady na položení KR, úpravu směrového a výškového uspořádání, doplnění a dodávku kameniva a snížení KL pod patou kolejnice. 3. Položka se použije v případech nově zřizované koleje nebo výhybky. | AT138: PSC | AU138: 2
D139: P | F139: Poznámka k položce:_x000D_ Včetně hutnění kolejového lože po vrstvách. | AT139: P | AU139: 2
C140: 7 | D140: K | E140: 5905095010 | F140: Úprava kolejového lože ojediněle ručně v koleji lože otevřené | G140: m | H140: 1 | J140: =ROUND(I140*H140,2) -> 0 | K140: Sborník UOŽI 01 2020 | N140: základní | P140: =O140*H140 -> 0 | Q140: 0 | R140: =Q140*H140 -> 0 | S140: 0 | T140: =S140*H140 -> 0 | AR140: 4 | AT140: K | AU140: 2 | AY140: ROZPOCET | BE140: =IF(N140="základní",J140,0) -> 0 | BF140: =IF(N140="snížená",J140,0) -> 0 | BG140: =IF(N140="zákl. přenesená",J140,0) -> 0 | BH140: =IF(N140="sníž. přenesená",J140,0) -> 0 | BI140: =IF(N140="nulová",J140,0) -> 0 | BJ140: 1 | BK140: =ROUND(I140*H140,2) -> 0 | BL140: 4 | BM140: 499204814
D141: PP | F141: Úprava kolejového lože ojediněle ručně v koleji lože otevřené. Poznámka: 1. V cenách jsou započteny náklady na úpravu KL koleje a výhybek ojediněle vidlemi. 2. V cenách nejsou obsaženy náklady na doplnění a dodávku kameniva. | AT141: PP | AU141: 2
D142: PSC | F142: Poznámka k souboru cen:_x000D_ 1. V cenách jsou započteny náklady na úpravu KL koleje a výhybek ojediněle vidlemi. 2. V cenách nejsou obsaženy náklady na doplnění a dodávku kameniva. | AT142: PSC | AU142: 2
C143: 8 | D143: K | E143: 5905095020 | F143: Úprava kolejového lože ojediněle ručně v koleji lože zapuštěné | G143: m | H143: 1 | J143: =ROUND(I143*H143,2) -> 0 | K143: Sborník UOŽI 01 2020 | N143: základní | P143: =O143*H143 -> 0 | Q143: 0 | R143: =Q143*H143 -> 0 | S143: 0 | T143: =S143*H143 -> 0 | AR143: 4 | AT143: K | AU143: 2 | AY143: ROZPOCET | BE143: =IF(N143="základní",J143,0) -> 0 | BF143: =IF(N143="snížená",J143,0) -> 0 | BG143: =IF(N143="zákl. přenesená",J143,0) -> 0 | BH143: =IF(N143="sníž. přenesená",J143,0) -> 0 | BI143: =IF(N143="nulová",J143,0) -> 0 | BJ143: 1 | BK143: =ROUND(I143*H143,2) -> 0 | BL143: 4 | BM143: -748298905
D144: PP | F144: Úprava kolejového lože ojediněle ručně v koleji lože zapuštěné. Poznámka: 1. V cenách jsou započteny náklady na úpravu KL koleje a výhybek ojediněle vidlemi. 2. V cenách nejsou obsaženy náklady na doplnění a dodávku kameniva. | AT144: PP | AU144: 2
D145: PSC | F145: Poznámka k souboru cen:_x000D_ 1. V cenách jsou započteny náklady na úpravu KL koleje a výhybek ojediněle vidlemi. 2. V cenách nejsou obsaženy náklady na doplnění a dodávku kameniva. | AT145: PSC | AU145: 2
C146: 9 | D146: K | E146: 5905105010 | F146: Doplnění KL kamenivem ojediněle ručně v koleji | G146: m3 | H146: 1 | J146: =ROUND(I146*H146,2) -> 0 | K146: Sborník UOŽI 01 2020 | N146: základní | P146: =O146*H146 -> 0 | Q146: 0 | R146: =Q146*H146 -> 0 | S146: 0 | T146: =S146*H146 -> 0 | AR146: 4 | AT146: K | AU146: 2 | AY146: ROZPOCET | BE146: =IF(N146="základní",J146,0) -> 0 | BF146: =IF(N146="snížená",J146,0) -> 0 | BG146: =IF(N146="zákl. přenesená",J146,0) -> 0 | BH146: =IF(N146="sníž. přenesená",J146,0) -> 0 | BI146: =IF(N146="nulová",J146,0) -> 0 | BJ146: 1 | BK146: =ROUND(I146*H146,2) -> 0 | BL146: 4 | BM146: -1432247738
D147: PP | F147: Doplnění KL kamenivem ojediněle ručně v koleji. Poznámka: 1. V cenách jsou započteny náklady na doplnění kameniva ojediněle ručně vidlemi a/nebo souvisle strojně z výsypných vozů případně nakladačem. 2. V cenách nejsou obsaženy náklady na dodávku kameniva. | AT147: PP | AU147: 2
D148: PSC | F148: Poznámka k souboru cen:_x000D_ 1. V cenách jsou započteny náklady na doplnění kameniva ojediněle ručně vidlemi a/nebo souvisle strojně z výsypných vozů případně nakladačem. 2. V cenách nejsou obsaženy náklady na dodávku kameniva. | AT148: PSC | AU148: 2
D149: P | F149: Poznámka k položce:_x000D_ Včetně hutnění kolejového lože po vrstvách. | AT149: P | AU149: 2
C150: 10 | D150: K | E150: 5905105030 | F150: Doplnění KL kamenivem souvisle strojně v koleji | G150: m3 | H150: 1 | J150: =ROUND(I150*H150,2) -> 0 | K150: Sborník UOŽI 01 2020 | N150: základní | P150: =O150*H150 -> 0 | Q150: 0 | R150: =Q150*H150 -> 0 | S150: 0 | T150: =S150*H150 -> 0 | AR150: 4 | AT150: K | AU150: 2 | AY150: ROZPOCET | BE150: =IF(N150="základní",J150,0) -> 0 | BF150: =IF(N150="snížená",J150,0) -> 0 | BG150: =IF(N150="zákl. přenesená",J150,0) -> 0 | BH150: =IF(N150="sníž. přenesená",J150,0) -> 0 | BI150: =IF(N150="nulová",J150,0) -> 0 | BJ150: 1 | BK150: =ROUND(I150*H150,2) -> 0 | BL150: 4 | BM150: -319268383
D151: PP | F151: Doplnění KL kamenivem souvisle strojně v koleji. Poznámka: 1. V cenách jsou započteny náklady na doplnění kameniva ojediněle ručně vidlemi a/nebo souvisle strojně z výsypných vozů případně nakladačem. 2. V cenách nejsou obsaženy náklady na dodávku kameniva. | AT151: PP | AU151: 2
D152: PSC | F152: Poznámka k souboru cen:_x000D_ 1. V cenách jsou započteny náklady na doplnění kameniva ojediněle ručně vidlemi a/nebo souvisle strojně z výsypných vozů případně nakladačem. 2. V cenách nejsou obsaženy náklady na dodávku kameniva. | AT152: PSC | AU152: 2
D153: P | F153: Poznámka k položce:_x000D_ Včetně hutnění kolejového lože po vrstvách. | AT153: P | AU153: 2
C154: 11 | D154: M | E154: 5955101000 | F154: Kamenivo drcené štěrk frakce 31,5/63 třídy BI | G154: t | H154: 1 | J154: =ROUND(I154*H154,2) -> 0 | K154: Sborník UOŽI 01 2020 | N154: základní | P154: =O154*H154 -> 0 | Q154: 1 | R154: =Q154*H154 -> 1 | S154: 0 | T154: =S154*H154 -> 0 | AR154: 8 | AT154: M | AU154: 2 | AY154: ROZPOCET | BE154: =IF(N154="základní",J154,0) -> 0 | BF154: =IF(N154="snížená",J154,0) -> 0 | BG154: =IF(N154="zákl. přenesená",J154,0) -> 0 | BH154: =IF(N154="sníž. přenesená",J154,0) -> 0 | BI154: =IF(N154="nulová",J154,0) -> 0 | BJ154: 1 | BK154: =ROUND(I154*H154,2) -> 0 | BL154: 4 | BM154: 1601773978
D155: PP | F155: Kamenivo drcené štěrk frakce 31,5/63 třídy BI | AT155: PP | AU155: 2
C156: 12 | D156: M | E156: 5955101005 | F156: Kamenivo drcené štěrk frakce 31,5/63 třídy min. BII | G156: t | H156: 1 | J156: =ROUND(I156*H156,2) -> 0 | K156: Sborník UOŽI 01 2020 | N156: základní | P156: =O156*H156 -> 0 | Q156: 1 | R156: =Q156*H156 -> 1 | S156: 0 | T156: =S156*H156 -> 0 | AR156: 8 | AT156: M | AU156: 2 | AY156: ROZPOCET | BE156: =IF(N156="základní",J156,0) -> 0 | BF156: =IF(N156="snížená",J156,0) -> 0 | BG156: =IF(N156="zákl. přenesená",J156,0) -> 0 | BH156: =IF(N156="sníž. přenesená",J156,0) -> 0 | BI156: =IF(N156="nulová",J156,0) -> 0 | BJ156: 1 | BK156: =ROUND(I156*H156,2) -> 0 | BL156: 4 | BM156: 2050538976
D157: PP | F157: Kamenivo drcené štěrk frakce 31,5/63 třídy min. BII | AT157: PP | AU157: 2
C158: 13 | D158: K | E158: 5906130390 | F158: Montáž kolejového roštu v ose koleje pražce betonové vystrojené tv. S49 rozdělení "d" | G158: km | H158: 1 | J158: =ROUND(I158*H158,2) -> 0 | K158: Sborník UOŽI 01 2020 | N158: základní | P158: =O158*H158 -> 0 | Q158: 0 | R158: =Q158*H158 -> 0 | S158: 0 | T158: =S158*H158 -> 0 | AR158: 4 | AT158: K | AU158: 2 | AY158: ROZPOCET | BE158: =IF(N158="základní",J158,0) -> 0 | BF158: =IF(N158="snížená",J158,0) -> 0 | BG158: =IF(N158="zákl. přenesená",J158,0) -> 0 | BH158: =IF(N158="sníž. přenesená",J158,0) -> 0 | BI158: =IF(N158="nulová",J158,0) -> 0 | BJ158: 1 | BK158: =ROUND(I158*H158,2) -> 0 | BL158: 4 | BM158: 3938835
D159: PP | F159: Montáž kolejového roštu v ose koleje pražce betonové vystrojené tv. S49 rozdělení "d". Poznámka: 1. V cenách jsou započteny náklady na manipulaci a montáž KR, u pražců dřevěných nevystrojených i na vrtání pražců. 2. V cenách nejsou obsaženy náklady na dodávku materiálu. | AT159: PP | AU159: 2
D160: PSC | F160: Poznámka k souboru cen:_x000D_ 1. V cenách jsou započteny náklady na manipulaci a montáž KR, u pražců dřevěných nevystrojených i na vrtání pražců. 2. V cenách nejsou obsaženy náklady na dodávku materiálu. | AT160: PSC | AU160: 2
D161: P | F161: Poznámka k položce:_x000D_ lze použít i při rozdělení "c", "u" | AT161: P | AU161: 2
C162: 14 | D162: K | E162: 5906140200 | F162: Demontáž kolejového roštu koleje v ose koleje pražce betonové tv. S49 rozdělení "d" | G162: km | H162: 1 | J162: =ROUND(I162*H162,2) -> 0 | K162: Sborník UOŽI 01 2020 | N162: základní | P162: =O162*H162 -> 0 | Q162: 0 | R162: =Q162*H162 -> 0 | S162: 0 | T162: =S162*H162 -> 0 | AR162: 4 | AT162: K | AU162: 2 | AY162: ROZPOCET | BE162: =IF(N162="základní",J162,0) -> 0 | BF162: =IF(N162="snížená",J162,0) -> 0 | BG162: =IF(N162="zákl. přenesená",J162,0) -> 0 | BH162: =IF(N162="sníž. přenesená",J162,0) -> 0 | BI162: =IF(N162="nulová",J162,0) -> 0 | BJ162: 1 | BK162: =ROUND(I162*H162,2) -> 0 | BL162: 4 | BM162: -1736665356
D163: PP | F163: Demontáž kolejového roštu koleje v ose koleje pražce betonové tv. S49 rozdělení "d". Poznámka: 1. V cenách jsou započteny náklady na případné odstranění kameniva, rozebrání roštu do součástí, manipulaci, naložení výzisku na dopravní prostředek a uložení na úložišti. 2. V cenách nejsou obsaženy náklady na dopravu a vytřídění. | AT163: PP | AU163: 2
D164: PSC | F164: Poznámka k souboru cen:_x000D_ 1. V cenách jsou započteny náklady na případné odstranění kameniva, rozebrání roštu do součástí, manipulaci, naložení výzisku na dopravní prostředek a uložení na úložišti. 2. V cenách nejsou obsaženy náklady na dopravu a vytřídění. | AT164: PSC | AU164: 2
D165: P | F165: Poznámka k položce:_x000D_ lze použít i při rozdělení "c", "u" | AT165: P | AU165: 2
C166: 15 | D166: K | E166: 5907015040 | F166: Ojedinělá výměna kolejnic stávající upevnění tv. S49 rozdělení "d" | G166: m | H166: 1 | J166: =ROUND(I166*H166,2) -> 0 | K166: Sborník UOŽI 01 2020 | N166: základní | P166: =O166*H166 -> 0 | Q166: 0 | R166: =Q166*H166 -> 0 | S166: 0 | T166: =S166*H166 -> 0 | AR166: 4 | AT166: K | AU166: 2 | AY166: ROZPOCET | BE166: =IF(N166="základní",J166,0) -> 0 | BF166: =IF(N166="snížená",J166,0) -> 0 | BG166: =IF(N166="zákl. přenesená",J166,0) -> 0 | BH166: =IF(N166="sníž. přenesená",J166,0) -> 0 | BI166: =IF(N166="nulová",J166,0) -> 0 | BJ166: 1 | BK166: =ROUND(I166*H166,2) -> 0 | BL166: 4 | BM166: 101582434
...

Sheet 003 - VRN - Vedlejší rozp...
AT2: {c83cabf5-69e6-4979-910b-6537eb4e5e3c}
AT3: 2
D4: KRYCÍ LIST SOUPISU PRACÍ | M4: v --- níže se nacházejí doplnkové a pomocné údaje k sestavám --- v | AT4: False
D6: Zakázka:
E7: ='Rekapitulace zakázky'!K6 -> Údržba, opravy a odstraňování závad u SMT v roce 2020
D8: Objekt:
E9: 003 - VRN - Vedlejší rozpočtové náklady
D11: KSO: | I11: CC-CZ:
D12: Místo: | I12: Datum: | J12: ='Rekapitulace zakázky'!AN8 -> 26. 5. 2020
D14: Zadavatel: | I14: IČ: | J14: =IF('Rekapitulace zakázky'!AN10="","",'Rekapitulace zakázky'!AN10)
E15: =IF('Rekapitulace zakázky'!E11="","",'Rekapitulace zakázky'!E11) | I15: DIČ: | J15: =IF('Rekapitulace zakázky'!AN11="","",'Rekapitulace zakázky'!AN11)
D17: Uchazeč: | I17: IČ: | J17: ='Rekapitulace zakázky'!AN13 -> Vyplň údaj
E18: ='Rekapitulace zakázky'!E14 -> Vyplň údaj | I18: DIČ: | J18: ='Rekapitulace zakázky'!AN14 -> Vyplň údaj
D20: Projektant: | I20: IČ: | J20: =IF('Rekapitulace zakázky'!AN16="","",'Rekapitulace zakázky'!AN16)
E21: =IF('Rekapitulace zakázky'!E17="","",'Rekapitulace zakázky'!E17) | I21: DIČ: | J21: =IF('Rekapitulace zakázky'!AN17="","",'Rekapitulace zakázky'!AN17)
D23: Zpracovatel: | I23: IČ: | J23: =IF('Rekapitulace zakázky'!AN19="","",'Rekapitulace zakázky'!AN19)
E24: =IF('Rekapitulace zakázky'!E20="","",'Rekapitulace zakázky'!E20) | I24: DIČ: | J24: =IF('Rekapitulace zakázky'!AN20="","",'Rekapitulace zakázky'!AN20)
D26: Poznámka:
D30: Cena bez DPH | J30: =ROUND(J122, 2) -> 0
F32: Základ daně | I32: Sazba daně | J32: Výše daně
D33: DPH | E33: základní | F33: =ROUND((SUM(BE122:BE149)), 2) -> 0 | I33: 0.21 | J33: =ROUND(((SUM(BE122:BE149))*I33), 2) -> 0
E34: snížená | F34: =ROUND((SUM(BF122:BF149)), 2) -> 0 | I34: 0.15 | J34: =ROUND(((SUM(BF122:BF149))*I34), 2) -> 0
E35: zákl. přenesená | F35: =ROUND((SUM(BG122:BG149)), 2) -> 0 | I35: 0.21 | J35: =0 -> 0
E36: sníž. přenesená | F36: =ROUND((SUM(BH122:BH149)), 2) -> 0 | I36: 0.15 | J36: =0 -> 0
E37: nulová | F37: =ROUND((SUM(BI122:BI149)), 2) -> 0 | I37: 0 | J37: =0 -> 0
D39: Cena s DPH | G39: v | H39: CZK | J39: =SUM(J30:J37) -> 0
D50: Projektant | G50: Zpracovatel
D61: Datum a podpis: | F61: Razítko | G61: Datum a podpis: | J61: Razítko
D65: Objednavatel | G65: Uchazeč
D76: Datum a podpis: | F76: Razítko | G76: Datum a podpis: | J76: Razítko
C82: REKAPITULACE ČLENĚNÍ SOUPISU PRACÍ
C84: Zakázka:
E85: =E7 -> Údržba, opravy a odstraňování závad u SMT v roce 2020
C86: Objekt:
E87: =E9 -> 003 - VRN - Vedlejší rozpočtové náklady
C89: Místo: | F89: =F12 | I89: Datum: | J89: =IF(J12="","",J12) -> 26. 5. 2020
C91: Zadavatel: | F91: =E15 | I91: Projektant: | J91: =E21
C92: Uchazeč: | F92: =IF(E18="","",E18) -> Vyplň údaj | I92: Zpracovatel: | J92: =E24
C94: Kód dílu - Popis | J94: Cena celkem [CZK]
C96: Náklady ze soupisu prací | J96: =J122 -> 0 | AU96: -1
D97: VRN - Vedlejší rozpočtové náklady | J97: =J123 -> 0
D98: VRN1 - Průzkumné, geodetické a projektové práce | J98: =J124 -> 0
D99: VRN3 - Zařízení staveniště | J99: =J131 -> 0
D100: VRN4 - Inženýrská činnost | J100: =J135 -> 0
D101: VRN6 - Územní vlivy | J101: =J142 -> 0
D102: VRN7 - Provozní vlivy | J102: =J146 -> 0
C109: SOUPIS PRACÍ
C111: Zakázka:
E112: =E7 -> Údržba, opravy a odstraňování závad u SMT v roce 2020
C113: Objekt:
E114: =E9 -> 003 - VRN - Vedlejší rozpočtové náklady
C116: Místo: | F116: =F12 | I116: Datum: | J116: =IF(J12="","",J12) -> 26. 5. 2020
C118: Zadavatel: | F118: =E15 | I118: Projektant: | J118: =E21
C119: Uchazeč: | F119: =IF(E18="","",E18) -> Vyplň údaj | I119: Zpracovatel: | J119: =E24
C121: PČ | D121: Typ | E121: Kód | F121: Popis | G121: MJ | H121: Množství | I121: J.cena [CZK] | J121: Cena celkem [CZK] | K121: Cenová soustava | N121: DPH | O121: J. Nh [h] | P121: Nh celkem [h] | Q121: J. hmotnost [t] | R121: Hmotnost celkem [t] | S121: J. suť [t] | T121: Suť Celkem [t]
C122: Náklady soupisu celkem | J122: =BK122 -> 0 | P122: =P123 -> 0 | R122: =R123 -> 0 | T122: =T123 -> 0 | AT122: D | AU122: -1 | BK122: =BK123 -> 0
D123: D | E123: VRN | F123: Vedlejší rozpočtové náklady | J123: =BK123 -> 0 | P123: =P124+P131+P135+P142+P146 -> 0 | R123: =R124+R131+R135+R142+R146 -> 0 | T123: =T124+T131+T135+T142+T146 -> 0 | AR123: 5 | AT123: D | AU123: 0 | AY123: ROZPOCET | BK123: =BK124+BK131+BK135+BK142+BK146 -> 0
D124: D | E124: VRN1 | F124: Průzkumné, geodetické a projektové práce | J124: =BK124 -> 0 | P124: =SUM(P125:P130) -> 0 | R124: =SUM(R125:R130) -> 0 | T124: =SUM(T125:T130) -> 0 | AR124: 5 | AT124: D | AU124: 1 | AY124: ROZPOCET | BK124: =SUM(BK125:BK130) -> 0
C125: 1 | D125: K | E125: 012002000 | F125: Geodetické práce | G125: Kč | H125: 0 | J125: =ROUND(I125*H125,2) -> 0 | K125: CS ÚRS 2020 01 | N125: základní | P125: =O125*H125 -> 0 | Q125: 0 | R125: =Q125*H125 -> 0 | S125: 0 | T125: =S125*H125 -> 0 | AR125: 1024 | AT125: K | AU125: 2 | AY125: ROZPOCET | BE125: =IF(N125="základní",J125,0) -> 0 | BF125: =IF(N125="snížená",J125,0) -> 0 | BG125: =IF(N125="zákl. přenesená",J125,0) -> 0 | BH125: =IF(N125="sníž. přenesená",J125,0) -> 0 | BI125: =IF(N125="nulová",J125,0) -> 0 | BJ125: 1 | BK125: =ROUND(I125*H125,2) -> 0 | BL125: 1024 | BM125: -1868489250
D126: PP | F126: Geodetické práce | AT126: PP | AU126: 2
D127: P | F127: Poznámka k položce:_x000D_ Vytyčení inženýrských sítí včetně zajištění dohledu správce sítí při provádění stavebních prací v blízkosti sítí. Při realizaci díla bude fakturováno dle skutečně provedených výkonů. POLOŽKU V NABÍDCE NEOCEŇOVAT | AT127: P | AU127: 2
C128: 2 | D128: K | E128: 013002000 | F128: Projektové práce | G128: Kč | H128: 0 | J128: =ROUND(I128*H128,2) -> 0 | K128: CS ÚRS 2020 01 | N128: základní | P128: =O128*H128 -> 0 | Q128: 0 | R128: =Q128*H128 -> 0 | S128: 0 | T128: =S128*H128 -> 0 | AR128: 1024 | AT128: K | AU128: 2 | AY128: ROZPOCET | BE128: =IF(N128="základní",J128,0) -> 0 | BF128: =IF(N128="snížená",J128,0) -> 0 | BG128: =IF(N128="zákl. přenesená",J128,0) -> 0 | BH128: =IF(N128="sníž. přenesená",J128,0) -> 0 | BI128: =IF(N128="nulová",J128,0) -> 0 | BJ128: 1 | BK128: =ROUND(I128*H128,2) -> 0 | BL128: 1024 | BM128: 736393429
D129: PP | F129: Hlavní tituly průvodních činností a nákladů průzkumné, geodetické a projektové práce projektové práce | AT129: PP | AU129: 2
D130: P | F130: Poznámka k položce:_x000D_ Zpracování složitější projektové dokumentace, statické posouzení. Při realizaci díla bude fakturováno dle skutečně provedených výkonů. POLOŽKU V NABÍDCE NEOCEŇOVAT | AT130: P | AU130: 2
D131: D | E131: VRN3 | F131: Zařízení staveniště | J131: =BK131 -> 0 | P131: =SUM(P132:P134) -> 0 | R131: =SUM(R132:R134) -> 0 | T131: =SUM(T132:T134) -> 0 | AR131: 5 | AT131: D | AU131: 1 | AY131: ROZPOCET | BK131: =SUM(BK132:BK134) -> 0
C132: 3 | D132: K | E132: 030001000 | F132: Zařízení staveniště | G132: % | H132: 1 | J132: =ROUND(I132*H132,2) -> 0 | K132: CS ÚRS 2020 01 | N132: základní | P132: =O132*H132 -> 0 | Q132: 0 | R132: =Q132*H132 -> 0 | S132: 0 | T132: =S132*H132 -> 0 | AR132: 1024 | AT132: K | AU132: 2 | AY132: ROZPOCET | BE132: =IF(N132="základní",J132,0) -> 0 | BF132: =IF(N132="snížená",J132,0) -> 0 | BG132: =IF(N132="zákl. přenesená",J132,0) -> 0 | BH132: =IF(N132="sníž. přenesená",J132,0) -> 0 | BI132: =IF(N132="nulová",J132,0) -> 0 | BJ132: 1 | BK132: =ROUND(I132*H132,2) -> 0 | BL132: 1024 | BM132: 1583310242
D133: PP | F133: Zařízení staveniště | AT133: PP | AU133: 2
D134: P | F134: Poznámka k položce:_x000D_ Finanční zohlednění ZAŘÍZENÍ STAVENIŠTĚ na objektech - dodávky vody a energie, příp. pronájmy pozemků, střežení zařízení staveniště včetně příp. osvětlení, uvedení pozemků do původního stavu. _x000D_ POLOŽKA BUDE DLE NÁSLEDNĚ DOPOČÍTANÉ % SAZBY (ZE SOUČTU ČÁSTI MOSTY A TUNELY A TRAŤOVÉHO HOSPODÁŘSTVÍ) ZAHRNOVÁNA DO POLOŽKOVÉHO ROZPOČTU KAŽDÉHO ZADÁVANÉHO KONKRÉTNÍHO OBJEKTU._x000D_ _x000D_ | AT134: P | AU134: 2
D135: D | E135: VRN4 | F135: Inženýrská činnost | J135: =BK135 -> 0 | P135: =SUM(P136:P141) -> 0 | R135: =SUM(R136:R141) -> 0 | T135: =SUM(T136:T141) -> 0 | AR135: 5 | AT135: D | AU135: 1 | AY135: ROZPOCET | BK135: =SUM(BK136:BK141) -> 0
C136: 4 | D136: K | E136: 043114000 | F136: Zkoušky tlakové | G136: kpl. | H136: 1 | J136: =ROUND(I136*H136,2) -> 0 | K136: CS ÚRS 2020 01 | N136: základní | P136: =O136*H136 -> 0 | Q136: 0 | R136: =Q136*H136 -> 0 | S136: 0 | T136: =S136*H136 -> 0 | AR136: 1024 | AT136: K | AU136: 2 | AY136: ROZPOCET | BE136: =IF(N136="základní",J136,0) -> 0 | BF136: =IF(N136="snížená",J136,0) -> 0 | BG136: =IF(N136="zákl. přenesená",J136,0) -> 0 | BH136: =IF(N136="sníž. přenesená",J136,0) -> 0 | BI136: =IF(N136="nulová",J136,0) -> 0 | BJ136: 1 | BK136: =ROUND(I136*H136,2) -> 0 | BL136: 1024 | BM136: -1217656672
D137: PP | F137: Zkoušky tlakové | AT137: PP | AU137: 2
D138: P | F138: Poznámka k položce:_x000D_ vodní tlaková zkouška mezerovitosti zdiva před injektáží a po injektáži (kpl.) | AT138: P | AU138: 2
C139: 5 | D139: K | E139: 043134000 | F139: Zkoušky zatěžovací | G139: kpl. | H139: 1 | J139: =ROUND(I139*H139,2) -> 0 | K139: CS ÚRS 2020 01 | N139: základní | P139: =O139*H139 -> 0 | Q139: 0 | R139: =Q139*H139 -> 0 | S139: 0 | T139: =S139*H139 -> 0 | AR139: 1024 | AT139: K | AU139: 2 | AY139: ROZPOCET | BE139: =IF(N139="základní",J139,0) -> 0 | BF139: =IF(N139="snížená",J139,0) -> 0 | BG139: =IF(N139="zákl. přenesená",J139,0) -> 0 | BH139: =IF(N139="sníž. přenesená",J139,0) -> 0 | BI139: =IF(N139="nulová",J139,0) -> 0 | BJ139: 1 | BK139: =ROUND(I139*H139,2) -> 0 | BL139: 1024 | BM139: 376234594
D140: PP | F140: Zkoušky zatěžovací | AT140: PP | AU140: 2
D141: P | F141: Poznámka k položce:_x000D_ Statická zatěžovací zkouška pláně | AT141: P | AU141: 2
D142: D | E142: VRN6 | F142: Územní vlivy | J142: =BK142 -> 0 | P142: =SUM(P143:P145) -> 0 | R142: =SUM(R143:R145) -> 0 | T142: =SUM(T143:T145) -> 0 | AR142: 5 | AT142: D | AU142: 1 | AY142: ROZPOCET | BK142: =SUM(BK143:BK145) -> 0
C143: 6 | D143: K | E143: 060001000 | F143: Územní vlivy | G143: % | H143: 1 | J143: =ROUND(I143*H143,2) -> 0 | K143: CS ÚRS 2020 01 | N143: základní | P143: =O143*H143 -> 0 | Q143: 0 | R143: =Q143*H143 -> 0 | S143: 0 | T143: =S143*H143 -> 0 | AR143: 1024 | AT143: K | AU143: 2 | AY143: ROZPOCET | BE143: =IF(N143="základní",J143,0) -> 0 | BF143: =IF(N143="snížená",J143,0) -> 0 | BG143: =IF(N143="zákl. přenesená",J143,0) -> 0 | BH143: =IF(N143="sníž. přenesená",J143,0) -> 0 | BI143: =IF(N143="nulová",J143,0) -> 0 | BJ143: 1 | BK143: =ROUND(I143*H143,2) -> 0 | BL143: 1024 | BM143: -1760771781
D144: PP | F144: Územní vlivy | AT144: PP | AU144: 2
D145: P | F145: Poznámka k položce:_x000D_ Finanční zohlednění územních vlivů - příjezdové komunikace včetně příp. omezení provozu a dopravního značení u uzavírek (dle DIO), bezpečnostní hlídky dle Bp1 při provádění prací, příp. horší přístupnost objektů, příp. odlehlost objektů, rušení žel. provozem._x000D_ POLOŽKA BUDE DLE NÁSLEDNĚ DOPOČÍTANÉ % SAZBY (ZE SOUČTU ČÁSTI MOSTY A TUNELY A TRAŤOVÉHO HOSPODÁŘSTVÍ) ZAHRNOVÁNA DO POLOŽKOVÉHO ROZPOČTU KAŽDÉHO ZADÁVANÉHO KONKRÉTNÍHO OBJEKTU._x000D_ _x000D_ _x000D_ _x000D_ | AT145: P | AU145: 2
D146: D | E146: VRN7 | F146: Provozní vlivy | J146: =BK146 -> 0 | P146: =SUM(P147:P149) -> 0 | R146: =SUM(R147:R149) -> 0 | T146: =SUM(T147:T149) -> 0 | AR146: 5 | AT146: D | AU146: 1 | AY146: ROZPOCET | BK146: =SUM(BK147:BK149) -> 0
C147: 7 | D147: K | E147: 072002000 | F147: Silniční provoz | G147: kpl. | H147: 1 | J147: =ROUND(I147*H147,2) -> 0 | K147: CS ÚRS 2020 01 | N147: základní | P147: =O147*H147 -> 0 | Q147: 0 | R147: =Q147*H147 -> 0 | S147: 0 | T147: =S147*H147 -> 0 | AR147: 1024 | AT147: K | AU147: 2 | AY147: ROZPOCET | BE147: =IF(N147="základní",J147,0) -> 0 | BF147: =IF(N147="snížená",J147,0) -> 0 | BG147: =IF(N147="zákl. přenesená",J147,0) -> 0 | BH147: =IF(N147="sníž. přenesená",J147,0) -> 0 | BI147: =IF(N147="nulová",J147,0) -> 0 | BJ147: 1 | BK147: =ROUND(I147*H147,2) -> 0 | BL147: 1024 | BM147: -751503573
D148: PP | F148: Silniční provoz | AT148: PP | AU148: 2
D149: P | F149: Poznámka k položce:_x000D_ odhad 7 úplných uzavírek komunikací pod mostem a 5 částečných uzavírek, včetně projednání a zajištění dopravního značení | AT149: P | AU149: 2
