Workbook

Sheet Rekapitulace zakázky
A1: Export Komplet | AZ1: VZ | BA1: 2.0 | BT1: False | BU1: False | BV1: {abe9e1df-e0d2-43c6-8aa3-78e502f4bb30}
AR2: >> skryté sloupce << | BS2: 0 | BT2: 21
BS3: 0 | BT3: 15
D4: REKAPITULACE ZAKÁZKY | AS4: v --- níže se nacházejí doplnkové a pomocné údaje k sestavám --- v | BE4: Návod na vyplnění | BS4: 0
D5: Kód: | K5: 64020009 | BE5: Měnit lze pouze buňky se žlutým podbarvením!_x000D_ _x000D_ 1) v Rekapitulaci zakázky vyplňte údaje o Uchazeči (přenesou se do ostatních sestav i v jiných listech)_x000D_ _x000D_ 2) na vybraných listech vyplňte v sestavě Soupis prací ceny u položek | BS5: 0
D6: Zakázka: | K6: Mechanické a chemické hubení nežádoucí vegetace u ST 2020 | BS6: 0
D7: KSO: | AK7: CC-CZ: | BS7: 0
D8: Místo: | K8: Hradec Králové | AK8: Datum: | AN8: 4. 2. 2020 | BS8: 0
BS9: 0
D10: Zadavatel: | AK10: IČ: | BS10: 0
AK11: DIČ: | BS11: 0
BS12: 0
D13: Uchazeč: | AK13: IČ: | AN13: Vyplň údaj | BS13: 0
E14: Vyplň údaj | AK14: DIČ: | AN14: Vyplň údaj | BS14: 0
BS15: False
D16: Projektant: | AK16: IČ: | BS16: False
AK17: DIČ: | BS17: True
BS18: 0
D19: Zpracovatel: | AK19: IČ: | BS19: 0
AK20: DIČ: | BS20: True
D22: Poznámka:
E23: Soupis prací je sestaven s využitím Cenové soustavy ÚRS. Položky, které pochází z této cenové soustavy, jsou ve sloupci 'Cenová soustava' označeny popisem 'CS ÚRS' a úrovní příslušného kalendářního pololetí. Veškeré další informace vymezující popis a podmínky použití těchto položek z Cenové soustavy, které nejsou uvedeny přímo v soupisu prací, jsou neomezeně dálkově k dispozici na www.cs-urs.cz, sekce Cenové a technické podmínky.
D26: Cena bez DPH | AK26: =ROUND(AG54,15) -> 0
L28: Sazba daně | W28: Základ daně | AK28: Výše daně
D29: DPH | F29: základní | L29: 0.21 | W29: =ROUND(AZ54, 15) -> 0 | AK29: =ROUND(AV54, 15) -> 0
F30: snížená | L30: 0.15 | W30: =ROUND(BA54, 15) -> 0 | AK30: =ROUND(AW54, 15) -> 0
F31: zákl. přenesená | L31: 0.21 | W31: =ROUND(BB54, 15) -> 0 | AK31: 0
F32: sníž. přenesená | L32: 0.15 | W32: =ROUND(BC54, 15) -> 0 | AK32: 0
F33: nulová | L33: 0 | W33: =ROUND(BD54, 15) -> 0 | AK33: 0
D35: Cena s DPH | T35: v | X35: CZK | AK35: =SUM(AK26:AK33) -> 0
C42: REKAPITULACE OBJEKTŮ ZAKÁZKY A SOUPISŮ PRACÍ
C44: Kód: | L44: =K5 -> 64020009
C45: Zakázka: | L45: =K6 -> Mechanické a chemické hubení nežádoucí vegetace u ST 2020
C47: Místo: | L47: =IF(K8="","",K8) -> Hradec Králové | AI47: Datum: | AM47: =IF(AN8= "","",AN8) -> 4. 2. 2020
C49: Zadavatel: | L49: =IF(E11= "","",E11) | AI49: Projektant: | AM49: =IF(E17="","",E17) | AS49: Informatívní údaje z listů zakázek
C50: Uchazeč: | L50: =IF(E14= "Vyplň údaj","",E14) | AI50: Zpracovatel: | AM50: =IF(E20="","",E20)
C52: Kód | I52: Popis | AG52: Cena bez DPH [CZK] | AN52: Cena s DPH [CZK] | AQ52: Typ | AS52: z toho Ostat._x000D_ náklady [CZK] | AT52: DPH [CZK] | AU52: Normohodiny [h] | AV52: DPH základní [CZK] | AW52: DPH snížená [CZK] | AX52: DPH základní přenesená_x000D_ [CZK] | AY52: DPH snížená přenesená_x000D_ [CZK] | AZ52: Základna_x000D_ DPH základní | BA52: Základna_x000D_ DPH snížená | BB52: Základna_x000D_ DPH zákl. přenesená | BC52: Základna_x000D_ DPH sníž. přenesená | BD52: Základna_x000D_ DPH nulová
C54: Náklady zakázky celkem | AG54: =ROUND(SUM(AG55:AG56),15) -> 0 | AN54: =SUM(AG54,AT54) -> 0 | AS54: =ROUND(SUM(AS55:AS56),15) -> 0 | AT54: =ROUND(SUM(AV54:AW54),15) -> 0 | AU54: =ROUND(SUM(AU55:AU56),5) -> 0 | AV54: =ROUND(AZ54*L29,15) -> 0 | AW54: =ROUND(BA54*L30,15) -> 0 | AX54: =ROUND(BB54*L29,15) -> 0 | AY54: =ROUND(BC54*L30,15) -> 0 | AZ54: =ROUND(SUM(AZ55:AZ56),15) -> 0 | BA54: =ROUND(SUM(BA55:BA56),15) -> 0 | BB54: =ROUND(SUM(BB55:BB56),15) -> 0 | BC54: =ROUND(SUM(BC55:BC56),15) -> 0 | BD54: =ROUND(SUM(BD55:BD56),15) -> 0 | BS54: D | BT54: 0 | BU54: ###NOIMPORT### | BV54: IMPORT | BW54: {abe9e1df-e0d2-43c6-8aa3-78e502f4bb30} | BX54: {00000000-0000-0000-0000-000000000000}
A55: / | D55: PS 01 | J55: Mechanické a chemické hubení nežádoucí vegetace u ST 2020 | AG55: ='PS 01 - Mechanické a chem...'!J30 -> 0 | AN55: =SUM(AG55,AT55) -> 0 | AQ55: PRO | AS55: 0 | AT55: =ROUND(SUM(AV55:AW55),15) -> 0 | AU55: ='PS 01 - Mechanické a chem...'!P81 -> 0 | AV55: ='PS 01 - Mechanické a chem...'!J33 -> 0 | AW55: ='PS 01 - Mechanické a chem...'!J34 -> 0 | AX55: ='PS 01 - Mechanické a chem...'!J35 -> 0 | AY55: ='PS 01 - Mechanické a chem...'!J36 -> 0 | AZ55: ='PS 01 - Mechanické a chem...'!F33 -> 0 | BA55: ='PS 01 - Mechanické a chem...'!F34 -> 0 | BB55: ='PS 01 - Mechanické a chem...'!F35 -> 0 | BC55: ='PS 01 - Mechanické a chem...'!F36 -> 0 | BD55: ='PS 01 - Mechanické a chem...'!F37 -> 0 | BT55: 1 | BV55: IMPORT | BW55: {be299878-dc6d-491d-9f78-a19c8fa83ede} | BX55: {abe9e1df-e0d2-43c6-8aa3-78e502f4bb30} | CM55: 2
A56: / | D56: PS 02 | J56: POLOŽKY ÚRS Mechanické a chemické hubení nežádoucí vegetace u ST 2020 | AG56: ='PS 02 - POLOŽKY ÚRS Mecha...'!J30 -> 0 | AN56: =SUM(AG56,AT56) -> 0 | AQ56: STA | AS56: 0 | AT56: =ROUND(SUM(AV56:AW56),15) -> 0 | AU56: ='PS 02 - POLOŽKY ÚRS Mecha...'!P79 -> 0 | AV56: ='PS 02 - POLOŽKY ÚRS Mecha...'!J33 -> 0 | AW56: ='PS 02 - POLOŽKY ÚRS Mecha...'!J34 -> 0 | AX56: ='PS 02 - POLOŽKY ÚRS Mecha...'!J35 -> 0 | AY56: ='PS 02 - POLOŽKY ÚRS Mecha...'!J36 -> 0 | AZ56: ='PS 02 - POLOŽKY ÚRS Mecha...'!F33 -> 0 | BA56: ='PS 02 - POLOŽKY ÚRS Mecha...'!F34 -> 0 | BB56: ='PS 02 - POLOŽKY ÚRS Mecha...'!F35 -> 0 | BC56: ='PS 02 - POLOŽKY ÚRS Mecha...'!F36 -> 0 | BD56: ='PS 02 - POLOŽKY ÚRS Mecha...'!F37 -> 0 | BT56: 1 | BV56: IMPORT | BW56: {d3e9a8f2-9606-40e7-b96c-37bb70f3190d} | BX56: {abe9e1df-e0d2-43c6-8aa3-78e502f4bb30} | CM56: 2

Sheet PS 01 - Mechanické a chem...
L2: >> skryté sloupce << | AT2: {be299878-dc6d-491d-9f78-a19c8fa83ede}
AT3: 2
D4: KRYCÍ LIST SOUPISU PRACÍ | M4: v --- níže se nacházejí doplnkové a pomocné údaje k sestavám --- v | AT4: False
D6: Zakázka:
E7: ='Rekapitulace zakázky'!K6 -> Mechanické a chemické hubení nežádoucí vegetace u ST 2020
D8: Objekt:
E9: PS 01 - Mechanické a chemické hubení nežádoucí vegetace u ST 2020
D11: KSO: | I11: CC-CZ:
D12: Místo: | F12: Hradec Králové | I12: Datum: | J12: ='Rekapitulace zakázky'!AN8 -> 4. 2. 2020
D14: Zadavatel: | I14: IČ: | J14: =IF('Rekapitulace zakázky'!AN10="","",'Rekapitulace zakázky'!AN10)
E15: =IF('Rekapitulace zakázky'!E11="","",'Rekapitulace zakázky'!E11) | I15: DIČ: | J15: =IF('Rekapitulace zakázky'!AN11="","",'Rekapitulace zakázky'!AN11)
D17: Uchazeč: | I17: IČ: | J17: ='Rekapitulace zakázky'!AN13 -> Vyplň údaj
E18: ='Rekapitulace zakázky'!E14 -> Vyplň údaj | I18: DIČ: | J18: ='Rekapitulace zakázky'!AN14 -> Vyplň údaj
D20: Projektant: | I20: IČ: | J20: =IF('Rekapitulace zakázky'!AN16="","",'Rekapitulace zakázky'!AN16)
E21: =IF('Rekapitulace zakázky'!E17="","",'Rekapitulace zakázky'!E17) | I21: DIČ: | J21: =IF('Rekapitulace zakázky'!AN17="","",'Rekapitulace zakázky'!AN17)
D23: Zpracovatel: | I23: IČ: | J23: =IF('Rekapitulace zakázky'!AN19="","",'Rekapitulace zakázky'!AN19)
E24: =IF('Rekapitulace zakázky'!E20="","",'Rekapitulace zakázky'!E20) | I24: DIČ: | J24: =IF('Rekapitulace zakázky'!AN20="","",'Rekapitulace zakázky'!AN20)
D26: Poznámka:
D30: Cena bez DPH | J30: =ROUND(J81, 15) -> 0
F32: Základ daně | I32: Sazba daně | J32: Výše daně
D33: DPH | E33: základní | F33: =ROUND((SUM(BE81:BE113)), 15) -> 0 | I33: 0.21 | J33: =ROUND(((SUM(BE81:BE113))*I33), 15) -> 0
E34: snížená | F34: =ROUND((SUM(BF81:BF113)), 15) -> 0 | I34: 0.15 | J34: =ROUND(((SUM(BF81:BF113))*I34), 15) -> 0
E35: zákl. přenesená | F35: =ROUND((SUM(BG81:BG113)), 15) -> 0 | I35: 0.21 | J35: =0 -> 0
E36: sníž. přenesená | F36: =ROUND((SUM(BH81:BH113)), 15) -> 0 | I36: 0.15 | J36: =0 -> 0
E37: nulová | F37: =ROUND((SUM(BI81:BI113)), 15) -> 0 | I37: 0 | J37: =0 -> 0
D39: Cena s DPH | G39: v | H39: CZK | J39: =SUM(J30:J37) -> 0
C45: REKAPITULACE ČLENĚNÍ SOUPISU PRACÍ
C47: Zakázka:
E48: =E7 -> Mechanické a chemické hubení nežádoucí vegetace u ST 2020
C49: Objekt:
E50: =E9 -> PS 01 - Mechanické a chemické hubení nežádoucí vegetace u ST 2020
C52: Místo: | F52: =F12 -> Hradec Králové | I52: Datum: | J52: =IF(J12="","",J12) -> 4. 2. 2020
C54: Zadavatel: | F54: =E15 | I54: Projektant: | J54: =E21
C55: Uchazeč: | F55: =IF(E18="","",E18) -> Vyplň údaj | I55: Zpracovatel: | J55: =E24
C57: Kód dílu - Popis | J57: Cena celkem [CZK]
C59: Náklady zakázky celkem | J59: =J81 -> 0 | AU59: -1
D60: HSV - Práce a dodávky HSV | J60: =J82 -> 0
D61: 5 - Komunikace pozemní | J61: =J83 -> 0
C68: SOUPIS PRACÍ
C70: Zakázka:
E71: =E7 -> Mechanické a chemické hubení nežádoucí vegetace u ST 2020
C72: Objekt:
E73: =E9 -> PS 01 - Mechanické a chemické hubení nežádoucí vegetace u ST 2020
C75: Místo: | F75: =F12 -> Hradec Králové | I75: Datum: | J75: =IF(J12="","",J12) -> 4. 2. 2020
C77: Zadavatel: | F77: =E15 | I77: Projektant: | J77: =E21
C78: Uchazeč: | F78: =IF(E18="","",E18) -> Vyplň údaj | I78: Zpracovatel: | J78: =E24
C80: PČ | D80: Typ | E80: Kód | F80: Popis | G80: MJ | H80: Množství | I80: J.cena [CZK] | J80: Cena celkem [CZK] | K80: Cenová soustava | N80: DPH | O80: J. Nh [h] | P80: Nh celkem [h] | Q80: J. hmotnost [t] | R80: Hmotnost celkem [t] | S80: J. suť [t] | T80: Suť Celkem [t]
C81: Náklady soupisu celkem | J81: =BK81 -> 0 | P81: =P82 -> 0 | R81: =R82 -> 0 | T81: =T82 -> 0 | AT81: D | AU81: -1 | BK81: =BK82 -> 0
D82: D | E82: HSV | F82: Práce a dodávky HSV | J82: =BK82 -> 0 | P82: =P83 -> 0 | R82: =R83 -> 0 | T82: =T83 -> 0 | AR82: 1 | AT82: D | AU82: 0 | AY82: ROZPOCET | BK82: =BK83 -> 0
D83: D | E83: 5 | F83: Komunikace pozemní | J83: =BK83 -> 0 | P83: =SUM(P84:P113) -> 0 | R83: =SUM(R84:R113) -> 0 | T83: =SUM(T84:T113) -> 0 | AR83: 1 | AT83: D | AU83: 1 | AY83: ROZPOCET | BK83: =SUM(BK84:BK113) -> 0
C84: 1 | D84: K | E84: 5904050010 | F84: Ošetření řezné plochy pařezu herbicidem průměru do 10 cm | G84: kus | H84: 30 | J84: =ROUND(I84*H84,15) -> 0 | K84: Sborník UOŽI 01 2019 | N84: základní | P84: =O84*H84 -> 0 | Q84: 0 | R84: =Q84*H84 -> 0 | S84: 0 | T84: =S84*H84 -> 0 | AR84: 1 | AT84: K | AU84: 2 | AY84: ROZPOCET | BE84: =IF(N84="základní",J84,0) -> 0 | BF84: =IF(N84="snížená",J84,0) -> 0 | BG84: =IF(N84="zákl. přenesená",J84,0) -> 0 | BH84: =IF(N84="sníž. přenesená",J84,0) -> 0 | BI84: =IF(N84="nulová",J84,0) -> 0 | BJ84: 1 | BK84: =ROUND(I84*H84,15) -> 0 | BL84: 1 | BM84: 428447915
D85: PP | F85: Ošetření řezné plochy pařezu herbicidem průměru do 10 cm. Poznámka: 1. V cenách jsou započteny náklady aplikace roztoku na pařez pro omezení růstu výmladnosti a náklady na dodávku obarveného herbicidu. | AT85: PP | AU85: 2
C86: 2 | D86: K | E86: 5904050020 | F86: Ošetření řezné plochy pařezu herbicidem průměru přes 10 cm do 30 cm | G86: kus | H86: 26 | J86: =ROUND(I86*H86,15) -> 0 | K86: Sborník UOŽI 01 2019 | N86: základní | P86: =O86*H86 -> 0 | Q86: 0 | R86: =Q86*H86 -> 0 | S86: 0 | T86: =S86*H86 -> 0 | AR86: 1 | AT86: K | AU86: 2 | AY86: ROZPOCET | BE86: =IF(N86="základní",J86,0) -> 0 | BF86: =IF(N86="snížená",J86,0) -> 0 | BG86: =IF(N86="zákl. přenesená",J86,0) -> 0 | BH86: =IF(N86="sníž. přenesená",J86,0) -> 0 | BI86: =IF(N86="nulová",J86,0) -> 0 | BJ86: 1 | BK86: =ROUND(I86*H86,15) -> 0 | BL86: 1 | BM86: -1520435897
D87: PP | F87: Ošetření řezné plochy pařezu herbicidem průměru přes 10 cm do 30 cm. Poznámka: 1. V cenách jsou započteny náklady aplikace roztoku na pařez pro omezení růstu výmladnosti a náklady na dodávku obarveného herbicidu. | AT87: PP | AU87: 2
C88: 3 | D88: K | E88: 5904050030 | F88: Ošetření řezné plochy pařezu herbicidem průměru přes 30 cm do 60 cm | G88: kus | H88: 20 | J88: =ROUND(I88*H88,15) -> 0 | K88: Sborník UOŽI 01 2019 | N88: základní | P88: =O88*H88 -> 0 | Q88: 0 | R88: =Q88*H88 -> 0 | S88: 0 | T88: =S88*H88 -> 0 | AR88: 1 | AT88: K | AU88: 2 | AY88: ROZPOCET | BE88: =IF(N88="základní",J88,0) -> 0 | BF88: =IF(N88="snížená",J88,0) -> 0 | BG88: =IF(N88="zákl. přenesená",J88,0) -> 0 | BH88: =IF(N88="sníž. přenesená",J88,0) -> 0 | BI88: =IF(N88="nulová",J88,0) -> 0 | BJ88: 1 | BK88: =ROUND(I88*H88,15) -> 0 | BL88: 1 | BM88: 1337386838
D89: PP | F89: Ošetření řezné plochy pařezu herbicidem průměru přes 30 cm do 60 cm. Poznámka: 1. V cenách jsou započteny náklady aplikace roztoku na pařez pro omezení růstu výmladnosti a náklady na dodávku obarveného herbicidu. | AT89: PP | AU89: 2
C90: 4 | D90: K | E90: 5904050040 | F90: Ošetření řezné plochy pařezu herbicidem průměru přes 60 cm do 100 cm | G90: kus | H90: 14 | J90: =ROUND(I90*H90,15) -> 0 | K90: Sborník UOŽI 01 2019 | N90: základní | P90: =O90*H90 -> 0 | Q90: 0 | R90: =Q90*H90 -> 0 | S90: 0 | T90: =S90*H90 -> 0 | AR90: 1 | AT90: K | AU90: 2 | AY90: ROZPOCET | BE90: =IF(N90="základní",J90,0) -> 0 | BF90: =IF(N90="snížená",J90,0) -> 0 | BG90: =IF(N90="zákl. přenesená",J90,0) -> 0 | BH90: =IF(N90="sníž. přenesená",J90,0) -> 0 | BI90: =IF(N90="nulová",J90,0) -> 0 | BJ90: 1 | BK90: =ROUND(I90*H90,15) -> 0 | BL90: 1 | BM90: -768581058
D91: PP | F91: Ošetření řezné plochy pařezu herbicidem průměru přes 60 cm do 100 cm. Poznámka: 1. V cenách jsou započteny náklady aplikace roztoku na pařez pro omezení růstu výmladnosti a náklady na dodávku obarveného herbicidu. | AT91: PP | AU91: 2
C92: 5 | D92: K | E92: 5904050050 | F92: Ošetření řezné plochy pařezu herbicidem průměru přes 100 cm | G92: kus | H92: 5 | J92: =ROUND(I92*H92,15) -> 0 | K92: Sborník UOŽI 01 2019 | N92: základní | P92: =O92*H92 -> 0 | Q92: 0 | R92: =Q92*H92 -> 0 | S92: 0 | T92: =S92*H92 -> 0 | AR92: 1 | AT92: K | AU92: 2 | AY92: ROZPOCET | BE92: =IF(N92="základní",J92,0) -> 0 | BF92: =IF(N92="snížená",J92,0) -> 0 | BG92: =IF(N92="zákl. přenesená",J92,0) -> 0 | BH92: =IF(N92="sníž. přenesená",J92,0) -> 0 | BI92: =IF(N92="nulová",J92,0) -> 0 | BJ92: 1 | BK92: =ROUND(I92*H92,15) -> 0 | BL92: 1 | BM92: -288834213
D93: PP | F93: Ošetření řezné plochy pařezu herbicidem průměru přes 100 cm. Poznámka: 1. V cenách jsou započteny náklady aplikace roztoku na pařez pro omezení růstu výmladnosti a náklady na dodávku obarveného herbicidu. | AT93: PP | AU93: 2
C94: 6 | D94: K | E94: 5904055010 | F94: Hubení travního porostu postřikovačem místně ručně tráva, plevel | G94: m2 | H94: 2800 | J94: =ROUND(I94*H94,15) -> 0 | K94: Sborník UOŽI 01 2019 | N94: základní | P94: =O94*H94 -> 0 | Q94: 0 | R94: =Q94*H94 -> 0 | S94: 0 | T94: =S94*H94 -> 0 | AR94: 1 | AT94: K | AU94: 2 | AY94: ROZPOCET | BE94: =IF(N94="základní",J94,0) -> 0 | BF94: =IF(N94="snížená",J94,0) -> 0 | BG94: =IF(N94="zákl. přenesená",J94,0) -> 0 | BH94: =IF(N94="sníž. přenesená",J94,0) -> 0 | BI94: =IF(N94="nulová",J94,0) -> 0 | BJ94: 1 | BK94: =ROUND(I94*H94,15) -> 0 | BL94: 1 | BM94: 1846750567
D95: PP | F95: Hubení travního porostu postřikovačem místně ručně tráva, plevel. Poznámka: 1. V cenách jsou započteny náklady na postřik travního porostu nebo náletové dřevité vegetace, potřebné manipulace a aplikací herbicidu. 2. V cenách nejsou obsaženy náklady na vodu a dodávku herbicidu. | AT95: PP | AU95: 2
C96: 7 | D96: K | E96: 5904055020 | F96: Hubení travního porostu postřikovačem místně ručně křídlatka, bolševník | G96: m2 | H96: 400 | J96: =ROUND(I96*H96,15) -> 0 | K96: Sborník UOŽI 01 2019 | N96: základní | P96: =O96*H96 -> 0 | Q96: 0 | R96: =Q96*H96 -> 0 | S96: 0 | T96: =S96*H96 -> 0 | AR96: 1 | AT96: K | AU96: 2 | AY96: ROZPOCET | BE96: =IF(N96="základní",J96,0) -> 0 | BF96: =IF(N96="snížená",J96,0) -> 0 | BG96: =IF(N96="zákl. přenesená",J96,0) -> 0 | BH96: =IF(N96="sníž. přenesená",J96,0) -> 0 | BI96: =IF(N96="nulová",J96,0) -> 0 | BJ96: 1 | BK96: =ROUND(I96*H96,15) -> 0 | BL96: 1 | BM96: 935272360
D97: PP | F97: Hubení travního porostu postřikovačem místně ručně křídlatka, bolševník. Poznámka: 1. V cenách jsou započteny náklady na postřik travního porostu nebo náletové dřevité vegetace, potřebné manipulace a aplikací herbicidu. 2. V cenách nejsou obsaženy náklady na vodu a dodávku herbicidu. | AT97: PP | AU97: 2
C98: 8 | D98: K | E98: 5904055110 | F98: Hubení travního porostu postřikovačem strojně v profilu koleje šíře záběru 5 m | G98: km | H98: 2850 | J98: =ROUND(I98*H98,15) -> 0 | K98: Sborník UOŽI 01 2019 | N98: základní | P98: =O98*H98 -> 0 | Q98: 0 | R98: =Q98*H98 -> 0 | S98: 0 | T98: =S98*H98 -> 0 | AR98: 1 | AT98: K | AU98: 2 | AY98: ROZPOCET | BE98: =IF(N98="základní",J98,0) -> 0 | BF98: =IF(N98="snížená",J98,0) -> 0 | BG98: =IF(N98="zákl. přenesená",J98,0) -> 0 | BH98: =IF(N98="sníž. přenesená",J98,0) -> 0 | BI98: =IF(N98="nulová",J98,0) -> 0 | BJ98: 1 | BK98: =ROUND(I98*H98,15) -> 0 | BL98: 1 | BM98: -102957949
D99: PP | F99: Hubení travního porostu postřikovačem strojně v profilu koleje šíře záběru 5 m. Poznámka: 1. V cenách jsou započteny náklady na postřik travního porostu nebo náletové dřevité vegetace, potřebné manipulace a aplikací herbicidu. 2. V cenách nejsou obsaženy náklady na vodu a dodávku herbicidu. | AT99: PP | AU99: 2
C100: 9 | D100: K | E100: 5904055120 | F100: Hubení travního porostu postřikovačem strojně v profilu koleje šíře záběru 6 m | G100: km | H100: 810 | J100: =ROUND(I100*H100,15) -> 0 | K100: Sborník UOŽI 01 2019 | N100: základní | P100: =O100*H100 -> 0 | Q100: 0 | R100: =Q100*H100 -> 0 | S100: 0 | T100: =S100*H100 -> 0 | AR100: 1 | AT100: K | AU100: 2 | AY100: ROZPOCET | BE100: =IF(N100="základní",J100,0) -> 0 | BF100: =IF(N100="snížená",J100,0) -> 0 | BG100: =IF(N100="zákl. přenesená",J100,0) -> 0 | BH100: =IF(N100="sníž. přenesená",J100,0) -> 0 | BI100: =IF(N100="nulová",J100,0) -> 0 | BJ100: 1 | BK100: =ROUND(I100*H100,15) -> 0 | BL100: 1 | BM100: 1737372869
D101: PP | F101: Hubení travního porostu postřikovačem strojně v profilu koleje šíře záběru 6 m. Poznámka: 1. V cenách jsou započteny náklady na postřik travního porostu nebo náletové dřevité vegetace, potřebné manipulace a aplikací herbicidu. 2. V cenách nejsou obsaženy náklady na vodu a dodávku herbicidu. | AT101: PP | AU101: 2
C102: 10 | D102: K | E102: 5904055210 | F102: Hubení travního porostu postřikovačem strojně mimo profil koleje jednostranně šíře záběru do 2 m | G102: km | H102: 10 | J102: =ROUND(I102*H102,15) -> 0 | K102: Sborník UOŽI 01 2019 | N102: základní | P102: =O102*H102 -> 0 | Q102: 0 | R102: =Q102*H102 -> 0 | S102: 0 | T102: =S102*H102 -> 0 | AR102: 1 | AT102: K | AU102: 2 | AY102: ROZPOCET | BE102: =IF(N102="základní",J102,0) -> 0 | BF102: =IF(N102="snížená",J102,0) -> 0 | BG102: =IF(N102="zákl. přenesená",J102,0) -> 0 | BH102: =IF(N102="sníž. přenesená",J102,0) -> 0 | BI102: =IF(N102="nulová",J102,0) -> 0 | BJ102: 1 | BK102: =ROUND(I102*H102,15) -> 0 | BL102: 1 | BM102: 1383394054
D103: PP | F103: Hubení travního porostu postřikovačem strojně mimo profil koleje jednostranně šíře záběru do 2 m. Poznámka: 1. V cenách jsou započteny náklady na postřik travního porostu nebo náletové dřevité vegetace, potřebné manipulace a aplikací herbicidu. 2. V cenách nejsou obsaženy náklady na vodu a dodávku herbicidu. | AT103: PP | AU103: 2
C104: 11 | D104: K | E104: 5904055220 | F104: Hubení travního porostu postřikovačem strojně mimo profil koleje jednostranně šíře záběru do 4 m | G104: km | H104: 20 | J104: =ROUND(I104*H104,15) -> 0 | K104: Sborník UOŽI 01 2019 | N104: základní | P104: =O104*H104 -> 0 | Q104: 0 | R104: =Q104*H104 -> 0 | S104: 0 | T104: =S104*H104 -> 0 | AR104: 1 | AT104: K | AU104: 2 | AY104: ROZPOCET | BE104: =IF(N104="základní",J104,0) -> 0 | BF104: =IF(N104="snížená",J104,0) -> 0 | BG104: =IF(N104="zákl. přenesená",J104,0) -> 0 | BH104: =IF(N104="sníž. přenesená",J104,0) -> 0 | BI104: =IF(N104="nulová",J104,0) -> 0 | BJ104: 1 | BK104: =ROUND(I104*H104,15) -> 0 | BL104: 1 | BM104: 842310988
D105: PP | F105: Hubení travního porostu postřikovačem strojně mimo profil koleje jednostranně šíře záběru do 4 m. Poznámka: 1. V cenách jsou započteny náklady na postřik travního porostu nebo náletové dřevité vegetace, potřebné manipulace a aplikací herbicidu. 2. V cenách nejsou obsaženy náklady na vodu a dodávku herbicidu. | AT105: PP | AU105: 2
C106: 12 | D106: K | E106: 5904055230 | F106: Hubení travního porostu postřikovačem strojně mimo profil koleje jednostranně šíře záběru do 6 m | G106: km | H106: 27 | J106: =ROUND(I106*H106,15) -> 0 | K106: Sborník UOŽI 01 2019 | N106: základní | P106: =O106*H106 -> 0 | Q106: 0 | R106: =Q106*H106 -> 0 | S106: 0 | T106: =S106*H106 -> 0 | AR106: 1 | AT106: K | AU106: 2 | AY106: ROZPOCET | BE106: =IF(N106="základní",J106,0) -> 0 | BF106: =IF(N106="snížená",J106,0) -> 0 | BG106: =IF(N106="zákl. přenesená",J106,0) -> 0 | BH106: =IF(N106="sníž. přenesená",J106,0) -> 0 | BI106: =IF(N106="nulová",J106,0) -> 0 | BJ106: 1 | BK106: =ROUND(I106*H106,15) -> 0 | BL106: 1 | BM106: 593286461
D107: PP | F107: Hubení travního porostu postřikovačem strojně mimo profil koleje jednostranně šíře záběru do 6 m. Poznámka: 1. V cenách jsou započteny náklady na postřik travního porostu nebo náletové dřevité vegetace, potřebné manipulace a aplikací herbicidu. 2. V cenách nejsou obsaženy náklady na vodu a dodávku herbicidu. | AT107: PP | AU107: 2
C108: 13 | D108: K | E108: 5904060010 | F108: Hubení náletové a pařezové vegetace strojním postřikovačem mimo profil KL jednostranně šíře záběru do 2 m | G108: km | H108: 10 | J108: =ROUND(I108*H108,15) -> 0 | K108: Sborník UOŽI 01 2019 | N108: základní | P108: =O108*H108 -> 0 | Q108: 0 | R108: =Q108*H108 -> 0 | S108: 0 | T108: =S108*H108 -> 0 | AR108: 1 | AT108: K | AU108: 2 | AY108: ROZPOCET | BE108: =IF(N108="základní",J108,0) -> 0 | BF108: =IF(N108="snížená",J108,0) -> 0 | BG108: =IF(N108="zákl. přenesená",J108,0) -> 0 | BH108: =IF(N108="sníž. přenesená",J108,0) -> 0 | BI108: =IF(N108="nulová",J108,0) -> 0 | BJ108: 1 | BK108: =ROUND(I108*H108,15) -> 0 | BL108: 1 | BM108: -1388274859
D109: PP | F109: Hubení náletové a pařezové vegetace strojním postřikovačem mimo profil KL jednostranně šíře záběru do 2 m. Poznámka: 1. V cenách jsou započteny náklady na postřik náletové dřevité vegetace nebo pařezové výmladnosti aplikací herbicidu. 2. V cenách nejsou obsaženy náklady na vodu a dodávku herbicidu. | AT109: PP | AU109: 2
C110: 14 | D110: K | E110: 5904060020 | F110: Hubení náletové a pařezové vegetace strojním postřikovačem mimo profil KL jednostranně šíře záběru do 4 m | G110: km | H110: 40 | J110: =ROUND(I110*H110,15) -> 0 | K110: Sborník UOŽI 01 2019 | N110: základní | P110: =O110*H110 -> 0 | Q110: 0 | R110: =Q110*H110 -> 0 | S110: 0 | T110: =S110*H110 -> 0 | AR110: 1 | AT110: K | AU110: 2 | AY110: ROZPOCET | BE110: =IF(N110="základní",J110,0) -> 0 | BF110: =IF(N110="snížená",J110,0) -> 0 | BG110: =IF(N110="zákl. přenesená",J110,0) -> 0 | BH110: =IF(N110="sníž. přenesená",J110,0) -> 0 | BI110: =IF(N110="nulová",J110,0) -> 0 | BJ110: 1 | BK110: =ROUND(I110*H110,15) -> 0 | BL110: 1 | BM110: -811934951
D111: PP | F111: Hubení náletové a pařezové vegetace strojním postřikovačem mimo profil KL jednostranně šíře záběru do 4 m. Poznámka: 1. V cenách jsou započteny náklady na postřik náletové dřevité vegetace nebo pařezové výmladnosti aplikací herbicidu. 2. V cenách nejsou obsaženy náklady na vodu a dodávku herbicidu. | AT111: PP | AU111: 2
C112: 15 | D112: K | E112: 5904060030 | F112: Hubení náletové a pařezové vegetace strojním postřikovačem mimo profil KL jednostranně šíře záběru do 6 m | G112: km | H112: 90 | J112: =ROUND(I112*H112,15) -> 0 | K112: Sborník UOŽI 01 2019 | N112: základní | P112: =O112*H112 -> 0 | Q112: 0 | R112: =Q112*H112 -> 0 | S112: 0 | T112: =S112*H112 -> 0 | AR112: 1 | AT112: K | AU112: 2 | AY112: ROZPOCET | BE112: =IF(N112="základní",J112,0) -> 0 | BF112: =IF(N112="snížená",J112,0) -> 0 | BG112: =IF(N112="zákl. přenesená",J112,0) -> 0 | BH112: =IF(N112="sníž. přenesená",J112,0) -> 0 | BI112: =IF(N112="nulová",J112,0) -> 0 | BJ112: 1 | BK112: =ROUND(I112*H112,15) -> 0 | BL112: 1 | BM112: 15731495
D113: PP | F113: Hubení náletové a pařezové vegetace strojním postřikovačem mimo profil KL jednostranně šíře záběru do 6 m. Poznámka: 1. V cenách jsou započteny náklady na postřik náletové dřevité vegetace nebo pařezové výmladnosti aplikací herbicidu. 2. V cenách nejsou obsaženy náklady na vodu a dodávku herbicidu. | AT113: PP | AU113: 2

Sheet PS 02 - POLOŽKY ÚRS Mecha...
L2: >> skryté sloupce << | AT2: {d3e9a8f2-9606-40e7-b96c-37bb70f3190d}
AT3: 2
D4: KRYCÍ LIST SOUPISU PRACÍ | M4: v --- níže se nacházejí doplnkové a pomocné údaje k sestavám --- v | AT4: False
D6: Zakázka:
E7: ='Rekapitulace zakázky'!K6 -> Mechanické a chemické hubení nežádoucí vegetace u ST 2020
D8: Objekt:
E9: PS 02 - POLOŽKY ÚRS Mechanické a chemické hubení nežádoucí vegetace u ST 2020
D11: KSO: | I11: CC-CZ:
D12: Místo: | F12: Hradec Králové | I12: Datum: | J12: ='Rekapitulace zakázky'!AN8 -> 4. 2. 2020
D14: Zadavatel: | I14: IČ: | J14: =IF('Rekapitulace zakázky'!AN10="","",'Rekapitulace zakázky'!AN10)
E15: =IF('Rekapitulace zakázky'!E11="","",'Rekapitulace zakázky'!E11) | I15: DIČ: | J15: =IF('Rekapitulace zakázky'!AN11="","",'Rekapitulace zakázky'!AN11)
D17: Uchazeč: | I17: IČ: | J17: ='Rekapitulace zakázky'!AN13 -> Vyplň údaj
E18: ='Rekapitulace zakázky'!E14 -> Vyplň údaj | I18: DIČ: | J18: ='Rekapitulace zakázky'!AN14 -> Vyplň údaj
D20: Projektant: | I20: IČ: | J20: =IF('Rekapitulace zakázky'!AN16="","",'Rekapitulace zakázky'!AN16)
E21: =IF('Rekapitulace zakázky'!E17="","",'Rekapitulace zakázky'!E17) | I21: DIČ: | J21: =IF('Rekapitulace zakázky'!AN17="","",'Rekapitulace zakázky'!AN17)
D23: Zpracovatel: | I23: IČ: | J23: =IF('Rekapitulace zakázky'!AN19="","",'Rekapitulace zakázky'!AN19)
E24: =IF('Rekapitulace zakázky'!E20="","",'Rekapitulace zakázky'!E20) | I24: DIČ: | J24: =IF('Rekapitulace zakázky'!AN20="","",'Rekapitulace zakázky'!AN20)
D26: Poznámka:
D30: Cena bez DPH | J30: =ROUND(J79, 15) -> 0
F32: Základ daně | I32: Sazba daně | J32: Výše daně
D33: DPH | E33: základní | F33: =ROUND((SUM(BE79:BE81)), 15) -> 0 | I33: 0.21 | J33: =ROUND(((SUM(BE79:BE81))*I33), 15) -> 0
E34: snížená | F34: =ROUND((SUM(BF79:BF81)), 15) -> 0 | I34: 0.15 | J34: =ROUND(((SUM(BF79:BF81))*I34), 15) -> 0
E35: zákl. přenesená | F35: =ROUND((SUM(BG79:BG81)), 15) -> 0 | I35: 0.21 | J35: =0 -> 0
E36: sníž. přenesená | F36: =ROUND((SUM(BH79:BH81)), 15) -> 0 | I36: 0.15 | J36: =0 -> 0
E37: nulová | F37: =ROUND((SUM(BI79:BI81)), 15) -> 0 | I37: 0 | J37: =0 -> 0
D39: Cena s DPH | G39: v | H39: CZK | J39: =SUM(J30:J37) -> 0
C45: REKAPITULACE ČLENĚNÍ SOUPISU PRACÍ
C47: Zakázka:
E48: =E7 -> Mechanické a chemické hubení nežádoucí vegetace u ST 2020
C49: Objekt:
E50: =E9 -> PS 02 - POLOŽKY ÚRS Mechanické a chemické hubení nežádoucí vegetace u ST 2020
C52: Místo: | F52: =F12 -> Hradec Králové | I52: Datum: | J52: =IF(J12="","",J12) -> 4. 2. 2020
C54: Zadavatel: | F54: =E15 | I54: Projektant: | J54: =E21
C55: Uchazeč: | F55: =IF(E18="","",E18) -> Vyplň údaj | I55: Zpracovatel: | J55: =E24
C57: Kód dílu - Popis | J57: Cena celkem [CZK]
C59: Náklady zakázky celkem | J59: =J79 -> 0 | AU59: -1
C66: SOUPIS PRACÍ
C68: Zakázka:
E69: =E7 -> Mechanické a chemické hubení nežádoucí vegetace u ST 2020
C70: Objekt:
E71: =E9 -> PS 02 - POLOŽKY ÚRS Mechanické a chemické hubení nežádoucí vegetace u ST 2020
C73: Místo: | F73: =F12 -> Hradec Králové | I73: Datum: | J73: =IF(J12="","",J12) -> 4. 2. 2020
C75: Zadavatel: | F75: =E15 | I75: Projektant: | J75: =E21
C76: Uchazeč: | F76: =IF(E18="","",E18) -> Vyplň údaj | I76: Zpracovatel: | J76: =E24
C78: PČ | D78: Typ | E78: Kód | F78: Popis | G78: MJ | H78: Množství | I78: J.cena [CZK] | J78: Cena celkem [CZK] | K78: Cenová soustava | N78: DPH | O78: J. Nh [h] | P78: Nh celkem [h] | Q78: J. hmotnost [t] | R78: Hmotnost celkem [t] | S78: J. suť [t] | T78: Suť Celkem [t]
C79: Náklady soupisu celkem | J79: =BK79 -> 0 | P79: =SUM(P80:P81) -> 0 | R79: =SUM(R80:R81) -> 256 | T79: =SUM(T80:T81) -> 0 | AT79: D | AU79: -1 | BK79: =SUM(BK80:BK81) -> 0
C80: 1 | D80: M | E80: 08113910 | F80: voda povrchová pro jinou potřebu průmyslu a služeb | G80: m3 | H80: 256 | J80: =ROUND(I80*H80,15) -> 0 | K80: CS ÚRS 2019 02 | N80: základní | P80: =O80*H80 -> 0 | Q80: 1 | R80: =Q80*H80 -> 256 | S80: 0 | T80: =S80*H80 -> 0 | AR80: 8 | AT80: M | AU80: 0 | AY80: ROZPOCET | BE80: =IF(N80="základní",J80,0) -> 0 | BF80: =IF(N80="snížená",J80,0) -> 0 | BG80: =IF(N80="zákl. přenesená",J80,0) -> 0 | BH80: =IF(N80="sníž. přenesená",J80,0) -> 0 | BI80: =IF(N80="nulová",J80,0) -> 0 | BJ80: 1 | BK80: =ROUND(I80*H80,15) -> 0 | BL80: 4 | BM80: 491218531
D81: PP | F81: voda povrchová pro jinou potřebu průmyslu a služeb | AT81: PP | AU81: 0

Sheet Pokyny pro vyplnění
C3: Struktura údajů, formát souboru a metodika pro zpracování
C4: Struktura
C6: Soubor je složen ze záložky Rekapitulace rekonstrukce a záložek s názvem soupisu prací pro jednotlivé objekty ve formátu XLS. Každá ze záložek přitom obsahuje
C7: ještě samostatné sestavy vymezené orámovaním a nadpisem sestavy.
C9: Rekapitulace rekonstrukce obsahuje sestavu Rekapitulace rekonstrukce a Rekapitulace objektů rekonstrukce a soupisů prací.
D10: V sestavě Rekapitulace rekonstrukce jsou uvedeny informace identifikující předmět veřejné zakázky na stavební práce, KSO, CC-CZ, CZ-CPV, CZ-CPA a rekapitulaci
D11: celkové nabídkové ceny uchazeče.
D13: Termínem "uchazeč" (resp. zhotovitel) se myslí "účastník zadávacího řízení" ve smyslu zákona o zadávání veřejných zakázek.
D15: V sestavě Rekapitulace objektů rekonstrukce a soupisů prací je uvedena rekapitulace stavebních objektů, inženýrských objektů, provozních souborů,
D16: vedlejších a ostatních nákladů a ostatních nákladů s rekapitulací nabídkové ceny za jednotlivé soupisy prací. Na základě údaje Typ je možné
D17: identifikovat, zda se jedná o objekt nebo soupis prací pro daný objekt:
E18: STA | F18: Stavební objekt pozemní
E19: ING | F19: Stavební objekt inženýrský
E20: PRO | F20: Provozní soubor
E21: VON | F21: Vedlejší a ostatní náklady
E22: OST | F22: Ostatní
E23: Soupis | F23: Soupis prací pro daný typ objektu
C25: Soupis prací pro jednotlivé objekty obsahuje sestavy Krycí list soupisu prací, Rekapitulace členění soupisu prací, Soupis prací. Za soupis prací může být považován
C26: i objekt rekonstrukce v případě, že neobsahuje podřízenou zakázku.
D27: Krycí list soupisu obsahuje rekapitulaci informací o předmětu veřejné zakázky ze sestavy Rekapitulace rekonstrukce, informaci o zařazení objektu do KSO,
D28: CC-CZ, CZ-CPV, CZ-CPA a rekapitulaci celkové nabídkové ceny uchazeče za aktuální soupis prací.
D30: Rekapitulace členění soupisu prací obsahuje rekapitulaci soupisu prací ve všech úrovních členění soupisu tak, jak byla tato členění použita (např.
D31: stavební díly, funkční díly, případně jiné členění) s rekapitulací nabídkové ceny.
D33: Soupis prací obsahuje položky veškerých stavebních nebo montážních prací, dodávek materiálů a služeb nezbytných pro zhotovení stavebního objektu,
D34: inženýrského objektu, provozního souboru, vedlejších a ostatních nákladů.
D35: Pro položky soupisu prací se zobrazují následující informace:
E36: PČ | G36: Pořadové číslo položky v aktuálním soupisu
E37: TYP | G37: Typ položky: K - konstrukce, M - materiál, PP - plný popis, PSC - poznámka k souboru cen, P - poznámka k položce, VV - výkaz výměr
E38: Kód | G38: Kód položky
E39: Popis | G39: Zkrácený popis položky
E40: MJ | G40: Měrná jednotka položky
E41: Množství | G41: Množství v měrné jednotce
E42: J.cena | G42: Jednotková cena položky. Zadaní může obsahovat namísto J.ceny sloupce J.materiál a J.montáž, jejichž součet definuje
G43: J.cenu položky.
E44: Cena celkem | G44: Celková cena položky daná jako součin množství a j.ceny
E45: Cenová soustava | G45: Příslušnost položky do cenové soustavy
D47: Ke každé položce soupisu prací se na samostatných řádcích může zobrazovat:
E48: Plný popis položky
E49: Poznámka k souboru cen a poznámka zadavatele
E50: Výkaz výměr
D51: Pokud je k řádku výkazu výměr evidovaný údaj ve sloupci Kód, jedná se o definovaný odkaz, na který se může odvolávat výkaz výměr z jiné položky.
C52: Metodika pro zpracování
C54: Jednotlivé sestavy jsou v souboru provázány. Editovatelné pole jsou zvýrazněny žlutým podbarvením, ostatní pole neslouží k editaci a nesmí být jakkoliv
C55: modifikovány.
C57: Uchazeč je pro podání nabídky povinen vyplnit žlutě podbarvená pole:
D58: Pole Uchazeč v sestavě Rekapitulace rekonstrukce - zde uchazeč vyplní svůj název (název subjektu)
D59: Pole IČ a DIČ v sestavě Rekapitulace rekonstrukce - zde uchazeč vyplní svoje IČ a DIČ
D60: Datum v sestavě Rekapitulace rekonstrukce - zde uchazeč vyplní datum vytvoření nabídky
D61: J.cena = jednotková cena v sestavě Soupis prací o maximálním počtu desetinných míst uvedených v poli
D62: - pokud sestavy soupisů prací obsahují pole J.cena, měla by být všechna tato pole vyplněna nenulovými kladnými číslicemi
D63: Poznámka - nepovinný údaj pro položku soupisu
D65: V případě, že sestavy soupisů prací neobsahují pole J.cena, potom ve všech soupisech prací obsahují pole:
D66: - J.materiál - jednotková cena materiálu
D67: - J.montáž - jednotková cena montáže
D68: Uchazeč v tomto případě by měl vyplnit všechna pole J.materiál a pole J.montáž nenulovými kladnými číslicemi. V případech, kdy položka
D69: neobsahuje žádný materiál je přípustné, aby pole J.materiál bylo vyplněno nulou. V případech, kdy položka neobsahuje žádnou montáž je přípustné,
D70: aby pole J.montáž bylo vyplněno nulou. Obě pole - J.materiál, J.Montáž u jedné položky by však neměly být vyplněny nulou.
C75: Rekapitulace rekonstrukce
C76: Název | F76: Povinný | H76: Popis | I76: Typ | J76: Max. počet
C77: atributu | F77: (A/N) | J77: znaků
C79: Kód | F79: A | H79: Kód rekonstrukce | I79: String | J79: 20
C80: Rekonstrukce | F80: A | H80: Název rekonstrukce | I80: String | J80: 120
C81: Místo | F81: N | H81: Místo rekonstrukce | I81: String | J81: 50
C82: Datum | F82: A | H82: Datum vykonaného exportu | I82: Date
C83: KSO | F83: N | H83: Klasifikace stavebního objektu | I83: String | J83: 15
C84: CC-CZ | F84: N | H84: Klasifikace stavbeních děl | I84: String | J84: 15
C85: CZ-CPV | F85: N | H85: Společný slovník pro veřejné zakázky | I85: String | J85: 20
C86: CZ-CPA | F86: N | H86: Klasifikace produkce podle činností | I86: String | J86: 20
C87: Zadavatel | F87: N | H87: Zadavatel zadaní | I87: String | J87: 50
C88: IČ | F88: N | H88: IČ zadavatele zadaní | I88: String | J88: 20
C89: DIČ | F89: N | H89: DIČ zadavatele zadaní | I89: String | J89: 20
C90: Uchazeč | F90: N | H90: Uchazeč veřejné zakázky | I90: String | J90: 50
C91: Projektant | F91: N | H91: Projektant | I91: String | J91: 50
C92: Poznámka | F92: N | H92: Poznámka k zadání | I92: String | J92: 255
C93: Sazba DPH | F93: A | H93: Rekapitulace sazeb DPH u položek soupisů | I93: eGSazbaDph
C94: Základna DPH | F94: A | H94: Základna DPH určena součtem celkové ceny z položek soupisů | I94: Double
C95: Hodnota DPH | F95: A | H95: Hodnota DPH | I95: Double
C96: Cena bez DPH | F96: A | H96: Celková cena bez DPH za celou rekonstrukci. Sčítává se ze všech listů. | I96: Double
C97: Cena s DPH | F97: A | H97: Celková cena s DPH za celou rekonstrukci | I97: Double
C102: Rekapitulace objektů rekonstrukce a soupisů prací
C103: Název | F103: Povinný | H103: Popis | I103: Typ | J103: Max. počet
C104: atributu | F104: (A/N) | J104: znaků
C106: Kód | F106: A | H106: Přebírá se z Rekapitulace rekonstrukce | I106: String | J106: 20
C107: Rekonstrukce | F107: A | H107: Přebírá se z Rekapitulace rekonstrukce | I107: String | J107: 120
C108: Místo | F108: N | H108: Přebírá se z Rekapitulace rekonstrukce | I108: String | J108: 50
C109: Datum | F109: A | H109: Přebírá se z Rekapitulace rekonstrukce | I109: Date
C110: Zadavatel | F110: N | H110: Přebírá se z Rekapitulace rekonstrukce | I110: String | J110: 50
C111: Projektant | F111: N | H111: Přebírá se z Rekapitulace rekonstrukce | I111: String | J111: 50
C112: Uchazeč | F112: N | H112: Přebírá se z Rekapitulace rekonstrukce | I112: String | J112: 50
C113: Kód | F113: A | H113: Kód objektu | I113: String | J113: 20
C114: Objektu, Soupis prací | F114: A | H114: Název objektu | I114: String | J114: 120
C115: Cena bez DPH | F115: A | H115: Cena bez DPH za daný objekt | I115: Double
C116: Cena s DPH | F116: A | H116: Cena spolu s DPH za daný objekt | I116: Double
C117: Typ | F117: A | H117: Typ zakázky | I117: eGTypZakazky
C122: Krycí list soupisu
C123: Název | F123: Povinný | H123: Popis | I123: Typ | J123: Max. počet
C124: atributu | F124: (A/N) | J124: znaků
C126: Rekonstrukce | F126: A | H126: Přebírá se z Rekapitulace rekonstrukce | I126: String | J126: 120
C127: Objekt | F127: A | H127: Kód a název objektu | I127: String | J127: 20 + 120
C128: Soupis | F128: A | H128: Kód a název soupisu | I128: String | J128: 20 + 120
...
