Workbook

Sheet Rekapitulace zakázky
A1: Export Komplet | AZ1: VZ | BA1: 2.0 | BB1: ZAMOK | BT1: False | BU1: False | BV1: {d5122918-ce3a-4cdc-a989-c9589cae9fe3}
BS2: 0,01 | BT2: 21
BS3: 0,01 | BT3: 15
D4: REKAPITULACE ZAKÁZKY | AS4: v --- níže se nacházejí doplnkové a pomocné údaje k sestavám --- v | BE4: Návod na vyplnění | BS4: 0,001
D5: Kód: | K5: RD_001-2 | BE5: Měnit lze pouze buňky se žlutým podbarvením!_x000D_ _x000D_ 1) v Rekapitulaci zakázky vyplňte údaje o Uchazeči (přenesou se do ostatních sestav i v jiných listech)_x000D_ _x000D_ 2) na vybraných listech vyplňte v sestavě Soupis prací ceny u položek | BS5: 0,01
D6: Zakázka: | K6: Údržba, opravy a odstraňování závad u SSZT HK 2020 - 2021 | BS6: 0,01
D7: KSO: | K7: 824 | AK7: CC-CZ: | AN7: 21219 | BS7: 0,01
D8: Místo: | K8: obvod SSZT HK | AK8: Datum: | AN8: 11. 12. 2019 | BS8: 0,01
D9: CZ-CPV: | K9: 50220000-3 | AK9: CZ-CPA: | AN9: 42.12.10 | BS9: 0,01
D10: Zadavatel: | AK10: IČ: | BS10: 0,1
AK11: DIČ: | BS11: 0,1
BS12: 0,1
D13: Uchazeč: | AK13: IČ: | AN13: Vyplň údaj | BS13: 0,1
E14: Vyplň údaj | AK14: DIČ: | AN14: Vyplň údaj | BS14: 0,1
BS15: False
D16: Projektant: | AK16: IČ: | BS16: False
AK17: DIČ: | BS17: True
BS18: 0,01
D19: Zpracovatel: | AK19: IČ: | BS19: 0,01
AK20: DIČ: | BS20: False
D22: Poznámka:
E23: Soupis prací je sestaven s využitím Cenové soustavy ÚOŽI a ÚRS. Položky, které pochází z cenové soustavy ÚOŽI, jsou ve sloupci 'Cenová soustava' označeny popisem 'ÚOŽI' a položky, které pochází z cenové soustavy ÚRS, jsou ve sloupci 'Cenová soustava' označeny popisem'CS ÚRS'a úrovní příslušného kalendářního pololetí. škeré další informace vymezující popis a podmínky použití těchto položek z Cenových soustav, které nejsou uvedeny přímo v soupisu prací, jsou neomezeně dálkově k dispozici na https://www.sfdi.cz/pravidla-metodiky-a-ceniky/cenove-databaze/ a na www.cs-urs.cz, sekce Cenové a technické podmínky.
D26: Cena bez DPH | AK26: =ROUND(AG54,2) -> 0
L28: Sazba daně | W28: Základ daně | AK28: Výše daně
D29: DPH | F29: základní | L29: 0.21 | W29: =ROUND(AZ54, 2) -> 0 | AK29: =ROUND(AV54, 2) -> 0
F30: snížená | L30: 0.15 | W30: =ROUND(BA54, 2) -> 0 | AK30: =ROUND(AW54, 2) -> 0
F31: zákl. přenesená | L31: 0.21 | W31: =ROUND(BB54, 2) -> 0 | AK31: 0
F32: sníž. přenesená | L32: 0.15 | W32: =ROUND(BC54, 2) -> 0 | AK32: 0
F33: nulová | L33: 0 | W33: =ROUND(BD54, 2) -> 0 | AK33: 0
D35: Cena s DPH | T35: v | X35: CZK | AK35: =SUM(AK26:AK33) -> 0
C42: REKAPITULACE OBJEKTŮ ZAKÁZKY A SOUPISŮ PRACÍ
C44: Kód: | L44: =K5 -> RD_001-2
C45: Zakázka: | L45: =K6 -> Údržba, opravy a odstraňování závad u SSZT HK 2020 - 2021
C47: Místo: | L47: =IF(K8="","",K8) -> obvod SSZT HK | AI47: Datum: | AM47: =IF(AN8= "","",AN8) -> 11. 12. 2019
C49: Zadavatel: | L49: =IF(E11= "","",E11) | AI49: Projektant: | AM49: =IF(E17="","",E17) | AS49: Informatívní údaje z listů zakázek
C50: Uchazeč: | L50: =IF(E14= "Vyplň údaj","",E14) | AI50: Zpracovatel: | AM50: =IF(E20="","",E20)
C52: Kód | I52: Popis | AG52: Cena bez DPH [CZK] | AN52: Cena s DPH [CZK] | AQ52: Typ | AS52: z toho Ostat._x000D_ náklady [CZK] | AT52: DPH [CZK] | AU52: Normohodiny [h] | AV52: DPH základní [CZK] | AW52: DPH snížená [CZK] | AX52: DPH základní přenesená_x000D_ [CZK] | AY52: DPH snížená přenesená_x000D_ [CZK] | AZ52: Základna_x000D_ DPH základní | BA52: Základna_x000D_ DPH snížená | BB52: Základna_x000D_ DPH zákl. přenesená | BC52: Základna_x000D_ DPH sníž. přenesená | BD52: Základna_x000D_ DPH nulová
C54: Náklady zakázky celkem | AG54: =ROUND(AG55,2) -> 0 | AN54: =SUM(AG54,AT54) -> 0 | AS54: =ROUND(AS55,2) -> 0 | AT54: =ROUND(SUM(AV54:AW54),2) -> 0 | AU54: =ROUND(AU55,5) -> 0 | AV54: =ROUND(AZ54*L29,2) -> 0 | AW54: =ROUND(BA54*L30,2) -> 0 | AX54: =ROUND(BB54*L29,2) -> 0 | AY54: =ROUND(BC54*L30,2) -> 0 | AZ54: =ROUND(AZ55,2) -> 0 | BA54: =ROUND(BA55,2) -> 0 | BB54: =ROUND(BB55,2) -> 0 | BC54: =ROUND(BC55,2) -> 0 | BD54: =ROUND(BD55,2) -> 0 | BS54: D | BT54: 0 | BU54: ###NOIMPORT### | BV54: IMPORT | BW54: {d5122918-ce3a-4cdc-a989-c9589cae9fe3} | BX54: {00000000-0000-0000-0000-000000000000} | CL54: 824
D55: PS_001 | J55: Specifikace dílčích smluv s ceníkem | AG55: =ROUND(SUM(AG56:AG58),2) -> 0 | AN55: =SUM(AG55,AT55) -> 0 | AQ55: ING | AS55: =ROUND(SUM(AS56:AS58),2) -> 0 | AT55: =ROUND(SUM(AV55:AW55),2) -> 0 | AU55: =ROUND(SUM(AU56:AU58),5) -> 0 | AV55: =ROUND(AZ55*L29,2) -> 0 | AW55: =ROUND(BA55*L30,2) -> 0 | AX55: =ROUND(BB55*L29,2) -> 0 | AY55: =ROUND(BC55*L30,2) -> 0 | AZ55: =ROUND(SUM(AZ56:AZ58),2) -> 0 | BA55: =ROUND(SUM(BA56:BA58),2) -> 0 | BB55: =ROUND(SUM(BB56:BB58),2) -> 0 | BC55: =ROUND(SUM(BC56:BC58),2) -> 0 | BD55: =ROUND(SUM(BD56:BD58),2) -> 0 | BS55: D | BT55: 1 | BU55: ###NOIMPORT### | BV55: IMPORT | BW55: {b4e3ea1b-59a2-4894-ae0d-22293b9e370f} | BX55: {d5122918-ce3a-4cdc-a989-c9589cae9fe3} | CM55: 2
A56: / | E56: PS_01 | K56: Zab.zař. | AG56: ='PS_01 - Zab.zař.'!J32 -> 0 | AN56: =SUM(AG56,AT56) -> 0 | AQ56: Soupis | AS56: 0 | AT56: =ROUND(SUM(AV56:AW56),2) -> 0 | AU56: ='PS_01 - Zab.zař.'!P104 -> 0 | AV56: ='PS_01 - Zab.zař.'!J35 -> 0 | AW56: ='PS_01 - Zab.zař.'!J36 -> 0 | AX56: ='PS_01 - Zab.zař.'!J37 -> 0 | AY56: ='PS_01 - Zab.zař.'!J38 -> 0 | AZ56: ='PS_01 - Zab.zař.'!F35 -> 0 | BA56: ='PS_01 - Zab.zař.'!F36 -> 0 | BB56: ='PS_01 - Zab.zař.'!F37 -> 0 | BC56: ='PS_01 - Zab.zař.'!F38 -> 0 | BD56: ='PS_01 - Zab.zař.'!F39 -> 0 | BT56: 2 | BV56: IMPORT | BW56: {a2b6aa04-456c-483f-88f8-35f9a9fafd78} | BX56: {b4e3ea1b-59a2-4894-ae0d-22293b9e370f}
...

Sheet PS_01 - Zab.zař.
AT2: {a2b6aa04-456c-483f-88f8-35f9a9fafd78}
AT3: 2
D4: KRYCÍ LIST SOUPISU PRACÍ | M4: v --- níže se nacházejí doplnkové a pomocné údaje k sestavám --- v | AT4: False
D6: Zakázka:
E7: ='Rekapitulace zakázky'!K6 -> Údržba, opravy a odstraňování závad u SSZT HK 2020 - 2021
D8: Objekt:
E9: PS_001 - Specifikace dílčích smluv s ceníkem
D10: Soupis:
E11: PS_01 - Zab.zař.
D13: KSO: | I13: CC-CZ:
D14: Místo: | F14: obvod SSZT HK | I14: Datum: | J14: ='Rekapitulace zakázky'!AN8 -> 11. 12. 2019
D16: Zadavatel: | I16: IČ: | J16: =IF('Rekapitulace zakázky'!AN10="","",'Rekapitulace zakázky'!AN10)
E17: =IF('Rekapitulace zakázky'!E11="","",'Rekapitulace zakázky'!E11) | I17: DIČ: | J17: =IF('Rekapitulace zakázky'!AN11="","",'Rekapitulace zakázky'!AN11)
D19: Uchazeč: | I19: IČ: | J19: ='Rekapitulace zakázky'!AN13 -> Vyplň údaj
E20: ='Rekapitulace zakázky'!E14 -> Vyplň údaj | I20: DIČ: | J20: ='Rekapitulace zakázky'!AN14 -> Vyplň údaj
D22: Projektant: | I22: IČ: | J22: =IF('Rekapitulace zakázky'!AN16="","",'Rekapitulace zakázky'!AN16)
E23: =IF('Rekapitulace zakázky'!E17="","",'Rekapitulace zakázky'!E17) | I23: DIČ: | J23: =IF('Rekapitulace zakázky'!AN17="","",'Rekapitulace zakázky'!AN17)
D25: Zpracovatel: | I25: IČ:
E26: Lukáš Jiroudek | I26: DIČ:
D28: Poznámka:
E29: Soupis prací je sestaven s využitím Cenové soustavy ÚOŽI a ÚRS. Položky, které pochází z cenové soustavy ÚOŽI, jsou ve sloupci 'Cenová soustava' označeny popisem 'ÚOŽI' a položky, které pochází z cenové soustavy ÚRS, jsou ve sloupci 'Cenová soustava' označeny popisem'CS ÚRS'a úrovní příslušného kalendářního pololetí. škeré další informace vymezující popis a podmínky použití těchto položek z Cenových soustav, které nejsou uvedeny přímo v soupisu prací, jsou neomezeně dálkově k dispozici na https://www.sfdi.cz/pravidla-metodiky-a-ceniky/cenove-databaze/ a na www.cs-urs.cz, sekce Cenové a technické podmínky.
D32: Cena bez DPH | J32: =ROUND(J104, 2) -> 0
F34: Základ daně | I34: Sazba daně | J34: Výše daně
D35: DPH | E35: základní | F35: =ROUND((SUM(BE104:BE810)), 2) -> 0 | I35: 0.21 | J35: =ROUND(((SUM(BE104:BE810))*I35), 2) -> 0
E36: snížená | F36: =ROUND((SUM(BF104:BF810)), 2) -> 0 | I36: 0.15 | J36: =ROUND(((SUM(BF104:BF810))*I36), 2) -> 0
E37: zákl. přenesená | F37: =ROUND((SUM(BG104:BG810)), 2) -> 0 | I37: 0.21 | J37: =0 -> 0
E38: sníž. přenesená | F38: =ROUND((SUM(BH104:BH810)), 2) -> 0 | I38: 0.15 | J38: =0 -> 0
E39: nulová | F39: =ROUND((SUM(BI104:BI810)), 2) -> 0 | I39: 0 | J39: =0 -> 0
D41: Cena s DPH | G41: v | H41: CZK | J41: =SUM(J32:J39) -> 0
C47: REKAPITULACE ČLENĚNÍ SOUPISU PRACÍ
C49: Zakázka:
E50: =E7 -> Údržba, opravy a odstraňování závad u SSZT HK 2020 - 2021
C51: Objekt:
E52: PS_001 - Specifikace dílčích smluv s ceníkem
C53: Soupis:
E54: =E11 -> PS_01 - Zab.zař.
C56: Místo: | F56: =F14 -> obvod SSZT HK | I56: Datum: | J56: =IF(J14="","",J14) -> 11. 12. 2019
C58: Zadavatel: | F58: =E17 | I58: Projektant: | J58: =E23
C59: Uchazeč: | F59: =IF(E20="","",E20) -> Vyplň údaj | I59: Zpracovatel: | J59: =E26 -> Lukáš Jiroudek
C61: Kód dílu - Popis | J61: Cena celkem [CZK]
...

Sheet PS_02 - Zemní práce
AT2: {4e20c6f1-6312-4832-a665-776a8b5a880b}
AT3: 2
D4: KRYCÍ LIST SOUPISU PRACÍ | M4: v --- níže se nacházejí doplnkové a pomocné údaje k sestavám --- v | AT4: False
D6: Zakázka:
E7: ='Rekapitulace zakázky'!K6 -> Údržba, opravy a odstraňování závad u SSZT HK 2020 - 2021
D8: Objekt:
E9: PS_001 - Specifikace dílčích smluv s ceníkem
D10: Soupis:
E11: PS_02 - Zemní práce
D13: KSO: | I13: CC-CZ:
D14: Místo: | F14: obvod SSZT HK | I14: Datum: | J14: ='Rekapitulace zakázky'!AN8 -> 11. 12. 2019
D16: Zadavatel: | I16: IČ: | J16: =IF('Rekapitulace zakázky'!AN10="","",'Rekapitulace zakázky'!AN10)
E17: =IF('Rekapitulace zakázky'!E11="","",'Rekapitulace zakázky'!E11) | I17: DIČ: | J17: =IF('Rekapitulace zakázky'!AN11="","",'Rekapitulace zakázky'!AN11)
D19: Uchazeč: | I19: IČ: | J19: ='Rekapitulace zakázky'!AN13 -> Vyplň údaj
E20: ='Rekapitulace zakázky'!E14 -> Vyplň údaj | I20: DIČ: | J20: ='Rekapitulace zakázky'!AN14 -> Vyplň údaj
D22: Projektant: | I22: IČ: | J22: =IF('Rekapitulace zakázky'!AN16="","",'Rekapitulace zakázky'!AN16)
E23: =IF('Rekapitulace zakázky'!E17="","",'Rekapitulace zakázky'!E17) | I23: DIČ: | J23: =IF('Rekapitulace zakázky'!AN17="","",'Rekapitulace zakázky'!AN17)
D25: Zpracovatel: | I25: IČ:
E26: Lukáš Jiroudek | I26: DIČ:
D28: Poznámka:
E29: Soupis prací je sestaven s využitím Cenové soustavy ÚOŽI a ÚRS. Položky, které pochází z cenové soustavy ÚOŽI, jsou ve sloupci 'Cenová soustava' označeny popisem 'ÚOŽI' a položky, které pochází z cenové soustavy ÚRS, jsou ve sloupci 'Cenová soustava' označeny popisem'CS ÚRS'a úrovní příslušného kalendářního pololetí. škeré další informace vymezující popis a podmínky použití těchto položek z Cenových soustav, které nejsou uvedeny přímo v soupisu prací, jsou neomezeně dálkově k dispozici na https://www.sfdi.cz/pravidla-metodiky-a-ceniky/cenove-databaze/ a na www.cs-urs.cz, sekce Cenové a technické podmínky.
D32: Cena bez DPH | J32: =ROUND(J96, 2) -> 0
F34: Základ daně | I34: Sazba daně | J34: Výše daně
D35: DPH | E35: základní | F35: =ROUND((SUM(BE96:BE241)), 2) -> 0 | I35: 0.21 | J35: =ROUND(((SUM(BE96:BE241))*I35), 2) -> 0
E36: snížená | F36: =ROUND((SUM(BF96:BF241)), 2) -> 0 | I36: 0.15 | J36: =ROUND(((SUM(BF96:BF241))*I36), 2) -> 0
E37: zákl. přenesená | F37: =ROUND((SUM(BG96:BG241)), 2) -> 0 | I37: 0.21 | J37: =0 -> 0
E38: sníž. přenesená | F38: =ROUND((SUM(BH96:BH241)), 2) -> 0 | I38: 0.15 | J38: =0 -> 0
E39: nulová | F39: =ROUND((SUM(BI96:BI241)), 2) -> 0 | I39: 0 | J39: =0 -> 0
D41: Cena s DPH | G41: v | H41: CZK | J41: =SUM(J32:J39) -> 0
C47: REKAPITULACE ČLENĚNÍ SOUPISU PRACÍ
C49: Zakázka:
E50: =E7 -> Údržba, opravy a odstraňování závad u SSZT HK 2020 - 2021
C51: Objekt:
E52: PS_001 - Specifikace dílčích smluv s ceníkem
C53: Soupis:
E54: =E11 -> PS_02 - Zemní práce
C56: Místo: | F56: =F14 -> obvod SSZT HK | I56: Datum: | J56: =IF(J14="","",J14) -> 11. 12. 2019
C58: Zadavatel: | F58: =E17 | I58: Projektant: | J58: =E23
C59: Uchazeč: | F59: =IF(E20="","",E20) -> Vyplň údaj | I59: Zpracovatel: | J59: =E26 -> Lukáš Jiroudek
C61: Kód dílu - Popis | J61: Cena celkem [CZK]
...

Sheet PS_100 - VON
AT2: {67e75f01-bbf9-4a30-aa6a-d7634670c221}
AT3: 2
D4: KRYCÍ LIST SOUPISU PRACÍ | M4: v --- níže se nacházejí doplnkové a pomocné údaje k sestavám --- v | AT4: False
D6: Zakázka:
E7: ='Rekapitulace zakázky'!K6 -> Údržba, opravy a odstraňování závad u SSZT HK 2020 - 2021
D8: Objekt:
E9: PS_001 - Specifikace dílčích smluv s ceníkem
D10: Soupis:
E11: PS_100 - VON
D13: KSO: | I13: CC-CZ:
D14: Místo: | F14: obvod SSZT HK | I14: Datum: | J14: ='Rekapitulace zakázky'!AN8 -> 11. 12. 2019
D16: Zadavatel: | I16: IČ: | J16: =IF('Rekapitulace zakázky'!AN10="","",'Rekapitulace zakázky'!AN10)
E17: =IF('Rekapitulace zakázky'!E11="","",'Rekapitulace zakázky'!E11) | I17: DIČ: | J17: =IF('Rekapitulace zakázky'!AN11="","",'Rekapitulace zakázky'!AN11)
D19: Uchazeč: | I19: IČ: | J19: ='Rekapitulace zakázky'!AN13 -> Vyplň údaj
E20: ='Rekapitulace zakázky'!E14 -> Vyplň údaj | I20: DIČ: | J20: ='Rekapitulace zakázky'!AN14 -> Vyplň údaj
D22: Projektant: | I22: IČ: | J22: =IF('Rekapitulace zakázky'!AN16="","",'Rekapitulace zakázky'!AN16)
E23: =IF('Rekapitulace zakázky'!E17="","",'Rekapitulace zakázky'!E17) | I23: DIČ: | J23: =IF('Rekapitulace zakázky'!AN17="","",'Rekapitulace zakázky'!AN17)
D25: Zpracovatel: | I25: IČ:
E26: Lukáš Jiroudek | I26: DIČ:
D28: Poznámka:
E29: Soupis prací je sestaven s využitím Cenové soustavy ÚOŽI a ÚRS. Položky, které pochází z cenové soustavy ÚOŽI, jsou ve sloupci 'Cenová soustava' označeny popisem 'ÚOŽI' a položky, které pochází z cenové soustavy ÚRS, jsou ve sloupci 'Cenová soustava' označeny popisem'CS ÚRS'a úrovní příslušného kalendářního pololetí. škeré další informace vymezující popis a podmínky použití těchto položek z Cenových soustav, které nejsou uvedeny přímo v soupisu prací, jsou neomezeně dálkově k dispozici na https://www.sfdi.cz/pravidla-metodiky-a-ceniky/cenove-databaze/ a na www.cs-urs.cz, sekce Cenové a technické podmínky.
D32: Cena bez DPH | J32: =ROUND(J88, 2) -> 0
F34: Základ daně | I34: Sazba daně | J34: Výše daně
D35: DPH | E35: základní | F35: =ROUND((SUM(BE88:BE255)), 2) -> 0 | I35: 0.21 | J35: =ROUND(((SUM(BE88:BE255))*I35), 2) -> 0
E36: snížená | F36: =ROUND((SUM(BF88:BF255)), 2) -> 0 | I36: 0.15 | J36: =ROUND(((SUM(BF88:BF255))*I36), 2) -> 0
E37: zákl. přenesená | F37: =ROUND((SUM(BG88:BG255)), 2) -> 0 | I37: 0.21 | J37: =0 -> 0
E38: sníž. přenesená | F38: =ROUND((SUM(BH88:BH255)), 2) -> 0 | I38: 0.15 | J38: =0 -> 0
E39: nulová | F39: =ROUND((SUM(BI88:BI255)), 2) -> 0 | I39: 0 | J39: =0 -> 0
D41: Cena s DPH | G41: v | H41: CZK | J41: =SUM(J32:J39) -> 0
C47: REKAPITULACE ČLENĚNÍ SOUPISU PRACÍ
C49: Zakázka:
E50: =E7 -> Údržba, opravy a odstraňování závad u SSZT HK 2020 - 2021
C51: Objekt:
E52: PS_001 - Specifikace dílčích smluv s ceníkem
C53: Soupis:
E54: =E11 -> PS_100 - VON
C56: Místo: | F56: =F14 -> obvod SSZT HK | I56: Datum: | J56: =IF(J14="","",J14) -> 11. 12. 2019
C58: Zadavatel: | F58: =E17 | I58: Projektant: | J58: =E23
C59: Uchazeč: | F59: =IF(E20="","",E20) -> Vyplň údaj | I59: Zpracovatel: | J59: =E26 -> Lukáš Jiroudek
C61: Kód dílu - Popis | J61: Cena celkem [CZK]
...
