Workbook

Sheet Rekapitulace zakázky
A1: Export Komplet | AZ1: VZ | BA1: 2.0 | BB1: ZAMOK | BT1: False | BU1: False | BV1: {d5122918-ce3a-4cdc-a989-c9589cae9fe3}
BS2: 0,01 | BT2: 21
BS3: 0,01 | BT3: 15
D4: REKAPITULACE ZAKÁZKY | AS4: v --- níže se nacházejí doplnkové a pomocné údaje k sestavám --- v | BE4: Návod na vyplnění | BS4: 0,001
D5: Kód: | K5: RD_001-2 | BE5: Měnit lze pouze buňky se žlutým podbarvením!_x000D_ _x000D_ 1) v Rekapitulaci zakázky vyplňte údaje o Uchazeči (přenesou se do ostatních sestav i v jiných listech)_x000D_ _x000D_ 2) na vybraných listech vyplňte v sestavě Soupis prací ceny u položek | BS5: 0,01
D6: Zakázka: | K6: Údržba, opravy a odstraňování závad u SSZT HK 2020 - 2021 | BS6: 0,01
D7: KSO: | K7: 824 | AK7: CC-CZ: | AN7: 21219 | BS7: 0,01
D8: Místo: | K8: obvod SSZT HK | AK8: Datum: | AN8: 11. 12. 2019 | BS8: 0,01
D9: CZ-CPV: | K9: 50220000-3 | AK9: CZ-CPA: | AN9: 42.12.10 | BS9: 0,01
D10: Zadavatel: | AK10: IČ: | BS10: 0,1
AK11: DIČ: | BS11: 0,1
BS12: 0,1
D13: Uchazeč: | AK13: IČ: | AN13: Vyplň údaj | BS13: 0,1
E14: Vyplň údaj | AK14: DIČ: | AN14: Vyplň údaj | BS14: 0,1
BS15: False
D16: Projektant: | AK16: IČ: | BS16: False
AK17: DIČ: | BS17: True
BS18: 0,01
D19: Zpracovatel: | AK19: IČ: | BS19: 0,01
AK20: DIČ: | BS20: False
D22: Poznámka:
E23: Soupis prací je sestaven s využitím Cenové soustavy ÚOŽI a ÚRS. Položky, které pochází z cenové soustavy ÚOŽI, jsou ve sloupci 'Cenová soustava' označeny popisem 'ÚOŽI' a položky, které pochází z cenové soustavy ÚRS, jsou ve sloupci 'Cenová soustava' označeny popisem'CS ÚRS'a úrovní příslušného kalendářního pololetí. škeré další informace vymezující popis a podmínky použití těchto položek z Cenových soustav, které nejsou uvedeny přímo v soupisu prací, jsou neomezeně dálkově k dispozici na https://www.sfdi.cz/pravidla-metodiky-a-ceniky/cenove-databaze/ a na www.cs-urs.cz, sekce Cenové a technické podmínky.
D26: Cena bez DPH | AK26: =ROUND(AG54,2) -> 0
L28: Sazba daně | W28: Základ daně | AK28: Výše daně
D29: DPH | F29: základní | L29: 0.21 | W29: =ROUND(AZ54, 2) -> 0 | AK29: =ROUND(AV54, 2) -> 0
F30: snížená | L30: 0.15 | W30: =ROUND(BA54, 2) -> 0 | AK30: =ROUND(AW54, 2) -> 0
F31: zákl. přenesená | L31: 0.21 | W31: =ROUND(BB54, 2) -> 0 | AK31: 0
F32: sníž. přenesená | L32: 0.15 | W32: =ROUND(BC54, 2) -> 0 | AK32: 0
F33: nulová | L33: 0 | W33: =ROUND(BD54, 2) -> 0 | AK33: 0
D35: Cena s DPH | T35: v | X35: CZK | AK35: =SUM(AK26:AK33) -> 0
C42: REKAPITULACE OBJEKTŮ ZAKÁZKY A SOUPISŮ PRACÍ
C44: Kód: | L44: =K5 -> RD_001-2
C45: Zakázka: | L45: =K6 -> Údržba, opravy a odstraňování závad u SSZT HK 2020 - 2021
C47: Místo: | L47: =IF(K8="","",K8) -> obvod SSZT HK | AI47: Datum: | AM47: =IF(AN8= "","",AN8) -> 11. 12. 2019
C49: Zadavatel: | L49: =IF(E11= "","",E11) | AI49: Projektant: | AM49: =IF(E17="","",E17) | AS49: Informatívní údaje z listů zakázek
C50: Uchazeč: | L50: =IF(E14= "Vyplň údaj","",E14) | AI50: Zpracovatel: | AM50: =IF(E20="","",E20)
C52: Kód | I52: Popis | AG52: Cena bez DPH [CZK] | AN52: Cena s DPH [CZK] | AQ52: Typ | AS52: z toho Ostat._x000D_ náklady [CZK] | AT52: DPH [CZK] | AU52: Normohodiny [h] | AV52: DPH základní [CZK] | AW52: DPH snížená [CZK] | AX52: DPH základní přenesená_x000D_ [CZK] | AY52: DPH snížená přenesená_x000D_ [CZK] | AZ52: Základna_x000D_ DPH základní | BA52: Základna_x000D_ DPH snížená | BB52: Základna_x000D_ DPH zákl. přenesená | BC52: Základna_x000D_ DPH sníž. přenesená | BD52: Základna_x000D_ DPH nulová
C54: Náklady zakázky celkem | AG54: =ROUND(AG55,2) -> 0 | AN54: =SUM(AG54,AT54) -> 0 | AS54: =ROUND(AS55,2) -> 0 | AT54: =ROUND(SUM(AV54:AW54),2) -> 0 | AU54: =ROUND(AU55,5) -> 0 | AV54: =ROUND(AZ54*L29,2) -> 0 | AW54: =ROUND(BA54*L30,2) -> 0 | AX54: =ROUND(BB54*L29,2) -> 0 | AY54: =ROUND(BC54*L30,2) -> 0 | AZ54: =ROUND(AZ55,2) -> 0 | BA54: =ROUND(BA55,2) -> 0 | BB54: =ROUND(BB55,2) -> 0 | BC54: =ROUND(BC55,2) -> 0 | BD54: =ROUND(BD55,2) -> 0 | BS54: D | BT54: 0 | BU54: ###NOIMPORT### | BV54: IMPORT | BW54: {d5122918-ce3a-4cdc-a989-c9589cae9fe3} | BX54: {00000000-0000-0000-0000-000000000000} | CL54: 824
D55: PS_001 | J55: Specifikace dílčích smluv s ceníkem | AG55: =ROUND(SUM(AG56:AG58),2) -> 0 | AN55: =SUM(AG55,AT55) -> 0 | AQ55: ING | AS55: =ROUND(SUM(AS56:AS58),2) -> 0 | AT55: =ROUND(SUM(AV55:AW55),2) -> 0 | AU55: =ROUND(SUM(AU56:AU58),5) -> 0 | AV55: =ROUND(AZ55*L29,2) -> 0 | AW55: =ROUND(BA55*L30,2) -> 0 | AX55: =ROUND(BB55*L29,2) -> 0 | AY55: =ROUND(BC55*L30,2) -> 0 | AZ55: =ROUND(SUM(AZ56:AZ58),2) -> 0 | BA55: =ROUND(SUM(BA56:BA58),2) -> 0 | BB55: =ROUND(SUM(BB56:BB58),2) -> 0 | BC55: =ROUND(SUM(BC56:BC58),2) -> 0 | BD55: =ROUND(SUM(BD56:BD58),2) -> 0 | BS55: D | BT55: 1 | BU55: ###NOIMPORT### | BV55: IMPORT | BW55: {b4e3ea1b-59a2-4894-ae0d-22293b9e370f} | BX55: {d5122918-ce3a-4cdc-a989-c9589cae9fe3} | CM55: 2
A56: / | E56: PS_01 | K56: Zab.zař. | AG56: ='PS_01 - Zab.zař.'!J32 -> 0 | AN56: =SUM(AG56,AT56) -> 0 | AQ56: Soupis | AS56: 0 | AT56: =ROUND(SUM(AV56:AW56),2) -> 0 | AU56: ='PS_01 - Zab.zař.'!P104 -> 0 | AV56: ='PS_01 - Zab.zař.'!J35 -> 0 | AW56: ='PS_01 - Zab.zař.'!J36 -> 0 | AX56: ='PS_01 - Zab.zař.'!J37 -> 0 | AY56: ='PS_01 - Zab.zař.'!J38 -> 0 | AZ56: ='PS_01 - Zab.zař.'!F35 -> 0 | BA56: ='PS_01 - Zab.zař.'!F36 -> 0 | BB56: ='PS_01 - Zab.zař.'!F37 -> 0 | BC56: ='PS_01 - Zab.zař.'!F38 -> 0 | BD56: ='PS_01 - Zab.zař.'!F39 -> 0 | BT56: 2 | BV56: IMPORT | BW56: {a2b6aa04-456c-483f-88f8-35f9a9fafd78} | BX56: {b4e3ea1b-59a2-4894-ae0d-22293b9e370f}
A57: / | E57: PS_02 | K57: Zemní práce | AG57: ='PS_02 - Zemní práce'!J32 -> 0 | AN57: =SUM(AG57,AT57) -> 0 | AQ57: Soupis | AS57: 0 | AT57: =ROUND(SUM(AV57:AW57),2) -> 0 | AU57: ='PS_02 - Zemní práce'!P96 -> 0 | AV57: ='PS_02 - Zemní práce'!J35 -> 0 | AW57: ='PS_02 - Zemní práce'!J36 -> 0 | AX57: ='PS_02 - Zemní práce'!J37 -> 0 | AY57: ='PS_02 - Zemní práce'!J38 -> 0 | AZ57: ='PS_02 - Zemní práce'!F35 -> 0 | BA57: ='PS_02 - Zemní práce'!F36 -> 0 | BB57: ='PS_02 - Zemní práce'!F37 -> 0 | BC57: ='PS_02 - Zemní práce'!F38 -> 0 | BD57: ='PS_02 - Zemní práce'!F39 -> 0 | BT57: 2 | BV57: IMPORT | BW57: {4e20c6f1-6312-4832-a665-776a8b5a880b} | BX57: {b4e3ea1b-59a2-4894-ae0d-22293b9e370f}
A58: / | E58: PS_100 | K58: VON | AG58: ='PS_100 - VON'!J32 -> 0 | AN58: =SUM(AG58,AT58) -> 0 | AQ58: Soupis | AS58: 0 | AT58: =ROUND(SUM(AV58:AW58),2) -> 0 | AU58: ='PS_100 - VON'!P88 -> 0 | AV58: ='PS_100 - VON'!J35 -> 0 | AW58: ='PS_100 - VON'!J36 -> 0 | AX58: ='PS_100 - VON'!J37 -> 0 | AY58: ='PS_100 - VON'!J38 -> 0 | AZ58: ='PS_100 - VON'!F35 -> 0 | BA58: ='PS_100 - VON'!F36 -> 0 | BB58: ='PS_100 - VON'!F37 -> 0 | BC58: ='PS_100 - VON'!F38 -> 0 | BD58: ='PS_100 - VON'!F39 -> 0 | BT58: 2 | BV58: IMPORT | BW58: {67e75f01-bbf9-4a30-aa6a-d7634670c221} | BX58: {b4e3ea1b-59a2-4894-ae0d-22293b9e370f}

Sheet PS_01 - Zab.zař.
AT2: {a2b6aa04-456c-483f-88f8-35f9a9fafd78}
AT3: 2
D4: KRYCÍ LIST SOUPISU PRACÍ | M4: v --- níže se nacházejí doplnkové a pomocné údaje k sestavám --- v | AT4: False
D6: Zakázka:
E7: ='Rekapitulace zakázky'!K6 -> Údržba, opravy a odstraňování závad u SSZT HK 2020 - 2021
D8: Objekt:
E9: PS_001 - Specifikace dílčích smluv s ceníkem
D10: Soupis:
E11: PS_01 - Zab.zař.
D13: KSO: | I13: CC-CZ:
D14: Místo: | F14: obvod SSZT HK | I14: Datum: | J14: ='Rekapitulace zakázky'!AN8 -> 11. 12. 2019
D16: Zadavatel: | I16: IČ: | J16: =IF('Rekapitulace zakázky'!AN10="","",'Rekapitulace zakázky'!AN10)
E17: =IF('Rekapitulace zakázky'!E11="","",'Rekapitulace zakázky'!E11) | I17: DIČ: | J17: =IF('Rekapitulace zakázky'!AN11="","",'Rekapitulace zakázky'!AN11)
D19: Uchazeč: | I19: IČ: | J19: ='Rekapitulace zakázky'!AN13 -> Vyplň údaj
E20: ='Rekapitulace zakázky'!E14 -> Vyplň údaj | I20: DIČ: | J20: ='Rekapitulace zakázky'!AN14 -> Vyplň údaj
D22: Projektant: | I22: IČ: | J22: =IF('Rekapitulace zakázky'!AN16="","",'Rekapitulace zakázky'!AN16)
E23: =IF('Rekapitulace zakázky'!E17="","",'Rekapitulace zakázky'!E17) | I23: DIČ: | J23: =IF('Rekapitulace zakázky'!AN17="","",'Rekapitulace zakázky'!AN17)
D25: Zpracovatel: | I25: IČ:
E26: Lukáš Jiroudek | I26: DIČ:
D28: Poznámka:
E29: Soupis prací je sestaven s využitím Cenové soustavy ÚOŽI a ÚRS. Položky, které pochází z cenové soustavy ÚOŽI, jsou ve sloupci 'Cenová soustava' označeny popisem 'ÚOŽI' a položky, které pochází z cenové soustavy ÚRS, jsou ve sloupci 'Cenová soustava' označeny popisem'CS ÚRS'a úrovní příslušného kalendářního pololetí. škeré další informace vymezující popis a podmínky použití těchto položek z Cenových soustav, které nejsou uvedeny přímo v soupisu prací, jsou neomezeně dálkově k dispozici na https://www.sfdi.cz/pravidla-metodiky-a-ceniky/cenove-databaze/ a na www.cs-urs.cz, sekce Cenové a technické podmínky.
D32: Cena bez DPH | J32: =ROUND(J104, 2) -> 0
F34: Základ daně | I34: Sazba daně | J34: Výše daně
D35: DPH | E35: základní | F35: =ROUND((SUM(BE104:BE810)), 2) -> 0 | I35: 0.21 | J35: =ROUND(((SUM(BE104:BE810))*I35), 2) -> 0
E36: snížená | F36: =ROUND((SUM(BF104:BF810)), 2) -> 0 | I36: 0.15 | J36: =ROUND(((SUM(BF104:BF810))*I36), 2) -> 0
E37: zákl. přenesená | F37: =ROUND((SUM(BG104:BG810)), 2) -> 0 | I37: 0.21 | J37: =0 -> 0
E38: sníž. přenesená | F38: =ROUND((SUM(BH104:BH810)), 2) -> 0 | I38: 0.15 | J38: =0 -> 0
E39: nulová | F39: =ROUND((SUM(BI104:BI810)), 2) -> 0 | I39: 0 | J39: =0 -> 0
D41: Cena s DPH | G41: v | H41: CZK | J41: =SUM(J32:J39) -> 0
C47: REKAPITULACE ČLENĚNÍ SOUPISU PRACÍ
C49: Zakázka:
E50: =E7 -> Údržba, opravy a odstraňování závad u SSZT HK 2020 - 2021
C51: Objekt:
E52: PS_001 - Specifikace dílčích smluv s ceníkem
C53: Soupis:
E54: =E11 -> PS_01 - Zab.zař.
C56: Místo: | F56: =F14 -> obvod SSZT HK | I56: Datum: | J56: =IF(J14="","",J14) -> 11. 12. 2019
C58: Zadavatel: | F58: =E17 | I58: Projektant: | J58: =E23
C59: Uchazeč: | F59: =IF(E20="","",E20) -> Vyplň údaj | I59: Zpracovatel: | J59: =E26 -> Lukáš Jiroudek
C61: Kód dílu - Popis | J61: Cena celkem [CZK]
C63: Náklady zakázky celkem | J63: =J104 -> 0 | AU63: -1
D64: DEM - Demontáže | J64: =J105 -> 0
D65: DOM - Technologický domek | J65: =J154 -> 0
D66: R_DC - Rozvaděč DC | J66: =J159 -> 0
D67: HSV - Práce a dodávky HSV | J67: =J167 -> 0
D68: 1 - Zemní práce | J68: =J168 -> 0
D69: 5 - Komunikace pozemní | J69: =J199 -> 0
D70: KAB - Kabelizace | J70: =J227 -> 0
D71: NAP - Napájení | J71: =J256 -> 0
D72: PN - Počítače náprav | J72: =J281 -> 0
D73: REV - Revize a zkoušky | J73: =J294 -> 0
D74: STOJ - Stojan zabezpečovacího zařízení | J74: =J299 -> 0
D75: DIAG - Diagnostika | J75: =J318 -> 0
D76: DIAG_01 - Diagnostika PZS v km 158,653 | J76: =J320 -> 0
D77: DIAG_03 - Diagnostika ŽST Blatno | J77: =J345 -> 0
D78: UPR_SW - Úprava adresného software | J78: =J348 -> 0
D79: VEN - Venkovní prvky | J79: =J350 -> 0
D80: M - Práce a dodávky M | J80: =J367 -> 0
D81: 46-M - Zemní práce při extr.mont.pracích | J81: =J370 -> 0
D82: OST - Ostatní | J82: =J395 -> 0
C89: SOUPIS PRACÍ
C91: Zakázka:
E92: =E7 -> Údržba, opravy a odstraňování závad u SSZT HK 2020 - 2021
C93: Objekt:
E94: PS_001 - Specifikace dílčích smluv s ceníkem
C95: Soupis:
E96: =E11 -> PS_01 - Zab.zař.
C98: Místo: | F98: =F14 -> obvod SSZT HK | I98: Datum: | J98: =IF(J14="","",J14) -> 11. 12. 2019
C100: Zadavatel: | F100: =E17 | I100: Projektant: | J100: =E23
C101: Uchazeč: | F101: =IF(E20="","",E20) -> Vyplň údaj | I101: Zpracovatel: | J101: =E26 -> Lukáš Jiroudek
C103: PČ | D103: Typ | E103: Kód | F103: Popis | G103: MJ | H103: Množství | I103: J.cena [CZK] | J103: Cena celkem [CZK] | K103: Cenová soustava | N103: DPH | O103: J. Nh [h] | P103: Nh celkem [h] | Q103: J. hmotnost [t] | R103: Hmotnost celkem [t] | S103: J. suť [t] | T103: Suť Celkem [t]
C104: Náklady soupisu celkem | J104: =BK104 -> 0 | P104: =P105+P154+P167+P227+P256+P281+P294+P299+P348+P350+P367+P395 -> 0 | R104: =R105+R154+R167+R227+R256+R281+R294+R299+R348+R350+R367+R395 -> 12.194 | T104: =T105+T154+T167+T227+T256+T281+T294+T299+T348+T350+T367+T395 -> 0 | AT104: D | AU104: -1 | BK104: =BK105+BK154+BK167+BK227+BK256+BK281+BK294+BK299+BK348+BK350+BK367+BK395 -> 0
D105: D | E105: DEM | F105: Demontáže | J105: =BK105 -> 0 | P105: =SUM(P106:P153) -> 0 | R105: =SUM(R106:R153) -> 0 | T105: =SUM(T106:T153) -> 0 | AR105: 1 | AT105: D | AU105: 0 | AY105: ROZPOCET | BK105: =SUM(BK106:BK153) -> 0
C106: 1 | D106: K | E106: 5912030060 | F106: Demontáž návěstidla včetně sloupku a patky tabulky s křížem. Poznámka: 1. V cenách jsou započteny náklady na demontáž návěstidla, sloupku a patky, zához, úpravu terénu a naložení na dopravní prostředek. | G106: kus | H106: 1 | J106: =ROUND(I106*H106,2) -> 0 | K106: Sborník UOŽI 01 2019 | N106: základní | P106: =O106*H106 -> 0 | Q106: 0 | R106: =Q106*H106 -> 0 | S106: 0 | T106: =S106*H106 -> 0 | AR106: 1 | AT106: K | AU106: 1 | AY106: ROZPOCET | BE106: =IF(N106="základní",J106,0) -> 0 | BF106: =IF(N106="snížená",J106,0) -> 0 | BG106: =IF(N106="zákl. přenesená",J106,0) -> 0 | BH106: =IF(N106="sníž. přenesená",J106,0) -> 0 | BI106: =IF(N106="nulová",J106,0) -> 0 | BJ106: 1 | BK106: =ROUND(I106*H106,2) -> 0 | BL106: 1 | BM106: 1271246158
D107: PSC | F107: Poznámka k souboru cen:_x000D_ 1. V cenách jsou započteny náklady na demontáž návěstidla, sloupku a patky, zához, úpravu terénu a naložení na dopravní prostředek. | AT107: PSC | AU107: 1
C108: 2 | D108: K | E108: 7496672015 | F108: Demontáž rozvaděčů vlastní spotřeby stejnosměrného s bateriemi | G108: kus | H108: 3 | J108: =ROUND(I108*H108,2) -> 0 | K108: Sborník UOŽI 01 2019 | N108: základní | P108: =O108*H108 -> 0 | Q108: 0 | R108: =Q108*H108 -> 0 | S108: 0 | T108: =S108*H108 -> 0 | AR108: 1 | AT108: K | AU108: 1 | AY108: ROZPOCET | BE108: =IF(N108="základní",J108,0) -> 0 | BF108: =IF(N108="snížená",J108,0) -> 0 | BG108: =IF(N108="zákl. přenesená",J108,0) -> 0 | BH108: =IF(N108="sníž. přenesená",J108,0) -> 0 | BI108: =IF(N108="nulová",J108,0) -> 0 | BJ108: 1 | BK108: =ROUND(I108*H108,2) -> 0 | BL108: 1 | BM108: 670849232
C109: 3 | D109: K | E109: 7496677010 | F109: Demontáž stojanu pro baterie | G109: kus | H109: 1 | J109: =ROUND(I109*H109,2) -> 0 | K109: Sborník UOŽI 01 2019 | N109: základní | P109: =O109*H109 -> 0 | Q109: 0 | R109: =Q109*H109 -> 0 | S109: 0 | T109: =S109*H109 -> 0 | AR109: 1 | AT109: K | AU109: 1 | AY109: ROZPOCET | BE109: =IF(N109="základní",J109,0) -> 0 | BF109: =IF(N109="snížená",J109,0) -> 0 | BG109: =IF(N109="zákl. přenesená",J109,0) -> 0 | BH109: =IF(N109="sníž. přenesená",J109,0) -> 0 | BI109: =IF(N109="nulová",J109,0) -> 0 | BJ109: 1 | BK109: =ROUND(I109*H109,2) -> 0 | BL109: 1 | BM109: 1339111716
C110: 4 | D110: K | E110: 7497371625 | F110: Demontáže zařízení trakčního vedení svodu ukolejnění konstrukcí a stožárů - demontáž stávajícího zařízení se všemi pomocnými doplňujícími úpravami | G110: kus | H110: 6 | J110: =ROUND(I110*H110,2) -> 0 | K110: Sborník UOŽI 01 2019 | N110: základní | P110: =O110*H110 -> 0 | Q110: 0 | R110: =Q110*H110 -> 0 | S110: 0 | T110: =S110*H110 -> 0 | AR110: 1 | AT110: K | AU110: 1 | AY110: ROZPOCET | BE110: =IF(N110="základní",J110,0) -> 0 | BF110: =IF(N110="snížená",J110,0) -> 0 | BG110: =IF(N110="zákl. přenesená",J110,0) -> 0 | BH110: =IF(N110="sníž. přenesená",J110,0) -> 0 | BI110: =IF(N110="nulová",J110,0) -> 0 | BJ110: 1 | BK110: =ROUND(I110*H110,2) -> 0 | BL110: 1 | BM110: -1569517784
C111: 5 | D111: K | E111: 7590617020 | F111: Demontáž skříňky s pomocnými tlačítky - včetně odpojení kabelů | G111: kus | H111: 1 | J111: =ROUND(I111*H111,2) -> 0 | K111: Sborník UOŽI 01 2019 | N111: základní | P111: =O111*H111 -> 0 | Q111: 0 | R111: =Q111*H111 -> 0 | S111: 0 | T111: =S111*H111 -> 0 | AR111: 1 | AT111: K | AU111: 1 | AY111: ROZPOCET | BE111: =IF(N111="základní",J111,0) -> 0 | BF111: =IF(N111="snížená",J111,0) -> 0 | BG111: =IF(N111="zákl. přenesená",J111,0) -> 0 | BH111: =IF(N111="sníž. přenesená",J111,0) -> 0 | BI111: =IF(N111="nulová",J111,0) -> 0 | BJ111: 1 | BK111: =ROUND(I111*H111,2) -> 0 | BL111: 1 | BM111: 1100729171
C112: 6 | D112: K | E112: 7592007050 | F112: Demontáž počítacího bodu (senzoru) RSR 180 | G112: kus | H112: 6 | J112: =ROUND(I112*H112,2) -> 0 | K112: Sborník UOŽI 01 2019 | N112: základní | P112: =O112*H112 -> 0 | Q112: 0 | R112: =Q112*H112 -> 0 | S112: 0 | T112: =S112*H112 -> 0 | AR112: 1 | AT112: K | AU112: 1 | AY112: ROZPOCET | BE112: =IF(N112="základní",J112,0) -> 0 | BF112: =IF(N112="snížená",J112,0) -> 0 | BG112: =IF(N112="zákl. přenesená",J112,0) -> 0 | BH112: =IF(N112="sníž. přenesená",J112,0) -> 0 | BI112: =IF(N112="nulová",J112,0) -> 0 | BJ112: 1 | BK112: =ROUND(I112*H112,2) -> 0 | BL112: 1 | BM112: -289409793
C113: 7 | D113: K | E113: 7592307010 | F113: Demontáž transformátoru pro zabezpečovací zařízení | G113: kus | H113: 6 | J113: =ROUND(I113*H113,2) -> 0 | K113: Sborník UOŽI 01 2019 | N113: základní | P113: =O113*H113 -> 0 | Q113: 0 | R113: =Q113*H113 -> 0 | S113: 0 | T113: =S113*H113 -> 0 | AR113: 1 | AT113: K | AU113: 1 | AY113: ROZPOCET | BE113: =IF(N113="základní",J113,0) -> 0 | BF113: =IF(N113="snížená",J113,0) -> 0 | BG113: =IF(N113="zákl. přenesená",J113,0) -> 0 | BH113: =IF(N113="sníž. přenesená",J113,0) -> 0 | BI113: =IF(N113="nulová",J113,0) -> 0 | BJ113: 1 | BK113: =ROUND(I113*H113,2) -> 0 | BL113: 1 | BM113: -252853368
C114: 8 | D114: K | E114: 7592907010 | F114: Demontáž článku niklokadmiového kapacity do 200 Ah | G114: kus | H114: 24 | J114: =ROUND(I114*H114,2) -> 0 | K114: Sborník UOŽI 01 2019 | N114: základní | P114: =O114*H114 -> 0 | Q114: 0 | R114: =Q114*H114 -> 0 | S114: 0 | T114: =S114*H114 -> 0 | AR114: 1 | AT114: K | AU114: 1 | AY114: ROZPOCET | BE114: =IF(N114="základní",J114,0) -> 0 | BF114: =IF(N114="snížená",J114,0) -> 0 | BG114: =IF(N114="zákl. přenesená",J114,0) -> 0 | BH114: =IF(N114="sníž. přenesená",J114,0) -> 0 | BI114: =IF(N114="nulová",J114,0) -> 0 | BJ114: 1 | BK114: =ROUND(I114*H114,2) -> 0 | BL114: 1 | BM114: -584489965
C115: 9 | D115: K | E115: 7592907052 | F115: Demontáž bloku baterie olověné 24 V a 48 V kapacity přes 50 Ah | G115: kus | H115: 8 | J115: =ROUND(I115*H115,2) -> 0 | K115: Sborník UOŽI 01 2019 | N115: základní | P115: =O115*H115 -> 0 | Q115: 0 | R115: =Q115*H115 -> 0 | S115: 0 | T115: =S115*H115 -> 0 | AR115: 1 | AT115: K | AU115: 1 | AY115: ROZPOCET | BE115: =IF(N115="základní",J115,0) -> 0 | BF115: =IF(N115="snížená",J115,0) -> 0 | BG115: =IF(N115="zákl. přenesená",J115,0) -> 0 | BH115: =IF(N115="sníž. přenesená",J115,0) -> 0 | BI115: =IF(N115="nulová",J115,0) -> 0 | BJ115: 1 | BK115: =ROUND(I115*H115,2) -> 0 | BL115: 1 | BM115: -1987651767
C116: 10 | D116: K | E116: 7593107012 | F116: Demontáž měniče statického řady EZ1, EZ2 a BZS1-R96 | G116: kus | H116: 2 | J116: =ROUND(I116*H116,2) -> 0 | K116: Sborník UOŽI 01 2019 | N116: základní | P116: =O116*H116 -> 0 | Q116: 0 | R116: =Q116*H116 -> 0 | S116: 0 | T116: =S116*H116 -> 0 | AR116: 1 | AT116: K | AU116: 1 | AY116: ROZPOCET | BE116: =IF(N116="základní",J116,0) -> 0 | BF116: =IF(N116="snížená",J116,0) -> 0 | BG116: =IF(N116="zákl. přenesená",J116,0) -> 0 | BH116: =IF(N116="sníž. přenesená",J116,0) -> 0 | BI116: =IF(N116="nulová",J116,0) -> 0 | BJ116: 1 | BK116: =ROUND(I116*H116,2) -> 0 | BL116: 1 | BM116: -958466364
C117: 11 | D117: K | E117: 7593317380 | F117: Demontáž panelu reléového | G117: kus | H117: 7 | J117: =ROUND(I117*H117,2) -> 0 | K117: Sborník UOŽI 01 2019 | N117: základní | P117: =O117*H117 -> 0 | Q117: 0 | R117: =Q117*H117 -> 0 | S117: 0 | T117: =S117*H117 -> 0 | AR117: 1 | AT117: K | AU117: 1 | AY117: ROZPOCET | BE117: =IF(N117="základní",J117,0) -> 0 | BF117: =IF(N117="snížená",J117,0) -> 0 | BG117: =IF(N117="zákl. přenesená",J117,0) -> 0 | BH117: =IF(N117="sníž. přenesená",J117,0) -> 0 | BI117: =IF(N117="nulová",J117,0) -> 0 | BJ117: 1 | BK117: =ROUND(I117*H117,2) -> 0 | BL117: 1 | BM117: -360574267
C118: 12 | D118: K | E118: 7593317382 | F118: Demontáž panelu se svorkovnicemi | G118: kus | H118: 2 | J118: =ROUND(I118*H118,2) -> 0 | K118: Sborník UOŽI 01 2019 | N118: základní | P118: =O118*H118 -> 0 | Q118: 0 | R118: =Q118*H118 -> 0 | S118: 0 | T118: =S118*H118 -> 0 | AR118: 1 | AT118: K | AU118: 1 | AY118: ROZPOCET | BE118: =IF(N118="základní",J118,0) -> 0 | BF118: =IF(N118="snížená",J118,0) -> 0 | BG118: =IF(N118="zákl. přenesená",J118,0) -> 0 | BH118: =IF(N118="sníž. přenesená",J118,0) -> 0 | BI118: =IF(N118="nulová",J118,0) -> 0 | BJ118: 1 | BK118: =ROUND(I118*H118,2) -> 0 | BL118: 1 | BM118: 1891090297
C119: 13 | D119: K | E119: 7594107070 | F119: Demontáž lanového propojení tlumivek z betonových pražců | G119: kus | H119: 10 | J119: =ROUND(I119*H119,2) -> 0 | K119: Sborník UOŽI 01 2019 | N119: základní | P119: =O119*H119 -> 0 | Q119: 0 | R119: =Q119*H119 -> 0 | S119: 0 | T119: =S119*H119 -> 0 | AR119: 1 | AT119: K | AU119: 1 | AY119: ROZPOCET | BE119: =IF(N119="základní",J119,0) -> 0 | BF119: =IF(N119="snížená",J119,0) -> 0 | BG119: =IF(N119="zákl. přenesená",J119,0) -> 0 | BH119: =IF(N119="sníž. přenesená",J119,0) -> 0 | BI119: =IF(N119="nulová",J119,0) -> 0 | BJ119: 1 | BK119: =ROUND(I119*H119,2) -> 0 | BL119: 1 | BM119: 1831139416
... C128: 22 | D128: M | E128: 7594300672 | F128: Počítače náprav Vnitřní prvky PN PNS-03 Kazeta výstupů ST00 236 | G128: kus | H128: 2 | J128: =ROUND(I128*H128,2) -> 0 | K128: Sborník UOŽI 01 2019 | N128: základní | P128: =O128*H128 -> 0 | Q128: 0 | R128: =Q128*H128 -> 0 | S128: 0 | T128: =S128*H128 -> 0 | AR128: 128 | AT128: M | AU128: 1 | AY128: ROZPOCET | BE128: =IF(N128="základní",J128,0) -> 0 | BF128: =IF(N128="snížená",J128,0) -> 0 | BG128: =IF(N128="zákl. přenesená",J128,0) -> 0 | BH128: =IF(N128="sníž. přenesená",J128,0) -> 0 | BI128: =IF(N128="nulová",J128,0) -> 0 | BJ128: 1 | BK128: =ROUND(I128*H128,2) -> 0 | BL128: 128 | BM128: 708704415
C129: 23 | D129: M | E129: 7594300672R1 | F129: Počítače náprav Vnitřní prvky PN PNS-03 Konektor CANo24-K | G129: kus | H129: 2 | J129: =ROUND(I129*H129,2) -> 0 | N129: základní | P129: =O129*H129 -> 0 | Q129: 0 | R129: =Q129*H129 -> 0 | S129: 0 | T129: =S129*H129 -> 0 | AR129: 256 | AT129: M | AU129: 1 | AY129: ROZPOCET | BE129: =IF(N129="základní",J129,0) -> 0 | BF129: =IF(N129="snížená",J129,0) -> 0 | BG129: =IF(N129="zákl. přenesená",J129,0) -> 0 | BH129: =IF(N129="sníž. přenesená",J129,0) -> 0 | BI129: =IF(N129="nulová",J129,0) -> 0 | BJ129: 1 | BK129: =ROUND(I129*H129,2) -> 0 | BL129: 64 | BM129: 334375526
C130: 24 | D130: M | E130: 7594300678R2 | F130: Počítače náprav Vnitřní prvky PN PNS-03 Kazeta CPU | G130: kus | H130: 2 | J130: =ROUND(I130*H130,2) -> 0 | N130: základní | P130: =O130*H130 -> 0 | Q130: 0 | R130: =Q130*H130 -> 0 | S130: 0 | T130: =S130*H130 -> 0 | AR130: 256 | AT130: M | AU130: 1 | AY130: ROZPOCET | BE130: =IF(N130="základní",J130,0) -> 0 | BF130: =IF(N130="snížená",J130,0) -> 0 | BG130: =IF(N130="zákl. přenesená",J130,0) -> 0 | BH130: =IF(N130="sníž. přenesená",J130,0) -> 0 | BI130: =IF(N130="nulová",J130,0) -> 0 | BJ130: 1 | BK130: =ROUND(I130*H130,2) -> 0 | BL130: 64 | BM130: 871283514
C131: 25 | D131: M | E131: 7594300678 | F131: Počítače náprav Vnitřní prvky PN PNS-03 Kazeta počítacích bodů ST00 239 | G131: kus | H131: 4 | J131: =ROUND(I131*H131,2) -> 0 | K131: Sborník UOŽI 01 2019 | N131: základní | P131: =O131*H131 -> 0 | Q131: 0 | R131: =Q131*H131 -> 0 | S131: 0 | T131: =S131*H131 -> 0 | AR131: 128 | AT131: M | AU131: 1 | AY131: ROZPOCET | BE131: =IF(N131="základní",J131,0) -> 0 | BF131: =IF(N131="snížená",J131,0) -> 0 | BG131: =IF(N131="zákl. přenesená",J131,0) -> 0 | BH131: =IF(N131="sníž. přenesená",J131,0) -> 0 | BI131: =IF(N131="nulová",J131,0) -> 0 | BJ131: 1 | BK131: =ROUND(I131*H131,2) -> 0 | BL131: 128 | BM131: -986935884
C132: 26 | D132: M | E132: 7594300668 | F132: Počítače náprav Vnitřní prvky PN PNS-03 Kazeta vstupů ST00 235 | G132: kus | H132: 2 | J132: =ROUND(I132*H132,2) -> 0 | K132: Sborník UOŽI 01 2019 | N132: základní | P132: =O132*H132 -> 0 | Q132: 0 | R132: =Q132*H132 -> 0 | S132: 0 | T132: =S132*H132 -> 0 | AR132: 128 | AT132: M | AU132: 1 | AY132: ROZPOCET | BE132: =IF(N132="základní",J132,0) -> 0 | BF132: =IF(N132="snížená",J132,0) -> 0 | BG132: =IF(N132="zákl. přenesená",J132,0) -> 0 | BH132: =IF(N132="sníž. přenesená",J132,0) -> 0 | BI132: =IF(N132="nulová",J132,0) -> 0 | BJ132: 1 | BK132: =ROUND(I132*H132,2) -> 0 | BL132: 128 | BM132: -1904171840
C133: 27 | D133: M | E133: 7594300674 | F133: Počítače náprav Vnitřní prvky PN PNS-03 Kazeta zdroje 25V ST00 237 | G133: kus | H133: 2 | J133: =ROUND(I133*H133,2) -> 0 | K133: Sborník UOŽI 01 2019 | N133: základní | P133: =O133*H133 -> 0 | Q133: 0 | R133: =Q133*H133 -> 0 | S133: 0 | T133: =S133*H133 -> 0 | AR133: 128 | AT133: M | AU133: 1 | AY133: ROZPOCET | BE133: =IF(N133="základní",J133,0) -> 0 | BF133: =IF(N133="snížená",J133,0) -> 0 | BG133: =IF(N133="zákl. přenesená",J133,0) -> 0 | BH133: =IF(N133="sníž. přenesená",J133,0) -> 0 | BI133: =IF(N133="nulová",J133,0) -> 0 | BJ133: 1 | BK133: =ROUND(I133*H133,2) -> 0 | BL133: 128 | BM133: -1126352100
C134: 28 | D134: M | E134: 7594300674R1 | F134: Počítače náprav Vnitřní prvky PN PNS-03 Kazeta zdroje 25V-K | G134: kus | H134: 2 | J134: =ROUND(I134*H134,2) -> 0 | N134: základní | P134: =O134*H134 -> 0 | Q134: 0 | R134: =Q134*H134 -> 0 | S134: 0 | T134: =S134*H134 -> 0 | AR134: 256 | AT134: M | AU134: 1 | AY134: ROZPOCET | BE134: =IF(N134="základní",J134,0) -> 0 | BF134: =IF(N134="snížená",J134,0) -> 0 | BG134: =IF(N134="zákl. přenesená",J134,0) -> 0 | BH134: =IF(N134="sníž. přenesená",J134,0) -> 0 | BI134: =IF(N134="nulová",J134,0) -> 0 | BJ134: 1 | BK134: =ROUND(I134*H134,2) -> 0 | BL134: 64 | BM134: 1877110154
C135: 29 | D135: M | E135: 7593320651 | F135: Prvky Panel jističů (120mm) | G135: kus | H135: 4 | J135: =ROUND(I135*H135,2) -> 0 | K135: Sborník UOŽI 01 2019 | N135: základní | P135: =O135*H135 -> 0 | Q135: 0 | R135: =Q135*H135 -> 0 | S135: 0 | T135: =S135*H135 -> 0 | AR135: 256 | AT135: M | AU135: 1 | AY135: ROZPOCET | BE135: =IF(N135="základní",J135,0) -> 0 | BF135: =IF(N135="snížená",J135,0) -> 0 | BG135: =IF(N135="zákl. přenesená",J135,0) -> 0 | BH135: =IF(N135="sníž. přenesená",J135,0) -> 0 | BI135: =IF(N135="nulová",J135,0) -> 0 | BJ135: 1 | BK135: =ROUND(I135*H135,2) -> 0 | BL135: 64 | BM135: -467823143
C136: 30 | D136: M | E136: 7494003052 | F136: Modulární přístroje Jističe do 63 A; 6 kA 2-pólové In 4 A, Ue AC 230/400 V / DC 144 V, charakteristika C, 2pól, Icn 6 kA | G136: kus | H136: 4 | J136: =ROUND(I136*H136,2) -> 0 | K136: Sborník UOŽI 01 2019 | N136: základní | P136: =O136*H136 -> 0 | Q136: 0 | R136: =Q136*H136 -> 0 | S136: 0 | T136: =S136*H136 -> 0 | AR136: 256 | AT136: M | AU136: 1 | AY136: ROZPOCET | BE136: =IF(N136="základní",J136,0) -> 0 | BF136: =IF(N136="snížená",J136,0) -> 0 | BG136: =IF(N136="zákl. přenesená",J136,0) -> 0 | BH136: =IF(N136="sníž. přenesená",J136,0) -> 0 | BI136: =IF(N136="nulová",J136,0) -> 0 | BJ136: 1 | BK136: =ROUND(I136*H136,2) -> 0 | BL136: 64 | BM136: 1649236084
C137: 31 | D137: M | E137: 7590541399 | F137: Slaboproudé rozvody, kabely pro přívod a vnitřní instalaci Spojky metalických kabelů a příslušenství Teplem smrštitelná zesílená spojka pro netlakované kabely XAGA 500-100/25-460/EY | G137: kus | H137: 4 | J137: =ROUND(I137*H137,2) -> 0 | K137: Sborník UOŽI 01 2019 | N137: základní | P137: =O137*H137 -> 0 | Q137: 0 | R137: =Q137*H137 -> 0 | S137: 0 | T137: =S137*H137 -> 0 | AR137: 256 | AT137: M | AU137: 1 | AY137: ROZPOCET | BE137: =IF(N137="základní",J137,0) -> 0 | BF137: =IF(N137="snížená",J137,0) -> 0 | BG137: =IF(N137="zákl. přenesená",J137,0) -> 0 | BH137: =IF(N137="sníž. přenesená",J137,0) -> 0 | BI137: =IF(N137="nulová",J137,0) -> 0 | BJ137: 1 | BK137: =ROUND(I137*H137,2) -> 0 | BL137: 64 | BM137: -756443483
C138: 32 | D138: M | E138: 7590521454 | F138: Venkovní vedení kabelová - metalické sítě Plněné, párované s ochr. vodičem TCEKPFLE 3 P 1,0 D | G138: m | H138: 20 | J138: =ROUND(I138*H138,2) -> 0 | K138: Sborník UOŽI 01 2019 | N138: základní | P138: =O138*H138 -> 0 | Q138: 0 | R138: =Q138*H138 -> 0 | S138: 0 | T138: =S138*H138 -> 0 | AR138: 256 | AT138: M | AU138: 1 | AY138: ROZPOCET | BE138: =IF(N138="základní",J138,0) -> 0 | BF138: =IF(N138="snížená",J138,0) -> 0 | BG138: =IF(N138="zákl. přenesená",J138,0) -> 0 | BH138: =IF(N138="sníž. přenesená",J138,0) -> 0 | BI138: =IF(N138="nulová",J138,0) -> 0 | BJ138: 1 | BK138: =ROUND(I138*H138,2) -> 0 | BL138: 64 | BM138: -1577594010
C139: 33 | D139: M | E139: 7593320216 | F139: Prvky Tlačítko (CV727295002) | G139: kus | H139: 4 | J139: =ROUND(I139*H139,2) -> 0 | K139: Sborník UOŽI 01 2019 | N139: základní | P139: =O139*H139 -> 0 | Q139: 0 | R139: =Q139*H139 -> 0 | S139: 0 | T139: =S139*H139 -> 0 | AR139: 256 | AT139: M | AU139: 1 | AY139: ROZPOCET | BE139: =IF(N139="základní",J139,0) -> 0 | BF139: =IF(N139="snížená",J139,0) -> 0 | BG139: =IF(N139="zákl. přenesená",J139,0) -> 0 | BH139: =IF(N139="sníž. přenesená",J139,0) -> 0 | BI139: =IF(N139="nulová",J139,0) -> 0 | BJ139: 1 | BK139: =ROUND(I139*H139,2) -> 0 | BL139: 64 | BM139: -720243189
C140: 34 | D140: M | E140: 7594300676 | F140: Počítače náprav Vnitřní prvky PN PNS-03 Kazeta zdroje 60V ST00 238 | G140: kus | H140: 4 | J140: =ROUND(I140*H140,2) -> 0 | K140: Sborník UOŽI 01 2019 | N140: základní | P140: =O140*H140 -> 0 | Q140: 0 | R140: =Q140*H140 -> 0 | S140: 0 | T140: =S140*H140 -> 0 | AR140: 128 | AT140: M | AU140: 1 | AY140: ROZPOCET | BE140: =IF(N140="základní",J140,0) -> 0 | BF140: =IF(N140="snížená",J140,0) -> 0 | BG140: =IF(N140="zákl. přenesená",J140,0) -> 0 | BH140: =IF(N140="sníž. přenesená",J140,0) -> 0 | BI140: =IF(N140="nulová",J140,0) -> 0 | BJ140: 1 | BK140: =ROUND(I140*H140,2) -> 0 | BL140: 128 | BM140: 852848613
...

Sheet PS_02 - Zemní práce
AT2: {4e20c6f1-6312-4832-a665-776a8b5a880b}
AT3: 2
D4: KRYCÍ LIST SOUPISU PRACÍ | M4: v --- níže se nacházejí doplnkové a pomocné údaje k sestavám --- v | AT4: False
D6: Zakázka:
E7: ='Rekapitulace zakázky'!K6 -> Údržba, opravy a odstraňování závad u SSZT HK 2020 - 2021
D8: Objekt:
E9: PS_001 - Specifikace dílčích smluv s ceníkem
D10: Soupis:
E11: PS_02 - Zemní práce
D13: KSO: | I13: CC-CZ:
D14: Místo: | F14: obvod SSZT HK | I14: Datum: | J14: ='Rekapitulace zakázky'!AN8 -> 11. 12. 2019
D16: Zadavatel: | I16: IČ: | J16: =IF('Rekapitulace zakázky'!AN10="","",'Rekapitulace zakázky'!AN10)
E17: =IF('Rekapitulace zakázky'!E11="","",'Rekapitulace zakázky'!E11) | I17: DIČ: | J17: =IF('Rekapitulace zakázky'!AN11="","",'Rekapitulace zakázky'!AN11)
D19: Uchazeč: | I19: IČ: | J19: ='Rekapitulace zakázky'!AN13 -> Vyplň údaj
E20: ='Rekapitulace zakázky'!E14 -> Vyplň údaj | I20: DIČ: | J20: ='Rekapitulace zakázky'!AN14 -> Vyplň údaj
D22: Projektant: | I22: IČ: | J22: =IF('Rekapitulace zakázky'!AN16="","",'Rekapitulace zakázky'!AN16)
E23: =IF('Rekapitulace zakázky'!E17="","",'Rekapitulace zakázky'!E17) | I23: DIČ: | J23: =IF('Rekapitulace zakázky'!AN17="","",'Rekapitulace zakázky'!AN17)
D25: Zpracovatel: | I25: IČ:
E26: Lukáš Jiroudek | I26: DIČ:
D28: Poznámka:
E29: Soupis prací je sestaven s využitím Cenové soustavy ÚOŽI a ÚRS. Položky, které pochází z cenové soustavy ÚOŽI, jsou ve sloupci 'Cenová soustava' označeny popisem 'ÚOŽI' a položky, které pochází z cenové soustavy ÚRS, jsou ve sloupci 'Cenová soustava' označeny popisem'CS ÚRS'a úrovní příslušného kalendářního pololetí. škeré další informace vymezující popis a podmínky použití těchto položek z Cenových soustav, které nejsou uvedeny přímo v soupisu prací, jsou neomezeně dálkově k dispozici na https://www.sfdi.cz/pravidla-metodiky-a-ceniky/cenove-databaze/ a na www.cs-urs.cz, sekce Cenové a technické podmínky.
D32: Cena bez DPH | J32: =ROUND(J96, 2) -> 0
F34: Základ daně | I34: Sazba daně | J34: Výše daně
D35: DPH | E35: základní | F35: =ROUND((SUM(BE96:BE241)), 2) -> 0 | I35: 0.21 | J35: =ROUND(((SUM(BE96:BE241))*I35), 2) -> 0
E36: snížená | F36: =ROUND((SUM(BF96:BF241)), 2) -> 0 | I36: 0.15 | J36: =ROUND(((SUM(BF96:BF241))*I36), 2) -> 0
E37: zákl. přenesená | F37: =ROUND((SUM(BG96:BG241)), 2) -> 0 | I37: 0.21 | J37: =0 -> 0
E38: sníž. přenesená | F38: =ROUND((SUM(BH96:BH241)), 2) -> 0 | I38: 0.15 | J38: =0 -> 0
E39: nulová | F39: =ROUND((SUM(BI96:BI241)), 2) -> 0 | I39: 0 | J39: =0 -> 0
D41: Cena s DPH | G41: v | H41: CZK | J41: =SUM(J32:J39) -> 0
C47: REKAPITULACE ČLENĚNÍ SOUPISU PRACÍ
C49: Zakázka:
E50: =E7 -> Údržba, opravy a odstraňování závad u SSZT HK 2020 - 2021
C51: Objekt:
E52: PS_001 - Specifikace dílčích smluv s ceníkem
C53: Soupis:
E54: =E11 -> PS_02 - Zemní práce
C56: Místo: | F56: =F14 -> obvod SSZT HK | I56: Datum: | J56: =IF(J14="","",J14) -> 11. 12. 2019
C58: Zadavatel: | F58: =E17 | I58: Projektant: | J58: =E23
C59: Uchazeč: | F59: =IF(E20="","",E20) -> Vyplň údaj | I59: Zpracovatel: | J59: =E26 -> Lukáš Jiroudek
C61: Kód dílu - Popis | J61: Cena celkem [CZK]
C63: Náklady zakázky celkem | J63: =J96 -> 0 | AU63: -1
D64: HSV - Práce a dodávky HSV | J64: =J97 -> 0
D65: 1 - Zemní práce | J65: =J98 -> 0
D66: PSV - Práce a dodávky PSV | J66: =J112 -> 0
D67: 789 - Povrchové úpravy ocelových konstrukcí a technologických zařízení | J67: =J113 -> 0
D68: 2 - Zakládání | J68: =J116 -> 0
D69: 5 - Komunikace pozemní | J69: =J128 -> 0
D70: 9 - Ostatní konstrukce a práce, bourání | J70: =J132 -> 0
D71: M - Práce a dodávky M | J71: =J137 -> 0
D72: 46-M - Zemní práce při extr.mont.pracích | J72: =J140 -> 0
D73: HZS - Hodinové zúčtovací sazby | J73: =J204 -> 0
D74: OST - Ostatní | J74: =J223 -> 0
C81: SOUPIS PRACÍ
C83: Zakázka:
E84: =E7 -> Údržba, opravy a odstraňování závad u SSZT HK 2020 - 2021
C85: Objekt:
E86: PS_001 - Specifikace dílčích smluv s ceníkem
C87: Soupis:
E88: =E11 -> PS_02 - Zemní práce
C90: Místo: | F90: =F14 -> obvod SSZT HK | I90: Datum: | J90: =IF(J14="","",J14) -> 11. 12. 2019
C92: Zadavatel: | F92: =E17 | I92: Projektant: | J92: =E23
C93: Uchazeč: | F93: =IF(E20="","",E20) -> Vyplň údaj | I93: Zpracovatel: | J93: =E26 -> Lukáš Jiroudek
C95: PČ | D95: Typ | E95: Kód | F95: Popis | G95: MJ | H95: Množství | I95: J.cena [CZK] | J95: Cena celkem [CZK] | K95: Cenová soustava | N95: DPH | O95: J. Nh [h] | P95: Nh celkem [h] | Q95: J. hmotnost [t] | R95: Hmotnost celkem [t] | S95: J. suť [t] | T95: Suť Celkem [t]
C96: Náklady soupisu celkem | J96: =BK96 -> 0 | P96: =P97+P112+P137+P204+P223 -> 0 | R96: =R97+R112+R137+R204+R223 -> 254.90735 | T96: =T97+T112+T137+T204+T223 -> 215.52 | AT96: D | AU96: -1 | BK96: =BK97+BK112+BK137+BK204+BK223 -> 0
D97: D | E97: HSV | F97: Práce a dodávky HSV | J97: =BK97 -> 0 | P97: =P98 -> 0 | R97: =R98 -> 1.33805 | T97: =T98 -> 0 | AR97: 1 | AT97: D | AU97: 0 | AY97: ROZPOCET | BK97: =BK98 -> 0
D98: D | E98: 1 | F98: Zemní práce | J98: =BK98 -> 0 | P98: =SUM(P99:P111) -> 0 | R98: =SUM(R99:R111) -> 1.33805 | T98: =SUM(T99:T111) -> 0 | AR98: 1 | AT98: D | AU98: 1 | AY98: ROZPOCET | BK98: =SUM(BK99:BK111) -> 0
C99: 1 | D99: K | E99: 132302411 | F99: Hloubení rýh pod kolejí šířky do 600 mm ručně zapažených i nezapažených hloubky do 1,5 m objemu do 2 m3 v hornině tř. 4 | G99: m3 | H99: 5.25 | J99: =ROUND(I99*H99,2) -> 0 | K99: CS ÚRS 2019 02 | N99: základní | P99: =O99*H99 -> 0 | Q99: 0 | R99: =Q99*H99 -> 0 | S99: 0 | T99: =S99*H99 -> 0 | AR99: 4 | AT99: K | AU99: 2 | AY99: ROZPOCET | BE99: =IF(N99="základní",J99,0) -> 0 | BF99: =IF(N99="snížená",J99,0) -> 0 | BG99: =IF(N99="zákl. přenesená",J99,0) -> 0 | BH99: =IF(N99="sníž. přenesená",J99,0) -> 0 | BI99: =IF(N99="nulová",J99,0) -> 0 | BJ99: 1 | BK99: =ROUND(I99*H99,2) -> 0 | BL99: 4 | BM99: -1344998350
D100: PSC | F100: Poznámka k souboru cen:_x000D_ 1. V cenách jsou započteny i náklady na urovnání dna do předepsaného profilu a spádu, s přehozením výkopku na přilehlém terénu na vzdálenost do 3 m od podélné osy rýhy nebo s naložením na dopravní prostředek._x000D_ 2. Ceny jsou určeny pro rýhy: šířky přes 200 do 300 mm a hloubky do 750 mm, šířky přes 300 do 400 mm a hloubky do 1 000 mm, šířky přes 400 do 500 mm a hloubky do 1 250 mm, šířky přes 500 do 600 mm a hloubky do 1 500 mm._x000D_ 3. Ceny jsou určeny pro rýhy napříč nerozebranou kolejí a pod mostním provizoriem v pruhu šířky do 6 m po obou stranách od osy koleje._x000D_ 4. V cenách jsou započteny i náklady na:_x000D_ a) odstranění kolejového lože v objemu nutném pro výkop rýhy pod nerozebranou kolejí, objem odstraňovaného kolejového lože se započítává do objemu hloubení rýh;_x000D_ b) uložení materiálu kolejového lože odděleně od výkopku._x000D_ 5. V cenách nejsou započteny náklady na mostní provizoria._x000D_ 6. Ztížení vykopávky v blízkosti podzemního vedení procházejícího rýhou nebo uloženého ve stěně výkopu se oceňuje cenou 130 00-1101 Ztížení hloubené vykopávky části A 01 tohoto katalogu._x000D_ 7. Pažení se oceňuje příslušnými cenami souborů cen této části nebo části A 01 tohoto katalogu._x000D_ | AT100: PSC | AU100: 2
D101: VV | F101: (2*0,35*1,5)*5 | H101: 5.25 | AT101: VV | AU101: 2 | AV101: 2 | AW101: True | AX101: 0 | AY101: ROZPOCET
D102: VV | F102: Součet | H102: 5.25 | AT102: VV | AU102: 2 | AV102: 4 | AW102: True | AX102: 1 | AY102: ROZPOCET
C103: 2 | D103: K | E103: 141720015 | F103: Neřízený zemní protlak v hornině tř. 3 a 4 vnějšího průměru protlaku přes 90 do 110 mm | G103: m | H103: 100 | J103: =ROUND(I103*H103,2) -> 0 | K103: CS ÚRS 2019 02 | N103: základní | P103: =O103*H103 -> 0 | Q103: 0 | R103: =Q103*H103 -> 0 | S103: 0 | T103: =S103*H103 -> 0 | AR103: 4 | AT103: K | AU103: 2 | AY103: ROZPOCET | BE103: =IF(N103="základní",J103,0) -> 0 | BF103: =IF(N103="snížená",J103,0) -> 0 | BG103: =IF(N103="zákl. přenesená",J103,0) -> 0 | BH103: =IF(N103="sníž. přenesená",J103,0) -> 0 | BI103: =IF(N103="nulová",J103,0) -> 0 | BJ103: 1 | BK103: =ROUND(I103*H103,2) -> 0 | BL103: 4 | BM103: -1892661118
D104: PSC | F104: Poznámka k souboru cen:_x000D_ 1. V cenách nejsou započteny náklady na:_x000D_ a) zemní práce, nutné pro provedení protlaku (startovací a cílové jámy),_x000D_ b) dodání chráničky a potrubí; tyto materiály se oceňují ve specifikaci,_x000D_ c) čerpání vody,_x000D_ d) montáž vedení a jeho náležitosti, slouží-li protlačená trouba jako ochranné potrubí,_x000D_ e) dodávku potrubí, určeného k protlačení; toto potrubí se oceňuje ve specifikaci, ztratné lze stanovit ve výši 3 %,_x000D_ f) překládání a zajišťování inženýrských sítí, procházejících montážními a startovacími jámami._x000D_ | AT104: PSC | AU104: 2
C105: 3 | D105: M | E105: 28610002 | F105: trubka tlaková hrdlovaná vodovodní PVC dl 6m DN 100 | G105: m | H105: 100 | J105: =ROUND(I105*H105,2) -> 0 | K105: CS ÚRS 2019 02 | N105: základní | P105: =O105*H105 -> 0 | Q105: 0.0021 | R105: =Q105*H105 -> 0.21 | S105: 0 | T105: =S105*H105 -> 0 | AR105: 256 | AT105: M | AU105: 2 | AY105: ROZPOCET | BE105: =IF(N105="základní",J105,0) -> 0 | BF105: =IF(N105="snížená",J105,0) -> 0 | BG105: =IF(N105="zákl. přenesená",J105,0) -> 0 | BH105: =IF(N105="sníž. přenesená",J105,0) -> 0 | BI105: =IF(N105="nulová",J105,0) -> 0 | BJ105: 1 | BK105: =ROUND(I105*H105,2) -> 0 | BL105: 64 | BM105: -997739395
C106: 4 | D106: K | E106: 460070314 | F106: Hloubení nezapažených jam ručně pro ostatní konstrukce s přemístěním výkopku do vzdálenosti 3 m od okraje jámy nebo naložením na dopravní prostředek, včetně zásypu, zhutnění a urovnání povrchu pro základy světelných návěstidel stožárových se 4 a více světly, v hornině třídy 4 | G106: kus | H106: 2 | J106: =ROUND(I106*H106,2) -> 0 | K106: CS ÚRS 2019 02 | N106: základní | P106: =O106*H106 -> 0 | Q106: 0 | R106: =Q106*H106 -> 0 | S106: 0 | T106: =S106*H106 -> 0 | AR106: 4 | AT106: K | AU106: 2 | AY106: ROZPOCET | BE106: =IF(N106="základní",J106,0) -> 0 | BF106: =IF(N106="snížená",J106,0) -> 0 | BG106: =IF(N106="zákl. přenesená",J106,0) -> 0 | BH106: =IF(N106="sníž. přenesená",J106,0) -> 0 | BI106: =IF(N106="nulová",J106,0) -> 0 | BJ106: 1 | BK106: =ROUND(I106*H106,2) -> 0 | BL106: 4 | BM106: 305175232
D107: PSC | F107: Poznámka k souboru cen:_x000D_ 1. Ceny hloubení jam ručně v hornině třídy 6 a 7 jsou stanoveny za použití pneumatického kladiva._x000D_ | AT107: PSC | AU107: 2
C108: 5 | D108: M | E108: 31111011 | F108: matice přesná šestihranná Pz DIN 934-8 M27 | G108: 100 kus | H108: 5 | J108: =ROUND(I108*H108,2) -> 0 | K108: CS ÚRS 2019 02 | N108: základní | P108: =O108*H108 -> 0 | Q108: 0.0165 | R108: =Q108*H108 -> 0.0825 | S108: 0 | T108: =S108*H108 -> 0 | AR108: 256 | AT108: M | AU108: 2 | AY108: ROZPOCET | BE108: =IF(N108="základní",J108,0) -> 0 | BF108: =IF(N108="snížená",J108,0) -> 0 | BG108: =IF(N108="zákl. přenesená",J108,0) -> 0 | BH108: =IF(N108="sníž. přenesená",J108,0) -> 0 | BI108: =IF(N108="nulová",J108,0) -> 0 | BJ108: 1 | BK108: =ROUND(I108*H108,2) -> 0 | BL108: 64 | BM108: -2124534948
C109: 6 | D109: M | E109: 31120011 | F109: podložka DIN 125-A ZB D 27mm | G109: 100 kus | H109: 5 | J109: =ROUND(I109*H109,2) -> 0 | K109: CS ÚRS 2019 02 | N109: základní | P109: =O109*H109 -> 0 | Q109: 0.00423 | R109: =Q109*H109 -> 0.02115 | S109: 0 | T109: =S109*H109 -> 0 | AR109: 256 | AT109: M | AU109: 2 | AY109: ROZPOCET | BE109: =IF(N109="základní",J109,0) -> 0 | BF109: =IF(N109="snížená",J109,0) -> 0 | BG109: =IF(N109="zákl. přenesená",J109,0) -> 0 | BH109: =IF(N109="sníž. přenesená",J109,0) -> 0 | BI109: =IF(N109="nulová",J109,0) -> 0 | BJ109: 1 | BK109: =ROUND(I109*H109,2) -> 0 | BL109: 64 | BM109: -524570923
C110: 7 | D110: M | E110: 59071001 | F110: silikon pro okna a spáry transparentní | G110: litr | H110: 20 | J110: =ROUND(I110*H110,2) -> 0 | K110: CS ÚRS 2019 02 | N110: základní | P110: =O110*H110 -> 0 | Q110: 0.00122 | R110: =Q110*H110 -> 0.0244 | S110: 0 | T110: =S110*H110 -> 0 | AR110: 256 | AT110: M | AU110: 2 | AY110: ROZPOCET | BE110: =IF(N110="základní",J110,0) -> 0 | BF110: =IF(N110="snížená",J110,0) -> 0 | BG110: =IF(N110="zákl. přenesená",J110,0) -> 0 | BH110: =IF(N110="sníž. přenesená",J110,0) -> 0 | BI110: =IF(N110="nulová",J110,0) -> 0 | BJ110: 1 | BK110: =ROUND(I110*H110,2) -> 0 | BL110: 64 | BM110: -1068343202
C111: 8 | D111: M | E111: 58591560 | F111: směs suchá pro jemný cementový potěr C20 kamenivo frakce 0/4mm | G111: t | H111: 1 | J111: =ROUND(I111*H111,2) -> 0 | K111: CS ÚRS 2019 02 | N111: základní | P111: =O111*H111 -> 0 | Q111: 1 | R111: =Q111*H111 -> 1 | S111: 0 | T111: =S111*H111 -> 0 | AR111: 256 | AT111: M | AU111: 2 | AY111: ROZPOCET | BE111: =IF(N111="základní",J111,0) -> 0 | BF111: =IF(N111="snížená",J111,0) -> 0 | BG111: =IF(N111="zákl. přenesená",J111,0) -> 0 | BH111: =IF(N111="sníž. přenesená",J111,0) -> 0 | BI111: =IF(N111="nulová",J111,0) -> 0 | BJ111: 1 | BK111: =ROUND(I111*H111,2) -> 0 | BL111: 64 | BM111: 1416564148
D112: D | E112: PSV | F112: Práce a dodávky PSV | J112: =BK112 -> 0 | P112: =P113+P116+P128+P132 -> 0 | R112: =R113+R116+R128+R132 -> 13.995177 | T112: =T113+T116+T128+T132 -> 34.56 | AR112: 2 | AT112: D | AU112: 0 | AY112: ROZPOCET | BK112: =BK113+BK116+BK128+BK132 -> 0
D113: D | E113: 789 | F113: Povrchové úpravy ocelových konstrukcí a technologických zařízení | J113: =BK113 -> 0 | P113: =SUM(P114:P115) -> 0 | R113: =SUM(R114:R115) -> 2 | T113: =SUM(T114:T115) -> 0 | AR113: 2 | AT113: D | AU113: 1 | AY113: ROZPOCET | BK113: =SUM(BK114:BK115) -> 0
C114: 9 | D114: K | E114: 789212131 | F114: Provedení otryskání povrchů zařízení suché abrazivní tryskání, s povrchem členitým stupeň zarezavění C, stupeň přípravy Sa 3 | G114: m2 | H114: 30 | J114: =ROUND(I114*H114,2) -> 0 | K114: CS ÚRS 2019 02 | N114: základní | P114: =O114*H114 -> 0 | Q114: 0 | R114: =Q114*H114 -> 0 | S114: 0 | T114: =S114*H114 -> 0 | AR114: 16 | AT114: K | AU114: 2 | AY114: ROZPOCET | BE114: =IF(N114="základní",J114,0) -> 0 | BF114: =IF(N114="snížená",J114,0) -> 0 | BG114: =IF(N114="zákl. přenesená",J114,0) -> 0 | BH114: =IF(N114="sníž. přenesená",J114,0) -> 0 | BI114: =IF(N114="nulová",J114,0) -> 0 | BJ114: 1 | BK114: =ROUND(I114*H114,2) -> 0 | BL114: 16 | BM114: -1833591241
C115: 10 | D115: M | E115: 42118101 | F115: materiál tryskací (ostrohranný tvrdý písek) | G115: t | H115: 2 | J115: =ROUND(I115*H115,2) -> 0 | K115: CS ÚRS 2019 02 | N115: základní | P115: =O115*H115 -> 0 | Q115: 1 | R115: =Q115*H115 -> 2 | S115: 0 | T115: =S115*H115 -> 0 | AR115: 128 | AT115: M | AU115: 2 | AY115: ROZPOCET | BE115: =IF(N115="základní",J115,0) -> 0 | BF115: =IF(N115="snížená",J115,0) -> 0 | BG115: =IF(N115="zákl. přenesená",J115,0) -> 0 | BH115: =IF(N115="sníž. přenesená",J115,0) -> 0 | BI115: =IF(N115="nulová",J115,0) -> 0 | BJ115: 1 | BK115: =ROUND(I115*H115,2) -> 0 | BL115: 128 | BM115: 1471017384
D116: D | E116: 2 | F116: Zakládání | J116: =BK116 -> 0 | P116: =SUM(P117:P127) -> 0 | R116: =SUM(R117:R127) -> 11.995177 | T116: =SUM(T117:T127) -> 0 | AR116: 1 | AT116: D | AU116: 1 | AY116: ROZPOCET | BK116: =SUM(BK117:BK127) -> 0
C117: 11 | D117: K | E117: 275313811 | F117: Základy z betonu prostého patky a bloky z betonu kamenem neprokládaného tř. C 25/30 | G117: m3 | H117: 2.4 | J117: =ROUND(I117*H117,2) -> 0 | K117: CS ÚRS 2019 02 | N117: základní | P117: =O117*H117 -> 0 | Q117: 2.4532922 | R117: =Q117*H117 -> 5.8879013 | S117: 0 | T117: =S117*H117 -> 0 | AR117: 4 | AT117: K | AU117: 2 | AY117: ROZPOCET | BE117: =IF(N117="základní",J117,0) -> 0 | BF117: =IF(N117="snížená",J117,0) -> 0 | BG117: =IF(N117="zákl. přenesená",J117,0) -> 0 | BH117: =IF(N117="sníž. přenesená",J117,0) -> 0 | BI117: =IF(N117="nulová",J117,0) -> 0 | BJ117: 1 | BK117: =ROUND(I117*H117,2) -> 0 | BL117: 4 | BM117: -2008398001
D118: PSC | F118: Poznámka k souboru cen:_x000D_ 1. V ceně příplatku -5911 jsou započteny náklady na technologické opatření a na ztíženou betonáž pod hladinou pažící bentonitové suspenze a na průběžné odčerpání suspenze s přepouštěním na určené místo do 20 m, popř. do vany nebo do kalové cisterny k odvozu. Odvoz se oceňuje cenami katalogu 800-2 Zvláštní zakládání objektů._x000D_ 2. Hloubení s použitím bentonitové suspenze se oceňuje katalogem 800-1 Zemní práce. Bednění se neoceňuje._x000D_ | AT118: PSC | AU118: 2
D119: VV | F119: základy pro 2 stojany MZ | AT119: VV | AU119: 2 | AV119: 1 | AW119: True | AX119: 0 | AY119: ROZPOCET
D120: VV | F120: (0,8*1*1,5)*2 | H120: 2.4 | AT120: VV | AU120: 2 | AV120: 2 | AW120: True | AX120: 0 | AY120: ROZPOCET
D121: VV | F121: Součet | H121: 2.4 | AT121: VV | AU121: 2 | AV121: 4 | AW121: True | AX121: 1 | AY121: ROZPOCET
C122: 12 | D122: K | E122: 275361221 | F122: Výztuž základů patek z betonářské oceli 10 216 (E) | G122: t | H122: 0.09 | J122: =ROUND(I122*H122,2) -> 0 | K122: CS ÚRS 2019 02 | N122: základní | P122: =O122*H122 -> 0 | Q122: 1.0591703 | R122: =Q122*H122 -> 0.095325323 | S122: 0 | T122: =S122*H122 -> 0 | AR122: 4 | AT122: K | AU122: 2 | AY122: ROZPOCET | BE122: =IF(N122="základní",J122,0) -> 0 | BF122: =IF(N122="snížená",J122,0) -> 0 | BG122: =IF(N122="zákl. přenesená",J122,0) -> 0 | BH122: =IF(N122="sníž. přenesená",J122,0) -> 0 | BI122: =IF(N122="nulová",J122,0) -> 0 | BJ122: 1 | BK122: =ROUND(I122*H122,2) -> 0 | BL122: 4 | BM122: -122726514
D123: PSC | F123: Poznámka k souboru cen:_x000D_ 1. Ceny platí pro desky rovné, s náběhy, hřibové nebo upnuté do žeber včetně výztuže těchto žeber._x000D_ | AT123: PSC | AU123: 2
C124: 13 | D124: K | E124: 279113134 | F124: Základové zdi z tvárnic ztraceného bednění včetně výplně z betonu bez zvláštních nároků na vliv prostředí třídy C 16/20, tloušťky zdiva přes 250 do 300 mm | G124: m2 | H124: 6 | J124: =ROUND(I124*H124,2) -> 0 | K124: CS ÚRS 2019 02 | N124: základní | P124: =O124*H124 -> 0 | Q124: 0.67488604 | R124: =Q124*H124 -> 4.0493162 | S124: 0 | T124: =S124*H124 -> 0 | AR124: 4 | AT124: K | AU124: 2 | AY124: ROZPOCET | BE124: =IF(N124="základní",J124,0) -> 0 | BF124: =IF(N124="snížená",J124,0) -> 0 | BG124: =IF(N124="zákl. přenesená",J124,0) -> 0 | BH124: =IF(N124="sníž. přenesená",J124,0) -> 0 | BI124: =IF(N124="nulová",J124,0) -> 0 | BJ124: 1 | BK124: =ROUND(I124*H124,2) -> 0 | BL124: 4 | BM124: -732298703
D125: PSC | F125: Poznámka k souboru cen:_x000D_ 1. V cenách jsou započteny i náklady na dodání a uložení betonu._x000D_ 2. V cenách nejsou započteny náklady na dodání a uložení betonářské výztuže; tyto se oceňují cenami souboru cen 279 36- . . Výztuž základových zdí nosných._x000D_ 3. Množství jednotek se určuje v m2 plochy zdiva._x000D_ | AT125: PSC | AU125: 2
C126: 14 | D126: K | E126: 279311951 | F126: Základové zdi z betonu prostého bez zvláštních nároků na vliv prostředí tř. C 20/25 | G126: m3 | H126: 0.8 | J126: =ROUND(I126*H126,2) -> 0 | K126: CS ÚRS 2019 02 | N126: základní | P126: =O126*H126 -> 0 | Q126: 2.4532922 | R126: =Q126*H126 -> 1.9626338 | S126: 0 | T126: =S126*H126 -> 0 | AR126: 4 | AT126: K | AU126: 2 | AY126: ROZPOCET | BE126: =IF(N126="základní",J126,0) -> 0 | BF126: =IF(N126="snížená",J126,0) -> 0 | BG126: =IF(N126="zákl. přenesená",J126,0) -> 0 | BH126: =IF(N126="sníž. přenesená",J126,0) -> 0 | BI126: =IF(N126="nulová",J126,0) -> 0 | BJ126: 1 | BK126: =ROUND(I126*H126,2) -> 0 | BL126: 4 | BM126: 164970175
D127: PSC | F127: Poznámka k souboru cen:_x000D_ 1. V ceně příplatku -5911 jsou započteny náklady na technologické opatření a na ztíženou betonáž pod hladinou pažící bentonitové suspenze a na průběžné odčerpávání suspenze s přepouštěním na určité místo do 20 m, popř. do vany nebo do kalové cisterny k odvozu. Odvoz se oceňuje cenami katalogu 800-2 Zvláštní zakládání objektů._x000D_ 2. Hloubení s použitím bentonitové suspenze se oceňuje katalogem 800-1 Zemní práce. Bednění se neoceňuje._x000D_ 3. V cenách nejsou započteny náklady na bednění; tyto se oceňují cenami souboru cen 279 35-11 Bednění základových zdí._x000D_ | AT127: PSC | AU127: 2
D128: D | E128: 5 | F128: Komunikace pozemní | J128: =BK128 -> 0 | P128: =SUM(P129:P131) -> 0 | R128: =SUM(R129:R131) -> 0 | T128: =SUM(T129:T131) -> 0 | AR128: 1 | AT128: D | AU128: 1 | AY128: ROZPOCET | BK128: =SUM(BK129:BK131) -> 0
C129: 15 | D129: K | E129: 548930011 | F129: Řezání kolejnic všech soustav pilou | G129: kus | H129: 16 | J129: =ROUND(I129*H129,2) -> 0 | K129: CS ÚRS 2019 02 | N129: základní | P129: =O129*H129 -> 0 | Q129: 0 | R129: =Q129*H129 -> 0 | S129: 0 | T129: =S129*H129 -> 0 | AR129: 4 | AT129: K | AU129: 2 | AY129: ROZPOCET | BE129: =IF(N129="základní",J129,0) -> 0 | BF129: =IF(N129="snížená",J129,0) -> 0 | BG129: =IF(N129="zákl. přenesená",J129,0) -> 0 | BH129: =IF(N129="sníž. přenesená",J129,0) -> 0 | BI129: =IF(N129="nulová",J129,0) -> 0 | BJ129: 1 | BK129: =ROUND(I129*H129,2) -> 0 | BL129: 4 | BM129: 516536127
D130: PSC | F130: Poznámka k souboru cen:_x000D_ 1. Cena je určena pro jeden řez kolejnice._x000D_ | AT130: PSC | AU130: 2
D131: P | F131: Poznámka k položce:_x000D_ dělení "U" profilu stojanu mechanických závor | AT131: P | AU131: 2
D132: D | E132: 9 | F132: Ostatní konstrukce a práce, bourání | J132: =BK132 -> 0 | P132: =SUM(P133:P136) -> 0 | R132: =SUM(R133:R136) -> 0 | T132: =SUM(T133:T136) -> 34.56 | AR132: 1 | AT132: D | AU132: 1 | AY132: ROZPOCET | BK132: =SUM(BK133:BK136) -> 0
...

Sheet PS_100 - VON
AT2: {67e75f01-bbf9-4a30-aa6a-d7634670c221}
AT3: 2
D4: KRYCÍ LIST SOUPISU PRACÍ | M4: v --- níže se nacházejí doplnkové a pomocné údaje k sestavám --- v | AT4: False
D6: Zakázka:
E7: ='Rekapitulace zakázky'!K6 -> Údržba, opravy a odstraňování závad u SSZT HK 2020 - 2021
D8: Objekt:
E9: PS_001 - Specifikace dílčích smluv s ceníkem
D10: Soupis:
E11: PS_100 - VON
D13: KSO: | I13: CC-CZ:
D14: Místo: | F14: obvod SSZT HK | I14: Datum: | J14: ='Rekapitulace zakázky'!AN8 -> 11. 12. 2019
D16: Zadavatel: | I16: IČ: | J16: =IF('Rekapitulace zakázky'!AN10="","",'Rekapitulace zakázky'!AN10)
E17: =IF('Rekapitulace zakázky'!E11="","",'Rekapitulace zakázky'!E11) | I17: DIČ: | J17: =IF('Rekapitulace zakázky'!AN11="","",'Rekapitulace zakázky'!AN11)
D19: Uchazeč: | I19: IČ: | J19: ='Rekapitulace zakázky'!AN13 -> Vyplň údaj
E20: ='Rekapitulace zakázky'!E14 -> Vyplň údaj | I20: DIČ: | J20: ='Rekapitulace zakázky'!AN14 -> Vyplň údaj
D22: Projektant: | I22: IČ: | J22: =IF('Rekapitulace zakázky'!AN16="","",'Rekapitulace zakázky'!AN16)
E23: =IF('Rekapitulace zakázky'!E17="","",'Rekapitulace zakázky'!E17) | I23: DIČ: | J23: =IF('Rekapitulace zakázky'!AN17="","",'Rekapitulace zakázky'!AN17)
D25: Zpracovatel: | I25: IČ:
E26: Lukáš Jiroudek | I26: DIČ:
D28: Poznámka:
E29: Soupis prací je sestaven s využitím Cenové soustavy ÚOŽI a ÚRS. Položky, které pochází z cenové soustavy ÚOŽI, jsou ve sloupci 'Cenová soustava' označeny popisem 'ÚOŽI' a položky, které pochází z cenové soustavy ÚRS, jsou ve sloupci 'Cenová soustava' označeny popisem'CS ÚRS'a úrovní příslušného kalendářního pololetí. škeré další informace vymezující popis a podmínky použití těchto položek z Cenových soustav, které nejsou uvedeny přímo v soupisu prací, jsou neomezeně dálkově k dispozici na https://www.sfdi.cz/pravidla-metodiky-a-ceniky/cenove-databaze/ a na www.cs-urs.cz, sekce Cenové a technické podmínky.
D32: Cena bez DPH | J32: =ROUND(J88, 2) -> 0
F34: Základ daně | I34: Sazba daně | J34: Výše daně
D35: DPH | E35: základní | F35: =ROUND((SUM(BE88:BE255)), 2) -> 0 | I35: 0.21 | J35: =ROUND(((SUM(BE88:BE255))*I35), 2) -> 0
E36: snížená | F36: =ROUND((SUM(BF88:BF255)), 2) -> 0 | I36: 0.15 | J36: =ROUND(((SUM(BF88:BF255))*I36), 2) -> 0
E37: zákl. přenesená | F37: =ROUND((SUM(BG88:BG255)), 2) -> 0 | I37: 0.21 | J37: =0 -> 0
E38: sníž. přenesená | F38: =ROUND((SUM(BH88:BH255)), 2) -> 0 | I38: 0.15 | J38: =0 -> 0
E39: nulová | F39: =ROUND((SUM(BI88:BI255)), 2) -> 0 | I39: 0 | J39: =0 -> 0
D41: Cena s DPH | G41: v | H41: CZK | J41: =SUM(J32:J39) -> 0
C47: REKAPITULACE ČLENĚNÍ SOUPISU PRACÍ
C49: Zakázka:
E50: =E7 -> Údržba, opravy a odstraňování závad u SSZT HK 2020 - 2021
C51: Objekt:
E52: PS_001 - Specifikace dílčích smluv s ceníkem
C53: Soupis:
E54: =E11 -> PS_100 - VON
C56: Místo: | F56: =F14 -> obvod SSZT HK | I56: Datum: | J56: =IF(J14="","",J14) -> 11. 12. 2019
C58: Zadavatel: | F58: =E17 | I58: Projektant: | J58: =E23
C59: Uchazeč: | F59: =IF(E20="","",E20) -> Vyplň údaj | I59: Zpracovatel: | J59: =E26 -> Lukáš Jiroudek
C61: Kód dílu - Popis | J61: Cena celkem [CZK]
C63: Náklady zakázky celkem | J63: =J88 -> 0 | AU63: -1
D64: REV - Revize a zkoušky | J64: =J89 -> 0
D65: OST - Ostatní | J65: =J115 -> 0
D66: VRN - Doprava, přeprava, poplatky | J66: =J129 -> 0
C73: SOUPIS PRACÍ
C75: Zakázka:
E76: =E7 -> Údržba, opravy a odstraňování závad u SSZT HK 2020 - 2021
C77: Objekt:
E78: PS_001 - Specifikace dílčích smluv s ceníkem
C79: Soupis:
E80: =E11 -> PS_100 - VON
C82: Místo: | F82: =F14 -> obvod SSZT HK | I82: Datum: | J82: =IF(J14="","",J14) -> 11. 12. 2019
C84: Zadavatel: | F84: =E17 | I84: Projektant: | J84: =E23
C85: Uchazeč: | F85: =IF(E20="","",E20) -> Vyplň údaj | I85: Zpracovatel: | J85: =E26 -> Lukáš Jiroudek
C87: PČ | D87: Typ | E87: Kód | F87: Popis | G87: MJ | H87: Množství | I87: J.cena [CZK] | J87: Cena celkem [CZK] | K87: Cenová soustava | N87: DPH | O87: J. Nh [h] | P87: Nh celkem [h] | Q87: J. hmotnost [t] | R87: Hmotnost celkem [t] | S87: J. suť [t] | T87: Suť Celkem [t]
C88: Náklady soupisu celkem | J88: =BK88 -> 0 | P88: =P89+P115+P129 -> 0 | R88: =R89+R115+R129 -> 0 | T88: =T89+T115+T129 -> 0 | AT88: D | AU88: -1 | BK88: =BK89+BK115+BK129 -> 0
D89: D | E89: REV | F89: Revize a zkoušky | J89: =BK89 -> 0 | P89: =SUM(P90:P114) -> 0 | R89: =SUM(R90:R114) -> 0 | T89: =SUM(T90:T114) -> 0 | AR89: 1 | AT89: D | AU89: 0 | AY89: ROZPOCET | BK89: =SUM(BK90:BK114) -> 0
C90: 1 | D90: K | E90: 7598095390 | F90: Příprava ke komplexním zkouškám za 1 jízdní cestu do 30 výhybek - oživení, seřízení a nastavení zařízení s ohledem na postup jeho uvádění do provozu | G90: kus | H90: 11 | J90: =ROUND(I90*H90,2) -> 0 | K90: Sborník UOŽI 01 2019 | N90: základní | P90: =O90*H90 -> 0 | Q90: 0 | R90: =Q90*H90 -> 0 | S90: 0 | T90: =S90*H90 -> 0 | AR90: 512 | AT90: K | AU90: 1 | AY90: ROZPOCET | BE90: =IF(N90="základní",J90,0) -> 0 | BF90: =IF(N90="snížená",J90,0) -> 0 | BG90: =IF(N90="zákl. přenesená",J90,0) -> 0 | BH90: =IF(N90="sníž. přenesená",J90,0) -> 0 | BI90: =IF(N90="nulová",J90,0) -> 0 | BJ90: 1 | BK90: =ROUND(I90*H90,2) -> 0 | BL90: 512 | BM90: -349121716
C91: 2 | D91: K | E91: 7498256012 | F91: Zkoušky a prohlídky elektrických přístrojů - ostatní měření impedance nulové smyčky okruhu vedení třífázového - včetně vystavení protokolu | G91: kus | H91: 1 | J91: =ROUND(I91*H91,2) -> 0 | K91: Sborník UOŽI 01 2019 | N91: základní | P91: =O91*H91 -> 0 | Q91: 0 | R91: =Q91*H91 -> 0 | S91: 0 | T91: =S91*H91 -> 0 | AR91: 1 | AT91: K | AU91: 1 | AY91: ROZPOCET | BE91: =IF(N91="základní",J91,0) -> 0 | BF91: =IF(N91="snížená",J91,0) -> 0 | BG91: =IF(N91="zákl. přenesená",J91,0) -> 0 | BH91: =IF(N91="sníž. přenesená",J91,0) -> 0 | BI91: =IF(N91="nulová",J91,0) -> 0 | BJ91: 1 | BK91: =ROUND(I91*H91,2) -> 0 | BL91: 1 | BM91: -1121471735
C92: 3 | D92: K | E92: 7598095440 | F92: Příprava ke komplexním zkouškám automatických přejezdových zabezpečovacích zařízení se závorami dvoukolejné - oživení, seřízení a nastavení zařízení s ohledem na postup jeho uvádění do provozu | G92: kus | H92: 1 | J92: =ROUND(I92*H92,2) -> 0 | K92: Sborník UOŽI 01 2019 | N92: základní | P92: =O92*H92 -> 0 | Q92: 0 | R92: =Q92*H92 -> 0 | S92: 0 | T92: =S92*H92 -> 0 | AR92: 512 | AT92: K | AU92: 1 | AY92: ROZPOCET | BE92: =IF(N92="základní",J92,0) -> 0 | BF92: =IF(N92="snížená",J92,0) -> 0 | BG92: =IF(N92="zákl. přenesená",J92,0) -> 0 | BH92: =IF(N92="sníž. přenesená",J92,0) -> 0 | BI92: =IF(N92="nulová",J92,0) -> 0 | BJ92: 1 | BK92: =ROUND(I92*H92,2) -> 0 | BL92: 512 | BM92: 1539000135
C93: 4 | D93: K | E93: 7598095445 | F93: Příprava ke komplexním zkouškám automatických přejezdových zabezpečovacích zařízení bez závor jednokolejné - oživení, seřízení a nastavení zařízení s ohledem na postup jeho uvádění do provozu | G93: kus | H93: 6 | J93: =ROUND(I93*H93,2) -> 0 | K93: Sborník UOŽI 01 2019 | N93: základní | P93: =O93*H93 -> 0 | Q93: 0 | R93: =Q93*H93 -> 0 | S93: 0 | T93: =S93*H93 -> 0 | AR93: 512 | AT93: K | AU93: 1 | AY93: ROZPOCET | BE93: =IF(N93="základní",J93,0) -> 0 | BF93: =IF(N93="snížená",J93,0) -> 0 | BG93: =IF(N93="zákl. přenesená",J93,0) -> 0 | BH93: =IF(N93="sníž. přenesená",J93,0) -> 0 | BI93: =IF(N93="nulová",J93,0) -> 0 | BJ93: 1 | BK93: =ROUND(I93*H93,2) -> 0 | BL93: 512 | BM93: 1996127351
C94: 5 | D94: K | E94: 7598095460 | F94: Komplexní zkouška za 1 jízdní cestu do 30 výhybek - vyzkoušení zařízení podle projektové dokumentace, provedení funkčních zkoušek zařízení dle předpisu SŽDC T200, včetně zkoušek vzájemných vazeb jednotlivých zařízení, provedení dalších specifických zkoušek stanovených např. Drážním úřadem, uvedených v souhlasu s provozem nezavedeného zařízení, v souhlasu s ověřovacím provozem či vyplývajících ze smluvních ustanovení mezi odběratelem a zhotovitelem | G94: kus | H94: 13 | J94: =ROUND(I94*H94,2) -> 0 | K94: Sborník UOŽI 01 2019 | N94: základní | P94: =O94*H94 -> 0 | Q94: 0 | R94: =Q94*H94 -> 0 | S94: 0 | T94: =S94*H94 -> 0 | AR94: 512 | AT94: K | AU94: 1 | AY94: ROZPOCET | BE94: =IF(N94="základní",J94,0) -> 0 | BF94: =IF(N94="snížená",J94,0) -> 0 | BG94: =IF(N94="zákl. přenesená",J94,0) -> 0 | BH94: =IF(N94="sníž. přenesená",J94,0) -> 0 | BI94: =IF(N94="nulová",J94,0) -> 0 | BJ94: 1 | BK94: =ROUND(I94*H94,2) -> 0 | BL94: 512 | BM94: -2130891041
C95: 6 | D95: K | E95: 7598095510 | F95: Komplexní zkouška automatických přejezdových zabezpečovacích zařízení se závorami dvoukolejné - vyzkoušení zařízení podle projektové dokumentace, provedení funkčních zkoušek zařízení dle předpisu SŽDC T200, včetně zkoušek vzájemných vazeb jednotlivých zařízení, provedení dalších specifických zkoušek stanovených např. Drážním úřadem, uvedených v souhlasu s provozem nezavedeného zařízení, v souhlasu s ověřovacím provozem či vyplývajících ze smluvních ustanovení mezi odběratelem a zhotovitelem | G95: kus | H95: 1 | J95: =ROUND(I95*H95,2) -> 0 | K95: Sborník UOŽI 01 2019 | N95: základní | P95: =O95*H95 -> 0 | Q95: 0 | R95: =Q95*H95 -> 0 | S95: 0 | T95: =S95*H95 -> 0 | AR95: 512 | AT95: K | AU95: 1 | AY95: ROZPOCET | BE95: =IF(N95="základní",J95,0) -> 0 | BF95: =IF(N95="snížená",J95,0) -> 0 | BG95: =IF(N95="zákl. přenesená",J95,0) -> 0 | BH95: =IF(N95="sníž. přenesená",J95,0) -> 0 | BI95: =IF(N95="nulová",J95,0) -> 0 | BJ95: 1 | BK95: =ROUND(I95*H95,2) -> 0 | BL95: 512 | BM95: -18920114
C96: 7 | D96: K | E96: 7598095515 | F96: Komplexní zkouška automatických přejezdových zabezpečovacích zařízení bez závor jednokolejné - vyzkoušení zařízení podle projektové dokumentace, provedení funkčních zkoušek zařízení dle předpisu SŽDC T200, včetně zkoušek vzájemných vazeb jednotlivých zařízení, provedení dalších specifických zkoušek stanovených např. Drážním úřadem, uvedených v souhlasu s provozem nezavedeného zařízení, v souhlasu s ověřovacím provozem či vyplývajících ze smluvních ustanovení mezi odběratelem a zhotovitelem | G96: kus | H96: 6 | J96: =ROUND(I96*H96,2) -> 0 | K96: Sborník UOŽI 01 2019 | N96: základní | P96: =O96*H96 -> 0 | Q96: 0 | R96: =Q96*H96 -> 0 | S96: 0 | T96: =S96*H96 -> 0 | AR96: 512 | AT96: K | AU96: 1 | AY96: ROZPOCET | BE96: =IF(N96="základní",J96,0) -> 0 | BF96: =IF(N96="snížená",J96,0) -> 0 | BG96: =IF(N96="zákl. přenesená",J96,0) -> 0 | BH96: =IF(N96="sníž. přenesená",J96,0) -> 0 | BI96: =IF(N96="nulová",J96,0) -> 0 | BJ96: 1 | BK96: =ROUND(I96*H96,2) -> 0 | BL96: 512 | BM96: 25050890
C97: 8 | D97: K | E97: 7598095070 | F97: Přezkoušení a regulace elektromotorového přestavníku - přeměření napětí na svorkách přestavníku a přezkoušení třecí spojky, přezkoušení chodu výměny obou krajních poloh a se šuntováním výměnového obvodu, přezkoušení optických kontrol na řídícím pultě (JOP), přestavování výměny při stlačení pomocného tlačítka, vyzkoušení rozřezu výměny | G97: kus | H97: 7 | J97: =ROUND(I97*H97,2) -> 0 | K97: Sborník UOŽI 01 2019 | N97: základní | P97: =O97*H97 -> 0 | Q97: 0 | R97: =Q97*H97 -> 0 | S97: 0 | T97: =S97*H97 -> 0 | AR97: 4 | AT97: K | AU97: 1 | AY97: ROZPOCET | BE97: =IF(N97="základní",J97,0) -> 0 | BF97: =IF(N97="snížená",J97,0) -> 0 | BG97: =IF(N97="zákl. přenesená",J97,0) -> 0 | BH97: =IF(N97="sníž. přenesená",J97,0) -> 0 | BI97: =IF(N97="nulová",J97,0) -> 0 | BJ97: 1 | BK97: =ROUND(I97*H97,2) -> 0 | BL97: 4 | BM97: 739534825
C98: 9 | D98: K | E98: 7598095090 | F98: Přezkoušení a regulace počítače náprav včetně vyhotovení protokolu za 1 úsek - provedení příslušných měření, nastavení zařízení, přezkoušení funkce a vyhotovení protokolu | G98: kus | H98: 19 | J98: =ROUND(I98*H98,2) -> 0 | K98: Sborník UOŽI 01 2019 | N98: základní | P98: =O98*H98 -> 0 | Q98: 0 | R98: =Q98*H98 -> 0 | S98: 0 | T98: =S98*H98 -> 0 | AR98: 512 | AT98: K | AU98: 1 | AY98: ROZPOCET | BE98: =IF(N98="základní",J98,0) -> 0 | BF98: =IF(N98="snížená",J98,0) -> 0 | BG98: =IF(N98="zákl. přenesená",J98,0) -> 0 | BH98: =IF(N98="sníž. přenesená",J98,0) -> 0 | BI98: =IF(N98="nulová",J98,0) -> 0 | BJ98: 1 | BK98: =ROUND(I98*H98,2) -> 0 | BL98: 512 | BM98: -797181681
C99: 10 | D99: K | E99: 7598095185 | F99: Přezkoušení vlakových cest (vlakových i posunových) za 1 vlakovou cestu - postavení vlakových cest a přezkoušení návěstních znaků návěstidel po přeložení řadiče, přezkoušení změny návěstního pojmu z povolovacího na zakazující po odpadnutí kotvy kolejového relé, přezkoušení nouzového vybavení vlakové cesty, přezkoušení návěstních znaků při zapojení automatického traťového zabezpečovacího zařízení, přezkoušení odjezdových vlakových cest s použitím výlukového klíče pri současné činnosti odjezdových návěstidel | G99: kus | H99: 15 | J99: =ROUND(I99*H99,2) -> 0 | K99: Sborník UOŽI 01 2019 | N99: základní | P99: =O99*H99 -> 0 | Q99: 0 | R99: =Q99*H99 -> 0 | S99: 0 | T99: =S99*H99 -> 0 | AR99: 512 | AT99: K | AU99: 1 | AY99: ROZPOCET | BE99: =IF(N99="základní",J99,0) -> 0 | BF99: =IF(N99="snížená",J99,0) -> 0 | BG99: =IF(N99="zákl. přenesená",J99,0) -> 0 | BH99: =IF(N99="sníž. přenesená",J99,0) -> 0 | BI99: =IF(N99="nulová",J99,0) -> 0 | BJ99: 1 | BK99: =ROUND(I99*H99,2) -> 0 | BL99: 512 | BM99: 2126205586
C100: 11 | D100: K | E100: 7598095080 | F100: Přezkoušení a regulace kolejových obvodů izolovaných - přeměření napětí na svorkách proudového zdroje a kolejového relé, regulování kolejových obvodů pří šuntováni předepsaným odporem, přezkoušení polarity bez šuntování | G100: kus | H100: 8 | J100: =ROUND(I100*H100,2) -> 0 | K100: Sborník UOŽI 01 2019 | N100: základní | P100: =O100*H100 -> 0 | Q100: 0 | R100: =Q100*H100 -> 0 | S100: 0 | T100: =S100*H100 -> 0 | AR100: 4 | AT100: K | AU100: 1 | AY100: ROZPOCET | BE100: =IF(N100="základní",J100,0) -> 0 | BF100: =IF(N100="snížená",J100,0) -> 0 | BG100: =IF(N100="zákl. přenesená",J100,0) -> 0 | BH100: =IF(N100="sníž. přenesená",J100,0) -> 0 | BI100: =IF(N100="nulová",J100,0) -> 0 | BJ100: 1 | BK100: =ROUND(I100*H100,2) -> 0 | BL100: 4 | BM100: -1797033794
C101: 12 | D101: K | E101: 7598015165 | F101: Funkční přezkoušení venkovního telefonního objektu po připojení na kabelové vedení | G101: kus | H101: 2 | J101: =ROUND(I101*H101,2) -> 0 | K101: Sborník UOŽI 01 2019 | N101: základní | P101: =O101*H101 -> 0 | Q101: 0 | R101: =Q101*H101 -> 0 | S101: 0 | T101: =S101*H101 -> 0 | AR101: 512 | AT101: K | AU101: 1 | AY101: ROZPOCET | BE101: =IF(N101="základní",J101,0) -> 0 | BF101: =IF(N101="snížená",J101,0) -> 0 | BG101: =IF(N101="zákl. přenesená",J101,0) -> 0 | BH101: =IF(N101="sníž. přenesená",J101,0) -> 0 | BI101: =IF(N101="nulová",J101,0) -> 0 | BJ101: 1 | BK101: =ROUND(I101*H101,2) -> 0 | BL101: 512 | BM101: 845493558
... C114: 25 | D114: K | E114: 7598095355 | F114: Aktivace BDA modulem GSM a vzdáleného přístupu - aktivace a konfigurace systému podle příslušné dokumentace | G114: kus | H114: 2 | J114: =ROUND(I114*H114,2) -> 0 | K114: Sborník UOŽI 01 2019 | N114: základní | P114: =O114*H114 -> 0 | Q114: 0 | R114: =Q114*H114 -> 0 | S114: 0 | T114: =S114*H114 -> 0 | AR114: 1 | AT114: K | AU114: 1 | AY114: ROZPOCET | BE114: =IF(N114="základní",J114,0) -> 0 | BF114: =IF(N114="snížená",J114,0) -> 0 | BG114: =IF(N114="zákl. přenesená",J114,0) -> 0 | BH114: =IF(N114="sníž. přenesená",J114,0) -> 0 | BI114: =IF(N114="nulová",J114,0) -> 0 | BJ114: 1 | BK114: =ROUND(I114*H114,2) -> 0 | BL114: 1 | BM114: -1105649517
D115: D | E115: OST | F115: Ostatní | J115: =BK115 -> 0 | P115: =SUM(P116:P128) -> 0 | R115: =SUM(R116:R128) -> 0 | T115: =SUM(T116:T128) -> 0 | AR115: 4 | AT115: D | AU115: 0 | AY115: ROZPOCET | BK115: =SUM(BK116:BK128) -> 0
C116: 26 | D116: K | E116: 7498451010 | F116: Měření zemničů zemních odporů - zemniče prvního nebo samostatného - včetně vyhotovení protokolu | G116: kus | H116: 7 | J116: =ROUND(I116*H116,2) -> 0 | K116: Sborník UOŽI 01 2019 | N116: základní | P116: =O116*H116 -> 0 | Q116: 0 | R116: =Q116*H116 -> 0 | S116: 0 | T116: =S116*H116 -> 0 | AR116: 512 | AT116: K | AU116: 1 | AY116: ROZPOCET | BE116: =IF(N116="základní",J116,0) -> 0 | BF116: =IF(N116="snížená",J116,0) -> 0 | BG116: =IF(N116="zákl. přenesená",J116,0) -> 0 | BH116: =IF(N116="sníž. přenesená",J116,0) -> 0 | BI116: =IF(N116="nulová",J116,0) -> 0 | BJ116: 1 | BK116: =ROUND(I116*H116,2) -> 0 | BL116: 512 | BM116: 1814265480
C117: 27 | D117: K | E117: 7598015085 | F117: Přeměření izolačního stavu kabelu úložného 10 žil | G117: kus | H117: 18 | J117: =ROUND(I117*H117,2) -> 0 | K117: Sborník UOŽI 01 2019 | N117: základní | P117: =O117*H117 -> 0 | Q117: 0 | R117: =Q117*H117 -> 0 | S117: 0 | T117: =S117*H117 -> 0 | AR117: 512 | AT117: K | AU117: 1 | AY117: ROZPOCET | BE117: =IF(N117="základní",J117,0) -> 0 | BF117: =IF(N117="snížená",J117,0) -> 0 | BG117: =IF(N117="zákl. přenesená",J117,0) -> 0 | BH117: =IF(N117="sníž. přenesená",J117,0) -> 0 | BI117: =IF(N117="nulová",J117,0) -> 0 | BJ117: 1 | BK117: =ROUND(I117*H117,2) -> 0 | BL117: 512 | BM117: -570941670
C118: 28 | D118: K | E118: 7598015090 | F118: Přeměření izolačního stavu kabelu úložného 20 žil | G118: kus | H118: 8 | J118: =ROUND(I118*H118,2) -> 0 | K118: Sborník UOŽI 01 2019 | N118: základní | P118: =O118*H118 -> 0 | Q118: 0 | R118: =Q118*H118 -> 0 | S118: 0 | T118: =S118*H118 -> 0 | AR118: 512 | AT118: K | AU118: 1 | AY118: ROZPOCET | BE118: =IF(N118="základní",J118,0) -> 0 | BF118: =IF(N118="snížená",J118,0) -> 0 | BG118: =IF(N118="zákl. přenesená",J118,0) -> 0 | BH118: =IF(N118="sníž. přenesená",J118,0) -> 0 | BI118: =IF(N118="nulová",J118,0) -> 0 | BJ118: 1 | BK118: =ROUND(I118*H118,2) -> 0 | BL118: 512 | BM118: -1920867750
C119: 29 | D119: K | E119: 7598015095 | F119: Přeměření izolačního stavu kabelu úložného 30 žil | G119: kus | H119: 50 | J119: =ROUND(I119*H119,2) -> 0 | K119: Sborník UOŽI 01 2019 | N119: základní | P119: =O119*H119 -> 0 | Q119: 0 | R119: =Q119*H119 -> 0 | S119: 0 | T119: =S119*H119 -> 0 | AR119: 4 | AT119: K | AU119: 1 | AY119: ROZPOCET | BE119: =IF(N119="základní",J119,0) -> 0 | BF119: =IF(N119="snížená",J119,0) -> 0 | BG119: =IF(N119="zákl. přenesená",J119,0) -> 0 | BH119: =IF(N119="sníž. přenesená",J119,0) -> 0 | BI119: =IF(N119="nulová",J119,0) -> 0 | BJ119: 1 | BK119: =ROUND(I119*H119,2) -> 0 | BL119: 4 | BM119: 1312701059
C120: 30 | D120: K | E120: 7598035055 | F120: Měření útlumu optického kabelu po položení nebo zavěšení, kabelu s 12 vlákny | G120: kus | H120: 1 | J120: =ROUND(I120*H120,2) -> 0 | K120: Sborník UOŽI 01 2019 | N120: základní | P120: =O120*H120 -> 0 | Q120: 0 | R120: =Q120*H120 -> 0 | S120: 0 | T120: =S120*H120 -> 0 | AR120: 512 | AT120: K | AU120: 1 | AY120: ROZPOCET | BE120: =IF(N120="základní",J120,0) -> 0 | BF120: =IF(N120="snížená",J120,0) -> 0 | BG120: =IF(N120="zákl. přenesená",J120,0) -> 0 | BH120: =IF(N120="sníž. přenesená",J120,0) -> 0 | BI120: =IF(N120="nulová",J120,0) -> 0 | BJ120: 1 | BK120: =ROUND(I120*H120,2) -> 0 | BL120: 512 | BM120: 1450285450
C121: 31 | D121: K | E121: 7598095065 | F121: Přezkoušení a regulace napájecího obvodu za 1 napájecí sběrnici - kontrola zapojení, regulace a přezkoušení sběrnice | G121: kus | H121: 5 | J121: =ROUND(I121*H121,2) -> 0 | K121: Sborník UOŽI 01 2019 | N121: základní | P121: =O121*H121 -> 0 | Q121: 0 | R121: =Q121*H121 -> 0 | S121: 0 | T121: =S121*H121 -> 0 | AR121: 512 | AT121: K | AU121: 1 | AY121: ROZPOCET | BE121: =IF(N121="základní",J121,0) -> 0 | BF121: =IF(N121="snížená",J121,0) -> 0 | BG121: =IF(N121="zákl. přenesená",J121,0) -> 0 | BH121: =IF(N121="sníž. přenesená",J121,0) -> 0 | BI121: =IF(N121="nulová",J121,0) -> 0 | BJ121: 1 | BK121: =ROUND(I121*H121,2) -> 0 | BL121: 512 | BM121: -1793278862
C122: 32 | D122: K | E122: 7598095075 | F122: Přezkoušení a regulace proudokruhu světelných návěstidel - nastavení hlavice, přezkoušení správné činností relé a přezkoušení všech správných návěstních znaků, přeměření a vyregulovánl napětí na žárovkách, provizorní zaclonění žárovek a jeho odstranění | G122: kus | H122: 125 | J122: =ROUND(I122*H122,2) -> 0 | K122: Sborník UOŽI 01 2019 | N122: základní | P122: =O122*H122 -> 0 | Q122: 0 | R122: =Q122*H122 -> 0 | S122: 0 | T122: =S122*H122 -> 0 | AR122: 512 | AT122: K | AU122: 1 | AY122: ROZPOCET | BE122: =IF(N122="základní",J122,0) -> 0 | BF122: =IF(N122="snížená",J122,0) -> 0 | BG122: =IF(N122="zákl. přenesená",J122,0) -> 0 | BH122: =IF(N122="sníž. přenesená",J122,0) -> 0 | BI122: =IF(N122="nulová",J122,0) -> 0 | BJ122: 1 | BK122: =ROUND(I122*H122,2) -> 0 | BL122: 512 | BM122: 119120286
C123: 33 | D123: K | E123: 7598095085 | F123: Přezkoušení a regulace senzoru počítacího bodu - kontrola (nastavení) mechanických parametrů polohy, regulace napájení, kalibrace, kontrola funkce a započítávání, kontrola indikace | G123: kus | H123: 32 | J123: =ROUND(I123*H123,2) -> 0 | K123: Sborník UOŽI 01 2019 | N123: základní | P123: =O123*H123 -> 0 | Q123: 0 | R123: =Q123*H123 -> 0 | S123: 0 | T123: =S123*H123 -> 0 | AR123: 512 | AT123: K | AU123: 1 | AY123: ROZPOCET | BE123: =IF(N123="základní",J123,0) -> 0 | BF123: =IF(N123="snížená",J123,0) -> 0 | BG123: =IF(N123="zákl. přenesená",J123,0) -> 0 | BH123: =IF(N123="sníž. přenesená",J123,0) -> 0 | BI123: =IF(N123="nulová",J123,0) -> 0 | BJ123: 1 | BK123: =ROUND(I123*H123,2) -> 0 | BL123: 512 | BM123: 1475023892
C124: 34 | D124: K | E124: 7598095120 | F124: Přezkoušení a regulace časové jednotky - kontrola zapojení včetně příslušného zkoušení hodnot zařízení | G124: kus | H124: 6 | J124: =ROUND(I124*H124,2) -> 0 | K124: Sborník UOŽI 01 2019 | N124: základní | P124: =O124*H124 -> 0 | Q124: 0 | R124: =Q124*H124 -> 0 | S124: 0 | T124: =S124*H124 -> 0 | AR124: 512 | AT124: K | AU124: 1 | AY124: ROZPOCET | BE124: =IF(N124="základní",J124,0) -> 0 | BF124: =IF(N124="snížená",J124,0) -> 0 | BG124: =IF(N124="zákl. přenesená",J124,0) -> 0 | BH124: =IF(N124="sníž. přenesená",J124,0) -> 0 | BI124: =IF(N124="nulová",J124,0) -> 0 | BJ124: 1 | BK124: =ROUND(I124*H124,2) -> 0 | BL124: 512 | BM124: 570147352
C125: 35 | D125: K | E125: 7598095150 | F125: Regulovaní a aktivování automatického přejezdového zařízení se závorami - regulování proudokruhů výstražníku, závorových břeven, regulování chodu břeven, směrovaní výstražníku, kontrola napájecích zdrojů a relé, přezkoušení činnosti zařízení a kontrolní skříňky (indikací a ovládání) | G125: kus | H125: 9 | J125: =ROUND(I125*H125,2) -> 0 | K125: Sborník UOŽI 01 2019 | N125: základní | P125: =O125*H125 -> 0 | Q125: 0 | R125: =Q125*H125 -> 0 | S125: 0 | T125: =S125*H125 -> 0 | AR125: 512 | AT125: K | AU125: 1 | AY125: ROZPOCET | BE125: =IF(N125="základní",J125,0) -> 0 | BF125: =IF(N125="snížená",J125,0) -> 0 | BG125: =IF(N125="zákl. přenesená",J125,0) -> 0 | BH125: =IF(N125="sníž. přenesená",J125,0) -> 0 | BI125: =IF(N125="nulová",J125,0) -> 0 | BJ125: 1 | BK125: =ROUND(I125*H125,2) -> 0 | BL125: 512 | BM125: -1982711616
C126: 36 | D126: K | E126: 7598095155 | F126: Regulovaní a aktivování automatického přejezdového zařízení bez závor - regulování proudokruhů výstražníku, závorových břeven, regulování chodu břeven, směrovaní výstražníku, kontrola napájecích zdrojů a relé, přezkoušení činnosti zařízení a kontrolní skříňky (indikací a ovládání) | G126: kus | H126: 7 | J126: =ROUND(I126*H126,2) -> 0 | K126: Sborník UOŽI 01 2019 | N126: základní | P126: =O126*H126 -> 0 | Q126: 0 | R126: =Q126*H126 -> 0 | S126: 0 | T126: =S126*H126 -> 0 | AR126: 1024 | AT126: K | AU126: 1 | AY126: ROZPOCET | BE126: =IF(N126="základní",J126,0) -> 0 | BF126: =IF(N126="snížená",J126,0) -> 0 | BG126: =IF(N126="zákl. přenesená",J126,0) -> 0 | BH126: =IF(N126="sníž. přenesená",J126,0) -> 0 | BI126: =IF(N126="nulová",J126,0) -> 0 | BJ126: 1 | BK126: =ROUND(I126*H126,2) -> 0 | BL126: 1024 | BM126: -811610378
C127: 37 | D127: K | E127: 7598095225 | F127: Kapacitní zkouška baterie staniční (bez ohledu na počet článků) | G127: kus | H127: 2 | J127: =ROUND(I127*H127,2) -> 0 | K127: Sborník UOŽI 01 2019 | N127: základní | P127: =O127*H127 -> 0 | Q127: 0 | R127: =Q127*H127 -> 0 | S127: 0 | T127: =S127*H127 -> 0 | AR127: 512 | AT127: K | AU127: 1 | AY127: ROZPOCET | BE127: =IF(N127="základní",J127,0) -> 0 | BF127: =IF(N127="snížená",J127,0) -> 0 | BG127: =IF(N127="zákl. přenesená",J127,0) -> 0 | BH127: =IF(N127="sníž. přenesená",J127,0) -> 0 | BI127: =IF(N127="nulová",J127,0) -> 0 | BJ127: 1 | BK127: =ROUND(I127*H127,2) -> 0 | BL127: 512 | BM127: -1794532112
C128: 38 | D128: K | E128: 7598095375 | F128: Oživení a funkční zkoušení stanice TEDIS - aktivace a konfigurace systému podle příslušné dokumentace | G128: kus | H128: 3 | J128: =ROUND(I128*H128,2) -> 0 | K128: Sborník UOŽI 01 2019 | N128: základní | P128: =O128*H128 -> 0 | Q128: 0 | R128: =Q128*H128 -> 0 | S128: 0 | T128: =S128*H128 -> 0 | AR128: 512 | AT128: K | AU128: 1 | AY128: ROZPOCET | BE128: =IF(N128="základní",J128,0) -> 0 | BF128: =IF(N128="snížená",J128,0) -> 0 | BG128: =IF(N128="zákl. přenesená",J128,0) -> 0 | BH128: =IF(N128="sníž. přenesená",J128,0) -> 0 | BI128: =IF(N128="nulová",J128,0) -> 0 | BJ128: 1 | BK128: =ROUND(I128*H128,2) -> 0 | BL128: 512 | BM128: -1787876338
D129: D | E129: VRN | F129: Doprava, přeprava, poplatky | J129: =BK129 -> 0 | P129: =SUM(P130:P255) -> 0 | R129: =SUM(R130:R255) -> 0 | T129: =SUM(T130:T255) -> 0 | AR129: 5 | AT129: D | AU129: 0 | AY129: ROZPOCET | BK129: =SUM(BK130:BK255) -> 0
C130: 39 | D130: K | E130: 9902900100 | F130: Naložení sypanin, drobného kusového materiálu, suti Poznámka: Ceny jsou určeny pro nakládání materiálu v případech, kdy není naložení součástí dodávky materiálu nebo není uvedeno v popisu cen a pro nakládání z meziskládky. Ceny se použijí i pro nakládání materiálu z vlastních zásob objednatele. | G130: t | H130: 30 | J130: =ROUND(I130*H130,2) -> 0 | K130: Sborník UOŽI 01 2019 | N130: základní | P130: =O130*H130 -> 0 | Q130: 0 | R130: =Q130*H130 -> 0 | S130: 0 | T130: =S130*H130 -> 0 | AR130: 512 | AT130: K | AU130: 1 | AY130: ROZPOCET | BE130: =IF(N130="základní",J130,0) -> 0 | BF130: =IF(N130="snížená",J130,0) -> 0 | BG130: =IF(N130="zákl. přenesená",J130,0) -> 0 | BH130: =IF(N130="sníž. přenesená",J130,0) -> 0 | BI130: =IF(N130="nulová",J130,0) -> 0 | BJ130: 1 | BK130: =ROUND(I130*H130,2) -> 0 | BL130: 512 | BM130: 1318705346
D131: PSC | F131: Poznámka k souboru cen:_x000D_ Ceny jsou určeny pro nakládání materiálu v případech, kdy není naložení součástí dodávky materiálu nebo není uvedeno v popisu cen a pro nakládání z meziskládky. Ceny se použijí i pro nakládání materiálu z vlastních zásob objednatele. | AT131: PSC | AU131: 1
C132: 40 | D132: K | E132: 9902900200 | F132: Naložení objemnějšího kusového materiálu, vybouraných hmot Poznámka: Ceny jsou určeny pro nakládání materiálu v případech, kdy není naložení součástí dodávky materiálu nebo není uvedeno v popisu cen a pro nakládání z meziskládky. Ceny se použijí i pro nakládání materiálu z vlastních zásob objednatele. | G132: t | H132: 168.095 | J132: =ROUND(I132*H132,2) -> 0 | K132: Sborník UOŽI 01 2019 | N132: základní | P132: =O132*H132 -> 0 | Q132: 0 | R132: =Q132*H132 -> 0 | S132: 0 | T132: =S132*H132 -> 0 | AR132: 512 | AT132: K | AU132: 1 | AY132: ROZPOCET | BE132: =IF(N132="základní",J132,0) -> 0 | BF132: =IF(N132="snížená",J132,0) -> 0 | BG132: =IF(N132="zákl. přenesená",J132,0) -> 0 | BH132: =IF(N132="sníž. přenesená",J132,0) -> 0 | BI132: =IF(N132="nulová",J132,0) -> 0 | BJ132: 1 | BK132: =ROUND(I132*H132,2) -> 0 | BL132: 512 | BM132: -387137343
D133: PSC | F133: Poznámka k souboru cen:_x000D_ Ceny jsou určeny pro nakládání materiálu v případech, kdy není naložení součástí dodávky materiálu nebo není uvedeno v popisu cen a pro nakládání z meziskládky. Ceny se použijí i pro nakládání materiálu z vlastních zásob objednatele. | AT133: PSC | AU133: 1
D134: VV | F134: Nové základy - velké | AT134: VV | AU134: 1 | AV134: 1 | AW134: True | AX134: 0 | AY134: ROZPOCET
D135: VV | F135: ((1,7/3*(0,45*0,65+sqrt(0,45*0,65*0,53*0,73)+0,53*0,73))*1,55)*10 | H135: 8.922 | AT135: VV | AU135: 1 | AV135: 2 | AW135: True | AX135: 0 | AY135: ROZPOCET
D136: VV | F136: Staré základy - velké | AT136: VV | AU136: 1 | AV136: 1 | AW136: True | AX136: 0 | AY136: ROZPOCET
D137: VV | F137: ((1,7/3*(0,45*0,65+sqrt(0,45*0,65*0,53*0,73)+0,53*0,73))*1,55)*50 | H137: 44.611 | AT137: VV | AU137: 1 | AV137: 2 | AW137: True | AX137: 0 | AY137: ROZPOCET
D138: VV | F138: Nové základy - malé | AT138: VV | AU138: 1 | AV138: 1 | AW138: True | AX138: 0 | AY138: ROZPOCET
D139: VV | F139: ((1,35/3*(0,45*0,65+sqrt(0,45*0,65*0,51*0,71)+0,51*0,71))*1,19)*50 | H139: 26.241 | AT139: VV | AU139: 1 | AV139: 2 | AW139: True | AX139: 0 | AY139: ROZPOCET
D140: VV | F140: Staré základy - malé | AT140: VV | AU140: 1 | AV140: 1 | AW140: True | AX140: 0 | AY140: ROZPOCET
D141: VV | F141: ((1,35/3*(0,45*0,65+sqrt(0,45*0,65*0,51*0,71)+0,51*0,71))*1,19)*50 | H141: 26.241 | AT141: VV | AU141: 1 | AV141: 2 | AW141: True | AX141: 0 | AY141: ROZPOCET
D142: VV | F142: Nové základy - trpaslík | AT142: VV | AU142: 1 | AV142: 1 | AW142: True | AX142: 0 | AY142: ROZPOCET
D143: VV | F143: ((0,4*0,4*1)*0,2)*20 | H143: 0.64 | AT143: VV | AU143: 1 | AV143: 2 | AW143: True | AX143: 0 | AY143: ROZPOCET
D144: VV | F144: Staré základy - trpaslík | AT144: VV | AU144: 1 | AV144: 1 | AW144: True | AX144: 0 | AY144: ROZPOCET
...
