Workbook

Sheet Rekapitulace stavby
A1: Export Komplet | BA1: 2.0 | BB1: ZAMOK | BT1: False | BU1: False | BV1: {567ec0be-989a-4316-b4d1-4aca2df5d9de}
BS2: 0,01 | BT2: 21
BS3: 0,01 | BT3: 15
D4: REKAPITULACE STAVBY | AS4: v --- níže se nacházejí doplnkové a pomocné údaje k sestavám --- v | BE4: Návod na vyplnění | BS4: 0,001
D5: Kód: | K5: as_022_2019 | BE5: Měnit lze pouze buňky se žlutým podbarvením!_x000D_ _x000D_ 1) na prvním listu Rekapitulace stavby vyplňte v sestavě_x000D_ _x000D_ a) Souhrnný list_x000D_ - údaje o Uchazeči_x000D_ (přenesou se do ostatních sestav i v jiných listech)_x000D_ _x000D_ b) Rekapitulace objektů_x000D_ - potřebné Ostatní náklady_x000D_ _x000D_ 2) na vybraných listech vyplňte v sestavě_x000D_ _x000D_ a) Krycí list_x000D_ - údaje o Uchazeči, pokud se liší od údajů o Uchazeči na Souhrnném listu_x000D_ (údaje se přenesou do ostatních sestav v daném listu)_x000D_ _x000D_ b) Rekapitulace rozpočtu_x000D_ - potřebné Ostatní náklady_x000D_ _x000D_ c) Celkové náklady za stavbu_x000D_ - ceny u položek_x000D_ - množství, pokud má žluté podbarvení_x000D_ - a v případě potřeby poznámku (ta je ve skrytém sloupci) | BS5: 0,01
D6: Stavba: | K6: Zabezpečení čekáren v obvodu OŘ Olomouc | BS6: 0,01
D7: KSO: | AK7: CC-CZ: | BS7: 0,01
D8: Místo: | AK8: Datum: | BS8: 0,01
BS9: 0,01
D10: Zadavatel: | AK10: IČ: | BS10: 0,01
AK11: DIČ: | BS11: 0,01
BS12: 0,01
D13: Uchazeč: | AK13: IČ: | AN13: Vyplň údaj | BS13: 0,01
E14: Vyplň údaj | AK14: DIČ: | AN14: Vyplň údaj | BS14: 0,01
BS15: False
D16: Projektant: | AK16: IČ: | BS16: False
AK17: DIČ: | BS17: True
BS18: 0,01
D19: Zpracovatel: | AK19: IČ: | BS19: 0,01
AK20: DIČ: | BS20: True
D22: Poznámka:
D26: Cena bez DPH | AK26: =ROUND(AG94,2) -> 0
L28: Sazba daně | W28: Základ daně | AK28: Výše daně
D29: DPH | F29: základní | L29: 0.21 | W29: =ROUND(AZ94, 2) -> 0 | AK29: =ROUND(AV94, 2) -> 0
F30: snížená | L30: 0.15 | W30: =ROUND(BA94, 2) -> 0 | AK30: =ROUND(AW94, 2) -> 0
F31: zákl. přenesená | L31: 0.21 | W31: =ROUND(BB94, 2) -> 0 | AK31: 0
F32: sníž. přenesená | L32: 0.15 | W32: =ROUND(BC94, 2) -> 0 | AK32: 0
F33: nulová | L33: 0 | W33: =ROUND(BD94, 2) -> 0 | AK33: 0
D35: Cena s DPH | T35: v | X35: CZK | AK35: =SUM(AK26:AK33) -> 0
D49: Projektant | AH49: Zpracovatel
D60: Datum a podpis: | V60: Razítko | AH60: Datum a podpis: | AM60: Razítko
D64: Objednavatel | AH64: Uchazeč
D75: Datum a podpis: | V75: Razítko | AH75: Datum a podpis: | AM75: Razítko
C82: REKAPITULACE OBJEKTŮ STAVBY A SOUPISŮ PRACÍ
C84: Kód: | L84: =K5 -> as_022_2019
C85: Stavba: | L85: =K6 -> Zabezpečení čekáren v obvodu OŘ Olomouc
C87: Místo: | L87: =IF(K8="","",K8) | AI87: Datum: | AM87: =IF(AN8= "","",AN8)
C89: Zadavatel: | L89: =IF(E11= "","",E11) | AI89: Projektant: | AM89: =IF(E17="","",E17) | AS89: Informatívní údaje z listů zakázek
C90: Uchazeč: | L90: =IF(E14= "Vyplň údaj","",E14) | AI90: Zpracovatel: | AM90: =IF(E20="","",E20)
C92: Kód | I92: Popis | AG92: Cena bez DPH [CZK] | AN92: Cena s DPH [CZK] | AQ92: Typ | AS92: z toho Ostat._x000D_ náklady [CZK] | AT92: DPH [CZK] | AU92: Normohodiny [h] | AV92: DPH základní [CZK] | AW92: DPH snížená [CZK] | AX92: DPH základní přenesená_x000D_ [CZK] | AY92: DPH snížená přenesená_x000D_ [CZK] | AZ92: Základna_x000D_ DPH základní | BA92: Základna_x000D_ DPH snížená | BB92: Základna_x000D_ DPH zákl. přenesená | BC92: Základna_x000D_ DPH sníž. přenesená | BD92: Základna_x000D_ DPH nulová
C94: Náklady z rozpočtů | AG94: =ROUND(SUM(AG95:AG99),2) -> 0 | AN94: =SUM(AG94,AT94) -> 0 | AS94: =ROUND(SUM(AS95:AS99),2) -> 0 | AT94: =ROUND(SUM(AV94:AW94),2) -> 0 | AU94: =ROUND(SUM(AU95:AU99),5) -> 0 | AV94: =ROUND(AZ94*L29,2) -> 0 | AW94: =ROUND(BA94*L30,2) -> 0 | AX94: =ROUND(BB94*L29,2) -> 0 | AY94: =ROUND(BC94*L30,2) -> 0 | AZ94: =ROUND(SUM(AZ95:AZ99),2) -> 0 | BA94: =ROUND(SUM(BA95:BA99),2) -> 0 | BB94: =ROUND(SUM(BB95:BB99),2) -> 0 | BC94: =ROUND(SUM(BC95:BC99),2) -> 0 | BD94: =ROUND(SUM(BD95:BD99),2) -> 0 | BS94: D | BT94: 0 | BU94: ###NOIMPORT### | BV94: IMPORT | BW94: {567ec0be-989a-4316-b4d1-4aca2df5d9de} | BX94: {00000000-0000-0000-0000-000000000000}
A95: / | D95: SO 01 | J95: Vstupní dveře | AG95: ='SO 01 - Vstupní dveře'!J30 -> 0 | AN95: =SUM(AG95,AT95) -> 0 | AQ95: STA | AS95: 0 | AT95: =ROUND(SUM(AV95:AW95),2) -> 0 | AU95: ='SO 01 - Vstupní dveře'!P124 -> 0 | AV95: ='SO 01 - Vstupní dveře'!J33 -> 0 | AW95: ='SO 01 - Vstupní dveře'!J34 -> 0 | AX95: ='SO 01 - Vstupní dveře'!J35 -> 0 | AY95: ='SO 01 - Vstupní dveře'!J36 -> 0 | AZ95: ='SO 01 - Vstupní dveře'!F33 -> 0 | BA95: ='SO 01 - Vstupní dveře'!F34 -> 0 | BB95: ='SO 01 - Vstupní dveře'!F35 -> 0 | BC95: ='SO 01 - Vstupní dveře'!F36 -> 0 | BD95: ='SO 01 - Vstupní dveře'!F37 -> 0 | BT95: 1 | BV95: IMPORT | BW95: {65e9694e-e8f4-4113-a0ad-f8b12e437ea4} | BX95: {567ec0be-989a-4316-b4d1-4aca2df5d9de} | CM95: 2
A96: / | D96: PS01 | J96: Doplnění stávajících EZS | AG96: ='PS01 - Doplnění stávající...'!J30 -> 0 | AN96: =SUM(AG96,AT96) -> 0 | AQ96: STA | AS96: 0 | AT96: =ROUND(SUM(AV96:AW96),2) -> 0 | AU96: ='PS01 - Doplnění stávající...'!P117 -> 0 | AV96: ='PS01 - Doplnění stávající...'!J33 -> 0 | AW96: ='PS01 - Doplnění stávající...'!J34 -> 0 | AX96: ='PS01 - Doplnění stávající...'!J35 -> 0 | AY96: ='PS01 - Doplnění stávající...'!J36 -> 0 | AZ96: ='PS01 - Doplnění stávající...'!F33 -> 0 | BA96: ='PS01 - Doplnění stávající...'!F34 -> 0 | BB96: ='PS01 - Doplnění stávající...'!F35 -> 0 | BC96: ='PS01 - Doplnění stávající...'!F36 -> 0 | BD96: ='PS01 - Doplnění stávající...'!F37 -> 0 | BT96: 1 | BV96: IMPORT | BW96: {1f644d9b-fd8f-480f-b007-58470e35725d} | BX96: {567ec0be-989a-4316-b4d1-4aca2df5d9de} | CM96: 2
A97: / | D97: PS02 | J97: Doplnění kamerových systémů | AG97: ='PS02 - Doplnění kamerovýc...'!J30 -> 0 | AN97: =SUM(AG97,AT97) -> 0 | AQ97: STA | AS97: 0 | AT97: =ROUND(SUM(AV97:AW97),2) -> 0 | AU97: ='PS02 - Doplnění kamerovýc...'!P117 -> 0 | AV97: ='PS02 - Doplnění kamerovýc...'!J33 -> 0 | AW97: ='PS02 - Doplnění kamerovýc...'!J34 -> 0 | AX97: ='PS02 - Doplnění kamerovýc...'!J35 -> 0 | AY97: ='PS02 - Doplnění kamerovýc...'!J36 -> 0 | AZ97: ='PS02 - Doplnění kamerovýc...'!F33 -> 0 | BA97: ='PS02 - Doplnění kamerovýc...'!F34 -> 0 | BB97: ='PS02 - Doplnění kamerovýc...'!F35 -> 0 | BC97: ='PS02 - Doplnění kamerovýc...'!F36 -> 0 | BD97: ='PS02 - Doplnění kamerovýc...'!F37 -> 0 | BT97: 1 | BV97: IMPORT | BW97: {c9f18d42-fa81-4418-943e-6e38e16374b7} | BX97: {567ec0be-989a-4316-b4d1-4aca2df5d9de} | CM97: 2
A98: / | D98: PS 03 | J98: Kamerový systém v žst. Kojetín | AG98: ='PS 03 - Kamerový systém v...'!J30 -> 0 | AN98: =SUM(AG98,AT98) -> 0 | AQ98: STA | AS98: 0 | AT98: =ROUND(SUM(AV98:AW98),2) -> 0 | AU98: ='PS 03 - Kamerový systém v...'!P117 -> 0 | AV98: ='PS 03 - Kamerový systém v...'!J33 -> 0 | AW98: ='PS 03 - Kamerový systém v...'!J34 -> 0 | AX98: ='PS 03 - Kamerový systém v...'!J35 -> 0 | AY98: ='PS 03 - Kamerový systém v...'!J36 -> 0 | AZ98: ='PS 03 - Kamerový systém v...'!F33 -> 0 | BA98: ='PS 03 - Kamerový systém v...'!F34 -> 0 | BB98: ='PS 03 - Kamerový systém v...'!F35 -> 0 | BC98: ='PS 03 - Kamerový systém v...'!F36 -> 0 | BD98: ='PS 03 - Kamerový systém v...'!F37 -> 0 | BT98: 1 | BV98: IMPORT | BW98: {78f909a9-26e6-42cd-b7ee-1002c118aad3} | BX98: {567ec0be-989a-4316-b4d1-4aca2df5d9de} | CM98: 2
A99: / | D99: SO 02 | J99: VRN | AG99: ='SO 02 - VRN'!J30 -> 0 | AN99: =SUM(AG99,AT99) -> 0 | AQ99: STA | AS99: 0 | AT99: =ROUND(SUM(AV99:AW99),2) -> 0 | AU99: ='SO 02 - VRN'!P121 -> 0 | AV99: ='SO 02 - VRN'!J33 -> 0 | AW99: ='SO 02 - VRN'!J34 -> 0 | AX99: ='SO 02 - VRN'!J35 -> 0 | AY99: ='SO 02 - VRN'!J36 -> 0 | AZ99: ='SO 02 - VRN'!F33 -> 0 | BA99: ='SO 02 - VRN'!F34 -> 0 | BB99: ='SO 02 - VRN'!F35 -> 0 | BC99: ='SO 02 - VRN'!F36 -> 0 | BD99: ='SO 02 - VRN'!F37 -> 0 | BT99: 1 | BV99: IMPORT | BW99: {f729f194-80b0-4147-af0e-098eee4a399b} | BX99: {567ec0be-989a-4316-b4d1-4aca2df5d9de} | CM99: 2

Sheet SO 01 - Vstupní dveře
AT2: {65e9694e-e8f4-4113-a0ad-f8b12e437ea4}
AT3: 2
D4: KRYCÍ LIST SOUPISU PRACÍ | M4: v --- níže se nacházejí doplnkové a pomocné údaje k sestavám --- v | AT4: False
D6: Stavba:
E7: ='Rekapitulace stavby'!K6 -> Zabezpečení čekáren v obvodu OŘ Olomouc
D8: Objekt:
E9: SO 01 - Vstupní dveře
D11: KSO: | I11: CC-CZ:
D12: Místo: | I12: Datum: | J12: ='Rekapitulace stavby'!AN8 -> 0
D14: Zadavatel: | I14: IČ: | J14: =IF('Rekapitulace stavby'!AN10="","",'Rekapitulace stavby'!AN10)
E15: =IF('Rekapitulace stavby'!E11="","",'Rekapitulace stavby'!E11) | I15: DIČ: | J15: =IF('Rekapitulace stavby'!AN11="","",'Rekapitulace stavby'!AN11)
D17: Uchazeč: | I17: IČ: | J17: ='Rekapitulace stavby'!AN13 -> Vyplň údaj
E18: ='Rekapitulace stavby'!E14 -> Vyplň údaj | I18: DIČ: | J18: ='Rekapitulace stavby'!AN14 -> Vyplň údaj
D20: Projektant: | I20: IČ: | J20: =IF('Rekapitulace stavby'!AN16="","",'Rekapitulace stavby'!AN16)
E21: =IF('Rekapitulace stavby'!E17="","",'Rekapitulace stavby'!E17) | I21: DIČ: | J21: =IF('Rekapitulace stavby'!AN17="","",'Rekapitulace stavby'!AN17)
D23: Zpracovatel: | I23: IČ: | J23: =IF('Rekapitulace stavby'!AN19="","",'Rekapitulace stavby'!AN19)
E24: =IF('Rekapitulace stavby'!E20="","",'Rekapitulace stavby'!E20) | I24: DIČ: | J24: =IF('Rekapitulace stavby'!AN20="","",'Rekapitulace stavby'!AN20)
D26: Poznámka:
D30: Cena bez DPH | J30: =ROUND(J124, 2) -> 0
F32: Základ daně | I32: Sazba daně | J32: Výše daně
D33: DPH | E33: základní | F33: =ROUND((SUM(BE124:BE192)), 2) -> 0 | I33: 0.21 | J33: =ROUND(((SUM(BE124:BE192))*I33), 2) -> 0
E34: snížená | F34: =ROUND((SUM(BF124:BF192)), 2) -> 0 | I34: 0.15 | J34: =ROUND(((SUM(BF124:BF192))*I34), 2) -> 0
E35: zákl. přenesená | F35: =ROUND((SUM(BG124:BG192)), 2) -> 0 | I35: 0.21 | J35: =0 -> 0
E36: sníž. přenesená | F36: =ROUND((SUM(BH124:BH192)), 2) -> 0 | I36: 0.15 | J36: =0 -> 0
E37: nulová | F37: =ROUND((SUM(BI124:BI192)), 2) -> 0 | I37: 0 | J37: =0 -> 0
D39: Cena s DPH | G39: v | H39: CZK | J39: =SUM(J30:J37) -> 0
D50: Projektant | G50: Zpracovatel
D61: Datum a podpis: | F61: Razítko | G61: Datum a podpis: | J61: Razítko
D65: Objednavatel | G65: Uchazeč
D76: Datum a podpis: | F76: Razítko | G76: Datum a podpis: | J76: Razítko
C82: REKAPITULACE ČLENĚNÍ SOUPISU PRACÍ
C84: Stavba:
E85: =E7 -> Zabezpečení čekáren v obvodu OŘ Olomouc
C86: Objekt:
E87: =E9 -> SO 01 - Vstupní dveře
C89: Místo: | F89: =F12 | I89: Datum: | J89: =IF(J12="","",J12) -> 0
C91: Zadavatel: | F91: =E15 | I91: Projektant: | J91: =E21
C92: Uchazeč: | F92: =IF(E18="","",E18) -> Vyplň údaj | I92: Zpracovatel: | J92: =E24
C94: Kód dílu - Popis | J94: Cena celkem [CZK]
C96: Náklady ze soupisu prací | J96: =J124 -> 0 | AU96: -1
D97: HSV - Práce a dodávky HSV | J97: =J125 -> 0
D98: 6 - Úpravy povrchů, podlahy a osazování výplní | J98: =J126 -> 0
D99: 9 - Ostatní konstrukce a práce, bourání | J99: =J131 -> 0
D100: 997 - Přesun sutě | J100: =J143 -> 0
D101: 998 - Přesun hmot | J101: =J153 -> 0
D102: PSV - Práce a dodávky PSV | J102: =J156 -> 0
D103: 766 - Konstrukce truhlářské | J103: =J157 -> 0
D104: 784 - Dokončovací práce - malby a tapety | J104: =J186 -> 0
C111: SOUPIS PRACÍ
C113: Stavba:
E114: =E7 -> Zabezpečení čekáren v obvodu OŘ Olomouc
C115: Objekt:
E116: =E9 -> SO 01 - Vstupní dveře
C118: Místo: | F118: =F12 | I118: Datum: | J118: =IF(J12="","",J12) -> 0
C120: Zadavatel: | F120: =E15 | I120: Projektant: | J120: =E21
C121: Uchazeč: | F121: =IF(E18="","",E18) -> Vyplň údaj | I121: Zpracovatel: | J121: =E24
C123: PČ | D123: Typ | E123: Kód | F123: Popis | G123: MJ | H123: Množství | I123: J.cena [CZK] | J123: Cena celkem [CZK] | K123: Cenová soustava | N123: DPH | O123: J. Nh [h] | P123: Nh celkem [h] | Q123: J. hmotnost [t] | R123: Hmotnost celkem [t] | S123: J. suť [t] | T123: Suť Celkem [t]
C124: Náklady soupisu celkem | J124: =BK124 -> 0 | P124: =P125+P156 -> 0 | R124: =R125+R156 -> 3.37216 | T124: =T125+T156 -> 3.60144 | AT124: D | AU124: -1 | BK124: =BK125+BK156 -> 0
D125: D | E125: HSV | F125: Práce a dodávky HSV | J125: =BK125 -> 0 | P125: =P126+P131+P143+P153 -> 0 | R125: =R126+R131+R143+R153 -> 2.69882 | T125: =T126+T131+T143+T153 -> 3.59349 | AR125: 1 | AT125: D | AU125: 0 | AY125: ROZPOCET | BK125: =BK126+BK131+BK143+BK153 -> 0
D126: D | E126: 6 | F126: Úpravy povrchů, podlahy a osazování výplní | J126: =BK126 -> 0 | P126: =SUM(P127:P130) -> 0 | R126: =SUM(R127:R130) -> 2.69822 | T126: =SUM(T127:T130) -> 0 | AR126: 1 | AT126: D | AU126: 1 | AY126: ROZPOCET | BK126: =SUM(BK127:BK130) -> 0
C127: 1 | D127: K | E127: 612325302 | F127: Vápenocementová štuková omítka ostění nebo nadpraží | G127: m2 | H127: 53 | J127: =ROUND(I127*H127,2) -> 0 | N127: základní | P127: =O127*H127 -> 0 | Q127: 0.03358 | R127: =Q127*H127 -> 1.77974 | S127: 0 | T127: =S127*H127 -> 0 | AR127: 4 | AT127: K | AU127: 2 | AY127: ROZPOCET | BE127: =IF(N127="základní",J127,0) -> 0 | BF127: =IF(N127="snížená",J127,0) -> 0 | BG127: =IF(N127="zákl. přenesená",J127,0) -> 0 | BH127: =IF(N127="sníž. přenesená",J127,0) -> 0 | BI127: =IF(N127="nulová",J127,0) -> 0 | BJ127: 1 | BK127: =ROUND(I127*H127,2) -> 0 | BL127: 4 | BM127: -39198028
D128: PP | F128: Vápenocementová omítka ostění nebo nadpraží štuková, včetně zapravení podlahové k-ce | AT128: PP | AU128: 2
C129: 2 | D129: K | E129: 773500910.1 | F129: Opravy podlah tl do 30 mm pásů šířky do 150 mm | G129: m2 | H129: 12 | J129: =ROUND(I129*H129,2) -> 0 | N129: základní | P129: =O129*H129 -> 0 | Q129: 0.07654 | R129: =Q129*H129 -> 0.91848 | S129: 0 | T129: =S129*H129 -> 0 | AR129: 16 | AT129: K | AU129: 2 | AY129: ROZPOCET | BE129: =IF(N129="základní",J129,0) -> 0 | BF129: =IF(N129="snížená",J129,0) -> 0 | BG129: =IF(N129="zákl. přenesená",J129,0) -> 0 | BH129: =IF(N129="sníž. přenesená",J129,0) -> 0 | BI129: =IF(N129="nulová",J129,0) -> 0 | BJ129: 1 | BK129: =ROUND(I129*H129,2) -> 0 | BL129: 16 | BM129: 1941230445
D130: PP | F130: Opravy podlah tl do 30 mm pásů šířky do 150 mm | AT130: PP | AU130: 2
D131: D | E131: 9 | F131: Ostatní konstrukce a práce, bourání | J131: =BK131 -> 0 | P131: =SUM(P132:P142) -> 0 | R131: =SUM(R132:R142) -> 0.0006 | T131: =SUM(T132:T142) -> 3.59349 | AR131: 1 | AT131: D | AU131: 1 | AY131: ROZPOCET | BK131: =SUM(BK132:BK142) -> 0
C132: 3 | D132: K | E132: 952901111 | F132: Vyčištění budov bytové a občanské výstavby při výšce podlaží do 4 m | G132: m2 | H132: 15 | J132: =ROUND(I132*H132,2) -> 0 | N132: základní | P132: =O132*H132 -> 0 | Q132: 4e-05 | R132: =Q132*H132 -> 0.0006 | S132: 0 | T132: =S132*H132 -> 0 | AR132: 4 | AT132: K | AU132: 2 | AY132: ROZPOCET | BE132: =IF(N132="základní",J132,0) -> 0 | BF132: =IF(N132="snížená",J132,0) -> 0 | BG132: =IF(N132="zákl. přenesená",J132,0) -> 0 | BH132: =IF(N132="sníž. přenesená",J132,0) -> 0 | BI132: =IF(N132="nulová",J132,0) -> 0 | BJ132: 1 | BK132: =ROUND(I132*H132,2) -> 0 | BL132: 4 | BM132: -194302752
D133: PP | F133: Vyčištění budov nebo objektů před předáním do užívání budov bytové nebo občanské výstavby, světlé výšky podlaží do 4 m | AT133: PP | AU133: 2
C134: 4 | D134: K | E134: 968062455 | F134: Vybourání dřevěných dveřních zárubní pl do 2 m2 | G134: m2 | H134: 1.8 | J134: =ROUND(I134*H134,2) -> 0 | N134: základní | P134: =O134*H134 -> 0 | Q134: 0 | R134: =Q134*H134 -> 0 | S134: 0.088 | T134: =S134*H134 -> 0.1584 | AR134: 4 | AT134: K | AU134: 2 | AY134: ROZPOCET | BE134: =IF(N134="základní",J134,0) -> 0 | BF134: =IF(N134="snížená",J134,0) -> 0 | BG134: =IF(N134="zákl. přenesená",J134,0) -> 0 | BH134: =IF(N134="sníž. přenesená",J134,0) -> 0 | BI134: =IF(N134="nulová",J134,0) -> 0 | BJ134: 1 | BK134: =ROUND(I134*H134,2) -> 0 | BL134: 4 | BM134: -828136926
D135: PP | F135: Vybourání dřevěných rámů oken s křídly, dveřních zárubní, vrat, stěn, ostění nebo obkladů dveřních zárubní, plochy do 2 m2 | AT135: PP | AU135: 2
D136: VV | F136: Luhačovice | AT136: VV | AU136: 2 | AV136: 1 | AW136: True | AX136: 0 | AY136: ROZPOCET
D137: VV | F137: 0,9*2 | H137: 1.8 | AT137: VV | AU137: 2 | AV137: 2 | AW137: True | AX137: 1 | AY137: ROZPOCET
C138: 5 | D138: K | E138: 968062456 | F138: Vybourání dřevěných dveřních zárubní pl přes 2 m2 | G138: m2 | H138: 51.27 | J138: =ROUND(I138*H138,2) -> 0 | N138: základní | P138: =O138*H138 -> 0 | Q138: 0 | R138: =Q138*H138 -> 0 | S138: 0.067 | T138: =S138*H138 -> 3.43509 | AR138: 4 | AT138: K | AU138: 2 | AY138: ROZPOCET | BE138: =IF(N138="základní",J138,0) -> 0 | BF138: =IF(N138="snížená",J138,0) -> 0 | BG138: =IF(N138="zákl. přenesená",J138,0) -> 0 | BH138: =IF(N138="sníž. přenesená",J138,0) -> 0 | BI138: =IF(N138="nulová",J138,0) -> 0 | BJ138: 1 | BK138: =ROUND(I138*H138,2) -> 0 | BL138: 4 | BM138: -586314010
D139: PP | F139: Vybourání dřevěných rámů oken s křídly, dveřních zárubní, vrat, stěn, ostění nebo obkladů dveřních zárubní, plochy přes 2 m2 | AT139: PP | AU139: 2
D140: VV | F140: ostatní | AT140: VV | AU140: 2 | AV140: 1 | AW140: True | AX140: 0 | AY140: ROZPOCET
D141: VV | F141: 1,35*2,7*2+1,8*2,07*2+2*1,97+1,35*2,65+1*2,65*2+1,55*2*2+1,3*3,3+1,6*2,7*2+0,9*2,2+1*2,6 | H141: 51.27 | AT141: VV | AU141: 2 | AV141: 2 | AW141: True | AX141: 0 | AY141: ROZPOCET
D142: VV | F142: Součet | H142: 51.27 | AT142: VV | AU142: 2 | AV142: 4 | AW142: True | AX142: 1 | AY142: ROZPOCET
D143: D | E143: 997 | F143: Přesun sutě | J143: =BK143 -> 0 | P143: =SUM(P144:P152) -> 0 | R143: =SUM(R144:R152) -> 0 | T143: =SUM(T144:T152) -> 0 | AR143: 1 | AT143: D | AU143: 1 | AY143: ROZPOCET | BK143: =SUM(BK144:BK152) -> 0
C144: 26 | D144: K | E144: 997013211 | F144: Vnitrostaveništní doprava suti a vybouraných hmot pro budovy v do 6 m ručně | G144: t | H144: 3.601 | J144: =ROUND(I144*H144,2) -> 0 | N144: základní | P144: =O144*H144 -> 0 | Q144: 0 | R144: =Q144*H144 -> 0 | S144: 0 | T144: =S144*H144 -> 0 | AR144: 4 | AT144: K | AU144: 2 | AY144: ROZPOCET | BE144: =IF(N144="základní",J144,0) -> 0 | BF144: =IF(N144="snížená",J144,0) -> 0 | BG144: =IF(N144="zákl. přenesená",J144,0) -> 0 | BH144: =IF(N144="sníž. přenesená",J144,0) -> 0 | BI144: =IF(N144="nulová",J144,0) -> 0 | BJ144: 1 | BK144: =ROUND(I144*H144,2) -> 0 | BL144: 4 | BM144: 947459256
D145: PP | F145: Vnitrostaveništní doprava suti a vybouraných hmot vodorovně do 50 m svisle ručně (nošením po schodech) pro budovy a haly výšky do 6 m | AT145: PP | AU145: 2
C146: 6 | D146: K | E146: 997013501 | F146: Odvoz suti a vybouraných hmot na skládku nebo meziskládku do 1 km se složením | G146: t | H146: 3.601 | J146: =ROUND(I146*H146,2) -> 0 | N146: základní | P146: =O146*H146 -> 0 | Q146: 0 | R146: =Q146*H146 -> 0 | S146: 0 | T146: =S146*H146 -> 0 | AR146: 4 | AT146: K | AU146: 2 | AY146: ROZPOCET | BE146: =IF(N146="základní",J146,0) -> 0 | BF146: =IF(N146="snížená",J146,0) -> 0 | BG146: =IF(N146="zákl. přenesená",J146,0) -> 0 | BH146: =IF(N146="sníž. přenesená",J146,0) -> 0 | BI146: =IF(N146="nulová",J146,0) -> 0 | BJ146: 1 | BK146: =ROUND(I146*H146,2) -> 0 | BL146: 4 | BM146: 1732286185
D147: PP | F147: Odvoz suti a vybouraných hmot na skládku nebo meziskládku se složením, na vzdálenost do 1 km | AT147: PP | AU147: 2
C148: 7 | D148: K | E148: 997013509 | F148: Příplatek k odvozu suti a vybouraných hmot na skládku ZKD 1 km přes 1 km | G148: t | H148: 54.015 | J148: =ROUND(I148*H148,2) -> 0 | N148: základní | P148: =O148*H148 -> 0 | Q148: 0 | R148: =Q148*H148 -> 0 | S148: 0 | T148: =S148*H148 -> 0 | AR148: 4 | AT148: K | AU148: 2 | AY148: ROZPOCET | BE148: =IF(N148="základní",J148,0) -> 0 | BF148: =IF(N148="snížená",J148,0) -> 0 | BG148: =IF(N148="zákl. přenesená",J148,0) -> 0 | BH148: =IF(N148="sníž. přenesená",J148,0) -> 0 | BI148: =IF(N148="nulová",J148,0) -> 0 | BJ148: 1 | BK148: =ROUND(I148*H148,2) -> 0 | BL148: 4 | BM148: 1025345233
D149: PP | F149: Odvoz suti a vybouraných hmot na skládku nebo meziskládku se složením, na vzdálenost Příplatek k ceně za každý další i započatý 1 km přes 1 km | AT149: PP | AU149: 2
D150: VV | F150: 3,601*15 'Přepočtené koeficientem množství | H150: 54.015 | AT150: VV | AU150: 2 | AV150: 2 | AW150: False | AX150: 1 | AY150: ROZPOCET
C151: 8 | D151: K | E151: 997013831 | F151: Poplatek za uložení na skládce (skládkovné) stavebního odpadu směsného kód odpadu 170 904 | G151: t | H151: 3.601 | J151: =ROUND(I151*H151,2) -> 0 | N151: základní | P151: =O151*H151 -> 0 | Q151: 0 | R151: =Q151*H151 -> 0 | S151: 0 | T151: =S151*H151 -> 0 | AR151: 4 | AT151: K | AU151: 2 | AY151: ROZPOCET | BE151: =IF(N151="základní",J151,0) -> 0 | BF151: =IF(N151="snížená",J151,0) -> 0 | BG151: =IF(N151="zákl. přenesená",J151,0) -> 0 | BH151: =IF(N151="sníž. přenesená",J151,0) -> 0 | BI151: =IF(N151="nulová",J151,0) -> 0 | BJ151: 1 | BK151: =ROUND(I151*H151,2) -> 0 | BL151: 4 | BM151: -929955133
D152: PP | F152: Poplatek za uložení stavebního odpadu na skládce (skládkovné) směsného stavebního a demoličního zatříděného do Katalogu odpadů pod kódem 170 904 | AT152: PP | AU152: 2
D153: D | E153: 998 | F153: Přesun hmot | J153: =BK153 -> 0 | P153: =SUM(P154:P155) -> 0 | R153: =SUM(R154:R155) -> 0 | T153: =SUM(T154:T155) -> 0 | AR153: 1 | AT153: D | AU153: 1 | AY153: ROZPOCET | BK153: =SUM(BK154:BK155) -> 0
C154: 24 | D154: K | E154: 998011001 | F154: Přesun hmot pro budovy zděné v do 6 m | G154: t | H154: 1.78 | J154: =ROUND(I154*H154,2) -> 0 | N154: základní | P154: =O154*H154 -> 0 | Q154: 0 | R154: =Q154*H154 -> 0 | S154: 0 | T154: =S154*H154 -> 0 | AR154: 4 | AT154: K | AU154: 2 | AY154: ROZPOCET | BE154: =IF(N154="základní",J154,0) -> 0 | BF154: =IF(N154="snížená",J154,0) -> 0 | BG154: =IF(N154="zákl. přenesená",J154,0) -> 0 | BH154: =IF(N154="sníž. přenesená",J154,0) -> 0 | BI154: =IF(N154="nulová",J154,0) -> 0 | BJ154: 1 | BK154: =ROUND(I154*H154,2) -> 0 | BL154: 4 | BM154: -1041212902
D155: PP | F155: Přesun hmot pro budovy občanské výstavby, bydlení, výrobu a služby s nosnou svislou konstrukcí zděnou z cihel, tvárnic nebo kamene vodorovná dopravní vzdálenost do 100 m pro budovy výšky do 6 m | AT155: PP | AU155: 2
D156: D | E156: PSV | F156: Práce a dodávky PSV | J156: =BK156 -> 0 | P156: =P157+P186 -> 0 | R156: =R157+R186 -> 0.67334 | T156: =T157+T186 -> 0.00795 | AR156: 2 | AT156: D | AU156: 0 | AY156: ROZPOCET | BK156: =BK157+BK186 -> 0
D157: D | E157: 766 | F157: Konstrukce truhlářské | J157: =BK157 -> 0 | P157: =SUM(P158:P185) -> 0 | R157: =SUM(R158:R185) -> 0.64737 | T157: =SUM(T158:T185) -> 0 | AR157: 2 | AT157: D | AU157: 1 | AY157: ROZPOCET | BK157: =SUM(BK158:BK185) -> 0
C158: 9 | D158: K | E158: 766660411 | F158: Montáž vchodových dveří jednokřídlových bez nadsvětlíku do zdiva | G158: kus | H158: 1 | J158: =ROUND(I158*H158,2) -> 0 | N158: základní | P158: =O158*H158 -> 0 | Q158: 0.00092 | R158: =Q158*H158 -> 0.00092 | S158: 0 | T158: =S158*H158 -> 0 | AR158: 16 | AT158: K | AU158: 2 | AY158: ROZPOCET | BE158: =IF(N158="základní",J158,0) -> 0 | BF158: =IF(N158="snížená",J158,0) -> 0 | BG158: =IF(N158="zákl. přenesená",J158,0) -> 0 | BH158: =IF(N158="sníž. přenesená",J158,0) -> 0 | BI158: =IF(N158="nulová",J158,0) -> 0 | BJ158: 1 | BK158: =ROUND(I158*H158,2) -> 0 | BL158: 16 | BM158: 263552288
D159: PP | F159: Montáž dveřních křídel vchodových dveří včetně rámu do zdiva jednokřídlových bez nadsvětlíku | AT159: PP | AU159: 2
D160: VV | F160: Luhačovice | AT160: VV | AU160: 2 | AV160: 1 | AW160: True | AX160: 0 | AY160: ROZPOCET
D161: VV | F161: 1 | H161: 1 | AT161: VV | AU161: 2 | AV161: 2 | AW161: True | AX161: 1 | AY161: ROZPOCET
C162: 10 | D162: M | E162: 55341246.2 | F162: dveře Al vchodové jednokřídlové | G162: kus | H162: 1 | J162: =ROUND(I162*H162,2) -> 0 | N162: základní | P162: =O162*H162 -> 0 | Q162: 0.023 | R162: =Q162*H162 -> 0.023 | S162: 0 | T162: =S162*H162 -> 0 | AR162: 32 | AT162: M | AU162: 2 | AY162: ROZPOCET | BE162: =IF(N162="základní",J162,0) -> 0 | BF162: =IF(N162="snížená",J162,0) -> 0 | BG162: =IF(N162="zákl. přenesená",J162,0) -> 0 | BH162: =IF(N162="sníž. přenesená",J162,0) -> 0 | BI162: =IF(N162="nulová",J162,0) -> 0 | BJ162: 1 | BK162: =ROUND(I162*H162,2) -> 0 | BL162: 16 | BM162: 329002157
D163: PP | F163: Antivandal dveře Al vchodové jednokřídlové včetně bezpeč. kování s ell.otvíračem s reverzní funkcí a signalizací,12V, stav.západka. S opačnou funkcí otevření: reverzní el. otvírač je při zapnutí el. napětí BLOKOVÁN - zajištěn. Při přerušení el. napětí je el. otvírač ODBLOKOVÁN - odjištěn. Odolnost proti vylomení 295 kg. Napájecí napětí 12 Vss a připravenosti pro napojení slaboprod.kabeláže | AT163: PP | AU163: 2
C164: 11 | D164: K | E164: 766660421 | F164: Montáž vchodových dveří jednokřídlových s nadsvětlíkem do zdiva | G164: kus | H164: 5 | J164: =ROUND(I164*H164,2) -> 0 | N164: základní | P164: =O164*H164 -> 0 | Q164: 0.00093 | R164: =Q164*H164 -> 0.00465 | S164: 0 | T164: =S164*H164 -> 0 | AR164: 16 | AT164: K | AU164: 2 | AY164: ROZPOCET | BE164: =IF(N164="základní",J164,0) -> 0 | BF164: =IF(N164="snížená",J164,0) -> 0 | BG164: =IF(N164="zákl. přenesená",J164,0) -> 0 | BH164: =IF(N164="sníž. přenesená",J164,0) -> 0 | BI164: =IF(N164="nulová",J164,0) -> 0 | BJ164: 1 | BK164: =ROUND(I164*H164,2) -> 0 | BL164: 16 | BM164: 2024364006
D165: PP | F165: Montáž dveřních křídel vchodových dveří včetně rámu do zdiva jednokřídlových s nadsvětlíkem | AT165: PP | AU165: 2
D166: VV | F166: Kunovice, Mohelnice, Moravičany, Uh.Ostroh | AT166: VV | AU166: 2 | AV166: 1 | AW166: True | AX166: 0 | AY166: ROZPOCET
...

Sheet PS01 - Doplnění stávající...
AT2: {1f644d9b-fd8f-480f-b007-58470e35725d}
AT3: 2
D4: KRYCÍ LIST SOUPISU PRACÍ | M4: v --- níže se nacházejí doplnkové a pomocné údaje k sestavám --- v | AT4: False
D6: Stavba:
E7: ='Rekapitulace stavby'!K6 -> Zabezpečení čekáren v obvodu OŘ Olomouc
D8: Objekt:
E9: PS01 - Doplnění stávajících EZS
D11: KSO: | I11: CC-CZ:
D12: Místo: | F12: OŘ Olomouc | I12: Datum: | J12: ='Rekapitulace stavby'!AN8 -> 0
D14: Zadavatel: | I14: IČ: | J14: =IF('Rekapitulace stavby'!AN10="","",'Rekapitulace stavby'!AN10)
E15: =IF('Rekapitulace stavby'!E11="","",'Rekapitulace stavby'!E11) | I15: DIČ: | J15: =IF('Rekapitulace stavby'!AN11="","",'Rekapitulace stavby'!AN11)
D17: Uchazeč: | I17: IČ: | J17: ='Rekapitulace stavby'!AN13 -> Vyplň údaj
E18: ='Rekapitulace stavby'!E14 -> Vyplň údaj | I18: DIČ: | J18: ='Rekapitulace stavby'!AN14 -> Vyplň údaj
D20: Projektant: | I20: IČ: | J20: =IF('Rekapitulace stavby'!AN16="","",'Rekapitulace stavby'!AN16)
E21: =IF('Rekapitulace stavby'!E17="","",'Rekapitulace stavby'!E17) | I21: DIČ: | J21: =IF('Rekapitulace stavby'!AN17="","",'Rekapitulace stavby'!AN17)
D23: Zpracovatel: | I23: IČ: | J23: =IF('Rekapitulace stavby'!AN19="","",'Rekapitulace stavby'!AN19)
E24: =IF('Rekapitulace stavby'!E20="","",'Rekapitulace stavby'!E20) | I24: DIČ: | J24: =IF('Rekapitulace stavby'!AN20="","",'Rekapitulace stavby'!AN20)
D26: Poznámka:
D30: Cena bez DPH | J30: =ROUND(J117, 2) -> 0
F32: Základ daně | I32: Sazba daně | J32: Výše daně
D33: DPH | E33: základní | F33: =ROUND((SUM(BE117:BE200)), 2) -> 0 | I33: 0.21 | J33: =ROUND(((SUM(BE117:BE200))*I33), 2) -> 0
E34: snížená | F34: =ROUND((SUM(BF117:BF200)), 2) -> 0 | I34: 0.15 | J34: =ROUND(((SUM(BF117:BF200))*I34), 2) -> 0
E35: zákl. přenesená | F35: =ROUND((SUM(BG117:BG200)), 2) -> 0 | I35: 0.21 | J35: =0 -> 0
E36: sníž. přenesená | F36: =ROUND((SUM(BH117:BH200)), 2) -> 0 | I36: 0.15 | J36: =0 -> 0
E37: nulová | F37: =ROUND((SUM(BI117:BI200)), 2) -> 0 | I37: 0 | J37: =0 -> 0
D39: Cena s DPH | G39: v | H39: CZK | J39: =SUM(J30:J37) -> 0
D50: Projektant | G50: Zpracovatel
D61: Datum a podpis: | F61: Razítko | G61: Datum a podpis: | J61: Razítko
D65: Objednavatel | G65: Uchazeč
D76: Datum a podpis: | F76: Razítko | G76: Datum a podpis: | J76: Razítko
C82: REKAPITULACE ČLENĚNÍ SOUPISU PRACÍ
C84: Stavba:
E85: =E7 -> Zabezpečení čekáren v obvodu OŘ Olomouc
C86: Objekt:
E87: =E9 -> PS01 - Doplnění stávajících EZS
C89: Místo: | F89: =F12 -> OŘ Olomouc | I89: Datum: | J89: =IF(J12="","",J12) -> 0
C91: Zadavatel: | F91: =E15 | I91: Projektant: | J91: =E21
C92: Uchazeč: | F92: =IF(E18="","",E18) -> Vyplň údaj | I92: Zpracovatel: | J92: =E24
C94: Kód dílu - Popis | J94: Cena celkem [CZK]
C96: Náklady ze soupisu prací | J96: =J117 -> 0 | AU96: -1
D97: OST - Ostatní | J97: =J166 -> 0
C104: SOUPIS PRACÍ
C106: Stavba:
E107: =E7 -> Zabezpečení čekáren v obvodu OŘ Olomouc
C108: Objekt:
E109: =E9 -> PS01 - Doplnění stávajících EZS
C111: Místo: | F111: =F12 -> OŘ Olomouc | I111: Datum: | J111: =IF(J12="","",J12) -> 0
C113: Zadavatel: | F113: =E15 | I113: Projektant: | J113: =E21
C114: Uchazeč: | F114: =IF(E18="","",E18) -> Vyplň údaj | I114: Zpracovatel: | J114: =E24
C116: PČ | D116: Typ | E116: Kód | F116: Popis | G116: MJ | H116: Množství | I116: J.cena [CZK] | J116: Cena celkem [CZK] | K116: Cenová soustava | N116: DPH | O116: J. Nh [h] | P116: Nh celkem [h] | Q116: J. hmotnost [t] | R116: Hmotnost celkem [t] | S116: J. suť [t] | T116: Suť Celkem [t]
C117: Náklady soupisu celkem | J117: =BK117 -> 0 | P117: =P118+SUM(P119:P166) -> 0 | R117: =R118+SUM(R119:R166) -> 0 | T117: =T118+SUM(T119:T166) -> 0 | AT117: D | AU117: -1 | BK117: =BK118+SUM(BK119:BK166) -> 0
C118: 1 | D118: M | E118: 7597110330 | F118: EZS Üstředna až 96 zón a 16 grup v krytu bez klávesnice, s komunikátorem a zdrojem | G118: kus | H118: 7 | J118: =ROUND(I118*H118,2) -> 0 | N118: základní | P118: =O118*H118 -> 0 | Q118: 0 | R118: =Q118*H118 -> 0 | S118: 0 | T118: =S118*H118 -> 0 | AR118: 8 | AT118: M | AU118: 0 | AY118: ROZPOCET | BE118: =IF(N118="základní",J118,0) -> 0 | BF118: =IF(N118="snížená",J118,0) -> 0 | BG118: =IF(N118="zákl. přenesená",J118,0) -> 0 | BH118: =IF(N118="sníž. přenesená",J118,0) -> 0 | BI118: =IF(N118="nulová",J118,0) -> 0 | BJ118: 1 | BK118: =ROUND(I118*H118,2) -> 0 | BL118: 4 | BM118: -1686631824
D119: PP | F119: EZS Üstředna až 96 zón a 16 grup v krytu bez klávesnice, s komunikátorem a zdrojem | AT119: PP | AU119: 0
C120: 2 | D120: M | E120: 7597110331 | F120: EZS Ústředna 264 zón v krytu s klávesnicí, komunikátorem a zdrojem | G120: kus | H120: 2 | J120: =ROUND(I120*H120,2) -> 0 | N120: základní | P120: =O120*H120 -> 0 | Q120: 0 | R120: =Q120*H120 -> 0 | S120: 0 | T120: =S120*H120 -> 0 | AR120: 8 | AT120: M | AU120: 0 | AY120: ROZPOCET | BE120: =IF(N120="základní",J120,0) -> 0 | BF120: =IF(N120="snížená",J120,0) -> 0 | BG120: =IF(N120="zákl. přenesená",J120,0) -> 0 | BH120: =IF(N120="sníž. přenesená",J120,0) -> 0 | BI120: =IF(N120="nulová",J120,0) -> 0 | BJ120: 1 | BK120: =ROUND(I120*H120,2) -> 0 | BL120: 4 | BM120: -129834607
D121: PP | F121: EZS Ústředna 264 zón v krytu s klávesnicí, komunikátorem a zdrojem | AT121: PP | AU121: 0
C122: 3 | D122: M | E122: 7597110352 | F122: EZS Systémový Ethernet komunikátor | G122: kus | H122: 2 | J122: =ROUND(I122*H122,2) -> 0 | N122: základní | P122: =O122*H122 -> 0 | Q122: 0 | R122: =Q122*H122 -> 0 | S122: 0 | T122: =S122*H122 -> 0 | AR122: 8 | AT122: M | AU122: 0 | AY122: ROZPOCET | BE122: =IF(N122="základní",J122,0) -> 0 | BF122: =IF(N122="snížená",J122,0) -> 0 | BG122: =IF(N122="zákl. přenesená",J122,0) -> 0 | BH122: =IF(N122="sníž. přenesená",J122,0) -> 0 | BI122: =IF(N122="nulová",J122,0) -> 0 | BJ122: 1 | BK122: =ROUND(I122*H122,2) -> 0 | BL122: 4 | BM122: 899330201
D123: PP | F123: EZS Systémový Ethernet komunikátor | AT123: PP | AU123: 0
C124: 4 | D124: M | E124: 7597111200 | F124: EZS koncentrátor RIO zdroj P026 | G124: kus | H124: 4 | J124: =ROUND(I124*H124,2) -> 0 | N124: základní | P124: =O124*H124 -> 0 | Q124: 0 | R124: =Q124*H124 -> 0 | S124: 0 | T124: =S124*H124 -> 0 | AR124: 8 | AT124: M | AU124: 0 | AY124: ROZPOCET | BE124: =IF(N124="základní",J124,0) -> 0 | BF124: =IF(N124="snížená",J124,0) -> 0 | BG124: =IF(N124="zákl. přenesená",J124,0) -> 0 | BH124: =IF(N124="sníž. přenesená",J124,0) -> 0 | BI124: =IF(N124="nulová",J124,0) -> 0 | BJ124: 1 | BK124: =ROUND(I124*H124,2) -> 0 | BL124: 4 | BM124: -1872623788
D125: PP | F125: EZS koncentrátor RIO zdroj P026 | AT125: PP | AU125: 0
C126: 6 | D126: M | E126: 7597111201 | F126: EZS RIO G8P | G126: kus | H126: 16 | J126: =ROUND(I126*H126,2) -> 0 | N126: základní | P126: =O126*H126 -> 0 | Q126: 0 | R126: =Q126*H126 -> 0 | S126: 0 | T126: =S126*H126 -> 0 | AR126: 8 | AT126: M | AU126: 0 | AY126: ROZPOCET | BE126: =IF(N126="základní",J126,0) -> 0 | BF126: =IF(N126="snížená",J126,0) -> 0 | BG126: =IF(N126="zákl. přenesená",J126,0) -> 0 | BH126: =IF(N126="sníž. přenesená",J126,0) -> 0 | BI126: =IF(N126="nulová",J126,0) -> 0 | BJ126: 1 | BK126: =ROUND(I126*H126,2) -> 0 | BL126: 4 | BM126: -1769406984
D127: PP | F127: EZS RIO G8P | AT127: PP | AU127: 0
C128: 5 | D128: M | E128: 7597110351 | F128: EZS Posilovací zdroj 12V/3A | G128: kus | H128: 10 | J128: =ROUND(I128*H128,2) -> 0 | N128: základní | P128: =O128*H128 -> 0 | Q128: 0 | R128: =Q128*H128 -> 0 | S128: 0 | T128: =S128*H128 -> 0 | AR128: 8 | AT128: M | AU128: 0 | AY128: ROZPOCET | BE128: =IF(N128="základní",J128,0) -> 0 | BF128: =IF(N128="snížená",J128,0) -> 0 | BG128: =IF(N128="zákl. přenesená",J128,0) -> 0 | BH128: =IF(N128="sníž. přenesená",J128,0) -> 0 | BI128: =IF(N128="nulová",J128,0) -> 0 | BJ128: 1 | BK128: =ROUND(I128*H128,2) -> 0 | BL128: 4 | BM128: 2145974301
D129: PP | F129: EZS Posilovací zdroj 12V/3AA | AT129: PP | AU129: 0
C130: 7 | D130: M | E130: 7597110434 | F130: EZS Interní TCP IP komunikátor | G130: kus | H130: 2 | J130: =ROUND(I130*H130,2) -> 0 | N130: základní | P130: =O130*H130 -> 0 | Q130: 0 | R130: =Q130*H130 -> 0 | S130: 0 | T130: =S130*H130 -> 0 | AR130: 8 | AT130: M | AU130: 0 | AY130: ROZPOCET | BE130: =IF(N130="základní",J130,0) -> 0 | BF130: =IF(N130="snížená",J130,0) -> 0 | BG130: =IF(N130="zákl. přenesená",J130,0) -> 0 | BH130: =IF(N130="sníž. přenesená",J130,0) -> 0 | BI130: =IF(N130="nulová",J130,0) -> 0 | BJ130: 1 | BK130: =ROUND(I130*H130,2) -> 0 | BL130: 4 | BM130: -487621084
D131: PP | F131: EZS Interní TCP IP komunikátor | AT131: PP | AU131: 0
C132: 8 | D132: M | E132: 7597110338 | F132: EZS LCD klávesnice pro ústředny GD | G132: kus | H132: 1 | J132: =ROUND(I132*H132,2) -> 0 | N132: základní | P132: =O132*H132 -> 0 | Q132: 0 | R132: =Q132*H132 -> 0 | S132: 0 | T132: =S132*H132 -> 0 | AR132: 8 | AT132: M | AU132: 0 | AY132: ROZPOCET | BE132: =IF(N132="základní",J132,0) -> 0 | BF132: =IF(N132="snížená",J132,0) -> 0 | BG132: =IF(N132="zákl. přenesená",J132,0) -> 0 | BH132: =IF(N132="sníž. přenesená",J132,0) -> 0 | BI132: =IF(N132="nulová",J132,0) -> 0 | BJ132: 1 | BK132: =ROUND(I132*H132,2) -> 0 | BL132: 4 | BM132: -1295929376
D133: PP | F133: EZS LCD klávesnice pro ústředny GD | AT133: PP | AU133: 0
C134: 9 | D134: M | E134: 7597110932 | F134: EZS PIR detektor stropní s dosahem průměr až 12m | G134: kus | H134: 20 | J134: =ROUND(I134*H134,2) -> 0 | N134: základní | P134: =O134*H134 -> 0 | Q134: 0 | R134: =Q134*H134 -> 0 | S134: 0 | T134: =S134*H134 -> 0 | AR134: 8 | AT134: M | AU134: 0 | AY134: ROZPOCET | BE134: =IF(N134="základní",J134,0) -> 0 | BF134: =IF(N134="snížená",J134,0) -> 0 | BG134: =IF(N134="zákl. přenesená",J134,0) -> 0 | BH134: =IF(N134="sníž. přenesená",J134,0) -> 0 | BI134: =IF(N134="nulová",J134,0) -> 0 | BJ134: 1 | BK134: =ROUND(I134*H134,2) -> 0 | BL134: 4 | BM134: 371106343
D135: PP | F135: EZS PIR detektor stropní s dosahem průměr až 12m | AT135: PP | AU135: 0
C136: 10 | D136: M | E136: 7597111031 | F136: EZS Detektor tříštění skla s dosahem až 9m | G136: kus | H136: 21 | J136: =ROUND(I136*H136,2) -> 0 | N136: základní | P136: =O136*H136 -> 0 | Q136: 0 | R136: =Q136*H136 -> 0 | S136: 0 | T136: =S136*H136 -> 0 | AR136: 8 | AT136: M | AU136: 0 | AY136: ROZPOCET | BE136: =IF(N136="základní",J136,0) -> 0 | BF136: =IF(N136="snížená",J136,0) -> 0 | BG136: =IF(N136="zákl. přenesená",J136,0) -> 0 | BH136: =IF(N136="sníž. přenesená",J136,0) -> 0 | BI136: =IF(N136="nulová",J136,0) -> 0 | BJ136: 1 | BK136: =ROUND(I136*H136,2) -> 0 | BL136: 4 | BM136: 1024014198
D137: PP | F137: EZS Detektor tříštění skla s dosahem až 9m | AT137: PP | AU137: 0
C138: 11 | D138: M | E138: 7597111070 | F138: EZS MG kontakt povrchový plastový s kolmo vyvedenými vodiči délky 3m | G138: kus | H138: 86 | J138: =ROUND(I138*H138,2) -> 0 | N138: základní | P138: =O138*H138 -> 0 | Q138: 0 | R138: =Q138*H138 -> 0 | S138: 0 | T138: =S138*H138 -> 0 | AR138: 8 | AT138: M | AU138: 0 | AY138: ROZPOCET | BE138: =IF(N138="základní",J138,0) -> 0 | BF138: =IF(N138="snížená",J138,0) -> 0 | BG138: =IF(N138="zákl. přenesená",J138,0) -> 0 | BH138: =IF(N138="sníž. přenesená",J138,0) -> 0 | BI138: =IF(N138="nulová",J138,0) -> 0 | BJ138: 1 | BK138: =ROUND(I138*H138,2) -> 0 | BL138: 4 | BM138: -474408110
D139: PP | F139: EZS MG kontakt povrchový plastový s kolmo vyvedenými vodiči délky 3m | AT139: PP | AU139: 0
C140: 12 | D140: M | E140: 7491201330 | F140: Elektroinstalační materiál Elektroinstalační krabice a rozvodky Bez zapojení Krabice KT 250L rozvodná do sádrokartonu | G140: kus | H140: 51 | J140: =ROUND(I140*H140,2) -> 0 | N140: základní | P140: =O140*H140 -> 0 | Q140: 0 | R140: =Q140*H140 -> 0 | S140: 0 | T140: =S140*H140 -> 0 | AR140: 8 | AT140: M | AU140: 0 | AY140: ROZPOCET | BE140: =IF(N140="základní",J140,0) -> 0 | BF140: =IF(N140="snížená",J140,0) -> 0 | BG140: =IF(N140="zákl. přenesená",J140,0) -> 0 | BH140: =IF(N140="sníž. přenesená",J140,0) -> 0 | BI140: =IF(N140="nulová",J140,0) -> 0 | BJ140: 1 | BK140: =ROUND(I140*H140,2) -> 0 | BL140: 4 | BM140: 959131002
D141: PP | F141: Elektroinstalační materiál Elektroinstalační krabice a rozvodky Bez zapojení Krabice KT 250L rozvodná do sádrokartonu | AT141: PP | AU141: 0
C142: 13 | D142: M | E142: 7491201210 | F142: Elektroinstalační materiál Elektroinstalační krabice a rozvodky Bez zapojení Krabice KT 250 rozvodná | G142: kus | H142: 19 | J142: =ROUND(I142*H142,2) -> 0 | N142: základní | P142: =O142*H142 -> 0 | Q142: 0 | R142: =Q142*H142 -> 0 | S142: 0 | T142: =S142*H142 -> 0 | AR142: 8 | AT142: M | AU142: 0 | AY142: ROZPOCET | BE142: =IF(N142="základní",J142,0) -> 0 | BF142: =IF(N142="snížená",J142,0) -> 0 | BG142: =IF(N142="zákl. přenesená",J142,0) -> 0 | BH142: =IF(N142="sníž. přenesená",J142,0) -> 0 | BI142: =IF(N142="nulová",J142,0) -> 0 | BJ142: 1 | BK142: =ROUND(I142*H142,2) -> 0 | BL142: 4 | BM142: 495159932
D143: PP | F143: Elektroinstalační materiál Elektroinstalační krabice a rozvodky Bez zapojení Krabice KT 250 rozvodná | AT143: PP | AU143: 0
C144: 14 | D144: M | E144: 7590540524 | F144: Slaboproudé rozvody, kabely pro přívod a vnitřní instalaci Stíněný plášť, PVC vnitřní, drát | G144: m | H144: 1060 | J144: =ROUND(I144*H144,2) -> 0 | N144: základní | P144: =O144*H144 -> 0 | Q144: 0 | R144: =Q144*H144 -> 0 | S144: 0 | T144: =S144*H144 -> 0 | AR144: 8 | AT144: M | AU144: 0 | AY144: ROZPOCET | BE144: =IF(N144="základní",J144,0) -> 0 | BF144: =IF(N144="snížená",J144,0) -> 0 | BG144: =IF(N144="zákl. přenesená",J144,0) -> 0 | BH144: =IF(N144="sníž. přenesená",J144,0) -> 0 | BI144: =IF(N144="nulová",J144,0) -> 0 | BJ144: 1 | BK144: =ROUND(I144*H144,2) -> 0 | BL144: 4 | BM144: 247065793
D145: PP | F145: Slaboproudé rozvody, kabely pro přívod a vnitřní instalaci Stíněný plášť, PVC vnitřní, drát | AT145: PP | AU145: 0
C146: 15 | D146: M | E146: 7590540624 | F146: Slaboproudé rozvody, kabely pro přívod a vnitřní instalaci UTP/FTP kategorie 6a, 250MHz 1 Gbps FTP Stíněné páry, PVC vnitřní | G146: m | H146: 260 | J146: =ROUND(I146*H146,2) -> 0 | N146: základní | P146: =O146*H146 -> 0 | Q146: 0 | R146: =Q146*H146 -> 0 | S146: 0 | T146: =S146*H146 -> 0 | AR146: 8 | AT146: M | AU146: 0 | AY146: ROZPOCET | BE146: =IF(N146="základní",J146,0) -> 0 | BF146: =IF(N146="snížená",J146,0) -> 0 | BG146: =IF(N146="zákl. přenesená",J146,0) -> 0 | BH146: =IF(N146="sníž. přenesená",J146,0) -> 0 | BI146: =IF(N146="nulová",J146,0) -> 0 | BJ146: 1 | BK146: =ROUND(I146*H146,2) -> 0 | BL146: 4 | BM146: 1636532172
D147: PP | F147: Slaboproudé rozvody, kabely pro přívod a vnitřní instalaci UTP/FTP kategorie 6a, 250MHz 1 Gbps FTP Stíněné páry, PVC vnitřní | AT147: PP | AU147: 0
C148: 16 | D148: M | E148: 7492501950 | F148: Kabely, vodiče, šňůry Cu - nn Kabel silový 4 a 5-žílový Cu, plastová izolace CYKY 4O4 (4Dx4) | G148: m | H148: 80 | J148: =ROUND(I148*H148,2) -> 0 | N148: základní | P148: =O148*H148 -> 0 | Q148: 0 | R148: =Q148*H148 -> 0 | S148: 0 | T148: =S148*H148 -> 0 | AR148: 8 | AT148: M | AU148: 0 | AY148: ROZPOCET | BE148: =IF(N148="základní",J148,0) -> 0 | BF148: =IF(N148="snížená",J148,0) -> 0 | BG148: =IF(N148="zákl. přenesená",J148,0) -> 0 | BH148: =IF(N148="sníž. přenesená",J148,0) -> 0 | BI148: =IF(N148="nulová",J148,0) -> 0 | BJ148: 1 | BK148: =ROUND(I148*H148,2) -> 0 | BL148: 4 | BM148: -1637800874
D149: PP | F149: Kabely, vodiče, šňůry Cu - nn Kabel silový 4 a 5-žílový Cu, plastová izolace CYKY 4O4 (4Dx4) | AT149: PP | AU149: 0
C150: 17 | D150: M | E150: 7590540280 | F150: Slaboproudé rozvody, kabely pro přívod a vnitřní instalaci Pro pevné vnitřní uložení J-Y(St)Y 2x2x0,8 Lg | G150: m | H150: 544 | J150: =ROUND(I150*H150,2) -> 0 | N150: základní | P150: =O150*H150 -> 0 | Q150: 0 | R150: =Q150*H150 -> 0 | S150: 0 | T150: =S150*H150 -> 0 | AR150: 8 | AT150: M | AU150: 0 | AY150: ROZPOCET | BE150: =IF(N150="základní",J150,0) -> 0 | BF150: =IF(N150="snížená",J150,0) -> 0 | BG150: =IF(N150="zákl. přenesená",J150,0) -> 0 | BH150: =IF(N150="sníž. přenesená",J150,0) -> 0 | BI150: =IF(N150="nulová",J150,0) -> 0 | BJ150: 1 | BK150: =ROUND(I150*H150,2) -> 0 | BL150: 4 | BM150: 1808060400
D151: PP | F151: Slaboproudé rozvody, kabely pro přívod a vnitřní instalaci Pro pevné vnitřní uložení J-Y(St)Y 2x2x0,8 Lg | AT151: PP | AU151: 0
C152: 18 | D152: M | E152: 7494003214 | F152: Modulární přístroje Jističe do 80 A; 10 kA 1+N-pólové In 6 A, Ue AC 230 V / DC 72 V, charakteristika B, 1+N-pól, Icn 10 kA | G152: kus | H152: 4 | J152: =ROUND(I152*H152,2) -> 0 | N152: základní | P152: =O152*H152 -> 0 | Q152: 0 | R152: =Q152*H152 -> 0 | S152: 0 | T152: =S152*H152 -> 0 | AR152: 8 | AT152: M | AU152: 0 | AY152: ROZPOCET | BE152: =IF(N152="základní",J152,0) -> 0 | BF152: =IF(N152="snížená",J152,0) -> 0 | BG152: =IF(N152="zákl. přenesená",J152,0) -> 0 | BH152: =IF(N152="sníž. přenesená",J152,0) -> 0 | BI152: =IF(N152="nulová",J152,0) -> 0 | BJ152: 1 | BK152: =ROUND(I152*H152,2) -> 0 | BL152: 4 | BM152: 536936636
D153: PP | F153: Modulární přístroje Jističe do 80 A; 10 kA 1+N-pólové In 6 A, Ue AC 230 V / DC 72 V, charakteristika B, 1+N-pól, Icn 10 kA | AT153: PP | AU153: 0
C154: 19 | D154: M | E154: 7596460640 | F154: Náhradní díly k EPS Kryty pro akumulátory 12V, 17Ah rozměry 160x210x82mm | G154: kus | H154: 20 | J154: =ROUND(I154*H154,2) -> 0 | N154: základní | P154: =O154*H154 -> 0 | Q154: 0 | R154: =Q154*H154 -> 0 | S154: 0 | T154: =S154*H154 -> 0 | AR154: 8 | AT154: M | AU154: 0 | AY154: ROZPOCET | BE154: =IF(N154="základní",J154,0) -> 0 | BF154: =IF(N154="snížená",J154,0) -> 0 | BG154: =IF(N154="zákl. přenesená",J154,0) -> 0 | BH154: =IF(N154="sníž. přenesená",J154,0) -> 0 | BI154: =IF(N154="nulová",J154,0) -> 0 | BJ154: 1 | BK154: =ROUND(I154*H154,2) -> 0 | BL154: 4 | BM154: -1475924108
D155: PP | F155: Náhradní díly k EPS Kryty pro akumulátory 12V, 17Ah rozměry 160x210x82mm | AT155: PP | AU155: 0
C156: 20 | D156: M | E156: 7593500680 | F156: Trasy kabelového vedení PVC trubky hrdlované 040/2,3/4000, třída 4 | G156: kus | H156: 146 | J156: =ROUND(I156*H156,2) -> 0 | N156: základní | P156: =O156*H156 -> 0 | Q156: 0 | R156: =Q156*H156 -> 0 | S156: 0 | T156: =S156*H156 -> 0 | AR156: 8 | AT156: M | AU156: 0 | AY156: ROZPOCET | BE156: =IF(N156="základní",J156,0) -> 0 | BF156: =IF(N156="snížená",J156,0) -> 0 | BG156: =IF(N156="zákl. přenesená",J156,0) -> 0 | BH156: =IF(N156="sníž. přenesená",J156,0) -> 0 | BI156: =IF(N156="nulová",J156,0) -> 0 | BJ156: 1 | BK156: =ROUND(I156*H156,2) -> 0 | BL156: 4 | BM156: -997883273
D157: PP | F157: Trasy kabelového vedení PVC trubky hrdlované 040/2,3/4000, třída 4 | AT157: PP | AU157: 0
C158: 21 | D158: M | E158: 7491200090 | F158: Elektroinstalační materiál Elektroinstalační lišty a kabelové žlaby Lišta LV 18x13 vkládací bílá 2m | G158: kus | H158: 226 | J158: =ROUND(I158*H158,2) -> 0 | N158: základní | P158: =O158*H158 -> 0 | Q158: 0 | R158: =Q158*H158 -> 0 | S158: 0 | T158: =S158*H158 -> 0 | AR158: 8 | AT158: M | AU158: 0 | AY158: ROZPOCET | BE158: =IF(N158="základní",J158,0) -> 0 | BF158: =IF(N158="snížená",J158,0) -> 0 | BG158: =IF(N158="zákl. přenesená",J158,0) -> 0 | BH158: =IF(N158="sníž. přenesená",J158,0) -> 0 | BI158: =IF(N158="nulová",J158,0) -> 0 | BJ158: 1 | BK158: =ROUND(I158*H158,2) -> 0 | BL158: 4 | BM158: -662117533
D159: PP | F159: Elektroinstalační materiál Elektroinstalační lišty a kabelové žlaby Lišta LV 18x13 vkládací bílá 2m | AT159: PP | AU159: 0
C160: 25 | D160: M | E160: 7596550010 | F160: Majáčky a akustické úpravy pro nevidomé Orientační hlasový majáček pro nevidomé a slabozraké - 2 hlasové fráze, audio záznam MP3 na kartě SD/MMC přeprogramovatelný, digitální, exteriérový | G160: kus | H160: 13 | J160: =ROUND(I160*H160,2) -> 0 | N160: základní | P160: =O160*H160 -> 0 | Q160: 0 | R160: =Q160*H160 -> 0 | S160: 0 | T160: =S160*H160 -> 0 | AR160: 128 | AT160: M | AU160: 0 | AY160: ROZPOCET | BE160: =IF(N160="základní",J160,0) -> 0 | BF160: =IF(N160="snížená",J160,0) -> 0 | BG160: =IF(N160="zákl. přenesená",J160,0) -> 0 | BH160: =IF(N160="sníž. přenesená",J160,0) -> 0 | BI160: =IF(N160="nulová",J160,0) -> 0 | BJ160: 1 | BK160: =ROUND(I160*H160,2) -> 0 | BL160: 128 | BM160: -490455198
D161: PP | F161: Majáčky a akustické úpravy pro nevidomé Orientační hlasový majáček pro nevidomé a slabozraké - 2 hlasové fráze, audio záznam MP3 na kartě SD/MMC přeprogramovatelný, digitální, exteriérový | AT161: PP | AU161: 0
C162: 23 | D162: M | E162: 7491200250 | F162: Elektroinstalační materiál Elektroinstalační lišty a kabelové žlaby Lišta LHD 40x20 vkládací bílá 3m | G162: kus | H162: 174 | J162: =ROUND(I162*H162,2) -> 0 | N162: základní | P162: =O162*H162 -> 0 | Q162: 0 | R162: =Q162*H162 -> 0 | S162: 0 | T162: =S162*H162 -> 0 | AR162: 8 | AT162: M | AU162: 0 | AY162: ROZPOCET | BE162: =IF(N162="základní",J162,0) -> 0 | BF162: =IF(N162="snížená",J162,0) -> 0 | BG162: =IF(N162="zákl. přenesená",J162,0) -> 0 | BH162: =IF(N162="sníž. přenesená",J162,0) -> 0 | BI162: =IF(N162="nulová",J162,0) -> 0 | BJ162: 1 | BK162: =ROUND(I162*H162,2) -> 0 | BL162: 4 | BM162: -478532469
D163: PP | F163: Elektroinstalační materiál Elektroinstalační lišty a kabelové žlaby Lišta LHD 40x20 vkládací bílá 3m | AT163: PP | AU163: 0
C164: 24 | D164: M | E164: 7491200260 | F164: Elektroinstalační materiál Elektroinstalační lišty a kabelové žlaby Lišta LHD 40x40 vkládací bílá 2m | G164: kus | H164: 94 | J164: =ROUND(I164*H164,2) -> 0 | N164: základní | P164: =O164*H164 -> 0 | Q164: 0 | R164: =Q164*H164 -> 0 | S164: 0 | T164: =S164*H164 -> 0 | AR164: 8 | AT164: M | AU164: 0 | AY164: ROZPOCET | BE164: =IF(N164="základní",J164,0) -> 0 | BF164: =IF(N164="snížená",J164,0) -> 0 | BG164: =IF(N164="zákl. přenesená",J164,0) -> 0 | BH164: =IF(N164="sníž. přenesená",J164,0) -> 0 | BI164: =IF(N164="nulová",J164,0) -> 0 | BJ164: 1 | BK164: =ROUND(I164*H164,2) -> 0 | BL164: 4 | BM164: 326275224
D165: PP | F165: Elektroinstalační materiál Elektroinstalační lišty a kabelové žlaby Lišta LHD 40x40 vkládací bílá 2m | AT165: PP | AU165: 0
D166: D | E166: OST | F166: Ostatní | J166: =BK166 -> 0 | P166: =SUM(P167:P200) -> 0 | R166: =SUM(R167:R200) -> 0 | T166: =SUM(T167:T200) -> 0 | AR166: 4 | AT166: D | AU166: 0 | AY166: ROZPOCET | BK166: =SUM(BK167:BK200) -> 0
...

Sheet PS02 - Doplnění kamerovýc...
AT2: {c9f18d42-fa81-4418-943e-6e38e16374b7}
AT3: 2
D4: KRYCÍ LIST SOUPISU PRACÍ | M4: v --- níže se nacházejí doplnkové a pomocné údaje k sestavám --- v | AT4: False
D6: Stavba:
E7: ='Rekapitulace stavby'!K6 -> Zabezpečení čekáren v obvodu OŘ Olomouc
D8: Objekt:
E9: PS02 - Doplnění kamerových systémů
D11: KSO: | I11: CC-CZ:
D12: Místo: | F12: OŘ Olomouc | I12: Datum: | J12: ='Rekapitulace stavby'!AN8 -> 0
D14: Zadavatel: | I14: IČ: | J14: =IF('Rekapitulace stavby'!AN10="","",'Rekapitulace stavby'!AN10)
E15: =IF('Rekapitulace stavby'!E11="","",'Rekapitulace stavby'!E11) | I15: DIČ: | J15: =IF('Rekapitulace stavby'!AN11="","",'Rekapitulace stavby'!AN11)
D17: Uchazeč: | I17: IČ: | J17: ='Rekapitulace stavby'!AN13 -> Vyplň údaj
E18: ='Rekapitulace stavby'!E14 -> Vyplň údaj | I18: DIČ: | J18: ='Rekapitulace stavby'!AN14 -> Vyplň údaj
D20: Projektant: | I20: IČ: | J20: =IF('Rekapitulace stavby'!AN16="","",'Rekapitulace stavby'!AN16)
E21: =IF('Rekapitulace stavby'!E17="","",'Rekapitulace stavby'!E17) | I21: DIČ: | J21: =IF('Rekapitulace stavby'!AN17="","",'Rekapitulace stavby'!AN17)
D23: Zpracovatel: | I23: IČ: | J23: =IF('Rekapitulace stavby'!AN19="","",'Rekapitulace stavby'!AN19)
E24: =IF('Rekapitulace stavby'!E20="","",'Rekapitulace stavby'!E20) | I24: DIČ: | J24: =IF('Rekapitulace stavby'!AN20="","",'Rekapitulace stavby'!AN20)
D26: Poznámka:
D30: Cena bez DPH | J30: =ROUND(J117, 2) -> 0
F32: Základ daně | I32: Sazba daně | J32: Výše daně
D33: DPH | E33: základní | F33: =ROUND((SUM(BE117:BE182)), 2) -> 0 | I33: 0.21 | J33: =ROUND(((SUM(BE117:BE182))*I33), 2) -> 0
E34: snížená | F34: =ROUND((SUM(BF117:BF182)), 2) -> 0 | I34: 0.15 | J34: =ROUND(((SUM(BF117:BF182))*I34), 2) -> 0
E35: zákl. přenesená | F35: =ROUND((SUM(BG117:BG182)), 2) -> 0 | I35: 0.21 | J35: =0 -> 0
E36: sníž. přenesená | F36: =ROUND((SUM(BH117:BH182)), 2) -> 0 | I36: 0.15 | J36: =0 -> 0
E37: nulová | F37: =ROUND((SUM(BI117:BI182)), 2) -> 0 | I37: 0 | J37: =0 -> 0
D39: Cena s DPH | G39: v | H39: CZK | J39: =SUM(J30:J37) -> 0
D50: Projektant | G50: Zpracovatel
D61: Datum a podpis: | F61: Razítko | G61: Datum a podpis: | J61: Razítko
D65: Objednavatel | G65: Uchazeč
D76: Datum a podpis: | F76: Razítko | G76: Datum a podpis: | J76: Razítko
C82: REKAPITULACE ČLENĚNÍ SOUPISU PRACÍ
C84: Stavba:
E85: =E7 -> Zabezpečení čekáren v obvodu OŘ Olomouc
C86: Objekt:
E87: =E9 -> PS02 - Doplnění kamerových systémů
C89: Místo: | F89: =F12 -> OŘ Olomouc | I89: Datum: | J89: =IF(J12="","",J12) -> 0
C91: Zadavatel: | F91: =E15 | I91: Projektant: | J91: =E21
C92: Uchazeč: | F92: =IF(E18="","",E18) -> Vyplň údaj | I92: Zpracovatel: | J92: =E24
C94: Kód dílu - Popis | J94: Cena celkem [CZK]
C96: Náklady ze soupisu prací | J96: =J117 -> 0 | AU96: -1
D97: OST - Ostatní | J97: =J154 -> 0
C104: SOUPIS PRACÍ
C106: Stavba:
E107: =E7 -> Zabezpečení čekáren v obvodu OŘ Olomouc
C108: Objekt:
E109: =E9 -> PS02 - Doplnění kamerových systémů
C111: Místo: | F111: =F12 -> OŘ Olomouc | I111: Datum: | J111: =IF(J12="","",J12) -> 0
C113: Zadavatel: | F113: =E15 | I113: Projektant: | J113: =E21
C114: Uchazeč: | F114: =IF(E18="","",E18) -> Vyplň údaj | I114: Zpracovatel: | J114: =E24
C116: PČ | D116: Typ | E116: Kód | F116: Popis | G116: MJ | H116: Množství | I116: J.cena [CZK] | J116: Cena celkem [CZK] | K116: Cenová soustava | N116: DPH | O116: J. Nh [h] | P116: Nh celkem [h] | Q116: J. hmotnost [t] | R116: Hmotnost celkem [t] | S116: J. suť [t] | T116: Suť Celkem [t]
C117: Náklady soupisu celkem | J117: =BK117 -> 0 | P117: =P118+SUM(P119:P154) -> 0 | R117: =R118+SUM(R119:R154) -> 0 | T117: =T118+SUM(T119:T154) -> 0 | AT117: D | AU117: -1 | BK117: =BK118+SUM(BK119:BK154) -> 0
C118: 1 | D118: M | E118: 7596730086 | F118: Kamerové systémy CCTV Kamera fixní vnitřní PTZ , TD/N, 600TVL, 25x zoom, 24V | G118: kus | H118: 14 | J118: =ROUND(I118*H118,2) -> 0 | N118: základní | P118: =O118*H118 -> 0 | Q118: 0 | R118: =Q118*H118 -> 0 | S118: 0 | T118: =S118*H118 -> 0 | AR118: 8 | AT118: M | AU118: 0 | AY118: ROZPOCET | BE118: =IF(N118="základní",J118,0) -> 0 | BF118: =IF(N118="snížená",J118,0) -> 0 | BG118: =IF(N118="zákl. přenesená",J118,0) -> 0 | BH118: =IF(N118="sníž. přenesená",J118,0) -> 0 | BI118: =IF(N118="nulová",J118,0) -> 0 | BJ118: 1 | BK118: =ROUND(I118*H118,2) -> 0 | BL118: 4 | BM118: -931361780
D119: PP | F119: Kamerové systémy CCTV Kamera fixní vnitřní PTZ , TD/N, 600TVL, 25x zoom, | AT119: PP | AU119: 0
C120: 2 | D120: M | E120: 7596730154 | F120: Kamerové systémy CCTV Kamera fixní vnitřní IP box, TD/N, HD 1080p, 5MP, f=2.8-12mm, WDR | G120: kus | H120: 1 | J120: =ROUND(I120*H120,2) -> 0 | N120: základní | P120: =O120*H120 -> 0 | Q120: 0 | R120: =Q120*H120 -> 0 | S120: 0 | T120: =S120*H120 -> 0 | AR120: 8 | AT120: M | AU120: 0 | AY120: ROZPOCET | BE120: =IF(N120="základní",J120,0) -> 0 | BF120: =IF(N120="snížená",J120,0) -> 0 | BG120: =IF(N120="zákl. přenesená",J120,0) -> 0 | BH120: =IF(N120="sníž. přenesená",J120,0) -> 0 | BI120: =IF(N120="nulová",J120,0) -> 0 | BJ120: 1 | BK120: =ROUND(I120*H120,2) -> 0 | BL120: 4 | BM120: 1882559114
D121: PP | F121: Kamerové systémy CCTV Kamera fixní vnitřní IP box, TD/N, HD 1080p, 5MP, f=2.8-12mm, WDR | AT121: PP | AU121: 0
C122: 5 | D122: M | E122: 7595600260 | F122: Media konvertor | G122: kus | H122: 6 | J122: =ROUND(I122*H122,2) -> 0 | N122: základní | P122: =O122*H122 -> 0 | Q122: 0 | R122: =Q122*H122 -> 0 | S122: 0 | T122: =S122*H122 -> 0 | AR122: 8 | AT122: M | AU122: 0 | AY122: ROZPOCET | BE122: =IF(N122="základní",J122,0) -> 0 | BF122: =IF(N122="snížená",J122,0) -> 0 | BG122: =IF(N122="zákl. přenesená",J122,0) -> 0 | BH122: =IF(N122="sníž. přenesená",J122,0) -> 0 | BI122: =IF(N122="nulová",J122,0) -> 0 | BJ122: 1 | BK122: =ROUND(I122*H122,2) -> 0 | BL122: 4 | BM122: 1960160816
D123: PP | F123: Media konvertor | AT123: PP | AU123: 0
C124: 6 | D124: M | E124: 7590560853 | F124: Optické kabely Spojky a příslušenství pro optické sítě Optické Patchcordy SM 9/125 E2000/APC-E2000/APC, 9/125/900/1800, délka 1 m, DUPLEX | G124: kus | H124: 6 | J124: =ROUND(I124*H124,2) -> 0 | N124: základní | P124: =O124*H124 -> 0 | Q124: 0 | R124: =Q124*H124 -> 0 | S124: 0 | T124: =S124*H124 -> 0 | AR124: 8 | AT124: M | AU124: 0 | AY124: ROZPOCET | BE124: =IF(N124="základní",J124,0) -> 0 | BF124: =IF(N124="snížená",J124,0) -> 0 | BG124: =IF(N124="zákl. přenesená",J124,0) -> 0 | BH124: =IF(N124="sníž. přenesená",J124,0) -> 0 | BI124: =IF(N124="nulová",J124,0) -> 0 | BJ124: 1 | BK124: =ROUND(I124*H124,2) -> 0 | BL124: 4 | BM124: 1124487036
D125: PP | F125: Optické kabely Spojky a příslušenství pro optické sítě Optické Patchcordy SM 9/125 E2000/APC-E2000/APC, 9/125/900/1800, délka 1 m, | AT125: PP | AU125: 0
C126: 7 | D126: M | E126: 7596730102 | F126: Kamerové systémy CCTV Kamera fixní Konzole k PTZ kamerám pro závěsnou montáž | G126: kus | H126: 14 | J126: =ROUND(I126*H126,2) -> 0 | N126: základní | P126: =O126*H126 -> 0 | Q126: 0 | R126: =Q126*H126 -> 0 | S126: 0 | T126: =S126*H126 -> 0 | AR126: 8 | AT126: M | AU126: 0 | AY126: ROZPOCET | BE126: =IF(N126="základní",J126,0) -> 0 | BF126: =IF(N126="snížená",J126,0) -> 0 | BG126: =IF(N126="zákl. přenesená",J126,0) -> 0 | BH126: =IF(N126="sníž. přenesená",J126,0) -> 0 | BI126: =IF(N126="nulová",J126,0) -> 0 | BJ126: 1 | BK126: =ROUND(I126*H126,2) -> 0 | BL126: 4 | BM126: 1994753599
D127: PP | F127: Kamerové systémy CCTV Kamera fixní Konzole k PTZ kamerám pro závěsnou montáž | AT127: PP | AU127: 0
C128: 8 | D128: M | E128: 7596730114 | F128: Kamerové systémy CCTV Kamera fixní Adaptér pro montáž kamer s konzolí | G128: kus | H128: 14 | J128: =ROUND(I128*H128,2) -> 0 | N128: základní | P128: =O128*H128 -> 0 | Q128: 0 | R128: =Q128*H128 -> 0 | S128: 0 | T128: =S128*H128 -> 0 | AR128: 8 | AT128: M | AU128: 0 | AY128: ROZPOCET | BE128: =IF(N128="základní",J128,0) -> 0 | BF128: =IF(N128="snížená",J128,0) -> 0 | BG128: =IF(N128="zákl. přenesená",J128,0) -> 0 | BH128: =IF(N128="sníž. přenesená",J128,0) -> 0 | BI128: =IF(N128="nulová",J128,0) -> 0 | BJ128: 1 | BK128: =ROUND(I128*H128,2) -> 0 | BL128: 4 | BM128: 622016767
D129: PP | F129: Kamerové systémy CCTV Kamera fixní Adaptér pro montáž kamer s konzolí | AT129: PP | AU129: 0
C130: 9 | D130: M | E130: 7596731400 | F130: Kamerové systémy CCTV Kamera fixní PoE injektor pro 1 IP kameru, 60W | G130: kus | H130: 10 | J130: =ROUND(I130*H130,2) -> 0 | N130: základní | P130: =O130*H130 -> 0 | Q130: 0 | R130: =Q130*H130 -> 0 | S130: 0 | T130: =S130*H130 -> 0 | AR130: 8 | AT130: M | AU130: 0 | AY130: ROZPOCET | BE130: =IF(N130="základní",J130,0) -> 0 | BF130: =IF(N130="snížená",J130,0) -> 0 | BG130: =IF(N130="zákl. přenesená",J130,0) -> 0 | BH130: =IF(N130="sníž. přenesená",J130,0) -> 0 | BI130: =IF(N130="nulová",J130,0) -> 0 | BJ130: 1 | BK130: =ROUND(I130*H130,2) -> 0 | BL130: 4 | BM130: 1837190589
D131: PP | F131: Kamerové systémy CCTV Kamera fixní PoE injektor pro 1 IP kameru, 60W | AT131: PP | AU131: 0
C132: 10 | D132: M | E132: 7593310625 | F132: Konstrukční díly RACK 19" 27U 600x600 na kolečkách, kovový, prosklené dveře, ventilační jednotka horní, rozvodný panel 230V s přepěťovou ochranou a 5 zásuvkami | G132: kus | H132: 1 | J132: =ROUND(I132*H132,2) -> 0 | N132: základní | P132: =O132*H132 -> 0 | Q132: 0 | R132: =Q132*H132 -> 0 | S132: 0 | T132: =S132*H132 -> 0 | AR132: 8 | AT132: M | AU132: 0 | AY132: ROZPOCET | BE132: =IF(N132="základní",J132,0) -> 0 | BF132: =IF(N132="snížená",J132,0) -> 0 | BG132: =IF(N132="zákl. přenesená",J132,0) -> 0 | BH132: =IF(N132="sníž. přenesená",J132,0) -> 0 | BI132: =IF(N132="nulová",J132,0) -> 0 | BJ132: 1 | BK132: =ROUND(I132*H132,2) -> 0 | BL132: 4 | BM132: 1682403277
D133: PP | F133: Konstrukční díly RACK 19" 27U 600x600 na kolečkách, kovový, prosklené dveře, ventilační jednotka horní, rozvodný panel 230V s přepěťovou ochranou a 5 zásuvkami | AT133: PP | AU133: 0
C134: 41 | D134: M | E134: 7496600490 | F134: UPS 230/230V AC 750VA APC Smart | G134: kus | H134: 3 | J134: =ROUND(I134*H134,2) -> 0 | N134: základní | P134: =O134*H134 -> 0 | Q134: 0 | R134: =Q134*H134 -> 0 | S134: 0 | T134: =S134*H134 -> 0 | AR134: 128 | AT134: M | AU134: 0 | AY134: ROZPOCET | BE134: =IF(N134="základní",J134,0) -> 0 | BF134: =IF(N134="snížená",J134,0) -> 0 | BG134: =IF(N134="zákl. přenesená",J134,0) -> 0 | BH134: =IF(N134="sníž. přenesená",J134,0) -> 0 | BI134: =IF(N134="nulová",J134,0) -> 0 | BJ134: 1 | BK134: =ROUND(I134*H134,2) -> 0 | BL134: 128 | BM134: -802807526
D135: PP | F135: UPS 230/230V AC 750VA APC Smart | AT135: PP | AU135: 0
C136: 11 | D136: M | E136: 7593310621 | F136: Konstrukční díly RACK 19" doplnit police | G136: kus | H136: 2 | J136: =ROUND(I136*H136,2) -> 0 | N136: základní | P136: =O136*H136 -> 0 | Q136: 0 | R136: =Q136*H136 -> 0 | S136: 0 | T136: =S136*H136 -> 0 | AR136: 8 | AT136: M | AU136: 0 | AY136: ROZPOCET | BE136: =IF(N136="základní",J136,0) -> 0 | BF136: =IF(N136="snížená",J136,0) -> 0 | BG136: =IF(N136="zákl. přenesená",J136,0) -> 0 | BH136: =IF(N136="sníž. přenesená",J136,0) -> 0 | BI136: =IF(N136="nulová",J136,0) -> 0 | BJ136: 1 | BK136: =ROUND(I136*H136,2) -> 0 | BL136: 4 | BM136: -280078803
D137: PP | F137: Konstrukční díly RACK 19" doplnit police | AT137: PP | AU137: 0
C138: 12 | D138: M | E138: 7590540564 | F138: Slaboproudé rozvody, kabely pro přívod a vnitřní instalaci UTP/FTP kategorie 6, 250MHz 1 Gbps UTP vnitřní, drát, nehořlavý, bezhalogenní, nízkodýmavý | G138: m | H138: 780 | J138: =ROUND(I138*H138,2) -> 0 | N138: základní | P138: =O138*H138 -> 0 | Q138: 0 | R138: =Q138*H138 -> 0 | S138: 0 | T138: =S138*H138 -> 0 | AR138: 8 | AT138: M | AU138: 0 | AY138: ROZPOCET | BE138: =IF(N138="základní",J138,0) -> 0 | BF138: =IF(N138="snížená",J138,0) -> 0 | BG138: =IF(N138="zákl. přenesená",J138,0) -> 0 | BH138: =IF(N138="sníž. přenesená",J138,0) -> 0 | BI138: =IF(N138="nulová",J138,0) -> 0 | BJ138: 1 | BK138: =ROUND(I138*H138,2) -> 0 | BL138: 4 | BM138: -1181229327
D139: PP | F139: Slaboproudé rozvody, kabely pro přívod a vnitřní instalaci UTP/FTP kategorie 6, 250MHz 1 Gbps UTP vnitřní, drát, nehořlavý, bezhalogenní, nízkodýmavý | AT139: PP | AU139: 0
C140: 13 | D140: M | E140: 7491200260 | F140: Elektroinstalační materiál Elektroinstalační lišty a kabelové žlaby Lišta LHD 40x20 vkládací bílá 2m | G140: kus | H140: 300 | J140: =ROUND(I140*H140,2) -> 0 | N140: základní | P140: =O140*H140 -> 0 | Q140: 0 | R140: =Q140*H140 -> 0 | S140: 0 | T140: =S140*H140 -> 0 | AR140: 8 | AT140: M | AU140: 0 | AY140: ROZPOCET | BE140: =IF(N140="základní",J140,0) -> 0 | BF140: =IF(N140="snížená",J140,0) -> 0 | BG140: =IF(N140="zákl. přenesená",J140,0) -> 0 | BH140: =IF(N140="sníž. přenesená",J140,0) -> 0 | BI140: =IF(N140="nulová",J140,0) -> 0 | BJ140: 1 | BK140: =ROUND(I140*H140,2) -> 0 | BL140: 4 | BM140: 396663668
D141: PP | F141: Elektroinstalační materiál Elektroinstalační lišty a kabelové žlaby Lišta LHD 40x20 vkládací bílá 2m | AT141: PP | AU141: 0
C142: 23 | D142: M | E142: 7590560304 | F142: Optické kabely Optické mikrokabely Závěsné samonosné jednoplášťové kabely 24 vl. PE plášť 11,8 mm | G142: m | H142: 300 | J142: =ROUND(I142*H142,2) -> 0 | N142: základní | P142: =O142*H142 -> 0 | Q142: 0 | R142: =Q142*H142 -> 0 | S142: 0 | T142: =S142*H142 -> 0 | AR142: 8 | AT142: M | AU142: 0 | AY142: ROZPOCET | BE142: =IF(N142="základní",J142,0) -> 0 | BF142: =IF(N142="snížená",J142,0) -> 0 | BG142: =IF(N142="zákl. přenesená",J142,0) -> 0 | BH142: =IF(N142="sníž. přenesená",J142,0) -> 0 | BI142: =IF(N142="nulová",J142,0) -> 0 | BJ142: 1 | BK142: =ROUND(I142*H142,2) -> 0 | BL142: 4 | BM142: 323698876
D143: PP | F143: Optické kabely Optické mikrokabely Závěsné samonosné jednoplášťové kabely 24 vl. PE plášť 11,8 mm | AT143: PP | AU143: 0
C144: 24 | D144: M | E144: 7590560611 | F144: Optické kabely Spojky a příslušenství pro optické sítě Ostatní Konektorový modul E-2000 se stand.opt.kazetou vybavený pigtaily a adaptéry | G144: kus | H144: 4 | J144: =ROUND(I144*H144,2) -> 0 | N144: základní | P144: =O144*H144 -> 0 | Q144: 0 | R144: =Q144*H144 -> 0 | S144: 0 | T144: =S144*H144 -> 0 | AR144: 8 | AT144: M | AU144: 0 | AY144: ROZPOCET | BE144: =IF(N144="základní",J144,0) -> 0 | BF144: =IF(N144="snížená",J144,0) -> 0 | BG144: =IF(N144="zákl. přenesená",J144,0) -> 0 | BH144: =IF(N144="sníž. přenesená",J144,0) -> 0 | BI144: =IF(N144="nulová",J144,0) -> 0 | BJ144: 1 | BK144: =ROUND(I144*H144,2) -> 0 | BL144: 4 | BM144: -1711176477
D145: PP | F145: Optické kabely Spojky a příslušenství pro optické sítě Ostatní Konektorový modul E-2000 se stand.opt.kazetou vybavený pigtaily a adaptéry | AT145: PP | AU145: 0
C146: 25 | D146: M | E146: 7590560519 | F146: Optické kabely Spojky a příslušenství pro optické sítě Ostatní Rezerva optického kabelu do 500mm | G146: kus | H146: 4 | J146: =ROUND(I146*H146,2) -> 0 | N146: základní | P146: =O146*H146 -> 0 | Q146: 0 | R146: =Q146*H146 -> 0 | S146: 0 | T146: =S146*H146 -> 0 | AR146: 8 | AT146: M | AU146: 0 | AY146: ROZPOCET | BE146: =IF(N146="základní",J146,0) -> 0 | BF146: =IF(N146="snížená",J146,0) -> 0 | BG146: =IF(N146="zákl. přenesená",J146,0) -> 0 | BH146: =IF(N146="sníž. přenesená",J146,0) -> 0 | BI146: =IF(N146="nulová",J146,0) -> 0 | BJ146: 1 | BK146: =ROUND(I146*H146,2) -> 0 | BL146: 4 | BM146: -162151951
D147: PP | F147: Optické kabely Spojky a příslušenství pro optické sítě Ostatní Rezerva optického kabelu do 500mm | AT147: PP | AU147: 0
C148: 29 | D148: M | E148: 7497400570 | F148: Závěsný kabel na laně Závěs ZOK nad 70 m | G148: kus | H148: 2 | J148: =ROUND(I148*H148,2) -> 0 | N148: základní | P148: =O148*H148 -> 0 | Q148: 0 | R148: =Q148*H148 -> 0 | S148: 0 | T148: =S148*H148 -> 0 | AR148: 8 | AT148: M | AU148: 0 | AY148: ROZPOCET | BE148: =IF(N148="základní",J148,0) -> 0 | BF148: =IF(N148="snížená",J148,0) -> 0 | BG148: =IF(N148="zákl. přenesená",J148,0) -> 0 | BH148: =IF(N148="sníž. přenesená",J148,0) -> 0 | BI148: =IF(N148="nulová",J148,0) -> 0 | BJ148: 1 | BK148: =ROUND(I148*H148,2) -> 0 | BL148: 4 | BM148: -1239181942
D149: PP | F149: Závěsný kabel na laně Závěs ZOK nad 70 m | AT149: PP | AU149: 0
C150: 30 | D150: M | E150: 7497400350 | F150: Závěsný kabel Závěs ZOK na lano | G150: kus | H150: 2 | J150: =ROUND(I150*H150,2) -> 0 | N150: základní | P150: =O150*H150 -> 0 | Q150: 0 | R150: =Q150*H150 -> 0 | S150: 0 | T150: =S150*H150 -> 0 | AR150: 8 | AT150: M | AU150: 0 | AY150: ROZPOCET | BE150: =IF(N150="základní",J150,0) -> 0 | BF150: =IF(N150="snížená",J150,0) -> 0 | BG150: =IF(N150="zákl. přenesená",J150,0) -> 0 | BH150: =IF(N150="sníž. přenesená",J150,0) -> 0 | BI150: =IF(N150="nulová",J150,0) -> 0 | BJ150: 1 | BK150: =ROUND(I150*H150,2) -> 0 | BL150: 4 | BM150: -1372729445
D151: PP | F151: Závěsný kabel Závěs ZOK na lano | AT151: PP | AU151: 0
C152: 31 | D152: M | E152: 7497400370 | F152: Závěsný kabel Konzola ZOK páskovaná prostá na stož. | G152: kus | H152: 2 | J152: =ROUND(I152*H152,2) -> 0 | N152: základní | P152: =O152*H152 -> 0 | Q152: 0 | R152: =Q152*H152 -> 0 | S152: 0 | T152: =S152*H152 -> 0 | AR152: 8 | AT152: M | AU152: 0 | AY152: ROZPOCET | BE152: =IF(N152="základní",J152,0) -> 0 | BF152: =IF(N152="snížená",J152,0) -> 0 | BG152: =IF(N152="zákl. přenesená",J152,0) -> 0 | BH152: =IF(N152="sníž. přenesená",J152,0) -> 0 | BI152: =IF(N152="nulová",J152,0) -> 0 | BJ152: 1 | BK152: =ROUND(I152*H152,2) -> 0 | BL152: 4 | BM152: 1464556783
D153: PP | F153: Závěsný kabel Konzola ZOK páskovaná prostá na stož. | AT153: PP | AU153: 0
D154: D | E154: OST | F154: Ostatní | J154: =BK154 -> 0 | P154: =SUM(P155:P182) -> 0 | R154: =SUM(R155:R182) -> 0 | T154: =SUM(T155:T182) -> 0 | AR154: 4 | AT154: D | AU154: 0 | AY154: ROZPOCET | BK154: =SUM(BK155:BK182) -> 0
C155: 19 | D155: K | E155: 7491251010 | F155: Montáž lišt elektroinstalačních, kabelových žlabů z PVC-U jednokomorových zaklapávacích rozměru 40/40 mm | G155: m | H155: 300 | J155: =ROUND(I155*H155,2) -> 0 | N155: základní | P155: =O155*H155 -> 0 | Q155: 0 | R155: =Q155*H155 -> 0 | S155: 0 | T155: =S155*H155 -> 0 | AR155: 512 | AT155: K | AU155: 1 | AY155: ROZPOCET | BE155: =IF(N155="základní",J155,0) -> 0 | BF155: =IF(N155="snížená",J155,0) -> 0 | BG155: =IF(N155="zákl. přenesená",J155,0) -> 0 | BH155: =IF(N155="sníž. přenesená",J155,0) -> 0 | BI155: =IF(N155="nulová",J155,0) -> 0 | BJ155: 1 | BK155: =ROUND(I155*H155,2) -> 0 | BL155: 512 | BM155: 470052865
D156: PP | F156: Montáž lišt elektroinstalačních, kabelových žlabů z PVC-U jednokomorových zaklapávacích rozměru 40/40 mm - na konstrukci, omítku apod. včetně spojek, ohybů, rohů, bez krabic | AT156: PP | AU156: 1
C157: 39 | D157: K | E157: 7590515010 | F157: Montáž slaboproudé rozvody, kabely pro přívod a vnitřní instalaci | G157: m | H157: 780 | J157: =ROUND(I157*H157,2) -> 0 | N157: základní | P157: =O157*H157 -> 0 | Q157: 0 | R157: =Q157*H157 -> 0 | S157: 0 | T157: =S157*H157 -> 0 | AR157: 512 | AT157: K | AU157: 1 | AY157: ROZPOCET | BE157: =IF(N157="základní",J157,0) -> 0 | BF157: =IF(N157="snížená",J157,0) -> 0 | BG157: =IF(N157="zákl. přenesená",J157,0) -> 0 | BH157: =IF(N157="sníž. přenesená",J157,0) -> 0 | BI157: =IF(N157="nulová",J157,0) -> 0 | BJ157: 1 | BK157: =ROUND(I157*H157,2) -> 0 | BL157: 512 | BM157: 1345872086
D158: PP | F158: Montáž slaboproudé rozvody, kabely pro přívod a vnitřní instalaci | AT158: PP | AU158: 1
C159: 32 | D159: K | E159: 7590565014 | F159: Spojování a ukončení kabelů optických v optickém rozvaděči pro 24 vláken | G159: kus | H159: 2 | J159: =ROUND(I159*H159,2) -> 0 | N159: základní | P159: =O159*H159 -> 0 | Q159: 0 | R159: =Q159*H159 -> 0 | S159: 0 | T159: =S159*H159 -> 0 | AR159: 512 | AT159: K | AU159: 1 | AY159: ROZPOCET | BE159: =IF(N159="základní",J159,0) -> 0 | BF159: =IF(N159="snížená",J159,0) -> 0 | BG159: =IF(N159="zákl. přenesená",J159,0) -> 0 | BH159: =IF(N159="sníž. přenesená",J159,0) -> 0 | BI159: =IF(N159="nulová",J159,0) -> 0 | BJ159: 1 | BK159: =ROUND(I159*H159,2) -> 0 | BL159: 512 | BM159: 1019092193
D160: PP | F160: Spojování a ukončení kabelů optických v optickém rozvaděči pro 24 vláken - práce spojené s montáží specifikované kabelizace specifikovaným způsobem | AT160: PP | AU160: 1
C161: 34 | D161: K | E161: 7590565152 | F161: Montáž optického kabelu závěsného závěs na lano | G161: kus | H161: 2 | J161: =ROUND(I161*H161,2) -> 0 | N161: základní | P161: =O161*H161 -> 0 | Q161: 0 | R161: =Q161*H161 -> 0 | S161: 0 | T161: =S161*H161 -> 0 | AR161: 512 | AT161: K | AU161: 1 | AY161: ROZPOCET | BE161: =IF(N161="základní",J161,0) -> 0 | BF161: =IF(N161="snížená",J161,0) -> 0 | BG161: =IF(N161="zákl. přenesená",J161,0) -> 0 | BH161: =IF(N161="sníž. přenesená",J161,0) -> 0 | BI161: =IF(N161="nulová",J161,0) -> 0 | BJ161: 1 | BK161: =ROUND(I161*H161,2) -> 0 | BL161: 512 | BM161: 1497447308
D162: PP | F162: Montáž optického kabelu závěsného závěs na lano | AT162: PP | AU162: 1
C163: 40 | D163: K | E163: 7590565170 | F163: Montáž optického kabelu závěsného zavěšení do svorek nosných | G163: m | H163: 300 | J163: =ROUND(I163*H163,2) -> 0 | N163: základní | P163: =O163*H163 -> 0 | Q163: 0 | R163: =Q163*H163 -> 0 | S163: 0 | T163: =S163*H163 -> 0 | AR163: 512 | AT163: K | AU163: 1 | AY163: ROZPOCET | BE163: =IF(N163="základní",J163,0) -> 0 | BF163: =IF(N163="snížená",J163,0) -> 0 | BG163: =IF(N163="zákl. přenesená",J163,0) -> 0 | BH163: =IF(N163="sníž. přenesená",J163,0) -> 0 | BI163: =IF(N163="nulová",J163,0) -> 0 | BJ163: 1 | BK163: =ROUND(I163*H163,2) -> 0 | BL163: 512 | BM163: 1774159612
D164: PP | F164: Montáž optického kabelu závěsného zavěšení do svorek nosných | AT164: PP | AU164: 1
C165: 38 | D165: K | E165: 7593005060 | F165: Montáž záložního napájecího zdroje instalace UPS | G165: kus | H165: 3 | J165: =ROUND(I165*H165,2) -> 0 | N165: základní | P165: =O165*H165 -> 0 | Q165: 0 | R165: =Q165*H165 -> 0 | S165: 0 | T165: =S165*H165 -> 0 | AR165: 512 | AT165: K | AU165: 1 | AY165: ROZPOCET | BE165: =IF(N165="základní",J165,0) -> 0 | BF165: =IF(N165="snížená",J165,0) -> 0 | BG165: =IF(N165="zákl. přenesená",J165,0) -> 0 | BH165: =IF(N165="sníž. přenesená",J165,0) -> 0 | BI165: =IF(N165="nulová",J165,0) -> 0 | BJ165: 1 | BK165: =ROUND(I165*H165,2) -> 0 | BL165: 512 | BM165: -1034833524
D166: PP | F166: Montáž záložního napájecího zdroje instalace UPS standalone | AT166: PP | AU166: 1
...

Sheet PS 03 - Kamerový systém v...
AT2: {78f909a9-26e6-42cd-b7ee-1002c118aad3}
AT3: 2
D4: KRYCÍ LIST SOUPISU PRACÍ | M4: v --- níže se nacházejí doplnkové a pomocné údaje k sestavám --- v | AT4: False
D6: Stavba:
E7: ='Rekapitulace stavby'!K6 -> Zabezpečení čekáren v obvodu OŘ Olomouc
D8: Objekt:
E9: PS 03 - Kamerový systém v žst. Kojetín
D11: KSO: | I11: CC-CZ:
D12: Místo: | F12: OŘ Olomouc | I12: Datum: | J12: ='Rekapitulace stavby'!AN8 -> 0
D14: Zadavatel: | I14: IČ: | J14: =IF('Rekapitulace stavby'!AN10="","",'Rekapitulace stavby'!AN10)
E15: =IF('Rekapitulace stavby'!E11="","",'Rekapitulace stavby'!E11) | I15: DIČ: | J15: =IF('Rekapitulace stavby'!AN11="","",'Rekapitulace stavby'!AN11)
D17: Uchazeč: | I17: IČ: | J17: ='Rekapitulace stavby'!AN13 -> Vyplň údaj
E18: ='Rekapitulace stavby'!E14 -> Vyplň údaj | I18: DIČ: | J18: ='Rekapitulace stavby'!AN14 -> Vyplň údaj
D20: Projektant: | I20: IČ: | J20: =IF('Rekapitulace stavby'!AN16="","",'Rekapitulace stavby'!AN16)
E21: =IF('Rekapitulace stavby'!E17="","",'Rekapitulace stavby'!E17) | I21: DIČ: | J21: =IF('Rekapitulace stavby'!AN17="","",'Rekapitulace stavby'!AN17)
D23: Zpracovatel: | I23: IČ: | J23: =IF('Rekapitulace stavby'!AN19="","",'Rekapitulace stavby'!AN19)
E24: =IF('Rekapitulace stavby'!E20="","",'Rekapitulace stavby'!E20) | I24: DIČ: | J24: =IF('Rekapitulace stavby'!AN20="","",'Rekapitulace stavby'!AN20)
D26: Poznámka:
D30: Cena bez DPH | J30: =ROUND(J117, 2) -> 0
F32: Základ daně | I32: Sazba daně | J32: Výše daně
D33: DPH | E33: základní | F33: =ROUND((SUM(BE117:BE164)), 2) -> 0 | I33: 0.21 | J33: =ROUND(((SUM(BE117:BE164))*I33), 2) -> 0
E34: snížená | F34: =ROUND((SUM(BF117:BF164)), 2) -> 0 | I34: 0.15 | J34: =ROUND(((SUM(BF117:BF164))*I34), 2) -> 0
E35: zákl. přenesená | F35: =ROUND((SUM(BG117:BG164)), 2) -> 0 | I35: 0.21 | J35: =0 -> 0
E36: sníž. přenesená | F36: =ROUND((SUM(BH117:BH164)), 2) -> 0 | I36: 0.15 | J36: =0 -> 0
E37: nulová | F37: =ROUND((SUM(BI117:BI164)), 2) -> 0 | I37: 0 | J37: =0 -> 0
D39: Cena s DPH | G39: v | H39: CZK | J39: =SUM(J30:J37) -> 0
D50: Projektant | G50: Zpracovatel
D61: Datum a podpis: | F61: Razítko | G61: Datum a podpis: | J61: Razítko
D65: Objednavatel | G65: Uchazeč
D76: Datum a podpis: | F76: Razítko | G76: Datum a podpis: | J76: Razítko
C82: REKAPITULACE ČLENĚNÍ SOUPISU PRACÍ
C84: Stavba:
E85: =E7 -> Zabezpečení čekáren v obvodu OŘ Olomouc
C86: Objekt:
E87: =E9 -> PS 03 - Kamerový systém v žst. Kojetín
C89: Místo: | F89: =F12 -> OŘ Olomouc | I89: Datum: | J89: =IF(J12="","",J12) -> 0
C91: Zadavatel: | F91: =E15 | I91: Projektant: | J91: =E21
C92: Uchazeč: | F92: =IF(E18="","",E18) -> Vyplň údaj | I92: Zpracovatel: | J92: =E24
C94: Kód dílu - Popis | J94: Cena celkem [CZK]
C96: Náklady ze soupisu prací | J96: =J117 -> 0 | AU96: -1
D97: OST - Ostatní | J97: =J148 -> 0
C104: SOUPIS PRACÍ
C106: Stavba:
E107: =E7 -> Zabezpečení čekáren v obvodu OŘ Olomouc
C108: Objekt:
E109: =E9 -> PS 03 - Kamerový systém v žst. Kojetín
C111: Místo: | F111: =F12 -> OŘ Olomouc | I111: Datum: | J111: =IF(J12="","",J12) -> 0
C113: Zadavatel: | F113: =E15 | I113: Projektant: | J113: =E21
C114: Uchazeč: | F114: =IF(E18="","",E18) -> Vyplň údaj | I114: Zpracovatel: | J114: =E24
C116: PČ | D116: Typ | E116: Kód | F116: Popis | G116: MJ | H116: Množství | I116: J.cena [CZK] | J116: Cena celkem [CZK] | K116: Cenová soustava | N116: DPH | O116: J. Nh [h] | P116: Nh celkem [h] | Q116: J. hmotnost [t] | R116: Hmotnost celkem [t] | S116: J. suť [t] | T116: Suť Celkem [t]
C117: Náklady soupisu celkem | J117: =BK117 -> 0 | P117: =P118+SUM(P119:P148) -> 0 | R117: =R118+SUM(R119:R148) -> 0 | T117: =T118+SUM(T119:T148) -> 0 | AT117: D | AU117: -1 | BK117: =BK118+SUM(BK119:BK148) -> 0
C118: 1 | D118: M | E118: 7596730164 | F118: Kamerové systémy CCTV Kamera fixní venkovní IP, TD/N, HD 1080p, 5MP, f=3.3÷12mm, WDR, IR přísvit | G118: kus | H118: 4 | J118: =ROUND(I118*H118,2) -> 0 | N118: základní | P118: =O118*H118 -> 0 | Q118: 0 | R118: =Q118*H118 -> 0 | S118: 0 | T118: =S118*H118 -> 0 | AR118: 8 | AT118: M | AU118: 0 | AY118: ROZPOCET | BE118: =IF(N118="základní",J118,0) -> 0 | BF118: =IF(N118="snížená",J118,0) -> 0 | BG118: =IF(N118="zákl. přenesená",J118,0) -> 0 | BH118: =IF(N118="sníž. přenesená",J118,0) -> 0 | BI118: =IF(N118="nulová",J118,0) -> 0 | BJ118: 1 | BK118: =ROUND(I118*H118,2) -> 0 | BL118: 4 | BM118: 393682668
D119: PP | F119: Kamerové systémy CCTV Kamera fixní venkovní IP, TD/N, HD 1080p, 5MP, f=3.3÷12mm, WDR, IR přísvit | AT119: PP | AU119: 0
C120: 2 | D120: M | E120: 7596730154 | F120: Kamerové systémy CCTV Kamera fixní vnitřní IP box, TD/N, HD 1080p, 5MP, f=2.8-12mm, WDR | G120: kus | H120: 1 | J120: =ROUND(I120*H120,2) -> 0 | N120: základní | P120: =O120*H120 -> 0 | Q120: 0 | R120: =Q120*H120 -> 0 | S120: 0 | T120: =S120*H120 -> 0 | AR120: 8 | AT120: M | AU120: 0 | AY120: ROZPOCET | BE120: =IF(N120="základní",J120,0) -> 0 | BF120: =IF(N120="snížená",J120,0) -> 0 | BG120: =IF(N120="zákl. přenesená",J120,0) -> 0 | BH120: =IF(N120="sníž. přenesená",J120,0) -> 0 | BI120: =IF(N120="nulová",J120,0) -> 0 | BJ120: 1 | BK120: =ROUND(I120*H120,2) -> 0 | BL120: 4 | BM120: -1507274711
D121: PP | F121: Kamerové systémy CCTV Kamera fixní vnitřní IP box, TD/N, HD 1080p, 5MP, f=2.8-12mm, WDR | AT121: PP | AU121: 0
C122: 3 | D122: M | E122: 7596730650 | F122: Kamerové systémy CCTV Kamera fixní PoE injektor pro napájení kamer 60W | G122: kus | H122: 5 | J122: =ROUND(I122*H122,2) -> 0 | N122: základní | P122: =O122*H122 -> 0 | Q122: 0 | R122: =Q122*H122 -> 0 | S122: 0 | T122: =S122*H122 -> 0 | AR122: 8 | AT122: M | AU122: 0 | AY122: ROZPOCET | BE122: =IF(N122="základní",J122,0) -> 0 | BF122: =IF(N122="snížená",J122,0) -> 0 | BG122: =IF(N122="zákl. přenesená",J122,0) -> 0 | BH122: =IF(N122="sníž. přenesená",J122,0) -> 0 | BI122: =IF(N122="nulová",J122,0) -> 0 | BJ122: 1 | BK122: =ROUND(I122*H122,2) -> 0 | BL122: 4 | BM122: 2876614
D123: PP | F123: Kamerové systémy CCTV Kamera fixní PoE injektor pro napájení kamer 60W | AT123: PP | AU123: 0
C124: 11 | D124: M | E124: 7596731212 | F124: Kamerové systémy CCTV Kamera fixní Přídavný HDD s kapacitou 4TB | G124: kus | H124: 1 | J124: =ROUND(I124*H124,2) -> 0 | N124: základní | P124: =O124*H124 -> 0 | Q124: 0 | R124: =Q124*H124 -> 0 | S124: 0 | T124: =S124*H124 -> 0 | AR124: 8 | AT124: M | AU124: 0 | AY124: ROZPOCET | BE124: =IF(N124="základní",J124,0) -> 0 | BF124: =IF(N124="snížená",J124,0) -> 0 | BG124: =IF(N124="zákl. přenesená",J124,0) -> 0 | BH124: =IF(N124="sníž. přenesená",J124,0) -> 0 | BI124: =IF(N124="nulová",J124,0) -> 0 | BJ124: 1 | BK124: =ROUND(I124*H124,2) -> 0 | BL124: 4 | BM124: -223843334
D125: PP | F125: Kamerové systémy CCTV Kamera fixní Přídavný HDD s kapacitou 4TB | AT125: PP | AU125: 0
C126: 28 | D126: M | E126: 7596731010 | F126: Kamerové systémy CCTV Kamera fixní Ekonomický NVR pro 8 IP kamer, až 5MP, HDMI, 8x PoE, bez HDD | G126: kus | H126: 1 | J126: =ROUND(I126*H126,2) -> 0 | N126: základní | P126: =O126*H126 -> 0 | Q126: 0 | R126: =Q126*H126 -> 0 | S126: 0 | T126: =S126*H126 -> 0 | AR126: 128 | AT126: M | AU126: 0 | AY126: ROZPOCET | BE126: =IF(N126="základní",J126,0) -> 0 | BF126: =IF(N126="snížená",J126,0) -> 0 | BG126: =IF(N126="zákl. přenesená",J126,0) -> 0 | BH126: =IF(N126="sníž. přenesená",J126,0) -> 0 | BI126: =IF(N126="nulová",J126,0) -> 0 | BJ126: 1 | BK126: =ROUND(I126*H126,2) -> 0 | BL126: 128 | BM126: 1393305664
D127: PP | F127: Kamerové systémy CCTV Kamera fixní Ekonomický NVR pro 8 IP kamer, až 5MP, HDMI, 8x PoE, bez HDD | AT127: PP | AU127: 0
C128: 12 | D128: M | E128: 7595600260 | F128: Media konvertor | G128: kus | H128: 5 | J128: =ROUND(I128*H128,2) -> 0 | N128: základní | P128: =O128*H128 -> 0 | Q128: 0 | R128: =Q128*H128 -> 0 | S128: 0 | T128: =S128*H128 -> 0 | AR128: 8 | AT128: M | AU128: 0 | AY128: ROZPOCET | BE128: =IF(N128="základní",J128,0) -> 0 | BF128: =IF(N128="snížená",J128,0) -> 0 | BG128: =IF(N128="zákl. přenesená",J128,0) -> 0 | BH128: =IF(N128="sníž. přenesená",J128,0) -> 0 | BI128: =IF(N128="nulová",J128,0) -> 0 | BJ128: 1 | BK128: =ROUND(I128*H128,2) -> 0 | BL128: 4 | BM128: -1079173303
D129: PP | F129: Media konvertor | AT129: PP | AU129: 0
C130: 13 | D130: M | E130: 7593310621 | F130: Konstrukční díly RACK 19" 9U/500mm nástěnný, dvoudílný, prosklené dveře | G130: kus | H130: 1 | J130: =ROUND(I130*H130,2) -> 0 | N130: základní | P130: =O130*H130 -> 0 | Q130: 0 | R130: =Q130*H130 -> 0 | S130: 0 | T130: =S130*H130 -> 0 | AR130: 8 | AT130: M | AU130: 0 | AY130: ROZPOCET | BE130: =IF(N130="základní",J130,0) -> 0 | BF130: =IF(N130="snížená",J130,0) -> 0 | BG130: =IF(N130="zákl. přenesená",J130,0) -> 0 | BH130: =IF(N130="sníž. přenesená",J130,0) -> 0 | BI130: =IF(N130="nulová",J130,0) -> 0 | BJ130: 1 | BK130: =ROUND(I130*H130,2) -> 0 | BL130: 4 | BM130: 683645052
D131: PP | F131: Konstrukční díly RACK 19" 9U/500mm nástěnný, dvoudílný, prosklené dveře | AT131: PP | AU131: 0
C132: 26 | D132: M | E132: 7496600550 | F132: Vlastní spotřeba Akumulátory UPS APC RBC7 - s životností min. 5 let | G132: kus | H132: 1 | J132: =ROUND(I132*H132,2) -> 0 | N132: základní | P132: =O132*H132 -> 0 | Q132: 0 | R132: =Q132*H132 -> 0 | S132: 0 | T132: =S132*H132 -> 0 | AR132: 128 | AT132: M | AU132: 0 | AY132: ROZPOCET | BE132: =IF(N132="základní",J132,0) -> 0 | BF132: =IF(N132="snížená",J132,0) -> 0 | BG132: =IF(N132="zákl. přenesená",J132,0) -> 0 | BH132: =IF(N132="sníž. přenesená",J132,0) -> 0 | BI132: =IF(N132="nulová",J132,0) -> 0 | BJ132: 1 | BK132: =ROUND(I132*H132,2) -> 0 | BL132: 128 | BM132: -382490307
D133: PP | F133: Vlastní spotřeba Akumulátory UPS APC RBC7 - s životností min. 5 let | AT133: PP | AU133: 0
C134: 4 | D134: M | E134: 7592500360 | F134: Převodník IMC 3porty Opt. na Ethernet | G134: kus | H134: 5 | J134: =ROUND(I134*H134,2) -> 0 | N134: základní | P134: =O134*H134 -> 0 | Q134: 0 | R134: =Q134*H134 -> 0 | S134: 0 | T134: =S134*H134 -> 0 | AR134: 8 | AT134: M | AU134: 0 | AY134: ROZPOCET | BE134: =IF(N134="základní",J134,0) -> 0 | BF134: =IF(N134="snížená",J134,0) -> 0 | BG134: =IF(N134="zákl. přenesená",J134,0) -> 0 | BH134: =IF(N134="sníž. přenesená",J134,0) -> 0 | BI134: =IF(N134="nulová",J134,0) -> 0 | BJ134: 1 | BK134: =ROUND(I134*H134,2) -> 0 | BL134: 4 | BM134: 329772437
D135: PP | F135: Převodník IMC 3porty Opt. na Ethernet | AT135: PP | AU135: 0
C136: 5 | D136: M | E136: 7596731436 | F136: Kamerové systémy CCTV Kamera fixní Přepěťová ochrana cat 5PoE+ | G136: kus | H136: 5 | J136: =ROUND(I136*H136,2) -> 0 | N136: základní | P136: =O136*H136 -> 0 | Q136: 0 | R136: =Q136*H136 -> 0 | S136: 0 | T136: =S136*H136 -> 0 | AR136: 8 | AT136: M | AU136: 0 | AY136: ROZPOCET | BE136: =IF(N136="základní",J136,0) -> 0 | BF136: =IF(N136="snížená",J136,0) -> 0 | BG136: =IF(N136="zákl. přenesená",J136,0) -> 0 | BH136: =IF(N136="sníž. přenesená",J136,0) -> 0 | BI136: =IF(N136="nulová",J136,0) -> 0 | BJ136: 1 | BK136: =ROUND(I136*H136,2) -> 0 | BL136: 4 | BM136: 1429864209
D137: PP | F137: Kamerové systémy CCTV Kamera fixní Přepěťová ochrana cat 5PoE+ | AT137: PP | AU137: 0
C138: 6 | D138: M | E138: 7592600070 | F138: Počítače, SW Počítač - PC klient pro klientské pracoviště kamerového systému | G138: kus | H138: 1 | J138: =ROUND(I138*H138,2) -> 0 | N138: základní | P138: =O138*H138 -> 0 | Q138: 0 | R138: =Q138*H138 -> 0 | S138: 0 | T138: =S138*H138 -> 0 | AR138: 8 | AT138: M | AU138: 0 | AY138: ROZPOCET | BE138: =IF(N138="základní",J138,0) -> 0 | BF138: =IF(N138="snížená",J138,0) -> 0 | BG138: =IF(N138="zákl. přenesená",J138,0) -> 0 | BH138: =IF(N138="sníž. přenesená",J138,0) -> 0 | BI138: =IF(N138="nulová",J138,0) -> 0 | BJ138: 1 | BK138: =ROUND(I138*H138,2) -> 0 | BL138: 4 | BM138: 1628555907
D139: PP | F139: Počítače, SW Počítač - PC klient pro klientské pracoviště kamerového systému | AT139: PP | AU139: 0
C140: 7 | D140: M | E140: 7596731240 | F140: Kamerové systémy CCTV Kamera fixní LCD LED monitor, 32", HD 1920x1080, 16:9, 2 xBNC, 1 xHDMI, PIP, 230V | G140: kus | H140: 1 | J140: =ROUND(I140*H140,2) -> 0 | N140: základní | P140: =O140*H140 -> 0 | Q140: 0 | R140: =Q140*H140 -> 0 | S140: 0 | T140: =S140*H140 -> 0 | AR140: 8 | AT140: M | AU140: 0 | AY140: ROZPOCET | BE140: =IF(N140="základní",J140,0) -> 0 | BF140: =IF(N140="snížená",J140,0) -> 0 | BG140: =IF(N140="zákl. přenesená",J140,0) -> 0 | BH140: =IF(N140="sníž. přenesená",J140,0) -> 0 | BI140: =IF(N140="nulová",J140,0) -> 0 | BJ140: 1 | BK140: =ROUND(I140*H140,2) -> 0 | BL140: 4 | BM140: 1377751793
D141: PP | F141: Kamerové systémy CCTV Kamera fixní LCD LED monitor, 32", HD 1920x1080, 16:9, 2 xBNC, 1 xHDMI, PIP, 230V | AT141: PP | AU141: 0
C142: 27 | D142: M | E142: 7590540619 | F142: Slaboproudé rozvody, kabely pro přívod a vnitřní instalaci UTP/FTP kategorie 6a, 250MHz 1 Gbps UTP Nestíněný, vnitřní, drát, nehořlavý, bezhalogenní, nízkodýmavý | G142: m | H142: 380 | J142: =ROUND(I142*H142,2) -> 0 | N142: základní | P142: =O142*H142 -> 0 | Q142: 0 | R142: =Q142*H142 -> 0 | S142: 0 | T142: =S142*H142 -> 0 | AR142: 128 | AT142: M | AU142: 0 | AY142: ROZPOCET | BE142: =IF(N142="základní",J142,0) -> 0 | BF142: =IF(N142="snížená",J142,0) -> 0 | BG142: =IF(N142="zákl. přenesená",J142,0) -> 0 | BH142: =IF(N142="sníž. přenesená",J142,0) -> 0 | BI142: =IF(N142="nulová",J142,0) -> 0 | BJ142: 1 | BK142: =ROUND(I142*H142,2) -> 0 | BL142: 128 | BM142: 1711806492
D143: PP | F143: Slaboproudé rozvody, kabely pro přívod a vnitřní instalaci UTP/FTP kategorie 6a, 250MHz 1 Gbps UTP Nestíněný, vnitřní, drát, nehořlavý, bezhalogenní, nízkodýmavý | AT143: PP | AU143: 0
C144: 10 | D144: M | E144: 7491205690 | F144: Elektroinstalační materiál Zásuvky instalační Zásuvka 1 fázová 230V/16A montáž na DIN lištu | G144: kus | H144: 1 | J144: =ROUND(I144*H144,2) -> 0 | N144: základní | P144: =O144*H144 -> 0 | Q144: 0 | R144: =Q144*H144 -> 0 | S144: 0 | T144: =S144*H144 -> 0 | AR144: 8 | AT144: M | AU144: 0 | AY144: ROZPOCET | BE144: =IF(N144="základní",J144,0) -> 0 | BF144: =IF(N144="snížená",J144,0) -> 0 | BG144: =IF(N144="zákl. přenesená",J144,0) -> 0 | BH144: =IF(N144="sníž. přenesená",J144,0) -> 0 | BI144: =IF(N144="nulová",J144,0) -> 0 | BJ144: 1 | BK144: =ROUND(I144*H144,2) -> 0 | BL144: 4 | BM144: -101814658
D145: PP | F145: Elektroinstalační materiál Zásuvky instalační Zásuvka 1 fázová 230V/16A montáž na DIN lištu | AT145: PP | AU145: 0
C146: 14 | D146: M | E146: 7491200260 | F146: Elektroinstalační materiál Elektroinstalační lišty a kabelové žlaby Lišta LHD 40x20 vkládací bílá 2m | G146: kus | H146: 380 | J146: =ROUND(I146*H146,2) -> 0 | N146: základní | P146: =O146*H146 -> 0 | Q146: 0 | R146: =Q146*H146 -> 0 | S146: 0 | T146: =S146*H146 -> 0 | AR146: 8 | AT146: M | AU146: 0 | AY146: ROZPOCET | BE146: =IF(N146="základní",J146,0) -> 0 | BF146: =IF(N146="snížená",J146,0) -> 0 | BG146: =IF(N146="zákl. přenesená",J146,0) -> 0 | BH146: =IF(N146="sníž. přenesená",J146,0) -> 0 | BI146: =IF(N146="nulová",J146,0) -> 0 | BJ146: 1 | BK146: =ROUND(I146*H146,2) -> 0 | BL146: 4 | BM146: 793101938
D147: PP | F147: Elektroinstalační materiál Elektroinstalační lišty a kabelové žlaby Lišta LHD 40x20 vkládací bílá 2m | AT147: PP | AU147: 0
D148: D | E148: OST | F148: Ostatní | J148: =BK148 -> 0 | P148: =SUM(P149:P164) -> 0 | R148: =SUM(R149:R164) -> 0 | T148: =SUM(T149:T164) -> 0 | AR148: 4 | AT148: D | AU148: 0 | AY148: ROZPOCET | BK148: =SUM(BK149:BK164) -> 0
C149: 15 | D149: K | E149: 7491251010 | F149: Montáž lišt elektroinstalačních, kabelových žlabů z PVC-U jednokomorových zaklapávacích rozměru 40/40 mm | G149: m | H149: 380 | J149: =ROUND(I149*H149,2) -> 0 | N149: základní | P149: =O149*H149 -> 0 | Q149: 0 | R149: =Q149*H149 -> 0 | S149: 0 | T149: =S149*H149 -> 0 | AR149: 512 | AT149: K | AU149: 1 | AY149: ROZPOCET | BE149: =IF(N149="základní",J149,0) -> 0 | BF149: =IF(N149="snížená",J149,0) -> 0 | BG149: =IF(N149="zákl. přenesená",J149,0) -> 0 | BH149: =IF(N149="sníž. přenesená",J149,0) -> 0 | BI149: =IF(N149="nulová",J149,0) -> 0 | BJ149: 1 | BK149: =ROUND(I149*H149,2) -> 0 | BL149: 512 | BM149: -1981113767
D150: PP | F150: Montáž lišt elektroinstalačních, kabelových žlabů z PVC-U jednokomorových zaklapávacích rozměru 40/40 mm - na konstrukci, omítku apod. včetně spojek, ohybů, rohů, bez krabic | AT150: PP | AU150: 1
C151: 29 | D151: K | E151: 7590515010 | F151: Montáž slaboproudé rozvody, kabely pro přívod a vnitřní instalaci | G151: m | H151: 380 | J151: =ROUND(I151*H151,2) -> 0 | N151: základní | P151: =O151*H151 -> 0 | Q151: 0 | R151: =Q151*H151 -> 0 | S151: 0 | T151: =S151*H151 -> 0 | AR151: 512 | AT151: K | AU151: 1 | AY151: ROZPOCET | BE151: =IF(N151="základní",J151,0) -> 0 | BF151: =IF(N151="snížená",J151,0) -> 0 | BG151: =IF(N151="zákl. přenesená",J151,0) -> 0 | BH151: =IF(N151="sníž. přenesená",J151,0) -> 0 | BI151: =IF(N151="nulová",J151,0) -> 0 | BJ151: 1 | BK151: =ROUND(I151*H151,2) -> 0 | BL151: 512 | BM151: 1004045887
D152: PP | F152: Montáž slaboproudé rozvody, kabely pro přívod a vnitřní instalaci | AT152: PP | AU152: 1
C153: 16 | D153: K | E153: 7596735050 | F153: Montáž a provedení kamerové zkoušky | G153: kus | H153: 5 | J153: =ROUND(I153*H153,2) -> 0 | N153: základní | P153: =O153*H153 -> 0 | Q153: 0 | R153: =Q153*H153 -> 0 | S153: 0 | T153: =S153*H153 -> 0 | AR153: 512 | AT153: K | AU153: 1 | AY153: ROZPOCET | BE153: =IF(N153="základní",J153,0) -> 0 | BF153: =IF(N153="snížená",J153,0) -> 0 | BG153: =IF(N153="zákl. přenesená",J153,0) -> 0 | BH153: =IF(N153="sníž. přenesená",J153,0) -> 0 | BI153: =IF(N153="nulová",J153,0) -> 0 | BJ153: 1 | BK153: =ROUND(I153*H153,2) -> 0 | BL153: 512 | BM153: 60881530
D154: PP | F154: Montáž a provedení kamerové zkoušky | AT154: PP | AU154: 1
C155: 23 | D155: K | E155: 7596735060 | F155: Zprovoznění kamery vnitřní | G155: kus | H155: 1 | J155: =ROUND(I155*H155,2) -> 0 | N155: základní | P155: =O155*H155 -> 0 | Q155: 0 | R155: =Q155*H155 -> 0 | S155: 0 | T155: =S155*H155 -> 0 | AR155: 512 | AT155: K | AU155: 1 | AY155: ROZPOCET | BE155: =IF(N155="základní",J155,0) -> 0 | BF155: =IF(N155="snížená",J155,0) -> 0 | BG155: =IF(N155="zákl. přenesená",J155,0) -> 0 | BH155: =IF(N155="sníž. přenesená",J155,0) -> 0 | BI155: =IF(N155="nulová",J155,0) -> 0 | BJ155: 1 | BK155: =ROUND(I155*H155,2) -> 0 | BL155: 512 | BM155: 1589205057
D156: PP | F156: Zprovoznění kamery vnitřní | AT156: PP | AU156: 1
C157: 24 | D157: K | E157: 7596735065 | F157: Zprovoznění kamery venkovní | G157: kus | H157: 4 | J157: =ROUND(I157*H157,2) -> 0 | N157: základní | P157: =O157*H157 -> 0 | Q157: 0 | R157: =Q157*H157 -> 0 | S157: 0 | T157: =S157*H157 -> 0 | AR157: 512 | AT157: K | AU157: 1 | AY157: ROZPOCET | BE157: =IF(N157="základní",J157,0) -> 0 | BF157: =IF(N157="snížená",J157,0) -> 0 | BG157: =IF(N157="zákl. přenesená",J157,0) -> 0 | BH157: =IF(N157="sníž. přenesená",J157,0) -> 0 | BI157: =IF(N157="nulová",J157,0) -> 0 | BJ157: 1 | BK157: =ROUND(I157*H157,2) -> 0 | BL157: 512 | BM157: -996836466
D158: PP | F158: Zprovoznění kamery venkovní | AT158: PP | AU158: 1
C159: 25 | D159: K | E159: 7596735210 | F159: Instalace software kamerového systému/1server | G159: kus | H159: 1 | J159: =ROUND(I159*H159,2) -> 0 | N159: základní | P159: =O159*H159 -> 0 | Q159: 0 | R159: =Q159*H159 -> 0 | S159: 0 | T159: =S159*H159 -> 0 | AR159: 512 | AT159: K | AU159: 1 | AY159: ROZPOCET | BE159: =IF(N159="základní",J159,0) -> 0 | BF159: =IF(N159="snížená",J159,0) -> 0 | BG159: =IF(N159="zákl. přenesená",J159,0) -> 0 | BH159: =IF(N159="sníž. přenesená",J159,0) -> 0 | BI159: =IF(N159="nulová",J159,0) -> 0 | BJ159: 1 | BK159: =ROUND(I159*H159,2) -> 0 | BL159: 512 | BM159: -533556849
D160: PP | F160: Instalace software kamerového systému/1server | AT160: PP | AU160: 1
C161: 17 | D161: K | E161: 7596735220 | F161: Nastavení a oživení kamerového systému 1 kamera stacionární | G161: kus | H161: 5 | J161: =ROUND(I161*H161,2) -> 0 | N161: základní | P161: =O161*H161 -> 0 | Q161: 0 | R161: =Q161*H161 -> 0 | S161: 0 | T161: =S161*H161 -> 0 | AR161: 512 | AT161: K | AU161: 1 | AY161: ROZPOCET | BE161: =IF(N161="základní",J161,0) -> 0 | BF161: =IF(N161="snížená",J161,0) -> 0 | BG161: =IF(N161="zákl. přenesená",J161,0) -> 0 | BH161: =IF(N161="sníž. přenesená",J161,0) -> 0 | BI161: =IF(N161="nulová",J161,0) -> 0 | BJ161: 1 | BK161: =ROUND(I161*H161,2) -> 0 | BL161: 512 | BM161: 97033912
D162: PP | F162: Nastavení a oživení kamerového systému 1 kamera stacionární | AT162: PP | AU162: 1
C163: 19 | D163: K | E163: 9901001200 | F163: Doprava dodávek zhotovitele, dodávek objednatele nebo výzisku mechanizací o nosnosti do 3,5 t do 350 km | G163: kus | H163: 3 | J163: =ROUND(I163*H163,2) -> 0 | N163: základní | P163: =O163*H163 -> 0 | Q163: 0 | R163: =Q163*H163 -> 0 | S163: 0 | T163: =S163*H163 -> 0 | AR163: 512 | AT163: K | AU163: 1 | AY163: ROZPOCET | BE163: =IF(N163="základní",J163,0) -> 0 | BF163: =IF(N163="snížená",J163,0) -> 0 | BG163: =IF(N163="zákl. přenesená",J163,0) -> 0 | BH163: =IF(N163="sníž. přenesená",J163,0) -> 0 | BI163: =IF(N163="nulová",J163,0) -> 0 | BJ163: 1 | BK163: =ROUND(I163*H163,2) -> 0 | BL163: 512 | BM163: 63664937
D164: PP | F164: Doprava dodávek zhotovitele, dodávek objednatele nebo výzisku mechanizací o nosnosti do 3,5 t do 350 km Poznámka: V cenách jsou započteny náklady přepravu materiálu ze skladů nebo skládek výrobce nebo dodavatele nebo z vlastních zásob objednatele na místo technologické manipulace včetně složení a poplatku za použití dopravní cesty. Ceny jsou určeny i pro dopravu výzisku do skladu, úložiště nebo na skládku včetně vyložení.Ceny jsou určeny pro dopravu silničními i kolejovými vozidly.V ceně jsou započteny i náklady na zpáteční cestu dopravního prostředku. Pokud bude realizována jednosměrná přeprava z bodu A do bodu B (např. pro společnost Cargo, a.s.), uvažuje se poloviční vzdálenost z celkově ujeté trasy. | AT164: PP | AU164: 1

Sheet SO 02 - VRN
AT2: {f729f194-80b0-4147-af0e-098eee4a399b}
AT3: 2
D4: KRYCÍ LIST SOUPISU PRACÍ | M4: v --- níže se nacházejí doplnkové a pomocné údaje k sestavám --- v | AT4: False
D6: Stavba:
E7: ='Rekapitulace stavby'!K6 -> Zabezpečení čekáren v obvodu OŘ Olomouc
D8: Objekt:
E9: SO 02 - VRN
D11: KSO: | I11: CC-CZ:
D12: Místo: | I12: Datum: | J12: ='Rekapitulace stavby'!AN8 -> 0
D14: Zadavatel: | I14: IČ: | J14: =IF('Rekapitulace stavby'!AN10="","",'Rekapitulace stavby'!AN10)
E15: =IF('Rekapitulace stavby'!E11="","",'Rekapitulace stavby'!E11) | I15: DIČ: | J15: =IF('Rekapitulace stavby'!AN11="","",'Rekapitulace stavby'!AN11)
D17: Uchazeč: | I17: IČ: | J17: ='Rekapitulace stavby'!AN13 -> Vyplň údaj
E18: ='Rekapitulace stavby'!E14 -> Vyplň údaj | I18: DIČ: | J18: ='Rekapitulace stavby'!AN14 -> Vyplň údaj
D20: Projektant: | I20: IČ: | J20: =IF('Rekapitulace stavby'!AN16="","",'Rekapitulace stavby'!AN16)
E21: =IF('Rekapitulace stavby'!E17="","",'Rekapitulace stavby'!E17) | I21: DIČ: | J21: =IF('Rekapitulace stavby'!AN17="","",'Rekapitulace stavby'!AN17)
D23: Zpracovatel: | I23: IČ: | J23: =IF('Rekapitulace stavby'!AN19="","",'Rekapitulace stavby'!AN19)
E24: =IF('Rekapitulace stavby'!E20="","",'Rekapitulace stavby'!E20) | I24: DIČ: | J24: =IF('Rekapitulace stavby'!AN20="","",'Rekapitulace stavby'!AN20)
D26: Poznámka:
D30: Cena bez DPH | J30: =ROUND(J121, 2) -> 0
F32: Základ daně | I32: Sazba daně | J32: Výše daně
D33: DPH | E33: základní | F33: =ROUND((SUM(BE121:BE136)), 2) -> 0 | I33: 0.21 | J33: =ROUND(((SUM(BE121:BE136))*I33), 2) -> 0
E34: snížená | F34: =ROUND((SUM(BF121:BF136)), 2) -> 0 | I34: 0.15 | J34: =ROUND(((SUM(BF121:BF136))*I34), 2) -> 0
E35: zákl. přenesená | F35: =ROUND((SUM(BG121:BG136)), 2) -> 0 | I35: 0.21 | J35: =0 -> 0
E36: sníž. přenesená | F36: =ROUND((SUM(BH121:BH136)), 2) -> 0 | I36: 0.15 | J36: =0 -> 0
E37: nulová | F37: =ROUND((SUM(BI121:BI136)), 2) -> 0 | I37: 0 | J37: =0 -> 0
D39: Cena s DPH | G39: v | H39: CZK | J39: =SUM(J30:J37) -> 0
D50: Projektant | G50: Zpracovatel
D61: Datum a podpis: | F61: Razítko | G61: Datum a podpis: | J61: Razítko
D65: Objednavatel | G65: Uchazeč
D76: Datum a podpis: | F76: Razítko | G76: Datum a podpis: | J76: Razítko
C82: REKAPITULACE ČLENĚNÍ SOUPISU PRACÍ
C84: Stavba:
E85: =E7 -> Zabezpečení čekáren v obvodu OŘ Olomouc
C86: Objekt:
E87: =E9 -> SO 02 - VRN
C89: Místo: | F89: =F12 | I89: Datum: | J89: =IF(J12="","",J12) -> 0
C91: Zadavatel: | F91: =E15 | I91: Projektant: | J91: =E21
C92: Uchazeč: | F92: =IF(E18="","",E18) -> Vyplň údaj | I92: Zpracovatel: | J92: =E24
C94: Kód dílu - Popis | J94: Cena celkem [CZK]
C96: Náklady ze soupisu prací | J96: =J121 -> 0 | AU96: -1
D97: VRN - Vedlejší rozpočtové náklady | J97: =J122 -> 0
D98: VRN1 - Průzkumné, geodetické a projektové práce | J98: =J123 -> 0
D99: VRN2 - Příprava staveniště | J99: =J126 -> 0
D100: VRN7 - Provozní vlivy | J100: =J129 -> 0
D101: VRN8 - Přesun stavebních kapacit | J101: =J134 -> 0
C108: SOUPIS PRACÍ
C110: Stavba:
E111: =E7 -> Zabezpečení čekáren v obvodu OŘ Olomouc
C112: Objekt:
E113: =E9 -> SO 02 - VRN
C115: Místo: | F115: =F12 | I115: Datum: | J115: =IF(J12="","",J12) -> 0
C117: Zadavatel: | F117: =E15 | I117: Projektant: | J117: =E21
C118: Uchazeč: | F118: =IF(E18="","",E18) -> Vyplň údaj | I118: Zpracovatel: | J118: =E24
C120: PČ | D120: Typ | E120: Kód | F120: Popis | G120: MJ | H120: Množství | I120: J.cena [CZK] | J120: Cena celkem [CZK] | K120: Cenová soustava | N120: DPH | O120: J. Nh [h] | P120: Nh celkem [h] | Q120: J. hmotnost [t] | R120: Hmotnost celkem [t] | S120: J. suť [t] | T120: Suť Celkem [t]
C121: Náklady soupisu celkem | J121: =BK121 -> 0 | P121: =P122 -> 0 | R121: =R122 -> 0 | T121: =T122 -> 0 | AT121: D | AU121: -1 | BK121: =BK122 -> 0
D122: D | E122: VRN | F122: Vedlejší rozpočtové náklady | J122: =BK122 -> 0 | P122: =P123+P126+P129+P134 -> 0 | R122: =R123+R126+R129+R134 -> 0 | T122: =T123+T126+T129+T134 -> 0 | AR122: 5 | AT122: D | AU122: 0 | AY122: ROZPOCET | BK122: =BK123+BK126+BK129+BK134 -> 0
D123: D | E123: VRN1 | F123: Průzkumné, geodetické a projektové práce | J123: =BK123 -> 0 | P123: =SUM(P124:P125) -> 0 | R123: =SUM(R124:R125) -> 0 | T123: =SUM(T124:T125) -> 0 | AR123: 5 | AT123: D | AU123: 1 | AY123: ROZPOCET | BK123: =SUM(BK124:BK125) -> 0
C124: 1 | D124: K | E124: 013002000 | F124: Projektové práce | G124: … | H124: 1 | J124: =ROUND(I124*H124,2) -> 0 | N124: základní | P124: =O124*H124 -> 0 | Q124: 0 | R124: =Q124*H124 -> 0 | S124: 0 | T124: =S124*H124 -> 0 | AR124: 1024 | AT124: K | AU124: 2 | AY124: ROZPOCET | BE124: =IF(N124="základní",J124,0) -> 0 | BF124: =IF(N124="snížená",J124,0) -> 0 | BG124: =IF(N124="zákl. přenesená",J124,0) -> 0 | BH124: =IF(N124="sníž. přenesená",J124,0) -> 0 | BI124: =IF(N124="nulová",J124,0) -> 0 | BJ124: 1 | BK124: =ROUND(I124*H124,2) -> 0 | BL124: 1024 | BM124: -449902924
D125: PP | F125: Projektové práce | AT125: PP | AU125: 2
D126: D | E126: VRN2 | F126: Příprava staveniště | J126: =BK126 -> 0 | P126: =SUM(P127:P128) -> 0 | R126: =SUM(R127:R128) -> 0 | T126: =SUM(T127:T128) -> 0 | AR126: 5 | AT126: D | AU126: 1 | AY126: ROZPOCET | BK126: =SUM(BK127:BK128) -> 0
C127: 2 | D127: K | E127: 020001000 | F127: Příprava staveniště | G127: … | H127: 1 | J127: =ROUND(I127*H127,2) -> 0 | N127: základní | P127: =O127*H127 -> 0 | Q127: 0 | R127: =Q127*H127 -> 0 | S127: 0 | T127: =S127*H127 -> 0 | AR127: 1024 | AT127: K | AU127: 2 | AY127: ROZPOCET | BE127: =IF(N127="základní",J127,0) -> 0 | BF127: =IF(N127="snížená",J127,0) -> 0 | BG127: =IF(N127="zákl. přenesená",J127,0) -> 0 | BH127: =IF(N127="sníž. přenesená",J127,0) -> 0 | BI127: =IF(N127="nulová",J127,0) -> 0 | BJ127: 1 | BK127: =ROUND(I127*H127,2) -> 0 | BL127: 1024 | BM127: -588741392
D128: PP | F128: Příprava staveniště, zabezpečení staveniště, zakrytí ploch dotčených staveb.prací, vytýčení IS | AT128: PP | AU128: 2
D129: D | E129: VRN7 | F129: Provozní vlivy | J129: =BK129 -> 0 | P129: =SUM(P130:P133) -> 0 | R129: =SUM(R130:R133) -> 0 | T129: =SUM(T130:T133) -> 0 | AR129: 5 | AT129: D | AU129: 1 | AY129: ROZPOCET | BK129: =SUM(BK130:BK133) -> 0
C130: 3 | D130: K | E130: 070001000 | F130: Provozní vlivy | G130: … | H130: 1 | J130: =ROUND(I130*H130,2) -> 0 | N130: základní | P130: =O130*H130 -> 0 | Q130: 0 | R130: =Q130*H130 -> 0 | S130: 0 | T130: =S130*H130 -> 0 | AR130: 1024 | AT130: K | AU130: 2 | AY130: ROZPOCET | BE130: =IF(N130="základní",J130,0) -> 0 | BF130: =IF(N130="snížená",J130,0) -> 0 | BG130: =IF(N130="zákl. přenesená",J130,0) -> 0 | BH130: =IF(N130="sníž. přenesená",J130,0) -> 0 | BI130: =IF(N130="nulová",J130,0) -> 0 | BJ130: 1 | BK130: =ROUND(I130*H130,2) -> 0 | BL130: 1024 | BM130: -848774309
D131: PP | F131: Provozní vlivy | AT131: PP | AU131: 2
C132: 4 | D132: K | E132: 071002000 | F132: Provoz investora, třetích osob | G132: … | H132: 1 | J132: =ROUND(I132*H132,2) -> 0 | N132: základní | P132: =O132*H132 -> 0 | Q132: 0 | R132: =Q132*H132 -> 0 | S132: 0 | T132: =S132*H132 -> 0 | AR132: 1024 | AT132: K | AU132: 2 | AY132: ROZPOCET | BE132: =IF(N132="základní",J132,0) -> 0 | BF132: =IF(N132="snížená",J132,0) -> 0 | BG132: =IF(N132="zákl. přenesená",J132,0) -> 0 | BH132: =IF(N132="sníž. přenesená",J132,0) -> 0 | BI132: =IF(N132="nulová",J132,0) -> 0 | BJ132: 1 | BK132: =ROUND(I132*H132,2) -> 0 | BL132: 1024 | BM132: 805117266
D133: PP | F133: Provoz investora, třetích osob | AT133: PP | AU133: 2
D134: D | E134: VRN8 | F134: Přesun stavebních kapacit | J134: =BK134 -> 0 | P134: =SUM(P135:P136) -> 0 | R134: =SUM(R135:R136) -> 0 | T134: =SUM(T135:T136) -> 0 | AR134: 5 | AT134: D | AU134: 1 | AY134: ROZPOCET | BK134: =SUM(BK135:BK136) -> 0
C135: 5 | D135: K | E135: 081002000 | F135: Doprava zaměstnanců | G135: … | H135: 1 | J135: =ROUND(I135*H135,2) -> 0 | N135: základní | P135: =O135*H135 -> 0 | Q135: 0 | R135: =Q135*H135 -> 0 | S135: 0 | T135: =S135*H135 -> 0 | AR135: 1024 | AT135: K | AU135: 2 | AY135: ROZPOCET | BE135: =IF(N135="základní",J135,0) -> 0 | BF135: =IF(N135="snížená",J135,0) -> 0 | BG135: =IF(N135="zákl. přenesená",J135,0) -> 0 | BH135: =IF(N135="sníž. přenesená",J135,0) -> 0 | BI135: =IF(N135="nulová",J135,0) -> 0 | BJ135: 1 | BK135: =ROUND(I135*H135,2) -> 0 | BL135: 1024 | BM135: 706081663
D136: PP | F136: Doprava zaměstnanců | AT136: PP | AU136: 2
