Workbook

Sheet Rekapitulace stavby
A1: Export Komplet | BA1: 2.0 | BB1: ZAMOK | BT1: False | BU1: False | BV1: {9dba1c3e-92bc-4410-ad3a-3dcfd796d9d7}
BS2: 0,01 | BT2: 21
BS3: 0,01 | BT3: 15
D4: REKAPITULACE STAVBY | AS4: v --- níže se nacházejí doplnkové a pomocné údaje k sestavám --- v | BE4: Návod na vyplnění | BS4: 0,001
D5: Kód: | K5: 65419012 | BE5: Měnit lze pouze buňky se žlutým podbarvením!_x000D_ _x000D_ 1) na prvním listu Rekapitulace stavby vyplňte v sestavě_x000D_ _x000D_ a) Souhrnný list_x000D_ - údaje o Uchazeči_x000D_ (přenesou se do ostatních sestav i v jiných listech)_x000D_ _x000D_ b) Rekapitulace objektů_x000D_ - potřebné Ostatní náklady_x000D_ _x000D_ 2) na vybraných listech vyplňte v sestavě_x000D_ _x000D_ a) Krycí list_x000D_ - údaje o Uchazeči, pokud se liší od údajů o Uchazeči na Souhrnném listu_x000D_ (údaje se přenesou do ostatních sestav v daném listu)_x000D_ _x000D_ b) Rekapitulace rozpočtu_x000D_ - potřebné Ostatní náklady_x000D_ _x000D_ c) Celkové náklady za stavbu_x000D_ - ceny u položek_x000D_ - množství, pokud má žluté podbarvení_x000D_ - a v případě potřeby poznámku (ta je ve skrytém sloupci) | BS5: 0,01
D6: Stavba: | K6: Oprava traťového úseku Stod - Holýšov | BS6: 0,01
D7: KSO: | AK7: CC-CZ: | BS7: 0,01
D8: Místo: | K8: TO Stod | AK8: Datum: | AN8: 21. 1. 2019 | BS8: 0,01
BS9: 0,01
D10: Zadavatel: | AK10: IČ: | BS10: 0,01
E11: SŽDC s.o. - OŘ Plzeň | AK11: DIČ: | BS11: 0,01
BS12: 0,01
D13: Uchazeč: | AK13: IČ: | AN13: Vyplň údaj | BS13: 0,01
E14: Vyplň údaj | AK14: DIČ: | AN14: Vyplň údaj | BS14: 0,01
BS15: False
D16: Projektant: | AK16: IČ: | BS16: False
AK17: DIČ: | BS17: True
BS18: 0,01
D19: Zpracovatel: | AK19: IČ: | BS19: 0,01
E20: Jung | AK20: DIČ: | BS20: True
D22: Poznámka:
D26: Cena bez DPH | AK26: =ROUND(AG94,2) -> 0
L28: Sazba daně | W28: Základ daně | AK28: Výše daně
D29: DPH | F29: základní | L29: 0.21 | W29: =ROUND(AZ94, 2) -> 0 | AK29: =ROUND(AV94, 2) -> 0
F30: snížená | L30: 0.15 | W30: =ROUND(BA94, 2) -> 0 | AK30: =ROUND(AW94, 2) -> 0
F31: zákl. přenesená | L31: 0.21 | W31: =ROUND(BB94, 2) -> 0 | AK31: 0
F32: sníž. přenesená | L32: 0.15 | W32: =ROUND(BC94, 2) -> 0 | AK32: 0
F33: nulová | L33: 0 | W33: =ROUND(BD94, 2) -> 0 | AK33: 0
D35: Cena s DPH | T35: v | X35: CZK | AK35: =SUM(AK26:AK33) -> 0
D49: Projektant | AH49: Zpracovatel
D60: Datum a podpis: | V60: Razítko | AH60: Datum a podpis: | AM60: Razítko
D64: Objednavatel | AH64: Uchazeč
D75: Datum a podpis: | V75: Razítko | AH75: Datum a podpis: | AM75: Razítko
C82: REKAPITULACE OBJEKTŮ STAVBY A SOUPISŮ PRACÍ
C84: Kód: | L84: =K5 -> 65419012
C85: Stavba: | L85: =K6 -> Oprava traťového úseku Stod - Holýšov
C87: Místo: | L87: =IF(K8="","",K8) -> TO Stod | AI87: Datum: | AM87: =IF(AN8= "","",AN8) -> 21. 1. 2019
C89: Zadavatel: | L89: =IF(E11= "","",E11) -> SŽDC s.o. - OŘ Plzeň | AI89: Projektant: | AM89: =IF(E17="","",E17) | AS89: Informatívní údaje z listů zakázek
C90: Uchazeč: | L90: =IF(E14= "Vyplň údaj","",E14) | AI90: Zpracovatel: | AM90: =IF(E20="","",E20) -> Jung
C92: Kód | I92: Popis | AG92: Cena bez DPH [CZK] | AN92: Cena s DPH [CZK] | AQ92: Typ | AS92: z toho Ostat._x000D_ náklady [CZK] | AT92: DPH [CZK] | AU92: Normohodiny [h] | AV92: DPH základní [CZK] | AW92: DPH snížená [CZK] | AX92: DPH základní přenesená_x000D_ [CZK] | AY92: DPH snížená přenesená_x000D_ [CZK] | AZ92: Základna_x000D_ DPH základní | BA92: Základna_x000D_ DPH snížená | BB92: Základna_x000D_ DPH zákl. přenesená | BC92: Základna_x000D_ DPH sníž. přenesená | BD92: Základna_x000D_ DPH nulová
...

Sheet SO 1.1 - Čištění KL
AT2: {5623a049-ba6c-4e61-9195-b212ef7b8700}
AT3: 2
D4: KRYCÍ LIST SOUPISU PRACÍ | M4: v --- níže se nacházejí doplnkové a pomocné údaje k sestavám --- v | AT4: False
D6: Stavba:
E7: ='Rekapitulace stavby'!K6 -> Oprava traťového úseku Stod - Holýšov
D8: Objekt:
E9: SO 1 - Čištění KL km 136,950 - 137,400
D10: Soupis:
E11: SO 1.1 - Čištění KL
D13: KSO: | I13: CC-CZ:
D14: Místo: | F14: TO Stod | I14: Datum: | J14: ='Rekapitulace stavby'!AN8 -> 21. 1. 2019
D16: Zadavatel: | I16: IČ:
E17: SŽDC s.o. - OŘ Plzeň | I17: DIČ:
D19: Uchazeč: | I19: IČ: | J19: ='Rekapitulace stavby'!AN13 -> Vyplň údaj
E20: ='Rekapitulace stavby'!E14 -> Vyplň údaj | I20: DIČ: | J20: ='Rekapitulace stavby'!AN14 -> Vyplň údaj
D22: Projektant: | I22: IČ: | J22: =IF('Rekapitulace stavby'!AN16="","",'Rekapitulace stavby'!AN16)
E23: =IF('Rekapitulace stavby'!E17="","",'Rekapitulace stavby'!E17) | I23: DIČ: | J23: =IF('Rekapitulace stavby'!AN17="","",'Rekapitulace stavby'!AN17)
D25: Zpracovatel: | I25: IČ:
E26: Jung | I26: DIČ:
D28: Poznámka:
D32: Cena bez DPH | J32: =ROUND(J120, 2) -> 0
F34: Základ daně | I34: Sazba daně | J34: Výše daně
D35: DPH | E35: základní | F35: =ROUND((SUM(BE120:BE195)), 2) -> 0 | I35: 0.21 | J35: =ROUND(((SUM(BE120:BE195))*I35), 2) -> 0
E36: snížená | F36: =ROUND((SUM(BF120:BF195)), 2) -> 0 | I36: 0.15 | J36: =ROUND(((SUM(BF120:BF195))*I36), 2) -> 0
E37: zákl. přenesená | F37: =ROUND((SUM(BG120:BG195)), 2) -> 0 | I37: 0.21 | J37: =0 -> 0
E38: sníž. přenesená | F38: =ROUND((SUM(BH120:BH195)), 2) -> 0 | I38: 0.15 | J38: =0 -> 0
E39: nulová | F39: =ROUND((SUM(BI120:BI195)), 2) -> 0 | I39: 0 | J39: =0 -> 0
D41: Cena s DPH | G41: v | H41: CZK | J41: =SUM(J32:J39) -> 0
D50: Projektant | G50: Zpracovatel
D61: Datum a podpis: | F61: Razítko | G61: Datum a podpis: | J61: Razítko
D65: Objednavatel | G65: Uchazeč
D76: Datum a podpis: | F76: Razítko | G76: Datum a podpis: | J76: Razítko
C82: REKAPITULACE ČLENĚNÍ SOUPISU PRACÍ
C84: Stavba:
E85: =E7 -> Oprava traťového úseku Stod - Holýšov
C86: Objekt:
E87: SO 1 - Čištění KL km 136,950 - 137,400
C88: Soupis:
E89: =E11 -> SO 1.1 - Čištění KL
C91: Místo: | F91: =F14 -> TO Stod | I91: Datum: | J91: =IF(J14="","",J14) -> 21. 1. 2019
...

Sheet SO 2.1 - Výměna pražců
AT2: {9606caf3-57f2-42fa-8937-bc3343745922}
AT3: 2
D4: KRYCÍ LIST SOUPISU PRACÍ | M4: v --- níže se nacházejí doplnkové a pomocné údaje k sestavám --- v | AT4: False
D6: Stavba:
E7: ='Rekapitulace stavby'!K6 -> Oprava traťového úseku Stod - Holýšov
D8: Objekt:
E9: SO 2 - Výměna pražců km 137,560 - 138,015
D10: Soupis:
E11: SO 2.1 - Výměna pražců
D13: KSO: | I13: CC-CZ:
D14: Místo: | F14: TO Stod | I14: Datum: | J14: ='Rekapitulace stavby'!AN8 -> 21. 1. 2019
D16: Zadavatel: | I16: IČ:
E17: SŽDC s.o. - OŘ Plzeň | I17: DIČ:
D19: Uchazeč: | I19: IČ: | J19: ='Rekapitulace stavby'!AN13 -> Vyplň údaj
E20: ='Rekapitulace stavby'!E14 -> Vyplň údaj | I20: DIČ: | J20: ='Rekapitulace stavby'!AN14 -> Vyplň údaj
D22: Projektant: | I22: IČ: | J22: =IF('Rekapitulace stavby'!AN16="","",'Rekapitulace stavby'!AN16)
E23: =IF('Rekapitulace stavby'!E17="","",'Rekapitulace stavby'!E17) | I23: DIČ: | J23: =IF('Rekapitulace stavby'!AN17="","",'Rekapitulace stavby'!AN17)
D25: Zpracovatel: | I25: IČ:
E26: Jung | I26: DIČ:
D28: Poznámka:
D32: Cena bez DPH | J32: =ROUND(J120, 2) -> 0
F34: Základ daně | I34: Sazba daně | J34: Výše daně
D35: DPH | E35: základní | F35: =ROUND((SUM(BE120:BE215)), 2) -> 0 | I35: 0.21 | J35: =ROUND(((SUM(BE120:BE215))*I35), 2) -> 0
E36: snížená | F36: =ROUND((SUM(BF120:BF215)), 2) -> 0 | I36: 0.15 | J36: =ROUND(((SUM(BF120:BF215))*I36), 2) -> 0
E37: zákl. přenesená | F37: =ROUND((SUM(BG120:BG215)), 2) -> 0 | I37: 0.21 | J37: =0 -> 0
E38: sníž. přenesená | F38: =ROUND((SUM(BH120:BH215)), 2) -> 0 | I38: 0.15 | J38: =0 -> 0
E39: nulová | F39: =ROUND((SUM(BI120:BI215)), 2) -> 0 | I39: 0 | J39: =0 -> 0
D41: Cena s DPH | G41: v | H41: CZK | J41: =SUM(J32:J39) -> 0
D50: Projektant | G50: Zpracovatel
D61: Datum a podpis: | F61: Razítko | G61: Datum a podpis: | J61: Razítko
D65: Objednavatel | G65: Uchazeč
D76: Datum a podpis: | F76: Razítko | G76: Datum a podpis: | J76: Razítko
C82: REKAPITULACE ČLENĚNÍ SOUPISU PRACÍ
C84: Stavba:
E85: =E7 -> Oprava traťového úseku Stod - Holýšov
C86: Objekt:
E87: SO 2 - Výměna pražců km 137,560 - 138,015
C88: Soupis:
E89: =E11 -> SO 2.1 - Výměna pražců
C91: Místo: | F91: =F14 -> TO Stod | I91: Datum: | J91: =IF(J14="","",J14) -> 21. 1. 2019
...

Sheet SO 2.2 - Materiál objedna...
AT2: {af181536-60e7-4dfc-8fa8-91bd91c125a5}
AT3: 2
D4: KRYCÍ LIST SOUPISU PRACÍ | M4: v --- níže se nacházejí doplnkové a pomocné údaje k sestavám --- v | AT4: False
D6: Stavba:
E7: ='Rekapitulace stavby'!K6 -> Oprava traťového úseku Stod - Holýšov
D8: Objekt:
E9: SO 2 - Výměna pražců km 137,560 - 138,015
D10: Soupis:
E11: SO 2.2 - Materiál objednatele
D13: KSO: | I13: CC-CZ:
D14: Místo: | F14: TO Stod | I14: Datum: | J14: ='Rekapitulace stavby'!AN8 -> 21. 1. 2019
D16: Zadavatel: | I16: IČ:
E17: SŽDC s.o. - OŘ Plzeň | I17: DIČ:
D19: Uchazeč: | I19: IČ: | J19: ='Rekapitulace stavby'!AN13 -> Vyplň údaj
E20: ='Rekapitulace stavby'!E14 -> Vyplň údaj | I20: DIČ: | J20: ='Rekapitulace stavby'!AN14 -> Vyplň údaj
D22: Projektant: | I22: IČ: | J22: =IF('Rekapitulace stavby'!AN16="","",'Rekapitulace stavby'!AN16)
E23: =IF('Rekapitulace stavby'!E17="","",'Rekapitulace stavby'!E17) | I23: DIČ: | J23: =IF('Rekapitulace stavby'!AN17="","",'Rekapitulace stavby'!AN17)
D25: Zpracovatel: | I25: IČ:
E26: Jung | I26: DIČ:
D28: Poznámka:
D32: Cena bez DPH | J32: =ROUND(J120, 2) -> 0
F34: Základ daně | I34: Sazba daně | J34: Výše daně
D35: DPH | E35: základní | F35: =ROUND((SUM(BE120:BE122)), 2) -> 0 | I35: 0.21 | J35: =ROUND(((SUM(BE120:BE122))*I35), 2) -> 0
E36: snížená | F36: =ROUND((SUM(BF120:BF122)), 2) -> 0 | I36: 0.15 | J36: =ROUND(((SUM(BF120:BF122))*I36), 2) -> 0
E37: zákl. přenesená | F37: =ROUND((SUM(BG120:BG122)), 2) -> 0 | I37: 0.21 | J37: =0 -> 0
E38: sníž. přenesená | F38: =ROUND((SUM(BH120:BH122)), 2) -> 0 | I38: 0.15 | J38: =0 -> 0
E39: nulová | F39: =ROUND((SUM(BI120:BI122)), 2) -> 0 | I39: 0 | J39: =0 -> 0
D41: Cena s DPH | G41: v | H41: CZK | J41: =SUM(J32:J39) -> 0
D50: Projektant | G50: Zpracovatel
D61: Datum a podpis: | F61: Razítko | G61: Datum a podpis: | J61: Razítko
D65: Objednavatel | G65: Uchazeč
D76: Datum a podpis: | F76: Razítko | G76: Datum a podpis: | J76: Razítko
C82: REKAPITULACE ČLENĚNÍ SOUPISU PRACÍ
C84: Stavba:
E85: =E7 -> Oprava traťového úseku Stod - Holýšov
C86: Objekt:
E87: SO 2 - Výměna pražců km 137,560 - 138,015
C88: Soupis:
E89: =E11 -> SO 2.2 - Materiál objednatele
C91: Místo: | F91: =F14 -> TO Stod | I91: Datum: | J91: =IF(J14="","",J14) -> 21. 1. 2019
...

Sheet SO 3.1 - VRN
AT2: {170a0f16-fa47-4885-9702-95e027515f02}
AT3: 2
D4: KRYCÍ LIST SOUPISU PRACÍ | M4: v --- níže se nacházejí doplnkové a pomocné údaje k sestavám --- v | AT4: False
D6: Stavba:
E7: ='Rekapitulace stavby'!K6 -> Oprava traťového úseku Stod - Holýšov
D8: Objekt:
E9: SO 3 - VRN
D10: Soupis:
E11: SO 3.1 - VRN
D13: KSO: | I13: CC-CZ:
D14: Místo: | F14: TO Stod | I14: Datum: | J14: ='Rekapitulace stavby'!AN8 -> 21. 1. 2019
D16: Zadavatel: | I16: IČ:
E17: SŽDC s.o. - OŘ Plzeň | I17: DIČ:
D19: Uchazeč: | I19: IČ: | J19: ='Rekapitulace stavby'!AN13 -> Vyplň údaj
E20: ='Rekapitulace stavby'!E14 -> Vyplň údaj | I20: DIČ: | J20: ='Rekapitulace stavby'!AN14 -> Vyplň údaj
D22: Projektant: | I22: IČ: | J22: =IF('Rekapitulace stavby'!AN16="","",'Rekapitulace stavby'!AN16)
E23: =IF('Rekapitulace stavby'!E17="","",'Rekapitulace stavby'!E17) | I23: DIČ: | J23: =IF('Rekapitulace stavby'!AN17="","",'Rekapitulace stavby'!AN17)
D25: Zpracovatel: | I25: IČ:
E26: Jung | I26: DIČ:
D28: Poznámka:
D32: Cena bez DPH | J32: =ROUND(J120, 2) -> 0
F34: Základ daně | I34: Sazba daně | J34: Výše daně
D35: DPH | E35: základní | F35: =ROUND((SUM(BE120:BE137)), 2) -> 0 | I35: 0.21 | J35: =ROUND(((SUM(BE120:BE137))*I35), 2) -> 0
E36: snížená | F36: =ROUND((SUM(BF120:BF137)), 2) -> 0 | I36: 0.15 | J36: =ROUND(((SUM(BF120:BF137))*I36), 2) -> 0
E37: zákl. přenesená | F37: =ROUND((SUM(BG120:BG137)), 2) -> 0 | I37: 0.21 | J37: =0 -> 0
E38: sníž. přenesená | F38: =ROUND((SUM(BH120:BH137)), 2) -> 0 | I38: 0.15 | J38: =0 -> 0
E39: nulová | F39: =ROUND((SUM(BI120:BI137)), 2) -> 0 | I39: 0 | J39: =0 -> 0
D41: Cena s DPH | G41: v | H41: CZK | J41: =SUM(J32:J39) -> 0
D50: Projektant | G50: Zpracovatel
D61: Datum a podpis: | F61: Razítko | G61: Datum a podpis: | J61: Razítko
D65: Objednavatel | G65: Uchazeč
D76: Datum a podpis: | F76: Razítko | G76: Datum a podpis: | J76: Razítko
C82: REKAPITULACE ČLENĚNÍ SOUPISU PRACÍ
C84: Stavba:
E85: =E7 -> Oprava traťového úseku Stod - Holýšov
C86: Objekt:
E87: SO 3 - VRN
C88: Soupis:
E89: =E11 -> SO 3.1 - VRN
C91: Místo: | F91: =F14 -> TO Stod | I91: Datum: | J91: =IF(J14="","",J14) -> 21. 1. 2019
...
