Workbook

Sheet Rekapitulace stavby
A1: Export Komplet | BA1: 2.0 | BB1: ZAMOK | BT1: False | BU1: False | BV1: {9dba1c3e-92bc-4410-ad3a-3dcfd796d9d7}
BS2: 0,01 | BT2: 21
BS3: 0,01 | BT3: 15
D4: REKAPITULACE STAVBY | AS4: v --- níže se nacházejí doplnkové a pomocné údaje k sestavám --- v | BE4: Návod na vyplnění | BS4: 0,001
D5: Kód: | K5: 65419012 | BE5: Měnit lze pouze buňky se žlutým podbarvením!_x000D_ _x000D_ 1) na prvním listu Rekapitulace stavby vyplňte v sestavě_x000D_ _x000D_ a) Souhrnný list_x000D_ - údaje o Uchazeči_x000D_ (přenesou se do ostatních sestav i v jiných listech)_x000D_ _x000D_ b) Rekapitulace objektů_x000D_ - potřebné Ostatní náklady_x000D_ _x000D_ 2) na vybraných listech vyplňte v sestavě_x000D_ _x000D_ a) Krycí list_x000D_ - údaje o Uchazeči, pokud se liší od údajů o Uchazeči na Souhrnném listu_x000D_ (údaje se přenesou do ostatních sestav v daném listu)_x000D_ _x000D_ b) Rekapitulace rozpočtu_x000D_ - potřebné Ostatní náklady_x000D_ _x000D_ c) Celkové náklady za stavbu_x000D_ - ceny u položek_x000D_ - množství, pokud má žluté podbarvení_x000D_ - a v případě potřeby poznámku (ta je ve skrytém sloupci) | BS5: 0,01
D6: Stavba: | K6: Oprava traťového úseku Stod - Holýšov | BS6: 0,01
D7: KSO: | AK7: CC-CZ: | BS7: 0,01
D8: Místo: | K8: TO Stod | AK8: Datum: | AN8: 21. 1. 2019 | BS8: 0,01
BS9: 0,01
D10: Zadavatel: | AK10: IČ: | BS10: 0,01
E11: SŽDC s.o. - OŘ Plzeň | AK11: DIČ: | BS11: 0,01
BS12: 0,01
D13: Uchazeč: | AK13: IČ: | AN13: Vyplň údaj | BS13: 0,01
E14: Vyplň údaj | AK14: DIČ: | AN14: Vyplň údaj | BS14: 0,01
BS15: False
D16: Projektant: | AK16: IČ: | BS16: False
AK17: DIČ: | BS17: True
BS18: 0,01
D19: Zpracovatel: | AK19: IČ: | BS19: 0,01
E20: Jung | AK20: DIČ: | BS20: True
D22: Poznámka:
D26: Cena bez DPH | AK26: =ROUND(AG94,2) -> 0
L28: Sazba daně | W28: Základ daně | AK28: Výše daně
D29: DPH | F29: základní | L29: 0.21 | W29: =ROUND(AZ94, 2) -> 0 | AK29: =ROUND(AV94, 2) -> 0
F30: snížená | L30: 0.15 | W30: =ROUND(BA94, 2) -> 0 | AK30: =ROUND(AW94, 2) -> 0
F31: zákl. přenesená | L31: 0.21 | W31: =ROUND(BB94, 2) -> 0 | AK31: 0
F32: sníž. přenesená | L32: 0.15 | W32: =ROUND(BC94, 2) -> 0 | AK32: 0
F33: nulová | L33: 0 | W33: =ROUND(BD94, 2) -> 0 | AK33: 0
D35: Cena s DPH | T35: v | X35: CZK | AK35: =SUM(AK26:AK33) -> 0
D49: Projektant | AH49: Zpracovatel
D60: Datum a podpis: | V60: Razítko | AH60: Datum a podpis: | AM60: Razítko
D64: Objednavatel | AH64: Uchazeč
D75: Datum a podpis: | V75: Razítko | AH75: Datum a podpis: | AM75: Razítko
C82: REKAPITULACE OBJEKTŮ STAVBY A SOUPISŮ PRACÍ
C84: Kód: | L84: =K5 -> 65419012
C85: Stavba: | L85: =K6 -> Oprava traťového úseku Stod - Holýšov
C87: Místo: | L87: =IF(K8="","",K8) -> TO Stod | AI87: Datum: | AM87: =IF(AN8= "","",AN8) -> 21. 1. 2019
C89: Zadavatel: | L89: =IF(E11= "","",E11) -> SŽDC s.o. - OŘ Plzeň | AI89: Projektant: | AM89: =IF(E17="","",E17) | AS89: Informatívní údaje z listů zakázek
C90: Uchazeč: | L90: =IF(E14= "Vyplň údaj","",E14) | AI90: Zpracovatel: | AM90: =IF(E20="","",E20) -> Jung
C92: Kód | I92: Popis | AG92: Cena bez DPH [CZK] | AN92: Cena s DPH [CZK] | AQ92: Typ | AS92: z toho Ostat._x000D_ náklady [CZK] | AT92: DPH [CZK] | AU92: Normohodiny [h] | AV92: DPH základní [CZK] | AW92: DPH snížená [CZK] | AX92: DPH základní přenesená_x000D_ [CZK] | AY92: DPH snížená přenesená_x000D_ [CZK] | AZ92: Základna_x000D_ DPH základní | BA92: Základna_x000D_ DPH snížená | BB92: Základna_x000D_ DPH zákl. přenesená | BC92: Základna_x000D_ DPH sníž. přenesená | BD92: Základna_x000D_ DPH nulová
C94: Náklady z rozpočtů | AG94: =ROUND(AG95+AG97+AG100,2) -> 0 | AN94: =SUM(AG94,AT94) -> 0 | AS94: =ROUND(AS95+AS97+AS100,2) -> 0 | AT94: =ROUND(SUM(AV94:AW94),2) -> 0 | AU94: =ROUND(AU95+AU97+AU100,5) -> 0 | AV94: =ROUND(AZ94*L29,2) -> 0 | AW94: =ROUND(BA94*L30,2) -> 0 | AX94: =ROUND(BB94*L29,2) -> 0 | AY94: =ROUND(BC94*L30,2) -> 0 | AZ94: =ROUND(AZ95+AZ97+AZ100,2) -> 0 | BA94: =ROUND(BA95+BA97+BA100,2) -> 0 | BB94: =ROUND(BB95+BB97+BB100,2) -> 0 | BC94: =ROUND(BC95+BC97+BC100,2) -> 0 | BD94: =ROUND(BD95+BD97+BD100,2) -> 0 | BS94: D | BT94: 0 | BU94: ###NOIMPORT### | BV94: IMPORT | BW94: {9dba1c3e-92bc-4410-ad3a-3dcfd796d9d7} | BX94: {00000000-0000-0000-0000-000000000000}
D95: SO 1 | J95: Čištění KL km 136,950 - 137,400 | AG95: =ROUND(AG96,2) -> 0 | AN95: =SUM(AG95,AT95) -> 0 | AQ95: STA | AS95: =ROUND(AS96,2) -> 0 | AT95: =ROUND(SUM(AV95:AW95),2) -> 0 | AU95: =ROUND(AU96,5) -> 0 | AV95: =ROUND(AZ95*L29,2) -> 0 | AW95: =ROUND(BA95*L30,2) -> 0 | AX95: =ROUND(BB95*L29,2) -> 0 | AY95: =ROUND(BC95*L30,2) -> 0 | AZ95: =ROUND(AZ96,2) -> 0 | BA95: =ROUND(BA96,2) -> 0 | BB95: =ROUND(BB96,2) -> 0 | BC95: =ROUND(BC96,2) -> 0 | BD95: =ROUND(BD96,2) -> 0 | BS95: D | BT95: 1 | BU95: ###NOIMPORT### | BV95: IMPORT | BW95: {73ccdf3a-5884-49ff-aec5-0c91c89edb87} | BX95: {9dba1c3e-92bc-4410-ad3a-3dcfd796d9d7} | CM95: 2
A96: / | E96: SO 1.1 | K96: Čištění KL | AG96: ='SO 1.1 - Čištění KL'!J32 -> 0 | AN96: =SUM(AG96,AT96) -> 0 | AQ96: Soupis | AS96: 0 | AT96: =ROUND(SUM(AV96:AW96),2) -> 0 | AU96: ='SO 1.1 - Čištění KL'!P120 -> 0 | AV96: ='SO 1.1 - Čištění KL'!J35 -> 0 | AW96: ='SO 1.1 - Čištění KL'!J36 -> 0 | AX96: ='SO 1.1 - Čištění KL'!J37 -> 0 | AY96: ='SO 1.1 - Čištění KL'!J38 -> 0 | AZ96: ='SO 1.1 - Čištění KL'!F35 -> 0 | BA96: ='SO 1.1 - Čištění KL'!F36 -> 0 | BB96: ='SO 1.1 - Čištění KL'!F37 -> 0 | BC96: ='SO 1.1 - Čištění KL'!F38 -> 0 | BD96: ='SO 1.1 - Čištění KL'!F39 -> 0 | BT96: 2 | BV96: IMPORT | BW96: {5623a049-ba6c-4e61-9195-b212ef7b8700} | BX96: {73ccdf3a-5884-49ff-aec5-0c91c89edb87}
D97: SO 2 | J97: Výměna pražců km 137,560 - 138,015 | AG97: =ROUND(SUM(AG98:AG99),2) -> 0 | AN97: =SUM(AG97,AT97) -> 0 | AQ97: STA | AS97: =ROUND(SUM(AS98:AS99),2) -> 0 | AT97: =ROUND(SUM(AV97:AW97),2) -> 0 | AU97: =ROUND(SUM(AU98:AU99),5) -> 0 | AV97: =ROUND(AZ97*L29,2) -> 0 | AW97: =ROUND(BA97*L30,2) -> 0 | AX97: =ROUND(BB97*L29,2) -> 0 | AY97: =ROUND(BC97*L30,2) -> 0 | AZ97: =ROUND(SUM(AZ98:AZ99),2) -> 0 | BA97: =ROUND(SUM(BA98:BA99),2) -> 0 | BB97: =ROUND(SUM(BB98:BB99),2) -> 0 | BC97: =ROUND(SUM(BC98:BC99),2) -> 0 | BD97: =ROUND(SUM(BD98:BD99),2) -> 0 | BS97: D | BT97: 1 | BU97: ###NOIMPORT### | BV97: IMPORT | BW97: {afb10bdf-e536-4816-96b5-628c05c7a51e} | BX97: {9dba1c3e-92bc-4410-ad3a-3dcfd796d9d7} | CM97: 2
A98: / | E98: SO 2.1 | K98: Výměna pražců | AG98: ='SO 2.1 - Výměna pražců'!J32 -> 0 | AN98: =SUM(AG98,AT98) -> 0 | AQ98: Soupis | AS98: 0 | AT98: =ROUND(SUM(AV98:AW98),2) -> 0 | AU98: ='SO 2.1 - Výměna pražců'!P120 -> 0 | AV98: ='SO 2.1 - Výměna pražců'!J35 -> 0 | AW98: ='SO 2.1 - Výměna pražců'!J36 -> 0 | AX98: ='SO 2.1 - Výměna pražců'!J37 -> 0 | AY98: ='SO 2.1 - Výměna pražců'!J38 -> 0 | AZ98: ='SO 2.1 - Výměna pražců'!F35 -> 0 | BA98: ='SO 2.1 - Výměna pražců'!F36 -> 0 | BB98: ='SO 2.1 - Výměna pražců'!F37 -> 0 | BC98: ='SO 2.1 - Výměna pražců'!F38 -> 0 | BD98: ='SO 2.1 - Výměna pražců'!F39 -> 0 | BT98: 2 | BV98: IMPORT | BW98: {9606caf3-57f2-42fa-8937-bc3343745922} | BX98: {afb10bdf-e536-4816-96b5-628c05c7a51e}
A99: / | E99: SO 2.2 | K99: Materiál objednatele | AG99: ='SO 2.2 - Materiál objedna...'!J32 -> 0 | AN99: =SUM(AG99,AT99) -> 0 | AQ99: Soupis | AS99: 0 | AT99: =ROUND(SUM(AV99:AW99),2) -> 0 | AU99: ='SO 2.2 - Materiál objedna...'!P120 -> 0 | AV99: ='SO 2.2 - Materiál objedna...'!J35 -> 0 | AW99: ='SO 2.2 - Materiál objedna...'!J36 -> 0 | AX99: ='SO 2.2 - Materiál objedna...'!J37 -> 0 | AY99: ='SO 2.2 - Materiál objedna...'!J38 -> 0 | AZ99: ='SO 2.2 - Materiál objedna...'!F35 -> 0 | BA99: ='SO 2.2 - Materiál objedna...'!F36 -> 0 | BB99: ='SO 2.2 - Materiál objedna...'!F37 -> 0 | BC99: ='SO 2.2 - Materiál objedna...'!F38 -> 0 | BD99: ='SO 2.2 - Materiál objedna...'!F39 -> 0 | BT99: 2 | BV99: IMPORT | BW99: {af181536-60e7-4dfc-8fa8-91bd91c125a5} | BX99: {afb10bdf-e536-4816-96b5-628c05c7a51e}
D100: SO 3 | J100: VRN | AG100: =ROUND(AG101,2) -> 0 | AN100: =SUM(AG100,AT100) -> 0 | AQ100: STA | AS100: =ROUND(AS101,2) -> 0 | AT100: =ROUND(SUM(AV100:AW100),2) -> 0 | AU100: =ROUND(AU101,5) -> 0 | AV100: =ROUND(AZ100*L29,2) -> 0 | AW100: =ROUND(BA100*L30,2) -> 0 | AX100: =ROUND(BB100*L29,2) -> 0 | AY100: =ROUND(BC100*L30,2) -> 0 | AZ100: =ROUND(AZ101,2) -> 0 | BA100: =ROUND(BA101,2) -> 0 | BB100: =ROUND(BB101,2) -> 0 | BC100: =ROUND(BC101,2) -> 0 | BD100: =ROUND(BD101,2) -> 0 | BS100: D | BT100: 1 | BU100: ###NOIMPORT### | BV100: IMPORT | BW100: {3a963df5-aad0-41fd-a628-8e0bc9f68c01} | BX100: {9dba1c3e-92bc-4410-ad3a-3dcfd796d9d7} | CM100: 2
A101: / | E101: SO 3.1 | K101: VRN | AG101: ='SO 3.1 - VRN'!J32 -> 0 | AN101: =SUM(AG101,AT101) -> 0 | AQ101: Soupis | AS101: 0 | AT101: =ROUND(SUM(AV101:AW101),2) -> 0 | AU101: ='SO 3.1 - VRN'!P120 -> 0 | AV101: ='SO 3.1 - VRN'!J35 -> 0 | AW101: ='SO 3.1 - VRN'!J36 -> 0 | AX101: ='SO 3.1 - VRN'!J37 -> 0 | AY101: ='SO 3.1 - VRN'!J38 -> 0 | AZ101: ='SO 3.1 - VRN'!F35 -> 0 | BA101: ='SO 3.1 - VRN'!F36 -> 0 | BB101: ='SO 3.1 - VRN'!F37 -> 0 | BC101: ='SO 3.1 - VRN'!F38 -> 0 | BD101: ='SO 3.1 - VRN'!F39 -> 0 | BT101: 2 | BV101: IMPORT | BW101: {170a0f16-fa47-4885-9702-95e027515f02} | BX101: {3a963df5-aad0-41fd-a628-8e0bc9f68c01}

Sheet SO 1.1 - Čištění KL
AT2: {5623a049-ba6c-4e61-9195-b212ef7b8700}
AT3: 2
D4: KRYCÍ LIST SOUPISU PRACÍ | M4: v --- níže se nacházejí doplnkové a pomocné údaje k sestavám --- v | AT4: False
D6: Stavba:
E7: ='Rekapitulace stavby'!K6 -> Oprava traťového úseku Stod - Holýšov
D8: Objekt:
E9: SO 1 - Čištění KL km 136,950 - 137,400
D10: Soupis:
E11: SO 1.1 - Čištění KL
D13: KSO: | I13: CC-CZ:
D14: Místo: | F14: TO Stod | I14: Datum: | J14: ='Rekapitulace stavby'!AN8 -> 21. 1. 2019
D16: Zadavatel: | I16: IČ:
E17: SŽDC s.o. - OŘ Plzeň | I17: DIČ:
D19: Uchazeč: | I19: IČ: | J19: ='Rekapitulace stavby'!AN13 -> Vyplň údaj
E20: ='Rekapitulace stavby'!E14 -> Vyplň údaj | I20: DIČ: | J20: ='Rekapitulace stavby'!AN14 -> Vyplň údaj
D22: Projektant: | I22: IČ: | J22: =IF('Rekapitulace stavby'!AN16="","",'Rekapitulace stavby'!AN16)
E23: =IF('Rekapitulace stavby'!E17="","",'Rekapitulace stavby'!E17) | I23: DIČ: | J23: =IF('Rekapitulace stavby'!AN17="","",'Rekapitulace stavby'!AN17)
D25: Zpracovatel: | I25: IČ:
E26: Jung | I26: DIČ:
D28: Poznámka:
D32: Cena bez DPH | J32: =ROUND(J120, 2) -> 0
F34: Základ daně | I34: Sazba daně | J34: Výše daně
D35: DPH | E35: základní | F35: =ROUND((SUM(BE120:BE195)), 2) -> 0 | I35: 0.21 | J35: =ROUND(((SUM(BE120:BE195))*I35), 2) -> 0
E36: snížená | F36: =ROUND((SUM(BF120:BF195)), 2) -> 0 | I36: 0.15 | J36: =ROUND(((SUM(BF120:BF195))*I36), 2) -> 0
E37: zákl. přenesená | F37: =ROUND((SUM(BG120:BG195)), 2) -> 0 | I37: 0.21 | J37: =0 -> 0
E38: sníž. přenesená | F38: =ROUND((SUM(BH120:BH195)), 2) -> 0 | I38: 0.15 | J38: =0 -> 0
E39: nulová | F39: =ROUND((SUM(BI120:BI195)), 2) -> 0 | I39: 0 | J39: =0 -> 0
D41: Cena s DPH | G41: v | H41: CZK | J41: =SUM(J32:J39) -> 0
D50: Projektant | G50: Zpracovatel
D61: Datum a podpis: | F61: Razítko | G61: Datum a podpis: | J61: Razítko
D65: Objednavatel | G65: Uchazeč
D76: Datum a podpis: | F76: Razítko | G76: Datum a podpis: | J76: Razítko
C82: REKAPITULACE ČLENĚNÍ SOUPISU PRACÍ
C84: Stavba:
E85: =E7 -> Oprava traťového úseku Stod - Holýšov
C86: Objekt:
E87: SO 1 - Čištění KL km 136,950 - 137,400
C88: Soupis:
E89: =E11 -> SO 1.1 - Čištění KL
C91: Místo: | F91: =F14 -> TO Stod | I91: Datum: | J91: =IF(J14="","",J14) -> 21. 1. 2019
C93: Zadavatel: | F93: =E17 -> SŽDC s.o. - OŘ Plzeň | I93: Projektant: | J93: =E23
C94: Uchazeč: | F94: =IF(E20="","",E20) -> Vyplň údaj | I94: Zpracovatel: | J94: =E26 -> Jung
C96: Kód dílu - Popis | J96: Cena celkem [CZK]
C98: Náklady ze soupisu prací | J98: =J120 -> 0 | AU98: -1
C105: SOUPIS PRACÍ
C107: Stavba:
E108: =E7 -> Oprava traťového úseku Stod - Holýšov
C109: Objekt:
E110: SO 1 - Čištění KL km 136,950 - 137,400
C111: Soupis:
E112: =E11 -> SO 1.1 - Čištění KL
C114: Místo: | F114: =F14 -> TO Stod | I114: Datum: | J114: =IF(J14="","",J14) -> 21. 1. 2019
C116: Zadavatel: | F116: =E17 -> SŽDC s.o. - OŘ Plzeň | I116: Projektant: | J116: =E23
C117: Uchazeč: | F117: =IF(E20="","",E20) -> Vyplň údaj | I117: Zpracovatel: | J117: =E26 -> Jung
C119: PČ | D119: Typ | E119: Kód | F119: Popis | G119: MJ | H119: Množství | I119: J.cena [CZK] | J119: Cena celkem [CZK] | K119: Cenová soustava | N119: DPH | O119: J. Nh [h] | P119: Nh celkem [h] | Q119: J. hmotnost [t] | R119: Hmotnost celkem [t] | S119: J. suť [t] | T119: Suť Celkem [t]
C120: Náklady soupisu celkem | J120: =BK120 -> 0 | P120: =SUM(P121:P195) -> 0 | R120: =SUM(R121:R195) -> 927.257 | T120: =SUM(T121:T195) -> 0 | AT120: D | AU120: -1 | BK120: =SUM(BK121:BK195) -> 0
C121: 1 | D121: K | E121: 5905020020 | F121: Oprava stezky strojně s odstraněním drnu a nánosu přes 10 cm do 20 cm | G121: m2 | H121: 570 | J121: =ROUND(I121*H121,2) -> 0 | N121: základní | P121: =O121*H121 -> 0 | Q121: 0 | R121: =Q121*H121 -> 0 | S121: 0 | T121: =S121*H121 -> 0 | AR121: 4 | AT121: K | AU121: 0 | AY121: ROZPOCET | BE121: =IF(N121="základní",J121,0) -> 0 | BF121: =IF(N121="snížená",J121,0) -> 0 | BG121: =IF(N121="zákl. přenesená",J121,0) -> 0 | BH121: =IF(N121="sníž. přenesená",J121,0) -> 0 | BI121: =IF(N121="nulová",J121,0) -> 0 | BJ121: 1 | BK121: =ROUND(I121*H121,2) -> 0 | BL121: 4 | BM121: 61708853
D122: PP | F122: Oprava stezky strojně s odstraněním drnu a nánosu přes 10 cm do 20 cm. Poznámka: 1. V cenách jsou započteny náklady na odtěžení nánosu stezky a rozprostření výzisku na terén nebo naložení na dopravní prostředek a úprava povrchu stezky. | AT122: PP | AU122: 0
D123: PSC | F123: Poznámka k souboru cen:_x000D_ 1. V cenách jsou započteny náklady na odtěžení nánosu stezky a rozprostření výzisku na terén nebo naložení na dopravní prostředek a úprava povrchu stezky. | AT123: PSC | AU123: 0
D124: VV | F124: 205*2"Ls" | H124: 410 | AT124: VV | AU124: 0 | AV124: 2 | AW124: True | AX124: 0 | AY124: ROZPOCET
D125: VV | F125: 80*2"Ps" | H125: 160 | AT125: VV | AU125: 0 | AV125: 2 | AW125: True | AX125: 0 | AY125: ROZPOCET
D126: VV | F126: Součet | H126: 570 | AT126: VV | AU126: 0 | AV126: 4 | AW126: True | AX126: 1 | AY126: ROZPOCET
C127: 2 | D127: K | E127: 5915005030 | F127: Hloubení rýh nebo jam na železničním spodku III. třídy | G127: m3 | H127: 3.5 | J127: =ROUND(I127*H127,2) -> 0 | N127: základní | P127: =O127*H127 -> 0 | Q127: 0 | R127: =Q127*H127 -> 0 | S127: 0 | T127: =S127*H127 -> 0 | AR127: 4 | AT127: K | AU127: 0 | AY127: ROZPOCET | BE127: =IF(N127="základní",J127,0) -> 0 | BF127: =IF(N127="snížená",J127,0) -> 0 | BG127: =IF(N127="zákl. přenesená",J127,0) -> 0 | BH127: =IF(N127="sníž. přenesená",J127,0) -> 0 | BI127: =IF(N127="nulová",J127,0) -> 0 | BJ127: 1 | BK127: =ROUND(I127*H127,2) -> 0 | BL127: 4 | BM127: -910045265
D128: PP | F128: Hloubení rýh nebo jam na železničním spodku III. třídy. Poznámka: 1. V cenách jsou započteny náklady na hloubení a uložení výzisku na terén nebo naložení na dopravní prostředek a uložení na úložišti. | AT128: PP | AU128: 0
D129: PSC | F129: Poznámka k souboru cen:_x000D_ 1. V cenách jsou započteny náklady na hloubení a uložení výzisku na terén nebo naložení na dopravní prostředek a uložení na úložišti. | AT129: PSC | AU129: 0
D130: VV | F130: 2*3,5*0,5 | H130: 3.5 | AT130: VV | AU130: 0 | AV130: 2 | AW130: True | AX130: 1 | AY130: ROZPOCET
C131: 3 | D131: K | E131: 5905085050 | F131: Souvislé čištění KL strojně koleje pražce betonové rozdělení "d" | G131: km | H131: 0.45 | J131: =ROUND(I131*H131,2) -> 0 | N131: základní | P131: =O131*H131 -> 0 | Q131: 0 | R131: =Q131*H131 -> 0 | S131: 0 | T131: =S131*H131 -> 0 | AR131: 4 | AT131: K | AU131: 0 | AY131: ROZPOCET | BE131: =IF(N131="základní",J131,0) -> 0 | BF131: =IF(N131="snížená",J131,0) -> 0 | BG131: =IF(N131="zákl. přenesená",J131,0) -> 0 | BH131: =IF(N131="sníž. přenesená",J131,0) -> 0 | BI131: =IF(N131="nulová",J131,0) -> 0 | BJ131: 1 | BK131: =ROUND(I131*H131,2) -> 0 | BL131: 4 | BM131: -871870288
D132: PP | F132: Souvislé čištění KL strojně koleje pražce betonové rozdělení "d". Poznámka: 1. V cenách jsou započteny náklady na kontinuální čištění KL strojní čističkou, případné vložení geosyntetika, rozprostření výzisku na terén nebo naložení na dopravní prostředek, zdvih, úpravu směrového a výškového uspořádání včetně měření mezních stavebních odchylek dle ČSN a technologických veličin, předání tištěných výstupů a úpravu KL do profilu. Platí i pro čištění KL současně s výměnou pražců. 2. V cenách nejsou obsaženy náklady na snížení KL pod patou kolejnice, následnou úpravu směrového a výškového uspořádání dodávku a doplnění kameniva. | AT132: PP | AU132: 0
D133: PSC | F133: Poznámka k souboru cen:_x000D_ 1. V cenách jsou započteny náklady na kontinuální čištění KL strojní čističkou, případné vložení geosyntetika, rozprostření výzisku na terén nebo naložení na dopravní prostředek, zdvih, úpravu směrového a výškového uspořádání včetně měření mezních stavebních odchylek dle ČSN a technologických veličin, předání tištěných výstupů a úpravu KL do profilu. Platí i pro čištění KL současně s výměnou pražců. 2. V cenách nejsou obsaženy náklady na snížení KL pod patou kolejnice, následnou úpravu směrového a výškového uspořádání dodávku a doplnění kameniva. | AT133: PSC | AU133: 0
C134: 4 | D134: K | E134: 5910040320 | F134: Umožnění volné dilatace kolejnice demontáž upevňovadel s osazením kluzných podložek rozdělení pražců "d" | G134: m | H134: 1100 | J134: =ROUND(I134*H134,2) -> 0 | N134: základní | P134: =O134*H134 -> 0 | Q134: 0 | R134: =Q134*H134 -> 0 | S134: 0 | T134: =S134*H134 -> 0 | AR134: 4 | AT134: K | AU134: 0 | AY134: ROZPOCET | BE134: =IF(N134="základní",J134,0) -> 0 | BF134: =IF(N134="snížená",J134,0) -> 0 | BG134: =IF(N134="zákl. přenesená",J134,0) -> 0 | BH134: =IF(N134="sníž. přenesená",J134,0) -> 0 | BI134: =IF(N134="nulová",J134,0) -> 0 | BJ134: 1 | BK134: =ROUND(I134*H134,2) -> 0 | BL134: 4 | BM134: 968213798
D135: PP | F135: Umožnění volné dilatace kolejnice demontáž upevňovadel s osazením kluzných podložek rozdělení pražců "d". Poznámka: 1. V cenách jsou započteny náklady na uvolnění, demontáž a rovnoměrné prodloužení nebo zkrácení kolejnice, vyznačení značek a vedení dokumentace. 2. V cenách nejsou obsaženy náklady na demontáž kolejnicových spojek. | AT135: PP | AU135: 0
D136: PSC | F136: Poznámka k souboru cen:_x000D_ 1. V cenách jsou započteny náklady na uvolnění, demontáž a rovnoměrné prodloužení nebo zkrácení kolejnice, vyznačení značek a vedení dokumentace. 2. V cenách nejsou obsaženy náklady na demontáž kolejnicových spojek. | AT136: PSC | AU136: 0
C137: 5 | D137: K | E137: 5910040420 | F137: Umožnění volné dilatace kolejnice montáž upevňovadel s odstraněním kluzných podložek rozdělení pražců "d" | G137: m | H137: 1100 | J137: =ROUND(I137*H137,2) -> 0 | N137: základní | P137: =O137*H137 -> 0 | Q137: 0 | R137: =Q137*H137 -> 0 | S137: 0 | T137: =S137*H137 -> 0 | AR137: 4 | AT137: K | AU137: 0 | AY137: ROZPOCET | BE137: =IF(N137="základní",J137,0) -> 0 | BF137: =IF(N137="snížená",J137,0) -> 0 | BG137: =IF(N137="zákl. přenesená",J137,0) -> 0 | BH137: =IF(N137="sníž. přenesená",J137,0) -> 0 | BI137: =IF(N137="nulová",J137,0) -> 0 | BJ137: 1 | BK137: =ROUND(I137*H137,2) -> 0 | BL137: 4 | BM137: 169956445
D138: PP | F138: Umožnění volné dilatace kolejnice montáž upevňovadel s odstraněním kluzných podložek rozdělení pražců "d". Poznámka: 1. V cenách jsou započteny náklady na uvolnění, demontáž a rovnoměrné prodloužení nebo zkrácení kolejnice, vyznačení značek a vedení dokumentace. 2. V cenách nejsou obsaženy náklady na demontáž kolejnicových spojek. | AT138: PP | AU138: 0
D139: PSC | F139: Poznámka k souboru cen:_x000D_ 1. V cenách jsou započteny náklady na uvolnění, demontáž a rovnoměrné prodloužení nebo zkrácení kolejnice, vyznačení značek a vedení dokumentace. 2. V cenách nejsou obsaženy náklady na demontáž kolejnicových spojek. | AT139: PSC | AU139: 0
C140: 6 | D140: K | E140: 5910035030 | F140: Dosažení dovolené upínací teploty v BK prodloužením kolejnicového pásu v koleji tv. S49 | G140: svar | H140: 4 | J140: =ROUND(I140*H140,2) -> 0 | N140: základní | P140: =O140*H140 -> 0 | Q140: 0 | R140: =Q140*H140 -> 0 | S140: 0 | T140: =S140*H140 -> 0 | AR140: 4 | AT140: K | AU140: 0 | AY140: ROZPOCET | BE140: =IF(N140="základní",J140,0) -> 0 | BF140: =IF(N140="snížená",J140,0) -> 0 | BG140: =IF(N140="zákl. přenesená",J140,0) -> 0 | BH140: =IF(N140="sníž. přenesená",J140,0) -> 0 | BI140: =IF(N140="nulová",J140,0) -> 0 | BJ140: 1 | BK140: =ROUND(I140*H140,2) -> 0 | BL140: 4 | BM140: -618607157
D141: PP | F141: Dosažení dovolené upínací teploty v BK prodloužením kolejnicového pásu v koleji tv. S49. Poznámka: 1. V cenách jsou započteny náklady na montáž a demontáž napínacího zařízení nebo ohřevu kolejnic a udržování potřebného prodloužení kolejnicového pásu. 2. V cenách nejsou obsaženy náklady na demontáž upevňovadel a kolejnicových spojek. | AT141: PP | AU141: 0
D142: PSC | F142: Poznámka k souboru cen:_x000D_ 1. V cenách jsou započteny náklady na montáž a demontáž napínacího zařízení nebo ohřevu kolejnic a udržování potřebného prodloužení kolejnicového pásu. 2. V cenách nejsou obsaženy náklady na demontáž upevňovadel a kolejnicových spojek. | AT142: PSC | AU142: 0
C143: 7 | D143: K | E143: 5910020130 | F143: Svařování kolejnic termitem plný předehřev standardní spára svar jednotlivý tv. S49 | G143: svar | H143: 4 | J143: =ROUND(I143*H143,2) -> 0 | N143: základní | P143: =O143*H143 -> 0 | Q143: 0 | R143: =Q143*H143 -> 0 | S143: 0 | T143: =S143*H143 -> 0 | AR143: 4 | AT143: K | AU143: 0 | AY143: ROZPOCET | BE143: =IF(N143="základní",J143,0) -> 0 | BF143: =IF(N143="snížená",J143,0) -> 0 | BG143: =IF(N143="zákl. přenesená",J143,0) -> 0 | BH143: =IF(N143="sníž. přenesená",J143,0) -> 0 | BI143: =IF(N143="nulová",J143,0) -> 0 | BJ143: 1 | BK143: =ROUND(I143*H143,2) -> 0 | BL143: 4 | BM143: 38984075
D144: PP | F144: Svařování kolejnic termitem plný předehřev standardní spára svar jednotlivý tv. S49. Poznámka: 1. V cenách jsou započteny náklady na vybrání kameniva z mezipražcového prostoru, demontáž upevňovadel, směrové a výškové vyrovnání kolejnic, provedení svaru, montáž upevňovadel, vizuální kontrola, měření geometrie svaru. 2. V cenách nejsou obsaženy náklady na kontrolu svaru ultrazvukem, podbití pražců a demontáž styku. | AT144: PP | AU144: 0
D145: PSC | F145: Poznámka k souboru cen:_x000D_ 1. V cenách jsou započteny náklady na vybrání kameniva z mezipražcového prostoru, demontáž upevňovadel, směrové a výškové vyrovnání kolejnic, provedení svaru, montáž upevňovadel, vizuální kontrola, měření geometrie svaru. 2. V cenách nejsou obsaženy náklady na kontrolu svaru ultrazvukem, podbití pražců a demontáž styku. | AT145: PSC | AU145: 0
C146: 8 | D146: K | E146: 5905035110 | F146: Výměna KL malou těžící mechanizací včetně lavičky lože otevřené | G146: m3 | H146: 110.25 | J146: =ROUND(I146*H146,2) -> 0 | N146: základní | P146: =O146*H146 -> 0 | Q146: 0 | R146: =Q146*H146 -> 0 | S146: 0 | T146: =S146*H146 -> 0 | AR146: 4 | AT146: K | AU146: 0 | AY146: ROZPOCET | BE146: =IF(N146="základní",J146,0) -> 0 | BF146: =IF(N146="snížená",J146,0) -> 0 | BG146: =IF(N146="zákl. přenesená",J146,0) -> 0 | BH146: =IF(N146="sníž. přenesená",J146,0) -> 0 | BI146: =IF(N146="nulová",J146,0) -> 0 | BJ146: 1 | BK146: =ROUND(I146*H146,2) -> 0 | BL146: 4 | BM146: 1202411545
D147: PP | F147: Výměna KL malou těžící mechanizací včetně lavičky lože otevřené. Poznámka: 1. V cenách jsou započteny náklady na odtěžení KL s použitím minirypadla, rozprostření výzisku na terén nebo naložení na dopravní prostředek, přehození kameniva, úprava KL do profilu a jeho případné snížení pod patou kolejnice. U výměny KL v celém profilu je v ceně započteno případné uvolnění, posun a dotažení pražce. 2. V cenách nejsou obsaženy náklady na podbití pražce, dodávku a doplnění kameniva. | AT147: PP | AU147: 0
D148: PSC | F148: Poznámka k souboru cen:_x000D_ 1. V cenách jsou započteny náklady na odtěžení KL s použitím minirypadla, rozprostření výzisku na terén nebo naložení na dopravní prostředek, přehození kameniva, úprava KL do profilu a jeho případné snížení pod patou kolejnice. U výměny KL v celém profilu je v ceně započteno případné uvolnění, posun a dotažení pražce. 2. V cenách nejsou obsaženy náklady na podbití pražce, dodávku a doplnění kameniva. | AT148: PSC | AU148: 0
D149: VV | F149: 20*3,5*0,5"před P612" | H149: 35 | AT149: VV | AU149: 0 | AV149: 2 | AW149: True | AX149: 0 | AY149: ROZPOCET
D150: VV | F150: 20*3,5*0,5"před P610" | H150: 35 | AT150: VV | AU150: 0 | AV150: 2 | AW150: True | AX150: 0 | AY150: ROZPOCET
D151: VV | F151: 23*3,5*0,5"za P610" | H151: 40.25 | AT151: VV | AU151: 0 | AV151: 2 | AW151: True | AX151: 0 | AY151: ROZPOCET
D152: VV | F152: Součet | H152: 110.25 | AT152: VV | AU152: 0 | AV152: 4 | AW152: True | AX152: 1 | AY152: ROZPOCET
C153: 9 | D153: K | E153: 5905105030 | F153: Doplnění KL kamenivem souvisle strojně v koleji | G153: m3 | H153: 650.25 | J153: =ROUND(I153*H153,2) -> 0 | N153: základní | P153: =O153*H153 -> 0 | Q153: 0 | R153: =Q153*H153 -> 0 | S153: 0 | T153: =S153*H153 -> 0 | AR153: 4 | AT153: K | AU153: 0 | AY153: ROZPOCET | BE153: =IF(N153="základní",J153,0) -> 0 | BF153: =IF(N153="snížená",J153,0) -> 0 | BG153: =IF(N153="zákl. přenesená",J153,0) -> 0 | BH153: =IF(N153="sníž. přenesená",J153,0) -> 0 | BI153: =IF(N153="nulová",J153,0) -> 0 | BJ153: 1 | BK153: =ROUND(I153*H153,2) -> 0 | BL153: 4 | BM153: -1232209078
D154: PP | F154: Doplnění KL kamenivem souvisle strojně v koleji. Poznámka: 1. V cenách jsou započteny náklady na doplnění kameniva ojediněle ručně vidlemi a/nebo souvisle strojně z výsypných vozů případně nakladačem. 2. V cenách nejsou obsaženy náklady na dodávku kameniva. | AT154: PP | AU154: 0
D155: PSC | F155: Poznámka k souboru cen:_x000D_ 1. V cenách jsou započteny náklady na doplnění kameniva ojediněle ručně vidlemi a/nebo souvisle strojně z výsypných vozů případně nakladačem. 2. V cenách nejsou obsaženy náklady na dodávku kameniva. | AT155: PSC | AU155: 0
D156: VV | F156: 450*1,2+110,250 | H156: 650.25 | AT156: VV | AU156: 0 | AV156: 2 | AW156: True | AX156: 1 | AY156: ROZPOCET
C157: 10 | D157: M | E157: 5955101000 | F157: Kamenivo drcené štěrk frakce 31,5/63 třídy BI | G157: t | H157: 927.257 | J157: =ROUND(I157*H157,2) -> 0 | N157: základní | P157: =O157*H157 -> 0 | Q157: 1 | R157: =Q157*H157 -> 927.257 | S157: 0 | T157: =S157*H157 -> 0 | AR157: 128 | AT157: M | AU157: 0 | AY157: ROZPOCET | BE157: =IF(N157="základní",J157,0) -> 0 | BF157: =IF(N157="snížená",J157,0) -> 0 | BG157: =IF(N157="zákl. přenesená",J157,0) -> 0 | BH157: =IF(N157="sníž. přenesená",J157,0) -> 0 | BI157: =IF(N157="nulová",J157,0) -> 0 | BJ157: 1 | BK157: =ROUND(I157*H157,2) -> 0 | BL157: 128 | BM157: 1270842468
D158: PP | F158: Kamenivo drcené štěrk frakce 31,5/63 třídy BI | AT158: PP | AU158: 0
D159: VV | F159: 650,250*1,426 | H159: 927.257 | AT159: VV | AU159: 0 | AV159: 2 | AW159: True | AX159: 1 | AY159: ROZPOCET
C160: 11 | D160: K | E160: 5914020020 | F160: Čištění otevřených odvodňovacích zařízení strojně příkop nezpevněný | G160: m3 | H160: 24.5 | J160: =ROUND(I160*H160,2) -> 0 | N160: základní | P160: =O160*H160 -> 0 | Q160: 0 | R160: =Q160*H160 -> 0 | S160: 0 | T160: =S160*H160 -> 0 | AR160: 4 | AT160: K | AU160: 0 | AY160: ROZPOCET | BE160: =IF(N160="základní",J160,0) -> 0 | BF160: =IF(N160="snížená",J160,0) -> 0 | BG160: =IF(N160="zákl. přenesená",J160,0) -> 0 | BH160: =IF(N160="sníž. přenesená",J160,0) -> 0 | BI160: =IF(N160="nulová",J160,0) -> 0 | BJ160: 1 | BK160: =ROUND(I160*H160,2) -> 0 | BL160: 4 | BM160: 1357504513
D161: PP | F161: Čištění otevřených odvodňovacích zařízení strojně příkop nezpevněný. Poznámka: 1. V cenách jsou započteny náklady na odtěžení nánosu a nečistot, rozprostření výzisku na terén nebo naložení na dopravní prostředek. 2. V cenách nejsou obsaženy náklady na dopravu a skládkovné. | AT161: PP | AU161: 0
D162: PSC | F162: Poznámka k souboru cen:_x000D_ 1. V cenách jsou započteny náklady na odtěžení nánosu a nečistot, rozprostření výzisku na terén nebo naložení na dopravní prostředek. 2. V cenách nejsou obsaženy náklady na dopravu a skládkovné. | AT162: PSC | AU162: 0
D163: VV | F163: 245*0,5*0,2"Ls" | H163: 24.5 | AT163: VV | AU163: 0 | AV163: 2 | AW163: True | AX163: 0 | AY163: ROZPOCET
D164: VV | F164: Součet | H164: 24.5 | AT164: VV | AU164: 0 | AV164: 4 | AW164: True | AX164: 1 | AY164: ROZPOCET
...

Sheet SO 2.1 - Výměna pražců
AT2: {9606caf3-57f2-42fa-8937-bc3343745922}
AT3: 2
D4: KRYCÍ LIST SOUPISU PRACÍ | M4: v --- níže se nacházejí doplnkové a pomocné údaje k sestavám --- v | AT4: False
D6: Stavba:
E7: ='Rekapitulace stavby'!K6 -> Oprava traťového úseku Stod - Holýšov
D8: Objekt:
E9: SO 2 - Výměna pražců km 137,560 - 138,015
D10: Soupis:
E11: SO 2.1 - Výměna pražců
D13: KSO: | I13: CC-CZ:
D14: Místo: | F14: TO Stod | I14: Datum: | J14: ='Rekapitulace stavby'!AN8 -> 21. 1. 2019
D16: Zadavatel: | I16: IČ:
E17: SŽDC s.o. - OŘ Plzeň | I17: DIČ:
D19: Uchazeč: | I19: IČ: | J19: ='Rekapitulace stavby'!AN13 -> Vyplň údaj
E20: ='Rekapitulace stavby'!E14 -> Vyplň údaj | I20: DIČ: | J20: ='Rekapitulace stavby'!AN14 -> Vyplň údaj
D22: Projektant: | I22: IČ: | J22: =IF('Rekapitulace stavby'!AN16="","",'Rekapitulace stavby'!AN16)
E23: =IF('Rekapitulace stavby'!E17="","",'Rekapitulace stavby'!E17) | I23: DIČ: | J23: =IF('Rekapitulace stavby'!AN17="","",'Rekapitulace stavby'!AN17)
D25: Zpracovatel: | I25: IČ:
E26: Jung | I26: DIČ:
D28: Poznámka:
D32: Cena bez DPH | J32: =ROUND(J120, 2) -> 0
F34: Základ daně | I34: Sazba daně | J34: Výše daně
D35: DPH | E35: základní | F35: =ROUND((SUM(BE120:BE215)), 2) -> 0 | I35: 0.21 | J35: =ROUND(((SUM(BE120:BE215))*I35), 2) -> 0
E36: snížená | F36: =ROUND((SUM(BF120:BF215)), 2) -> 0 | I36: 0.15 | J36: =ROUND(((SUM(BF120:BF215))*I36), 2) -> 0
E37: zákl. přenesená | F37: =ROUND((SUM(BG120:BG215)), 2) -> 0 | I37: 0.21 | J37: =0 -> 0
E38: sníž. přenesená | F38: =ROUND((SUM(BH120:BH215)), 2) -> 0 | I38: 0.15 | J38: =0 -> 0
E39: nulová | F39: =ROUND((SUM(BI120:BI215)), 2) -> 0 | I39: 0 | J39: =0 -> 0
D41: Cena s DPH | G41: v | H41: CZK | J41: =SUM(J32:J39) -> 0
D50: Projektant | G50: Zpracovatel
D61: Datum a podpis: | F61: Razítko | G61: Datum a podpis: | J61: Razítko
D65: Objednavatel | G65: Uchazeč
D76: Datum a podpis: | F76: Razítko | G76: Datum a podpis: | J76: Razítko
C82: REKAPITULACE ČLENĚNÍ SOUPISU PRACÍ
C84: Stavba:
E85: =E7 -> Oprava traťového úseku Stod - Holýšov
C86: Objekt:
E87: SO 2 - Výměna pražců km 137,560 - 138,015
C88: Soupis:
E89: =E11 -> SO 2.1 - Výměna pražců
C91: Místo: | F91: =F14 -> TO Stod | I91: Datum: | J91: =IF(J14="","",J14) -> 21. 1. 2019
C93: Zadavatel: | F93: =E17 -> SŽDC s.o. - OŘ Plzeň | I93: Projektant: | J93: =E23
C94: Uchazeč: | F94: =IF(E20="","",E20) -> Vyplň údaj | I94: Zpracovatel: | J94: =E26 -> Jung
C96: Kód dílu - Popis | J96: Cena celkem [CZK]
C98: Náklady ze soupisu prací | J98: =J120 -> 0 | AU98: -1
C105: SOUPIS PRACÍ
C107: Stavba:
E108: =E7 -> Oprava traťového úseku Stod - Holýšov
C109: Objekt:
E110: SO 2 - Výměna pražců km 137,560 - 138,015
C111: Soupis:
E112: =E11 -> SO 2.1 - Výměna pražců
C114: Místo: | F114: =F14 -> TO Stod | I114: Datum: | J114: =IF(J14="","",J14) -> 21. 1. 2019
C116: Zadavatel: | F116: =E17 -> SŽDC s.o. - OŘ Plzeň | I116: Projektant: | J116: =E23
C117: Uchazeč: | F117: =IF(E20="","",E20) -> Vyplň údaj | I117: Zpracovatel: | J117: =E26 -> Jung
C119: PČ | D119: Typ | E119: Kód | F119: Popis | G119: MJ | H119: Množství | I119: J.cena [CZK] | J119: Cena celkem [CZK] | K119: Cenová soustava | N119: DPH | O119: J. Nh [h] | P119: Nh celkem [h] | Q119: J. hmotnost [t] | R119: Hmotnost celkem [t] | S119: J. suť [t] | T119: Suť Celkem [t]
C120: Náklady soupisu celkem | J120: =BK120 -> 0 | P120: =SUM(P121:P215) -> 0 | R120: =SUM(R121:R215) -> 800.2908 | T120: =SUM(T121:T215) -> 0 | AT120: D | AU120: -1 | BK120: =SUM(BK121:BK215) -> 0
C121: 1 | D121: K | E121: 5905020020 | F121: Oprava stezky strojně s odstraněním drnu a nánosu přes 10 cm do 20 cm | G121: m2 | H121: 400 | J121: =ROUND(I121*H121,2) -> 0 | N121: základní | P121: =O121*H121 -> 0 | Q121: 0 | R121: =Q121*H121 -> 0 | S121: 0 | T121: =S121*H121 -> 0 | AR121: 4 | AT121: K | AU121: 0 | AY121: ROZPOCET | BE121: =IF(N121="základní",J121,0) -> 0 | BF121: =IF(N121="snížená",J121,0) -> 0 | BG121: =IF(N121="zákl. přenesená",J121,0) -> 0 | BH121: =IF(N121="sníž. přenesená",J121,0) -> 0 | BI121: =IF(N121="nulová",J121,0) -> 0 | BJ121: 1 | BK121: =ROUND(I121*H121,2) -> 0 | BL121: 4 | BM121: -1308513799
D122: PP | F122: Oprava stezky strojně s odstraněním drnu a nánosu přes 10 cm do 20 cm. Poznámka: 1. V cenách jsou započteny náklady na odtěžení nánosu stezky a rozprostření výzisku na terén nebo naložení na dopravní prostředek a úprava povrchu stezky. | AT122: PP | AU122: 0
D123: PSC | F123: Poznámka k souboru cen:_x000D_ 1. V cenách jsou započteny náklady na odtěžení nánosu stezky a rozprostření výzisku na terén nebo naložení na dopravní prostředek a úprava povrchu stezky. | AT123: PSC | AU123: 0
D124: VV | F124: 200*2"L+P" | H124: 400 | AT124: VV | AU124: 0 | AV124: 2 | AW124: True | AX124: 0 | AY124: ROZPOCET
D125: VV | F125: Součet | H125: 400 | AT125: VV | AU125: 0 | AV125: 4 | AW125: True | AX125: 1 | AY125: ROZPOCET
C126: 2 | D126: K | E126: 5915005030 | F126: Hloubení rýh nebo jam na železničním spodku III. třídy | G126: m3 | H126: 3.5 | J126: =ROUND(I126*H126,2) -> 0 | N126: základní | P126: =O126*H126 -> 0 | Q126: 0 | R126: =Q126*H126 -> 0 | S126: 0 | T126: =S126*H126 -> 0 | AR126: 4 | AT126: K | AU126: 0 | AY126: ROZPOCET | BE126: =IF(N126="základní",J126,0) -> 0 | BF126: =IF(N126="snížená",J126,0) -> 0 | BG126: =IF(N126="zákl. přenesená",J126,0) -> 0 | BH126: =IF(N126="sníž. přenesená",J126,0) -> 0 | BI126: =IF(N126="nulová",J126,0) -> 0 | BJ126: 1 | BK126: =ROUND(I126*H126,2) -> 0 | BL126: 4 | BM126: -1896721956
D127: PP | F127: Hloubení rýh nebo jam na železničním spodku III. třídy. Poznámka: 1. V cenách jsou započteny náklady na hloubení a uložení výzisku na terén nebo naložení na dopravní prostředek a uložení na úložišti. | AT127: PP | AU127: 0
D128: PSC | F128: Poznámka k souboru cen:_x000D_ 1. V cenách jsou započteny náklady na hloubení a uložení výzisku na terén nebo naložení na dopravní prostředek a uložení na úložišti. | AT128: PSC | AU128: 0
D129: VV | F129: 2*3,5*0,5 | H129: 3.5 | AT129: VV | AU129: 0 | AV129: 2 | AW129: True | AX129: 1 | AY129: ROZPOCET
C130: 3 | D130: K | E130: 5905085055 | F130: Souvislé čištění KL strojně koleje pražce betonové rozdělení "u" | G130: km | H130: 0.39 | J130: =ROUND(I130*H130,2) -> 0 | N130: základní | P130: =O130*H130 -> 0 | Q130: 0 | R130: =Q130*H130 -> 0 | S130: 0 | T130: =S130*H130 -> 0 | AR130: 4 | AT130: K | AU130: 0 | AY130: ROZPOCET | BE130: =IF(N130="základní",J130,0) -> 0 | BF130: =IF(N130="snížená",J130,0) -> 0 | BG130: =IF(N130="zákl. přenesená",J130,0) -> 0 | BH130: =IF(N130="sníž. přenesená",J130,0) -> 0 | BI130: =IF(N130="nulová",J130,0) -> 0 | BJ130: 1 | BK130: =ROUND(I130*H130,2) -> 0 | BL130: 4 | BM130: 953434486
D131: PP | F131: Souvislé čištění KL strojně koleje pražce betonové rozdělení "u". Poznámka: 1. V cenách jsou započteny náklady na kontinuální čištění KL strojní čističkou, případné vložení geosyntetika, rozprostření výzisku na terén nebo naložení na dopravní prostředek, zdvih, úpravu směrového a výškového uspořádání včetně měření mezních stavebních odchylek dle ČSN a technologických veličin, předání tištěných výstupů a úpravu KL do profilu. Platí i pro čištění KL současně s výměnou pražců. 2. V cenách nejsou obsaženy náklady na snížení KL pod patou kolejnice, následnou úpravu směrového a výškového uspořádání dodávku a doplnění kameniva. | AT131: PP | AU131: 0
D132: PSC | F132: Poznámka k souboru cen:_x000D_ 1. V cenách jsou započteny náklady na kontinuální čištění KL strojní čističkou, případné vložení geosyntetika, rozprostření výzisku na terén nebo naložení na dopravní prostředek, zdvih, úpravu směrového a výškového uspořádání včetně měření mezních stavebních odchylek dle ČSN a technologických veličin, předání tištěných výstupů a úpravu KL do profilu. Platí i pro čištění KL současně s výměnou pražců. 2. V cenách nejsou obsaženy náklady na snížení KL pod patou kolejnice, následnou úpravu směrového a výškového uspořádání dodávku a doplnění kameniva. | AT132: PSC | AU132: 0
C133: 4 | D133: K | E133: 5910040330 | F133: Umožnění volné dilatace kolejnice demontáž upevňovadel s osazením kluzných podložek rozdělení pražců "u" | G133: m | H133: 980 | J133: =ROUND(I133*H133,2) -> 0 | N133: základní | P133: =O133*H133 -> 0 | Q133: 0 | R133: =Q133*H133 -> 0 | S133: 0 | T133: =S133*H133 -> 0 | AR133: 4 | AT133: K | AU133: 0 | AY133: ROZPOCET | BE133: =IF(N133="základní",J133,0) -> 0 | BF133: =IF(N133="snížená",J133,0) -> 0 | BG133: =IF(N133="zákl. přenesená",J133,0) -> 0 | BH133: =IF(N133="sníž. přenesená",J133,0) -> 0 | BI133: =IF(N133="nulová",J133,0) -> 0 | BJ133: 1 | BK133: =ROUND(I133*H133,2) -> 0 | BL133: 4 | BM133: 298637965
D134: PP | F134: Umožnění volné dilatace kolejnice demontáž upevňovadel s osazením kluzných podložek rozdělení pražců "u". Poznámka: 1. V cenách jsou započteny náklady na uvolnění, demontáž a rovnoměrné prodloužení nebo zkrácení kolejnice, vyznačení značek a vedení dokumentace. 2. V cenách nejsou obsaženy náklady na demontáž kolejnicových spojek. | AT134: PP | AU134: 0
D135: PSC | F135: Poznámka k souboru cen:_x000D_ 1. V cenách jsou započteny náklady na uvolnění, demontáž a rovnoměrné prodloužení nebo zkrácení kolejnice, vyznačení značek a vedení dokumentace. 2. V cenách nejsou obsaženy náklady na demontáž kolejnicových spojek. | AT135: PSC | AU135: 0
C136: 5 | D136: K | E136: 5910040430 | F136: Umožnění volné dilatace kolejnice montáž upevňovadel s odstraněním kluzných podložek rozdělení pražců "u" | G136: m | H136: 980 | J136: =ROUND(I136*H136,2) -> 0 | N136: základní | P136: =O136*H136 -> 0 | Q136: 0 | R136: =Q136*H136 -> 0 | S136: 0 | T136: =S136*H136 -> 0 | AR136: 4 | AT136: K | AU136: 0 | AY136: ROZPOCET | BE136: =IF(N136="základní",J136,0) -> 0 | BF136: =IF(N136="snížená",J136,0) -> 0 | BG136: =IF(N136="zákl. přenesená",J136,0) -> 0 | BH136: =IF(N136="sníž. přenesená",J136,0) -> 0 | BI136: =IF(N136="nulová",J136,0) -> 0 | BJ136: 1 | BK136: =ROUND(I136*H136,2) -> 0 | BL136: 4 | BM136: 1500099999
D137: PP | F137: Umožnění volné dilatace kolejnice montáž upevňovadel s odstraněním kluzných podložek rozdělení pražců "u". Poznámka: 1. V cenách jsou započteny náklady na uvolnění, demontáž a rovnoměrné prodloužení nebo zkrácení kolejnice, vyznačení značek a vedení dokumentace. 2. V cenách nejsou obsaženy náklady na demontáž kolejnicových spojek. | AT137: PP | AU137: 0
D138: PSC | F138: Poznámka k souboru cen:_x000D_ 1. V cenách jsou započteny náklady na uvolnění, demontáž a rovnoměrné prodloužení nebo zkrácení kolejnice, vyznačení značek a vedení dokumentace. 2. V cenách nejsou obsaženy náklady na demontáž kolejnicových spojek. | AT138: PSC | AU138: 0
C139: 6 | D139: K | E139: 5910035030 | F139: Dosažení dovolené upínací teploty v BK prodloužením kolejnicového pásu v koleji tv. S49 | G139: svar | H139: 4 | J139: =ROUND(I139*H139,2) -> 0 | N139: základní | P139: =O139*H139 -> 0 | Q139: 0 | R139: =Q139*H139 -> 0 | S139: 0 | T139: =S139*H139 -> 0 | AR139: 4 | AT139: K | AU139: 0 | AY139: ROZPOCET | BE139: =IF(N139="základní",J139,0) -> 0 | BF139: =IF(N139="snížená",J139,0) -> 0 | BG139: =IF(N139="zákl. přenesená",J139,0) -> 0 | BH139: =IF(N139="sníž. přenesená",J139,0) -> 0 | BI139: =IF(N139="nulová",J139,0) -> 0 | BJ139: 1 | BK139: =ROUND(I139*H139,2) -> 0 | BL139: 4 | BM139: 1736722575
D140: PP | F140: Dosažení dovolené upínací teploty v BK prodloužením kolejnicového pásu v koleji tv. S49. Poznámka: 1. V cenách jsou započteny náklady na montáž a demontáž napínacího zařízení nebo ohřevu kolejnic a udržování potřebného prodloužení kolejnicového pásu. 2. V cenách nejsou obsaženy náklady na demontáž upevňovadel a kolejnicových spojek. | AT140: PP | AU140: 0
D141: PSC | F141: Poznámka k souboru cen:_x000D_ 1. V cenách jsou započteny náklady na montáž a demontáž napínacího zařízení nebo ohřevu kolejnic a udržování potřebného prodloužení kolejnicového pásu. 2. V cenách nejsou obsaženy náklady na demontáž upevňovadel a kolejnicových spojek. | AT141: PSC | AU141: 0
C142: 7 | D142: K | E142: 5910020130 | F142: Svařování kolejnic termitem plný předehřev standardní spára svar jednotlivý tv. S49 | G142: svar | H142: 4 | J142: =ROUND(I142*H142,2) -> 0 | N142: základní | P142: =O142*H142 -> 0 | Q142: 0 | R142: =Q142*H142 -> 0 | S142: 0 | T142: =S142*H142 -> 0 | AR142: 4 | AT142: K | AU142: 0 | AY142: ROZPOCET | BE142: =IF(N142="základní",J142,0) -> 0 | BF142: =IF(N142="snížená",J142,0) -> 0 | BG142: =IF(N142="zákl. přenesená",J142,0) -> 0 | BH142: =IF(N142="sníž. přenesená",J142,0) -> 0 | BI142: =IF(N142="nulová",J142,0) -> 0 | BJ142: 1 | BK142: =ROUND(I142*H142,2) -> 0 | BL142: 4 | BM142: -647859215
D143: PP | F143: Svařování kolejnic termitem plný předehřev standardní spára svar jednotlivý tv. S49. Poznámka: 1. V cenách jsou započteny náklady na vybrání kameniva z mezipražcového prostoru, demontáž upevňovadel, směrové a výškové vyrovnání kolejnic, provedení svaru, montáž upevňovadel, vizuální kontrola, měření geometrie svaru. 2. V cenách nejsou obsaženy náklady na kontrolu svaru ultrazvukem, podbití pražců a demontáž styku. | AT143: PP | AU143: 0
D144: PSC | F144: Poznámka k souboru cen:_x000D_ 1. V cenách jsou započteny náklady na vybrání kameniva z mezipražcového prostoru, demontáž upevňovadel, směrové a výškové vyrovnání kolejnic, provedení svaru, montáž upevňovadel, vizuální kontrola, měření geometrie svaru. 2. V cenách nejsou obsaženy náklady na kontrolu svaru ultrazvukem, podbití pražců a demontáž styku. | AT144: PSC | AU144: 0
C145: 8 | D145: K | E145: 5906035120 | F145: Souvislá výměna pražců současně s výměnou nebo čištěním KL pražce betonové příčné vystrojené | G145: kus | H145: 760 | J145: =ROUND(I145*H145,2) -> 0 | N145: základní | P145: =O145*H145 -> 0 | Q145: 0 | R145: =Q145*H145 -> 0 | S145: 0 | T145: =S145*H145 -> 0 | AR145: 4 | AT145: K | AU145: 0 | AY145: ROZPOCET | BE145: =IF(N145="základní",J145,0) -> 0 | BF145: =IF(N145="snížená",J145,0) -> 0 | BG145: =IF(N145="zákl. přenesená",J145,0) -> 0 | BH145: =IF(N145="sníž. přenesená",J145,0) -> 0 | BI145: =IF(N145="nulová",J145,0) -> 0 | BJ145: 1 | BK145: =ROUND(I145*H145,2) -> 0 | BL145: 4 | BM145: 577757728
D146: PP | F146: Souvislá výměna pražců současně s výměnou nebo čištěním KL pražce betonové příčné vystrojené. Poznámka: 1. V cenách jsou započteny náklady na demontáž upevňovadel, výměnu pražců, montáž upevňovadel. U nevystrojených a výhybkových pražců dřevěných vrtání otvorů pro vrtule. 2. V cenách nejsou obsaženy náklady na odstranění KL, rozrušení lavičky, podbití pražce, úpravu KL do profilu, snížení KL pod patou kolejnice, doplnění kameniva, dodávku materiálu, dopravu výzisku na skládku a skládkovné. | AT146: PP | AU146: 0
D147: PSC | F147: Poznámka k souboru cen:_x000D_ 1. V cenách jsou započteny náklady na demontáž upevňovadel, výměnu pražců, montáž upevňovadel. U nevystrojených a výhybkových pražců dřevěných vrtání otvorů pro vrtule. 2. V cenách nejsou obsaženy náklady na odstranění KL, rozrušení lavičky, podbití pražce, úpravu KL do profilu, snížení KL pod patou kolejnice, doplnění kameniva, dodávku materiálu, dopravu výzisku na skládku a skládkovné. | AT147: PSC | AU147: 0
C148: 9 | D148: K | E148: 5906045010 | F148: Příplatek za překážku po jedné straně koleje | G148: m | H148: 60 | J148: =ROUND(I148*H148,2) -> 0 | N148: základní | P148: =O148*H148 -> 0 | Q148: 0 | R148: =Q148*H148 -> 0 | S148: 0 | T148: =S148*H148 -> 0 | AR148: 4 | AT148: K | AU148: 0 | AY148: ROZPOCET | BE148: =IF(N148="základní",J148,0) -> 0 | BF148: =IF(N148="snížená",J148,0) -> 0 | BG148: =IF(N148="zákl. přenesená",J148,0) -> 0 | BH148: =IF(N148="sníž. přenesená",J148,0) -> 0 | BI148: =IF(N148="nulová",J148,0) -> 0 | BJ148: 1 | BK148: =ROUND(I148*H148,2) -> 0 | BL148: 4 | BM148: -89291892
D149: PP | F149: Příplatek za překážku po jedné straně koleje. Poznámka: 1. V cenách jsou započteny náklady na obtížnou manipulaci u překážky dlouhé alespoň 0,5 metru a vzdálené méně než 2,5 metru od osy koleje. Pro výkon se stanoví délka nezbytně nutná. | AT149: PP | AU149: 0
D150: PSC | F150: Poznámka k souboru cen:_x000D_ 1. V cenách jsou započteny náklady na obtížnou manipulaci u překážky dlouhé alespoň 0,5 metru a vzdálené méně než 2,5 metru od osy koleje. Pro výkon se stanoví délka nezbytně nutná. | AT150: PSC | AU150: 0
C151: 10 | D151: K | E151: 5906045020 | F151: Příplatek za překážku po obou stranách koleje | G151: m | H151: 46 | J151: =ROUND(I151*H151,2) -> 0 | N151: základní | P151: =O151*H151 -> 0 | Q151: 0 | R151: =Q151*H151 -> 0 | S151: 0 | T151: =S151*H151 -> 0 | AR151: 4 | AT151: K | AU151: 0 | AY151: ROZPOCET | BE151: =IF(N151="základní",J151,0) -> 0 | BF151: =IF(N151="snížená",J151,0) -> 0 | BG151: =IF(N151="zákl. přenesená",J151,0) -> 0 | BH151: =IF(N151="sníž. přenesená",J151,0) -> 0 | BI151: =IF(N151="nulová",J151,0) -> 0 | BJ151: 1 | BK151: =ROUND(I151*H151,2) -> 0 | BL151: 4 | BM151: -83290199
D152: PP | F152: Příplatek za překážku po obou stranách koleje. Poznámka: 1. V cenách jsou započteny náklady na obtížnou manipulaci u překážky dlouhé alespoň 0,5 metru a vzdálené méně než 2,5 metru od osy koleje. Pro výkon se stanoví délka nezbytně nutná. | AT152: PP | AU152: 0
D153: PSC | F153: Poznámka k souboru cen:_x000D_ 1. V cenách jsou započteny náklady na obtížnou manipulaci u překážky dlouhé alespoň 0,5 metru a vzdálené méně než 2,5 metru od osy koleje. Pro výkon se stanoví délka nezbytně nutná. | AT153: PSC | AU153: 0
C154: 11 | D154: M | E154: 5958128010 | F154: Komplety ŽS 4 (šroub RS 1, matice M 24, podložka Fe6, svěrka ŽS4) | G154: kus | H154: 3040 | J154: =ROUND(I154*H154,2) -> 0 | N154: základní | P154: =O154*H154 -> 0 | Q154: 0.00123 | R154: =Q154*H154 -> 3.7392 | S154: 0 | T154: =S154*H154 -> 0 | AR154: 8 | AT154: M | AU154: 0 | AY154: ROZPOCET | BE154: =IF(N154="základní",J154,0) -> 0 | BF154: =IF(N154="snížená",J154,0) -> 0 | BG154: =IF(N154="zákl. přenesená",J154,0) -> 0 | BH154: =IF(N154="sníž. přenesená",J154,0) -> 0 | BI154: =IF(N154="nulová",J154,0) -> 0 | BJ154: 1 | BK154: =ROUND(I154*H154,2) -> 0 | BL154: 4 | BM154: -1115333467
D155: PP | F155: Komplety ŽS 4 (šroub RS 1, matice M 24, podložka Fe6, svěrka ŽS4) | AT155: PP | AU155: 0
D156: VV | F156: 760*4 | H156: 3040 | AT156: VV | AU156: 0 | AV156: 2 | AW156: True | AX156: 1 | AY156: ROZPOCET
C157: 12 | D157: M | E157: 5958158005 | F157: Podložka pryžová pod patu kolejnice S49 183/126/6 | G157: kus | H157: 1520 | J157: =ROUND(I157*H157,2) -> 0 | N157: základní | P157: =O157*H157 -> 0 | Q157: 0.00018 | R157: =Q157*H157 -> 0.2736 | S157: 0 | T157: =S157*H157 -> 0 | AR157: 8 | AT157: M | AU157: 0 | AY157: ROZPOCET | BE157: =IF(N157="základní",J157,0) -> 0 | BF157: =IF(N157="snížená",J157,0) -> 0 | BG157: =IF(N157="zákl. přenesená",J157,0) -> 0 | BH157: =IF(N157="sníž. přenesená",J157,0) -> 0 | BI157: =IF(N157="nulová",J157,0) -> 0 | BJ157: 1 | BK157: =ROUND(I157*H157,2) -> 0 | BL157: 4 | BM157: -1195533363
D158: PP | F158: Podložka pryžová pod patu kolejnice S49 183/126/6 | AT158: PP | AU158: 0
D159: VV | F159: 760*2 | H159: 1520 | AT159: VV | AU159: 0 | AV159: 2 | AW159: True | AX159: 1 | AY159: ROZPOCET
C160: 13 | D160: K | E160: 5905105030 | F160: Doplnění KL kamenivem souvisle strojně v koleji | G160: m3 | H160: 558.4 | J160: =ROUND(I160*H160,2) -> 0 | N160: základní | P160: =O160*H160 -> 0 | Q160: 0 | R160: =Q160*H160 -> 0 | S160: 0 | T160: =S160*H160 -> 0 | AR160: 4 | AT160: K | AU160: 0 | AY160: ROZPOCET | BE160: =IF(N160="základní",J160,0) -> 0 | BF160: =IF(N160="snížená",J160,0) -> 0 | BG160: =IF(N160="zákl. přenesená",J160,0) -> 0 | BH160: =IF(N160="sníž. přenesená",J160,0) -> 0 | BI160: =IF(N160="nulová",J160,0) -> 0 | BJ160: 1 | BK160: =ROUND(I160*H160,2) -> 0 | BL160: 4 | BM160: 1150731580
D161: PP | F161: Doplnění KL kamenivem souvisle strojně v koleji. Poznámka: 1. V cenách jsou započteny náklady na doplnění kameniva ojediněle ručně vidlemi a/nebo souvisle strojně z výsypných vozů případně nakladačem. 2. V cenách nejsou obsaženy náklady na dodávku kameniva. | AT161: PP | AU161: 0
D162: PSC | F162: Poznámka k souboru cen:_x000D_ 1. V cenách jsou započteny náklady na doplnění kameniva ojediněle ručně vidlemi a/nebo souvisle strojně z výsypných vozů případně nakladačem. 2. V cenách nejsou obsaženy náklady na dodávku kameniva. | AT162: PSC | AU162: 0
D163: VV | F163: 390*1,2+90,400 | H163: 558.4 | AT163: VV | AU163: 0 | AV163: 2 | AW163: True | AX163: 1 | AY163: ROZPOCET
C164: 14 | D164: M | E164: 5955101000 | F164: Kamenivo drcené štěrk frakce 31,5/63 třídy BI | G164: t | H164: 796.278 | J164: =ROUND(I164*H164,2) -> 0 | N164: základní | P164: =O164*H164 -> 0 | Q164: 1 | R164: =Q164*H164 -> 796.278 | S164: 0 | T164: =S164*H164 -> 0 | AR164: 128 | AT164: M | AU164: 0 | AY164: ROZPOCET | BE164: =IF(N164="základní",J164,0) -> 0 | BF164: =IF(N164="snížená",J164,0) -> 0 | BG164: =IF(N164="zákl. přenesená",J164,0) -> 0 | BH164: =IF(N164="sníž. přenesená",J164,0) -> 0 | BI164: =IF(N164="nulová",J164,0) -> 0 | BJ164: 1 | BK164: =ROUND(I164*H164,2) -> 0 | BL164: 128 | BM164: -977704340
...

Sheet SO 2.2 - Materiál objedna...
AT2: {af181536-60e7-4dfc-8fa8-91bd91c125a5}
AT3: 2
D4: KRYCÍ LIST SOUPISU PRACÍ | M4: v --- níže se nacházejí doplnkové a pomocné údaje k sestavám --- v | AT4: False
D6: Stavba:
E7: ='Rekapitulace stavby'!K6 -> Oprava traťového úseku Stod - Holýšov
D8: Objekt:
E9: SO 2 - Výměna pražců km 137,560 - 138,015
D10: Soupis:
E11: SO 2.2 - Materiál objednatele
D13: KSO: | I13: CC-CZ:
D14: Místo: | F14: TO Stod | I14: Datum: | J14: ='Rekapitulace stavby'!AN8 -> 21. 1. 2019
D16: Zadavatel: | I16: IČ:
E17: SŽDC s.o. - OŘ Plzeň | I17: DIČ:
D19: Uchazeč: | I19: IČ: | J19: ='Rekapitulace stavby'!AN13 -> Vyplň údaj
E20: ='Rekapitulace stavby'!E14 -> Vyplň údaj | I20: DIČ: | J20: ='Rekapitulace stavby'!AN14 -> Vyplň údaj
D22: Projektant: | I22: IČ: | J22: =IF('Rekapitulace stavby'!AN16="","",'Rekapitulace stavby'!AN16)
E23: =IF('Rekapitulace stavby'!E17="","",'Rekapitulace stavby'!E17) | I23: DIČ: | J23: =IF('Rekapitulace stavby'!AN17="","",'Rekapitulace stavby'!AN17)
D25: Zpracovatel: | I25: IČ:
E26: Jung | I26: DIČ:
D28: Poznámka:
D32: Cena bez DPH | J32: =ROUND(J120, 2) -> 0
F34: Základ daně | I34: Sazba daně | J34: Výše daně
D35: DPH | E35: základní | F35: =ROUND((SUM(BE120:BE122)), 2) -> 0 | I35: 0.21 | J35: =ROUND(((SUM(BE120:BE122))*I35), 2) -> 0
E36: snížená | F36: =ROUND((SUM(BF120:BF122)), 2) -> 0 | I36: 0.15 | J36: =ROUND(((SUM(BF120:BF122))*I36), 2) -> 0
E37: zákl. přenesená | F37: =ROUND((SUM(BG120:BG122)), 2) -> 0 | I37: 0.21 | J37: =0 -> 0
E38: sníž. přenesená | F38: =ROUND((SUM(BH120:BH122)), 2) -> 0 | I38: 0.15 | J38: =0 -> 0
E39: nulová | F39: =ROUND((SUM(BI120:BI122)), 2) -> 0 | I39: 0 | J39: =0 -> 0
D41: Cena s DPH | G41: v | H41: CZK | J41: =SUM(J32:J39) -> 0
D50: Projektant | G50: Zpracovatel
D61: Datum a podpis: | F61: Razítko | G61: Datum a podpis: | J61: Razítko
D65: Objednavatel | G65: Uchazeč
D76: Datum a podpis: | F76: Razítko | G76: Datum a podpis: | J76: Razítko
C82: REKAPITULACE ČLENĚNÍ SOUPISU PRACÍ
C84: Stavba:
E85: =E7 -> Oprava traťového úseku Stod - Holýšov
C86: Objekt:
E87: SO 2 - Výměna pražců km 137,560 - 138,015
C88: Soupis:
E89: =E11 -> SO 2.2 - Materiál objednatele
C91: Místo: | F91: =F14 -> TO Stod | I91: Datum: | J91: =IF(J14="","",J14) -> 21. 1. 2019
C93: Zadavatel: | F93: =E17 -> SŽDC s.o. - OŘ Plzeň | I93: Projektant: | J93: =E23
C94: Uchazeč: | F94: =IF(E20="","",E20) -> Vyplň údaj | I94: Zpracovatel: | J94: =E26 -> Jung
C96: Kód dílu - Popis | J96: Cena celkem [CZK]
C98: Náklady ze soupisu prací | J98: =J120 -> 0 | AU98: -1
C105: SOUPIS PRACÍ
C107: Stavba:
E108: =E7 -> Oprava traťového úseku Stod - Holýšov
C109: Objekt:
E110: SO 2 - Výměna pražců km 137,560 - 138,015
C111: Soupis:
E112: =E11 -> SO 2.2 - Materiál objednatele
C114: Místo: | F114: =F14 -> TO Stod | I114: Datum: | J114: =IF(J14="","",J14) -> 21. 1. 2019
C116: Zadavatel: | F116: =E17 -> SŽDC s.o. - OŘ Plzeň | I116: Projektant: | J116: =E23
C117: Uchazeč: | F117: =IF(E20="","",E20) -> Vyplň údaj | I117: Zpracovatel: | J117: =E26 -> Jung
C119: PČ | D119: Typ | E119: Kód | F119: Popis | G119: MJ | H119: Množství | I119: J.cena [CZK] | J119: Cena celkem [CZK] | K119: Cenová soustava | N119: DPH | O119: J. Nh [h] | P119: Nh celkem [h] | Q119: J. hmotnost [t] | R119: Hmotnost celkem [t] | S119: J. suť [t] | T119: Suť Celkem [t]
C120: Náklady soupisu celkem | J120: =BK120 -> 0 | P120: =SUM(P121:P122) -> 0 | R120: =SUM(R121:R122) -> 0 | T120: =SUM(T121:T122) -> 0 | AT120: D | AU120: -1 | BK120: =SUM(BK121:BK122) -> 0
C121: 1 | D121: M | E121: 5956213065 | F121: Pražec betonový příčný vystrojený užitý tv. SB 8 P | G121: kus | H121: 760 | J121: =ROUND(I121*H121,2) -> 0 | N121: základní | P121: =O121*H121 -> 0 | Q121: 0 | R121: =Q121*H121 -> 0 | S121: 0 | T121: =S121*H121 -> 0 | AR121: 8 | AT121: M | AU121: 0 | AY121: ROZPOCET | BE121: =IF(N121="základní",J121,0) -> 0 | BF121: =IF(N121="snížená",J121,0) -> 0 | BG121: =IF(N121="zákl. přenesená",J121,0) -> 0 | BH121: =IF(N121="sníž. přenesená",J121,0) -> 0 | BI121: =IF(N121="nulová",J121,0) -> 0 | BJ121: 1 | BK121: =ROUND(I121*H121,2) -> 0 | BL121: 4 | BM121: -1998740927
D122: PP | F122: Pražec betonový příčný vystrojený užitý tv. SB 8 P | AT122: PP | AU122: 0

Sheet SO 3.1 - VRN
AT2: {170a0f16-fa47-4885-9702-95e027515f02}
AT3: 2
D4: KRYCÍ LIST SOUPISU PRACÍ | M4: v --- níže se nacházejí doplnkové a pomocné údaje k sestavám --- v | AT4: False
D6: Stavba:
E7: ='Rekapitulace stavby'!K6 -> Oprava traťového úseku Stod - Holýšov
D8: Objekt:
E9: SO 3 - VRN
D10: Soupis:
E11: SO 3.1 - VRN
D13: KSO: | I13: CC-CZ:
D14: Místo: | F14: TO Stod | I14: Datum: | J14: ='Rekapitulace stavby'!AN8 -> 21. 1. 2019
D16: Zadavatel: | I16: IČ:
E17: SŽDC s.o. - OŘ Plzeň | I17: DIČ:
D19: Uchazeč: | I19: IČ: | J19: ='Rekapitulace stavby'!AN13 -> Vyplň údaj
E20: ='Rekapitulace stavby'!E14 -> Vyplň údaj | I20: DIČ: | J20: ='Rekapitulace stavby'!AN14 -> Vyplň údaj
D22: Projektant: | I22: IČ: | J22: =IF('Rekapitulace stavby'!AN16="","",'Rekapitulace stavby'!AN16)
E23: =IF('Rekapitulace stavby'!E17="","",'Rekapitulace stavby'!E17) | I23: DIČ: | J23: =IF('Rekapitulace stavby'!AN17="","",'Rekapitulace stavby'!AN17)
D25: Zpracovatel: | I25: IČ:
E26: Jung | I26: DIČ:
D28: Poznámka:
D32: Cena bez DPH | J32: =ROUND(J120, 2) -> 0
F34: Základ daně | I34: Sazba daně | J34: Výše daně
D35: DPH | E35: základní | F35: =ROUND((SUM(BE120:BE137)), 2) -> 0 | I35: 0.21 | J35: =ROUND(((SUM(BE120:BE137))*I35), 2) -> 0
E36: snížená | F36: =ROUND((SUM(BF120:BF137)), 2) -> 0 | I36: 0.15 | J36: =ROUND(((SUM(BF120:BF137))*I36), 2) -> 0
E37: zákl. přenesená | F37: =ROUND((SUM(BG120:BG137)), 2) -> 0 | I37: 0.21 | J37: =0 -> 0
E38: sníž. přenesená | F38: =ROUND((SUM(BH120:BH137)), 2) -> 0 | I38: 0.15 | J38: =0 -> 0
E39: nulová | F39: =ROUND((SUM(BI120:BI137)), 2) -> 0 | I39: 0 | J39: =0 -> 0
D41: Cena s DPH | G41: v | H41: CZK | J41: =SUM(J32:J39) -> 0
D50: Projektant | G50: Zpracovatel
D61: Datum a podpis: | F61: Razítko | G61: Datum a podpis: | J61: Razítko
D65: Objednavatel | G65: Uchazeč
D76: Datum a podpis: | F76: Razítko | G76: Datum a podpis: | J76: Razítko
C82: REKAPITULACE ČLENĚNÍ SOUPISU PRACÍ
C84: Stavba:
E85: =E7 -> Oprava traťového úseku Stod - Holýšov
C86: Objekt:
E87: SO 3 - VRN
C88: Soupis:
E89: =E11 -> SO 3.1 - VRN
C91: Místo: | F91: =F14 -> TO Stod | I91: Datum: | J91: =IF(J14="","",J14) -> 21. 1. 2019
C93: Zadavatel: | F93: =E17 -> SŽDC s.o. - OŘ Plzeň | I93: Projektant: | J93: =E23
C94: Uchazeč: | F94: =IF(E20="","",E20) -> Vyplň údaj | I94: Zpracovatel: | J94: =E26 -> Jung
C96: Kód dílu - Popis | J96: Cena celkem [CZK]
C98: Náklady ze soupisu prací | J98: =J120 -> 0 | AU98: -1
C105: SOUPIS PRACÍ
C107: Stavba:
E108: =E7 -> Oprava traťového úseku Stod - Holýšov
C109: Objekt:
E110: SO 3 - VRN
C111: Soupis:
E112: =E11 -> SO 3.1 - VRN
C114: Místo: | F114: =F14 -> TO Stod | I114: Datum: | J114: =IF(J14="","",J14) -> 21. 1. 2019
C116: Zadavatel: | F116: =E17 -> SŽDC s.o. - OŘ Plzeň | I116: Projektant: | J116: =E23
C117: Uchazeč: | F117: =IF(E20="","",E20) -> Vyplň údaj | I117: Zpracovatel: | J117: =E26 -> Jung
C119: PČ | D119: Typ | E119: Kód | F119: Popis | G119: MJ | H119: Množství | I119: J.cena [CZK] | J119: Cena celkem [CZK] | K119: Cenová soustava | N119: DPH | O119: J. Nh [h] | P119: Nh celkem [h] | Q119: J. hmotnost [t] | R119: Hmotnost celkem [t] | S119: J. suť [t] | T119: Suť Celkem [t]
C120: Náklady soupisu celkem | J120: =BK120 -> 0 | P120: =SUM(P121:P137) -> 0 | R120: =SUM(R121:R137) -> 0 | T120: =SUM(T121:T137) -> 0 | AT120: D | AU120: -1 | BK120: =SUM(BK121:BK137) -> 0
C121: 1 | D121: K | E121: 021211001 | F121: Průzkumné práce pro opravy Doplňující laboratorní rozbor kontaminace zeminy nebo kol. lože | G121: kus | H121: 4 | J121: =ROUND(I121*H121,2) -> 0 | N121: základní | P121: =O121*H121 -> 0 | Q121: 0 | R121: =Q121*H121 -> 0 | S121: 0 | T121: =S121*H121 -> 0 | AR121: 1024 | AT121: K | AU121: 0 | AY121: ROZPOCET | BE121: =IF(N121="základní",J121,0) -> 0 | BF121: =IF(N121="snížená",J121,0) -> 0 | BG121: =IF(N121="zákl. přenesená",J121,0) -> 0 | BH121: =IF(N121="sníž. přenesená",J121,0) -> 0 | BI121: =IF(N121="nulová",J121,0) -> 0 | BJ121: 1 | BK121: =ROUND(I121*H121,2) -> 0 | BL121: 1024 | BM121: -1411142890
D122: PP | F122: Průzkumné práce pro opravy Doplňující laboratorní rozbor kontaminace zeminy nebo kol. lože - V ceně jsou započteny náklady na doplňující rozbor kameniva nebo KL pro objasnění kontaminace ropnými látkami akreditovanou laboratoří včetně vyhodnocení a předání zprávy o výsledku. | AT122: PP | AU122: 0
D123: PSC | F123: Poznámka k souboru cen:_x000D_ V ceně jsou započteny náklady na doplňující rozbor kameniva nebo KL pro objasnění kontaminace ropnými látkami akreditovanou laboratoří včetně vyhodnocení a předání zprávy o výsledku. | AT123: PSC | AU123: 0
C124: 2 | D124: K | E124: 022101001 | F124: Geodetické práce Geodetické práce před opravou | G124: % | J124: =ROUND(I124*H124,2) -> 0 | N124: základní | P124: =O124*H124 -> 0 | Q124: 0 | R124: =Q124*H124 -> 0 | S124: 0 | T124: =S124*H124 -> 0 | AR124: 1024 | AT124: K | AU124: 0 | AY124: ROZPOCET | BE124: =IF(N124="základní",J124,0) -> 0 | BF124: =IF(N124="snížená",J124,0) -> 0 | BG124: =IF(N124="zákl. přenesená",J124,0) -> 0 | BH124: =IF(N124="sníž. přenesená",J124,0) -> 0 | BI124: =IF(N124="nulová",J124,0) -> 0 | BJ124: 1 | BK124: =ROUND(I124*H124,2) -> 0 | BL124: 1024 | BM124: -1490539794
D125: PP | F125: Geodetické práce Geodetické práce před opravou | AT125: PP | AU125: 0
C126: 3 | D126: K | E126: 022101011 | F126: Geodetické práce Geodetické práce v průběhu opravy | G126: % | J126: =ROUND(I126*H126,2) -> 0 | N126: základní | P126: =O126*H126 -> 0 | Q126: 0 | R126: =Q126*H126 -> 0 | S126: 0 | T126: =S126*H126 -> 0 | AR126: 1024 | AT126: K | AU126: 0 | AY126: ROZPOCET | BE126: =IF(N126="základní",J126,0) -> 0 | BF126: =IF(N126="snížená",J126,0) -> 0 | BG126: =IF(N126="zákl. přenesená",J126,0) -> 0 | BH126: =IF(N126="sníž. přenesená",J126,0) -> 0 | BI126: =IF(N126="nulová",J126,0) -> 0 | BJ126: 1 | BK126: =ROUND(I126*H126,2) -> 0 | BL126: 1024 | BM126: -1876503527
D127: PP | F127: Geodetické práce Geodetické práce v průběhu opravy | AT127: PP | AU127: 0
C128: 4 | D128: K | E128: 022101021 | F128: Geodetické práce Geodetické práce po ukončení opravy | G128: % | J128: =ROUND(I128*H128,2) -> 0 | N128: základní | P128: =O128*H128 -> 0 | Q128: 0 | R128: =Q128*H128 -> 0 | S128: 0 | T128: =S128*H128 -> 0 | AR128: 1024 | AT128: K | AU128: 0 | AY128: ROZPOCET | BE128: =IF(N128="základní",J128,0) -> 0 | BF128: =IF(N128="snížená",J128,0) -> 0 | BG128: =IF(N128="zákl. přenesená",J128,0) -> 0 | BH128: =IF(N128="sníž. přenesená",J128,0) -> 0 | BI128: =IF(N128="nulová",J128,0) -> 0 | BJ128: 1 | BK128: =ROUND(I128*H128,2) -> 0 | BL128: 1024 | BM128: 2042808633
D129: PP | F129: Geodetické práce Geodetické práce po ukončení opravy | AT129: PP | AU129: 0
C130: 5 | D130: K | E130: 022121001 | F130: Geodetické práce Diagnostika technické infrastruktury Vytýčení trasy inženýrských sítí | G130: % | J130: =ROUND(I130*H130,2) -> 0 | N130: základní | P130: =O130*H130 -> 0 | Q130: 0 | R130: =Q130*H130 -> 0 | S130: 0 | T130: =S130*H130 -> 0 | AR130: 1024 | AT130: K | AU130: 0 | AY130: ROZPOCET | BE130: =IF(N130="základní",J130,0) -> 0 | BF130: =IF(N130="snížená",J130,0) -> 0 | BG130: =IF(N130="zákl. přenesená",J130,0) -> 0 | BH130: =IF(N130="sníž. přenesená",J130,0) -> 0 | BI130: =IF(N130="nulová",J130,0) -> 0 | BJ130: 1 | BK130: =ROUND(I130*H130,2) -> 0 | BL130: 1024 | BM130: -1623453703
D131: PP | F131: Geodetické práce Diagnostika technické infrastruktury Vytýčení trasy inženýrských sítí - V sazbě jsou započteny náklady na vyhledání trasy detektorem, zaměření a zobrazení trasy a předání výstupu zaměření. V sazbě nejsou obsaženy náklady na vytýčení sítí ve správě provozovatele. | AT131: PP | AU131: 0
D132: PSC | F132: Poznámka k souboru cen:_x000D_ V sazbě jsou započteny náklady na vyhledání trasy detektorem, zaměření a zobrazení trasy a předání výstupu zaměření. V sazbě nejsou obsaženy náklady na vytýčení sítí ve správě provozovatele. | AT132: PSC | AU132: 0
C133: 6 | D133: K | E133: 023131001 | F133: Projektové práce Dokumentace skutečného provedení železničního svršku a spodku | G133: % | J133: =ROUND(I133*H133,2) -> 0 | N133: základní | P133: =O133*H133 -> 0 | Q133: 0 | R133: =Q133*H133 -> 0 | S133: 0 | T133: =S133*H133 -> 0 | AR133: 1024 | AT133: K | AU133: 0 | AY133: ROZPOCET | BE133: =IF(N133="základní",J133,0) -> 0 | BF133: =IF(N133="snížená",J133,0) -> 0 | BG133: =IF(N133="zákl. přenesená",J133,0) -> 0 | BH133: =IF(N133="sníž. přenesená",J133,0) -> 0 | BI133: =IF(N133="nulová",J133,0) -> 0 | BJ133: 1 | BK133: =ROUND(I133*H133,2) -> 0 | BL133: 1024 | BM133: 1663673624
D134: PP | F134: Projektové práce Dokumentace skutečného provedení železničního svršku a spodku - V sazbě jsou obsaženy náklady na zaměření a vyhotovení dokumentace skutečného provedení žel. svršku a spodku dle vyhlášky č. 499/2006 Sb., a vyhlášky č. 31/1995 Sb. včetně zpracování dat v digitální podobě v otevřené formě a její předání objednateli | AT134: PP | AU134: 0
D135: PSC | F135: Poznámka k souboru cen:_x000D_ V sazbě jsou obsaženy náklady na zaměření a vyhotovení dokumentace skutečného provedení žel. svršku a spodku dle vyhlášky č. 499/2006 Sb., a vyhlášky č. 31/1995 Sb. včetně zpracování dat v digitální podobě v otevřené formě a její předání objednateli | AT135: PSC | AU135: 0
C136: 7 | D136: K | E136: 031101031 | F136: Zařízení a vybavení staveniště vyjma dále jmenované práce včetně opatření na ochranu sousedních pozemků, včetně opatření na ochranu sousedních pozemků, informační tabule, dopravního značení na staveništi aj. při velikosti nákladů přes 5 do 20 mil. Kč | G136: % | J136: =ROUND(I136*H136,2) -> 0 | N136: základní | P136: =O136*H136 -> 0 | Q136: 0 | R136: =Q136*H136 -> 0 | S136: 0 | T136: =S136*H136 -> 0 | AR136: 1024 | AT136: K | AU136: 0 | AY136: ROZPOCET | BE136: =IF(N136="základní",J136,0) -> 0 | BF136: =IF(N136="snížená",J136,0) -> 0 | BG136: =IF(N136="zákl. přenesená",J136,0) -> 0 | BH136: =IF(N136="sníž. přenesená",J136,0) -> 0 | BI136: =IF(N136="nulová",J136,0) -> 0 | BJ136: 1 | BK136: =ROUND(I136*H136,2) -> 0 | BL136: 1024 | BM136: 406470522
D137: PP | F137: Zařízení a vybavení staveniště vyjma dále jmenované práce včetně opatření na ochranu sousedních pozemků, včetně opatření na ochranu sousedních pozemků, informační tabule, dopravního značení na staveništi aj. při velikosti nákladů přes 5 do 20 mil. Kč | AT137: PP | AU137: 0
