Workbook

Sheet Rekapitulace stavby
A1: Export Komplet | BA1: 2.0 | BT1: False | BU1: False | BV1: {87faeaa9-6235-4f33-9e74-1934e230c260}
AR2: >> skryté sloupce << | BS2: 0,01 | BT2: 21
BS3: 0,01 | BT3: 15
D4: REKAPITULACE STAVBY | AS4: v --- níže se nacházejí doplnkové a pomocné údaje k sestavám --- v | BE4: Návod na vyplnění | BS4: 0,001
D5: Kód: | K5: 012 | BE5: Měnit lze pouze buňky se žlutým podbarvením!_x000D_ _x000D_ 1) na prvním listu Rekapitulace stavby vyplňte v sestavě_x000D_ _x000D_ a) Souhrnný list_x000D_ - údaje o Uchazeči_x000D_ (přenesou se do ostatních sestav i v jiných listech)_x000D_ _x000D_ b) Rekapitulace objektů_x000D_ - potřebné Ostatní náklady_x000D_ _x000D_ 2) na vybraných listech vyplňte v sestavě_x000D_ _x000D_ a) Krycí list_x000D_ - údaje o Uchazeči, pokud se liší od údajů o Uchazeči na Souhrnném listu_x000D_ (údaje se přenesou do ostatních sestav v daném listu)_x000D_ _x000D_ b) Rekapitulace rozpočtu_x000D_ - potřebné Ostatní náklady_x000D_ _x000D_ c) Celkové náklady za stavbu_x000D_ - ceny u položek_x000D_ - množství, pokud má žluté podbarvení_x000D_ - a v případě potřeby poznámku (ta je ve skrytém sloupci) | BS5: 0,01
D6: Stavba: | K6: Oprava trati v úseku Velká nad Veličkou - Lipov - oprava stávajícího pod povrchového a povrchového odvodnění v km 54,420 | BS6: 0,01
D7: KSO: | AK7: CC-CZ: | BS7: 0,01
D8: Místo: | K8: TO Veselí nad Moravou | AK8: Datum: | AN8: 28. 6. 2019 | BS8: 0,01
BS9: 0,01
D10: Zadavatel: | AK10: IČ: | BS10: 0,01
AK11: DIČ: | BS11: 0,01
BS12: 0,01
D13: Uchazeč: | AK13: IČ: | AN13: Vyplň údaj | BS13: 0,01
E14: Vyplň údaj | AK14: DIČ: | AN14: Vyplň údaj | BS14: 0,01
BS15: False
D16: Projektant: | AK16: IČ: | BS16: False
AK17: DIČ: | BS17: True
BS18: 0,01
D19: Zpracovatel: | AK19: IČ: | BS19: 0,01
AK20: DIČ: | BS20: False
D22: Poznámka:
D26: Cena bez DPH | AK26: =ROUND(AG94,2) -> 0
L28: Sazba daně | W28: Základ daně | AK28: Výše daně
D29: DPH | F29: základní | L29: 0.21 | W29: =ROUND(AZ94, 2) -> 0 | AK29: =ROUND(AV94, 2) -> 0
F30: snížená | L30: 0.15 | W30: =ROUND(BA94, 2) -> 0 | AK30: =ROUND(AW94, 2) -> 0
F31: zákl. přenesená | L31: 0.21 | W31: =ROUND(BB94, 2) -> 0 | AK31: 0
F32: sníž. přenesená | L32: 0.15 | W32: =ROUND(BC94, 2) -> 0 | AK32: 0
F33: nulová | L33: 0 | W33: =ROUND(BD94, 2) -> 0 | AK33: 0
D35: Cena s DPH | T35: v | X35: CZK | AK35: =SUM(AK26:AK33) -> 0
D49: Projektant | AH49: Zpracovatel
D60: Datum a podpis: | V60: Razítko | AH60: Datum a podpis: | AM60: Razítko
D64: Objednavatel | AH64: Uchazeč
D75: Datum a podpis: | V75: Razítko | AH75: Datum a podpis: | AM75: Razítko
C82: REKAPITULACE OBJEKTŮ STAVBY A SOUPISŮ PRACÍ
C84: Kód: | L84: =K5 -> 012
C85: Stavba: | L85: =K6 -> Oprava trati v úseku Velká nad Veličkou - Lipov - oprava stávajícího pod povrchového a povrchového odvodnění v km 54,420
C87: Místo: | L87: =IF(K8="","",K8) -> TO Veselí nad Moravou | AI87: Datum: | AM87: =IF(AN8= "","",AN8) -> 28. 6. 2019
C89: Zadavatel: | L89: =IF(E11= "","",E11) | AI89: Projektant: | AM89: =IF(E17="","",E17) | AS89: Informatívní údaje z listů zakázek
C90: Uchazeč: | L90: =IF(E14= "Vyplň údaj","",E14) | AI90: Zpracovatel: | AM90: =IF(E20="","",E20)
C92: Kód | I92: Popis | AG92: Cena bez DPH [CZK] | AN92: Cena s DPH [CZK] | AQ92: Typ | AS92: z toho Ostat._x000D_ náklady [CZK] | AT92: DPH [CZK] | AU92: Normohodiny [h] | AV92: DPH základní [CZK] | AW92: DPH snížená [CZK] | AX92: DPH základní přenesená_x000D_ [CZK] | AY92: DPH snížená přenesená_x000D_ [CZK] | AZ92: Základna_x000D_ DPH základní | BA92: Základna_x000D_ DPH snížená | BB92: Základna_x000D_ DPH zákl. přenesená | BC92: Základna_x000D_ DPH sníž. přenesená | BD92: Základna_x000D_ DPH nulová
C94: Náklady z rozpočtů | AG94: =ROUND(AG95+AG97+AG101,2) -> 0 | AN94: =SUM(AG94,AT94) -> 0 | AS94: =ROUND(AS95+AS97+AS101,2) -> 0 | AT94: =ROUND(SUM(AV94:AW94),2) -> 0 | AU94: =ROUND(AU95+AU97+AU101,5) -> 0 | AV94: =ROUND(AZ94*L29,2) -> 0 | AW94: =ROUND(BA94*L30,2) -> 0 | AX94: =ROUND(BB94*L29,2) -> 0 | AY94: =ROUND(BC94*L30,2) -> 0 | AZ94: =ROUND(AZ95+AZ97+AZ101,2) -> 0 | BA94: =ROUND(BA95+BA97+BA101,2) -> 0 | BB94: =ROUND(BB95+BB97+BB101,2) -> 0 | BC94: =ROUND(BC95+BC97+BC101,2) -> 0 | BD94: =ROUND(BD95+BD97+BD101,2) -> 0 | BS94: D | BT94: 0 | BU94: ###NOIMPORT### | BV94: IMPORT | BW94: {87faeaa9-6235-4f33-9e74-1934e230c260} | BX94: {00000000-0000-0000-0000-000000000000}
D95: 01 | J95: Žel. svršek | AG95: =ROUND(AG96,2) -> 0 | AN95: =SUM(AG95,AT95) -> 0 | AQ95: STA | AS95: =ROUND(AS96,2) -> 0 | AT95: =ROUND(SUM(AV95:AW95),2) -> 0 | AU95: =ROUND(AU96,5) -> 0 | AV95: =ROUND(AZ95*L29,2) -> 0 | AW95: =ROUND(BA95*L30,2) -> 0 | AX95: =ROUND(BB95*L29,2) -> 0 | AY95: =ROUND(BC95*L30,2) -> 0 | AZ95: =ROUND(AZ96,2) -> 0 | BA95: =ROUND(BA96,2) -> 0 | BB95: =ROUND(BB96,2) -> 0 | BC95: =ROUND(BC96,2) -> 0 | BD95: =ROUND(BD96,2) -> 0 | BS95: D | BT95: 1 | BU95: ###NOIMPORT### | BV95: IMPORT | BW95: {9faa3c6a-3523-4049-aeb3-ab257f41e3d8} | BX95: {87faeaa9-6235-4f33-9e74-1934e230c260} | CM95: 2
A96: / | E96: 01.1 | K96: Demontáž, montáž koleje a výměna kompletů ŽS4 | AG96: ='01.1 - Demontáž, montáž k...'!J32 -> 0 | AN96: =SUM(AG96,AT96) -> 0 | AQ96: Soupis | AS96: 0 | AT96: =ROUND(SUM(AV96:AW96),2) -> 0 | AU96: ='01.1 - Demontáž, montáž k...'!P122 -> 0 | AV96: ='01.1 - Demontáž, montáž k...'!J35 -> 0 | AW96: ='01.1 - Demontáž, montáž k...'!J36 -> 0 | AX96: ='01.1 - Demontáž, montáž k...'!J37 -> 0 | AY96: ='01.1 - Demontáž, montáž k...'!J38 -> 0 | AZ96: ='01.1 - Demontáž, montáž k...'!F35 -> 0 | BA96: ='01.1 - Demontáž, montáž k...'!F36 -> 0 | BB96: ='01.1 - Demontáž, montáž k...'!F37 -> 0 | BC96: ='01.1 - Demontáž, montáž k...'!F38 -> 0 | BD96: ='01.1 - Demontáž, montáž k...'!F39 -> 0 | BT96: 2 | BV96: IMPORT | BW96: {f6186fdb-2c2b-42de-a1b7-9051362ab11e} | BX96: {9faa3c6a-3523-4049-aeb3-ab257f41e3d8}
D97: 02 | J97: Žel. spodek | AG97: =ROUND(SUM(AG98:AG100),2) -> 0 | AN97: =SUM(AG97,AT97) -> 0 | AQ97: STA | AS97: =ROUND(SUM(AS98:AS100),2) -> 0 | AT97: =ROUND(SUM(AV97:AW97),2) -> 0 | AU97: =ROUND(SUM(AU98:AU100),5) -> 0 | AV97: =ROUND(AZ97*L29,2) -> 0 | AW97: =ROUND(BA97*L30,2) -> 0 | AX97: =ROUND(BB97*L29,2) -> 0 | AY97: =ROUND(BC97*L30,2) -> 0 | AZ97: =ROUND(SUM(AZ98:AZ100),2) -> 0 | BA97: =ROUND(SUM(BA98:BA100),2) -> 0 | BB97: =ROUND(SUM(BB98:BB100),2) -> 0 | BC97: =ROUND(SUM(BC98:BC100),2) -> 0 | BD97: =ROUND(SUM(BD98:BD100),2) -> 0 | BS97: D | BT97: 1 | BU97: ###NOIMPORT### | BV97: IMPORT | BW97: {d4ead298-b836-415e-ab83-3c37a1dd6b48} | BX97: {87faeaa9-6235-4f33-9e74-1934e230c260} | CM97: 2
A98: / | E98: 02.1 | K98: Zřízení a oprava stávajícího odvodnění | AG98: ='02.1 - Zřízení a oprava s...'!J32 -> 0 | AN98: =SUM(AG98,AT98) -> 0 | AQ98: Soupis | AS98: 0 | AT98: =ROUND(SUM(AV98:AW98),2) -> 0 | AU98: ='02.1 - Zřízení a oprava s...'!P122 -> 0 | AV98: ='02.1 - Zřízení a oprava s...'!J35 -> 0 | AW98: ='02.1 - Zřízení a oprava s...'!J36 -> 0 | AX98: ='02.1 - Zřízení a oprava s...'!J37 -> 0 | AY98: ='02.1 - Zřízení a oprava s...'!J38 -> 0 | AZ98: ='02.1 - Zřízení a oprava s...'!F35 -> 0 | BA98: ='02.1 - Zřízení a oprava s...'!F36 -> 0 | BB98: ='02.1 - Zřízení a oprava s...'!F37 -> 0 | BC98: ='02.1 - Zřízení a oprava s...'!F38 -> 0 | BD98: ='02.1 - Zřízení a oprava s...'!F39 -> 0 | BT98: 2 | BV98: IMPORT | BW98: {e2ff657a-f760-41ce-92e4-2dfbaacbcea4} | BX98: {d4ead298-b836-415e-ab83-3c37a1dd6b48}
A99: / | E99: 02.2 | K99: Zřízení horizontálních odvodňovacých vrtů (URS) | AG99: ='02.2 - Zřízení horizontál...'!J32 -> 0 | AN99: =SUM(AG99,AT99) -> 0 | AQ99: Soupis | AS99: 0 | AT99: =ROUND(SUM(AV99:AW99),2) -> 0 | AU99: ='02.2 - Zřízení horizontál...'!P125 -> 0 | AV99: ='02.2 - Zřízení horizontál...'!J35 -> 0 | AW99: ='02.2 - Zřízení horizontál...'!J36 -> 0 | AX99: ='02.2 - Zřízení horizontál...'!J37 -> 0 | AY99: ='02.2 - Zřízení horizontál...'!J38 -> 0 | AZ99: ='02.2 - Zřízení horizontál...'!F35 -> 0 | BA99: ='02.2 - Zřízení horizontál...'!F36 -> 0 | BB99: ='02.2 - Zřízení horizontál...'!F37 -> 0 | BC99: ='02.2 - Zřízení horizontál...'!F38 -> 0 | BD99: ='02.2 - Zřízení horizontál...'!F39 -> 0 | BT99: 2 | BV99: IMPORT | BW99: {5ce1738f-7123-4e33-b845-57556e785c5d} | BX99: {d4ead298-b836-415e-ab83-3c37a1dd6b48}
A100: / | E100: 02.3 | K100: Výřez zeleně | AG100: ='02.3 - Výřez zeleně'!J32 -> 0 | AN100: =SUM(AG100,AT100) -> 0 | AQ100: Soupis | AS100: 0 | AT100: =ROUND(SUM(AV100:AW100),2) -> 0 | AU100: ='02.3 - Výřez zeleně'!P122 -> 0 | AV100: ='02.3 - Výřez zeleně'!J35 -> 0 | AW100: ='02.3 - Výřez zeleně'!J36 -> 0 | AX100: ='02.3 - Výřez zeleně'!J37 -> 0 | AY100: ='02.3 - Výřez zeleně'!J38 -> 0 | AZ100: ='02.3 - Výřez zeleně'!F35 -> 0 | BA100: ='02.3 - Výřez zeleně'!F36 -> 0 | BB100: ='02.3 - Výřez zeleně'!F37 -> 0 | BC100: ='02.3 - Výřez zeleně'!F38 -> 0 | BD100: ='02.3 - Výřez zeleně'!F39 -> 0 | BT100: 2 | BV100: IMPORT | BW100: {656d4b61-69da-4fe0-9451-b0d8eae0684c} | BX100: {d4ead298-b836-415e-ab83-3c37a1dd6b48}
D101: 03 | J101: Ostatní | AG101: =ROUND(SUM(AG102:AG103),2) -> 0 | AN101: =SUM(AG101,AT101) -> 0 | AQ101: STA | AS101: =ROUND(SUM(AS102:AS103),2) -> 0 | AT101: =ROUND(SUM(AV101:AW101),2) -> 0 | AU101: =ROUND(SUM(AU102:AU103),5) -> 0 | AV101: =ROUND(AZ101*L29,2) -> 0 | AW101: =ROUND(BA101*L30,2) -> 0 | AX101: =ROUND(BB101*L29,2) -> 0 | AY101: =ROUND(BC101*L30,2) -> 0 | AZ101: =ROUND(SUM(AZ102:AZ103),2) -> 0 | BA101: =ROUND(SUM(BA102:BA103),2) -> 0 | BB101: =ROUND(SUM(BB102:BB103),2) -> 0 | BC101: =ROUND(SUM(BC102:BC103),2) -> 0 | BD101: =ROUND(SUM(BD102:BD103),2) -> 0 | BS101: D | BT101: 1 | BU101: ###NOIMPORT### | BV101: IMPORT | BW101: {f6c53ee7-598f-41b8-b78d-22b6f0da299a} | BX101: {87faeaa9-6235-4f33-9e74-1934e230c260} | CM101: 2
A102: / | E102: 03.1 | K102: Manipulace, přepravy, poplatky | AG102: ='03.1 - Manipulace, přepra...'!J32 -> 0 | AN102: =SUM(AG102,AT102) -> 0 | AQ102: Soupis | AS102: 0 | AT102: =ROUND(SUM(AV102:AW102),2) -> 0 | AU102: ='03.1 - Manipulace, přepra...'!P121 -> 0 | AV102: ='03.1 - Manipulace, přepra...'!J35 -> 0 | AW102: ='03.1 - Manipulace, přepra...'!J36 -> 0 | AX102: ='03.1 - Manipulace, přepra...'!J37 -> 0 | AY102: ='03.1 - Manipulace, přepra...'!J38 -> 0 | AZ102: ='03.1 - Manipulace, přepra...'!F35 -> 0 | BA102: ='03.1 - Manipulace, přepra...'!F36 -> 0 | BB102: ='03.1 - Manipulace, přepra...'!F37 -> 0 | BC102: ='03.1 - Manipulace, přepra...'!F38 -> 0 | BD102: ='03.1 - Manipulace, přepra...'!F39 -> 0 | BT102: 2 | BV102: IMPORT | BW102: {70799620-2613-42a0-a368-d8a48dc131c3} | BX102: {f6c53ee7-598f-41b8-b78d-22b6f0da299a}
A103: / | E103: 03.2 | K103: VRN | AG103: ='03.2 - VRN'!J32 -> 0 | AN103: =SUM(AG103,AT103) -> 0 | AQ103: Soupis | AS103: 0 | AT103: =ROUND(SUM(AV103:AW103),2) -> 0 | AU103: ='03.2 - VRN'!P121 -> 0 | AV103: ='03.2 - VRN'!J35 -> 0 | AW103: ='03.2 - VRN'!J36 -> 0 | AX103: ='03.2 - VRN'!J37 -> 0 | AY103: ='03.2 - VRN'!J38 -> 0 | AZ103: ='03.2 - VRN'!F35 -> 0 | BA103: ='03.2 - VRN'!F36 -> 0 | BB103: ='03.2 - VRN'!F37 -> 0 | BC103: ='03.2 - VRN'!F38 -> 0 | BD103: ='03.2 - VRN'!F39 -> 0 | BT103: 2 | BV103: IMPORT | BW103: {e92f389e-833a-49f9-8efe-378042164b8b} | BX103: {f6c53ee7-598f-41b8-b78d-22b6f0da299a}

Sheet 01.1 - Demontáž, montáž k...
L2: >> skryté sloupce << | AT2: {f6186fdb-2c2b-42de-a1b7-9051362ab11e}
AT3: 2
D4: KRYCÍ LIST SOUPISU PRACÍ | M4: v --- níže se nacházejí doplnkové a pomocné údaje k sestavám --- v | AT4: False
D6: Stavba:
E7: ='Rekapitulace stavby'!K6 -> Oprava trati v úseku Velká nad Veličkou - Lipov - oprava stávajícího pod povrchového a povrchového odvodnění v km 54,420
D8: Objekt:
E9: 01 - Žel. svršek
D10: Soupis:
E11: 01.1 - Demontáž, montáž koleje a výměna kompletů ŽS4
D13: KSO: | I13: CC-CZ:
D14: Místo: | F14: TO Veselí nad Moravou | I14: Datum: | J14: ='Rekapitulace stavby'!AN8 -> 28. 6. 2019
D16: Zadavatel: | I16: IČ: | J16: =IF('Rekapitulace stavby'!AN10="","",'Rekapitulace stavby'!AN10)
E17: =IF('Rekapitulace stavby'!E11="","",'Rekapitulace stavby'!E11) | I17: DIČ: | J17: =IF('Rekapitulace stavby'!AN11="","",'Rekapitulace stavby'!AN11)
D19: Uchazeč: | I19: IČ: | J19: ='Rekapitulace stavby'!AN13 -> Vyplň údaj
E20: ='Rekapitulace stavby'!E14 -> Vyplň údaj | I20: DIČ: | J20: ='Rekapitulace stavby'!AN14 -> Vyplň údaj
D22: Projektant: | I22: IČ: | J22: =IF('Rekapitulace stavby'!AN16="","",'Rekapitulace stavby'!AN16)
E23: =IF('Rekapitulace stavby'!E17="","",'Rekapitulace stavby'!E17) | I23: DIČ: | J23: =IF('Rekapitulace stavby'!AN17="","",'Rekapitulace stavby'!AN17)
D25: Zpracovatel: | I25: IČ: | J25: =IF('Rekapitulace stavby'!AN19="","",'Rekapitulace stavby'!AN19)
E26: =IF('Rekapitulace stavby'!E20="","",'Rekapitulace stavby'!E20) | I26: DIČ: | J26: =IF('Rekapitulace stavby'!AN20="","",'Rekapitulace stavby'!AN20)
D28: Poznámka:
D32: Cena bez DPH | J32: =ROUND(J122, 2) -> 0
F34: Základ daně | I34: Sazba daně | J34: Výše daně
D35: DPH | E35: základní | F35: =ROUND((SUM(BE122:BE158)), 2) -> 0 | I35: 0.21 | J35: =ROUND(((SUM(BE122:BE158))*I35), 2) -> 0
E36: snížená | F36: =ROUND((SUM(BF122:BF158)), 2) -> 0 | I36: 0.15 | J36: =ROUND(((SUM(BF122:BF158))*I36), 2) -> 0
E37: zákl. přenesená | F37: =ROUND((SUM(BG122:BG158)), 2) -> 0 | I37: 0.21 | J37: =0 -> 0
E38: sníž. přenesená | F38: =ROUND((SUM(BH122:BH158)), 2) -> 0 | I38: 0.15 | J38: =0 -> 0
E39: nulová | F39: =ROUND((SUM(BI122:BI158)), 2) -> 0 | I39: 0 | J39: =0 -> 0
D41: Cena s DPH | G41: v | H41: CZK | J41: =SUM(J32:J39) -> 0
D50: Projektant | G50: Zpracovatel
D61: Datum a podpis: | F61: Razítko | G61: Datum a podpis: | J61: Razítko
D65: Objednavatel | G65: Uchazeč
D76: Datum a podpis: | F76: Razítko | G76: Datum a podpis: | J76: Razítko
C82: REKAPITULACE ČLENĚNÍ SOUPISU PRACÍ
C84: Stavba:
E85: =E7 -> Oprava trati v úseku Velká nad Veličkou - Lipov - oprava stávajícího pod povrchového a povrchového odvodnění v km 54,420
C86: Objekt:
E87: 01 - Žel. svršek
C88: Soupis:
E89: =E11 -> 01.1 - Demontáž, montáž koleje a výměna kompletů ŽS4
C91: Místo: | F91: =F14 -> TO Veselí nad Moravou | I91: Datum: | J91: =IF(J14="","",J14) -> 28. 6. 2019
C93: Zadavatel: | F93: =E17 | I93: Projektant: | J93: =E23
C94: Uchazeč: | F94: =IF(E20="","",E20) -> Vyplň údaj | I94: Zpracovatel: | J94: =E26
C96: Kód dílu - Popis | J96: Cena celkem [CZK]
C98: Náklady ze soupisu prací | J98: =J122 -> 0 | AU98: -1
D99: HSV - Práce a dodávky HSV | J99: =J123 -> 0
D100: 5 - Komunikace pozemní | J100: =J124 -> 0
C107: SOUPIS PRACÍ
C109: Stavba:
E110: =E7 -> Oprava trati v úseku Velká nad Veličkou - Lipov - oprava stávajícího pod povrchového a povrchového odvodnění v km 54,420
C111: Objekt:
E112: 01 - Žel. svršek
C113: Soupis:
E114: =E11 -> 01.1 - Demontáž, montáž koleje a výměna kompletů ŽS4
C116: Místo: | F116: =F14 -> TO Veselí nad Moravou | I116: Datum: | J116: =IF(J14="","",J14) -> 28. 6. 2019
C118: Zadavatel: | F118: =E17 | I118: Projektant: | J118: =E23
C119: Uchazeč: | F119: =IF(E20="","",E20) -> Vyplň údaj | I119: Zpracovatel: | J119: =E26
C121: PČ | D121: Typ | E121: Kód | F121: Popis | G121: MJ | H121: Množství | I121: J.cena [CZK] | J121: Cena celkem [CZK] | K121: Cenová soustava | N121: DPH | O121: J. Nh [h] | P121: Nh celkem [h] | Q121: J. hmotnost [t] | R121: Hmotnost celkem [t] | S121: J. suť [t] | T121: Suť Celkem [t]
C122: Náklady soupisu celkem | J122: =BK122 -> 0 | P122: =P123 -> 0 | R122: =R123 -> 533.2 | T122: =T123 -> 0 | AT122: D | AU122: -1 | BK122: =BK123 -> 0
D123: D | E123: HSV | F123: Práce a dodávky HSV | J123: =BK123 -> 0 | P123: =P124 -> 0 | R123: =R124 -> 533.2 | T123: =T124 -> 0 | AR123: 1 | AT123: D | AU123: 0 | AY123: ROZPOCET | BK123: =BK124 -> 0
D124: D | E124: 5 | F124: Komunikace pozemní | J124: =BK124 -> 0 | P124: =SUM(P125:P158) -> 0 | R124: =SUM(R125:R158) -> 533.2 | T124: =SUM(T125:T158) -> 0 | AR124: 1 | AT124: D | AU124: 1 | AY124: ROZPOCET | BK124: =SUM(BK125:BK158) -> 0
C125: 1 | D125: K | E125: 5907050120 | F125: Dělení kolejnic kyslíkem tv. S49. Poznámka: 1. V cenách jsou započteny náklady na manipulaci podložení, označení a provedení řezu kolejnice. | G125: kus | H125: 4 | J125: =ROUND(I125*H125,2) -> 0 | K125: Sborník UOŽI 01 2019 | N125: základní | P125: =O125*H125 -> 0 | Q125: 0 | R125: =Q125*H125 -> 0 | S125: 0 | T125: =S125*H125 -> 0 | AR125: 4 | AT125: K | AU125: 2 | AY125: ROZPOCET | BE125: =IF(N125="základní",J125,0) -> 0 | BF125: =IF(N125="snížená",J125,0) -> 0 | BG125: =IF(N125="zákl. přenesená",J125,0) -> 0 | BH125: =IF(N125="sníž. přenesená",J125,0) -> 0 | BI125: =IF(N125="nulová",J125,0) -> 0 | BJ125: 1 | BK125: =ROUND(I125*H125,2) -> 0 | BL125: 4 | BM125: -639586246
C126: 2 | D126: K | E126: 5906140080 | F126: Demontáž kolejového roštu koleje v ose koleje pražce dřevěné tv. S49 rozdělení "d". Poznámka: 1. V cenách jsou započteny náklady na případné odstranění kameniva, rozebrání roštu do součástí, manipulaci, naložení výzisku na dopravní prostředek a uložení na úložišti. 2. V cenách nejsou obsaženy náklady na dopravu a vytřídění. | G126: km | H126: 0.05 | J126: =ROUND(I126*H126,2) -> 0 | K126: Sborník UOŽI 01 2019 | N126: základní | P126: =O126*H126 -> 0 | Q126: 0 | R126: =Q126*H126 -> 0 | S126: 0 | T126: =S126*H126 -> 0 | AR126: 4 | AT126: K | AU126: 2 | AY126: ROZPOCET | BE126: =IF(N126="základní",J126,0) -> 0 | BF126: =IF(N126="snížená",J126,0) -> 0 | BG126: =IF(N126="zákl. přenesená",J126,0) -> 0 | BH126: =IF(N126="sníž. přenesená",J126,0) -> 0 | BI126: =IF(N126="nulová",J126,0) -> 0 | BJ126: 1 | BK126: =ROUND(I126*H126,2) -> 0 | BL126: 4 | BM126: 2063219090
D127: VV | F127: 0,050 "demontáž kol.roštu v km 54,450 - 54,500" | H127: 0.05 | AT127: VV | AU127: 2 | AV127: 2 | AW127: True | AX127: 1 | AY127: ROZPOCET
C128: 3 | D128: K | E128: 5905055010 | F128: Odstranění stávajícího kolejového lože odtěžením v koleji. Poznámka: 1. V cenách jsou započteny náklady na odstranění KL, úpravu pláně a rozprostření výzisku na terén nebo jeho naložení na dopravní prostředek. 2. Položka se použije v případech, kdy se nové KL nezřizuje. | G128: m3 | H128: 70 | J128: =ROUND(I128*H128,2) -> 0 | K128: Sborník UOŽI 01 2019 | N128: základní | P128: =O128*H128 -> 0 | Q128: 0 | R128: =Q128*H128 -> 0 | S128: 0 | T128: =S128*H128 -> 0 | AR128: 4 | AT128: K | AU128: 2 | AY128: ROZPOCET | BE128: =IF(N128="základní",J128,0) -> 0 | BF128: =IF(N128="snížená",J128,0) -> 0 | BG128: =IF(N128="zákl. přenesená",J128,0) -> 0 | BH128: =IF(N128="sníž. přenesená",J128,0) -> 0 | BI128: =IF(N128="nulová",J128,0) -> 0 | BJ128: 1 | BK128: =ROUND(I128*H128,2) -> 0 | BL128: 4 | BM128: -1693435807
C129: 4 | D129: K | E129: 5905060010 | F129: Zřízení nového kolejového lože v koleji. Poznámka: 1. V cenách jsou započteny náklady na zřízení KL nově zřizované koleje, vložení geosyntetika, rozprostření vrstvy kameniva, zřízení homogenizované vrstvy kameniva a úprava KL do profilu. 2. V cenách nejsou obsaženy náklady na položení KR, úpravu směrového a výškového uspořádání, doplnění a dodávku kameniva a snížení KL pod patou kolejnice.3. Položka se použije v případech nově zřizované koleje nebo výhybky. | G129: m3 | H129: 70 | J129: =ROUND(I129*H129,2) -> 0 | K129: Sborník UOŽI 01 2019 | N129: základní | P129: =O129*H129 -> 0 | Q129: 0 | R129: =Q129*H129 -> 0 | S129: 0 | T129: =S129*H129 -> 0 | AR129: 4 | AT129: K | AU129: 2 | AY129: ROZPOCET | BE129: =IF(N129="základní",J129,0) -> 0 | BF129: =IF(N129="snížená",J129,0) -> 0 | BG129: =IF(N129="zákl. přenesená",J129,0) -> 0 | BH129: =IF(N129="sníž. přenesená",J129,0) -> 0 | BI129: =IF(N129="nulová",J129,0) -> 0 | BJ129: 1 | BK129: =ROUND(I129*H129,2) -> 0 | BL129: 4 | BM129: 408956195
C130: 5 | D130: M | E130: 5955101000 | F130: Kamenivo drcené štěrk frakce 31,5/63 třídy BI | G130: t | H130: 520 | J130: =ROUND(I130*H130,2) -> 0 | K130: Sborník UOŽI 01 2019 | N130: základní | P130: =O130*H130 -> 0 | Q130: 1 | R130: =Q130*H130 -> 520 | S130: 0 | T130: =S130*H130 -> 0 | AR130: 8 | AT130: M | AU130: 2 | AY130: ROZPOCET | BE130: =IF(N130="základní",J130,0) -> 0 | BF130: =IF(N130="snížená",J130,0) -> 0 | BG130: =IF(N130="zákl. přenesená",J130,0) -> 0 | BH130: =IF(N130="sníž. přenesená",J130,0) -> 0 | BI130: =IF(N130="nulová",J130,0) -> 0 | BJ130: 1 | BK130: =ROUND(I130*H130,2) -> 0 | BL130: 4 | BM130: 122414566
D131: VV | F131: 120 "šterk pro zřízené nového kol. lože" | H131: 120 | AT131: VV | AU131: 2 | AV131: 2 | AW131: True | AX131: 0 | AY131: ROZPOCET
D132: VV | F132: 200 "štěrk pro GPK" | H132: 200 | AT132: VV | AU132: 2 | AV132: 2 | AW132: True | AX132: 0 | AY132: ROZPOCET
D133: VV | F133: 200 "štěrk pro třetí podbití" | H133: 200 | AT133: VV | AU133: 2 | AV133: 2 | AW133: True | AX133: 0 | AY133: ROZPOCET
D134: VV | F134: Součet | H134: 520 | AT134: VV | AU134: 2 | AV134: 4 | AW134: True | AX134: 1 | AY134: ROZPOCET
C135: 6 | D135: K | E135: 5906130180 | F135: Montáž kolejového roštu v ose koleje pražce dřevěné vystrojené tv. S49 rozdělení "d". Poznámka: 1. V cenách jsou započteny náklady na vrtání pražců dřevěných nevystrojených, manipulaci a montáž KR. 2. V cenách nejsou obsaženy náklady na dodávku materiálu. | G135: km | H135: 0.05 | J135: =ROUND(I135*H135,2) -> 0 | K135: Sborník UOŽI 01 2019 | N135: základní | P135: =O135*H135 -> 0 | Q135: 0 | R135: =Q135*H135 -> 0 | S135: 0 | T135: =S135*H135 -> 0 | AR135: 4 | AT135: K | AU135: 2 | AY135: ROZPOCET | BE135: =IF(N135="základní",J135,0) -> 0 | BF135: =IF(N135="snížená",J135,0) -> 0 | BG135: =IF(N135="zákl. přenesená",J135,0) -> 0 | BH135: =IF(N135="sníž. přenesená",J135,0) -> 0 | BI135: =IF(N135="nulová",J135,0) -> 0 | BJ135: 1 | BK135: =ROUND(I135*H135,2) -> 0 | BL135: 4 | BM135: 4712870
D136: VV | F136: 0,050 "zpětná montáž v km 54,450 - 54,500" | H136: 0.05 | AT136: VV | AU136: 2 | AV136: 2 | AW136: True | AX136: 1 | AY136: ROZPOCET
C137: 7 | D137: K | E137: 5908050010 | F137: Výměna upevnění podkladnicového komplety a pryžová podložka. Poznámka: 1. V cenách jsou započteny náklady na demontáž, výměnu a montáž, ošetření součástí mazivem a naložení výzisku na dopravní prostředek. 2. V cenách nejsou obsaženy náklady na vrtání pražce a dodávku materiálu. | G137: úl.pl. | H137: 5000 | J137: =ROUND(I137*H137,2) -> 0 | K137: Sborník UOŽI 01 2019 | N137: základní | P137: =O137*H137 -> 0 | Q137: 0 | R137: =Q137*H137 -> 0 | S137: 0 | T137: =S137*H137 -> 0 | AR137: 4 | AT137: K | AU137: 2 | AY137: ROZPOCET | BE137: =IF(N137="základní",J137,0) -> 0 | BF137: =IF(N137="snížená",J137,0) -> 0 | BG137: =IF(N137="zákl. přenesená",J137,0) -> 0 | BH137: =IF(N137="sníž. přenesená",J137,0) -> 0 | BI137: =IF(N137="nulová",J137,0) -> 0 | BJ137: 1 | BK137: =ROUND(I137*H137,2) -> 0 | BL137: 4 | BM137: -1466116604
D138: VV | F138: 5000 "výměna kompletů od km 55,700 do 54,180" | H138: 5000 | AT138: VV | AU138: 2 | AV138: 2 | AW138: True | AX138: 1 | AY138: ROZPOCET
C139: 8 | D139: M | E139: 5958128010 | F139: Komplety ŽS 4 (šroub RS 1, matice M 24, podložka Fe6, svěrka ŽS4) | G139: kus | H139: 10000 | J139: =ROUND(I139*H139,2) -> 0 | K139: Sborník UOŽI 01 2019 | N139: základní | P139: =O139*H139 -> 0 | Q139: 0.00123 | R139: =Q139*H139 -> 12.3 | S139: 0 | T139: =S139*H139 -> 0 | AR139: 8 | AT139: M | AU139: 2 | AY139: ROZPOCET | BE139: =IF(N139="základní",J139,0) -> 0 | BF139: =IF(N139="snížená",J139,0) -> 0 | BG139: =IF(N139="zákl. přenesená",J139,0) -> 0 | BH139: =IF(N139="sníž. přenesená",J139,0) -> 0 | BI139: =IF(N139="nulová",J139,0) -> 0 | BJ139: 1 | BK139: =ROUND(I139*H139,2) -> 0 | BL139: 4 | BM139: 1827821131
D140: VV | F140: 10000 "výměna kompletů od km 55,700 do 54,180" | H140: 10000 | AT140: VV | AU140: 2 | AV140: 2 | AW140: True | AX140: 1 | AY140: ROZPOCET
C141: 9 | D141: M | E141: 5958158005 | F141: Podložka pryžová pod patu kolejnice S49 183/126/6 | G141: kus | H141: 5000 | J141: =ROUND(I141*H141,2) -> 0 | K141: Sborník UOŽI 01 2019 | N141: základní | P141: =O141*H141 -> 0 | Q141: 0.00018 | R141: =Q141*H141 -> 0.9 | S141: 0 | T141: =S141*H141 -> 0 | AR141: 8 | AT141: M | AU141: 2 | AY141: ROZPOCET | BE141: =IF(N141="základní",J141,0) -> 0 | BF141: =IF(N141="snížená",J141,0) -> 0 | BG141: =IF(N141="zákl. přenesená",J141,0) -> 0 | BH141: =IF(N141="sníž. přenesená",J141,0) -> 0 | BI141: =IF(N141="nulová",J141,0) -> 0 | BJ141: 1 | BK141: =ROUND(I141*H141,2) -> 0 | BL141: 4 | BM141: -1003606281
D142: VV | F142: 5000 "výměna kompletů od km 55,700 do 54,180" | H142: 5000 | AT142: VV | AU142: 2 | AV142: 2 | AW142: True | AX142: 1 | AY142: ROZPOCET
C143: 10 | D143: K | E143: 5905105030 | F143: Doplnění KL kamenivem souvisle strojně v koleji. Poznámka: 1. V cenách jsou započteny náklady na doplnění kameniva ojediněle ručně vidlemi a/nebo souvisle strojně z výsypných vozů případně nakladačem. 2. V cenách nejsou obsaženy náklady na dodávku kameniva. | G143: m3 | H143: 240 | J143: =ROUND(I143*H143,2) -> 0 | K143: Sborník UOŽI 01 2019 | N143: základní | P143: =O143*H143 -> 0 | Q143: 0 | R143: =Q143*H143 -> 0 | S143: 0 | T143: =S143*H143 -> 0 | AR143: 4 | AT143: K | AU143: 2 | AY143: ROZPOCET | BE143: =IF(N143="základní",J143,0) -> 0 | BF143: =IF(N143="snížená",J143,0) -> 0 | BG143: =IF(N143="zákl. přenesená",J143,0) -> 0 | BH143: =IF(N143="sníž. přenesená",J143,0) -> 0 | BI143: =IF(N143="nulová",J143,0) -> 0 | BJ143: 1 | BK143: =ROUND(I143*H143,2) -> 0 | BL143: 4 | BM143: -1967260610
D144: VV | F144: 120 "doplnění pro GPK" | H144: 120 | AT144: VV | AU144: 2 | AV144: 2 | AW144: True | AX144: 0 | AY144: ROZPOCET
D145: VV | F145: 120 "doplnění pro třetí podbití" | H145: 120 | AT145: VV | AU145: 2 | AV145: 2 | AW145: True | AX145: 0 | AY145: ROZPOCET
D146: VV | F146: Součet | H146: 240 | AT146: VV | AU146: 2 | AV146: 4 | AW146: True | AX146: 1 | AY146: ROZPOCET
C147: 11 | D147: K | E147: 5905100010 | F147: Úprava kolejového lože souvisle strojně v koleji lože otevřené. Poznámka: 1. V cenách jsou započteny náklady na úpravu KL koleje a výhybek kontinuálně strojně pluhem, u výhybek ruční dokončení úpravy. 2. V cenách nejsou obsaženy náklady na doplnění a dodávku kameniva. | G147: km | H147: 3 | J147: =ROUND(I147*H147,2) -> 0 | K147: Sborník UOŽI 01 2019 | N147: základní | P147: =O147*H147 -> 0 | Q147: 0 | R147: =Q147*H147 -> 0 | S147: 0 | T147: =S147*H147 -> 0 | AR147: 4 | AT147: K | AU147: 2 | AY147: ROZPOCET | BE147: =IF(N147="základní",J147,0) -> 0 | BF147: =IF(N147="snížená",J147,0) -> 0 | BG147: =IF(N147="zákl. přenesená",J147,0) -> 0 | BH147: =IF(N147="sníž. přenesená",J147,0) -> 0 | BI147: =IF(N147="nulová",J147,0) -> 0 | BJ147: 1 | BK147: =ROUND(I147*H147,2) -> 0 | BL147: 4 | BM147: 762471550
D148: VV | F148: 1,500 "úprava po GPK" | H148: 1.5 | AT148: VV | AU148: 2 | AV148: 2 | AW148: True | AX148: 0 | AY148: ROZPOCET
D149: VV | F149: 1,500 "úprava po třetím podbití" | H149: 1.5 | AT149: VV | AU149: 2 | AV149: 2 | AW149: True | AX149: 0 | AY149: ROZPOCET
D150: VV | F150: Součet | H150: 3 | AT150: VV | AU150: 2 | AV150: 4 | AW150: True | AX150: 1 | AY150: ROZPOCET
C151: 12 | D151: K | E151: 5909031010 | F151: Úprava GPK koleje směrové a výškové uspořádání pražce dřevěné nebo ocelové. Poznámka: 1. V cenách jsou započteny náklady na nasazení strojní linky pro úpravu směrového a výškového uspořádání ASP metodou zmenšování chyb a úpravu KL pluhem včetně měření mezních stavebních odchylek dle ČSN, měření techologických veličin a předání tištěných výstupů objednateli. 2. V cenách nejsou obsaženy náklady doplnění a dodávku kameniva a snížení KL pod patou kolejnice. | G151: km | H151: 0.1 | J151: =ROUND(I151*H151,2) -> 0 | K151: Sborník UOŽI 01 2019 | N151: základní | P151: =O151*H151 -> 0 | Q151: 0 | R151: =Q151*H151 -> 0 | S151: 0 | T151: =S151*H151 -> 0 | AR151: 4 | AT151: K | AU151: 2 | AY151: ROZPOCET | BE151: =IF(N151="základní",J151,0) -> 0 | BF151: =IF(N151="snížená",J151,0) -> 0 | BG151: =IF(N151="zákl. přenesená",J151,0) -> 0 | BH151: =IF(N151="sníž. přenesená",J151,0) -> 0 | BI151: =IF(N151="nulová",J151,0) -> 0 | BJ151: 1 | BK151: =ROUND(I151*H151,2) -> 0 | BL151: 4 | BM151: -554769671
C152: 13 | D152: K | E152: 5909032010 | F152: Přesná úprava GPK koleje směrové a výškové uspořádání pražce dřevěné nebo ocelové. Poznámka: 1. V cenách jsou započteny náklady na úpravu směrového a výškového uspořádání strojní linkou ASP s přesným zaměřením její prostorové polohy, úpravu KL pluhem a měření mezních stavebních odchylek dle ČSN, měření techologických veličin a předání tištěných výstupů objednateli. 2. V cenách nejsou obsaženy náklady na zaměření APK, doplnění a dodávku kameniva a snížení KL pod patou kolejnice. | G152: km | H152: 3 | J152: =ROUND(I152*H152,2) -> 0 | K152: Sborník UOŽI 01 2019 | N152: základní | P152: =O152*H152 -> 0 | Q152: 0 | R152: =Q152*H152 -> 0 | S152: 0 | T152: =S152*H152 -> 0 | AR152: 4 | AT152: K | AU152: 2 | AY152: ROZPOCET | BE152: =IF(N152="základní",J152,0) -> 0 | BF152: =IF(N152="snížená",J152,0) -> 0 | BG152: =IF(N152="zákl. přenesená",J152,0) -> 0 | BH152: =IF(N152="sníž. přenesená",J152,0) -> 0 | BI152: =IF(N152="nulová",J152,0) -> 0 | BJ152: 1 | BK152: =ROUND(I152*H152,2) -> 0 | BL152: 4 | BM152: 809279210
D153: VV | F153: 1,500 "úprava GPK po provedené opravě" | H153: 1.5 | AT153: VV | AU153: 2 | AV153: 2 | AW153: True | AX153: 0 | AY153: ROZPOCET
D154: VV | F154: 1,500 "následné třetí podbití" | H154: 1.5 | AT154: VV | AU154: 2 | AV154: 2 | AW154: True | AX154: 0 | AY154: ROZPOCET
D155: VV | F155: Součet | H155: 3 | AT155: VV | AU155: 2 | AV155: 4 | AW155: True | AX155: 1 | AY155: ROZPOCET
C156: 14 | D156: K | E156: 5910020130 | F156: Svařování kolejnic termitem plný předehřev standardní spára svar jednotlivý tv. S49. Poznámka: 1. V cenách jsou započteny náklady na vybrání kameniva z mezipražcového prostoru, demontáž upevňovadel, směrové a výškové vyrovnání kolejnic, provedení svaru, montáž upevňovadel, vizuální kontrola, měření geometrie svaru. 2. V cenách nejsou obsaženy náklady na kontrolu svaru ultrazvukem, podbití pražců a demontáž styku. | G156: svar | H156: 4 | J156: =ROUND(I156*H156,2) -> 0 | K156: Sborník UOŽI 01 2019 | N156: základní | P156: =O156*H156 -> 0 | Q156: 0 | R156: =Q156*H156 -> 0 | S156: 0 | T156: =S156*H156 -> 0 | AR156: 4 | AT156: K | AU156: 2 | AY156: ROZPOCET | BE156: =IF(N156="základní",J156,0) -> 0 | BF156: =IF(N156="snížená",J156,0) -> 0 | BG156: =IF(N156="zákl. přenesená",J156,0) -> 0 | BH156: =IF(N156="sníž. přenesená",J156,0) -> 0 | BI156: =IF(N156="nulová",J156,0) -> 0 | BJ156: 1 | BK156: =ROUND(I156*H156,2) -> 0 | BL156: 4 | BM156: 1565012576
C157: 15 | D157: K | E157: 5910040220 | F157: Umožnění volné dilatace kolejnice bez demontáže nebo montáže upevňovadel s osazením a odstraněním kluzných podložek rozdělení pražců "d". Poznámka: 1. V cenách jsou započteny náklady na uvolnění, demontáž a rovnoměrné prodloužení nebo zkrácení kolejnice, vyznačení značek a vedení dokumentace. 2. V cenách nejsou obsaženy náklady na demontáž kolejnicových spojek. | G157: m | H157: 300 | J157: =ROUND(I157*H157,2) -> 0 | K157: Sborník UOŽI 01 2019 | N157: základní | P157: =O157*H157 -> 0 | Q157: 0 | R157: =Q157*H157 -> 0 | S157: 0 | T157: =S157*H157 -> 0 | AR157: 4 | AT157: K | AU157: 2 | AY157: ROZPOCET | BE157: =IF(N157="základní",J157,0) -> 0 | BF157: =IF(N157="snížená",J157,0) -> 0 | BG157: =IF(N157="zákl. přenesená",J157,0) -> 0 | BH157: =IF(N157="sníž. přenesená",J157,0) -> 0 | BI157: =IF(N157="nulová",J157,0) -> 0 | BJ157: 1 | BK157: =ROUND(I157*H157,2) -> 0 | BL157: 4 | BM157: -474575450
C158: 16 | D158: K | E158: 5905110010 | F158: Snížení KL pod patou kolejnice v koleji. Poznámka: 1. V cenách jsou započteny náklady na snížení KL pod patou kolejnice ručně vidlemi. 2. V cenách nejsou obsaženy náklady na doplnění a dodávku kameniva. | G158: km | H158: 1.5 | J158: =ROUND(I158*H158,2) -> 0 | K158: Sborník UOŽI 01 2019 | N158: základní | P158: =O158*H158 -> 0 | Q158: 0 | R158: =Q158*H158 -> 0 | S158: 0 | T158: =S158*H158 -> 0 | AR158: 4 | AT158: K | AU158: 2 | AY158: ROZPOCET | BE158: =IF(N158="základní",J158,0) -> 0 | BF158: =IF(N158="snížená",J158,0) -> 0 | BG158: =IF(N158="zákl. přenesená",J158,0) -> 0 | BH158: =IF(N158="sníž. přenesená",J158,0) -> 0 | BI158: =IF(N158="nulová",J158,0) -> 0 | BJ158: 1 | BK158: =ROUND(I158*H158,2) -> 0 | BL158: 4 | BM158: -691132552

Sheet 02.1 - Zřízení a oprava s...
L2: >> skryté sloupce << | AT2: {e2ff657a-f760-41ce-92e4-2dfbaacbcea4}
AT3: 2
D4: KRYCÍ LIST SOUPISU PRACÍ | M4: v --- níže se nacházejí doplnkové a pomocné údaje k sestavám --- v | AT4: False
D6: Stavba:
E7: ='Rekapitulace stavby'!K6 -> Oprava trati v úseku Velká nad Veličkou - Lipov - oprava stávajícího pod povrchového a povrchového odvodnění v km 54,420
D8: Objekt:
E9: 02 - Žel. spodek
D10: Soupis:
E11: 02.1 - Zřízení a oprava stávajícího odvodnění
D13: KSO: | I13: CC-CZ:
D14: Místo: | F14: TO Veselí nad Moravou | I14: Datum: | J14: ='Rekapitulace stavby'!AN8 -> 28. 6. 2019
D16: Zadavatel: | I16: IČ: | J16: =IF('Rekapitulace stavby'!AN10="","",'Rekapitulace stavby'!AN10)
E17: =IF('Rekapitulace stavby'!E11="","",'Rekapitulace stavby'!E11) | I17: DIČ: | J17: =IF('Rekapitulace stavby'!AN11="","",'Rekapitulace stavby'!AN11)
D19: Uchazeč: | I19: IČ: | J19: ='Rekapitulace stavby'!AN13 -> Vyplň údaj
E20: ='Rekapitulace stavby'!E14 -> Vyplň údaj | I20: DIČ: | J20: ='Rekapitulace stavby'!AN14 -> Vyplň údaj
D22: Projektant: | I22: IČ: | J22: =IF('Rekapitulace stavby'!AN16="","",'Rekapitulace stavby'!AN16)
E23: =IF('Rekapitulace stavby'!E17="","",'Rekapitulace stavby'!E17) | I23: DIČ: | J23: =IF('Rekapitulace stavby'!AN17="","",'Rekapitulace stavby'!AN17)
D25: Zpracovatel: | I25: IČ: | J25: =IF('Rekapitulace stavby'!AN19="","",'Rekapitulace stavby'!AN19)
E26: =IF('Rekapitulace stavby'!E20="","",'Rekapitulace stavby'!E20) | I26: DIČ: | J26: =IF('Rekapitulace stavby'!AN20="","",'Rekapitulace stavby'!AN20)
D28: Poznámka:
D32: Cena bez DPH | J32: =ROUND(J122, 2) -> 0
F34: Základ daně | I34: Sazba daně | J34: Výše daně
D35: DPH | E35: základní | F35: =ROUND((SUM(BE122:BE168)), 2) -> 0 | I35: 0.21 | J35: =ROUND(((SUM(BE122:BE168))*I35), 2) -> 0
E36: snížená | F36: =ROUND((SUM(BF122:BF168)), 2) -> 0 | I36: 0.15 | J36: =ROUND(((SUM(BF122:BF168))*I36), 2) -> 0
E37: zákl. přenesená | F37: =ROUND((SUM(BG122:BG168)), 2) -> 0 | I37: 0.21 | J37: =0 -> 0
E38: sníž. přenesená | F38: =ROUND((SUM(BH122:BH168)), 2) -> 0 | I38: 0.15 | J38: =0 -> 0
E39: nulová | F39: =ROUND((SUM(BI122:BI168)), 2) -> 0 | I39: 0 | J39: =0 -> 0
D41: Cena s DPH | G41: v | H41: CZK | J41: =SUM(J32:J39) -> 0
D50: Projektant | G50: Zpracovatel
D61: Datum a podpis: | F61: Razítko | G61: Datum a podpis: | J61: Razítko
D65: Objednavatel | G65: Uchazeč
D76: Datum a podpis: | F76: Razítko | G76: Datum a podpis: | J76: Razítko
C82: REKAPITULACE ČLENĚNÍ SOUPISU PRACÍ
C84: Stavba:
E85: =E7 -> Oprava trati v úseku Velká nad Veličkou - Lipov - oprava stávajícího pod povrchového a povrchového odvodnění v km 54,420
C86: Objekt:
E87: 02 - Žel. spodek
C88: Soupis:
E89: =E11 -> 02.1 - Zřízení a oprava stávajícího odvodnění
C91: Místo: | F91: =F14 -> TO Veselí nad Moravou | I91: Datum: | J91: =IF(J14="","",J14) -> 28. 6. 2019
C93: Zadavatel: | F93: =E17 | I93: Projektant: | J93: =E23
C94: Uchazeč: | F94: =IF(E20="","",E20) -> Vyplň údaj | I94: Zpracovatel: | J94: =E26
C96: Kód dílu - Popis | J96: Cena celkem [CZK]
C98: Náklady ze soupisu prací | J98: =J122 -> 0 | AU98: -1
D99: HSV - Práce a dodávky HSV | J99: =J123 -> 0
D100: 5 - Komunikace pozemní | J100: =J124 -> 0
C107: SOUPIS PRACÍ
C109: Stavba:
E110: =E7 -> Oprava trati v úseku Velká nad Veličkou - Lipov - oprava stávajícího pod povrchového a povrchového odvodnění v km 54,420
C111: Objekt:
E112: 02 - Žel. spodek
C113: Soupis:
E114: =E11 -> 02.1 - Zřízení a oprava stávajícího odvodnění
C116: Místo: | F116: =F14 -> TO Veselí nad Moravou | I116: Datum: | J116: =IF(J14="","",J14) -> 28. 6. 2019
C118: Zadavatel: | F118: =E17 | I118: Projektant: | J118: =E23
C119: Uchazeč: | F119: =IF(E20="","",E20) -> Vyplň údaj | I119: Zpracovatel: | J119: =E26
C121: PČ | D121: Typ | E121: Kód | F121: Popis | G121: MJ | H121: Množství | I121: J.cena [CZK] | J121: Cena celkem [CZK] | K121: Cenová soustava | N121: DPH | O121: J. Nh [h] | P121: Nh celkem [h] | Q121: J. hmotnost [t] | R121: Hmotnost celkem [t] | S121: J. suť [t] | T121: Suť Celkem [t]
C122: Náklady soupisu celkem | J122: =BK122 -> 0 | P122: =P123 -> 0 | R122: =R123 -> 1058.262 | T122: =T123 -> 0 | AT122: D | AU122: -1 | BK122: =BK123 -> 0
D123: D | E123: HSV | F123: Práce a dodávky HSV | J123: =BK123 -> 0 | P123: =P124 -> 0 | R123: =R124 -> 1058.262 | T123: =T124 -> 0 | AR123: 1 | AT123: D | AU123: 0 | AY123: ROZPOCET | BK123: =BK124 -> 0
D124: D | E124: 5 | F124: Komunikace pozemní | J124: =BK124 -> 0 | P124: =SUM(P125:P168) -> 0 | R124: =SUM(R125:R168) -> 1058.262 | T124: =SUM(T125:T168) -> 0 | AR124: 1 | AT124: D | AU124: 1 | AY124: ROZPOCET | BK124: =SUM(BK125:BK168) -> 0
C125: 1 | D125: K | E125: 5914015010 | F125: Čištění odvodňovacích zařízení ručně příkop zpevněný. Poznámka: 1. V cenách jsou započteny náklady na vyčištění od nánosu a nečistot a rozprostření výzisku na terén nebo naložení na dopravní prostředek. 2. V cenách nejsou obsaženy náklady na dopravu a skládkovné. | G125: m3 | H125: 180 | J125: =ROUND(I125*H125,2) -> 0 | K125: Sborník UOŽI 01 2019 | N125: základní | P125: =O125*H125 -> 0 | Q125: 0 | R125: =Q125*H125 -> 0 | S125: 0 | T125: =S125*H125 -> 0 | AR125: 4 | AT125: K | AU125: 2 | AY125: ROZPOCET | BE125: =IF(N125="základní",J125,0) -> 0 | BF125: =IF(N125="snížená",J125,0) -> 0 | BG125: =IF(N125="zákl. přenesená",J125,0) -> 0 | BH125: =IF(N125="sníž. přenesená",J125,0) -> 0 | BI125: =IF(N125="nulová",J125,0) -> 0 | BJ125: 1 | BK125: =ROUND(I125*H125,2) -> 0 | BL125: 4 | BM125: 242181242
C126: 2 | D126: K | E126: 5914030010 | F126: Demontáž dílů otevřeného odvodnění příkopové tvárnice. Poznámka: 1. V cenách jsou započteny náklady na demontáž dílů, zához, urovnání a úpravu terénu nebo naložení výzisku na dopravní prostředek. 2. V cenách nejsou obsaženy náklady na dopravu a skládkovné. | G126: m | H126: 172 | J126: =ROUND(I126*H126,2) -> 0 | K126: Sborník UOŽI 01 2019 | N126: základní | P126: =O126*H126 -> 0 | Q126: 0 | R126: =Q126*H126 -> 0 | S126: 0 | T126: =S126*H126 -> 0 | AR126: 4 | AT126: K | AU126: 2 | AY126: ROZPOCET | BE126: =IF(N126="základní",J126,0) -> 0 | BF126: =IF(N126="snížená",J126,0) -> 0 | BG126: =IF(N126="zákl. přenesená",J126,0) -> 0 | BH126: =IF(N126="sníž. přenesená",J126,0) -> 0 | BI126: =IF(N126="nulová",J126,0) -> 0 | BJ126: 1 | BK126: =ROUND(I126*H126,2) -> 0 | BL126: 4 | BM126: 11285124
D127: VV | F127: 172 "Odstranění stávajícího betonového odvodnění z dlažby" | H127: 172 | AT127: VV | AU127: 2 | AV127: 2 | AW127: True | AX127: 1 | AY127: ROZPOCET
C128: 3 | D128: K | E128: 5915010030 | F128: Těžení zeminy nebo horniny železničního spodku III. třídy. Poznámka: 1. V cenách jsou započteny náklady na těžení a uložení výzisku na terén nebo naložení na dopravní prostředek a uložení na úložišti. | G128: m3 | H128: 387 | J128: =ROUND(I128*H128,2) -> 0 | K128: Sborník UOŽI 01 2019 | N128: základní | P128: =O128*H128 -> 0 | Q128: 0 | R128: =Q128*H128 -> 0 | S128: 0 | T128: =S128*H128 -> 0 | AR128: 4 | AT128: K | AU128: 2 | AY128: ROZPOCET | BE128: =IF(N128="základní",J128,0) -> 0 | BF128: =IF(N128="snížená",J128,0) -> 0 | BG128: =IF(N128="zákl. přenesená",J128,0) -> 0 | BH128: =IF(N128="sníž. přenesená",J128,0) -> 0 | BI128: =IF(N128="nulová",J128,0) -> 0 | BJ128: 1 | BK128: =ROUND(I128*H128,2) -> 0 | BL128: 4 | BM128: 717765104
D129: VV | F129: 387 "odtěžení materiálu pro zpevněný příkop TZZ3" | H129: 387 | AT129: VV | AU129: 2 | AV129: 2 | AW129: True | AX129: 1 | AY129: ROZPOCET
C130: 4 | D130: K | E130: 5914075130 | F130: Zřízení konstrukční vrstvy pražcového podloží včetně geotextilie tl. 0,50 m. Poznámka: 1. V cenách jsou započteny náklady na naložení výzisku na dopravní prostředek. 2. V cenách nejsou obsaženy náklady na dodávku materiálu a odtěžení zeminy. | G130: m2 | H130: 500 | J130: =ROUND(I130*H130,2) -> 0 | K130: Sborník UOŽI 01 2019 | N130: základní | P130: =O130*H130 -> 0 | Q130: 0 | R130: =Q130*H130 -> 0 | S130: 0 | T130: =S130*H130 -> 0 | AR130: 4 | AT130: K | AU130: 2 | AY130: ROZPOCET | BE130: =IF(N130="základní",J130,0) -> 0 | BF130: =IF(N130="snížená",J130,0) -> 0 | BG130: =IF(N130="zákl. přenesená",J130,0) -> 0 | BH130: =IF(N130="sníž. přenesená",J130,0) -> 0 | BI130: =IF(N130="nulová",J130,0) -> 0 | BJ130: 1 | BK130: =ROUND(I130*H130,2) -> 0 | BL130: 4 | BM130: -156334317
D131: VV | F131: 500 "zásyp příčných odvodňovacích žeber lomovým kamenem a postupné hutnění po vrstvách, včetně vložení ochrané geotextilie po stranách výkopu" | H131: 500 | AT131: VV | AU131: 2 | AV131: 2 | AW131: True | AX131: 1 | AY131: ROZPOCET
C132: 5 | D132: M | E132: 5964133005 | F132: Geotextilie separační | G132: m2 | H132: 180 | J132: =ROUND(I132*H132,2) -> 0 | K132: Sborník UOŽI 01 2019 | N132: základní | P132: =O132*H132 -> 0 | Q132: 0 | R132: =Q132*H132 -> 0 | S132: 0 | T132: =S132*H132 -> 0 | AR132: 8 | AT132: M | AU132: 2 | AY132: ROZPOCET | BE132: =IF(N132="základní",J132,0) -> 0 | BF132: =IF(N132="snížená",J132,0) -> 0 | BG132: =IF(N132="zákl. přenesená",J132,0) -> 0 | BH132: =IF(N132="sníž. přenesená",J132,0) -> 0 | BI132: =IF(N132="nulová",J132,0) -> 0 | BJ132: 1 | BK132: =ROUND(I132*H132,2) -> 0 | BL132: 4 | BM132: 634830839
C133: 6 | D133: M | E133: 5964133020 | F133: Geotextilie drenážní | G133: m2 | H133: 180 | J133: =ROUND(I133*H133,2) -> 0 | K133: Sborník UOŽI 01 2019 | N133: základní | P133: =O133*H133 -> 0 | Q133: 0.0014 | R133: =Q133*H133 -> 0.252 | S133: 0 | T133: =S133*H133 -> 0 | AR133: 8 | AT133: M | AU133: 2 | AY133: ROZPOCET | BE133: =IF(N133="základní",J133,0) -> 0 | BF133: =IF(N133="snížená",J133,0) -> 0 | BG133: =IF(N133="zákl. přenesená",J133,0) -> 0 | BH133: =IF(N133="sníž. přenesená",J133,0) -> 0 | BI133: =IF(N133="nulová",J133,0) -> 0 | BJ133: 1 | BK133: =ROUND(I133*H133,2) -> 0 | BL133: 4 | BM133: -2093189072
C134: 7 | D134: K | E134: 5914055030 | F134: Zřízení krytých odvodňovacích zařízení svodného potrubí. Poznámka: 1. V cenách jsou započteny náklady na zřízení podkladní vrstvy, uložení, obsypání a zásyp zařízení podle vzorového listu a rozprostření výzisku na terén nebo naložení na dopravní prostředek. 2. V cenách nejsou obsaženy náklady na provedení výkopku, ruční dočištění a dodávku materiálu. | G134: m | H134: 30 | J134: =ROUND(I134*H134,2) -> 0 | K134: Sborník UOŽI 01 2019 | N134: základní | P134: =O134*H134 -> 0 | Q134: 0 | R134: =Q134*H134 -> 0 | S134: 0 | T134: =S134*H134 -> 0 | AR134: 4 | AT134: K | AU134: 2 | AY134: ROZPOCET | BE134: =IF(N134="základní",J134,0) -> 0 | BF134: =IF(N134="snížená",J134,0) -> 0 | BG134: =IF(N134="zákl. přenesená",J134,0) -> 0 | BH134: =IF(N134="sníž. přenesená",J134,0) -> 0 | BI134: =IF(N134="nulová",J134,0) -> 0 | BJ134: 1 | BK134: =ROUND(I134*H134,2) -> 0 | BL134: 4 | BM134: 1951947792
C135: 8 | D135: M | E135: 5964103035 | F135: Drenážní plastové díly trubka s částečnou perforací DN 250 mm | G135: m | H135: 30 | J135: =ROUND(I135*H135,2) -> 0 | K135: Sborník UOŽI 01 2019 | N135: základní | P135: =O135*H135 -> 0 | Q135: 0 | R135: =Q135*H135 -> 0 | S135: 0 | T135: =S135*H135 -> 0 | AR135: 8 | AT135: M | AU135: 2 | AY135: ROZPOCET | BE135: =IF(N135="základní",J135,0) -> 0 | BF135: =IF(N135="snížená",J135,0) -> 0 | BG135: =IF(N135="zákl. přenesená",J135,0) -> 0 | BH135: =IF(N135="sníž. přenesená",J135,0) -> 0 | BI135: =IF(N135="nulová",J135,0) -> 0 | BJ135: 1 | BK135: =ROUND(I135*H135,2) -> 0 | BL135: 4 | BM135: -1347429629
D136: VV | F136: 30 "trubka drenážní s částečnou perforací po ovodu v úhlu 270° DN 200" | H136: 30 | AT136: VV | AU136: 2 | AV136: 2 | AW136: True | AX136: 1 | AY136: ROZPOCET
C137: 9 | D137: M | E137: 5955101012 | F137: Kamenivo drcené štěrk frakce 16/32 | G137: t | H137: 88 | J137: =ROUND(I137*H137,2) -> 0 | K137: Sborník UOŽI 01 2019 | N137: základní | P137: =O137*H137 -> 0 | Q137: 1 | R137: =Q137*H137 -> 88 | S137: 0 | T137: =S137*H137 -> 0 | AR137: 8 | AT137: M | AU137: 2 | AY137: ROZPOCET | BE137: =IF(N137="základní",J137,0) -> 0 | BF137: =IF(N137="snížená",J137,0) -> 0 | BG137: =IF(N137="zákl. přenesená",J137,0) -> 0 | BH137: =IF(N137="sníž. přenesená",J137,0) -> 0 | BI137: =IF(N137="nulová",J137,0) -> 0 | BJ137: 1 | BK137: =ROUND(I137*H137,2) -> 0 | BL137: 4 | BM137: -211761407
D138: VV | F138: 70 "zásyp J-žlabů" | H138: 70 | AT138: VV | AU138: 2 | AV138: 2 | AW138: True | AX138: 0 | AY138: ROZPOCET
D139: VV | F139: 18 "zásyp drenážních trubek v odvodňovacích žebrech" | H139: 18 | AT139: VV | AU139: 2 | AV139: 2 | AW139: True | AX139: 0 | AY139: ROZPOCET
D140: VV | F140: Součet | H140: 88 | AT140: VV | AU140: 2 | AV140: 4 | AW140: True | AX140: 1 | AY140: ROZPOCET
C141: 10 | D141: K | E141: 5914035130 | F141: Zřízení otevřených odvodňovacích zařízení příkopové zídky z lomového kamene. Poznámka: 1. V cenách jsou započteny náklady na zřízení podkladní vrstvy a uložení zařízení podle vzorového listu a rozprostření výzisku na terén nebo naložení na dopravní prostředek. 2. V cenách nejsou obsaženy náklady na provedení výkopku, ruční dočištění a dodávku materiálu. | G141: m | H141: 15 | J141: =ROUND(I141*H141,2) -> 0 | K141: Sborník UOŽI 01 2019 | N141: základní | P141: =O141*H141 -> 0 | Q141: 0 | R141: =Q141*H141 -> 0 | S141: 0 | T141: =S141*H141 -> 0 | AR141: 4 | AT141: K | AU141: 2 | AY141: ROZPOCET | BE141: =IF(N141="základní",J141,0) -> 0 | BF141: =IF(N141="snížená",J141,0) -> 0 | BG141: =IF(N141="zákl. přenesená",J141,0) -> 0 | BH141: =IF(N141="sníž. přenesená",J141,0) -> 0 | BI141: =IF(N141="nulová",J141,0) -> 0 | BJ141: 1 | BK141: =ROUND(I141*H141,2) -> 0 | BL141: 4 | BM141: 1490935792
C142: 11 | D142: K | E142: 5914035220 | F142: Zřízení otevřených odvodňovacích zařízení skluzu z lomového kamene. Poznámka: 1. V cenách jsou započteny náklady na zřízení podkladní vrstvy a uložení zařízení podle vzorového listu a rozprostření výzisku na terén nebo naložení na dopravní prostředek. 2. V cenách nejsou obsaženy náklady na provedení výkopku, ruční dočištění a dodávku materiálu. | G142: m | H142: 25 | J142: =ROUND(I142*H142,2) -> 0 | K142: Sborník UOŽI 01 2019 | N142: základní | P142: =O142*H142 -> 0 | Q142: 0 | R142: =Q142*H142 -> 0 | S142: 0 | T142: =S142*H142 -> 0 | AR142: 4 | AT142: K | AU142: 2 | AY142: ROZPOCET | BE142: =IF(N142="základní",J142,0) -> 0 | BF142: =IF(N142="snížená",J142,0) -> 0 | BG142: =IF(N142="zákl. přenesená",J142,0) -> 0 | BH142: =IF(N142="sníž. přenesená",J142,0) -> 0 | BI142: =IF(N142="nulová",J142,0) -> 0 | BJ142: 1 | BK142: =ROUND(I142*H142,2) -> 0 | BL142: 4 | BM142: 1562790234
C143: 12 | D143: K | E143: 5914035470 | F143: Zřízení otevřených odvodňovacích zařízení trativodní výusť z lomového kamene. Poznámka: 1. V cenách jsou započteny náklady na zřízení podkladní vrstvy a uložení zařízení podle vzorového listu a rozprostření výzisku na terén nebo naložení na dopravní prostředek. 2. V cenách nejsou obsaženy náklady na provedení výkopku, ruční dočištění a dodávku materiálu. | G143: m | H143: 5 | J143: =ROUND(I143*H143,2) -> 0 | K143: Sborník UOŽI 01 2019 | N143: základní | P143: =O143*H143 -> 0 | Q143: 0 | R143: =Q143*H143 -> 0 | S143: 0 | T143: =S143*H143 -> 0 | AR143: 4 | AT143: K | AU143: 2 | AY143: ROZPOCET | BE143: =IF(N143="základní",J143,0) -> 0 | BF143: =IF(N143="snížená",J143,0) -> 0 | BG143: =IF(N143="zákl. přenesená",J143,0) -> 0 | BH143: =IF(N143="sníž. přenesená",J143,0) -> 0 | BI143: =IF(N143="nulová",J143,0) -> 0 | BJ143: 1 | BK143: =ROUND(I143*H143,2) -> 0 | BL143: 4 | BM143: 611118544
C144: 13 | D144: M | E144: 5964161015 | F144: Beton lehce zhutnitelný C 20/25;XC2 vyhovuje i XC1 F5 2 365 2 862 | G144: m3 | H144: 25 | J144: =ROUND(I144*H144,2) -> 0 | K144: Sborník UOŽI 01 2019 | N144: základní | P144: =O144*H144 -> 0 | Q144: 2.429 | R144: =Q144*H144 -> 60.725 | S144: 0 | T144: =S144*H144 -> 0 | AR144: 8 | AT144: M | AU144: 2 | AY144: ROZPOCET | BE144: =IF(N144="základní",J144,0) -> 0 | BF144: =IF(N144="snížená",J144,0) -> 0 | BG144: =IF(N144="zákl. přenesená",J144,0) -> 0 | BH144: =IF(N144="sníž. přenesená",J144,0) -> 0 | BI144: =IF(N144="nulová",J144,0) -> 0 | BJ144: 1 | BK144: =ROUND(I144*H144,2) -> 0 | BL144: 4 | BM144: -1003307907
D145: VV | F145: 25 "obetonování vyustění svahového čela a odvodňovacích žeber z lomového kamene" | H145: 25 | AT145: VV | AU145: 2 | AV145: 2 | AW145: True | AX145: 1 | AY145: ROZPOCET
C146: 14 | D146: K | E146: 5914035010 | F146: Zřízení otevřených odvodňovacích zařízení příkopové tvárnice. Poznámka: 1. V cenách jsou započteny náklady na zřízení podkladní vrstvy a uložení zařízení podle vzorového listu a rozprostření výzisku na terén nebo naložení na dopravní prostředek. 2. V cenách nejsou obsaženy náklady na provedení výkopku, ruční dočištění a dodávku materiálu. | G146: m | H146: 172 | J146: =ROUND(I146*H146,2) -> 0 | K146: Sborník UOŽI 01 2019 | N146: základní | P146: =O146*H146 -> 0 | Q146: 0 | R146: =Q146*H146 -> 0 | S146: 0 | T146: =S146*H146 -> 0 | AR146: 4 | AT146: K | AU146: 2 | AY146: ROZPOCET | BE146: =IF(N146="základní",J146,0) -> 0 | BF146: =IF(N146="snížená",J146,0) -> 0 | BG146: =IF(N146="zákl. přenesená",J146,0) -> 0 | BH146: =IF(N146="sníž. přenesená",J146,0) -> 0 | BI146: =IF(N146="nulová",J146,0) -> 0 | BJ146: 1 | BK146: =ROUND(I146*H146,2) -> 0 | BL146: 4 | BM146: 631301964
D147: VV | F147: 172 "zřízení odvodnění TZZ3" | H147: 172 | AT147: VV | AU147: 2 | AV147: 2 | AW147: True | AX147: 1 | AY147: ROZPOCET
C148: 15 | D148: M | E148: 5964119000 | F148: Příkopová tvárnice TZZ 3 | G148: kus | H148: 575 | J148: =ROUND(I148*H148,2) -> 0 | K148: Sborník UOŽI 01 2019 | N148: základní | P148: =O148*H148 -> 0 | Q148: 0.085 | R148: =Q148*H148 -> 48.875 | S148: 0 | T148: =S148*H148 -> 0 | AR148: 8 | AT148: M | AU148: 2 | AY148: ROZPOCET | BE148: =IF(N148="základní",J148,0) -> 0 | BF148: =IF(N148="snížená",J148,0) -> 0 | BG148: =IF(N148="zákl. přenesená",J148,0) -> 0 | BH148: =IF(N148="sníž. přenesená",J148,0) -> 0 | BI148: =IF(N148="nulová",J148,0) -> 0 | BJ148: 1 | BK148: =ROUND(I148*H148,2) -> 0 | BL148: 4 | BM148: 2102622975
C149: 16 | D149: M | E149: 5964161000 | F149: Beton lehce zhutnitelný C 12/15;X0 F5 2 080 2 517 | G149: m3 | H149: 35 | J149: =ROUND(I149*H149,2) -> 0 | K149: Sborník UOŽI 01 2019 | N149: základní | P149: =O149*H149 -> 0 | Q149: 2.234 | R149: =Q149*H149 -> 78.19 | S149: 0 | T149: =S149*H149 -> 0 | AR149: 8 | AT149: M | AU149: 2 | AY149: ROZPOCET | BE149: =IF(N149="základní",J149,0) -> 0 | BF149: =IF(N149="snížená",J149,0) -> 0 | BG149: =IF(N149="zákl. přenesená",J149,0) -> 0 | BH149: =IF(N149="sníž. přenesená",J149,0) -> 0 | BI149: =IF(N149="nulová",J149,0) -> 0 | BJ149: 1 | BK149: =ROUND(I149*H149,2) -> 0 | BL149: 4 | BM149: 70594745
D150: VV | F150: 11 "beton pod J žlab-velký" | H150: 11 | AT150: VV | AU150: 2 | AV150: 2 | AW150: True | AX150: 0 | AY150: ROZPOCET
D151: VV | F151: 24 "beton pod TZZ3" | H151: 24 | AT151: VV | AU151: 2 | AV151: 2 | AW151: True | AX151: 0 | AY151: ROZPOCET
D152: VV | F152: Součet | H152: 35 | AT152: VV | AU152: 2 | AV152: 4 | AW152: True | AX152: 1 | AY152: ROZPOCET
C153: 17 | D153: K | E153: 5915005030 | F153: Hloubení rýh nebo jam na železničním spodku III. třídy. Poznámka: 1. V cenách jsou započteny náklady na hloubení a uložení výzisku na terén nebo naložení na dopravní prostředek a uložení na úložišti. | G153: m3 | H153: 180 | J153: =ROUND(I153*H153,2) -> 0 | K153: Sborník UOŽI 01 2019 | N153: základní | P153: =O153*H153 -> 0 | Q153: 0 | R153: =Q153*H153 -> 0 | S153: 0 | T153: =S153*H153 -> 0 | AR153: 4 | AT153: K | AU153: 2 | AY153: ROZPOCET | BE153: =IF(N153="základní",J153,0) -> 0 | BF153: =IF(N153="snížená",J153,0) -> 0 | BG153: =IF(N153="zákl. přenesená",J153,0) -> 0 | BH153: =IF(N153="sníž. přenesená",J153,0) -> 0 | BI153: =IF(N153="nulová",J153,0) -> 0 | BJ153: 1 | BK153: =ROUND(I153*H153,2) -> 0 | BL153: 4 | BM153: -1182579868
D154: VV | F154: 90 "odtěžení materiálu pro příčná odvodňovací žebra" | H154: 90 | AT154: VV | AU154: 2 | AV154: 2 | AW154: True | AX154: 0 | AY154: ROZPOCET
D155: VV | F155: 90 "hloubení pro příkopový žlab J-velky" | H155: 90 | AT155: VV | AU155: 2 | AV155: 2 | AW155: True | AX155: 0 | AY155: ROZPOCET
D156: VV | F156: Součet | H156: 180 | AT156: VV | AU156: 2 | AV156: 4 | AW156: True | AX156: 1 | AY156: ROZPOCET
C157: 18 | D157: K | E157: 5914035150 | F157: Zřízení otevřených odvodňovacích zařízení příkopového žlabu staveništního prefabrikátu. Poznámka: 1. V cenách jsou započteny náklady na zřízení podkladní vrstvy a uložení zařízení podle vzorového listu a rozprostření výzisku na terén nebo naložení na dopravní prostředek. 2. V cenách nejsou obsaženy náklady na provedení výkopku, ruční dočištění a dodávku materiálu. | G157: m | H157: 45 | J157: =ROUND(I157*H157,2) -> 0 | K157: Sborník UOŽI 01 2019 | N157: základní | P157: =O157*H157 -> 0 | Q157: 0 | R157: =Q157*H157 -> 0 | S157: 0 | T157: =S157*H157 -> 0 | AR157: 4 | AT157: K | AU157: 2 | AY157: ROZPOCET | BE157: =IF(N157="základní",J157,0) -> 0 | BF157: =IF(N157="snížená",J157,0) -> 0 | BG157: =IF(N157="zákl. přenesená",J157,0) -> 0 | BH157: =IF(N157="sníž. přenesená",J157,0) -> 0 | BI157: =IF(N157="nulová",J157,0) -> 0 | BJ157: 1 | BK157: =ROUND(I157*H157,2) -> 0 | BL157: 4 | BM157: 2036853604
C158: 19 | D158: M | E158: 5964115005 | F158: Příkopový žlab tvaru J velký | G158: kus | H158: 18 | J158: =ROUND(I158*H158,2) -> 0 | K158: Sborník UOŽI 01 2019 | N158: základní | P158: =O158*H158 -> 0 | Q158: 1.79 | R158: =Q158*H158 -> 32.22 | S158: 0 | T158: =S158*H158 -> 0 | AR158: 8 | AT158: M | AU158: 2 | AY158: ROZPOCET | BE158: =IF(N158="základní",J158,0) -> 0 | BF158: =IF(N158="snížená",J158,0) -> 0 | BG158: =IF(N158="zákl. přenesená",J158,0) -> 0 | BH158: =IF(N158="sníž. přenesená",J158,0) -> 0 | BI158: =IF(N158="nulová",J158,0) -> 0 | BJ158: 1 | BK158: =ROUND(I158*H158,2) -> 0 | BL158: 4 | BM158: -1948019043
C159: 20 | D159: K | E159: 5914100050 | F159: Oprava ochranné konstrukce a zpevnění svahů ve styku s vodními toky a díly rovnaninou. Poznámka: 1. V cenách jsou započteny náklady na opravu podle vzorových listů a naložení výzisku na dopravní prostředek. 2. V cenách nejsou obsaženy náklady na dodávku materiálu. | G159: m2 | H159: 750 | J159: =ROUND(I159*H159,2) -> 0 | K159: Sborník UOŽI 01 2019 | N159: základní | P159: =O159*H159 -> 0 | Q159: 0 | R159: =Q159*H159 -> 0 | S159: 0 | T159: =S159*H159 -> 0 | AR159: 4 | AT159: K | AU159: 2 | AY159: ROZPOCET | BE159: =IF(N159="základní",J159,0) -> 0 | BF159: =IF(N159="snížená",J159,0) -> 0 | BG159: =IF(N159="zákl. přenesená",J159,0) -> 0 | BH159: =IF(N159="sníž. přenesená",J159,0) -> 0 | BI159: =IF(N159="nulová",J159,0) -> 0 | BJ159: 1 | BK159: =ROUND(I159*H159,2) -> 0 | BL159: 4 | BM159: 285716435
D160: VV | F160: 750 "oprava stávajících svahových žeber a patní zídky" | H160: 750 | AT160: VV | AU160: 2 | AV160: 2 | AW160: True | AX160: 1 | AY160: ROZPOCET
C161: 21 | D161: K | E161: 5914001150 | F161: Zřízení gabionu vázaného s oky 100x100 mm o rozměru 1,0x1,0x0,5 m (0,500 m3). Poznámka: 1. V cenách jsou započteny náklady na přípravu gabionové drážky, montáž koše, vyskládání pohledových stran a vyplnění koše kamenivem. 2. V cenách nejsou započteny náklady na zemní práce a na dodávku materiálu. | G161: kus | H161: 160 | J161: =ROUND(I161*H161,2) -> 0 | K161: Sborník UOŽI 01 2019 | N161: základní | P161: =O161*H161 -> 0 | Q161: 0 | R161: =Q161*H161 -> 0 | S161: 0 | T161: =S161*H161 -> 0 | AR161: 4 | AT161: K | AU161: 2 | AY161: ROZPOCET | BE161: =IF(N161="základní",J161,0) -> 0 | BF161: =IF(N161="snížená",J161,0) -> 0 | BG161: =IF(N161="zákl. přenesená",J161,0) -> 0 | BH161: =IF(N161="sníž. přenesená",J161,0) -> 0 | BI161: =IF(N161="nulová",J161,0) -> 0 | BJ161: 1 | BK161: =ROUND(I161*H161,2) -> 0 | BL161: 4 | BM161: -1489476349
C162: 22 | D162: M | E162: 5964102044 | F162: Gabionový koš kompletní s vázanými oky 100x100 mm 1,00x1,00x0,50 m (0,500 m3) | G162: kus | H162: 160 | J162: =ROUND(I162*H162,2) -> 0 | K162: Sborník UOŽI 01 2019 | N162: základní | P162: =O162*H162 -> 0 | Q162: 0 | R162: =Q162*H162 -> 0 | S162: 0 | T162: =S162*H162 -> 0 | AR162: 8 | AT162: M | AU162: 2 | AY162: ROZPOCET | BE162: =IF(N162="základní",J162,0) -> 0 | BF162: =IF(N162="snížená",J162,0) -> 0 | BG162: =IF(N162="zákl. přenesená",J162,0) -> 0 | BH162: =IF(N162="sníž. přenesená",J162,0) -> 0 | BI162: =IF(N162="nulová",J162,0) -> 0 | BJ162: 1 | BK162: =ROUND(I162*H162,2) -> 0 | BL162: 4 | BM162: 1497777882
C163: 23 | D163: M | E163: 5955101045 | F163: Lomový kámen tříděný pro rovnaniny | G163: t | H163: 750 | J163: =ROUND(I163*H163,2) -> 0 | K163: Sborník UOŽI 01 2019 | N163: základní | P163: =O163*H163 -> 0 | Q163: 1 | R163: =Q163*H163 -> 750 | S163: 0 | T163: =S163*H163 -> 0 | AR163: 8 | AT163: M | AU163: 2 | AY163: ROZPOCET | BE163: =IF(N163="základní",J163,0) -> 0 | BF163: =IF(N163="snížená",J163,0) -> 0 | BG163: =IF(N163="zákl. přenesená",J163,0) -> 0 | BH163: =IF(N163="sníž. přenesená",J163,0) -> 0 | BI163: =IF(N163="nulová",J163,0) -> 0 | BJ163: 1 | BK163: =ROUND(I163*H163,2) -> 0 | BL163: 4 | BM163: 1586196811
D164: VV | F164: 100 "lomový kámen 90/125 pro zídky, skluzy a trtivodní výusti" | H164: 100 | AT164: VV | AU164: 2 | AV164: 2 | AW164: True | AX164: 0 | AY164: ROZPOCET
...

Sheet 02.2 - Zřízení horizontál...
L2: >> skryté sloupce << | AT2: {5ce1738f-7123-4e33-b845-57556e785c5d}
AT3: 2
D4: KRYCÍ LIST SOUPISU PRACÍ | M4: v --- níže se nacházejí doplnkové a pomocné údaje k sestavám --- v | AT4: False
D6: Stavba:
E7: ='Rekapitulace stavby'!K6 -> Oprava trati v úseku Velká nad Veličkou - Lipov - oprava stávajícího pod povrchového a povrchového odvodnění v km 54,420
D8: Objekt:
E9: 02 - Žel. spodek
D10: Soupis:
E11: 02.2 - Zřízení horizontálních odvodňovacých vrtů (URS)
D13: KSO: | I13: CC-CZ:
D14: Místo: | F14: TO Veselí nad Moravou | I14: Datum: | J14: ='Rekapitulace stavby'!AN8 -> 28. 6. 2019
D16: Zadavatel: | I16: IČ: | J16: =IF('Rekapitulace stavby'!AN10="","",'Rekapitulace stavby'!AN10)
E17: =IF('Rekapitulace stavby'!E11="","",'Rekapitulace stavby'!E11) | I17: DIČ: | J17: =IF('Rekapitulace stavby'!AN11="","",'Rekapitulace stavby'!AN11)
D19: Uchazeč: | I19: IČ: | J19: ='Rekapitulace stavby'!AN13 -> Vyplň údaj
E20: ='Rekapitulace stavby'!E14 -> Vyplň údaj | I20: DIČ: | J20: ='Rekapitulace stavby'!AN14 -> Vyplň údaj
D22: Projektant: | I22: IČ: | J22: =IF('Rekapitulace stavby'!AN16="","",'Rekapitulace stavby'!AN16)
E23: =IF('Rekapitulace stavby'!E17="","",'Rekapitulace stavby'!E17) | I23: DIČ: | J23: =IF('Rekapitulace stavby'!AN17="","",'Rekapitulace stavby'!AN17)
D25: Zpracovatel: | I25: IČ: | J25: =IF('Rekapitulace stavby'!AN19="","",'Rekapitulace stavby'!AN19)
E26: =IF('Rekapitulace stavby'!E20="","",'Rekapitulace stavby'!E20) | I26: DIČ: | J26: =IF('Rekapitulace stavby'!AN20="","",'Rekapitulace stavby'!AN20)
D28: Poznámka:
D32: Cena bez DPH | J32: =ROUND(J125, 2) -> 0
F34: Základ daně | I34: Sazba daně | J34: Výše daně
D35: DPH | E35: základní | F35: =ROUND((SUM(BE125:BE138)), 2) -> 0 | I35: 0.21 | J35: =ROUND(((SUM(BE125:BE138))*I35), 2) -> 0
E36: snížená | F36: =ROUND((SUM(BF125:BF138)), 2) -> 0 | I36: 0.15 | J36: =ROUND(((SUM(BF125:BF138))*I36), 2) -> 0
E37: zákl. přenesená | F37: =ROUND((SUM(BG125:BG138)), 2) -> 0 | I37: 0.21 | J37: =0 -> 0
E38: sníž. přenesená | F38: =ROUND((SUM(BH125:BH138)), 2) -> 0 | I38: 0.15 | J38: =0 -> 0
E39: nulová | F39: =ROUND((SUM(BI125:BI138)), 2) -> 0 | I39: 0 | J39: =0 -> 0
D41: Cena s DPH | G41: v | H41: CZK | J41: =SUM(J32:J39) -> 0
D50: Projektant | G50: Zpracovatel
D61: Datum a podpis: | F61: Razítko | G61: Datum a podpis: | J61: Razítko
D65: Objednavatel | G65: Uchazeč
D76: Datum a podpis: | F76: Razítko | G76: Datum a podpis: | J76: Razítko
C82: REKAPITULACE ČLENĚNÍ SOUPISU PRACÍ
C84: Stavba:
E85: =E7 -> Oprava trati v úseku Velká nad Veličkou - Lipov - oprava stávajícího pod povrchového a povrchového odvodnění v km 54,420
C86: Objekt:
E87: 02 - Žel. spodek
C88: Soupis:
E89: =E11 -> 02.2 - Zřízení horizontálních odvodňovacých vrtů (URS)
C91: Místo: | F91: =F14 -> TO Veselí nad Moravou | I91: Datum: | J91: =IF(J14="","",J14) -> 28. 6. 2019
C93: Zadavatel: | F93: =E17 | I93: Projektant: | J93: =E23
C94: Uchazeč: | F94: =IF(E20="","",E20) -> Vyplň údaj | I94: Zpracovatel: | J94: =E26
C96: Kód dílu - Popis | J96: Cena celkem [CZK]
C98: Náklady ze soupisu prací | J98: =J125 -> 0 | AU98: -1
D99: HSV - Práce a dodávky HSV | J99: =J126 -> 0
D100: 1 - Zemní práce | J100: =J127 -> 0
D101: 6 - Úpravy povrchů, podlahy a osazování výplní | J101: =J129 -> 0
D102: M - Práce a dodávky M | J102: =J133 -> 0
D103: 46-M - Zemní práce při extr.mont.pracích | J103: =J134 -> 0
C110: SOUPIS PRACÍ
C112: Stavba:
E113: =E7 -> Oprava trati v úseku Velká nad Veličkou - Lipov - oprava stávajícího pod povrchového a povrchového odvodnění v km 54,420
C114: Objekt:
E115: 02 - Žel. spodek
C116: Soupis:
E117: =E11 -> 02.2 - Zřízení horizontálních odvodňovacých vrtů (URS)
C119: Místo: | F119: =F14 -> TO Veselí nad Moravou | I119: Datum: | J119: =IF(J14="","",J14) -> 28. 6. 2019
C121: Zadavatel: | F121: =E17 | I121: Projektant: | J121: =E23
C122: Uchazeč: | F122: =IF(E20="","",E20) -> Vyplň údaj | I122: Zpracovatel: | J122: =E26
C124: PČ | D124: Typ | E124: Kód | F124: Popis | G124: MJ | H124: Množství | I124: J.cena [CZK] | J124: Cena celkem [CZK] | K124: Cenová soustava | N124: DPH | O124: J. Nh [h] | P124: Nh celkem [h] | Q124: J. hmotnost [t] | R124: Hmotnost celkem [t] | S124: J. suť [t] | T124: Suť Celkem [t]
C125: Náklady soupisu celkem | J125: =BK125 -> 0 | P125: =P126+P133 -> 0 | R125: =R126+R133 -> 10.41 | T125: =T126+T133 -> 0 | AT125: D | AU125: -1 | BK125: =BK126+BK133 -> 0
D126: D | E126: HSV | F126: Práce a dodávky HSV | J126: =BK126 -> 0 | P126: =P127+P129 -> 0 | R126: =R127+R129 -> 9.525 | T126: =T127+T129 -> 0 | AR126: 1 | AT126: D | AU126: 0 | AY126: ROZPOCET | BK126: =BK127+BK129 -> 0
D127: D | E127: 1 | F127: Zemní práce | J127: =BK127 -> 0 | P127: =P128 -> 0 | R127: =R128 -> 0 | T127: =T128 -> 0 | AR127: 1 | AT127: D | AU127: 1 | AY127: ROZPOCET | BK127: =BK128 -> 0
C128: 1 | D128: K | E128: 115101201 | F128: Čerpání vody na dopravní výšku do 10 m s uvažovaným průměrným přítokem do 500 l/min | G128: hod | H128: 20 | J128: =ROUND(I128*H128,2) -> 0 | K128: CS ÚRS 2019 01 | N128: základní | P128: =O128*H128 -> 0 | Q128: 0 | R128: =Q128*H128 -> 0 | S128: 0 | T128: =S128*H128 -> 0 | AR128: 4 | AT128: K | AU128: 2 | AY128: ROZPOCET | BE128: =IF(N128="základní",J128,0) -> 0 | BF128: =IF(N128="snížená",J128,0) -> 0 | BG128: =IF(N128="zákl. přenesená",J128,0) -> 0 | BH128: =IF(N128="sníž. přenesená",J128,0) -> 0 | BI128: =IF(N128="nulová",J128,0) -> 0 | BJ128: 1 | BK128: =ROUND(I128*H128,2) -> 0 | BL128: 4 | BM128: -1783213948
D129: D | E129: 6 | F129: Úpravy povrchů, podlahy a osazování výplní | J129: =BK129 -> 0 | P129: =SUM(P130:P132) -> 0 | R129: =SUM(R130:R132) -> 9.525 | T129: =SUM(T130:T132) -> 0 | AR129: 1 | AT129: D | AU129: 1 | AY129: ROZPOCET | BK129: =SUM(BK130:BK132) -> 0
C130: 2 | D130: K | E130: 628631211 | F130: Spárování zdiva opěrných zdí a valů cementovou maltou hloubky spárování do 30 mm, zdiva z lomového kamene | G130: m2 | H130: 550 | J130: =ROUND(I130*H130,2) -> 0 | K130: CS ÚRS 2019 01 | N130: základní | P130: =O130*H130 -> 0 | Q130: 0.0171 | R130: =Q130*H130 -> 9.405 | S130: 0 | T130: =S130*H130 -> 0 | AR130: 4 | AT130: K | AU130: 2 | AY130: ROZPOCET | BE130: =IF(N130="základní",J130,0) -> 0 | BF130: =IF(N130="snížená",J130,0) -> 0 | BG130: =IF(N130="zákl. přenesená",J130,0) -> 0 | BH130: =IF(N130="sníž. přenesená",J130,0) -> 0 | BI130: =IF(N130="nulová",J130,0) -> 0 | BJ130: 1 | BK130: =ROUND(I130*H130,2) -> 0 | BL130: 4 | BM130: 709605892
D131: VV | F131: 550 "spárování zídek, skluzů, výpustí a opravovaných částí odvodnění" | H131: 550 | AT131: VV | AU131: 2 | AV131: 2 | AW131: True | AX131: 1 | AY131: ROZPOCET
C132: 3 | D132: M | E132: LBC.331 | F132: Malta pro pokládku a spárování přírodního kamene, 30 kg | G132: kg | H132: 120 | J132: =ROUND(I132*H132,2) -> 0 | K132: CS ÚRS 2019 01 | N132: základní | P132: =O132*H132 -> 0 | Q132: 0.001 | R132: =Q132*H132 -> 0.12 | S132: 0 | T132: =S132*H132 -> 0 | AR132: 8 | AT132: M | AU132: 2 | AY132: ROZPOCET | BE132: =IF(N132="základní",J132,0) -> 0 | BF132: =IF(N132="snížená",J132,0) -> 0 | BG132: =IF(N132="zákl. přenesená",J132,0) -> 0 | BH132: =IF(N132="sníž. přenesená",J132,0) -> 0 | BI132: =IF(N132="nulová",J132,0) -> 0 | BJ132: 1 | BK132: =ROUND(I132*H132,2) -> 0 | BL132: 4 | BM132: 1012321283
D133: D | E133: M | F133: Práce a dodávky M | J133: =BK133 -> 0 | P133: =P134 -> 0 | R133: =R134 -> 0.885 | T133: =T134 -> 0 | AR133: 3 | AT133: D | AU133: 0 | AY133: ROZPOCET | BK133: =BK134 -> 0
D134: D | E134: 46-M | F134: Zemní práce při extr.mont.pracích | J134: =BK134 -> 0 | P134: =SUM(P135:P138) -> 0 | R134: =SUM(R135:R138) -> 0.885 | T134: =SUM(T135:T138) -> 0 | AR134: 3 | AT134: D | AU134: 1 | AY134: ROZPOCET | BK134: =SUM(BK135:BK138) -> 0
C135: 4 | D135: K | E135: 460310103 | F135: Zemní protlaky strojně neřízený zemní protlak ( krtek) řízené horizontální vrtání v hornině tř. 1 až 4 pro protlačení PE trub, v hloubce do 6 m vnějšího průměru vrtu přes 90 do 110 mm | G135: m | H135: 100 | J135: =ROUND(I135*H135,2) -> 0 | K135: CS ÚRS 2019 01 | N135: základní | P135: =O135*H135 -> 0 | Q135: 0 | R135: =Q135*H135 -> 0 | S135: 0 | T135: =S135*H135 -> 0 | AR135: 64 | AT135: K | AU135: 2 | AY135: ROZPOCET | BE135: =IF(N135="základní",J135,0) -> 0 | BF135: =IF(N135="snížená",J135,0) -> 0 | BG135: =IF(N135="zákl. přenesená",J135,0) -> 0 | BH135: =IF(N135="sníž. přenesená",J135,0) -> 0 | BI135: =IF(N135="nulová",J135,0) -> 0 | BJ135: 1 | BK135: =ROUND(I135*H135,2) -> 0 | BL135: 64 | BM135: -785961570
D136: VV | F136: 5*20 "horizontální podpovrchové odvodňovací vrty" | H136: 100 | AT136: VV | AU136: 2 | AV136: 2 | AW136: True | AX136: 1 | AY136: ROZPOCET
C137: 5 | D137: M | E137: 14051107 | F137: trubka ocelová svařovaná závitová Pz 3" (DN 80) jakost 11 343 | G137: m | H137: 100 | J137: =ROUND(I137*H137,2) -> 0 | K137: CS ÚRS 2019 01 | N137: základní | P137: =O137*H137 -> 0 | Q137: 0.00885 | R137: =Q137*H137 -> 0.885 | S137: 0 | T137: =S137*H137 -> 0 | AR137: 128 | AT137: M | AU137: 2 | AY137: ROZPOCET | BE137: =IF(N137="základní",J137,0) -> 0 | BF137: =IF(N137="snížená",J137,0) -> 0 | BG137: =IF(N137="zákl. přenesená",J137,0) -> 0 | BH137: =IF(N137="sníž. přenesená",J137,0) -> 0 | BI137: =IF(N137="nulová",J137,0) -> 0 | BJ137: 1 | BK137: =ROUND(I137*H137,2) -> 0 | BL137: 128 | BM137: 1371553921
D138: VV | F138: 5*20 "Trubka perforovaná s antikorozní úpravou" | H138: 100 | AT138: VV | AU138: 2 | AV138: 2 | AW138: True | AX138: 1 | AY138: ROZPOCET

Sheet 02.3 - Výřez zeleně
L2: >> skryté sloupce << | AT2: {656d4b61-69da-4fe0-9451-b0d8eae0684c}
AT3: 2
D4: KRYCÍ LIST SOUPISU PRACÍ | M4: v --- níže se nacházejí doplnkové a pomocné údaje k sestavám --- v | AT4: False
D6: Stavba:
E7: ='Rekapitulace stavby'!K6 -> Oprava trati v úseku Velká nad Veličkou - Lipov - oprava stávajícího pod povrchového a povrchového odvodnění v km 54,420
D8: Objekt:
E9: 02 - Žel. spodek
D10: Soupis:
E11: 02.3 - Výřez zeleně
D13: KSO: | I13: CC-CZ:
D14: Místo: | F14: TO Veselí nad Moravou | I14: Datum: | J14: ='Rekapitulace stavby'!AN8 -> 28. 6. 2019
D16: Zadavatel: | I16: IČ: | J16: =IF('Rekapitulace stavby'!AN10="","",'Rekapitulace stavby'!AN10)
E17: =IF('Rekapitulace stavby'!E11="","",'Rekapitulace stavby'!E11) | I17: DIČ: | J17: =IF('Rekapitulace stavby'!AN11="","",'Rekapitulace stavby'!AN11)
D19: Uchazeč: | I19: IČ: | J19: ='Rekapitulace stavby'!AN13 -> Vyplň údaj
E20: ='Rekapitulace stavby'!E14 -> Vyplň údaj | I20: DIČ: | J20: ='Rekapitulace stavby'!AN14 -> Vyplň údaj
D22: Projektant: | I22: IČ: | J22: =IF('Rekapitulace stavby'!AN16="","",'Rekapitulace stavby'!AN16)
E23: =IF('Rekapitulace stavby'!E17="","",'Rekapitulace stavby'!E17) | I23: DIČ: | J23: =IF('Rekapitulace stavby'!AN17="","",'Rekapitulace stavby'!AN17)
D25: Zpracovatel: | I25: IČ: | J25: =IF('Rekapitulace stavby'!AN19="","",'Rekapitulace stavby'!AN19)
E26: =IF('Rekapitulace stavby'!E20="","",'Rekapitulace stavby'!E20) | I26: DIČ: | J26: =IF('Rekapitulace stavby'!AN20="","",'Rekapitulace stavby'!AN20)
D28: Poznámka:
D32: Cena bez DPH | J32: =ROUND(J122, 2) -> 0
F34: Základ daně | I34: Sazba daně | J34: Výše daně
D35: DPH | E35: základní | F35: =ROUND((SUM(BE122:BE127)), 2) -> 0 | I35: 0.21 | J35: =ROUND(((SUM(BE122:BE127))*I35), 2) -> 0
E36: snížená | F36: =ROUND((SUM(BF122:BF127)), 2) -> 0 | I36: 0.15 | J36: =ROUND(((SUM(BF122:BF127))*I36), 2) -> 0
E37: zákl. přenesená | F37: =ROUND((SUM(BG122:BG127)), 2) -> 0 | I37: 0.21 | J37: =0 -> 0
E38: sníž. přenesená | F38: =ROUND((SUM(BH122:BH127)), 2) -> 0 | I38: 0.15 | J38: =0 -> 0
E39: nulová | F39: =ROUND((SUM(BI122:BI127)), 2) -> 0 | I39: 0 | J39: =0 -> 0
D41: Cena s DPH | G41: v | H41: CZK | J41: =SUM(J32:J39) -> 0
D50: Projektant | G50: Zpracovatel
D61: Datum a podpis: | F61: Razítko | G61: Datum a podpis: | J61: Razítko
D65: Objednavatel | G65: Uchazeč
D76: Datum a podpis: | F76: Razítko | G76: Datum a podpis: | J76: Razítko
C82: REKAPITULACE ČLENĚNÍ SOUPISU PRACÍ
C84: Stavba:
E85: =E7 -> Oprava trati v úseku Velká nad Veličkou - Lipov - oprava stávajícího pod povrchového a povrchového odvodnění v km 54,420
C86: Objekt:
E87: 02 - Žel. spodek
C88: Soupis:
E89: =E11 -> 02.3 - Výřez zeleně
C91: Místo: | F91: =F14 -> TO Veselí nad Moravou | I91: Datum: | J91: =IF(J14="","",J14) -> 28. 6. 2019
C93: Zadavatel: | F93: =E17 | I93: Projektant: | J93: =E23
C94: Uchazeč: | F94: =IF(E20="","",E20) -> Vyplň údaj | I94: Zpracovatel: | J94: =E26
C96: Kód dílu - Popis | J96: Cena celkem [CZK]
C98: Náklady ze soupisu prací | J98: =J122 -> 0 | AU98: -1
D99: HSV - Práce a dodávky HSV | J99: =J123 -> 0
D100: 5 - Komunikace pozemní | J100: =J124 -> 0
C107: SOUPIS PRACÍ
C109: Stavba:
E110: =E7 -> Oprava trati v úseku Velká nad Veličkou - Lipov - oprava stávajícího pod povrchového a povrchového odvodnění v km 54,420
C111: Objekt:
E112: 02 - Žel. spodek
C113: Soupis:
E114: =E11 -> 02.3 - Výřez zeleně
C116: Místo: | F116: =F14 -> TO Veselí nad Moravou | I116: Datum: | J116: =IF(J14="","",J14) -> 28. 6. 2019
C118: Zadavatel: | F118: =E17 | I118: Projektant: | J118: =E23
C119: Uchazeč: | F119: =IF(E20="","",E20) -> Vyplň údaj | I119: Zpracovatel: | J119: =E26
C121: PČ | D121: Typ | E121: Kód | F121: Popis | G121: MJ | H121: Množství | I121: J.cena [CZK] | J121: Cena celkem [CZK] | K121: Cenová soustava | N121: DPH | O121: J. Nh [h] | P121: Nh celkem [h] | Q121: J. hmotnost [t] | R121: Hmotnost celkem [t] | S121: J. suť [t] | T121: Suť Celkem [t]
C122: Náklady soupisu celkem | J122: =BK122 -> 0 | P122: =P123 -> 0 | R122: =R123 -> 0 | T122: =T123 -> 0 | AT122: D | AU122: -1 | BK122: =BK123 -> 0
D123: D | E123: HSV | F123: Práce a dodávky HSV | J123: =BK123 -> 0 | P123: =P124 -> 0 | R123: =R124 -> 0 | T123: =T124 -> 0 | AR123: 1 | AT123: D | AU123: 0 | AY123: ROZPOCET | BK123: =BK124 -> 0
D124: D | E124: 5 | F124: Komunikace pozemní | J124: =BK124 -> 0 | P124: =SUM(P125:P127) -> 0 | R124: =SUM(R125:R127) -> 0 | T124: =SUM(T125:T127) -> 0 | AR124: 1 | AT124: D | AU124: 1 | AY124: ROZPOCET | BK124: =SUM(BK125:BK127) -> 0
C125: 1 | D125: K | E125: 5904020110 | F125: Vyřezání křovin porost hustý 6 a více kusů stonků na m2 plochy sklon terénu do 1:2. Poznámka: 1. V cenách jsou započteny náklady na vyřezání a likvidaci výřezu spálením, štěpkováním nebo jeho naložení na dopravní prostředek a uložení na skládku. 2. V cenách nejsou obsaženy náklady na dopravu a skládkovné. | G125: m2 | H125: 1100 | J125: =ROUND(I125*H125,2) -> 0 | K125: Sborník UOŽI 01 2019 | N125: základní | P125: =O125*H125 -> 0 | Q125: 0 | R125: =Q125*H125 -> 0 | S125: 0 | T125: =S125*H125 -> 0 | AR125: 4 | AT125: K | AU125: 2 | AY125: ROZPOCET | BE125: =IF(N125="základní",J125,0) -> 0 | BF125: =IF(N125="snížená",J125,0) -> 0 | BG125: =IF(N125="zákl. přenesená",J125,0) -> 0 | BH125: =IF(N125="sníž. přenesená",J125,0) -> 0 | BI125: =IF(N125="nulová",J125,0) -> 0 | BJ125: 1 | BK125: =ROUND(I125*H125,2) -> 0 | BL125: 4 | BM125: 1391552658
C126: 2 | D126: K | E126: 5904025010 | F126: Ořez větví místně ručně do výšky nad terénem do 2 m. Poznámka: 1. V cenách jsou započteny náklady na ruční odborné vyřezání z terénu nebo plošiny a/nebo profilu kontinuálně do vzdálenosti 3 m od osy koleje do výšky 5 m od temene kolejnice včetně likvidace výřezu spálením, štěpkováním nebo naložení na dopravní prostředek a uložení na skládku. 2. V cenách nejsou obsaženy náklady na dopravu výzisku a skládkovné. | G126: hod | H126: 4 | J126: =ROUND(I126*H126,2) -> 0 | K126: Sborník UOŽI 01 2019 | N126: základní | P126: =O126*H126 -> 0 | Q126: 0 | R126: =Q126*H126 -> 0 | S126: 0 | T126: =S126*H126 -> 0 | AR126: 4 | AT126: K | AU126: 2 | AY126: ROZPOCET | BE126: =IF(N126="základní",J126,0) -> 0 | BF126: =IF(N126="snížená",J126,0) -> 0 | BG126: =IF(N126="zákl. přenesená",J126,0) -> 0 | BH126: =IF(N126="sníž. přenesená",J126,0) -> 0 | BI126: =IF(N126="nulová",J126,0) -> 0 | BJ126: 1 | BK126: =ROUND(I126*H126,2) -> 0 | BL126: 4 | BM126: -1526505762
C127: 3 | D127: K | E127: 5904025020 | F127: Ořez větví místně ručně do výšky nad terénem přes 2 m. Poznámka: 1. V cenách jsou započteny náklady na ruční odborné vyřezání z terénu nebo plošiny a/nebo profilu kontinuálně do vzdálenosti 3 m od osy koleje do výšky 5 m od temene kolejnice včetně likvidace výřezu spálením, štěpkováním nebo naložení na dopravní prostředek a uložení na skládku. 2. V cenách nejsou obsaženy náklady na dopravu výzisku a skládkovné. | G127: hod | H127: 8 | J127: =ROUND(I127*H127,2) -> 0 | K127: Sborník UOŽI 01 2019 | N127: základní | P127: =O127*H127 -> 0 | Q127: 0 | R127: =Q127*H127 -> 0 | S127: 0 | T127: =S127*H127 -> 0 | AR127: 4 | AT127: K | AU127: 2 | AY127: ROZPOCET | BE127: =IF(N127="základní",J127,0) -> 0 | BF127: =IF(N127="snížená",J127,0) -> 0 | BG127: =IF(N127="zákl. přenesená",J127,0) -> 0 | BH127: =IF(N127="sníž. přenesená",J127,0) -> 0 | BI127: =IF(N127="nulová",J127,0) -> 0 | BJ127: 1 | BK127: =ROUND(I127*H127,2) -> 0 | BL127: 4 | BM127: 785450701

Sheet 03.1 - Manipulace, přepra...
L2: >> skryté sloupce << | AT2: {70799620-2613-42a0-a368-d8a48dc131c3}
AT3: 2
D4: KRYCÍ LIST SOUPISU PRACÍ | M4: v --- níže se nacházejí doplnkové a pomocné údaje k sestavám --- v | AT4: False
D6: Stavba:
E7: ='Rekapitulace stavby'!K6 -> Oprava trati v úseku Velká nad Veličkou - Lipov - oprava stávajícího pod povrchového a povrchového odvodnění v km 54,420
D8: Objekt:
E9: 03 - Ostatní
D10: Soupis:
E11: 03.1 - Manipulace, přepravy, poplatky
D13: KSO: | I13: CC-CZ:
D14: Místo: | F14: TO Veselí nad Moravou | I14: Datum: | J14: ='Rekapitulace stavby'!AN8 -> 28. 6. 2019
D16: Zadavatel: | I16: IČ: | J16: =IF('Rekapitulace stavby'!AN10="","",'Rekapitulace stavby'!AN10)
E17: =IF('Rekapitulace stavby'!E11="","",'Rekapitulace stavby'!E11) | I17: DIČ: | J17: =IF('Rekapitulace stavby'!AN11="","",'Rekapitulace stavby'!AN11)
D19: Uchazeč: | I19: IČ: | J19: ='Rekapitulace stavby'!AN13 -> Vyplň údaj
E20: ='Rekapitulace stavby'!E14 -> Vyplň údaj | I20: DIČ: | J20: ='Rekapitulace stavby'!AN14 -> Vyplň údaj
D22: Projektant: | I22: IČ: | J22: =IF('Rekapitulace stavby'!AN16="","",'Rekapitulace stavby'!AN16)
E23: =IF('Rekapitulace stavby'!E17="","",'Rekapitulace stavby'!E17) | I23: DIČ: | J23: =IF('Rekapitulace stavby'!AN17="","",'Rekapitulace stavby'!AN17)
D25: Zpracovatel: | I25: IČ: | J25: =IF('Rekapitulace stavby'!AN19="","",'Rekapitulace stavby'!AN19)
E26: =IF('Rekapitulace stavby'!E20="","",'Rekapitulace stavby'!E20) | I26: DIČ: | J26: =IF('Rekapitulace stavby'!AN20="","",'Rekapitulace stavby'!AN20)
D28: Poznámka:
D32: Cena bez DPH | J32: =ROUND(J121, 2) -> 0
F34: Základ daně | I34: Sazba daně | J34: Výše daně
D35: DPH | E35: základní | F35: =ROUND((SUM(BE121:BE168)), 2) -> 0 | I35: 0.21 | J35: =ROUND(((SUM(BE121:BE168))*I35), 2) -> 0
E36: snížená | F36: =ROUND((SUM(BF121:BF168)), 2) -> 0 | I36: 0.15 | J36: =ROUND(((SUM(BF121:BF168))*I36), 2) -> 0
E37: zákl. přenesená | F37: =ROUND((SUM(BG121:BG168)), 2) -> 0 | I37: 0.21 | J37: =0 -> 0
E38: sníž. přenesená | F38: =ROUND((SUM(BH121:BH168)), 2) -> 0 | I38: 0.15 | J38: =0 -> 0
E39: nulová | F39: =ROUND((SUM(BI121:BI168)), 2) -> 0 | I39: 0 | J39: =0 -> 0
D41: Cena s DPH | G41: v | H41: CZK | J41: =SUM(J32:J39) -> 0
D50: Projektant | G50: Zpracovatel
D61: Datum a podpis: | F61: Razítko | G61: Datum a podpis: | J61: Razítko
D65: Objednavatel | G65: Uchazeč
D76: Datum a podpis: | F76: Razítko | G76: Datum a podpis: | J76: Razítko
C82: REKAPITULACE ČLENĚNÍ SOUPISU PRACÍ
C84: Stavba:
E85: =E7 -> Oprava trati v úseku Velká nad Veličkou - Lipov - oprava stávajícího pod povrchového a povrchového odvodnění v km 54,420
C86: Objekt:
E87: 03 - Ostatní
C88: Soupis:
E89: =E11 -> 03.1 - Manipulace, přepravy, poplatky
C91: Místo: | F91: =F14 -> TO Veselí nad Moravou | I91: Datum: | J91: =IF(J14="","",J14) -> 28. 6. 2019
C93: Zadavatel: | F93: =E17 | I93: Projektant: | J93: =E23
C94: Uchazeč: | F94: =IF(E20="","",E20) -> Vyplň údaj | I94: Zpracovatel: | J94: =E26
C96: Kód dílu - Popis | J96: Cena celkem [CZK]
C98: Náklady ze soupisu prací | J98: =J121 -> 0 | AU98: -1
D99: OST - Ostatní | J99: =J122 -> 0
C106: SOUPIS PRACÍ
C108: Stavba:
E109: =E7 -> Oprava trati v úseku Velká nad Veličkou - Lipov - oprava stávajícího pod povrchového a povrchového odvodnění v km 54,420
C110: Objekt:
E111: 03 - Ostatní
C112: Soupis:
E113: =E11 -> 03.1 - Manipulace, přepravy, poplatky
C115: Místo: | F115: =F14 -> TO Veselí nad Moravou | I115: Datum: | J115: =IF(J14="","",J14) -> 28. 6. 2019
C117: Zadavatel: | F117: =E17 | I117: Projektant: | J117: =E23
C118: Uchazeč: | F118: =IF(E20="","",E20) -> Vyplň údaj | I118: Zpracovatel: | J118: =E26
C120: PČ | D120: Typ | E120: Kód | F120: Popis | G120: MJ | H120: Množství | I120: J.cena [CZK] | J120: Cena celkem [CZK] | K120: Cenová soustava | N120: DPH | O120: J. Nh [h] | P120: Nh celkem [h] | Q120: J. hmotnost [t] | R120: Hmotnost celkem [t] | S120: J. suť [t] | T120: Suť Celkem [t]
C121: Náklady soupisu celkem | J121: =BK121 -> 0 | P121: =P122 -> 0 | R121: =R122 -> 0 | T121: =T122 -> 0 | AT121: D | AU121: -1 | BK121: =BK122 -> 0
D122: D | E122: OST | F122: Ostatní | J122: =BK122 -> 0 | P122: =SUM(P123:P168) -> 0 | R122: =SUM(R123:R168) -> 0 | T122: =SUM(T123:T168) -> 0 | AR122: 4 | AT122: D | AU122: 0 | AY122: ROZPOCET | BK122: =SUM(BK123:BK168) -> 0
C123: 1 | D123: K | E123: 9901000300 | F123: Doprava dodávek zhotovitele, dodávek objednatele nebo výzisku mechanizací o nosnosti do 3,5 t do 30 km Poznámka: V cenách jsou započteny náklady přepravu materiálu ze skladů nebo skládek výrobce nebo dodavatele nebo z vlastních zásob objednatele na místo technologické manipulace včetně složení a poplatku za použití dopravní cesty. Ceny jsou určeny i pro dopravu výzisku do skladu, úložiště nebo na skládku včetně vyložení.Ceny jsou určeny pro dopravu silničními i kolejovými vozidly.V ceně jsou započteny i náklady na zpáteční cestu dopravního prostředku. Pokud bude realizována jednosměrná přeprava z bodu A do bodu B (např. pro společnost Cargo, a.s.), uvažuje se poloviční vzdálenost z celkově ujeté trasy. | G123: t | H123: 0.9 | J123: =ROUND(I123*H123,2) -> 0 | K123: Sborník UOŽI 01 2019 | N123: základní | P123: =O123*H123 -> 0 | Q123: 0 | R123: =Q123*H123 -> 0 | S123: 0 | T123: =S123*H123 -> 0 | AR123: 512 | AT123: K | AU123: 1 | AY123: ROZPOCET | BE123: =IF(N123="základní",J123,0) -> 0 | BF123: =IF(N123="snížená",J123,0) -> 0 | BG123: =IF(N123="zákl. přenesená",J123,0) -> 0 | BH123: =IF(N123="sníž. přenesená",J123,0) -> 0 | BI123: =IF(N123="nulová",J123,0) -> 0 | BJ123: 1 | BK123: =ROUND(I123*H123,2) -> 0 | BL123: 512 | BM123: 1748729639
D124: VV | F124: 0,900 "gumy na skládku" | H124: 0.9 | AT124: VV | AU124: 1 | AV124: 2 | AW124: True | AX124: 1 | AY124: ROZPOCET
C125: 2 | D125: K | E125: 9902100300 | F125: Doprava dodávek zhotovitele, dodávek objednatele nebo výzisku mechanizací přes 3,5 t sypanin do 30 km Poznámka: V cenách jsou započteny náklady přepravu materiálu ze skladů nebo skládek výrobce nebo dodavatele nebo z vlastních zásob objednatele na místo technologické manipulace včetně složení a poplatku za použití dopravní cesty. Ceny jsou určeny i pro dopravu výzisku do skladu, úložiště nebo na skládku včetně vyložení.Ceny jsou určeny pro dopravu silničními i kolejovými vozidly.V ceně jsou započteny i náklady na zpáteční cestu dopravního prostředku. Pokud bude realizována jednosměrná přeprava z bodu A do bodu B (např. pro společnost Cargo, a.s.), uvažuje se poloviční vzdálenost z celkově ujeté trasy. | G125: t | H125: 870 | J125: =ROUND(I125*H125,2) -> 0 | K125: Sborník UOŽI 01 2019 | N125: základní | P125: =O125*H125 -> 0 | Q125: 0 | R125: =Q125*H125 -> 0 | S125: 0 | T125: =S125*H125 -> 0 | AR125: 512 | AT125: K | AU125: 1 | AY125: ROZPOCET | BE125: =IF(N125="základní",J125,0) -> 0 | BF125: =IF(N125="snížená",J125,0) -> 0 | BG125: =IF(N125="zákl. přenesená",J125,0) -> 0 | BH125: =IF(N125="sníž. přenesená",J125,0) -> 0 | BI125: =IF(N125="nulová",J125,0) -> 0 | BJ125: 1 | BK125: =ROUND(I125*H125,2) -> 0 | BL125: 512 | BM125: 1387028379
D126: VV | F126: 220 "štěrk z ŠL na skládku" | H126: 220 | AT126: VV | AU126: 1 | AV126: 2 | AW126: True | AX126: 0 | AY126: ROZPOCET
D127: VV | F127: 650 "odvoz vytěženého materiálu na skládku" | H127: 650 | AT127: VV | AU127: 1 | AV127: 2 | AW127: True | AX127: 0 | AY127: ROZPOCET
D128: VV | F128: Součet | H128: 870 | AT128: VV | AU128: 1 | AV128: 4 | AW128: True | AX128: 1 | AY128: ROZPOCET
C129: 3 | D129: K | E129: 9902100400 | F129: Doprava dodávek zhotovitele, dodávek objednatele nebo výzisku mechanizací přes 3,5 t sypanin do 40 km Poznámka: V cenách jsou započteny náklady přepravu materiálu ze skladů nebo skládek výrobce nebo dodavatele nebo z vlastních zásob objednatele na místo technologické manipulace včetně složení a poplatku za použití dopravní cesty. Ceny jsou určeny i pro dopravu výzisku do skladu, úložiště nebo na skládku včetně vyložení.Ceny jsou určeny pro dopravu silničními i kolejovými vozidly.V ceně jsou započteny i náklady na zpáteční cestu dopravního prostředku. Pokud bude realizována jednosměrná přeprava z bodu A do bodu B (např. pro společnost Cargo, a.s.), uvažuje se poloviční vzdálenost z celkově ujeté trasy. | G129: t | H129: 138.915 | J129: =ROUND(I129*H129,2) -> 0 | K129: Sborník UOŽI 01 2019 | N129: základní | P129: =O129*H129 -> 0 | Q129: 0 | R129: =Q129*H129 -> 0 | S129: 0 | T129: =S129*H129 -> 0 | AR129: 512 | AT129: K | AU129: 1 | AY129: ROZPOCET | BE129: =IF(N129="základní",J129,0) -> 0 | BF129: =IF(N129="snížená",J129,0) -> 0 | BG129: =IF(N129="zákl. přenesená",J129,0) -> 0 | BH129: =IF(N129="sníž. přenesená",J129,0) -> 0 | BI129: =IF(N129="nulová",J129,0) -> 0 | BJ129: 1 | BK129: =ROUND(I129*H129,2) -> 0 | BL129: 512 | BM129: -179448497
D130: VV | F130: 60,725 "beton C 20/25" | H130: 60.725 | AT130: VV | AU130: 1 | AV130: 2 | AW130: True | AX130: 0 | AY130: ROZPOCET
D131: VV | F131: 78,190 "beton C 12/15" | H131: 78.19 | AT131: VV | AU131: 1 | AV131: 2 | AW131: True | AX131: 0 | AY131: ROZPOCET
D132: VV | F132: Součet | H132: 138.915 | AT132: VV | AU132: 1 | AV132: 4 | AW132: True | AX132: 1 | AY132: ROZPOCET
C133: 4 | D133: K | E133: 9902100700 | F133: Doprava dodávek zhotovitele, dodávek objednatele nebo výzisku mechanizací přes 3,5 t sypanin do 100 km Poznámka: V cenách jsou započteny náklady přepravu materiálu ze skladů nebo skládek výrobce nebo dodavatele nebo z vlastních zásob objednatele na místo technologické manipulace včetně složení a poplatku za použití dopravní cesty. Ceny jsou určeny i pro dopravu výzisku do skladu, úložiště nebo na skládku včetně vyložení.Ceny jsou určeny pro dopravu silničními i kolejovými vozidly.V ceně jsou započteny i náklady na zpáteční cestu dopravního prostředku. Pokud bude realizována jednosměrná přeprava z bodu A do bodu B (např. pro společnost Cargo, a.s.), uvažuje se poloviční vzdálenost z celkově ujeté trasy. | G133: t | H133: 1371.3 | J133: =ROUND(I133*H133,2) -> 0 | K133: Sborník UOŽI 01 2019 | N133: základní | P133: =O133*H133 -> 0 | Q133: 0 | R133: =Q133*H133 -> 0 | S133: 0 | T133: =S133*H133 -> 0 | AR133: 512 | AT133: K | AU133: 1 | AY133: ROZPOCET | BE133: =IF(N133="základní",J133,0) -> 0 | BF133: =IF(N133="snížená",J133,0) -> 0 | BG133: =IF(N133="zákl. přenesená",J133,0) -> 0 | BH133: =IF(N133="sníž. přenesená",J133,0) -> 0 | BI133: =IF(N133="nulová",J133,0) -> 0 | BJ133: 1 | BK133: =ROUND(I133*H133,2) -> 0 | BL133: 512 | BM133: -1894402444
D134: VV | F134: 300 "návoz lomového kamene 125/250"" | H134: 300 | AT134: VV | AU134: 1 | AV134: 2 | AW134: True | AX134: 0 | AY134: ROZPOCET
D135: VV | F135: 100 "návoz lomového kamene 90/125 - na zídky, skluzy a výusti" | H135: 100 | AT135: VV | AU135: 1 | AV135: 2 | AW135: True | AX135: 0 | AY135: ROZPOCET
D136: VV | F136: 350 "návoz lomového kamene 63/125 na zídky a výplň žeber" | H136: 350 | AT136: VV | AU136: 1 | AV136: 2 | AW136: True | AX136: 0 | AY136: ROZPOCET
D137: VV | F137: 88 "návoz štěrku 16/32 prop zához drenážních trubek" | H137: 88 | AT137: VV | AU137: 1 | AV137: 2 | AW137: True | AX137: 0 | AY137: ROZPOCET
D138: VV | F138: 320 "štěrk na opravu GPK" | H138: 320 | AT138: VV | AU138: 1 | AV138: 2 | AW138: True | AX138: 0 | AY138: ROZPOCET
D139: VV | F139: 200 "štěrk na třetí podbití" | H139: 200 | AT139: VV | AU139: 1 | AV139: 2 | AW139: True | AX139: 0 | AY139: ROZPOCET
D140: VV | F140: 12,3 "Návoz kompletů ŽS4" | H140: 12.3 | AT140: VV | AU140: 1 | AV140: 2 | AW140: True | AX140: 0 | AY140: ROZPOCET
D141: VV | F141: 0,9 "návoz gum pod kolejnice" | H141: 0.9 | AT141: VV | AU141: 1 | AV141: 2 | AW141: True | AX141: 0 | AY141: ROZPOCET
D142: VV | F142: 0,1 "návoz drenážních PVC trubek DN 200" | H142: 0.1 | AT142: VV | AU142: 1 | AV142: 2 | AW142: True | AX142: 0 | AY142: ROZPOCET
D143: VV | F143: Součet | H143: 1371.3 | AT143: VV | AU143: 1 | AV143: 4 | AW143: True | AX143: 1 | AY143: ROZPOCET
C144: 5 | D144: K | E144: 9902200300 | F144: Doprava dodávek zhotovitele, dodávek objednatele nebo výzisku mechanizací přes 3,5 t objemnějšího kusového materiálu do 30 km Poznámka: V cenách jsou započteny náklady přepravu materiálu ze skladů nebo skládek výrobce nebo dodavatele nebo z vlastních zásob objednatele na místo technologické manipulace včetně složení a poplatku za použití dopravní cesty. Ceny jsou určeny i pro dopravu výzisku do skladu, úložiště nebo na skládku včetně vyložení.Ceny jsou určeny pro dopravu silničními i kolejovými vozidly.V ceně jsou započteny i náklady na zpáteční cestu dopravního prostředku. Pokud bude realizována jednosměrná přeprava z bodu A do bodu B (např. pro společnost Cargo, a.s.), uvažuje se poloviční vzdálenost z celkově ujeté trasy. | G144: t | H144: 407 | J144: =ROUND(I144*H144,2) -> 0 | K144: Sborník UOŽI 01 2019 | N144: základní | P144: =O144*H144 -> 0 | Q144: 0 | R144: =Q144*H144 -> 0 | S144: 0 | T144: =S144*H144 -> 0 | AR144: 512 | AT144: K | AU144: 1 | AY144: ROZPOCET | BE144: =IF(N144="základní",J144,0) -> 0 | BF144: =IF(N144="snížená",J144,0) -> 0 | BG144: =IF(N144="zákl. přenesená",J144,0) -> 0 | BH144: =IF(N144="sníž. přenesená",J144,0) -> 0 | BI144: =IF(N144="nulová",J144,0) -> 0 | BJ144: 1 | BK144: =ROUND(I144*H144,2) -> 0 | BL144: 512 | BM144: -302872490
D145: VV | F145: 407 "odvoz strého odvodnění na skládku" | H145: 407 | AT145: VV | AU145: 1 | AV145: 2 | AW145: True | AX145: 1 | AY145: ROZPOCET
C146: 6 | D146: K | E146: 9902200700 | F146: Doprava dodávek zhotovitele, dodávek objednatele nebo výzisku mechanizací přes 3,5 t objemnějšího kusového materiálu do 100 km Poznámka: V cenách jsou započteny náklady přepravu materiálu ze skladů nebo skládek výrobce nebo dodavatele nebo z vlastních zásob objednatele na místo technologické manipulace včetně složení a poplatku za použití dopravní cesty. Ceny jsou určeny i pro dopravu výzisku do skladu, úložiště nebo na skládku včetně vyložení.Ceny jsou určeny pro dopravu silničními i kolejovými vozidly.V ceně jsou započteny i náklady na zpáteční cestu dopravního prostředku. Pokud bude realizována jednosměrná přeprava z bodu A do bodu B (např. pro společnost Cargo, a.s.), uvažuje se poloviční vzdálenost z celkově ujeté trasy. | G146: t | H146: 81.98 | J146: =ROUND(I146*H146,2) -> 0 | K146: Sborník UOŽI 01 2019 | N146: základní | P146: =O146*H146 -> 0 | Q146: 0 | R146: =Q146*H146 -> 0 | S146: 0 | T146: =S146*H146 -> 0 | AR146: 512 | AT146: K | AU146: 1 | AY146: ROZPOCET | BE146: =IF(N146="základní",J146,0) -> 0 | BF146: =IF(N146="snížená",J146,0) -> 0 | BG146: =IF(N146="zákl. přenesená",J146,0) -> 0 | BH146: =IF(N146="sníž. přenesená",J146,0) -> 0 | BI146: =IF(N146="nulová",J146,0) -> 0 | BJ146: 1 | BK146: =ROUND(I146*H146,2) -> 0 | BL146: 512 | BM146: 268831491
D147: VV | F147: 48,875 "přeprava TZZ 3" | H147: 48.875 | AT147: VV | AU147: 1 | AV147: 2 | AW147: True | AX147: 0 | AY147: ROZPOCET
D148: VV | F148: 0,885 "přeprava ocelových perforovaných trubek" | H148: 0.885 | AT148: VV | AU148: 1 | AV148: 2 | AW148: True | AX148: 0 | AY148: ROZPOCET
D149: VV | F149: 32,220 "Přeprava J-žlab velký" | H149: 32.22 | AT149: VV | AU149: 1 | AV149: 2 | AW149: True | AX149: 0 | AY149: ROZPOCET
D150: VV | F150: Součet | H150: 81.98 | AT150: VV | AU150: 1 | AV150: 4 | AW150: True | AX150: 1 | AY150: ROZPOCET
C151: 7 | D151: K | E151: 9903100100 | F151: Přeprava mechanizace na místo prováděných prací o hmotnosti do 12 t přes 50 do 100 km Poznámka: Ceny jsou určeny pro dopravu mechanizmů na místo prováděných prací po silnici i po kolejích.V ceně jsou započteny i náklady na zpáteční cestu dopravního prostředku. Měrnou jednotkou je kus přepravovaného stroje. | G151: kus | H151: 4 | J151: =ROUND(I151*H151,2) -> 0 | K151: Sborník UOŽI 01 2019 | N151: základní | P151: =O151*H151 -> 0 | Q151: 0 | R151: =Q151*H151 -> 0 | S151: 0 | T151: =S151*H151 -> 0 | AR151: 512 | AT151: K | AU151: 1 | AY151: ROZPOCET | BE151: =IF(N151="základní",J151,0) -> 0 | BF151: =IF(N151="snížená",J151,0) -> 0 | BG151: =IF(N151="zákl. přenesená",J151,0) -> 0 | BH151: =IF(N151="sníž. přenesená",J151,0) -> 0 | BI151: =IF(N151="nulová",J151,0) -> 0 | BJ151: 1 | BK151: =ROUND(I151*H151,2) -> 0 | BL151: 512 | BM151: -946987566
D152: VV | F152: 3 "oststní drobná mechanizace" | H152: 3 | AT152: VV | AU152: 1 | AV152: 2 | AW152: True | AX152: 0 | AY152: ROZPOCET
D153: VV | F153: 1 "vrtná souprava" | H153: 1 | AT153: VV | AU153: 1 | AV153: 2 | AW153: True | AX153: 0 | AY153: ROZPOCET
D154: VV | F154: Součet | H154: 4 | AT154: VV | AU154: 1 | AV154: 4 | AW154: True | AX154: 1 | AY154: ROZPOCET
C155: 8 | D155: K | E155: 9903200100 | F155: Přeprava mechanizace na místo prováděných prací o hmotnosti přes 12 t přes 50 do 100 km Poznámka: Ceny jsou určeny pro dopravu mechanizmů na místo prováděných prací po silnici i po kolejích.V ceně jsou započteny i náklady na zpáteční cestu dopravního prostředku. Měrnou jednotkou je kus přepravovaného stroje. | G155: kus | H155: 6 | J155: =ROUND(I155*H155,2) -> 0 | K155: Sborník UOŽI 01 2019 | N155: základní | P155: =O155*H155 -> 0 | Q155: 0 | R155: =Q155*H155 -> 0 | S155: 0 | T155: =S155*H155 -> 0 | AR155: 512 | AT155: K | AU155: 1 | AY155: ROZPOCET | BE155: =IF(N155="základní",J155,0) -> 0 | BF155: =IF(N155="snížená",J155,0) -> 0 | BG155: =IF(N155="zákl. přenesená",J155,0) -> 0 | BH155: =IF(N155="sníž. přenesená",J155,0) -> 0 | BI155: =IF(N155="nulová",J155,0) -> 0 | BJ155: 1 | BK155: =ROUND(I155*H155,2) -> 0 | BL155: 512 | BM155: -494350891
D156: VV | F156: 6 "bagry, nákl. auta, atd" | H156: 6 | AT156: VV | AU156: 1 | AV156: 2 | AW156: True | AX156: 1 | AY156: ROZPOCET
C157: 9 | D157: K | E157: 9903200200 | F157: Přeprava mechanizace na místo prováděných prací o hmotnosti přes 12 t do 200 km Poznámka: Ceny jsou určeny pro dopravu mechanizmů na místo prováděných prací po silnici i po kolejích.V ceně jsou započteny i náklady na zpáteční cestu dopravního prostředku. Měrnou jednotkou je kus přepravovaného stroje. | G157: kus | H157: 6 | J157: =ROUND(I157*H157,2) -> 0 | K157: Sborník UOŽI 01 2019 | N157: základní | P157: =O157*H157 -> 0 | Q157: 0 | R157: =Q157*H157 -> 0 | S157: 0 | T157: =S157*H157 -> 0 | AR157: 512 | AT157: K | AU157: 1 | AY157: ROZPOCET | BE157: =IF(N157="základní",J157,0) -> 0 | BF157: =IF(N157="snížená",J157,0) -> 0 | BG157: =IF(N157="zákl. přenesená",J157,0) -> 0 | BH157: =IF(N157="sníž. přenesená",J157,0) -> 0 | BI157: =IF(N157="nulová",J157,0) -> 0 | BJ157: 1 | BK157: =ROUND(I157*H157,2) -> 0 | BL157: 512 | BM157: 285246788
D158: VV | F158: 3 "ASP, PUŠL a loko." | H158: 3 | AT158: VV | AU158: 1 | AV158: 2 | AW158: True | AX158: 0 | AY158: ROZPOCET
D159: VV | F159: 3 "ASP, PUŠL a loko. pro třetí podbití" | H159: 3 | AT159: VV | AU159: 1 | AV159: 2 | AW159: True | AX159: 0 | AY159: ROZPOCET
D160: VV | F160: Součet | H160: 6 | AT160: VV | AU160: 1 | AV160: 4 | AW160: True | AX160: 1 | AY160: ROZPOCET
C161: 10 | D161: K | E161: 9909000100 | F161: Poplatek za uložení suti nebo hmot na oficiální skládku Poznámka: V cenách jsou započteny náklady na uložení stavebního odpadu na oficiální skládku.Je třeba zohlednit regionální rozdíly v cenách poplatků za uložení suti a odpadů. Tyto se mohou výrazně lišit s ohledem nejen na region, ale také na množství a druh ukládaného odpadu. | G161: t | H161: 870 | J161: =ROUND(I161*H161,2) -> 0 | K161: Sborník UOŽI 01 2019 | N161: základní | P161: =O161*H161 -> 0 | Q161: 0 | R161: =Q161*H161 -> 0 | S161: 0 | T161: =S161*H161 -> 0 | AR161: 512 | AT161: K | AU161: 1 | AY161: ROZPOCET | BE161: =IF(N161="základní",J161,0) -> 0 | BF161: =IF(N161="snížená",J161,0) -> 0 | BG161: =IF(N161="zákl. přenesená",J161,0) -> 0 | BH161: =IF(N161="sníž. přenesená",J161,0) -> 0 | BI161: =IF(N161="nulová",J161,0) -> 0 | BJ161: 1 | BK161: =ROUND(I161*H161,2) -> 0 | BL161: 512 | BM161: 1576336115
D162: VV | F162: 220 "šterk z ŠL" | H162: 220 | AT162: VV | AU162: 1 | AV162: 2 | AW162: True | AX162: 0 | AY162: ROZPOCET
D163: VV | F163: 650 "vytěžený materiál z težebních prací" | H163: 650 | AT163: VV | AU163: 1 | AV163: 2 | AW163: True | AX163: 0 | AY163: ROZPOCET
D164: VV | F164: Součet | H164: 870 | AT164: VV | AU164: 1 | AV164: 4 | AW164: True | AX164: 1 | AY164: ROZPOCET
...

Sheet 03.2 - VRN
L2: >> skryté sloupce << | AT2: {e92f389e-833a-49f9-8efe-378042164b8b}
AT3: 2
D4: KRYCÍ LIST SOUPISU PRACÍ | M4: v --- níže se nacházejí doplnkové a pomocné údaje k sestavám --- v | AT4: False
D6: Stavba:
E7: ='Rekapitulace stavby'!K6 -> Oprava trati v úseku Velká nad Veličkou - Lipov - oprava stávajícího pod povrchového a povrchového odvodnění v km 54,420
D8: Objekt:
E9: 03 - Ostatní
D10: Soupis:
E11: 03.2 - VRN
D13: KSO: | I13: CC-CZ:
D14: Místo: | F14: TO Veselí nad Moravou | I14: Datum: | J14: ='Rekapitulace stavby'!AN8 -> 28. 6. 2019
D16: Zadavatel: | I16: IČ: | J16: =IF('Rekapitulace stavby'!AN10="","",'Rekapitulace stavby'!AN10)
E17: =IF('Rekapitulace stavby'!E11="","",'Rekapitulace stavby'!E11) | I17: DIČ: | J17: =IF('Rekapitulace stavby'!AN11="","",'Rekapitulace stavby'!AN11)
D19: Uchazeč: | I19: IČ: | J19: ='Rekapitulace stavby'!AN13 -> Vyplň údaj
E20: ='Rekapitulace stavby'!E14 -> Vyplň údaj | I20: DIČ: | J20: ='Rekapitulace stavby'!AN14 -> Vyplň údaj
D22: Projektant: | I22: IČ: | J22: =IF('Rekapitulace stavby'!AN16="","",'Rekapitulace stavby'!AN16)
E23: =IF('Rekapitulace stavby'!E17="","",'Rekapitulace stavby'!E17) | I23: DIČ: | J23: =IF('Rekapitulace stavby'!AN17="","",'Rekapitulace stavby'!AN17)
D25: Zpracovatel: | I25: IČ: | J25: =IF('Rekapitulace stavby'!AN19="","",'Rekapitulace stavby'!AN19)
E26: =IF('Rekapitulace stavby'!E20="","",'Rekapitulace stavby'!E20) | I26: DIČ: | J26: =IF('Rekapitulace stavby'!AN20="","",'Rekapitulace stavby'!AN20)
D28: Poznámka:
D32: Cena bez DPH | J32: =ROUND(J121, 2) -> 0
F34: Základ daně | I34: Sazba daně | J34: Výše daně
D35: DPH | E35: základní | F35: =ROUND((SUM(BE121:BE132)), 2) -> 0 | I35: 0.21 | J35: =ROUND(((SUM(BE121:BE132))*I35), 2) -> 0
E36: snížená | F36: =ROUND((SUM(BF121:BF132)), 2) -> 0 | I36: 0.15 | J36: =ROUND(((SUM(BF121:BF132))*I36), 2) -> 0
E37: zákl. přenesená | F37: =ROUND((SUM(BG121:BG132)), 2) -> 0 | I37: 0.21 | J37: =0 -> 0
E38: sníž. přenesená | F38: =ROUND((SUM(BH121:BH132)), 2) -> 0 | I38: 0.15 | J38: =0 -> 0
E39: nulová | F39: =ROUND((SUM(BI121:BI132)), 2) -> 0 | I39: 0 | J39: =0 -> 0
D41: Cena s DPH | G41: v | H41: CZK | J41: =SUM(J32:J39) -> 0
D50: Projektant | G50: Zpracovatel
D61: Datum a podpis: | F61: Razítko | G61: Datum a podpis: | J61: Razítko
D65: Objednavatel | G65: Uchazeč
D76: Datum a podpis: | F76: Razítko | G76: Datum a podpis: | J76: Razítko
C82: REKAPITULACE ČLENĚNÍ SOUPISU PRACÍ
C84: Stavba:
E85: =E7 -> Oprava trati v úseku Velká nad Veličkou - Lipov - oprava stávajícího pod povrchového a povrchového odvodnění v km 54,420
C86: Objekt:
E87: 03 - Ostatní
C88: Soupis:
E89: =E11 -> 03.2 - VRN
C91: Místo: | F91: =F14 -> TO Veselí nad Moravou | I91: Datum: | J91: =IF(J14="","",J14) -> 28. 6. 2019
C93: Zadavatel: | F93: =E17 | I93: Projektant: | J93: =E23
C94: Uchazeč: | F94: =IF(E20="","",E20) -> Vyplň údaj | I94: Zpracovatel: | J94: =E26
C96: Kód dílu - Popis | J96: Cena celkem [CZK]
C98: Náklady ze soupisu prací | J98: =J121 -> 0 | AU98: -1
D99: VRN - Vedlejší rozpočtové náklady | J99: =J122 -> 0
C106: SOUPIS PRACÍ
C108: Stavba:
E109: =E7 -> Oprava trati v úseku Velká nad Veličkou - Lipov - oprava stávajícího pod povrchového a povrchového odvodnění v km 54,420
C110: Objekt:
E111: 03 - Ostatní
C112: Soupis:
E113: =E11 -> 03.2 - VRN
C115: Místo: | F115: =F14 -> TO Veselí nad Moravou | I115: Datum: | J115: =IF(J14="","",J14) -> 28. 6. 2019
C117: Zadavatel: | F117: =E17 | I117: Projektant: | J117: =E23
C118: Uchazeč: | F118: =IF(E20="","",E20) -> Vyplň údaj | I118: Zpracovatel: | J118: =E26
C120: PČ | D120: Typ | E120: Kód | F120: Popis | G120: MJ | H120: Množství | I120: J.cena [CZK] | J120: Cena celkem [CZK] | K120: Cenová soustava | N120: DPH | O120: J. Nh [h] | P120: Nh celkem [h] | Q120: J. hmotnost [t] | R120: Hmotnost celkem [t] | S120: J. suť [t] | T120: Suť Celkem [t]
C121: Náklady soupisu celkem | J121: =BK121 -> 0 | P121: =P122 -> 0 | R121: =R122 -> 0 | T121: =T122 -> 0 | AT121: D | AU121: -1 | BK121: =BK122 -> 0
D122: D | E122: VRN | F122: Vedlejší rozpočtové náklady | J122: =BK122 -> 0 | P122: =SUM(P123:P132) -> 0 | R122: =SUM(R123:R132) -> 0 | T122: =SUM(T123:T132) -> 0 | AR122: 5 | AT122: D | AU122: 0 | AY122: ROZPOCET | BK122: =SUM(BK123:BK132) -> 0
C123: 1 | D123: K | E123: 022101001 | F123: Geodetické práce Geodetické práce před opravou | G123: % | H123: 1 | J123: =ROUND(I123*H123,2) -> 0 | K123: Sborník UOŽI 01 2019 | N123: základní | P123: =O123*H123 -> 0 | Q123: 0 | R123: =Q123*H123 -> 0 | S123: 0 | T123: =S123*H123 -> 0 | AR123: 4 | AT123: K | AU123: 1 | AY123: ROZPOCET | BE123: =IF(N123="základní",J123,0) -> 0 | BF123: =IF(N123="snížená",J123,0) -> 0 | BG123: =IF(N123="zákl. přenesená",J123,0) -> 0 | BH123: =IF(N123="sníž. přenesená",J123,0) -> 0 | BI123: =IF(N123="nulová",J123,0) -> 0 | BJ123: 1 | BK123: =ROUND(I123*H123,2) -> 0 | BL123: 4 | BM123: 165801355
C124: 2 | D124: K | E124: 022101011 | F124: Geodetické práce Geodetické práce v průběhu opravy | G124: % | H124: 1 | J124: =ROUND(I124*H124,2) -> 0 | K124: Sborník UOŽI 01 2019 | N124: základní | P124: =O124*H124 -> 0 | Q124: 0 | R124: =Q124*H124 -> 0 | S124: 0 | T124: =S124*H124 -> 0 | AR124: 4 | AT124: K | AU124: 1 | AY124: ROZPOCET | BE124: =IF(N124="základní",J124,0) -> 0 | BF124: =IF(N124="snížená",J124,0) -> 0 | BG124: =IF(N124="zákl. přenesená",J124,0) -> 0 | BH124: =IF(N124="sníž. přenesená",J124,0) -> 0 | BI124: =IF(N124="nulová",J124,0) -> 0 | BJ124: 1 | BK124: =ROUND(I124*H124,2) -> 0 | BL124: 4 | BM124: -1079211349
C125: 3 | D125: K | E125: 022101021 | F125: Geodetické práce Geodetické práce po ukončení opravy | G125: % | H125: 1 | J125: =ROUND(I125*H125,2) -> 0 | K125: Sborník UOŽI 01 2019 | N125: základní | P125: =O125*H125 -> 0 | Q125: 0 | R125: =Q125*H125 -> 0 | S125: 0 | T125: =S125*H125 -> 0 | AR125: 4 | AT125: K | AU125: 1 | AY125: ROZPOCET | BE125: =IF(N125="základní",J125,0) -> 0 | BF125: =IF(N125="snížená",J125,0) -> 0 | BG125: =IF(N125="zákl. přenesená",J125,0) -> 0 | BH125: =IF(N125="sníž. přenesená",J125,0) -> 0 | BI125: =IF(N125="nulová",J125,0) -> 0 | BJ125: 1 | BK125: =ROUND(I125*H125,2) -> 0 | BL125: 4 | BM125: -52581446
C126: 4 | D126: K | E126: 022121001 | F126: Geodetické práce Diagnostika technické infrastruktury Vytýčení trasy inženýrských sítí - V sazbě jsou započteny náklady na vyhledání trasy detektorem, zaměření a zobrazení trasy a předání výstupu zaměření. V sazbě nejsou obsaženy náklady na vytýčení sítí ve správě provozovatele. | G126: % | H126: 2 | J126: =ROUND(I126*H126,2) -> 0 | K126: Sborník UOŽI 01 2019 | N126: základní | P126: =O126*H126 -> 0 | Q126: 0 | R126: =Q126*H126 -> 0 | S126: 0 | T126: =S126*H126 -> 0 | AR126: 4 | AT126: K | AU126: 1 | AY126: ROZPOCET | BE126: =IF(N126="základní",J126,0) -> 0 | BF126: =IF(N126="snížená",J126,0) -> 0 | BG126: =IF(N126="zákl. přenesená",J126,0) -> 0 | BH126: =IF(N126="sníž. přenesená",J126,0) -> 0 | BI126: =IF(N126="nulová",J126,0) -> 0 | BJ126: 1 | BK126: =ROUND(I126*H126,2) -> 0 | BL126: 4 | BM126: -1478879288
C127: 5 | D127: K | E127: 023101031 | F127: Projektové práce Projektové práce v rozsahu ZRN (vyjma dále jmenované práce) přes 5 do 20 mil. Kč | G127: % | H127: 5.5 | J127: =ROUND(I127*H127,2) -> 0 | K127: Sborník UOŽI 01 2019 | N127: základní | P127: =O127*H127 -> 0 | Q127: 0 | R127: =Q127*H127 -> 0 | S127: 0 | T127: =S127*H127 -> 0 | AR127: 4 | AT127: K | AU127: 1 | AY127: ROZPOCET | BE127: =IF(N127="základní",J127,0) -> 0 | BF127: =IF(N127="snížená",J127,0) -> 0 | BG127: =IF(N127="zákl. přenesená",J127,0) -> 0 | BH127: =IF(N127="sníž. přenesená",J127,0) -> 0 | BI127: =IF(N127="nulová",J127,0) -> 0 | BJ127: 1 | BK127: =ROUND(I127*H127,2) -> 0 | BL127: 4 | BM127: -1414136425
C128: 6 | D128: K | E128: 023131001 | F128: Projektové práce Dokumentace skutečného provedení železničního svršku a spodku - V sazbě jsou obsaženy náklady na zaměření a vyhotovení dokumentace skutečného provedení žel. svršku a spodku dle vyhlášky č. 499/2006 Sb., a vyhlášky č. 31/1995 Sb. včetně zpracování dat v digitální podobě v otevřené formě a její předání objednateli | G128: % | H128: 10 | J128: =ROUND(I128*H128,2) -> 0 | K128: Sborník UOŽI 01 2019 | N128: základní | P128: =O128*H128 -> 0 | Q128: 0 | R128: =Q128*H128 -> 0 | S128: 0 | T128: =S128*H128 -> 0 | AR128: 4 | AT128: K | AU128: 1 | AY128: ROZPOCET | BE128: =IF(N128="základní",J128,0) -> 0 | BF128: =IF(N128="snížená",J128,0) -> 0 | BG128: =IF(N128="zákl. přenesená",J128,0) -> 0 | BH128: =IF(N128="sníž. přenesená",J128,0) -> 0 | BI128: =IF(N128="nulová",J128,0) -> 0 | BJ128: 1 | BK128: =ROUND(I128*H128,2) -> 0 | BL128: 4 | BM128: 15212800
C129: 7 | D129: K | E129: 024101001 | F129: Inženýrská činnost střežení pracovní skupiny zaměstnanců | G129: % | H129: 6 | J129: =ROUND(I129*H129,2) -> 0 | K129: Sborník UOŽI 01 2019 | N129: základní | P129: =O129*H129 -> 0 | Q129: 0 | R129: =Q129*H129 -> 0 | S129: 0 | T129: =S129*H129 -> 0 | AR129: 4 | AT129: K | AU129: 1 | AY129: ROZPOCET | BE129: =IF(N129="základní",J129,0) -> 0 | BF129: =IF(N129="snížená",J129,0) -> 0 | BG129: =IF(N129="zákl. přenesená",J129,0) -> 0 | BH129: =IF(N129="sníž. přenesená",J129,0) -> 0 | BI129: =IF(N129="nulová",J129,0) -> 0 | BJ129: 1 | BK129: =ROUND(I129*H129,2) -> 0 | BL129: 4 | BM129: 997068716
C130: 8 | D130: K | E130: 024101301 | F130: Inženýrská činnost posudky (např. statické aj.) a dozory | G130: % | H130: 3 | J130: =ROUND(I130*H130,2) -> 0 | K130: Sborník UOŽI 01 2019 | N130: základní | P130: =O130*H130 -> 0 | Q130: 0 | R130: =Q130*H130 -> 0 | S130: 0 | T130: =S130*H130 -> 0 | AR130: 4 | AT130: K | AU130: 1 | AY130: ROZPOCET | BE130: =IF(N130="základní",J130,0) -> 0 | BF130: =IF(N130="snížená",J130,0) -> 0 | BG130: =IF(N130="zákl. přenesená",J130,0) -> 0 | BH130: =IF(N130="sníž. přenesená",J130,0) -> 0 | BI130: =IF(N130="nulová",J130,0) -> 0 | BJ130: 1 | BK130: =ROUND(I130*H130,2) -> 0 | BL130: 4 | BM130: -237796268
C131: 9 | D131: K | E131: 031101031 | F131: Zařízení a vybavení staveniště vyjma dále jmenované práce včetně opatření na ochranu sousedních pozemků, včetně opatření na ochranu sousedních pozemků, informační tabule, dopravního značení na staveništi aj. při velikosti nákladů přes 5 do 20 mil. Kč | G131: % | H131: 2.5 | J131: =ROUND(I131*H131,2) -> 0 | K131: Sborník UOŽI 01 2019 | N131: základní | P131: =O131*H131 -> 0 | Q131: 0 | R131: =Q131*H131 -> 0 | S131: 0 | T131: =S131*H131 -> 0 | AR131: 4 | AT131: K | AU131: 1 | AY131: ROZPOCET | BE131: =IF(N131="základní",J131,0) -> 0 | BF131: =IF(N131="snížená",J131,0) -> 0 | BG131: =IF(N131="zákl. přenesená",J131,0) -> 0 | BH131: =IF(N131="sníž. přenesená",J131,0) -> 0 | BI131: =IF(N131="nulová",J131,0) -> 0 | BJ131: 1 | BK131: =ROUND(I131*H131,2) -> 0 | BL131: 4 | BM131: -1323443092
C132: 10 | D132: K | E132: 033131001 | F132: Provozní vlivy Organizační zajištění prací při zřizování a udržování BK kolejí a výhybek - Organizační zajištění prací při zřizování a udržování bezstykové koleje podle př. S3/2, zejména technologická příprava pořízení schématu a projednání postupu, kontrola připravenosti a řízení postupu prací, předání prací a dokladů objednateli. | G132: m | H132: 300 | J132: =ROUND(I132*H132,2) -> 0 | K132: Sborník UOŽI 01 2019 | N132: základní | P132: =O132*H132 -> 0 | Q132: 0 | R132: =Q132*H132 -> 0 | S132: 0 | T132: =S132*H132 -> 0 | AR132: 4 | AT132: K | AU132: 1 | AY132: ROZPOCET | BE132: =IF(N132="základní",J132,0) -> 0 | BF132: =IF(N132="snížená",J132,0) -> 0 | BG132: =IF(N132="zákl. přenesená",J132,0) -> 0 | BH132: =IF(N132="sníž. přenesená",J132,0) -> 0 | BI132: =IF(N132="nulová",J132,0) -> 0 | BJ132: 1 | BK132: =ROUND(I132*H132,2) -> 0 | BL132: 4 | BM132: -267335548
