Workbook

Sheet Rekapitulace stavby
A1: Export Komplet | BA1: 2.0 | BT1: False | BU1: False | BV1: {a15ab023-b16c-44dd-b54f-3e104b28ab71}
AR2: >> skryté sloupce << | BS2: 0,01 | BT2: 21
BS3: 0,01 | BT3: 15
D4: REKAPITULACE STAVBY | AS4: v --- níže se nacházejí doplnkové a pomocné údaje k sestavám --- v | BS4: 0,001
D5: Kód: | BS5: 0,01
D6: Stavba: | K6: Oprava propustků v km 24,666, 25,142, 25,589 a 25,786 na trati Vsetín - Velké Karlovice | BS6: 0,01
D7: KSO: | AK7: CC-CZ: | BS7: 0,01
D8: Místo: | AK8: Datum: | BS8: 0,01
BS9: 0,01
D10: Zadavatel: | AK10: IČ: | BS10: 0,01
AK11: DIČ: | BS11: 0,01
BS12: 0,01
D13: Zhotovitel: | AK13: IČ: | BS13: 0,01
AK14: DIČ: | BS14: 0,01
BS15: False
D16: Projektant: | AK16: IČ: | BS16: False
AK17: DIČ: | BS17: True
BS18: 0,01
D19: Zpracovatel: | AK19: IČ: | BS19: 0,01
AK20: DIČ: | BS20: True
D22: Poznámka:
D26: Cena bez DPH | AK26: =ROUND(AG94,2) -> 0
L28: Sazba daně | W28: Základ daně | AK28: Výše daně
D29: DPH | F29: základní | L29: 0.21 | W29: =ROUND(AZ94, 2) -> 0 | AK29: =ROUND(AV94, 2) -> 0
F30: snížená | L30: 0.15 | W30: =ROUND(BA94, 2) -> 0 | AK30: =ROUND(AW94, 2) -> 0
F31: zákl. přenesená | L31: 0.21 | W31: =ROUND(BB94, 2) -> 0 | AK31: 0
F32: sníž. přenesená | L32: 0.15 | W32: =ROUND(BC94, 2) -> 0 | AK32: 0
F33: nulová | L33: 0 | W33: =ROUND(BD94, 2) -> 0 | AK33: 0
D35: Cena s DPH | T35: v | X35: CZK | AK35: =SUM(AK26:AK33) -> 0
D49: Projektant | AH49: Zpracovatel
D60: Datum a podpis: | V60: Razítko | AH60: Datum a podpis: | AM60: Razítko
D64: Objednavatel | AH64: Zhotovitel
D75: Datum a podpis: | V75: Razítko | AH75: Datum a podpis: | AM75: Razítko
C82: REKAPITULACE OBJEKTŮ STAVBY A SOUPISŮ PRACÍ
C84: Kód:
C85: Stavba: | L85: =K6 -> Oprava propustků v km 24,666, 25,142, 25,589 a 25,786 na trati Vsetín - Velké Karlovice
C87: Místo: | L87: =IF(K8="","",K8) | AI87: Datum: | AM87: =IF(AN8= "","",AN8)
C89: Zadavatel: | L89: =IF(E11= "","",E11) | AI89: Projektant: | AM89: =IF(E17="","",E17) | AS89: Informatívní údaje z listů zakázek
C90: Zhotovitel: | L90: =IF(E14="","",E14) | AI90: Zpracovatel: | AM90: =IF(E20="","",E20)
C92: Kód | I92: Popis | AG92: Cena bez DPH [CZK] | AN92: Cena s DPH [CZK] | AQ92: Typ | AS92: z toho Ostat._x000D_ náklady [CZK] | AT92: DPH [CZK] | AU92: Normohodiny [h] | AV92: DPH základní [CZK] | AW92: DPH snížená [CZK] | AX92: DPH základní přenesená_x000D_ [CZK] | AY92: DPH snížená přenesená_x000D_ [CZK] | AZ92: Základna_x000D_ DPH základní | BA92: Základna_x000D_ DPH snížená | BB92: Základna_x000D_ DPH zákl. přenesená | BC92: Základna_x000D_ DPH sníž. přenesená | BD92: Základna_x000D_ DPH nulová
...

Sheet SO 01.1 - Oprava propustk...
L2: >> skryté sloupce << | AT2: {14bf07a1-a5a2-421e-a36a-5bf8a29f42d6}
AT3: 2
D4: KRYCÍ LIST SOUPISU PRACÍ | M4: v --- níže se nacházejí doplnkové a pomocné údaje k sestavám --- v | AT4: False
D6: Stavba:
E7: ='Rekapitulace stavby'!K6 -> Oprava propustků v km 24,666, 25,142, 25,589 a 25,786 na trati Vsetín - Velké Karlovice
D8: Objekt:
E9: SO 01 - Propustek v km 24,666
D10: Soupis:
E11: SO 01.1 - Oprava propustku - km 24,666
D13: KSO: | I13: CC-CZ:
D14: Místo: | I14: Datum: | J14: ='Rekapitulace stavby'!AN8 -> 0
D16: Zadavatel: | I16: IČ:
I17: DIČ:
D19: Zhotovitel: | I19: IČ: | J19: ='Rekapitulace stavby'!AN13
E20: ='Rekapitulace stavby'!E14 | I20: DIČ: | J20: ='Rekapitulace stavby'!AN14
D22: Projektant: | I22: IČ:
I23: DIČ:
D25: Zpracovatel: | I25: IČ:
I26: DIČ:
D28: Poznámka:
D32: Cena bez DPH | J32: =ROUND(J135, 2) -> 0
F34: Základ daně | I34: Sazba daně | J34: Výše daně
D35: DPH | E35: základní | F35: =ROUND((SUM(BE135:BE212)), 2) -> 0 | I35: 0.21 | J35: =ROUND(((SUM(BE135:BE212))*I35), 2) -> 0
E36: snížená | F36: =ROUND((SUM(BF135:BF212)), 2) -> 0 | I36: 0.15 | J36: =ROUND(((SUM(BF135:BF212))*I36), 2) -> 0
E37: zákl. přenesená | F37: =ROUND((SUM(BG135:BG212)), 2) -> 0 | I37: 0.21 | J37: =0 -> 0
E38: sníž. přenesená | F38: =ROUND((SUM(BH135:BH212)), 2) -> 0 | I38: 0.15 | J38: =0 -> 0
E39: nulová | F39: =ROUND((SUM(BI135:BI212)), 2) -> 0 | I39: 0 | J39: =0 -> 0
D41: Cena s DPH | G41: v | H41: CZK | J41: =SUM(J32:J39) -> 0
D50: Projektant | G50: Zpracovatel
D61: Datum a podpis: | F61: Razítko | G61: Datum a podpis: | J61: Razítko
D65: Objednavatel | G65: Zhotovitel
D76: Datum a podpis: | F76: Razítko | G76: Datum a podpis: | J76: Razítko
C82: REKAPITULACE ČLENĚNÍ SOUPISU PRACÍ
C84: Stavba:
E85: =E7 -> Oprava propustků v km 24,666, 25,142, 25,589 a 25,786 na trati Vsetín - Velké Karlovice
C86: Objekt:
E87: SO 01 - Propustek v km 24,666
C88: Soupis:
E89: =E11 -> SO 01.1 - Oprava propustku - km 24,666
C91: Místo: | F91: =F14 | I91: Datum: | J91: =IF(J14="","",J14) -> 0
...

Sheet SO 01.2 - Železniční svrš...
L2: >> skryté sloupce << | AT2: {109da158-d775-439d-b079-9c1b36a01475}
AT3: 2
D4: KRYCÍ LIST SOUPISU PRACÍ | M4: v --- níže se nacházejí doplnkové a pomocné údaje k sestavám --- v | AT4: False
D6: Stavba:
E7: ='Rekapitulace stavby'!K6 -> Oprava propustků v km 24,666, 25,142, 25,589 a 25,786 na trati Vsetín - Velké Karlovice
D8: Objekt:
E9: SO 01 - Propustek v km 24,666
D10: Soupis:
E11: SO 01.2 - Železniční svršek - km 24,666
D13: KSO: | I13: CC-CZ:
D14: Místo: | I14: Datum: | J14: ='Rekapitulace stavby'!AN8 -> 0
D16: Zadavatel: | I16: IČ:
I17: DIČ:
D19: Zhotovitel: | I19: IČ: | J19: ='Rekapitulace stavby'!AN13
E20: ='Rekapitulace stavby'!E14 | I20: DIČ: | J20: ='Rekapitulace stavby'!AN14
D22: Projektant: | I22: IČ:
I23: DIČ:
D25: Zpracovatel: | I25: IČ:
I26: DIČ:
D28: Poznámka:
D32: Cena bez DPH | J32: =ROUND(J122, 2) -> 0
F34: Základ daně | I34: Sazba daně | J34: Výše daně
D35: DPH | E35: základní | F35: =ROUND((SUM(BE122:BE148)), 2) -> 0 | I35: 0.21 | J35: =ROUND(((SUM(BE122:BE148))*I35), 2) -> 0
E36: snížená | F36: =ROUND((SUM(BF122:BF148)), 2) -> 0 | I36: 0.15 | J36: =ROUND(((SUM(BF122:BF148))*I36), 2) -> 0
E37: zákl. přenesená | F37: =ROUND((SUM(BG122:BG148)), 2) -> 0 | I37: 0.21 | J37: =0 -> 0
E38: sníž. přenesená | F38: =ROUND((SUM(BH122:BH148)), 2) -> 0 | I38: 0.15 | J38: =0 -> 0
E39: nulová | F39: =ROUND((SUM(BI122:BI148)), 2) -> 0 | I39: 0 | J39: =0 -> 0
D41: Cena s DPH | G41: v | H41: CZK | J41: =SUM(J32:J39) -> 0
D50: Projektant | G50: Zpracovatel
D61: Datum a podpis: | F61: Razítko | G61: Datum a podpis: | J61: Razítko
D65: Objednavatel | G65: Zhotovitel
D76: Datum a podpis: | F76: Razítko | G76: Datum a podpis: | J76: Razítko
C82: REKAPITULACE ČLENĚNÍ SOUPISU PRACÍ
C84: Stavba:
E85: =E7 -> Oprava propustků v km 24,666, 25,142, 25,589 a 25,786 na trati Vsetín - Velké Karlovice
C86: Objekt:
E87: SO 01 - Propustek v km 24,666
C88: Soupis:
E89: =E11 -> SO 01.2 - Železniční svršek - km 24,666
C91: Místo: | F91: =F14 | I91: Datum: | J91: =IF(J14="","",J14) -> 0
...

Sheet SO 02.1 - Oprava propustk...
L2: >> skryté sloupce << | AT2: {86437e26-d5f0-40b8-82d4-df29692f269f}
AT3: 2
D4: KRYCÍ LIST SOUPISU PRACÍ | M4: v --- níže se nacházejí doplnkové a pomocné údaje k sestavám --- v | AT4: False
D6: Stavba:
E7: ='Rekapitulace stavby'!K6 -> Oprava propustků v km 24,666, 25,142, 25,589 a 25,786 na trati Vsetín - Velké Karlovice
D8: Objekt:
E9: SO 02 - Propustek v km 25,142
D10: Soupis:
E11: SO 02.1 - Oprava propustku - km 25,142
D13: KSO: | I13: CC-CZ:
D14: Místo: | I14: Datum: | J14: ='Rekapitulace stavby'!AN8 -> 0
D16: Zadavatel: | I16: IČ:
I17: DIČ:
D19: Zhotovitel: | I19: IČ: | J19: ='Rekapitulace stavby'!AN13
E20: ='Rekapitulace stavby'!E14 | I20: DIČ: | J20: ='Rekapitulace stavby'!AN14
D22: Projektant: | I22: IČ:
I23: DIČ:
D25: Zpracovatel: | I25: IČ:
I26: DIČ:
D28: Poznámka:
D32: Cena bez DPH | J32: =ROUND(J135, 2) -> 0
F34: Základ daně | I34: Sazba daně | J34: Výše daně
D35: DPH | E35: základní | F35: =ROUND((SUM(BE135:BE230)), 2) -> 0 | I35: 0.21 | J35: =ROUND(((SUM(BE135:BE230))*I35), 2) -> 0
E36: snížená | F36: =ROUND((SUM(BF135:BF230)), 2) -> 0 | I36: 0.15 | J36: =ROUND(((SUM(BF135:BF230))*I36), 2) -> 0
E37: zákl. přenesená | F37: =ROUND((SUM(BG135:BG230)), 2) -> 0 | I37: 0.21 | J37: =0 -> 0
E38: sníž. přenesená | F38: =ROUND((SUM(BH135:BH230)), 2) -> 0 | I38: 0.15 | J38: =0 -> 0
E39: nulová | F39: =ROUND((SUM(BI135:BI230)), 2) -> 0 | I39: 0 | J39: =0 -> 0
D41: Cena s DPH | G41: v | H41: CZK | J41: =SUM(J32:J39) -> 0
D50: Projektant | G50: Zpracovatel
D61: Datum a podpis: | F61: Razítko | G61: Datum a podpis: | J61: Razítko
D65: Objednavatel | G65: Zhotovitel
D76: Datum a podpis: | F76: Razítko | G76: Datum a podpis: | J76: Razítko
C82: REKAPITULACE ČLENĚNÍ SOUPISU PRACÍ
C84: Stavba:
E85: =E7 -> Oprava propustků v km 24,666, 25,142, 25,589 a 25,786 na trati Vsetín - Velké Karlovice
C86: Objekt:
E87: SO 02 - Propustek v km 25,142
C88: Soupis:
E89: =E11 -> SO 02.1 - Oprava propustku - km 25,142
C91: Místo: | F91: =F14 | I91: Datum: | J91: =IF(J14="","",J14) -> 0
...

Sheet SO 02.2 - Železniční svrš...
L2: >> skryté sloupce << | AT2: {587f83a4-2820-434b-b3b1-15dff3c4ebd0}
AT3: 2
D4: KRYCÍ LIST SOUPISU PRACÍ | M4: v --- níže se nacházejí doplnkové a pomocné údaje k sestavám --- v | AT4: False
D6: Stavba:
E7: ='Rekapitulace stavby'!K6 -> Oprava propustků v km 24,666, 25,142, 25,589 a 25,786 na trati Vsetín - Velké Karlovice
D8: Objekt:
E9: SO 02 - Propustek v km 25,142
D10: Soupis:
E11: SO 02.2 - Železniční svršek - km 25,142
D13: KSO: | I13: CC-CZ:
D14: Místo: | I14: Datum: | J14: ='Rekapitulace stavby'!AN8 -> 0
D16: Zadavatel: | I16: IČ:
I17: DIČ:
D19: Zhotovitel: | I19: IČ: | J19: ='Rekapitulace stavby'!AN13
E20: ='Rekapitulace stavby'!E14 | I20: DIČ: | J20: ='Rekapitulace stavby'!AN14
D22: Projektant: | I22: IČ:
I23: DIČ:
D25: Zpracovatel: | I25: IČ:
I26: DIČ:
D28: Poznámka:
D32: Cena bez DPH | J32: =ROUND(J122, 2) -> 0
F34: Základ daně | I34: Sazba daně | J34: Výše daně
D35: DPH | E35: základní | F35: =ROUND((SUM(BE122:BE146)), 2) -> 0 | I35: 0.21 | J35: =ROUND(((SUM(BE122:BE146))*I35), 2) -> 0
E36: snížená | F36: =ROUND((SUM(BF122:BF146)), 2) -> 0 | I36: 0.15 | J36: =ROUND(((SUM(BF122:BF146))*I36), 2) -> 0
E37: zákl. přenesená | F37: =ROUND((SUM(BG122:BG146)), 2) -> 0 | I37: 0.21 | J37: =0 -> 0
E38: sníž. přenesená | F38: =ROUND((SUM(BH122:BH146)), 2) -> 0 | I38: 0.15 | J38: =0 -> 0
E39: nulová | F39: =ROUND((SUM(BI122:BI146)), 2) -> 0 | I39: 0 | J39: =0 -> 0
D41: Cena s DPH | G41: v | H41: CZK | J41: =SUM(J32:J39) -> 0
D50: Projektant | G50: Zpracovatel
D61: Datum a podpis: | F61: Razítko | G61: Datum a podpis: | J61: Razítko
D65: Objednavatel | G65: Zhotovitel
D76: Datum a podpis: | F76: Razítko | G76: Datum a podpis: | J76: Razítko
C82: REKAPITULACE ČLENĚNÍ SOUPISU PRACÍ
C84: Stavba:
E85: =E7 -> Oprava propustků v km 24,666, 25,142, 25,589 a 25,786 na trati Vsetín - Velké Karlovice
C86: Objekt:
E87: SO 02 - Propustek v km 25,142
C88: Soupis:
E89: =E11 -> SO 02.2 - Železniční svršek - km 25,142
C91: Místo: | F91: =F14 | I91: Datum: | J91: =IF(J14="","",J14) -> 0
...

Sheet SO 03.1 - Oprava propustk...
L2: >> skryté sloupce << | AT2: {3ef8df6d-2c4d-4313-9e1e-4f75c1e6c564}
AT3: 2
D4: KRYCÍ LIST SOUPISU PRACÍ | M4: v --- níže se nacházejí doplnkové a pomocné údaje k sestavám --- v | AT4: False
D6: Stavba:
E7: ='Rekapitulace stavby'!K6 -> Oprava propustků v km 24,666, 25,142, 25,589 a 25,786 na trati Vsetín - Velké Karlovice
D8: Objekt:
E9: SO 03 - Propustek v km 25,589
D10: Soupis:
E11: SO 03.1 - Oprava propustku - km 25,589
D13: KSO: | I13: CC-CZ:
D14: Místo: | I14: Datum: | J14: ='Rekapitulace stavby'!AN8 -> 0
D16: Zadavatel: | I16: IČ:
I17: DIČ:
D19: Zhotovitel: | I19: IČ: | J19: ='Rekapitulace stavby'!AN13
E20: ='Rekapitulace stavby'!E14 | I20: DIČ: | J20: ='Rekapitulace stavby'!AN14
D22: Projektant: | I22: IČ:
I23: DIČ:
D25: Zpracovatel: | I25: IČ:
I26: DIČ:
D28: Poznámka:
D32: Cena bez DPH | J32: =ROUND(J135, 2) -> 0
F34: Základ daně | I34: Sazba daně | J34: Výše daně
D35: DPH | E35: základní | F35: =ROUND((SUM(BE135:BE205)), 2) -> 0 | I35: 0.21 | J35: =ROUND(((SUM(BE135:BE205))*I35), 2) -> 0
E36: snížená | F36: =ROUND((SUM(BF135:BF205)), 2) -> 0 | I36: 0.15 | J36: =ROUND(((SUM(BF135:BF205))*I36), 2) -> 0
E37: zákl. přenesená | F37: =ROUND((SUM(BG135:BG205)), 2) -> 0 | I37: 0.21 | J37: =0 -> 0
E38: sníž. přenesená | F38: =ROUND((SUM(BH135:BH205)), 2) -> 0 | I38: 0.15 | J38: =0 -> 0
E39: nulová | F39: =ROUND((SUM(BI135:BI205)), 2) -> 0 | I39: 0 | J39: =0 -> 0
D41: Cena s DPH | G41: v | H41: CZK | J41: =SUM(J32:J39) -> 0
D50: Projektant | G50: Zpracovatel
D61: Datum a podpis: | F61: Razítko | G61: Datum a podpis: | J61: Razítko
D65: Objednavatel | G65: Zhotovitel
D76: Datum a podpis: | F76: Razítko | G76: Datum a podpis: | J76: Razítko
C82: REKAPITULACE ČLENĚNÍ SOUPISU PRACÍ
C84: Stavba:
E85: =E7 -> Oprava propustků v km 24,666, 25,142, 25,589 a 25,786 na trati Vsetín - Velké Karlovice
C86: Objekt:
E87: SO 03 - Propustek v km 25,589
C88: Soupis:
E89: =E11 -> SO 03.1 - Oprava propustku - km 25,589
C91: Místo: | F91: =F14 | I91: Datum: | J91: =IF(J14="","",J14) -> 0
...

Sheet SO 03.2 - Železniční svrš...
L2: >> skryté sloupce << | AT2: {d391763e-471b-4083-b84a-4181c76451f6}
AT3: 2
D4: KRYCÍ LIST SOUPISU PRACÍ | M4: v --- níže se nacházejí doplnkové a pomocné údaje k sestavám --- v | AT4: False
D6: Stavba:
E7: ='Rekapitulace stavby'!K6 -> Oprava propustků v km 24,666, 25,142, 25,589 a 25,786 na trati Vsetín - Velké Karlovice
D8: Objekt:
E9: SO 03 - Propustek v km 25,589
D10: Soupis:
E11: SO 03.2 - Železniční svršek - km 25,589
D13: KSO: | I13: CC-CZ:
D14: Místo: | I14: Datum: | J14: ='Rekapitulace stavby'!AN8 -> 0
D16: Zadavatel: | I16: IČ:
I17: DIČ:
D19: Zhotovitel: | I19: IČ: | J19: ='Rekapitulace stavby'!AN13
E20: ='Rekapitulace stavby'!E14 | I20: DIČ: | J20: ='Rekapitulace stavby'!AN14
D22: Projektant: | I22: IČ:
I23: DIČ:
D25: Zpracovatel: | I25: IČ:
I26: DIČ:
D28: Poznámka:
D32: Cena bez DPH | J32: =ROUND(J122, 2) -> 0
F34: Základ daně | I34: Sazba daně | J34: Výše daně
D35: DPH | E35: základní | F35: =ROUND((SUM(BE122:BE146)), 2) -> 0 | I35: 0.21 | J35: =ROUND(((SUM(BE122:BE146))*I35), 2) -> 0
E36: snížená | F36: =ROUND((SUM(BF122:BF146)), 2) -> 0 | I36: 0.15 | J36: =ROUND(((SUM(BF122:BF146))*I36), 2) -> 0
E37: zákl. přenesená | F37: =ROUND((SUM(BG122:BG146)), 2) -> 0 | I37: 0.21 | J37: =0 -> 0
E38: sníž. přenesená | F38: =ROUND((SUM(BH122:BH146)), 2) -> 0 | I38: 0.15 | J38: =0 -> 0
E39: nulová | F39: =ROUND((SUM(BI122:BI146)), 2) -> 0 | I39: 0 | J39: =0 -> 0
D41: Cena s DPH | G41: v | H41: CZK | J41: =SUM(J32:J39) -> 0
D50: Projektant | G50: Zpracovatel
D61: Datum a podpis: | F61: Razítko | G61: Datum a podpis: | J61: Razítko
D65: Objednavatel | G65: Zhotovitel
D76: Datum a podpis: | F76: Razítko | G76: Datum a podpis: | J76: Razítko
C82: REKAPITULACE ČLENĚNÍ SOUPISU PRACÍ
C84: Stavba:
E85: =E7 -> Oprava propustků v km 24,666, 25,142, 25,589 a 25,786 na trati Vsetín - Velké Karlovice
C86: Objekt:
E87: SO 03 - Propustek v km 25,589
C88: Soupis:
E89: =E11 -> SO 03.2 - Železniční svršek - km 25,589
C91: Místo: | F91: =F14 | I91: Datum: | J91: =IF(J14="","",J14) -> 0
...

Sheet SO 04.1 - Oprava propustk...
L2: >> skryté sloupce << | AT2: {8243ef6a-a565-4ccf-9333-9e28550d68c9}
AT3: 2
D4: KRYCÍ LIST SOUPISU PRACÍ | M4: v --- níže se nacházejí doplnkové a pomocné údaje k sestavám --- v | AT4: False
D6: Stavba:
E7: ='Rekapitulace stavby'!K6 -> Oprava propustků v km 24,666, 25,142, 25,589 a 25,786 na trati Vsetín - Velké Karlovice
D8: Objekt:
E9: SO 04 - Propustek v km 25,786
D10: Soupis:
E11: SO 04.1 - Oprava propustku - km 25,786
D13: KSO: | I13: CC-CZ:
D14: Místo: | I14: Datum: | J14: ='Rekapitulace stavby'!AN8 -> 0
D16: Zadavatel: | I16: IČ:
I17: DIČ:
D19: Zhotovitel: | I19: IČ: | J19: ='Rekapitulace stavby'!AN13
E20: ='Rekapitulace stavby'!E14 | I20: DIČ: | J20: ='Rekapitulace stavby'!AN14
D22: Projektant: | I22: IČ:
I23: DIČ:
D25: Zpracovatel: | I25: IČ:
I26: DIČ:
D28: Poznámka:
D32: Cena bez DPH | J32: =ROUND(J135, 2) -> 0
F34: Základ daně | I34: Sazba daně | J34: Výše daně
D35: DPH | E35: základní | F35: =ROUND((SUM(BE135:BE210)), 2) -> 0 | I35: 0.21 | J35: =ROUND(((SUM(BE135:BE210))*I35), 2) -> 0
E36: snížená | F36: =ROUND((SUM(BF135:BF210)), 2) -> 0 | I36: 0.15 | J36: =ROUND(((SUM(BF135:BF210))*I36), 2) -> 0
E37: zákl. přenesená | F37: =ROUND((SUM(BG135:BG210)), 2) -> 0 | I37: 0.21 | J37: =0 -> 0
E38: sníž. přenesená | F38: =ROUND((SUM(BH135:BH210)), 2) -> 0 | I38: 0.15 | J38: =0 -> 0
E39: nulová | F39: =ROUND((SUM(BI135:BI210)), 2) -> 0 | I39: 0 | J39: =0 -> 0
D41: Cena s DPH | G41: v | H41: CZK | J41: =SUM(J32:J39) -> 0
D50: Projektant | G50: Zpracovatel
D61: Datum a podpis: | F61: Razítko | G61: Datum a podpis: | J61: Razítko
D65: Objednavatel | G65: Zhotovitel
D76: Datum a podpis: | F76: Razítko | G76: Datum a podpis: | J76: Razítko
C82: REKAPITULACE ČLENĚNÍ SOUPISU PRACÍ
C84: Stavba:
E85: =E7 -> Oprava propustků v km 24,666, 25,142, 25,589 a 25,786 na trati Vsetín - Velké Karlovice
C86: Objekt:
E87: SO 04 - Propustek v km 25,786
C88: Soupis:
E89: =E11 -> SO 04.1 - Oprava propustku - km 25,786
C91: Místo: | F91: =F14 | I91: Datum: | J91: =IF(J14="","",J14) -> 0
...

Sheet SO 04.2 - Železniční svrš...
L2: >> skryté sloupce << | AT2: {de64a492-e812-4762-a573-46df0a0cc36b}
AT3: 2
D4: KRYCÍ LIST SOUPISU PRACÍ | M4: v --- níže se nacházejí doplnkové a pomocné údaje k sestavám --- v | AT4: False
D6: Stavba:
E7: ='Rekapitulace stavby'!K6 -> Oprava propustků v km 24,666, 25,142, 25,589 a 25,786 na trati Vsetín - Velké Karlovice
D8: Objekt:
E9: SO 04 - Propustek v km 25,786
D10: Soupis:
E11: SO 04.2 - Železniční svršek - km 25,786
D13: KSO: | I13: CC-CZ:
D14: Místo: | I14: Datum: | J14: ='Rekapitulace stavby'!AN8 -> 0
D16: Zadavatel: | I16: IČ:
I17: DIČ:
D19: Zhotovitel: | I19: IČ: | J19: ='Rekapitulace stavby'!AN13
E20: ='Rekapitulace stavby'!E14 | I20: DIČ: | J20: ='Rekapitulace stavby'!AN14
D22: Projektant: | I22: IČ:
I23: DIČ:
D25: Zpracovatel: | I25: IČ:
I26: DIČ:
D28: Poznámka:
D32: Cena bez DPH | J32: =ROUND(J122, 2) -> 0
F34: Základ daně | I34: Sazba daně | J34: Výše daně
D35: DPH | E35: základní | F35: =ROUND((SUM(BE122:BE146)), 2) -> 0 | I35: 0.21 | J35: =ROUND(((SUM(BE122:BE146))*I35), 2) -> 0
E36: snížená | F36: =ROUND((SUM(BF122:BF146)), 2) -> 0 | I36: 0.15 | J36: =ROUND(((SUM(BF122:BF146))*I36), 2) -> 0
E37: zákl. přenesená | F37: =ROUND((SUM(BG122:BG146)), 2) -> 0 | I37: 0.21 | J37: =0 -> 0
E38: sníž. přenesená | F38: =ROUND((SUM(BH122:BH146)), 2) -> 0 | I38: 0.15 | J38: =0 -> 0
E39: nulová | F39: =ROUND((SUM(BI122:BI146)), 2) -> 0 | I39: 0 | J39: =0 -> 0
D41: Cena s DPH | G41: v | H41: CZK | J41: =SUM(J32:J39) -> 0
D50: Projektant | G50: Zpracovatel
D61: Datum a podpis: | F61: Razítko | G61: Datum a podpis: | J61: Razítko
D65: Objednavatel | G65: Zhotovitel
D76: Datum a podpis: | F76: Razítko | G76: Datum a podpis: | J76: Razítko
C82: REKAPITULACE ČLENĚNÍ SOUPISU PRACÍ
C84: Stavba:
E85: =E7 -> Oprava propustků v km 24,666, 25,142, 25,589 a 25,786 na trati Vsetín - Velké Karlovice
C86: Objekt:
E87: SO 04 - Propustek v km 25,786
C88: Soupis:
E89: =E11 -> SO 04.2 - Železniční svršek - km 25,786
C91: Místo: | F91: =F14 | I91: Datum: | J91: =IF(J14="","",J14) -> 0
...
