Workbook

Sheet Rekapitulace stavby
A1: Export Komplet | BA1: 2.0 | BT1: False | BU1: False | BV1: {a15ab023-b16c-44dd-b54f-3e104b28ab71}
AR2: >> skryté sloupce << | BS2: 0,01 | BT2: 21
BS3: 0,01 | BT3: 15
D4: REKAPITULACE STAVBY | AS4: v --- níže se nacházejí doplnkové a pomocné údaje k sestavám --- v | BS4: 0,001
D5: Kód: | BS5: 0,01
D6: Stavba: | K6: Oprava propustků v km 24,666, 25,142, 25,589 a 25,786 na trati Vsetín - Velké Karlovice | BS6: 0,01
D7: KSO: | AK7: CC-CZ: | BS7: 0,01
D8: Místo: | AK8: Datum: | BS8: 0,01
BS9: 0,01
D10: Zadavatel: | AK10: IČ: | BS10: 0,01
AK11: DIČ: | BS11: 0,01
BS12: 0,01
D13: Zhotovitel: | AK13: IČ: | BS13: 0,01
AK14: DIČ: | BS14: 0,01
BS15: False
D16: Projektant: | AK16: IČ: | BS16: False
AK17: DIČ: | BS17: True
BS18: 0,01
D19: Zpracovatel: | AK19: IČ: | BS19: 0,01
AK20: DIČ: | BS20: True
D22: Poznámka:
D26: Cena bez DPH | AK26: =ROUND(AG94,2) -> 0
L28: Sazba daně | W28: Základ daně | AK28: Výše daně
D29: DPH | F29: základní | L29: 0.21 | W29: =ROUND(AZ94, 2) -> 0 | AK29: =ROUND(AV94, 2) -> 0
F30: snížená | L30: 0.15 | W30: =ROUND(BA94, 2) -> 0 | AK30: =ROUND(AW94, 2) -> 0
F31: zákl. přenesená | L31: 0.21 | W31: =ROUND(BB94, 2) -> 0 | AK31: 0
F32: sníž. přenesená | L32: 0.15 | W32: =ROUND(BC94, 2) -> 0 | AK32: 0
F33: nulová | L33: 0 | W33: =ROUND(BD94, 2) -> 0 | AK33: 0
D35: Cena s DPH | T35: v | X35: CZK | AK35: =SUM(AK26:AK33) -> 0
D49: Projektant | AH49: Zpracovatel
D60: Datum a podpis: | V60: Razítko | AH60: Datum a podpis: | AM60: Razítko
D64: Objednavatel | AH64: Zhotovitel
D75: Datum a podpis: | V75: Razítko | AH75: Datum a podpis: | AM75: Razítko
C82: REKAPITULACE OBJEKTŮ STAVBY A SOUPISŮ PRACÍ
C84: Kód:
C85: Stavba: | L85: =K6 -> Oprava propustků v km 24,666, 25,142, 25,589 a 25,786 na trati Vsetín - Velké Karlovice
C87: Místo: | L87: =IF(K8="","",K8) | AI87: Datum: | AM87: =IF(AN8= "","",AN8)
C89: Zadavatel: | L89: =IF(E11= "","",E11) | AI89: Projektant: | AM89: =IF(E17="","",E17) | AS89: Informatívní údaje z listů zakázek
C90: Zhotovitel: | L90: =IF(E14="","",E14) | AI90: Zpracovatel: | AM90: =IF(E20="","",E20)
C92: Kód | I92: Popis | AG92: Cena bez DPH [CZK] | AN92: Cena s DPH [CZK] | AQ92: Typ | AS92: z toho Ostat._x000D_ náklady [CZK] | AT92: DPH [CZK] | AU92: Normohodiny [h] | AV92: DPH základní [CZK] | AW92: DPH snížená [CZK] | AX92: DPH základní přenesená_x000D_ [CZK] | AY92: DPH snížená přenesená_x000D_ [CZK] | AZ92: Základna_x000D_ DPH základní | BA92: Základna_x000D_ DPH snížená | BB92: Základna_x000D_ DPH zákl. přenesená | BC92: Základna_x000D_ DPH sníž. přenesená | BD92: Základna_x000D_ DPH nulová
C94: Náklady z rozpočtů | AG94: =ROUND(AG95+AG98+AG101+AG104,2) -> 0 | AN94: =SUM(AG94,AT94) -> 0 | AS94: =ROUND(AS95+AS98+AS101+AS104,2) -> 0 | AT94: =ROUND(SUM(AV94:AW94),2) -> 0 | AU94: =ROUND(AU95+AU98+AU101+AU104,5) -> 2741.7307 | AV94: =ROUND(AZ94*L29,2) -> 0 | AW94: =ROUND(BA94*L30,2) -> 0 | AX94: =ROUND(BB94*L29,2) -> 0 | AY94: =ROUND(BC94*L30,2) -> 0 | AZ94: =ROUND(AZ95+AZ98+AZ101+AZ104,2) -> 0 | BA94: =ROUND(BA95+BA98+BA101+BA104,2) -> 0 | BB94: =ROUND(BB95+BB98+BB101+BB104,2) -> 0 | BC94: =ROUND(BC95+BC98+BC101+BC104,2) -> 0 | BD94: =ROUND(BD95+BD98+BD101+BD104,2) -> 0 | BS94: D | BT94: 0 | BU94: ###NOIMPORT### | BV94: IMPORT | BW94: {a15ab023-b16c-44dd-b54f-3e104b28ab71} | BX94: {00000000-0000-0000-0000-000000000000}
D95: SO 01 | J95: Propustek v km 24,666 | AG95: =ROUND(SUM(AG96:AG97),2) -> 0 | AN95: =SUM(AG95,AT95) -> 0 | AQ95: ING | AS95: =ROUND(SUM(AS96:AS97),2) -> 0 | AT95: =ROUND(SUM(AV95:AW95),2) -> 0 | AU95: =ROUND(SUM(AU96:AU97),5) -> 542.40779 | AV95: =ROUND(AZ95*L29,2) -> 0 | AW95: =ROUND(BA95*L30,2) -> 0 | AX95: =ROUND(BB95*L29,2) -> 0 | AY95: =ROUND(BC95*L30,2) -> 0 | AZ95: =ROUND(SUM(AZ96:AZ97),2) -> 0 | BA95: =ROUND(SUM(BA96:BA97),2) -> 0 | BB95: =ROUND(SUM(BB96:BB97),2) -> 0 | BC95: =ROUND(SUM(BC96:BC97),2) -> 0 | BD95: =ROUND(SUM(BD96:BD97),2) -> 0 | BS95: D | BT95: 1 | BU95: ###NOIMPORT### | BV95: IMPORT | BW95: {8da8cc63-a792-4205-8e9d-117c3de38195} | BX95: {a15ab023-b16c-44dd-b54f-3e104b28ab71} | CM95: 2
A96: / | E96: SO 01.1 | K96: Oprava propustku - km 24,666 | AG96: ='SO 01.1 - Oprava propustk...'!J32 -> 0 | AN96: =SUM(AG96,AT96) -> 0 | AQ96: Soupis | AS96: 0 | AT96: =ROUND(SUM(AV96:AW96),2) -> 0 | AU96: ='SO 01.1 - Oprava propustk...'!P135 -> 542.40779 | AV96: ='SO 01.1 - Oprava propustk...'!J35 -> 0 | AW96: ='SO 01.1 - Oprava propustk...'!J36 -> 0 | AX96: ='SO 01.1 - Oprava propustk...'!J37 -> 0 | AY96: ='SO 01.1 - Oprava propustk...'!J38 -> 0 | AZ96: ='SO 01.1 - Oprava propustk...'!F35 -> 0 | BA96: ='SO 01.1 - Oprava propustk...'!F36 -> 0 | BB96: ='SO 01.1 - Oprava propustk...'!F37 -> 0 | BC96: ='SO 01.1 - Oprava propustk...'!F38 -> 0 | BD96: ='SO 01.1 - Oprava propustk...'!F39 -> 0 | BT96: 2 | BV96: IMPORT | BW96: {14bf07a1-a5a2-421e-a36a-5bf8a29f42d6} | BX96: {8da8cc63-a792-4205-8e9d-117c3de38195}
A97: / | E97: SO 01.2 | K97: Železniční svršek - km 24,666 | AG97: ='SO 01.2 - Železniční svrš...'!J32 -> 0 | AN97: =SUM(AG97,AT97) -> 0 | AQ97: Soupis | AS97: 0 | AT97: =ROUND(SUM(AV97:AW97),2) -> 0 | AU97: ='SO 01.2 - Železniční svrš...'!P122 -> 0 | AV97: ='SO 01.2 - Železniční svrš...'!J35 -> 0 | AW97: ='SO 01.2 - Železniční svrš...'!J36 -> 0 | AX97: ='SO 01.2 - Železniční svrš...'!J37 -> 0 | AY97: ='SO 01.2 - Železniční svrš...'!J38 -> 0 | AZ97: ='SO 01.2 - Železniční svrš...'!F35 -> 0 | BA97: ='SO 01.2 - Železniční svrš...'!F36 -> 0 | BB97: ='SO 01.2 - Železniční svrš...'!F37 -> 0 | BC97: ='SO 01.2 - Železniční svrš...'!F38 -> 0 | BD97: ='SO 01.2 - Železniční svrš...'!F39 -> 0 | BT97: 2 | BV97: IMPORT | BW97: {109da158-d775-439d-b079-9c1b36a01475} | BX97: {8da8cc63-a792-4205-8e9d-117c3de38195}
D98: SO 02 | J98: Propustek v km 25,142 | AG98: =ROUND(SUM(AG99:AG100),2) -> 0 | AN98: =SUM(AG98,AT98) -> 0 | AQ98: STA | AS98: =ROUND(SUM(AS99:AS100),2) -> 0 | AT98: =ROUND(SUM(AV98:AW98),2) -> 0 | AU98: =ROUND(SUM(AU99:AU100),5) -> 841.0494 | AV98: =ROUND(AZ98*L29,2) -> 0 | AW98: =ROUND(BA98*L30,2) -> 0 | AX98: =ROUND(BB98*L29,2) -> 0 | AY98: =ROUND(BC98*L30,2) -> 0 | AZ98: =ROUND(SUM(AZ99:AZ100),2) -> 0 | BA98: =ROUND(SUM(BA99:BA100),2) -> 0 | BB98: =ROUND(SUM(BB99:BB100),2) -> 0 | BC98: =ROUND(SUM(BC99:BC100),2) -> 0 | BD98: =ROUND(SUM(BD99:BD100),2) -> 0 | BS98: D | BT98: 1 | BU98: ###NOIMPORT### | BV98: IMPORT | BW98: {1184359b-25a0-4475-b8b7-65020a37024b} | BX98: {a15ab023-b16c-44dd-b54f-3e104b28ab71} | CM98: 2
A99: / | E99: SO 02.1 | K99: Oprava propustku - km 25,142 | AG99: ='SO 02.1 - Oprava propustk...'!J32 -> 0 | AN99: =SUM(AG99,AT99) -> 0 | AQ99: Soupis | AS99: 0 | AT99: =ROUND(SUM(AV99:AW99),2) -> 0 | AU99: ='SO 02.1 - Oprava propustk...'!P135 -> 841.0494 | AV99: ='SO 02.1 - Oprava propustk...'!J35 -> 0 | AW99: ='SO 02.1 - Oprava propustk...'!J36 -> 0 | AX99: ='SO 02.1 - Oprava propustk...'!J37 -> 0 | AY99: ='SO 02.1 - Oprava propustk...'!J38 -> 0 | AZ99: ='SO 02.1 - Oprava propustk...'!F35 -> 0 | BA99: ='SO 02.1 - Oprava propustk...'!F36 -> 0 | BB99: ='SO 02.1 - Oprava propustk...'!F37 -> 0 | BC99: ='SO 02.1 - Oprava propustk...'!F38 -> 0 | BD99: ='SO 02.1 - Oprava propustk...'!F39 -> 0 | BT99: 2 | BV99: IMPORT | BW99: {86437e26-d5f0-40b8-82d4-df29692f269f} | BX99: {1184359b-25a0-4475-b8b7-65020a37024b}
A100: / | E100: SO 02.2 | K100: Železniční svršek - km 25,142 | AG100: ='SO 02.2 - Železniční svrš...'!J32 -> 0 | AN100: =SUM(AG100,AT100) -> 0 | AQ100: Soupis | AS100: 0 | AT100: =ROUND(SUM(AV100:AW100),2) -> 0 | AU100: ='SO 02.2 - Železniční svrš...'!P122 -> 0 | AV100: ='SO 02.2 - Železniční svrš...'!J35 -> 0 | AW100: ='SO 02.2 - Železniční svrš...'!J36 -> 0 | AX100: ='SO 02.2 - Železniční svrš...'!J37 -> 0 | AY100: ='SO 02.2 - Železniční svrš...'!J38 -> 0 | AZ100: ='SO 02.2 - Železniční svrš...'!F35 -> 0 | BA100: ='SO 02.2 - Železniční svrš...'!F36 -> 0 | BB100: ='SO 02.2 - Železniční svrš...'!F37 -> 0 | BC100: ='SO 02.2 - Železniční svrš...'!F38 -> 0 | BD100: ='SO 02.2 - Železniční svrš...'!F39 -> 0 | BT100: 2 | BV100: IMPORT | BW100: {587f83a4-2820-434b-b3b1-15dff3c4ebd0} | BX100: {1184359b-25a0-4475-b8b7-65020a37024b}
D101: SO 03 | J101: Propustek v km 25,589 | AG101: =ROUND(SUM(AG102:AG103),2) -> 0 | AN101: =SUM(AG101,AT101) -> 0 | AQ101: STA | AS101: =ROUND(SUM(AS102:AS103),2) -> 0 | AT101: =ROUND(SUM(AV101:AW101),2) -> 0 | AU101: =ROUND(SUM(AU102:AU103),5) -> 822.39905 | AV101: =ROUND(AZ101*L29,2) -> 0 | AW101: =ROUND(BA101*L30,2) -> 0 | AX101: =ROUND(BB101*L29,2) -> 0 | AY101: =ROUND(BC101*L30,2) -> 0 | AZ101: =ROUND(SUM(AZ102:AZ103),2) -> 0 | BA101: =ROUND(SUM(BA102:BA103),2) -> 0 | BB101: =ROUND(SUM(BB102:BB103),2) -> 0 | BC101: =ROUND(SUM(BC102:BC103),2) -> 0 | BD101: =ROUND(SUM(BD102:BD103),2) -> 0 | BS101: D | BT101: 1 | BU101: ###NOIMPORT### | BV101: IMPORT | BW101: {941f1798-6753-461d-a50d-d92bc78b00b5} | BX101: {a15ab023-b16c-44dd-b54f-3e104b28ab71} | CM101: 2
A102: / | E102: SO 03.1 | K102: Oprava propustku - km 25,589 | AG102: ='SO 03.1 - Oprava propustk...'!J32 -> 0 | AN102: =SUM(AG102,AT102) -> 0 | AQ102: Soupis | AS102: 0 | AT102: =ROUND(SUM(AV102:AW102),2) -> 0 | AU102: ='SO 03.1 - Oprava propustk...'!P135 -> 822.39905 | AV102: ='SO 03.1 - Oprava propustk...'!J35 -> 0 | AW102: ='SO 03.1 - Oprava propustk...'!J36 -> 0 | AX102: ='SO 03.1 - Oprava propustk...'!J37 -> 0 | AY102: ='SO 03.1 - Oprava propustk...'!J38 -> 0 | AZ102: ='SO 03.1 - Oprava propustk...'!F35 -> 0 | BA102: ='SO 03.1 - Oprava propustk...'!F36 -> 0 | BB102: ='SO 03.1 - Oprava propustk...'!F37 -> 0 | BC102: ='SO 03.1 - Oprava propustk...'!F38 -> 0 | BD102: ='SO 03.1 - Oprava propustk...'!F39 -> 0 | BT102: 2 | BV102: IMPORT | BW102: {3ef8df6d-2c4d-4313-9e1e-4f75c1e6c564} | BX102: {941f1798-6753-461d-a50d-d92bc78b00b5}
A103: / | E103: SO 03.2 | K103: Železniční svršek - km 25,589 | AG103: ='SO 03.2 - Železniční svrš...'!J32 -> 0 | AN103: =SUM(AG103,AT103) -> 0 | AQ103: Soupis | AS103: 0 | AT103: =ROUND(SUM(AV103:AW103),2) -> 0 | AU103: ='SO 03.2 - Železniční svrš...'!P122 -> 0 | AV103: ='SO 03.2 - Železniční svrš...'!J35 -> 0 | AW103: ='SO 03.2 - Železniční svrš...'!J36 -> 0 | AX103: ='SO 03.2 - Železniční svrš...'!J37 -> 0 | AY103: ='SO 03.2 - Železniční svrš...'!J38 -> 0 | AZ103: ='SO 03.2 - Železniční svrš...'!F35 -> 0 | BA103: ='SO 03.2 - Železniční svrš...'!F36 -> 0 | BB103: ='SO 03.2 - Železniční svrš...'!F37 -> 0 | BC103: ='SO 03.2 - Železniční svrš...'!F38 -> 0 | BD103: ='SO 03.2 - Železniční svrš...'!F39 -> 0 | BT103: 2 | BV103: IMPORT | BW103: {d391763e-471b-4083-b84a-4181c76451f6} | BX103: {941f1798-6753-461d-a50d-d92bc78b00b5}
D104: SO 04 | J104: Propustek v km 25,786 | AG104: =ROUND(SUM(AG105:AG106),2) -> 0 | AN104: =SUM(AG104,AT104) -> 0 | AQ104: STA | AS104: =ROUND(SUM(AS105:AS106),2) -> 0 | AT104: =ROUND(SUM(AV104:AW104),2) -> 0 | AU104: =ROUND(SUM(AU105:AU106),5) -> 535.87443 | AV104: =ROUND(AZ104*L29,2) -> 0 | AW104: =ROUND(BA104*L30,2) -> 0 | AX104: =ROUND(BB104*L29,2) -> 0 | AY104: =ROUND(BC104*L30,2) -> 0 | AZ104: =ROUND(SUM(AZ105:AZ106),2) -> 0 | BA104: =ROUND(SUM(BA105:BA106),2) -> 0 | BB104: =ROUND(SUM(BB105:BB106),2) -> 0 | BC104: =ROUND(SUM(BC105:BC106),2) -> 0 | BD104: =ROUND(SUM(BD105:BD106),2) -> 0 | BS104: D | BT104: 1 | BU104: ###NOIMPORT### | BV104: IMPORT | BW104: {e7ac0c59-1032-4baf-89c1-f3877f0866ea} | BX104: {a15ab023-b16c-44dd-b54f-3e104b28ab71} | CM104: 2
A105: / | E105: SO 04.1 | K105: Oprava propustku - km 25,786 | AG105: ='SO 04.1 - Oprava propustk...'!J32 -> 0 | AN105: =SUM(AG105,AT105) -> 0 | AQ105: Soupis | AS105: 0 | AT105: =ROUND(SUM(AV105:AW105),2) -> 0 | AU105: ='SO 04.1 - Oprava propustk...'!P135 -> 535.87442 | AV105: ='SO 04.1 - Oprava propustk...'!J35 -> 0 | AW105: ='SO 04.1 - Oprava propustk...'!J36 -> 0 | AX105: ='SO 04.1 - Oprava propustk...'!J37 -> 0 | AY105: ='SO 04.1 - Oprava propustk...'!J38 -> 0 | AZ105: ='SO 04.1 - Oprava propustk...'!F35 -> 0 | BA105: ='SO 04.1 - Oprava propustk...'!F36 -> 0 | BB105: ='SO 04.1 - Oprava propustk...'!F37 -> 0 | BC105: ='SO 04.1 - Oprava propustk...'!F38 -> 0 | BD105: ='SO 04.1 - Oprava propustk...'!F39 -> 0 | BT105: 2 | BV105: IMPORT | BW105: {8243ef6a-a565-4ccf-9333-9e28550d68c9} | BX105: {e7ac0c59-1032-4baf-89c1-f3877f0866ea}
A106: / | E106: SO 04.2 | K106: Železniční svršek - km 25,786 | AG106: ='SO 04.2 - Železniční svrš...'!J32 -> 0 | AN106: =SUM(AG106,AT106) -> 0 | AQ106: Soupis | AS106: 0 | AT106: =ROUND(SUM(AV106:AW106),2) -> 0 | AU106: ='SO 04.2 - Železniční svrš...'!P122 -> 0 | AV106: ='SO 04.2 - Železniční svrš...'!J35 -> 0 | AW106: ='SO 04.2 - Železniční svrš...'!J36 -> 0 | AX106: ='SO 04.2 - Železniční svrš...'!J37 -> 0 | AY106: ='SO 04.2 - Železniční svrš...'!J38 -> 0 | AZ106: ='SO 04.2 - Železniční svrš...'!F35 -> 0 | BA106: ='SO 04.2 - Železniční svrš...'!F36 -> 0 | BB106: ='SO 04.2 - Železniční svrš...'!F37 -> 0 | BC106: ='SO 04.2 - Železniční svrš...'!F38 -> 0 | BD106: ='SO 04.2 - Železniční svrš...'!F39 -> 0 | BT106: 2 | BV106: IMPORT | BW106: {de64a492-e812-4762-a573-46df0a0cc36b} | BX106: {e7ac0c59-1032-4baf-89c1-f3877f0866ea}

Sheet SO 01.1 - Oprava propustk...
L2: >> skryté sloupce << | AT2: {14bf07a1-a5a2-421e-a36a-5bf8a29f42d6}
AT3: 2
D4: KRYCÍ LIST SOUPISU PRACÍ | M4: v --- níže se nacházejí doplnkové a pomocné údaje k sestavám --- v | AT4: False
D6: Stavba:
E7: ='Rekapitulace stavby'!K6 -> Oprava propustků v km 24,666, 25,142, 25,589 a 25,786 na trati Vsetín - Velké Karlovice
D8: Objekt:
E9: SO 01 - Propustek v km 24,666
D10: Soupis:
E11: SO 01.1 - Oprava propustku - km 24,666
D13: KSO: | I13: CC-CZ:
D14: Místo: | I14: Datum: | J14: ='Rekapitulace stavby'!AN8 -> 0
D16: Zadavatel: | I16: IČ:
I17: DIČ:
D19: Zhotovitel: | I19: IČ: | J19: ='Rekapitulace stavby'!AN13
E20: ='Rekapitulace stavby'!E14 | I20: DIČ: | J20: ='Rekapitulace stavby'!AN14
D22: Projektant: | I22: IČ:
I23: DIČ:
D25: Zpracovatel: | I25: IČ:
I26: DIČ:
D28: Poznámka:
D32: Cena bez DPH | J32: =ROUND(J135, 2) -> 0
F34: Základ daně | I34: Sazba daně | J34: Výše daně
D35: DPH | E35: základní | F35: =ROUND((SUM(BE135:BE212)), 2) -> 0 | I35: 0.21 | J35: =ROUND(((SUM(BE135:BE212))*I35), 2) -> 0
E36: snížená | F36: =ROUND((SUM(BF135:BF212)), 2) -> 0 | I36: 0.15 | J36: =ROUND(((SUM(BF135:BF212))*I36), 2) -> 0
E37: zákl. přenesená | F37: =ROUND((SUM(BG135:BG212)), 2) -> 0 | I37: 0.21 | J37: =0 -> 0
E38: sníž. přenesená | F38: =ROUND((SUM(BH135:BH212)), 2) -> 0 | I38: 0.15 | J38: =0 -> 0
E39: nulová | F39: =ROUND((SUM(BI135:BI212)), 2) -> 0 | I39: 0 | J39: =0 -> 0
D41: Cena s DPH | G41: v | H41: CZK | J41: =SUM(J32:J39) -> 0
D50: Projektant | G50: Zpracovatel
D61: Datum a podpis: | F61: Razítko | G61: Datum a podpis: | J61: Razítko
D65: Objednavatel | G65: Zhotovitel
D76: Datum a podpis: | F76: Razítko | G76: Datum a podpis: | J76: Razítko
C82: REKAPITULACE ČLENĚNÍ SOUPISU PRACÍ
C84: Stavba:
E85: =E7 -> Oprava propustků v km 24,666, 25,142, 25,589 a 25,786 na trati Vsetín - Velké Karlovice
C86: Objekt:
E87: SO 01 - Propustek v km 24,666
C88: Soupis:
E89: =E11 -> SO 01.1 - Oprava propustku - km 24,666
C91: Místo: | F91: =F14 | I91: Datum: | J91: =IF(J14="","",J14) -> 0
C93: Zadavatel: | F93: =E17 | I93: Projektant: | J93: =E23
C94: Zhotovitel: | F94: =IF(E20="","",E20) | I94: Zpracovatel: | J94: =E26
C96: Kód dílu - Popis | J96: Cena celkem [CZK]
C98: Náklady ze soupisu prací | J98: =J135 -> 0 | AU98: -1
D99: HSV - Práce a dodávky HSV | J99: =J136 -> 0
D100: 1 - Zemní práce | J100: =J137 -> 0
D101: 2 - Zakládání | J101: =J159 -> 0
D102: 4 - Vodorovné konstrukce | J102: =J165 -> 0
D103: 8 - Trubní vedení | J103: =J173 -> 0
D104: 9 - Ostatní konstrukce a práce-bourání | J104: =J175 -> 0
D105: 997 - Přesun sutě | J105: =J183 -> 0
D106: 998 - Přesun hmot | J106: =J190 -> 0
D107: PSV - Práce a dodávky PSV | J107: =J193 -> 0
D108: 711 - Izolace proti vodě, vlhkosti a plynům | J108: =J194 -> 0
D109: VRN - Vedlejší rozpočtové náklady | J109: =J200 -> 0
D110: VRN1 - Průzkumné, geodetické a projektové práce | J110: =J201 -> 0
D111: VRN3 - Zařízení staveniště | J111: =J204 -> 0
D112: VRN6 - Územní vlivy | J112: =J208 -> 0
D113: VRN9 - Ostatní náklady | J113: =J210 -> 0
C120: SOUPIS PRACÍ
C122: Stavba:
E123: =E7 -> Oprava propustků v km 24,666, 25,142, 25,589 a 25,786 na trati Vsetín - Velké Karlovice
C124: Objekt:
E125: SO 01 - Propustek v km 24,666
C126: Soupis:
E127: =E11 -> SO 01.1 - Oprava propustku - km 24,666
C129: Místo: | F129: =F14 | I129: Datum: | J129: =IF(J14="","",J14) -> 0
C131: Zadavatel: | F131: =E17 | I131: Projektant: | J131: =E23
C132: Zhotovitel: | F132: =IF(E20="","",E20) | I132: Zpracovatel: | J132: =E26
C134: PČ | D134: Typ | E134: Kód | F134: Popis | G134: MJ | H134: Množství | I134: J.cena [CZK] | J134: Cena celkem [CZK] | K134: Cenová soustava | N134: DPH | O134: J. Nh [h] | P134: Nh celkem [h] | Q134: J. hmotnost [t] | R134: Hmotnost celkem [t] | S134: J. suť [t] | T134: Suť Celkem [t]
C135: Náklady soupisu celkem | J135: =BK135 -> 0 | P135: =P136+P193+P200 -> 542.40779 | R135: =R136+R193+R200 -> 65.32687 | T135: =T136+T193+T200 -> 40.281 | AT135: D | AU135: -1 | BK135: =BK136+BK193+BK200 -> 0
D136: D | E136: HSV | F136: Práce a dodávky HSV | J136: =BK136 -> 0 | P136: =P137+P159+P165+P173+P175+P183+P190 -> 534.0311 | R136: =R137+R159+R165+R173+R175+R183+R190 -> 64.724662 | T136: =T137+T159+T165+T173+T175+T183+T190 -> 40.281 | AR136: 1 | AT136: D | AU136: 0 | AY136: ROZPOCET | BK136: =BK137+BK159+BK165+BK173+BK175+BK183+BK190 -> 0
D137: D | E137: 1 | F137: Zemní práce | J137: =BK137 -> 0 | P137: =SUM(P138:P158) -> 168.2693 | R137: =SUM(R138:R158) -> 0.00132 | T137: =SUM(T138:T158) -> 7.032 | AR137: 1 | AT137: D | AU137: 1 | AY137: ROZPOCET | BK137: =SUM(BK138:BK158) -> 0
C138: 1 | D138: K | E138: 113105113 | F138: Rozebrání dlažeb z lomového kamene kladených na MC vyspárované MC | G138: m2 | H138: 12 | J138: =ROUND(I138*H138,2) -> 0 | N138: základní | O138: 0.811 | P138: =O138*H138 -> 9.732 | Q138: 0 | R138: =Q138*H138 -> 0 | S138: 0.586 | T138: =S138*H138 -> 7.032 | AR138: 4 | AT138: K | AU138: 2 | AY138: ROZPOCET | BE138: =IF(N138="základní",J138,0) -> 0 | BF138: =IF(N138="snížená",J138,0) -> 0 | BG138: =IF(N138="zákl. přenesená",J138,0) -> 0 | BH138: =IF(N138="sníž. přenesená",J138,0) -> 0 | BI138: =IF(N138="nulová",J138,0) -> 0 | BJ138: 1 | BK138: =ROUND(I138*H138,2) -> 0 | BL138: 4 | BM138: -755951849
C139: 2 | D139: K | E139: 115101202 | F139: Čerpání vody na dopravní výšku do 10 m průměrný přítok do 1000 l/min | G139: hod | H139: 24 | J139: =ROUND(I139*H139,2) -> 0 | N139: základní | O139: 0.3 | P139: =O139*H139 -> 7.2 | Q139: 0 | R139: =Q139*H139 -> 0 | S139: 0 | T139: =S139*H139 -> 0 | AR139: 4 | AT139: K | AU139: 2 | AY139: ROZPOCET | BE139: =IF(N139="základní",J139,0) -> 0 | BF139: =IF(N139="snížená",J139,0) -> 0 | BG139: =IF(N139="zákl. přenesená",J139,0) -> 0 | BH139: =IF(N139="sníž. přenesená",J139,0) -> 0 | BI139: =IF(N139="nulová",J139,0) -> 0 | BJ139: 1 | BK139: =ROUND(I139*H139,2) -> 0 | BL139: 4 | BM139: -403314855
C140: 3 | D140: K | E140: 121101101 | F140: Sejmutí ornice s přemístěním na vzdálenost do 50 m | G140: m3 | H140: 33.6 | J140: =ROUND(I140*H140,2) -> 0 | N140: základní | O140: 0.097 | P140: =O140*H140 -> 3.2592 | Q140: 0 | R140: =Q140*H140 -> 0 | S140: 0 | T140: =S140*H140 -> 0 | AR140: 4 | AT140: K | AU140: 2 | AY140: ROZPOCET | BE140: =IF(N140="základní",J140,0) -> 0 | BF140: =IF(N140="snížená",J140,0) -> 0 | BG140: =IF(N140="zákl. přenesená",J140,0) -> 0 | BH140: =IF(N140="sníž. přenesená",J140,0) -> 0 | BI140: =IF(N140="nulová",J140,0) -> 0 | BJ140: 1 | BK140: =ROUND(I140*H140,2) -> 0 | BL140: 4 | BM140: -814076731
C141: 4 | D141: K | E141: 131201102 | F141: Hloubení jam nezapažených v hornině tř. 3 objemu do 1000 m3 | G141: m3 | H141: 110.6 | J141: =ROUND(I141*H141,2) -> 0 | N141: základní | O141: 0.467 | P141: =O141*H141 -> 51.6502 | Q141: 0 | R141: =Q141*H141 -> 0 | S141: 0 | T141: =S141*H141 -> 0 | AR141: 4 | AT141: K | AU141: 2 | AY141: ROZPOCET | BE141: =IF(N141="základní",J141,0) -> 0 | BF141: =IF(N141="snížená",J141,0) -> 0 | BG141: =IF(N141="zákl. přenesená",J141,0) -> 0 | BH141: =IF(N141="sníž. přenesená",J141,0) -> 0 | BI141: =IF(N141="nulová",J141,0) -> 0 | BJ141: 1 | BK141: =ROUND(I141*H141,2) -> 0 | BL141: 4 | BM141: -1810098166
C142: 5 | D142: K | E142: 131201109 | F142: Příplatek za lepivost u hloubení jam nezapažených v hornině tř. 3 | G142: m3 | H142: 110.6 | J142: =ROUND(I142*H142,2) -> 0 | N142: základní | O142: 0.04 | P142: =O142*H142 -> 4.424 | Q142: 0 | R142: =Q142*H142 -> 0 | S142: 0 | T142: =S142*H142 -> 0 | AR142: 4 | AT142: K | AU142: 2 | AY142: ROZPOCET | BE142: =IF(N142="základní",J142,0) -> 0 | BF142: =IF(N142="snížená",J142,0) -> 0 | BG142: =IF(N142="zákl. přenesená",J142,0) -> 0 | BH142: =IF(N142="sníž. přenesená",J142,0) -> 0 | BI142: =IF(N142="nulová",J142,0) -> 0 | BJ142: 1 | BK142: =ROUND(I142*H142,2) -> 0 | BL142: 4 | BM142: -1500250922
C143: 6 | D143: K | E143: 132201101 | F143: Hloubení rýh š do 600 mm v hornině tř. 3 objemu do 100 m3 | G143: m3 | H143: 7.5 | J143: =ROUND(I143*H143,2) -> 0 | N143: základní | O143: 2.32 | P143: =O143*H143 -> 17.4 | Q143: 0 | R143: =Q143*H143 -> 0 | S143: 0 | T143: =S143*H143 -> 0 | AR143: 4 | AT143: K | AU143: 2 | AY143: ROZPOCET | BE143: =IF(N143="základní",J143,0) -> 0 | BF143: =IF(N143="snížená",J143,0) -> 0 | BG143: =IF(N143="zákl. přenesená",J143,0) -> 0 | BH143: =IF(N143="sníž. přenesená",J143,0) -> 0 | BI143: =IF(N143="nulová",J143,0) -> 0 | BJ143: 1 | BK143: =ROUND(I143*H143,2) -> 0 | BL143: 4 | BM143: 1533457671
C144: 7 | D144: K | E144: 132201109 | F144: Příplatek za lepivost k hloubení rýh š do 600 mm v hornině tř. 3 | G144: m3 | H144: 7.5 | J144: =ROUND(I144*H144,2) -> 0 | N144: základní | O144: 0.654 | P144: =O144*H144 -> 4.905 | Q144: 0 | R144: =Q144*H144 -> 0 | S144: 0 | T144: =S144*H144 -> 0 | AR144: 4 | AT144: K | AU144: 2 | AY144: ROZPOCET | BE144: =IF(N144="základní",J144,0) -> 0 | BF144: =IF(N144="snížená",J144,0) -> 0 | BG144: =IF(N144="zákl. přenesená",J144,0) -> 0 | BH144: =IF(N144="sníž. přenesená",J144,0) -> 0 | BI144: =IF(N144="nulová",J144,0) -> 0 | BJ144: 1 | BK144: =ROUND(I144*H144,2) -> 0 | BL144: 4 | BM144: -1075501452
C145: 8 | D145: K | E145: 162201101 | F145: Vodorovné přemístění do 20 m výkopku/sypaniny z horniny tř. 1 až 4 | G145: m3 | H145: 220 | J145: =ROUND(I145*H145,2) -> 0 | K145: CS ÚRS 2019 01 | N145: základní | O145: 0.087 | P145: =O145*H145 -> 19.14 | Q145: 0 | R145: =Q145*H145 -> 0 | S145: 0 | T145: =S145*H145 -> 0 | AR145: 4 | AT145: K | AU145: 2 | AY145: ROZPOCET | BE145: =IF(N145="základní",J145,0) -> 0 | BF145: =IF(N145="snížená",J145,0) -> 0 | BG145: =IF(N145="zákl. přenesená",J145,0) -> 0 | BH145: =IF(N145="sníž. přenesená",J145,0) -> 0 | BI145: =IF(N145="nulová",J145,0) -> 0 | BJ145: 1 | BK145: =ROUND(I145*H145,2) -> 0 | BL145: 4 | BM145: 198646303
D146: VV | F146: 2 * 110,000 | H146: 220 | AT146: VV | AU146: 2 | AV146: 2 | AW146: True | AX146: 1 | AY146: ROZPOCET
C147: 9 | D147: K | E147: 162701105 | F147: Vodorovné přemístění do 10000 m výkopku/sypaniny z horniny tř. 1 až 4 | G147: m3 | H147: 8.1 | J147: =ROUND(I147*H147,2) -> 0 | N147: základní | O147: 0.083 | P147: =O147*H147 -> 0.6723 | Q147: 0 | R147: =Q147*H147 -> 0 | S147: 0 | T147: =S147*H147 -> 0 | AR147: 4 | AT147: K | AU147: 2 | AY147: ROZPOCET | BE147: =IF(N147="základní",J147,0) -> 0 | BF147: =IF(N147="snížená",J147,0) -> 0 | BG147: =IF(N147="zákl. přenesená",J147,0) -> 0 | BH147: =IF(N147="sníž. přenesená",J147,0) -> 0 | BI147: =IF(N147="nulová",J147,0) -> 0 | BJ147: 1 | BK147: =ROUND(I147*H147,2) -> 0 | BL147: 4 | BM147: 1213256223
C148: 10 | D148: K | E148: 162701109 | F148: Příplatek k vodorovnému přemístění výkopku/sypaniny z horniny tř. 1 až 4 ZKD 1000 m přes 10000 m | G148: m3 | H148: 283.5 | J148: =ROUND(I148*H148,2) -> 0 | N148: základní | O148: 0.004 | P148: =O148*H148 -> 1.134 | Q148: 0 | R148: =Q148*H148 -> 0 | S148: 0 | T148: =S148*H148 -> 0 | AR148: 4 | AT148: K | AU148: 2 | AY148: ROZPOCET | BE148: =IF(N148="základní",J148,0) -> 0 | BF148: =IF(N148="snížená",J148,0) -> 0 | BG148: =IF(N148="zákl. přenesená",J148,0) -> 0 | BH148: =IF(N148="sníž. přenesená",J148,0) -> 0 | BI148: =IF(N148="nulová",J148,0) -> 0 | BJ148: 1 | BK148: =ROUND(I148*H148,2) -> 0 | BL148: 4 | BM148: -1910300188
D149: VV | F149: 8,1*35 'Přepočtené koeficientem množství | H149: 283.5 | AT149: VV | AU149: 2 | AV149: 2 | AW149: False | AX149: 1 | AY149: ROZPOCET
C150: 11 | D150: K | E150: 167101102 | F150: Nakládání výkopku z hornin tř. 1 až 4 přes 100 m3 | G150: m3 | H150: 118.1 | J150: =ROUND(I150*H150,2) -> 0 | N150: základní | O150: 0.097 | P150: =O150*H150 -> 11.4557 | Q150: 0 | R150: =Q150*H150 -> 0 | S150: 0 | T150: =S150*H150 -> 0 | AR150: 4 | AT150: K | AU150: 2 | AY150: ROZPOCET | BE150: =IF(N150="základní",J150,0) -> 0 | BF150: =IF(N150="snížená",J150,0) -> 0 | BG150: =IF(N150="zákl. přenesená",J150,0) -> 0 | BH150: =IF(N150="sníž. přenesená",J150,0) -> 0 | BI150: =IF(N150="nulová",J150,0) -> 0 | BJ150: 1 | BK150: =ROUND(I150*H150,2) -> 0 | BL150: 4 | BM150: 2121767789
D151: VV | F151: "stávající pol. 10" 8,100 | H151: 8.1 | AT151: VV | AU151: 2 | AV151: 2 | AW151: True | AX151: 0 | AY151: ROZPOCET
D152: VV | F152: "k přesunu pol. č. 11" 110,000 | H152: 110 | AT152: VV | AU152: 2 | AV152: 2 | AW152: True | AX152: 0 | AY152: ROZPOCET
D153: VV | F153: Součet | H153: 118.1 | AT153: VV | AU153: 2 | AV153: 4 | AW153: True | AX153: 1 | AY153: ROZPOCET
C154: 12 | D154: K | E154: 171201201 | F154: Uložení sypaniny na skládky | G154: m3 | H154: 8.1 | J154: =ROUND(I154*H154,2) -> 0 | N154: základní | O154: 0.009 | P154: =O154*H154 -> 0.0729 | Q154: 0 | R154: =Q154*H154 -> 0 | S154: 0 | T154: =S154*H154 -> 0 | AR154: 4 | AT154: K | AU154: 2 | AY154: ROZPOCET | BE154: =IF(N154="základní",J154,0) -> 0 | BF154: =IF(N154="snížená",J154,0) -> 0 | BG154: =IF(N154="zákl. přenesená",J154,0) -> 0 | BH154: =IF(N154="sníž. přenesená",J154,0) -> 0 | BI154: =IF(N154="nulová",J154,0) -> 0 | BJ154: 1 | BK154: =ROUND(I154*H154,2) -> 0 | BL154: 4 | BM154: 671859193
C155: 13 | D155: K | E155: 171201211 | F155: Poplatek za uložení odpadu ze sypaniny na skládce (skládkovné) | G155: t | H155: 15.39 | J155: =ROUND(I155*H155,2) -> 0 | N155: základní | O155: 0 | P155: =O155*H155 -> 0 | Q155: 0 | R155: =Q155*H155 -> 0 | S155: 0 | T155: =S155*H155 -> 0 | AR155: 4 | AT155: K | AU155: 2 | AY155: ROZPOCET | BE155: =IF(N155="základní",J155,0) -> 0 | BF155: =IF(N155="snížená",J155,0) -> 0 | BG155: =IF(N155="zákl. přenesená",J155,0) -> 0 | BH155: =IF(N155="sníž. přenesená",J155,0) -> 0 | BI155: =IF(N155="nulová",J155,0) -> 0 | BJ155: 1 | BK155: =ROUND(I155*H155,2) -> 0 | BL155: 4 | BM155: -506771362
C156: 14 | D156: K | E156: 181301105 | F156: Rozprostření ornice tl vrstvy do 300 mm pl do 500 m2 v rovině nebo ve svahu do 1:5 | G156: m2 | H156: 88 | J156: =ROUND(I156*H156,2) -> 0 | N156: základní | O156: 0.416 | P156: =O156*H156 -> 36.608 | Q156: 0 | R156: =Q156*H156 -> 0 | S156: 0 | T156: =S156*H156 -> 0 | AR156: 4 | AT156: K | AU156: 2 | AY156: ROZPOCET | BE156: =IF(N156="základní",J156,0) -> 0 | BF156: =IF(N156="snížená",J156,0) -> 0 | BG156: =IF(N156="zákl. přenesená",J156,0) -> 0 | BH156: =IF(N156="sníž. přenesená",J156,0) -> 0 | BI156: =IF(N156="nulová",J156,0) -> 0 | BJ156: 1 | BK156: =ROUND(I156*H156,2) -> 0 | BL156: 4 | BM156: 1871893693
C157: 15 | D157: K | E157: 181411121 | F157: Založení lučního trávníku výsevem plochy do 1000 m2 v rovině a ve svahu do 1:5 | G157: m2 | H157: 88 | J157: =ROUND(I157*H157,2) -> 0 | N157: základní | O157: 0.007 | P157: =O157*H157 -> 0.616 | Q157: 0 | R157: =Q157*H157 -> 0 | S157: 0 | T157: =S157*H157 -> 0 | AR157: 4 | AT157: K | AU157: 2 | AY157: ROZPOCET | BE157: =IF(N157="základní",J157,0) -> 0 | BF157: =IF(N157="snížená",J157,0) -> 0 | BG157: =IF(N157="zákl. přenesená",J157,0) -> 0 | BH157: =IF(N157="sníž. přenesená",J157,0) -> 0 | BI157: =IF(N157="nulová",J157,0) -> 0 | BJ157: 1 | BK157: =ROUND(I157*H157,2) -> 0 | BL157: 4 | BM157: 712733098
C158: 16 | D158: M | E158: 005724740 | F158: osivo směs travní krajinná - svahová | G158: kg | H158: 1.32 | J158: =ROUND(I158*H158,2) -> 0 | N158: základní | O158: 0 | P158: =O158*H158 -> 0 | Q158: 0.001 | R158: =Q158*H158 -> 0.00132 | S158: 0 | T158: =S158*H158 -> 0 | AR158: 8 | AT158: M | AU158: 2 | AY158: ROZPOCET | BE158: =IF(N158="základní",J158,0) -> 0 | BF158: =IF(N158="snížená",J158,0) -> 0 | BG158: =IF(N158="zákl. přenesená",J158,0) -> 0 | BH158: =IF(N158="sníž. přenesená",J158,0) -> 0 | BI158: =IF(N158="nulová",J158,0) -> 0 | BJ158: 1 | BK158: =ROUND(I158*H158,2) -> 0 | BL158: 4 | BM158: 607770284
D159: D | E159: 2 | F159: Zakládání | J159: =BK159 -> 0 | P159: =SUM(P160:P164) -> 5.058926 | R159: =SUM(R160:R164) -> 12.420725 | T159: =SUM(T160:T164) -> 0 | AR159: 1 | AT159: D | AU159: 1 | AY159: ROZPOCET | BK159: =SUM(BK160:BK164) -> 0
C160: 17 | D160: K | E160: 273321118 | F160: Základové desky ze ŽB C 30/37 | G160: m3 | H160: 4.898 | J160: =ROUND(I160*H160,2) -> 0 | N160: základní | O160: 0 | P160: =O160*H160 -> 0 | Q160: 2.526248 | R160: =Q160*H160 -> 12.373563 | S160: 0 | T160: =S160*H160 -> 0 | AR160: 4 | AT160: K | AU160: 2 | AY160: ROZPOCET | BE160: =IF(N160="základní",J160,0) -> 0 | BF160: =IF(N160="snížená",J160,0) -> 0 | BG160: =IF(N160="zákl. přenesená",J160,0) -> 0 | BH160: =IF(N160="sníž. přenesená",J160,0) -> 0 | BI160: =IF(N160="nulová",J160,0) -> 0 | BJ160: 1 | BK160: =ROUND(I160*H160,2) -> 0 | BL160: 4 | BM160: 915494894
C161: 18 | D161: K | E161: 273354111 | F161: Bednění základových desek - zřízení | G161: m2 | H161: 6.65 | J161: =ROUND(I161*H161,2) -> 0 | N161: základní | O161: 0.397 | P161: =O161*H161 -> 2.64005 | Q161: 0.0014357 | R161: =Q161*H161 -> 0.009547405 | S161: 0 | T161: =S161*H161 -> 0 | AR161: 4 | AT161: K | AU161: 2 | AY161: ROZPOCET | BE161: =IF(N161="základní",J161,0) -> 0 | BF161: =IF(N161="snížená",J161,0) -> 0 | BG161: =IF(N161="zákl. přenesená",J161,0) -> 0 | BH161: =IF(N161="sníž. přenesená",J161,0) -> 0 | BI161: =IF(N161="nulová",J161,0) -> 0 | BJ161: 1 | BK161: =ROUND(I161*H161,2) -> 0 | BL161: 4 | BM161: 1568760292
C162: 19 | D162: K | E162: 273354211 | F162: Bednění základových desek - odstranění | G162: m2 | H162: 6.65 | J162: =ROUND(I162*H162,2) -> 0 | N162: základní | O162: 0.144 | P162: =O162*H162 -> 0.9576 | Q162: 3.6e-05 | R162: =Q162*H162 -> 0.0002394 | S162: 0 | T162: =S162*H162 -> 0 | AR162: 4 | AT162: K | AU162: 2 | AY162: ROZPOCET | BE162: =IF(N162="základní",J162,0) -> 0 | BF162: =IF(N162="snížená",J162,0) -> 0 | BG162: =IF(N162="zákl. přenesená",J162,0) -> 0 | BH162: =IF(N162="sníž. přenesená",J162,0) -> 0 | BI162: =IF(N162="nulová",J162,0) -> 0 | BJ162: 1 | BK162: =ROUND(I162*H162,2) -> 0 | BL162: 4 | BM162: -1111694145
C163: 20 | D163: K | E163: 273361116 | F163: Výztuž základových desek z betonářské oceli 10 505 | G163: t | H163: 0.036 | J163: =ROUND(I163*H163,2) -> 0 | N163: základní | O163: 40.591 | P163: =O163*H163 -> 1.461276 | Q163: 1.038217 | R163: =Q163*H163 -> 0.037375812 | S163: 0 | T163: =S163*H163 -> 0 | AR163: 4 | AT163: K | AU163: 2 | AY163: ROZPOCET | BE163: =IF(N163="základní",J163,0) -> 0 | BF163: =IF(N163="snížená",J163,0) -> 0 | BG163: =IF(N163="zákl. přenesená",J163,0) -> 0 | BH163: =IF(N163="sníž. přenesená",J163,0) -> 0 | BI163: =IF(N163="nulová",J163,0) -> 0 | BJ163: 1 | BK163: =ROUND(I163*H163,2) -> 0 | BL163: 4 | BM163: 1395173151
C164: 21 | D164: K | E164: 273361413-R | F164: Výztuž základových desek ze svařovaných sítí do 8 kg/m2 | G164: t | H164: 0.455 | J164: =ROUND(I164*H164,2) -> 0 | N164: základní | O164: 0 | P164: =O164*H164 -> 0 | Q164: 0 | R164: =Q164*H164 -> 0 | S164: 0 | T164: =S164*H164 -> 0 | AR164: 4 | AT164: K | AU164: 2 | AY164: ROZPOCET | BE164: =IF(N164="základní",J164,0) -> 0 | BF164: =IF(N164="snížená",J164,0) -> 0 | BG164: =IF(N164="zákl. přenesená",J164,0) -> 0 | BH164: =IF(N164="sníž. přenesená",J164,0) -> 0 | BI164: =IF(N164="nulová",J164,0) -> 0 | BJ164: 1 | BK164: =ROUND(I164*H164,2) -> 0 | BL164: 4 | BM164: 481913599
...

Sheet SO 01.2 - Železniční svrš...
L2: >> skryté sloupce << | AT2: {109da158-d775-439d-b079-9c1b36a01475}
AT3: 2
D4: KRYCÍ LIST SOUPISU PRACÍ | M4: v --- níže se nacházejí doplnkové a pomocné údaje k sestavám --- v | AT4: False
D6: Stavba:
E7: ='Rekapitulace stavby'!K6 -> Oprava propustků v km 24,666, 25,142, 25,589 a 25,786 na trati Vsetín - Velké Karlovice
D8: Objekt:
E9: SO 01 - Propustek v km 24,666
D10: Soupis:
E11: SO 01.2 - Železniční svršek - km 24,666
D13: KSO: | I13: CC-CZ:
D14: Místo: | I14: Datum: | J14: ='Rekapitulace stavby'!AN8 -> 0
D16: Zadavatel: | I16: IČ:
I17: DIČ:
D19: Zhotovitel: | I19: IČ: | J19: ='Rekapitulace stavby'!AN13
E20: ='Rekapitulace stavby'!E14 | I20: DIČ: | J20: ='Rekapitulace stavby'!AN14
D22: Projektant: | I22: IČ:
I23: DIČ:
D25: Zpracovatel: | I25: IČ:
I26: DIČ:
D28: Poznámka:
D32: Cena bez DPH | J32: =ROUND(J122, 2) -> 0
F34: Základ daně | I34: Sazba daně | J34: Výše daně
D35: DPH | E35: základní | F35: =ROUND((SUM(BE122:BE148)), 2) -> 0 | I35: 0.21 | J35: =ROUND(((SUM(BE122:BE148))*I35), 2) -> 0
E36: snížená | F36: =ROUND((SUM(BF122:BF148)), 2) -> 0 | I36: 0.15 | J36: =ROUND(((SUM(BF122:BF148))*I36), 2) -> 0
E37: zákl. přenesená | F37: =ROUND((SUM(BG122:BG148)), 2) -> 0 | I37: 0.21 | J37: =0 -> 0
E38: sníž. přenesená | F38: =ROUND((SUM(BH122:BH148)), 2) -> 0 | I38: 0.15 | J38: =0 -> 0
E39: nulová | F39: =ROUND((SUM(BI122:BI148)), 2) -> 0 | I39: 0 | J39: =0 -> 0
D41: Cena s DPH | G41: v | H41: CZK | J41: =SUM(J32:J39) -> 0
D50: Projektant | G50: Zpracovatel
D61: Datum a podpis: | F61: Razítko | G61: Datum a podpis: | J61: Razítko
D65: Objednavatel | G65: Zhotovitel
D76: Datum a podpis: | F76: Razítko | G76: Datum a podpis: | J76: Razítko
C82: REKAPITULACE ČLENĚNÍ SOUPISU PRACÍ
C84: Stavba:
E85: =E7 -> Oprava propustků v km 24,666, 25,142, 25,589 a 25,786 na trati Vsetín - Velké Karlovice
C86: Objekt:
E87: SO 01 - Propustek v km 24,666
C88: Soupis:
E89: =E11 -> SO 01.2 - Železniční svršek - km 24,666
C91: Místo: | F91: =F14 | I91: Datum: | J91: =IF(J14="","",J14) -> 0
C93: Zadavatel: | F93: =E17 | I93: Projektant: | J93: =E23
C94: Zhotovitel: | F94: =IF(E20="","",E20) | I94: Zpracovatel: | J94: =E26
C96: Kód dílu - Popis | J96: Cena celkem [CZK]
C98: Náklady ze soupisu prací | J98: =J122 -> 0 | AU98: -1
D99: 5 - Komunikace | J99: =J123 -> 0
D100: OST - Ostatní | J100: =J141 -> 0
C107: SOUPIS PRACÍ
C109: Stavba:
E110: =E7 -> Oprava propustků v km 24,666, 25,142, 25,589 a 25,786 na trati Vsetín - Velké Karlovice
C111: Objekt:
E112: SO 01 - Propustek v km 24,666
C113: Soupis:
E114: =E11 -> SO 01.2 - Železniční svršek - km 24,666
C116: Místo: | F116: =F14 | I116: Datum: | J116: =IF(J14="","",J14) -> 0
C118: Zadavatel: | F118: =E17 | I118: Projektant: | J118: =E23
C119: Zhotovitel: | F119: =IF(E20="","",E20) | I119: Zpracovatel: | J119: =E26
C121: PČ | D121: Typ | E121: Kód | F121: Popis | G121: MJ | H121: Množství | I121: J.cena [CZK] | J121: Cena celkem [CZK] | K121: Cenová soustava | N121: DPH | O121: J. Nh [h] | P121: Nh celkem [h] | Q121: J. hmotnost [t] | R121: Hmotnost celkem [t] | S121: J. suť [t] | T121: Suť Celkem [t]
C122: Náklady soupisu celkem | J122: =BK122 -> 0 | P122: =P123+P141 -> 0 | R122: =R123+R141 -> 135.458 | T122: =T123+T141 -> 0 | AT122: D | AU122: -1 | BK122: =BK123+BK141 -> 0
D123: D | E123: 5 | F123: Komunikace | J123: =BK123 -> 0 | P123: =SUM(P124:P140) -> 0 | R123: =SUM(R124:R140) -> 135.458 | T123: =SUM(T124:T140) -> 0 | AR123: 1 | AT123: D | AU123: 0 | AY123: ROZPOCET | BK123: =SUM(BK124:BK140) -> 0
C124: 1 | D124: K | E124: 5905055010 | F124: Odstranění stávajícího kolejového lože odtěžením v koleji | G124: m3 | H124: 28.504 | J124: =ROUND(I124*H124,2) -> 0 | K124: ÚOŽI 2019 01 | N124: základní | O124: 0 | P124: =O124*H124 -> 0 | Q124: 0 | R124: =Q124*H124 -> 0 | S124: 0 | T124: =S124*H124 -> 0 | AR124: 4 | AT124: K | AU124: 1 | AY124: ROZPOCET | BE124: =IF(N124="základní",J124,0) -> 0 | BF124: =IF(N124="snížená",J124,0) -> 0 | BG124: =IF(N124="zákl. přenesená",J124,0) -> 0 | BH124: =IF(N124="sníž. přenesená",J124,0) -> 0 | BI124: =IF(N124="nulová",J124,0) -> 0 | BJ124: 1 | BK124: =ROUND(I124*H124,2) -> 0 | BL124: 4 | BM124: -1863783721
C125: 2 | D125: K | E125: 5905060010 | F125: Zřízení nového kolejového lože v koleji | G125: m3 | H125: 36 | J125: =ROUND(I125*H125,2) -> 0 | K125: ÚOŽI 2019 01 | N125: základní | O125: 0 | P125: =O125*H125 -> 0 | Q125: 0 | R125: =Q125*H125 -> 0 | S125: 0 | T125: =S125*H125 -> 0 | AR125: 4 | AT125: K | AU125: 1 | AY125: ROZPOCET | BE125: =IF(N125="základní",J125,0) -> 0 | BF125: =IF(N125="snížená",J125,0) -> 0 | BG125: =IF(N125="zákl. přenesená",J125,0) -> 0 | BH125: =IF(N125="sníž. přenesená",J125,0) -> 0 | BI125: =IF(N125="nulová",J125,0) -> 0 | BJ125: 1 | BK125: =ROUND(I125*H125,2) -> 0 | BL125: 4 | BM125: -415446948
C126: 3 | D126: M | E126: 5955101000 | F126: Kamenivo drcené štěrk frakce 31,5/63 třídy BI | G126: t | H126: 135.458 | J126: =ROUND(I126*H126,2) -> 0 | K126: ÚOŽI 2019 01 | N126: základní | O126: 0 | P126: =O126*H126 -> 0 | Q126: 1 | R126: =Q126*H126 -> 135.458 | S126: 0 | T126: =S126*H126 -> 0 | AR126: 8 | AT126: M | AU126: 1 | AY126: ROZPOCET | BE126: =IF(N126="základní",J126,0) -> 0 | BF126: =IF(N126="snížená",J126,0) -> 0 | BG126: =IF(N126="zákl. přenesená",J126,0) -> 0 | BH126: =IF(N126="sníž. přenesená",J126,0) -> 0 | BI126: =IF(N126="nulová",J126,0) -> 0 | BJ126: 1 | BK126: =ROUND(I126*H126,2) -> 0 | BL126: 4 | BM126: 738228903
C127: 4 | D127: K | E127: 5905065010 | F127: Samostatná úprava vrstvy kolejového lože pod ložnou plochou pražců v koleji | G127: m2 | H127: 57.68 | J127: =ROUND(I127*H127,2) -> 0 | K127: ÚOŽI 2019 01 | N127: základní | O127: 0 | P127: =O127*H127 -> 0 | Q127: 0 | R127: =Q127*H127 -> 0 | S127: 0 | T127: =S127*H127 -> 0 | AR127: 4 | AT127: K | AU127: 1 | AY127: ROZPOCET | BE127: =IF(N127="základní",J127,0) -> 0 | BF127: =IF(N127="snížená",J127,0) -> 0 | BG127: =IF(N127="zákl. přenesená",J127,0) -> 0 | BH127: =IF(N127="sníž. přenesená",J127,0) -> 0 | BI127: =IF(N127="nulová",J127,0) -> 0 | BJ127: 1 | BK127: =ROUND(I127*H127,2) -> 0 | BL127: 4 | BM127: 221702436
C128: 5 | D128: K | E128: 5905110010 | F128: Snížení KL pod patou kolejnice v koleji | G128: km | H128: 0.08 | J128: =ROUND(I128*H128,2) -> 0 | K128: ÚOŽI 2019 01 | N128: základní | O128: 0 | P128: =O128*H128 -> 0 | Q128: 0 | R128: =Q128*H128 -> 0 | S128: 0 | T128: =S128*H128 -> 0 | AR128: 4 | AT128: K | AU128: 1 | AY128: ROZPOCET | BE128: =IF(N128="základní",J128,0) -> 0 | BF128: =IF(N128="snížená",J128,0) -> 0 | BG128: =IF(N128="zákl. přenesená",J128,0) -> 0 | BH128: =IF(N128="sníž. přenesená",J128,0) -> 0 | BI128: =IF(N128="nulová",J128,0) -> 0 | BJ128: 1 | BK128: =ROUND(I128*H128,2) -> 0 | BL128: 4 | BM128: 1634481578
C129: 6 | D129: K | E129: 5906130170 | F129: Montáž kolejového roštu v ose koleje pražce dřevěné vystrojené tv. S49 rozdělení "c" | G129: km | H129: 0.014 | J129: =ROUND(I129*H129,2) -> 0 | K129: ÚOŽI 2019 01 | N129: základní | O129: 0 | P129: =O129*H129 -> 0 | Q129: 0 | R129: =Q129*H129 -> 0 | S129: 0 | T129: =S129*H129 -> 0 | AR129: 4 | AT129: K | AU129: 1 | AY129: ROZPOCET | BE129: =IF(N129="základní",J129,0) -> 0 | BF129: =IF(N129="snížená",J129,0) -> 0 | BG129: =IF(N129="zákl. přenesená",J129,0) -> 0 | BH129: =IF(N129="sníž. přenesená",J129,0) -> 0 | BI129: =IF(N129="nulová",J129,0) -> 0 | BJ129: 1 | BK129: =ROUND(I129*H129,2) -> 0 | BL129: 4 | BM129: -452453149
C130: 7 | D130: K | E130: 5906140235 | F130: Demontáž kolejového roštu koleje v ose koleje pražce betonové tv. T rozdělení "c" | G130: km | H130: 0.014 | J130: =ROUND(I130*H130,2) -> 0 | K130: ÚOŽI 2019 01 | N130: základní | O130: 0 | P130: =O130*H130 -> 0 | Q130: 0 | R130: =Q130*H130 -> 0 | S130: 0 | T130: =S130*H130 -> 0 | AR130: 4 | AT130: K | AU130: 1 | AY130: ROZPOCET | BE130: =IF(N130="základní",J130,0) -> 0 | BF130: =IF(N130="snížená",J130,0) -> 0 | BG130: =IF(N130="zákl. přenesená",J130,0) -> 0 | BH130: =IF(N130="sníž. přenesená",J130,0) -> 0 | BI130: =IF(N130="nulová",J130,0) -> 0 | BJ130: 1 | BK130: =ROUND(I130*H130,2) -> 0 | BL130: 4 | BM130: -1651480261
C131: 8 | D131: K | E131: 5907050020 | F131: Dělení kolejnic řezáním nebo rozbroušením tv. S49 | G131: kus | H131: 4 | J131: =ROUND(I131*H131,2) -> 0 | K131: ÚOŽI 2019 01 | N131: základní | O131: 0 | P131: =O131*H131 -> 0 | Q131: 0 | R131: =Q131*H131 -> 0 | S131: 0 | T131: =S131*H131 -> 0 | AR131: 4 | AT131: K | AU131: 1 | AY131: ROZPOCET | BE131: =IF(N131="základní",J131,0) -> 0 | BF131: =IF(N131="snížená",J131,0) -> 0 | BG131: =IF(N131="zákl. přenesená",J131,0) -> 0 | BH131: =IF(N131="sníž. přenesená",J131,0) -> 0 | BI131: =IF(N131="nulová",J131,0) -> 0 | BJ131: 1 | BK131: =ROUND(I131*H131,2) -> 0 | BL131: 4 | BM131: -1415926575
C132: 9 | D132: K | E132: 5909032020 | F132: Přesná úprava GPK koleje směrové a výškové uspořádání pražce betonové | G132: km | H132: 0.24 | J132: =ROUND(I132*H132,2) -> 0 | K132: ÚOŽI 2019 01 | N132: základní | O132: 0 | P132: =O132*H132 -> 0 | Q132: 0 | R132: =Q132*H132 -> 0 | S132: 0 | T132: =S132*H132 -> 0 | AR132: 4 | AT132: K | AU132: 1 | AY132: ROZPOCET | BE132: =IF(N132="základní",J132,0) -> 0 | BF132: =IF(N132="snížená",J132,0) -> 0 | BG132: =IF(N132="zákl. přenesená",J132,0) -> 0 | BH132: =IF(N132="sníž. přenesená",J132,0) -> 0 | BI132: =IF(N132="nulová",J132,0) -> 0 | BJ132: 1 | BK132: =ROUND(I132*H132,2) -> 0 | BL132: 4 | BM132: 1872517314
C133: 10 | D133: K | E133: 5910020130 | F133: Svařování kolejnic termitem plný předehřev standardní spára svar jednotlivý tv. S49 | G133: svar | H133: 4 | J133: =ROUND(I133*H133,2) -> 0 | K133: ÚOŽI 2019 01 | N133: základní | O133: 0 | P133: =O133*H133 -> 0 | Q133: 0 | R133: =Q133*H133 -> 0 | S133: 0 | T133: =S133*H133 -> 0 | AR133: 4 | AT133: K | AU133: 1 | AY133: ROZPOCET | BE133: =IF(N133="základní",J133,0) -> 0 | BF133: =IF(N133="snížená",J133,0) -> 0 | BG133: =IF(N133="zákl. přenesená",J133,0) -> 0 | BH133: =IF(N133="sníž. přenesená",J133,0) -> 0 | BI133: =IF(N133="nulová",J133,0) -> 0 | BJ133: 1 | BK133: =ROUND(I133*H133,2) -> 0 | BL133: 4 | BM133: -1323081679
C134: 11 | D134: K | E134: 5910035030 | F134: Dosažení dovolené upínací teploty v BK prodloužením kolejnicového pásu v koleji tv. S49 | G134: svar | H134: 2 | J134: =ROUND(I134*H134,2) -> 0 | K134: ÚOŽI 2019 01 | N134: základní | O134: 0 | P134: =O134*H134 -> 0 | Q134: 0 | R134: =Q134*H134 -> 0 | S134: 0 | T134: =S134*H134 -> 0 | AR134: 4 | AT134: K | AU134: 1 | AY134: ROZPOCET | BE134: =IF(N134="základní",J134,0) -> 0 | BF134: =IF(N134="snížená",J134,0) -> 0 | BG134: =IF(N134="zákl. přenesená",J134,0) -> 0 | BH134: =IF(N134="sníž. přenesená",J134,0) -> 0 | BI134: =IF(N134="nulová",J134,0) -> 0 | BJ134: 1 | BK134: =ROUND(I134*H134,2) -> 0 | BL134: 4 | BM134: -1150954584
C135: 12 | D135: K | E135: 5910040310 | F135: Umožnění volné dilatace kolejnice demontáž upevňovadel s osazením kluzných podložek rozdělení pražců "c" | G135: m | H135: 200 | J135: =ROUND(I135*H135,2) -> 0 | K135: ÚOŽI 2019 01 | N135: základní | O135: 0 | P135: =O135*H135 -> 0 | Q135: 0 | R135: =Q135*H135 -> 0 | S135: 0 | T135: =S135*H135 -> 0 | AR135: 4 | AT135: K | AU135: 1 | AY135: ROZPOCET | BE135: =IF(N135="základní",J135,0) -> 0 | BF135: =IF(N135="snížená",J135,0) -> 0 | BG135: =IF(N135="zákl. přenesená",J135,0) -> 0 | BH135: =IF(N135="sníž. přenesená",J135,0) -> 0 | BI135: =IF(N135="nulová",J135,0) -> 0 | BJ135: 1 | BK135: =ROUND(I135*H135,2) -> 0 | BL135: 4 | BM135: 428531032
... C140: 17 | D140: K | E140: 5999005030 | F140: Třídění kolejnic | G140: t | H140: 1.4 | J140: =ROUND(I140*H140,2) -> 0 | K140: ÚOŽI 2019 01 | N140: základní | O140: 0 | P140: =O140*H140 -> 0 | Q140: 0 | R140: =Q140*H140 -> 0 | S140: 0 | T140: =S140*H140 -> 0 | AR140: 4 | AT140: K | AU140: 1 | AY140: ROZPOCET | BE140: =IF(N140="základní",J140,0) -> 0 | BF140: =IF(N140="snížená",J140,0) -> 0 | BG140: =IF(N140="zákl. přenesená",J140,0) -> 0 | BH140: =IF(N140="sníž. přenesená",J140,0) -> 0 | BI140: =IF(N140="nulová",J140,0) -> 0 | BJ140: 1 | BK140: =ROUND(I140*H140,2) -> 0 | BL140: 4 | BM140: -859329435
D141: D | E141: OST | F141: Ostatní | J141: =BK141 -> 0 | P141: =SUM(P142:P148) -> 0 | R141: =SUM(R142:R148) -> 0 | T141: =SUM(T142:T148) -> 0 | AR141: 4 | AT141: D | AU141: 0 | AY141: ROZPOCET | BK141: =SUM(BK142:BK148) -> 0
C142: 18 | D142: K | E142: 9902100400 | F142: Doprava dodávek zhotovitele, dodávek objednatele nebo výzisku mechanizací přes 3,5 t sypanin do 40 km | G142: t | H142: 45.606 | J142: =ROUND(I142*H142,2) -> 0 | K142: ÚOŽI 2019 01 | N142: základní | O142: 0 | P142: =O142*H142 -> 0 | Q142: 0 | R142: =Q142*H142 -> 0 | S142: 0 | T142: =S142*H142 -> 0 | AR142: 512 | AT142: K | AU142: 1 | AY142: ROZPOCET | BE142: =IF(N142="základní",J142,0) -> 0 | BF142: =IF(N142="snížená",J142,0) -> 0 | BG142: =IF(N142="zákl. přenesená",J142,0) -> 0 | BH142: =IF(N142="sníž. přenesená",J142,0) -> 0 | BI142: =IF(N142="nulová",J142,0) -> 0 | BJ142: 1 | BK142: =ROUND(I142*H142,2) -> 0 | BL142: 512 | BM142: -1619727582
C143: 19 | D143: K | E143: 9902100600 | F143: Doprava dodávek zhotovitele, dodávek objednatele nebo výzisku mechanizací přes 3,5 t sypanin do 80 km | G143: t | H143: 135.458 | J143: =ROUND(I143*H143,2) -> 0 | K143: ÚOŽI 2019 01 | N143: základní | O143: 0 | P143: =O143*H143 -> 0 | Q143: 0 | R143: =Q143*H143 -> 0 | S143: 0 | T143: =S143*H143 -> 0 | AR143: 512 | AT143: K | AU143: 1 | AY143: ROZPOCET | BE143: =IF(N143="základní",J143,0) -> 0 | BF143: =IF(N143="snížená",J143,0) -> 0 | BG143: =IF(N143="zákl. přenesená",J143,0) -> 0 | BH143: =IF(N143="sníž. přenesená",J143,0) -> 0 | BI143: =IF(N143="nulová",J143,0) -> 0 | BJ143: 1 | BK143: =ROUND(I143*H143,2) -> 0 | BL143: 512 | BM143: -118339026
C144: 20 | D144: K | E144: 9902200400 | F144: Doprava dodávek zhotovitele, dodávek objednatele nebo výzisku mechanizací přes 3,5 t objemnějšího kusového materiálu do 40 km | G144: t | H144: 8.415 | J144: =ROUND(I144*H144,2) -> 0 | K144: ÚOŽI 2019 01 | N144: základní | O144: 0 | P144: =O144*H144 -> 0 | Q144: 0 | R144: =Q144*H144 -> 0 | S144: 0 | T144: =S144*H144 -> 0 | AR144: 512 | AT144: K | AU144: 1 | AY144: ROZPOCET | BE144: =IF(N144="základní",J144,0) -> 0 | BF144: =IF(N144="snížená",J144,0) -> 0 | BG144: =IF(N144="zákl. přenesená",J144,0) -> 0 | BH144: =IF(N144="sníž. přenesená",J144,0) -> 0 | BI144: =IF(N144="nulová",J144,0) -> 0 | BJ144: 1 | BK144: =ROUND(I144*H144,2) -> 0 | BL144: 512 | BM144: -1341879382
C145: 21 | D145: K | E145: 9902900100 | F145: Naložení sypanin, drobného kusového materiálu, suti | G145: t | H145: 45.606 | J145: =ROUND(I145*H145,2) -> 0 | K145: ÚOŽI 2019 01 | N145: základní | O145: 0 | P145: =O145*H145 -> 0 | Q145: 0 | R145: =Q145*H145 -> 0 | S145: 0 | T145: =S145*H145 -> 0 | AR145: 512 | AT145: K | AU145: 1 | AY145: ROZPOCET | BE145: =IF(N145="základní",J145,0) -> 0 | BF145: =IF(N145="snížená",J145,0) -> 0 | BG145: =IF(N145="zákl. přenesená",J145,0) -> 0 | BH145: =IF(N145="sníž. přenesená",J145,0) -> 0 | BI145: =IF(N145="nulová",J145,0) -> 0 | BJ145: 1 | BK145: =ROUND(I145*H145,2) -> 0 | BL145: 512 | BM145: -1359645633
C146: 22 | D146: K | E146: 9903100100 | F146: Přeprava mechanizace na místo prováděných prací o hmotnosti do 12 t přes 50 do 100 km | G146: kus | H146: 1 | J146: =ROUND(I146*H146,2) -> 0 | K146: ÚOŽI 2019 01 | N146: základní | O146: 0 | P146: =O146*H146 -> 0 | Q146: 0 | R146: =Q146*H146 -> 0 | S146: 0 | T146: =S146*H146 -> 0 | AR146: 512 | AT146: K | AU146: 1 | AY146: ROZPOCET | BE146: =IF(N146="základní",J146,0) -> 0 | BF146: =IF(N146="snížená",J146,0) -> 0 | BG146: =IF(N146="zákl. přenesená",J146,0) -> 0 | BH146: =IF(N146="sníž. přenesená",J146,0) -> 0 | BI146: =IF(N146="nulová",J146,0) -> 0 | BJ146: 1 | BK146: =ROUND(I146*H146,2) -> 0 | BL146: 512 | BM146: 619557071
C147: 23 | D147: K | E147: 9903200100 | F147: Přeprava mechanizace na místo prováděných prací o hmotnosti přes 12 t přes 50 do 100 km | G147: kus | H147: 3 | J147: =ROUND(I147*H147,2) -> 0 | K147: ÚOŽI 2019 01 | N147: základní | O147: 0 | P147: =O147*H147 -> 0 | Q147: 0 | R147: =Q147*H147 -> 0 | S147: 0 | T147: =S147*H147 -> 0 | AR147: 512 | AT147: K | AU147: 1 | AY147: ROZPOCET | BE147: =IF(N147="základní",J147,0) -> 0 | BF147: =IF(N147="snížená",J147,0) -> 0 | BG147: =IF(N147="zákl. přenesená",J147,0) -> 0 | BH147: =IF(N147="sníž. přenesená",J147,0) -> 0 | BI147: =IF(N147="nulová",J147,0) -> 0 | BJ147: 1 | BK147: =ROUND(I147*H147,2) -> 0 | BL147: 512 | BM147: -1922790196
C148: 24 | D148: K | E148: 9909000100 | F148: Poplatek za uložení suti nebo hmot na oficiální skládku | G148: t | H148: 45.606 | J148: =ROUND(I148*H148,2) -> 0 | K148: ÚOŽI 2019 01 | N148: základní | O148: 0 | P148: =O148*H148 -> 0 | Q148: 0 | R148: =Q148*H148 -> 0 | S148: 0 | T148: =S148*H148 -> 0 | AR148: 512 | AT148: K | AU148: 1 | AY148: ROZPOCET | BE148: =IF(N148="základní",J148,0) -> 0 | BF148: =IF(N148="snížená",J148,0) -> 0 | BG148: =IF(N148="zákl. přenesená",J148,0) -> 0 | BH148: =IF(N148="sníž. přenesená",J148,0) -> 0 | BI148: =IF(N148="nulová",J148,0) -> 0 | BJ148: 1 | BK148: =ROUND(I148*H148,2) -> 0 | BL148: 512 | BM148: 1700076764

Sheet SO 02.1 - Oprava propustk...
L2: >> skryté sloupce << | AT2: {86437e26-d5f0-40b8-82d4-df29692f269f}
AT3: 2
D4: KRYCÍ LIST SOUPISU PRACÍ | M4: v --- níže se nacházejí doplnkové a pomocné údaje k sestavám --- v | AT4: False
D6: Stavba:
E7: ='Rekapitulace stavby'!K6 -> Oprava propustků v km 24,666, 25,142, 25,589 a 25,786 na trati Vsetín - Velké Karlovice
D8: Objekt:
E9: SO 02 - Propustek v km 25,142
D10: Soupis:
E11: SO 02.1 - Oprava propustku - km 25,142
D13: KSO: | I13: CC-CZ:
D14: Místo: | I14: Datum: | J14: ='Rekapitulace stavby'!AN8 -> 0
D16: Zadavatel: | I16: IČ:
I17: DIČ:
D19: Zhotovitel: | I19: IČ: | J19: ='Rekapitulace stavby'!AN13
E20: ='Rekapitulace stavby'!E14 | I20: DIČ: | J20: ='Rekapitulace stavby'!AN14
D22: Projektant: | I22: IČ:
I23: DIČ:
D25: Zpracovatel: | I25: IČ:
I26: DIČ:
D28: Poznámka:
D32: Cena bez DPH | J32: =ROUND(J135, 2) -> 0
F34: Základ daně | I34: Sazba daně | J34: Výše daně
D35: DPH | E35: základní | F35: =ROUND((SUM(BE135:BE230)), 2) -> 0 | I35: 0.21 | J35: =ROUND(((SUM(BE135:BE230))*I35), 2) -> 0
E36: snížená | F36: =ROUND((SUM(BF135:BF230)), 2) -> 0 | I36: 0.15 | J36: =ROUND(((SUM(BF135:BF230))*I36), 2) -> 0
E37: zákl. přenesená | F37: =ROUND((SUM(BG135:BG230)), 2) -> 0 | I37: 0.21 | J37: =0 -> 0
E38: sníž. přenesená | F38: =ROUND((SUM(BH135:BH230)), 2) -> 0 | I38: 0.15 | J38: =0 -> 0
E39: nulová | F39: =ROUND((SUM(BI135:BI230)), 2) -> 0 | I39: 0 | J39: =0 -> 0
D41: Cena s DPH | G41: v | H41: CZK | J41: =SUM(J32:J39) -> 0
D50: Projektant | G50: Zpracovatel
D61: Datum a podpis: | F61: Razítko | G61: Datum a podpis: | J61: Razítko
D65: Objednavatel | G65: Zhotovitel
D76: Datum a podpis: | F76: Razítko | G76: Datum a podpis: | J76: Razítko
C82: REKAPITULACE ČLENĚNÍ SOUPISU PRACÍ
C84: Stavba:
E85: =E7 -> Oprava propustků v km 24,666, 25,142, 25,589 a 25,786 na trati Vsetín - Velké Karlovice
C86: Objekt:
E87: SO 02 - Propustek v km 25,142
C88: Soupis:
E89: =E11 -> SO 02.1 - Oprava propustku - km 25,142
C91: Místo: | F91: =F14 | I91: Datum: | J91: =IF(J14="","",J14) -> 0
C93: Zadavatel: | F93: =E17 | I93: Projektant: | J93: =E23
C94: Zhotovitel: | F94: =IF(E20="","",E20) | I94: Zpracovatel: | J94: =E26
C96: Kód dílu - Popis | J96: Cena celkem [CZK]
C98: Náklady ze soupisu prací | J98: =J135 -> 0 | AU98: -1
D99: HSV - Práce a dodávky HSV | J99: =J136 -> 0
D100: 1 - Zemní práce | J100: =J137 -> 0
D101: 2 - Zakládání | J101: =J161 -> 0
D102: 3 - Svislé a kompletní konstrukce | J102: =J169 -> 0
D103: 4 - Vodorovné konstrukce | J103: =J181 -> 0
D104: 9 - Ostatní konstrukce a práce-bourání | J104: =J192 -> 0
D105: 997 - Přesun sutě | J105: =J201 -> 0
D106: 998 - Přesun hmot | J106: =J208 -> 0
D107: PSV - Práce a dodávky PSV | J107: =J211 -> 0
D108: 711 - Izolace proti vodě, vlhkosti a plynům | J108: =J212 -> 0
D109: VRN - Vedlejší rozpočtové náklady | J109: =J218 -> 0
D110: VRN1 - Průzkumné, geodetické a projektové práce | J110: =J219 -> 0
D111: VRN3 - Zařízení staveniště | J111: =J222 -> 0
D112: VRN6 - Územní vlivy | J112: =J226 -> 0
D113: VRN9 - Ostatní náklady | J113: =J228 -> 0
C120: SOUPIS PRACÍ
C122: Stavba:
E123: =E7 -> Oprava propustků v km 24,666, 25,142, 25,589 a 25,786 na trati Vsetín - Velké Karlovice
C124: Objekt:
E125: SO 02 - Propustek v km 25,142
C126: Soupis:
E127: =E11 -> SO 02.1 - Oprava propustku - km 25,142
C129: Místo: | F129: =F14 | I129: Datum: | J129: =IF(J14="","",J14) -> 0
C131: Zadavatel: | F131: =E17 | I131: Projektant: | J131: =E23
C132: Zhotovitel: | F132: =IF(E20="","",E20) | I132: Zpracovatel: | J132: =E26
C134: PČ | D134: Typ | E134: Kód | F134: Popis | G134: MJ | H134: Množství | I134: J.cena [CZK] | J134: Cena celkem [CZK] | K134: Cenová soustava | N134: DPH | O134: J. Nh [h] | P134: Nh celkem [h] | Q134: J. hmotnost [t] | R134: Hmotnost celkem [t] | S134: J. suť [t] | T134: Suť Celkem [t]
C135: Náklady soupisu celkem | J135: =BK135 -> 0 | P135: =P136+P211+P218 -> 841.0494 | R135: =R136+R211+R218 -> 108.677 | T135: =T136+T211+T218 -> 83.27164 | AT135: D | AU135: -1 | BK135: =BK136+BK211+BK218 -> 0
D136: D | E136: HSV | F136: Práce a dodávky HSV | J136: =BK136 -> 0 | P136: =P137+P161+P169+P181+P192+P201+P208 -> 829.36411 | R136: =R137+R161+R169+R181+R192+R201+R208 -> 107.77395 | T136: =T137+T161+T169+T181+T192+T201+T208 -> 83.27164 | AR136: 1 | AT136: D | AU136: 0 | AY136: ROZPOCET | BK136: =BK137+BK161+BK169+BK181+BK192+BK201+BK208 -> 0
D137: D | E137: 1 | F137: Zemní práce | J137: =BK137 -> 0 | P137: =SUM(P138:P160) -> 127.94694 | R137: =SUM(R138:R160) -> 0.27081722 | T137: =SUM(T138:T160) -> 0 | AR137: 1 | AT137: D | AU137: 1 | AY137: ROZPOCET | BK137: =SUM(BK138:BK160) -> 0
C138: 1 | D138: K | E138: 115001105 | F138: Převedení vody potrubím DN do 600 | G138: m | H138: 15 | J138: =ROUND(I138*H138,2) -> 0 | N138: základní | O138: 0.987 | P138: =O138*H138 -> 14.805 | Q138: 0.017971748 | R138: =Q138*H138 -> 0.26957622 | S138: 0 | T138: =S138*H138 -> 0 | AR138: 4 | AT138: K | AU138: 2 | AY138: ROZPOCET | BE138: =IF(N138="základní",J138,0) -> 0 | BF138: =IF(N138="snížená",J138,0) -> 0 | BG138: =IF(N138="zákl. přenesená",J138,0) -> 0 | BH138: =IF(N138="sníž. přenesená",J138,0) -> 0 | BI138: =IF(N138="nulová",J138,0) -> 0 | BJ138: 1 | BK138: =ROUND(I138*H138,2) -> 0 | BL138: 4 | BM138: -561209564
C139: 2 | D139: K | E139: 115101202 | F139: Čerpání vody na dopravní výšku do 10 m průměrný přítok do 1000 l/min | G139: hod | H139: 32 | J139: =ROUND(I139*H139,2) -> 0 | N139: základní | O139: 0.3 | P139: =O139*H139 -> 9.6 | Q139: 0 | R139: =Q139*H139 -> 0 | S139: 0 | T139: =S139*H139 -> 0 | AR139: 4 | AT139: K | AU139: 2 | AY139: ROZPOCET | BE139: =IF(N139="základní",J139,0) -> 0 | BF139: =IF(N139="snížená",J139,0) -> 0 | BG139: =IF(N139="zákl. přenesená",J139,0) -> 0 | BH139: =IF(N139="sníž. přenesená",J139,0) -> 0 | BI139: =IF(N139="nulová",J139,0) -> 0 | BJ139: 1 | BK139: =ROUND(I139*H139,2) -> 0 | BL139: 4 | BM139: -1116486747
C140: 3 | D140: K | E140: 121101101 | F140: Sejmutí ornice s přemístěním na vzdálenost do 50 m | G140: m3 | H140: 28.14 | J140: =ROUND(I140*H140,2) -> 0 | N140: základní | O140: 0.097 | P140: =O140*H140 -> 2.72958 | Q140: 0 | R140: =Q140*H140 -> 0 | S140: 0 | T140: =S140*H140 -> 0 | AR140: 4 | AT140: K | AU140: 2 | AY140: ROZPOCET | BE140: =IF(N140="základní",J140,0) -> 0 | BF140: =IF(N140="snížená",J140,0) -> 0 | BG140: =IF(N140="zákl. přenesená",J140,0) -> 0 | BH140: =IF(N140="sníž. přenesená",J140,0) -> 0 | BI140: =IF(N140="nulová",J140,0) -> 0 | BJ140: 1 | BK140: =ROUND(I140*H140,2) -> 0 | BL140: 4 | BM140: -366649301
C141: 4 | D141: K | E141: 122201101 | F141: Odkopávky a prokopávky nezapažené v hornině tř. 3 objem do 100 m3 | G141: m3 | H141: 2 | J141: =ROUND(I141*H141,2) -> 0 | N141: základní | O141: 0.368 | P141: =O141*H141 -> 0.736 | Q141: 0 | R141: =Q141*H141 -> 0 | S141: 0 | T141: =S141*H141 -> 0 | AR141: 4 | AT141: K | AU141: 2 | AY141: ROZPOCET | BE141: =IF(N141="základní",J141,0) -> 0 | BF141: =IF(N141="snížená",J141,0) -> 0 | BG141: =IF(N141="zákl. přenesená",J141,0) -> 0 | BH141: =IF(N141="sníž. přenesená",J141,0) -> 0 | BI141: =IF(N141="nulová",J141,0) -> 0 | BJ141: 1 | BK141: =ROUND(I141*H141,2) -> 0 | BL141: 4 | BM141: -841980492
C142: 5 | D142: K | E142: 122201109 | F142: Příplatek za lepivost u odkopávek v hornině tř. 1 až 3 | G142: m3 | H142: 2 | J142: =ROUND(I142*H142,2) -> 0 | N142: základní | O142: 0.058 | P142: =O142*H142 -> 0.116 | Q142: 0 | R142: =Q142*H142 -> 0 | S142: 0 | T142: =S142*H142 -> 0 | AR142: 4 | AT142: K | AU142: 2 | AY142: ROZPOCET | BE142: =IF(N142="základní",J142,0) -> 0 | BF142: =IF(N142="snížená",J142,0) -> 0 | BG142: =IF(N142="zákl. přenesená",J142,0) -> 0 | BH142: =IF(N142="sníž. přenesená",J142,0) -> 0 | BI142: =IF(N142="nulová",J142,0) -> 0 | BJ142: 1 | BK142: =ROUND(I142*H142,2) -> 0 | BL142: 4 | BM142: 321568460
C143: 6 | D143: K | E143: 131201102 | F143: Hloubení jam nezapažených v hornině tř. 3 objemu do 1000 m3 | G143: m3 | H143: 96.3 | J143: =ROUND(I143*H143,2) -> 0 | N143: základní | O143: 0.467 | P143: =O143*H143 -> 44.9721 | Q143: 0 | R143: =Q143*H143 -> 0 | S143: 0 | T143: =S143*H143 -> 0 | AR143: 4 | AT143: K | AU143: 2 | AY143: ROZPOCET | BE143: =IF(N143="základní",J143,0) -> 0 | BF143: =IF(N143="snížená",J143,0) -> 0 | BG143: =IF(N143="zákl. přenesená",J143,0) -> 0 | BH143: =IF(N143="sníž. přenesená",J143,0) -> 0 | BI143: =IF(N143="nulová",J143,0) -> 0 | BJ143: 1 | BK143: =ROUND(I143*H143,2) -> 0 | BL143: 4 | BM143: 1979212728
C144: 7 | D144: K | E144: 131201109 | F144: Příplatek za lepivost u hloubení jam nezapažených v hornině tř. 3 | G144: m3 | H144: 96.3 | J144: =ROUND(I144*H144,2) -> 0 | N144: základní | O144: 0.04 | P144: =O144*H144 -> 3.852 | Q144: 0 | R144: =Q144*H144 -> 0 | S144: 0 | T144: =S144*H144 -> 0 | AR144: 4 | AT144: K | AU144: 2 | AY144: ROZPOCET | BE144: =IF(N144="základní",J144,0) -> 0 | BF144: =IF(N144="snížená",J144,0) -> 0 | BG144: =IF(N144="zákl. přenesená",J144,0) -> 0 | BH144: =IF(N144="sníž. přenesená",J144,0) -> 0 | BI144: =IF(N144="nulová",J144,0) -> 0 | BJ144: 1 | BK144: =ROUND(I144*H144,2) -> 0 | BL144: 4 | BM144: -604797636
C145: 8 | D145: K | E145: 162201101 | F145: Vodorovné přemístění do 20 m výkopku/sypaniny z horniny tř. 1 až 4 | G145: m3 | H145: 175.554 | J145: =ROUND(I145*H145,2) -> 0 | K145: CS ÚRS 2019 01 | N145: základní | O145: 0.087 | P145: =O145*H145 -> 15.273198 | Q145: 0 | R145: =Q145*H145 -> 0 | S145: 0 | T145: =S145*H145 -> 0 | AR145: 4 | AT145: K | AU145: 2 | AY145: ROZPOCET | BE145: =IF(N145="základní",J145,0) -> 0 | BF145: =IF(N145="snížená",J145,0) -> 0 | BG145: =IF(N145="zákl. přenesená",J145,0) -> 0 | BH145: =IF(N145="sníž. přenesená",J145,0) -> 0 | BI145: =IF(N145="nulová",J145,0) -> 0 | BJ145: 1 | BK145: =ROUND(I145*H145,2) -> 0 | BL145: 4 | BM145: 1744360025
D146: VV | F146: 2 * 87,777 | H146: 175.554 | AT146: VV | AU146: 2 | AV146: 2 | AW146: True | AX146: 1 | AY146: ROZPOCET
C147: 9 | D147: K | E147: 162701105 | F147: Vodorovné přemístění do 10000 m výkopku/sypaniny z horniny tř. 1 až 4 | G147: m3 | H147: 10.53 | J147: =ROUND(I147*H147,2) -> 0 | N147: základní | O147: 0.083 | P147: =O147*H147 -> 0.87399 | Q147: 0 | R147: =Q147*H147 -> 0 | S147: 0 | T147: =S147*H147 -> 0 | AR147: 4 | AT147: K | AU147: 2 | AY147: ROZPOCET | BE147: =IF(N147="základní",J147,0) -> 0 | BF147: =IF(N147="snížená",J147,0) -> 0 | BG147: =IF(N147="zákl. přenesená",J147,0) -> 0 | BH147: =IF(N147="sníž. přenesená",J147,0) -> 0 | BI147: =IF(N147="nulová",J147,0) -> 0 | BJ147: 1 | BK147: =ROUND(I147*H147,2) -> 0 | BL147: 4 | BM147: -1182572968
C148: 10 | D148: K | E148: 162701109 | F148: Příplatek k vodorovnému přemístění výkopku/sypaniny z horniny tř. 1 až 4 ZKD 1000 m přes 10000 m | G148: m3 | H148: 368.55 | J148: =ROUND(I148*H148,2) -> 0 | N148: základní | O148: 0.004 | P148: =O148*H148 -> 1.4742 | Q148: 0 | R148: =Q148*H148 -> 0 | S148: 0 | T148: =S148*H148 -> 0 | AR148: 4 | AT148: K | AU148: 2 | AY148: ROZPOCET | BE148: =IF(N148="základní",J148,0) -> 0 | BF148: =IF(N148="snížená",J148,0) -> 0 | BG148: =IF(N148="zákl. přenesená",J148,0) -> 0 | BH148: =IF(N148="sníž. přenesená",J148,0) -> 0 | BI148: =IF(N148="nulová",J148,0) -> 0 | BJ148: 1 | BK148: =ROUND(I148*H148,2) -> 0 | BL148: 4 | BM148: 2076578914
D149: VV | F149: 10,53*35 'Přepočtené koeficientem množství | H149: 368.55 | AT149: VV | AU149: 2 | AV149: 2 | AW149: False | AX149: 1 | AY149: ROZPOCET
C150: 11 | D150: K | E150: 167101102 | F150: Nakládání výkopku z hornin tř. 1 až 4 přes 100 m3 | G150: m3 | H150: 98.307 | J150: =ROUND(I150*H150,2) -> 0 | N150: základní | O150: 0.097 | P150: =O150*H150 -> 9.535779 | Q150: 0 | R150: =Q150*H150 -> 0 | S150: 0 | T150: =S150*H150 -> 0 | AR150: 4 | AT150: K | AU150: 2 | AY150: ROZPOCET | BE150: =IF(N150="základní",J150,0) -> 0 | BF150: =IF(N150="snížená",J150,0) -> 0 | BG150: =IF(N150="zákl. přenesená",J150,0) -> 0 | BH150: =IF(N150="sníž. přenesená",J150,0) -> 0 | BI150: =IF(N150="nulová",J150,0) -> 0 | BJ150: 1 | BK150: =ROUND(I150*H150,2) -> 0 | BL150: 4 | BM150: -2007916288
D151: VV | F151: "původní pol. 10" 10,530 | H151: 10.53 | AT151: VV | AU151: 2 | AV151: 2 | AW151: True | AX151: 0 | AY151: ROZPOCET
D152: VV | F152: "k přesunu po. č. 11" 87,777 | H152: 87.777 | AT152: VV | AU152: 2 | AV152: 2 | AW152: True | AX152: 0 | AY152: ROZPOCET
D153: VV | F153: Součet | H153: 98.307 | AT153: VV | AU153: 2 | AV153: 4 | AW153: True | AX153: 1 | AY153: ROZPOCET
C154: 12 | D154: K | E154: 171101121 | F154: Uložení sypaniny z hornin nesoudržných kamenitých do násypů zhutněných | G154: m3 | H154: 25 | J154: =ROUND(I154*H154,2) -> 0 | K154: CS ÚRS 2019 01 | N154: základní | O154: 0.05 | P154: =O154*H154 -> 1.25 | Q154: 0 | R154: =Q154*H154 -> 0 | S154: 0 | T154: =S154*H154 -> 0 | AR154: 4 | AT154: K | AU154: 2 | AY154: ROZPOCET | BE154: =IF(N154="základní",J154,0) -> 0 | BF154: =IF(N154="snížená",J154,0) -> 0 | BG154: =IF(N154="zákl. přenesená",J154,0) -> 0 | BH154: =IF(N154="sníž. přenesená",J154,0) -> 0 | BI154: =IF(N154="nulová",J154,0) -> 0 | BJ154: 1 | BK154: =ROUND(I154*H154,2) -> 0 | BL154: 4 | BM154: -1797701106
C155: 13 | D155: K | E155: 171103101 | F155: Zemní hrázky melioračních kanálů z horniny tř. 1 až 4 | G155: m3 | H155: 2 | J155: =ROUND(I155*H155,2) -> 0 | N155: základní | O155: 0.529 | P155: =O155*H155 -> 1.058 | Q155: 0 | R155: =Q155*H155 -> 0 | S155: 0 | T155: =S155*H155 -> 0 | AR155: 4 | AT155: K | AU155: 2 | AY155: ROZPOCET | BE155: =IF(N155="základní",J155,0) -> 0 | BF155: =IF(N155="snížená",J155,0) -> 0 | BG155: =IF(N155="zákl. přenesená",J155,0) -> 0 | BH155: =IF(N155="sníž. přenesená",J155,0) -> 0 | BI155: =IF(N155="nulová",J155,0) -> 0 | BJ155: 1 | BK155: =ROUND(I155*H155,2) -> 0 | BL155: 4 | BM155: 401195947
C156: 14 | D156: K | E156: 171201201 | F156: Uložení sypaniny na skládky | G156: m3 | H156: 10.53 | J156: =ROUND(I156*H156,2) -> 0 | N156: základní | O156: 0.009 | P156: =O156*H156 -> 0.09477 | Q156: 0 | R156: =Q156*H156 -> 0 | S156: 0 | T156: =S156*H156 -> 0 | AR156: 4 | AT156: K | AU156: 2 | AY156: ROZPOCET | BE156: =IF(N156="základní",J156,0) -> 0 | BF156: =IF(N156="snížená",J156,0) -> 0 | BG156: =IF(N156="zákl. přenesená",J156,0) -> 0 | BH156: =IF(N156="sníž. přenesená",J156,0) -> 0 | BI156: =IF(N156="nulová",J156,0) -> 0 | BJ156: 1 | BK156: =ROUND(I156*H156,2) -> 0 | BL156: 4 | BM156: -389634425
C157: 15 | D157: K | E157: 171201211 | F157: Poplatek za uložení odpadu ze sypaniny na skládce (skládkovné) | G157: t | H157: 20.007 | J157: =ROUND(I157*H157,2) -> 0 | N157: základní | O157: 0 | P157: =O157*H157 -> 0 | Q157: 0 | R157: =Q157*H157 -> 0 | S157: 0 | T157: =S157*H157 -> 0 | AR157: 4 | AT157: K | AU157: 2 | AY157: ROZPOCET | BE157: =IF(N157="základní",J157,0) -> 0 | BF157: =IF(N157="snížená",J157,0) -> 0 | BG157: =IF(N157="zákl. přenesená",J157,0) -> 0 | BH157: =IF(N157="sníž. přenesená",J157,0) -> 0 | BI157: =IF(N157="nulová",J157,0) -> 0 | BJ157: 1 | BK157: =ROUND(I157*H157,2) -> 0 | BL157: 4 | BM157: 1033572560
C158: 16 | D158: K | E158: 181301103 | F158: Rozprostření ornice tl vrstvy do 200 mm pl do 500 m2 v rovině nebo ve svahu do 1:5 | G158: m2 | H158: 82.667 | J158: =ROUND(I158*H158,2) -> 0 | N158: základní | O158: 0.254 | P158: =O158*H158 -> 20.997418 | Q158: 0 | R158: =Q158*H158 -> 0 | S158: 0 | T158: =S158*H158 -> 0 | AR158: 4 | AT158: K | AU158: 2 | AY158: ROZPOCET | BE158: =IF(N158="základní",J158,0) -> 0 | BF158: =IF(N158="snížená",J158,0) -> 0 | BG158: =IF(N158="zákl. přenesená",J158,0) -> 0 | BH158: =IF(N158="sníž. přenesená",J158,0) -> 0 | BI158: =IF(N158="nulová",J158,0) -> 0 | BJ158: 1 | BK158: =ROUND(I158*H158,2) -> 0 | BL158: 4 | BM158: -1966290486
C159: 17 | D159: K | E159: 181411121 | F159: Založení lučního trávníku výsevem plochy do 1000 m2 v rovině a ve svahu do 1:5 | G159: m2 | H159: 82.7 | J159: =ROUND(I159*H159,2) -> 0 | N159: základní | O159: 0.007 | P159: =O159*H159 -> 0.5789 | Q159: 0 | R159: =Q159*H159 -> 0 | S159: 0 | T159: =S159*H159 -> 0 | AR159: 4 | AT159: K | AU159: 2 | AY159: ROZPOCET | BE159: =IF(N159="základní",J159,0) -> 0 | BF159: =IF(N159="snížená",J159,0) -> 0 | BG159: =IF(N159="zákl. přenesená",J159,0) -> 0 | BH159: =IF(N159="sníž. přenesená",J159,0) -> 0 | BI159: =IF(N159="nulová",J159,0) -> 0 | BJ159: 1 | BK159: =ROUND(I159*H159,2) -> 0 | BL159: 4 | BM159: 1128788271
C160: 18 | D160: M | E160: 005724740 | F160: osivo směs travní krajinná - svahová | G160: kg | H160: 1.241 | J160: =ROUND(I160*H160,2) -> 0 | N160: základní | O160: 0 | P160: =O160*H160 -> 0 | Q160: 0.001 | R160: =Q160*H160 -> 0.001241 | S160: 0 | T160: =S160*H160 -> 0 | AR160: 8 | AT160: M | AU160: 2 | AY160: ROZPOCET | BE160: =IF(N160="základní",J160,0) -> 0 | BF160: =IF(N160="snížená",J160,0) -> 0 | BG160: =IF(N160="zákl. přenesená",J160,0) -> 0 | BH160: =IF(N160="sníž. přenesená",J160,0) -> 0 | BI160: =IF(N160="nulová",J160,0) -> 0 | BJ160: 1 | BK160: =ROUND(I160*H160,2) -> 0 | BL160: 4 | BM160: -976494735
D161: D | E161: 2 | F161: Zakládání | J161: =BK161 -> 0 | P161: =SUM(P162:P168) -> 13.18958 | R161: =SUM(R162:R168) -> 28.749215 | T161: =SUM(T162:T168) -> 0 | AR161: 1 | AT161: D | AU161: 1 | AY161: ROZPOCET | BK161: =SUM(BK162:BK168) -> 0
C162: 19 | D162: K | E162: 273321118 | F162: Základové desky ze ŽB C 30/37 | G162: m3 | H162: 1.62 | J162: =ROUND(I162*H162,2) -> 0 | N162: základní | O162: 0 | P162: =O162*H162 -> 0 | Q162: 2.526248 | R162: =Q162*H162 -> 4.0925218 | S162: 0 | T162: =S162*H162 -> 0 | AR162: 4 | AT162: K | AU162: 2 | AY162: ROZPOCET | BE162: =IF(N162="základní",J162,0) -> 0 | BF162: =IF(N162="snížená",J162,0) -> 0 | BG162: =IF(N162="zákl. přenesená",J162,0) -> 0 | BH162: =IF(N162="sníž. přenesená",J162,0) -> 0 | BI162: =IF(N162="nulová",J162,0) -> 0 | BJ162: 1 | BK162: =ROUND(I162*H162,2) -> 0 | BL162: 4 | BM162: 494517083
C163: 20 | D163: K | E163: 273354111 | F163: Bednění základových desek - zřízení | G163: m2 | H163: 5.46 | J163: =ROUND(I163*H163,2) -> 0 | N163: základní | O163: 0.397 | P163: =O163*H163 -> 2.16762 | Q163: 0.0014357 | R163: =Q163*H163 -> 0.007838922 | S163: 0 | T163: =S163*H163 -> 0 | AR163: 4 | AT163: K | AU163: 2 | AY163: ROZPOCET | BE163: =IF(N163="základní",J163,0) -> 0 | BF163: =IF(N163="snížená",J163,0) -> 0 | BG163: =IF(N163="zákl. přenesená",J163,0) -> 0 | BH163: =IF(N163="sníž. přenesená",J163,0) -> 0 | BI163: =IF(N163="nulová",J163,0) -> 0 | BJ163: 1 | BK163: =ROUND(I163*H163,2) -> 0 | BL163: 4 | BM163: -308189138
C164: 21 | D164: K | E164: 273354211 | F164: Bednění základových desek - odstranění | G164: m2 | H164: 5.46 | J164: =ROUND(I164*H164,2) -> 0 | N164: základní | O164: 0.144 | P164: =O164*H164 -> 0.78624 | Q164: 3.6e-05 | R164: =Q164*H164 -> 0.00019656 | S164: 0 | T164: =S164*H164 -> 0 | AR164: 4 | AT164: K | AU164: 2 | AY164: ROZPOCET | BE164: =IF(N164="základní",J164,0) -> 0 | BF164: =IF(N164="snížená",J164,0) -> 0 | BG164: =IF(N164="zákl. přenesená",J164,0) -> 0 | BH164: =IF(N164="sníž. přenesená",J164,0) -> 0 | BI164: =IF(N164="nulová",J164,0) -> 0 | BJ164: 1 | BK164: =ROUND(I164*H164,2) -> 0 | BL164: 4 | BM164: -1623061730
...

Sheet SO 02.2 - Železniční svrš...
L2: >> skryté sloupce << | AT2: {587f83a4-2820-434b-b3b1-15dff3c4ebd0}
AT3: 2
D4: KRYCÍ LIST SOUPISU PRACÍ | M4: v --- níže se nacházejí doplnkové a pomocné údaje k sestavám --- v | AT4: False
D6: Stavba:
E7: ='Rekapitulace stavby'!K6 -> Oprava propustků v km 24,666, 25,142, 25,589 a 25,786 na trati Vsetín - Velké Karlovice
D8: Objekt:
E9: SO 02 - Propustek v km 25,142
D10: Soupis:
E11: SO 02.2 - Železniční svršek - km 25,142
D13: KSO: | I13: CC-CZ:
D14: Místo: | I14: Datum: | J14: ='Rekapitulace stavby'!AN8 -> 0
D16: Zadavatel: | I16: IČ:
I17: DIČ:
D19: Zhotovitel: | I19: IČ: | J19: ='Rekapitulace stavby'!AN13
E20: ='Rekapitulace stavby'!E14 | I20: DIČ: | J20: ='Rekapitulace stavby'!AN14
D22: Projektant: | I22: IČ:
I23: DIČ:
D25: Zpracovatel: | I25: IČ:
I26: DIČ:
D28: Poznámka:
D32: Cena bez DPH | J32: =ROUND(J122, 2) -> 0
F34: Základ daně | I34: Sazba daně | J34: Výše daně
D35: DPH | E35: základní | F35: =ROUND((SUM(BE122:BE146)), 2) -> 0 | I35: 0.21 | J35: =ROUND(((SUM(BE122:BE146))*I35), 2) -> 0
E36: snížená | F36: =ROUND((SUM(BF122:BF146)), 2) -> 0 | I36: 0.15 | J36: =ROUND(((SUM(BF122:BF146))*I36), 2) -> 0
E37: zákl. přenesená | F37: =ROUND((SUM(BG122:BG146)), 2) -> 0 | I37: 0.21 | J37: =0 -> 0
E38: sníž. přenesená | F38: =ROUND((SUM(BH122:BH146)), 2) -> 0 | I38: 0.15 | J38: =0 -> 0
E39: nulová | F39: =ROUND((SUM(BI122:BI146)), 2) -> 0 | I39: 0 | J39: =0 -> 0
D41: Cena s DPH | G41: v | H41: CZK | J41: =SUM(J32:J39) -> 0
D50: Projektant | G50: Zpracovatel
D61: Datum a podpis: | F61: Razítko | G61: Datum a podpis: | J61: Razítko
D65: Objednavatel | G65: Zhotovitel
D76: Datum a podpis: | F76: Razítko | G76: Datum a podpis: | J76: Razítko
C82: REKAPITULACE ČLENĚNÍ SOUPISU PRACÍ
C84: Stavba:
E85: =E7 -> Oprava propustků v km 24,666, 25,142, 25,589 a 25,786 na trati Vsetín - Velké Karlovice
C86: Objekt:
E87: SO 02 - Propustek v km 25,142
C88: Soupis:
E89: =E11 -> SO 02.2 - Železniční svršek - km 25,142
C91: Místo: | F91: =F14 | I91: Datum: | J91: =IF(J14="","",J14) -> 0
C93: Zadavatel: | F93: =E17 | I93: Projektant: | J93: =E23
C94: Zhotovitel: | F94: =IF(E20="","",E20) | I94: Zpracovatel: | J94: =E26
C96: Kód dílu - Popis | J96: Cena celkem [CZK]
C98: Náklady ze soupisu prací | J98: =J122 -> 0 | AU98: -1
D99: 5 - Komunikace | J99: =J123 -> 0
D100: OST - Ostatní | J100: =J141 -> 0
C107: SOUPIS PRACÍ
C109: Stavba:
E110: =E7 -> Oprava propustků v km 24,666, 25,142, 25,589 a 25,786 na trati Vsetín - Velké Karlovice
C111: Objekt:
E112: SO 02 - Propustek v km 25,142
C113: Soupis:
E114: =E11 -> SO 02.2 - Železniční svršek - km 25,142
C116: Místo: | F116: =F14 | I116: Datum: | J116: =IF(J14="","",J14) -> 0
C118: Zadavatel: | F118: =E17 | I118: Projektant: | J118: =E23
C119: Zhotovitel: | F119: =IF(E20="","",E20) | I119: Zpracovatel: | J119: =E26
C121: PČ | D121: Typ | E121: Kód | F121: Popis | G121: MJ | H121: Množství | I121: J.cena [CZK] | J121: Cena celkem [CZK] | K121: Cenová soustava | N121: DPH | O121: J. Nh [h] | P121: Nh celkem [h] | Q121: J. hmotnost [t] | R121: Hmotnost celkem [t] | S121: J. suť [t] | T121: Suť Celkem [t]
C122: Náklady soupisu celkem | J122: =BK122 -> 0 | P122: =P123+P141 -> 0 | R122: =R123+R141 -> 140.183 | T122: =T123+T141 -> 0 | AT122: D | AU122: -1 | BK122: =BK123+BK141 -> 0
D123: D | E123: 5 | F123: Komunikace | J123: =BK123 -> 0 | P123: =SUM(P124:P140) -> 0 | R123: =SUM(R124:R140) -> 140.183 | T123: =SUM(T124:T140) -> 0 | AR123: 1 | AT123: D | AU123: 0 | AY123: ROZPOCET | BK123: =SUM(BK124:BK140) -> 0
C124: 1 | D124: K | E124: 5905055010 | F124: Odstranění stávajícího kolejového lože odtěžením v koleji | G124: m3 | H124: 28.504 | J124: =ROUND(I124*H124,2) -> 0 | K124: ÚOŽI 2019 01 | N124: základní | O124: 0 | P124: =O124*H124 -> 0 | Q124: 0 | R124: =Q124*H124 -> 0 | S124: 0 | T124: =S124*H124 -> 0 | AR124: 4 | AT124: K | AU124: 1 | AY124: ROZPOCET | BE124: =IF(N124="základní",J124,0) -> 0 | BF124: =IF(N124="snížená",J124,0) -> 0 | BG124: =IF(N124="zákl. přenesená",J124,0) -> 0 | BH124: =IF(N124="sníž. přenesená",J124,0) -> 0 | BI124: =IF(N124="nulová",J124,0) -> 0 | BJ124: 1 | BK124: =ROUND(I124*H124,2) -> 0 | BL124: 4 | BM124: -1863783721
C125: 2 | D125: K | E125: 5905060010 | F125: Zřízení nového kolejového lože v koleji | G125: m3 | H125: 38.25 | J125: =ROUND(I125*H125,2) -> 0 | K125: ÚOŽI 2019 01 | N125: základní | O125: 0 | P125: =O125*H125 -> 0 | Q125: 0 | R125: =Q125*H125 -> 0 | S125: 0 | T125: =S125*H125 -> 0 | AR125: 4 | AT125: K | AU125: 1 | AY125: ROZPOCET | BE125: =IF(N125="základní",J125,0) -> 0 | BF125: =IF(N125="snížená",J125,0) -> 0 | BG125: =IF(N125="zákl. přenesená",J125,0) -> 0 | BH125: =IF(N125="sníž. přenesená",J125,0) -> 0 | BI125: =IF(N125="nulová",J125,0) -> 0 | BJ125: 1 | BK125: =ROUND(I125*H125,2) -> 0 | BL125: 4 | BM125: -415446948
C126: 3 | D126: M | E126: 5955101000 | F126: Kamenivo drcené štěrk frakce 31,5/63 třídy BI | G126: t | H126: 140.183 | J126: =ROUND(I126*H126,2) -> 0 | K126: ÚOŽI 2019 01 | N126: základní | O126: 0 | P126: =O126*H126 -> 0 | Q126: 1 | R126: =Q126*H126 -> 140.183 | S126: 0 | T126: =S126*H126 -> 0 | AR126: 8 | AT126: M | AU126: 1 | AY126: ROZPOCET | BE126: =IF(N126="základní",J126,0) -> 0 | BF126: =IF(N126="snížená",J126,0) -> 0 | BG126: =IF(N126="zákl. přenesená",J126,0) -> 0 | BH126: =IF(N126="sníž. přenesená",J126,0) -> 0 | BI126: =IF(N126="nulová",J126,0) -> 0 | BJ126: 1 | BK126: =ROUND(I126*H126,2) -> 0 | BL126: 4 | BM126: 738228903
C127: 4 | D127: K | E127: 5905065010 | F127: Samostatná úprava vrstvy kolejového lože pod ložnou plochou pražců v koleji | G127: m2 | H127: 57.68 | J127: =ROUND(I127*H127,2) -> 0 | K127: ÚOŽI 2019 01 | N127: základní | O127: 0 | P127: =O127*H127 -> 0 | Q127: 0 | R127: =Q127*H127 -> 0 | S127: 0 | T127: =S127*H127 -> 0 | AR127: 4 | AT127: K | AU127: 1 | AY127: ROZPOCET | BE127: =IF(N127="základní",J127,0) -> 0 | BF127: =IF(N127="snížená",J127,0) -> 0 | BG127: =IF(N127="zákl. přenesená",J127,0) -> 0 | BH127: =IF(N127="sníž. přenesená",J127,0) -> 0 | BI127: =IF(N127="nulová",J127,0) -> 0 | BJ127: 1 | BK127: =ROUND(I127*H127,2) -> 0 | BL127: 4 | BM127: 221702436
C128: 5 | D128: K | E128: 5905110010 | F128: Snížení KL pod patou kolejnice v koleji | G128: km | H128: 0.085 | J128: =ROUND(I128*H128,2) -> 0 | K128: ÚOŽI 2019 01 | N128: základní | O128: 0 | P128: =O128*H128 -> 0 | Q128: 0 | R128: =Q128*H128 -> 0 | S128: 0 | T128: =S128*H128 -> 0 | AR128: 4 | AT128: K | AU128: 1 | AY128: ROZPOCET | BE128: =IF(N128="základní",J128,0) -> 0 | BF128: =IF(N128="snížená",J128,0) -> 0 | BG128: =IF(N128="zákl. přenesená",J128,0) -> 0 | BH128: =IF(N128="sníž. přenesená",J128,0) -> 0 | BI128: =IF(N128="nulová",J128,0) -> 0 | BJ128: 1 | BK128: =ROUND(I128*H128,2) -> 0 | BL128: 4 | BM128: 1634481578
C129: 6 | D129: K | E129: 5906130170 | F129: Montáž kolejového roštu v ose koleje pražce dřevěné vystrojené tv. S49 rozdělení "c" | G129: km | H129: 0.014 | J129: =ROUND(I129*H129,2) -> 0 | K129: ÚOŽI 2019 01 | N129: základní | O129: 0 | P129: =O129*H129 -> 0 | Q129: 0 | R129: =Q129*H129 -> 0 | S129: 0 | T129: =S129*H129 -> 0 | AR129: 4 | AT129: K | AU129: 1 | AY129: ROZPOCET | BE129: =IF(N129="základní",J129,0) -> 0 | BF129: =IF(N129="snížená",J129,0) -> 0 | BG129: =IF(N129="zákl. přenesená",J129,0) -> 0 | BH129: =IF(N129="sníž. přenesená",J129,0) -> 0 | BI129: =IF(N129="nulová",J129,0) -> 0 | BJ129: 1 | BK129: =ROUND(I129*H129,2) -> 0 | BL129: 4 | BM129: -452453149
C130: 7 | D130: K | E130: 5906140235 | F130: Demontáž kolejového roštu koleje v ose koleje pražce betonové tv. T rozdělení "c" | G130: km | H130: 0.014 | J130: =ROUND(I130*H130,2) -> 0 | K130: ÚOŽI 2019 01 | N130: základní | O130: 0 | P130: =O130*H130 -> 0 | Q130: 0 | R130: =Q130*H130 -> 0 | S130: 0 | T130: =S130*H130 -> 0 | AR130: 4 | AT130: K | AU130: 1 | AY130: ROZPOCET | BE130: =IF(N130="základní",J130,0) -> 0 | BF130: =IF(N130="snížená",J130,0) -> 0 | BG130: =IF(N130="zákl. přenesená",J130,0) -> 0 | BH130: =IF(N130="sníž. přenesená",J130,0) -> 0 | BI130: =IF(N130="nulová",J130,0) -> 0 | BJ130: 1 | BK130: =ROUND(I130*H130,2) -> 0 | BL130: 4 | BM130: -1651480261
C131: 8 | D131: K | E131: 5907050020 | F131: Dělení kolejnic řezáním nebo rozbroušením tv. S49 | G131: kus | H131: 4 | J131: =ROUND(I131*H131,2) -> 0 | K131: ÚOŽI 2019 01 | N131: základní | O131: 0 | P131: =O131*H131 -> 0 | Q131: 0 | R131: =Q131*H131 -> 0 | S131: 0 | T131: =S131*H131 -> 0 | AR131: 4 | AT131: K | AU131: 1 | AY131: ROZPOCET | BE131: =IF(N131="základní",J131,0) -> 0 | BF131: =IF(N131="snížená",J131,0) -> 0 | BG131: =IF(N131="zákl. přenesená",J131,0) -> 0 | BH131: =IF(N131="sníž. přenesená",J131,0) -> 0 | BI131: =IF(N131="nulová",J131,0) -> 0 | BJ131: 1 | BK131: =ROUND(I131*H131,2) -> 0 | BL131: 4 | BM131: -1415926575
C132: 9 | D132: K | E132: 5909032020 | F132: Přesná úprava GPK koleje směrové a výškové uspořádání pražce betonové | G132: km | H132: 0.255 | J132: =ROUND(I132*H132,2) -> 0 | K132: ÚOŽI 2019 01 | N132: základní | O132: 0 | P132: =O132*H132 -> 0 | Q132: 0 | R132: =Q132*H132 -> 0 | S132: 0 | T132: =S132*H132 -> 0 | AR132: 4 | AT132: K | AU132: 1 | AY132: ROZPOCET | BE132: =IF(N132="základní",J132,0) -> 0 | BF132: =IF(N132="snížená",J132,0) -> 0 | BG132: =IF(N132="zákl. přenesená",J132,0) -> 0 | BH132: =IF(N132="sníž. přenesená",J132,0) -> 0 | BI132: =IF(N132="nulová",J132,0) -> 0 | BJ132: 1 | BK132: =ROUND(I132*H132,2) -> 0 | BL132: 4 | BM132: 1872517314
C133: 10 | D133: K | E133: 5910020130 | F133: Svařování kolejnic termitem plný předehřev standardní spára svar jednotlivý tv. S49 | G133: svar | H133: 4 | J133: =ROUND(I133*H133,2) -> 0 | K133: ÚOŽI 2019 01 | N133: základní | O133: 0 | P133: =O133*H133 -> 0 | Q133: 0 | R133: =Q133*H133 -> 0 | S133: 0 | T133: =S133*H133 -> 0 | AR133: 4 | AT133: K | AU133: 1 | AY133: ROZPOCET | BE133: =IF(N133="základní",J133,0) -> 0 | BF133: =IF(N133="snížená",J133,0) -> 0 | BG133: =IF(N133="zákl. přenesená",J133,0) -> 0 | BH133: =IF(N133="sníž. přenesená",J133,0) -> 0 | BI133: =IF(N133="nulová",J133,0) -> 0 | BJ133: 1 | BK133: =ROUND(I133*H133,2) -> 0 | BL133: 4 | BM133: -1323081679
C134: 11 | D134: K | E134: 5910035030 | F134: Dosažení dovolené upínací teploty v BK prodloužením kolejnicového pásu v koleji tv. S49 | G134: svar | H134: 2 | J134: =ROUND(I134*H134,2) -> 0 | K134: ÚOŽI 2019 01 | N134: základní | O134: 0 | P134: =O134*H134 -> 0 | Q134: 0 | R134: =Q134*H134 -> 0 | S134: 0 | T134: =S134*H134 -> 0 | AR134: 4 | AT134: K | AU134: 1 | AY134: ROZPOCET | BE134: =IF(N134="základní",J134,0) -> 0 | BF134: =IF(N134="snížená",J134,0) -> 0 | BG134: =IF(N134="zákl. přenesená",J134,0) -> 0 | BH134: =IF(N134="sníž. přenesená",J134,0) -> 0 | BI134: =IF(N134="nulová",J134,0) -> 0 | BJ134: 1 | BK134: =ROUND(I134*H134,2) -> 0 | BL134: 4 | BM134: -1150954584
C135: 12 | D135: K | E135: 5910040310 | F135: Umožnění volné dilatace kolejnice demontáž upevňovadel s osazením kluzných podložek rozdělení pražců "c" | G135: m | H135: 200 | J135: =ROUND(I135*H135,2) -> 0 | K135: ÚOŽI 2019 01 | N135: základní | O135: 0 | P135: =O135*H135 -> 0 | Q135: 0 | R135: =Q135*H135 -> 0 | S135: 0 | T135: =S135*H135 -> 0 | AR135: 4 | AT135: K | AU135: 1 | AY135: ROZPOCET | BE135: =IF(N135="základní",J135,0) -> 0 | BF135: =IF(N135="snížená",J135,0) -> 0 | BG135: =IF(N135="zákl. přenesená",J135,0) -> 0 | BH135: =IF(N135="sníž. přenesená",J135,0) -> 0 | BI135: =IF(N135="nulová",J135,0) -> 0 | BJ135: 1 | BK135: =ROUND(I135*H135,2) -> 0 | BL135: 4 | BM135: 428531032
... C140: 17 | D140: K | E140: 5999005030 | F140: Třídění kolejnic | G140: t | H140: 1.4 | J140: =ROUND(I140*H140,2) -> 0 | K140: ÚOŽI 2019 01 | N140: základní | O140: 0 | P140: =O140*H140 -> 0 | Q140: 0 | R140: =Q140*H140 -> 0 | S140: 0 | T140: =S140*H140 -> 0 | AR140: 4 | AT140: K | AU140: 1 | AY140: ROZPOCET | BE140: =IF(N140="základní",J140,0) -> 0 | BF140: =IF(N140="snížená",J140,0) -> 0 | BG140: =IF(N140="zákl. přenesená",J140,0) -> 0 | BH140: =IF(N140="sníž. přenesená",J140,0) -> 0 | BI140: =IF(N140="nulová",J140,0) -> 0 | BJ140: 1 | BK140: =ROUND(I140*H140,2) -> 0 | BL140: 4 | BM140: -859329435
D141: D | E141: OST | F141: Ostatní | J141: =BK141 -> 0 | P141: =SUM(P142:P146) -> 0 | R141: =SUM(R142:R146) -> 0 | T141: =SUM(T142:T146) -> 0 | AR141: 4 | AT141: D | AU141: 0 | AY141: ROZPOCET | BK141: =SUM(BK142:BK146) -> 0
C142: 18 | D142: K | E142: 9902100400 | F142: Doprava dodávek zhotovitele, dodávek objednatele nebo výzisku mechanizací přes 3,5 t sypanin do 40 km | G142: t | H142: 45.606 | J142: =ROUND(I142*H142,2) -> 0 | K142: ÚOŽI 2019 01 | N142: základní | O142: 0 | P142: =O142*H142 -> 0 | Q142: 0 | R142: =Q142*H142 -> 0 | S142: 0 | T142: =S142*H142 -> 0 | AR142: 512 | AT142: K | AU142: 1 | AY142: ROZPOCET | BE142: =IF(N142="základní",J142,0) -> 0 | BF142: =IF(N142="snížená",J142,0) -> 0 | BG142: =IF(N142="zákl. přenesená",J142,0) -> 0 | BH142: =IF(N142="sníž. přenesená",J142,0) -> 0 | BI142: =IF(N142="nulová",J142,0) -> 0 | BJ142: 1 | BK142: =ROUND(I142*H142,2) -> 0 | BL142: 512 | BM142: -1619727582
C143: 19 | D143: K | E143: 9902100600 | F143: Doprava dodávek zhotovitele, dodávek objednatele nebo výzisku mechanizací přes 3,5 t sypanin do 80 km | G143: t | H143: 140.183 | J143: =ROUND(I143*H143,2) -> 0 | K143: ÚOŽI 2019 01 | N143: základní | O143: 0 | P143: =O143*H143 -> 0 | Q143: 0 | R143: =Q143*H143 -> 0 | S143: 0 | T143: =S143*H143 -> 0 | AR143: 512 | AT143: K | AU143: 1 | AY143: ROZPOCET | BE143: =IF(N143="základní",J143,0) -> 0 | BF143: =IF(N143="snížená",J143,0) -> 0 | BG143: =IF(N143="zákl. přenesená",J143,0) -> 0 | BH143: =IF(N143="sníž. přenesená",J143,0) -> 0 | BI143: =IF(N143="nulová",J143,0) -> 0 | BJ143: 1 | BK143: =ROUND(I143*H143,2) -> 0 | BL143: 512 | BM143: -118339026
C144: 20 | D144: K | E144: 9902200400 | F144: Doprava dodávek zhotovitele, dodávek objednatele nebo výzisku mechanizací přes 3,5 t objemnějšího kusového materiálu do 40 km | G144: t | H144: 8.415 | J144: =ROUND(I144*H144,2) -> 0 | K144: ÚOŽI 2019 01 | N144: základní | O144: 0 | P144: =O144*H144 -> 0 | Q144: 0 | R144: =Q144*H144 -> 0 | S144: 0 | T144: =S144*H144 -> 0 | AR144: 512 | AT144: K | AU144: 1 | AY144: ROZPOCET | BE144: =IF(N144="základní",J144,0) -> 0 | BF144: =IF(N144="snížená",J144,0) -> 0 | BG144: =IF(N144="zákl. přenesená",J144,0) -> 0 | BH144: =IF(N144="sníž. přenesená",J144,0) -> 0 | BI144: =IF(N144="nulová",J144,0) -> 0 | BJ144: 1 | BK144: =ROUND(I144*H144,2) -> 0 | BL144: 512 | BM144: -1341879382
C145: 21 | D145: K | E145: 9902900100 | F145: Naložení sypanin, drobného kusového materiálu, suti | G145: t | H145: 45.606 | J145: =ROUND(I145*H145,2) -> 0 | K145: ÚOŽI 2019 01 | N145: základní | O145: 0 | P145: =O145*H145 -> 0 | Q145: 0 | R145: =Q145*H145 -> 0 | S145: 0 | T145: =S145*H145 -> 0 | AR145: 4 | AT145: K | AU145: 1 | AY145: ROZPOCET | BE145: =IF(N145="základní",J145,0) -> 0 | BF145: =IF(N145="snížená",J145,0) -> 0 | BG145: =IF(N145="zákl. přenesená",J145,0) -> 0 | BH145: =IF(N145="sníž. přenesená",J145,0) -> 0 | BI145: =IF(N145="nulová",J145,0) -> 0 | BJ145: 1 | BK145: =ROUND(I145*H145,2) -> 0 | BL145: 4 | BM145: -1903088583
C146: 22 | D146: K | E146: 9909000100 | F146: Poplatek za uložení suti nebo hmot na oficiální skládku | G146: t | H146: 45.606 | J146: =ROUND(I146*H146,2) -> 0 | K146: ÚOŽI 2019 01 | N146: základní | O146: 0 | P146: =O146*H146 -> 0 | Q146: 0 | R146: =Q146*H146 -> 0 | S146: 0 | T146: =S146*H146 -> 0 | AR146: 512 | AT146: K | AU146: 1 | AY146: ROZPOCET | BE146: =IF(N146="základní",J146,0) -> 0 | BF146: =IF(N146="snížená",J146,0) -> 0 | BG146: =IF(N146="zákl. přenesená",J146,0) -> 0 | BH146: =IF(N146="sníž. přenesená",J146,0) -> 0 | BI146: =IF(N146="nulová",J146,0) -> 0 | BJ146: 1 | BK146: =ROUND(I146*H146,2) -> 0 | BL146: 512 | BM146: 1700076764

Sheet SO 03.1 - Oprava propustk...
L2: >> skryté sloupce << | AT2: {3ef8df6d-2c4d-4313-9e1e-4f75c1e6c564}
AT3: 2
D4: KRYCÍ LIST SOUPISU PRACÍ | M4: v --- níže se nacházejí doplnkové a pomocné údaje k sestavám --- v | AT4: False
D6: Stavba:
E7: ='Rekapitulace stavby'!K6 -> Oprava propustků v km 24,666, 25,142, 25,589 a 25,786 na trati Vsetín - Velké Karlovice
D8: Objekt:
E9: SO 03 - Propustek v km 25,589
D10: Soupis:
E11: SO 03.1 - Oprava propustku - km 25,589
D13: KSO: | I13: CC-CZ:
D14: Místo: | I14: Datum: | J14: ='Rekapitulace stavby'!AN8 -> 0
D16: Zadavatel: | I16: IČ:
I17: DIČ:
D19: Zhotovitel: | I19: IČ: | J19: ='Rekapitulace stavby'!AN13
E20: ='Rekapitulace stavby'!E14 | I20: DIČ: | J20: ='Rekapitulace stavby'!AN14
D22: Projektant: | I22: IČ:
I23: DIČ:
D25: Zpracovatel: | I25: IČ:
I26: DIČ:
D28: Poznámka:
D32: Cena bez DPH | J32: =ROUND(J135, 2) -> 0
F34: Základ daně | I34: Sazba daně | J34: Výše daně
D35: DPH | E35: základní | F35: =ROUND((SUM(BE135:BE205)), 2) -> 0 | I35: 0.21 | J35: =ROUND(((SUM(BE135:BE205))*I35), 2) -> 0
E36: snížená | F36: =ROUND((SUM(BF135:BF205)), 2) -> 0 | I36: 0.15 | J36: =ROUND(((SUM(BF135:BF205))*I36), 2) -> 0
E37: zákl. přenesená | F37: =ROUND((SUM(BG135:BG205)), 2) -> 0 | I37: 0.21 | J37: =0 -> 0
E38: sníž. přenesená | F38: =ROUND((SUM(BH135:BH205)), 2) -> 0 | I38: 0.15 | J38: =0 -> 0
E39: nulová | F39: =ROUND((SUM(BI135:BI205)), 2) -> 0 | I39: 0 | J39: =0 -> 0
D41: Cena s DPH | G41: v | H41: CZK | J41: =SUM(J32:J39) -> 0
D50: Projektant | G50: Zpracovatel
D61: Datum a podpis: | F61: Razítko | G61: Datum a podpis: | J61: Razítko
D65: Objednavatel | G65: Zhotovitel
D76: Datum a podpis: | F76: Razítko | G76: Datum a podpis: | J76: Razítko
C82: REKAPITULACE ČLENĚNÍ SOUPISU PRACÍ
C84: Stavba:
E85: =E7 -> Oprava propustků v km 24,666, 25,142, 25,589 a 25,786 na trati Vsetín - Velké Karlovice
C86: Objekt:
E87: SO 03 - Propustek v km 25,589
C88: Soupis:
E89: =E11 -> SO 03.1 - Oprava propustku - km 25,589
C91: Místo: | F91: =F14 | I91: Datum: | J91: =IF(J14="","",J14) -> 0
C93: Zadavatel: | F93: =E17 | I93: Projektant: | J93: =E23
C94: Zhotovitel: | F94: =IF(E20="","",E20) | I94: Zpracovatel: | J94: =E26
C96: Kód dílu - Popis | J96: Cena celkem [CZK]
C98: Náklady ze soupisu prací | J98: =J135 -> 0 | AU98: -1
D99: HSV - Práce a dodávky HSV | J99: =J136 -> 0
D100: 1 - Zemní práce | J100: =J137 -> 0
D101: 2 - Zakládání | J101: =J153 -> 0
D102: 4 - Vodorovné konstrukce | J102: =J159 -> 0
D103: 8 - Trubní vedení | J103: =J167 -> 0
D104: 9 - Ostatní konstrukce a práce-bourání | J104: =J169 -> 0
D105: 997 - Přesun sutě | J105: =J177 -> 0
D106: 998 - Přesun hmot | J106: =J184 -> 0
D107: PSV - Práce a dodávky PSV | J107: =J187 -> 0
D108: 711 - Izolace proti vodě, vlhkosti a plynům | J108: =J188 -> 0
D109: VRN - Vedlejší rozpočtové náklady | J109: =J194 -> 0
D110: VRN1 - Průzkumné, geodetické a projektové práce | J110: =J195 -> 0
D111: VRN3 - Zařízení staveniště | J111: =J198 -> 0
D112: VRN6 - Územní vlivy | J112: =J202 -> 0
D113: VRN9 - Ostatní náklady | J113: =J204 -> 0
C120: SOUPIS PRACÍ
C122: Stavba:
E123: =E7 -> Oprava propustků v km 24,666, 25,142, 25,589 a 25,786 na trati Vsetín - Velké Karlovice
C124: Objekt:
E125: SO 03 - Propustek v km 25,589
C126: Soupis:
E127: =E11 -> SO 03.1 - Oprava propustku - km 25,589
C129: Místo: | F129: =F14 | I129: Datum: | J129: =IF(J14="","",J14) -> 0
C131: Zadavatel: | F131: =E17 | I131: Projektant: | J131: =E23
C132: Zhotovitel: | F132: =IF(E20="","",E20) | I132: Zpracovatel: | J132: =E26
C134: PČ | D134: Typ | E134: Kód | F134: Popis | G134: MJ | H134: Množství | I134: J.cena [CZK] | J134: Cena celkem [CZK] | K134: Cenová soustava | N134: DPH | O134: J. Nh [h] | P134: Nh celkem [h] | Q134: J. hmotnost [t] | R134: Hmotnost celkem [t] | S134: J. suť [t] | T134: Suť Celkem [t]
C135: Náklady soupisu celkem | J135: =BK135 -> 0 | P135: =P136+P187+P194 -> 822.39905 | R135: =R136+R187+R194 -> 69.525924 | T135: =T136+T187+T194 -> 68.003 | AT135: D | AU135: -1 | BK135: =BK136+BK187+BK194 -> 0
D136: D | E136: HSV | F136: Práce a dodávky HSV | J136: =BK136 -> 0 | P136: =P137+P153+P159+P167+P169+P177+P184 -> 811.90829 | R136: =R137+R153+R159+R167+R169+R177+R184 -> 68.773158 | T136: =T137+T153+T159+T167+T169+T177+T184 -> 68.003 | AR136: 1 | AT136: D | AU136: 0 | AY136: ROZPOCET | BK136: =BK137+BK153+BK159+BK167+BK169+BK177+BK184 -> 0
D137: D | E137: 1 | F137: Zemní práce | J137: =BK137 -> 0 | P137: =SUM(P138:P152) -> 255.7792 | R137: =SUM(R138:R152) -> 0.002516 | T137: =SUM(T138:T152) -> 6.739 | AR137: 1 | AT137: D | AU137: 1 | AY137: ROZPOCET | BK137: =SUM(BK138:BK152) -> 0
C138: 1 | D138: K | E138: 113105113 | F138: Rozebrání dlažeb z lomového kamene kladených na MC vyspárované MC | G138: m2 | H138: 11.5 | J138: =ROUND(I138*H138,2) -> 0 | N138: základní | O138: 0.811 | P138: =O138*H138 -> 9.3265 | Q138: 0 | R138: =Q138*H138 -> 0 | S138: 0.586 | T138: =S138*H138 -> 6.739 | AR138: 4 | AT138: K | AU138: 2 | AY138: ROZPOCET | BE138: =IF(N138="základní",J138,0) -> 0 | BF138: =IF(N138="snížená",J138,0) -> 0 | BG138: =IF(N138="zákl. přenesená",J138,0) -> 0 | BH138: =IF(N138="sníž. přenesená",J138,0) -> 0 | BI138: =IF(N138="nulová",J138,0) -> 0 | BJ138: 1 | BK138: =ROUND(I138*H138,2) -> 0 | BL138: 4 | BM138: 507315559
C139: 2 | D139: K | E139: 115101202 | F139: Čerpání vody na dopravní výšku do 10 m průměrný přítok do 1000 l/min | G139: hod | H139: 24 | J139: =ROUND(I139*H139,2) -> 0 | N139: základní | O139: 0.3 | P139: =O139*H139 -> 7.2 | Q139: 0 | R139: =Q139*H139 -> 0 | S139: 0 | T139: =S139*H139 -> 0 | AR139: 4 | AT139: K | AU139: 2 | AY139: ROZPOCET | BE139: =IF(N139="základní",J139,0) -> 0 | BF139: =IF(N139="snížená",J139,0) -> 0 | BG139: =IF(N139="zákl. přenesená",J139,0) -> 0 | BH139: =IF(N139="sníž. přenesená",J139,0) -> 0 | BI139: =IF(N139="nulová",J139,0) -> 0 | BJ139: 1 | BK139: =ROUND(I139*H139,2) -> 0 | BL139: 4 | BM139: -548715659
C140: 3 | D140: K | E140: 121101101 | F140: Sejmutí ornice s přemístěním na vzdálenost do 50 m | G140: m3 | H140: 56.7 | J140: =ROUND(I140*H140,2) -> 0 | N140: základní | O140: 0.097 | P140: =O140*H140 -> 5.4999 | Q140: 0 | R140: =Q140*H140 -> 0 | S140: 0 | T140: =S140*H140 -> 0 | AR140: 4 | AT140: K | AU140: 2 | AY140: ROZPOCET | BE140: =IF(N140="základní",J140,0) -> 0 | BF140: =IF(N140="snížená",J140,0) -> 0 | BG140: =IF(N140="zákl. přenesená",J140,0) -> 0 | BH140: =IF(N140="sníž. přenesená",J140,0) -> 0 | BI140: =IF(N140="nulová",J140,0) -> 0 | BJ140: 1 | BK140: =ROUND(I140*H140,2) -> 0 | BL140: 4 | BM140: 809854763
C141: 4 | D141: K | E141: 131201102 | F141: Hloubení jam nezapažených v hornině tř. 3 objemu do 1000 m3 | G141: m3 | H141: 168.1 | J141: =ROUND(I141*H141,2) -> 0 | N141: základní | O141: 0.467 | P141: =O141*H141 -> 78.5027 | Q141: 0 | R141: =Q141*H141 -> 0 | S141: 0 | T141: =S141*H141 -> 0 | AR141: 4 | AT141: K | AU141: 2 | AY141: ROZPOCET | BE141: =IF(N141="základní",J141,0) -> 0 | BF141: =IF(N141="snížená",J141,0) -> 0 | BG141: =IF(N141="zákl. přenesená",J141,0) -> 0 | BH141: =IF(N141="sníž. přenesená",J141,0) -> 0 | BI141: =IF(N141="nulová",J141,0) -> 0 | BJ141: 1 | BK141: =ROUND(I141*H141,2) -> 0 | BL141: 4 | BM141: 1692998798
C142: 5 | D142: K | E142: 131201109 | F142: Příplatek za lepivost u hloubení jam nezapažených v hornině tř. 3 | G142: m3 | H142: 168.1 | J142: =ROUND(I142*H142,2) -> 0 | N142: základní | O142: 0.04 | P142: =O142*H142 -> 6.724 | Q142: 0 | R142: =Q142*H142 -> 0 | S142: 0 | T142: =S142*H142 -> 0 | AR142: 4 | AT142: K | AU142: 2 | AY142: ROZPOCET | BE142: =IF(N142="základní",J142,0) -> 0 | BF142: =IF(N142="snížená",J142,0) -> 0 | BG142: =IF(N142="zákl. přenesená",J142,0) -> 0 | BH142: =IF(N142="sníž. přenesená",J142,0) -> 0 | BI142: =IF(N142="nulová",J142,0) -> 0 | BJ142: 1 | BK142: =ROUND(I142*H142,2) -> 0 | BL142: 4 | BM142: -1429269367
C143: 6 | D143: K | E143: 132201101 | F143: Hloubení rýh š do 600 mm v hornině tř. 3 objemu do 100 m3 | G143: m3 | H143: 7.5 | J143: =ROUND(I143*H143,2) -> 0 | N143: základní | O143: 2.32 | P143: =O143*H143 -> 17.4 | Q143: 0 | R143: =Q143*H143 -> 0 | S143: 0 | T143: =S143*H143 -> 0 | AR143: 4 | AT143: K | AU143: 2 | AY143: ROZPOCET | BE143: =IF(N143="základní",J143,0) -> 0 | BF143: =IF(N143="snížená",J143,0) -> 0 | BG143: =IF(N143="zákl. přenesená",J143,0) -> 0 | BH143: =IF(N143="sníž. přenesená",J143,0) -> 0 | BI143: =IF(N143="nulová",J143,0) -> 0 | BJ143: 1 | BK143: =ROUND(I143*H143,2) -> 0 | BL143: 4 | BM143: 558202750
C144: 7 | D144: K | E144: 132201109 | F144: Příplatek za lepivost k hloubení rýh š do 600 mm v hornině tř. 3 | G144: m3 | H144: 7.5 | J144: =ROUND(I144*H144,2) -> 0 | N144: základní | O144: 0.654 | P144: =O144*H144 -> 4.905 | Q144: 0 | R144: =Q144*H144 -> 0 | S144: 0 | T144: =S144*H144 -> 0 | AR144: 4 | AT144: K | AU144: 2 | AY144: ROZPOCET | BE144: =IF(N144="základní",J144,0) -> 0 | BF144: =IF(N144="snížená",J144,0) -> 0 | BG144: =IF(N144="zákl. přenesená",J144,0) -> 0 | BH144: =IF(N144="sníž. přenesená",J144,0) -> 0 | BI144: =IF(N144="nulová",J144,0) -> 0 | BJ144: 1 | BK144: =ROUND(I144*H144,2) -> 0 | BL144: 4 | BM144: -1514580992
C145: 8 | D145: K | E145: 162201101 | F145: Vodorovné přemístění do 20 m výkopku/sypaniny z horniny tř. 1 až 4 | G145: m3 | H145: 408 | J145: =ROUND(I145*H145,2) -> 0 | K145: CS ÚRS 2019 01 | N145: základní | O145: 0.087 | P145: =O145*H145 -> 35.496 | Q145: 0 | R145: =Q145*H145 -> 0 | S145: 0 | T145: =S145*H145 -> 0 | AR145: 4 | AT145: K | AU145: 2 | AY145: ROZPOCET | BE145: =IF(N145="základní",J145,0) -> 0 | BF145: =IF(N145="snížená",J145,0) -> 0 | BG145: =IF(N145="zákl. přenesená",J145,0) -> 0 | BH145: =IF(N145="sníž. přenesená",J145,0) -> 0 | BI145: =IF(N145="nulová",J145,0) -> 0 | BJ145: 1 | BK145: =ROUND(I145*H145,2) -> 0 | BL145: 4 | BM145: -1962435432
D146: VV | F146: 2 * 204,000 | H146: 408 | AT146: VV | AU146: 2 | AV146: 2 | AW146: True | AX146: 1 | AY146: ROZPOCET
C147: 9 | D147: K | E147: 167101102 | F147: Nakládání výkopku z hornin tř. 1 až 4 přes 100 m3 | G147: m3 | H147: 204 | J147: =ROUND(I147*H147,2) -> 0 | N147: základní | O147: 0.097 | P147: =O147*H147 -> 19.788 | Q147: 0 | R147: =Q147*H147 -> 0 | S147: 0 | T147: =S147*H147 -> 0 | AR147: 4 | AT147: K | AU147: 2 | AY147: ROZPOCET | BE147: =IF(N147="základní",J147,0) -> 0 | BF147: =IF(N147="snížená",J147,0) -> 0 | BG147: =IF(N147="zákl. přenesená",J147,0) -> 0 | BH147: =IF(N147="sníž. přenesená",J147,0) -> 0 | BI147: =IF(N147="nulová",J147,0) -> 0 | BJ147: 1 | BK147: =ROUND(I147*H147,2) -> 0 | BL147: 4 | BM147: 334384158
D148: VV | F148: "k přesunu pol. č. 8" 204,000 | H148: 204 | AT148: VV | AU148: 2 | AV148: 2 | AW148: True | AX148: 0 | AY148: ROZPOCET
D149: VV | F149: Součet | H149: 204 | AT149: VV | AU149: 2 | AV149: 4 | AW149: True | AX149: 1 | AY149: ROZPOCET
C150: 10 | D150: K | E150: 181301105 | F150: Rozprostření ornice tl vrstvy do 300 mm pl do 500 m2 v rovině nebo ve svahu do 1:5 | G150: m2 | H150: 167.7 | J150: =ROUND(I150*H150,2) -> 0 | N150: základní | O150: 0.416 | P150: =O150*H150 -> 69.7632 | Q150: 0 | R150: =Q150*H150 -> 0 | S150: 0 | T150: =S150*H150 -> 0 | AR150: 4 | AT150: K | AU150: 2 | AY150: ROZPOCET | BE150: =IF(N150="základní",J150,0) -> 0 | BF150: =IF(N150="snížená",J150,0) -> 0 | BG150: =IF(N150="zákl. přenesená",J150,0) -> 0 | BH150: =IF(N150="sníž. přenesená",J150,0) -> 0 | BI150: =IF(N150="nulová",J150,0) -> 0 | BJ150: 1 | BK150: =ROUND(I150*H150,2) -> 0 | BL150: 4 | BM150: -800412716
C151: 11 | D151: K | E151: 181411121 | F151: Založení lučního trávníku výsevem plochy do 1000 m2 v rovině a ve svahu do 1:5 | G151: m2 | H151: 167.7 | J151: =ROUND(I151*H151,2) -> 0 | N151: základní | O151: 0.007 | P151: =O151*H151 -> 1.1739 | Q151: 0 | R151: =Q151*H151 -> 0 | S151: 0 | T151: =S151*H151 -> 0 | AR151: 4 | AT151: K | AU151: 2 | AY151: ROZPOCET | BE151: =IF(N151="základní",J151,0) -> 0 | BF151: =IF(N151="snížená",J151,0) -> 0 | BG151: =IF(N151="zákl. přenesená",J151,0) -> 0 | BH151: =IF(N151="sníž. přenesená",J151,0) -> 0 | BI151: =IF(N151="nulová",J151,0) -> 0 | BJ151: 1 | BK151: =ROUND(I151*H151,2) -> 0 | BL151: 4 | BM151: -332896740
C152: 12 | D152: M | E152: 005724740 | F152: osivo směs travní krajinná - svahová | G152: kg | H152: 2.516 | J152: =ROUND(I152*H152,2) -> 0 | N152: základní | O152: 0 | P152: =O152*H152 -> 0 | Q152: 0.001 | R152: =Q152*H152 -> 0.002516 | S152: 0 | T152: =S152*H152 -> 0 | AR152: 8 | AT152: M | AU152: 2 | AY152: ROZPOCET | BE152: =IF(N152="základní",J152,0) -> 0 | BF152: =IF(N152="snížená",J152,0) -> 0 | BG152: =IF(N152="zákl. přenesená",J152,0) -> 0 | BH152: =IF(N152="sníž. přenesená",J152,0) -> 0 | BI152: =IF(N152="nulová",J152,0) -> 0 | BJ152: 1 | BK152: =ROUND(I152*H152,2) -> 0 | BL152: 4 | BM152: -1620973257
D153: D | E153: 2 | F153: Zakládání | J153: =BK153 -> 0 | P153: =SUM(P154:P158) -> 5.875836 | R153: =SUM(R154:R158) -> 14.277214 | T153: =SUM(T154:T158) -> 0 | AR153: 1 | AT153: D | AU153: 1 | AY153: ROZPOCET | BK153: =SUM(BK154:BK158) -> 0
C154: 13 | D154: K | E154: 273321118 | F154: Základové desky ze ŽB C 30/37 | G154: m3 | H154: 5.632 | J154: =ROUND(I154*H154,2) -> 0 | N154: základní | O154: 0 | P154: =O154*H154 -> 0 | Q154: 2.526248 | R154: =Q154*H154 -> 14.227829 | S154: 0 | T154: =S154*H154 -> 0 | AR154: 4 | AT154: K | AU154: 2 | AY154: ROZPOCET | BE154: =IF(N154="základní",J154,0) -> 0 | BF154: =IF(N154="snížená",J154,0) -> 0 | BG154: =IF(N154="zákl. přenesená",J154,0) -> 0 | BH154: =IF(N154="sníž. přenesená",J154,0) -> 0 | BI154: =IF(N154="nulová",J154,0) -> 0 | BJ154: 1 | BK154: =ROUND(I154*H154,2) -> 0 | BL154: 4 | BM154: 1083487895
C155: 14 | D155: K | E155: 273354111 | F155: Bednění základových desek - zřízení | G155: m2 | H155: 8.16 | J155: =ROUND(I155*H155,2) -> 0 | N155: základní | O155: 0.397 | P155: =O155*H155 -> 3.23952 | Q155: 0.0014357 | R155: =Q155*H155 -> 0.011715312 | S155: 0 | T155: =S155*H155 -> 0 | AR155: 4 | AT155: K | AU155: 2 | AY155: ROZPOCET | BE155: =IF(N155="základní",J155,0) -> 0 | BF155: =IF(N155="snížená",J155,0) -> 0 | BG155: =IF(N155="zákl. přenesená",J155,0) -> 0 | BH155: =IF(N155="sníž. přenesená",J155,0) -> 0 | BI155: =IF(N155="nulová",J155,0) -> 0 | BJ155: 1 | BK155: =ROUND(I155*H155,2) -> 0 | BL155: 4 | BM155: -243964383
C156: 15 | D156: K | E156: 273354211 | F156: Bednění základových desek - odstranění | G156: m2 | H156: 8.16 | J156: =ROUND(I156*H156,2) -> 0 | N156: základní | O156: 0.144 | P156: =O156*H156 -> 1.17504 | Q156: 3.6e-05 | R156: =Q156*H156 -> 0.00029376 | S156: 0 | T156: =S156*H156 -> 0 | AR156: 4 | AT156: K | AU156: 2 | AY156: ROZPOCET | BE156: =IF(N156="základní",J156,0) -> 0 | BF156: =IF(N156="snížená",J156,0) -> 0 | BG156: =IF(N156="zákl. přenesená",J156,0) -> 0 | BH156: =IF(N156="sníž. přenesená",J156,0) -> 0 | BI156: =IF(N156="nulová",J156,0) -> 0 | BJ156: 1 | BK156: =ROUND(I156*H156,2) -> 0 | BL156: 4 | BM156: -1466849422
C157: 16 | D157: K | E157: 273361116 | F157: Výztuž základových desek z betonářské oceli 10 505 | G157: t | H157: 0.036 | J157: =ROUND(I157*H157,2) -> 0 | N157: základní | O157: 40.591 | P157: =O157*H157 -> 1.461276 | Q157: 1.038217 | R157: =Q157*H157 -> 0.037375812 | S157: 0 | T157: =S157*H157 -> 0 | AR157: 4 | AT157: K | AU157: 2 | AY157: ROZPOCET | BE157: =IF(N157="základní",J157,0) -> 0 | BF157: =IF(N157="snížená",J157,0) -> 0 | BG157: =IF(N157="zákl. přenesená",J157,0) -> 0 | BH157: =IF(N157="sníž. přenesená",J157,0) -> 0 | BI157: =IF(N157="nulová",J157,0) -> 0 | BJ157: 1 | BK157: =ROUND(I157*H157,2) -> 0 | BL157: 4 | BM157: -1865583347
C158: 17 | D158: K | E158: 273361413-R | F158: Výztuž základových desek ze svařovaných sítí do 8 kg/m2 | G158: t | H158: 0.569 | J158: =ROUND(I158*H158,2) -> 0 | N158: základní | O158: 0 | P158: =O158*H158 -> 0 | Q158: 0 | R158: =Q158*H158 -> 0 | S158: 0 | T158: =S158*H158 -> 0 | AR158: 4 | AT158: K | AU158: 2 | AY158: ROZPOCET | BE158: =IF(N158="základní",J158,0) -> 0 | BF158: =IF(N158="snížená",J158,0) -> 0 | BG158: =IF(N158="zákl. přenesená",J158,0) -> 0 | BH158: =IF(N158="sníž. přenesená",J158,0) -> 0 | BI158: =IF(N158="nulová",J158,0) -> 0 | BJ158: 1 | BK158: =ROUND(I158*H158,2) -> 0 | BL158: 4 | BM158: 1217977612
D159: D | E159: 4 | F159: Vodorovné konstrukce | J159: =BK159 -> 0 | P159: =SUM(P160:P166) -> 203.35374 | R159: =SUM(R160:R166) -> 29.955892 | T159: =SUM(T160:T166) -> 0 | AR159: 1 | AT159: D | AU159: 1 | AY159: ROZPOCET | BK159: =SUM(BK160:BK166) -> 0
C160: 18 | D160: K | E160: 451315190-R | F160: Podkladní nebo vyrovnávací vrstva z betonu C25/30 | G160: m3 | H160: 15.31 | J160: =ROUND(I160*H160,2) -> 0 | N160: základní | O160: 0 | P160: =O160*H160 -> 0 | Q160: 0 | R160: =Q160*H160 -> 0 | S160: 0 | T160: =S160*H160 -> 0 | AR160: 4 | AT160: K | AU160: 2 | AY160: ROZPOCET | BE160: =IF(N160="základní",J160,0) -> 0 | BF160: =IF(N160="snížená",J160,0) -> 0 | BG160: =IF(N160="zákl. přenesená",J160,0) -> 0 | BH160: =IF(N160="sníž. přenesená",J160,0) -> 0 | BI160: =IF(N160="nulová",J160,0) -> 0 | BJ160: 1 | BK160: =ROUND(I160*H160,2) -> 0 | BL160: 4 | BM160: -1624794266
C161: 19 | D161: K | E161: 452318510 | F161: Zajišťovací práh z betonu prostého | G161: m3 | H161: 3 | J161: =ROUND(I161*H161,2) -> 0 | N161: základní | O161: 0 | P161: =O161*H161 -> 0 | Q161: 2.492545 | R161: =Q161*H161 -> 7.477635 | S161: 0 | T161: =S161*H161 -> 0 | AR161: 4 | AT161: K | AU161: 2 | AY161: ROZPOCET | BE161: =IF(N161="základní",J161,0) -> 0 | BF161: =IF(N161="snížená",J161,0) -> 0 | BG161: =IF(N161="zákl. přenesená",J161,0) -> 0 | BH161: =IF(N161="sníž. přenesená",J161,0) -> 0 | BI161: =IF(N161="nulová",J161,0) -> 0 | BJ161: 1 | BK161: =ROUND(I161*H161,2) -> 0 | BL161: 4 | BM161: -1876192850
C162: 20 | D162: K | E162: 45850111R | F162: Výplňové klíny za opěrou ze stávajícího materiálu hutněného po vrstvách | G162: m3 | H162: 204 | J162: =ROUND(I162*H162,2) -> 0 | N162: základní | O162: 0.8 | P162: =O162*H162 -> 163.2 | Q162: 0 | R162: =Q162*H162 -> 0 | S162: 0 | T162: =S162*H162 -> 0 | AR162: 4 | AT162: K | AU162: 2 | AY162: ROZPOCET | BE162: =IF(N162="základní",J162,0) -> 0 | BF162: =IF(N162="snížená",J162,0) -> 0 | BG162: =IF(N162="zákl. přenesená",J162,0) -> 0 | BH162: =IF(N162="sníž. přenesená",J162,0) -> 0 | BI162: =IF(N162="nulová",J162,0) -> 0 | BJ162: 1 | BK162: =ROUND(I162*H162,2) -> 0 | BL162: 4 | BM162: 63697807
D163: VV | F163: 68,000 + 136,000 | H163: 204 | AT163: VV | AU163: 2 | AV163: 2 | AW163: True | AX163: 1 | AY163: ROZPOCET
C164: 21 | D164: K | E164: 465511523 | F164: Dlažba z lomového kamene do malty s vyplněním spár maltou a vyspárováním plocha nad 20 m2 tl 300 mm | G164: m2 | H164: 24.189 | J164: =ROUND(I164*H164,2) -> 0 | N164: základní | O164: 1.66 | P164: =O164*H164 -> 40.15374 | Q164: 0.929276 | R164: =Q164*H164 -> 22.478257 | S164: 0 | T164: =S164*H164 -> 0 | AR164: 4 | AT164: K | AU164: 2 | AY164: ROZPOCET | BE164: =IF(N164="základní",J164,0) -> 0 | BF164: =IF(N164="snížená",J164,0) -> 0 | BG164: =IF(N164="zákl. přenesená",J164,0) -> 0 | BH164: =IF(N164="sníž. přenesená",J164,0) -> 0 | BI164: =IF(N164="nulová",J164,0) -> 0 | BJ164: 1 | BK164: =ROUND(I164*H164,2) -> 0 | BL164: 4 | BM164: 2103399443
...

Sheet SO 03.2 - Železniční svrš...
L2: >> skryté sloupce << | AT2: {d391763e-471b-4083-b84a-4181c76451f6}
AT3: 2
D4: KRYCÍ LIST SOUPISU PRACÍ | M4: v --- níže se nacházejí doplnkové a pomocné údaje k sestavám --- v | AT4: False
D6: Stavba:
E7: ='Rekapitulace stavby'!K6 -> Oprava propustků v km 24,666, 25,142, 25,589 a 25,786 na trati Vsetín - Velké Karlovice
D8: Objekt:
E9: SO 03 - Propustek v km 25,589
D10: Soupis:
E11: SO 03.2 - Železniční svršek - km 25,589
D13: KSO: | I13: CC-CZ:
D14: Místo: | I14: Datum: | J14: ='Rekapitulace stavby'!AN8 -> 0
D16: Zadavatel: | I16: IČ:
I17: DIČ:
D19: Zhotovitel: | I19: IČ: | J19: ='Rekapitulace stavby'!AN13
E20: ='Rekapitulace stavby'!E14 | I20: DIČ: | J20: ='Rekapitulace stavby'!AN14
D22: Projektant: | I22: IČ:
I23: DIČ:
D25: Zpracovatel: | I25: IČ:
I26: DIČ:
D28: Poznámka:
D32: Cena bez DPH | J32: =ROUND(J122, 2) -> 0
F34: Základ daně | I34: Sazba daně | J34: Výše daně
D35: DPH | E35: základní | F35: =ROUND((SUM(BE122:BE146)), 2) -> 0 | I35: 0.21 | J35: =ROUND(((SUM(BE122:BE146))*I35), 2) -> 0
E36: snížená | F36: =ROUND((SUM(BF122:BF146)), 2) -> 0 | I36: 0.15 | J36: =ROUND(((SUM(BF122:BF146))*I36), 2) -> 0
E37: zákl. přenesená | F37: =ROUND((SUM(BG122:BG146)), 2) -> 0 | I37: 0.21 | J37: =0 -> 0
E38: sníž. přenesená | F38: =ROUND((SUM(BH122:BH146)), 2) -> 0 | I38: 0.15 | J38: =0 -> 0
E39: nulová | F39: =ROUND((SUM(BI122:BI146)), 2) -> 0 | I39: 0 | J39: =0 -> 0
D41: Cena s DPH | G41: v | H41: CZK | J41: =SUM(J32:J39) -> 0
D50: Projektant | G50: Zpracovatel
D61: Datum a podpis: | F61: Razítko | G61: Datum a podpis: | J61: Razítko
D65: Objednavatel | G65: Zhotovitel
D76: Datum a podpis: | F76: Razítko | G76: Datum a podpis: | J76: Razítko
C82: REKAPITULACE ČLENĚNÍ SOUPISU PRACÍ
C84: Stavba:
E85: =E7 -> Oprava propustků v km 24,666, 25,142, 25,589 a 25,786 na trati Vsetín - Velké Karlovice
C86: Objekt:
E87: SO 03 - Propustek v km 25,589
C88: Soupis:
E89: =E11 -> SO 03.2 - Železniční svršek - km 25,589
C91: Místo: | F91: =F14 | I91: Datum: | J91: =IF(J14="","",J14) -> 0
C93: Zadavatel: | F93: =E17 | I93: Projektant: | J93: =E23
C94: Zhotovitel: | F94: =IF(E20="","",E20) | I94: Zpracovatel: | J94: =E26
C96: Kód dílu - Popis | J96: Cena celkem [CZK]
C98: Náklady ze soupisu prací | J98: =J122 -> 0 | AU98: -1
D99: 5 - Komunikace | J99: =J123 -> 0
D100: OST - Ostatní | J100: =J141 -> 0
C107: SOUPIS PRACÍ
C109: Stavba:
E110: =E7 -> Oprava propustků v km 24,666, 25,142, 25,589 a 25,786 na trati Vsetín - Velké Karlovice
C111: Objekt:
E112: SO 03 - Propustek v km 25,589
C113: Soupis:
E114: =E11 -> SO 03.2 - Železniční svršek - km 25,589
C116: Místo: | F116: =F14 | I116: Datum: | J116: =IF(J14="","",J14) -> 0
C118: Zadavatel: | F118: =E17 | I118: Projektant: | J118: =E23
C119: Zhotovitel: | F119: =IF(E20="","",E20) | I119: Zpracovatel: | J119: =E26
C121: PČ | D121: Typ | E121: Kód | F121: Popis | G121: MJ | H121: Množství | I121: J.cena [CZK] | J121: Cena celkem [CZK] | K121: Cenová soustava | N121: DPH | O121: J. Nh [h] | P121: Nh celkem [h] | Q121: J. hmotnost [t] | R121: Hmotnost celkem [t] | S121: J. suť [t] | T121: Suť Celkem [t]
C122: Náklady soupisu celkem | J122: =BK122 -> 0 | P122: =P123+P141 -> 0 | R122: =R123+R141 -> 120.338 | T122: =T123+T141 -> 0 | AT122: D | AU122: -1 | BK122: =BK123+BK141 -> 0
D123: D | E123: 5 | F123: Komunikace | J123: =BK123 -> 0 | P123: =SUM(P124:P140) -> 0 | R123: =SUM(R124:R140) -> 120.338 | T123: =SUM(T124:T140) -> 0 | AR123: 1 | AT123: D | AU123: 0 | AY123: ROZPOCET | BK123: =SUM(BK124:BK140) -> 0
C124: 1 | D124: K | E124: 5905055010 | F124: Odstranění stávajícího kolejového lože odtěžením v koleji | G124: m3 | H124: 28.504 | J124: =ROUND(I124*H124,2) -> 0 | K124: ÚOŽI 2019 01 | N124: základní | O124: 0 | P124: =O124*H124 -> 0 | Q124: 0 | R124: =Q124*H124 -> 0 | S124: 0 | T124: =S124*H124 -> 0 | AR124: 4 | AT124: K | AU124: 1 | AY124: ROZPOCET | BE124: =IF(N124="základní",J124,0) -> 0 | BF124: =IF(N124="snížená",J124,0) -> 0 | BG124: =IF(N124="zákl. přenesená",J124,0) -> 0 | BH124: =IF(N124="sníž. přenesená",J124,0) -> 0 | BI124: =IF(N124="nulová",J124,0) -> 0 | BJ124: 1 | BK124: =ROUND(I124*H124,2) -> 0 | BL124: 4 | BM124: -1863783721
C125: 2 | D125: K | E125: 5905060010 | F125: Zřízení nového kolejového lože v koleji | G125: m3 | H125: 104.05 | J125: =ROUND(I125*H125,2) -> 0 | K125: ÚOŽI 2019 01 | N125: základní | O125: 0 | P125: =O125*H125 -> 0 | Q125: 0 | R125: =Q125*H125 -> 0 | S125: 0 | T125: =S125*H125 -> 0 | AR125: 4 | AT125: K | AU125: 1 | AY125: ROZPOCET | BE125: =IF(N125="základní",J125,0) -> 0 | BF125: =IF(N125="snížená",J125,0) -> 0 | BG125: =IF(N125="zákl. přenesená",J125,0) -> 0 | BH125: =IF(N125="sníž. přenesená",J125,0) -> 0 | BI125: =IF(N125="nulová",J125,0) -> 0 | BJ125: 1 | BK125: =ROUND(I125*H125,2) -> 0 | BL125: 4 | BM125: -415446948
C126: 3 | D126: M | E126: 5955101000 | F126: Kamenivo drcené štěrk frakce 31,5/63 třídy BI | G126: t | H126: 120.338 | J126: =ROUND(I126*H126,2) -> 0 | K126: ÚOŽI 2019 01 | N126: základní | O126: 0 | P126: =O126*H126 -> 0 | Q126: 1 | R126: =Q126*H126 -> 120.338 | S126: 0 | T126: =S126*H126 -> 0 | AR126: 8 | AT126: M | AU126: 1 | AY126: ROZPOCET | BE126: =IF(N126="základní",J126,0) -> 0 | BF126: =IF(N126="snížená",J126,0) -> 0 | BG126: =IF(N126="zákl. přenesená",J126,0) -> 0 | BH126: =IF(N126="sníž. přenesená",J126,0) -> 0 | BI126: =IF(N126="nulová",J126,0) -> 0 | BJ126: 1 | BK126: =ROUND(I126*H126,2) -> 0 | BL126: 4 | BM126: 738228903
C127: 4 | D127: K | E127: 5905065010 | F127: Samostatná úprava vrstvy kolejového lože pod ložnou plochou pražců v koleji | G127: m2 | H127: 57.68 | J127: =ROUND(I127*H127,2) -> 0 | K127: ÚOŽI 2019 01 | N127: základní | O127: 0 | P127: =O127*H127 -> 0 | Q127: 0 | R127: =Q127*H127 -> 0 | S127: 0 | T127: =S127*H127 -> 0 | AR127: 4 | AT127: K | AU127: 1 | AY127: ROZPOCET | BE127: =IF(N127="základní",J127,0) -> 0 | BF127: =IF(N127="snížená",J127,0) -> 0 | BG127: =IF(N127="zákl. přenesená",J127,0) -> 0 | BH127: =IF(N127="sníž. přenesená",J127,0) -> 0 | BI127: =IF(N127="nulová",J127,0) -> 0 | BJ127: 1 | BK127: =ROUND(I127*H127,2) -> 0 | BL127: 4 | BM127: 221702436
C128: 5 | D128: K | E128: 5905110010 | F128: Snížení KL pod patou kolejnice v koleji | G128: km | H128: 0.074 | J128: =ROUND(I128*H128,2) -> 0 | K128: ÚOŽI 2019 01 | N128: základní | O128: 0 | P128: =O128*H128 -> 0 | Q128: 0 | R128: =Q128*H128 -> 0 | S128: 0 | T128: =S128*H128 -> 0 | AR128: 4 | AT128: K | AU128: 1 | AY128: ROZPOCET | BE128: =IF(N128="základní",J128,0) -> 0 | BF128: =IF(N128="snížená",J128,0) -> 0 | BG128: =IF(N128="zákl. přenesená",J128,0) -> 0 | BH128: =IF(N128="sníž. přenesená",J128,0) -> 0 | BI128: =IF(N128="nulová",J128,0) -> 0 | BJ128: 1 | BK128: =ROUND(I128*H128,2) -> 0 | BL128: 4 | BM128: 1634481578
C129: 6 | D129: K | E129: 5906130170 | F129: Montáž kolejového roštu v ose koleje pražce dřevěné vystrojené tv. S49 rozdělení "c" | G129: km | H129: 0.015 | J129: =ROUND(I129*H129,2) -> 0 | K129: ÚOŽI 2019 01 | N129: základní | O129: 0 | P129: =O129*H129 -> 0 | Q129: 0 | R129: =Q129*H129 -> 0 | S129: 0 | T129: =S129*H129 -> 0 | AR129: 4 | AT129: K | AU129: 1 | AY129: ROZPOCET | BE129: =IF(N129="základní",J129,0) -> 0 | BF129: =IF(N129="snížená",J129,0) -> 0 | BG129: =IF(N129="zákl. přenesená",J129,0) -> 0 | BH129: =IF(N129="sníž. přenesená",J129,0) -> 0 | BI129: =IF(N129="nulová",J129,0) -> 0 | BJ129: 1 | BK129: =ROUND(I129*H129,2) -> 0 | BL129: 4 | BM129: -452453149
C130: 7 | D130: K | E130: 5906140235 | F130: Demontáž kolejového roštu koleje v ose koleje pražce betonové tv. T rozdělení "c" | G130: km | H130: 0.015 | J130: =ROUND(I130*H130,2) -> 0 | K130: ÚOŽI 2019 01 | N130: základní | O130: 0 | P130: =O130*H130 -> 0 | Q130: 0 | R130: =Q130*H130 -> 0 | S130: 0 | T130: =S130*H130 -> 0 | AR130: 4 | AT130: K | AU130: 1 | AY130: ROZPOCET | BE130: =IF(N130="základní",J130,0) -> 0 | BF130: =IF(N130="snížená",J130,0) -> 0 | BG130: =IF(N130="zákl. přenesená",J130,0) -> 0 | BH130: =IF(N130="sníž. přenesená",J130,0) -> 0 | BI130: =IF(N130="nulová",J130,0) -> 0 | BJ130: 1 | BK130: =ROUND(I130*H130,2) -> 0 | BL130: 4 | BM130: -1651480261
C131: 8 | D131: K | E131: 5907050020 | F131: Dělení kolejnic řezáním nebo rozbroušením tv. S49 | G131: kus | H131: 4 | J131: =ROUND(I131*H131,2) -> 0 | K131: ÚOŽI 2019 01 | N131: základní | O131: 0 | P131: =O131*H131 -> 0 | Q131: 0 | R131: =Q131*H131 -> 0 | S131: 0 | T131: =S131*H131 -> 0 | AR131: 4 | AT131: K | AU131: 1 | AY131: ROZPOCET | BE131: =IF(N131="základní",J131,0) -> 0 | BF131: =IF(N131="snížená",J131,0) -> 0 | BG131: =IF(N131="zákl. přenesená",J131,0) -> 0 | BH131: =IF(N131="sníž. přenesená",J131,0) -> 0 | BI131: =IF(N131="nulová",J131,0) -> 0 | BJ131: 1 | BK131: =ROUND(I131*H131,2) -> 0 | BL131: 4 | BM131: -1415926575
C132: 9 | D132: K | E132: 5909032020 | F132: Přesná úprava GPK koleje směrové a výškové uspořádání pražce betonové | G132: km | H132: 0.308 | J132: =ROUND(I132*H132,2) -> 0 | K132: ÚOŽI 2019 01 | N132: základní | O132: 0 | P132: =O132*H132 -> 0 | Q132: 0 | R132: =Q132*H132 -> 0 | S132: 0 | T132: =S132*H132 -> 0 | AR132: 4 | AT132: K | AU132: 1 | AY132: ROZPOCET | BE132: =IF(N132="základní",J132,0) -> 0 | BF132: =IF(N132="snížená",J132,0) -> 0 | BG132: =IF(N132="zákl. přenesená",J132,0) -> 0 | BH132: =IF(N132="sníž. přenesená",J132,0) -> 0 | BI132: =IF(N132="nulová",J132,0) -> 0 | BJ132: 1 | BK132: =ROUND(I132*H132,2) -> 0 | BL132: 4 | BM132: 1872517314
C133: 10 | D133: K | E133: 5910020130 | F133: Svařování kolejnic termitem plný předehřev standardní spára svar jednotlivý tv. S49 | G133: svar | H133: 4 | J133: =ROUND(I133*H133,2) -> 0 | K133: ÚOŽI 2019 01 | N133: základní | O133: 0 | P133: =O133*H133 -> 0 | Q133: 0 | R133: =Q133*H133 -> 0 | S133: 0 | T133: =S133*H133 -> 0 | AR133: 4 | AT133: K | AU133: 1 | AY133: ROZPOCET | BE133: =IF(N133="základní",J133,0) -> 0 | BF133: =IF(N133="snížená",J133,0) -> 0 | BG133: =IF(N133="zákl. přenesená",J133,0) -> 0 | BH133: =IF(N133="sníž. přenesená",J133,0) -> 0 | BI133: =IF(N133="nulová",J133,0) -> 0 | BJ133: 1 | BK133: =ROUND(I133*H133,2) -> 0 | BL133: 4 | BM133: -1323081679
C134: 11 | D134: K | E134: 5910035030 | F134: Dosažení dovolené upínací teploty v BK prodloužením kolejnicového pásu v koleji tv. S49 | G134: svar | H134: 2 | J134: =ROUND(I134*H134,2) -> 0 | K134: ÚOŽI 2019 01 | N134: základní | O134: 0 | P134: =O134*H134 -> 0 | Q134: 0 | R134: =Q134*H134 -> 0 | S134: 0 | T134: =S134*H134 -> 0 | AR134: 4 | AT134: K | AU134: 1 | AY134: ROZPOCET | BE134: =IF(N134="základní",J134,0) -> 0 | BF134: =IF(N134="snížená",J134,0) -> 0 | BG134: =IF(N134="zákl. přenesená",J134,0) -> 0 | BH134: =IF(N134="sníž. přenesená",J134,0) -> 0 | BI134: =IF(N134="nulová",J134,0) -> 0 | BJ134: 1 | BK134: =ROUND(I134*H134,2) -> 0 | BL134: 4 | BM134: -1150954584
C135: 12 | D135: K | E135: 5910040310 | F135: Umožnění volné dilatace kolejnice demontáž upevňovadel s osazením kluzných podložek rozdělení pražců "c" | G135: m | H135: 200 | J135: =ROUND(I135*H135,2) -> 0 | K135: ÚOŽI 2019 01 | N135: základní | O135: 0 | P135: =O135*H135 -> 0 | Q135: 0 | R135: =Q135*H135 -> 0 | S135: 0 | T135: =S135*H135 -> 0 | AR135: 4 | AT135: K | AU135: 1 | AY135: ROZPOCET | BE135: =IF(N135="základní",J135,0) -> 0 | BF135: =IF(N135="snížená",J135,0) -> 0 | BG135: =IF(N135="zákl. přenesená",J135,0) -> 0 | BH135: =IF(N135="sníž. přenesená",J135,0) -> 0 | BI135: =IF(N135="nulová",J135,0) -> 0 | BJ135: 1 | BK135: =ROUND(I135*H135,2) -> 0 | BL135: 4 | BM135: 428531032
... C140: 17 | D140: K | E140: 5999005030 | F140: Třídění kolejnic | G140: t | H140: 1.4 | J140: =ROUND(I140*H140,2) -> 0 | K140: ÚOŽI 2019 01 | N140: základní | O140: 0 | P140: =O140*H140 -> 0 | Q140: 0 | R140: =Q140*H140 -> 0 | S140: 0 | T140: =S140*H140 -> 0 | AR140: 4 | AT140: K | AU140: 1 | AY140: ROZPOCET | BE140: =IF(N140="základní",J140,0) -> 0 | BF140: =IF(N140="snížená",J140,0) -> 0 | BG140: =IF(N140="zákl. přenesená",J140,0) -> 0 | BH140: =IF(N140="sníž. přenesená",J140,0) -> 0 | BI140: =IF(N140="nulová",J140,0) -> 0 | BJ140: 1 | BK140: =ROUND(I140*H140,2) -> 0 | BL140: 4 | BM140: -859329435
D141: D | E141: OST | F141: Ostatní | J141: =BK141 -> 0 | P141: =SUM(P142:P146) -> 0 | R141: =SUM(R142:R146) -> 0 | T141: =SUM(T142:T146) -> 0 | AR141: 4 | AT141: D | AU141: 0 | AY141: ROZPOCET | BK141: =SUM(BK142:BK146) -> 0
C142: 18 | D142: K | E142: 9902100400 | F142: Doprava dodávek zhotovitele, dodávek objednatele nebo výzisku mechanizací přes 3,5 t sypanin do 40 km | G142: t | H142: 45.606 | J142: =ROUND(I142*H142,2) -> 0 | K142: ÚOŽI 2019 01 | N142: základní | O142: 0 | P142: =O142*H142 -> 0 | Q142: 0 | R142: =Q142*H142 -> 0 | S142: 0 | T142: =S142*H142 -> 0 | AR142: 512 | AT142: K | AU142: 1 | AY142: ROZPOCET | BE142: =IF(N142="základní",J142,0) -> 0 | BF142: =IF(N142="snížená",J142,0) -> 0 | BG142: =IF(N142="zákl. přenesená",J142,0) -> 0 | BH142: =IF(N142="sníž. přenesená",J142,0) -> 0 | BI142: =IF(N142="nulová",J142,0) -> 0 | BJ142: 1 | BK142: =ROUND(I142*H142,2) -> 0 | BL142: 512 | BM142: -1619727582
C143: 19 | D143: K | E143: 9902100600 | F143: Doprava dodávek zhotovitele, dodávek objednatele nebo výzisku mechanizací přes 3,5 t sypanin do 80 km | G143: t | H143: 120.338 | J143: =ROUND(I143*H143,2) -> 0 | K143: ÚOŽI 2019 01 | N143: základní | O143: 0 | P143: =O143*H143 -> 0 | Q143: 0 | R143: =Q143*H143 -> 0 | S143: 0 | T143: =S143*H143 -> 0 | AR143: 512 | AT143: K | AU143: 1 | AY143: ROZPOCET | BE143: =IF(N143="základní",J143,0) -> 0 | BF143: =IF(N143="snížená",J143,0) -> 0 | BG143: =IF(N143="zákl. přenesená",J143,0) -> 0 | BH143: =IF(N143="sníž. přenesená",J143,0) -> 0 | BI143: =IF(N143="nulová",J143,0) -> 0 | BJ143: 1 | BK143: =ROUND(I143*H143,2) -> 0 | BL143: 512 | BM143: -118339026
C144: 20 | D144: K | E144: 9902200400 | F144: Doprava dodávek zhotovitele, dodávek objednatele nebo výzisku mechanizací přes 3,5 t objemnějšího kusového materiálu do 40 km | G144: t | H144: 8.415 | J144: =ROUND(I144*H144,2) -> 0 | K144: ÚOŽI 2019 01 | N144: základní | O144: 0 | P144: =O144*H144 -> 0 | Q144: 0 | R144: =Q144*H144 -> 0 | S144: 0 | T144: =S144*H144 -> 0 | AR144: 512 | AT144: K | AU144: 1 | AY144: ROZPOCET | BE144: =IF(N144="základní",J144,0) -> 0 | BF144: =IF(N144="snížená",J144,0) -> 0 | BG144: =IF(N144="zákl. přenesená",J144,0) -> 0 | BH144: =IF(N144="sníž. přenesená",J144,0) -> 0 | BI144: =IF(N144="nulová",J144,0) -> 0 | BJ144: 1 | BK144: =ROUND(I144*H144,2) -> 0 | BL144: 512 | BM144: -1341879382
C145: 21 | D145: K | E145: 9902900100 | F145: Naložení sypanin, drobného kusového materiálu, suti | G145: t | H145: 45.606 | J145: =ROUND(I145*H145,2) -> 0 | K145: ÚOŽI 2019 01 | N145: základní | O145: 0 | P145: =O145*H145 -> 0 | Q145: 0 | R145: =Q145*H145 -> 0 | S145: 0 | T145: =S145*H145 -> 0 | AR145: 4 | AT145: K | AU145: 1 | AY145: ROZPOCET | BE145: =IF(N145="základní",J145,0) -> 0 | BF145: =IF(N145="snížená",J145,0) -> 0 | BG145: =IF(N145="zákl. přenesená",J145,0) -> 0 | BH145: =IF(N145="sníž. přenesená",J145,0) -> 0 | BI145: =IF(N145="nulová",J145,0) -> 0 | BJ145: 1 | BK145: =ROUND(I145*H145,2) -> 0 | BL145: 4 | BM145: -1903088583
C146: 22 | D146: K | E146: 9909000100 | F146: Poplatek za uložení suti nebo hmot na oficiální skládku | G146: t | H146: 45.606 | J146: =ROUND(I146*H146,2) -> 0 | K146: ÚOŽI 2019 01 | N146: základní | O146: 0 | P146: =O146*H146 -> 0 | Q146: 0 | R146: =Q146*H146 -> 0 | S146: 0 | T146: =S146*H146 -> 0 | AR146: 512 | AT146: K | AU146: 1 | AY146: ROZPOCET | BE146: =IF(N146="základní",J146,0) -> 0 | BF146: =IF(N146="snížená",J146,0) -> 0 | BG146: =IF(N146="zákl. přenesená",J146,0) -> 0 | BH146: =IF(N146="sníž. přenesená",J146,0) -> 0 | BI146: =IF(N146="nulová",J146,0) -> 0 | BJ146: 1 | BK146: =ROUND(I146*H146,2) -> 0 | BL146: 512 | BM146: 1700076764

Sheet SO 04.1 - Oprava propustk...
L2: >> skryté sloupce << | AT2: {8243ef6a-a565-4ccf-9333-9e28550d68c9}
AT3: 2
D4: KRYCÍ LIST SOUPISU PRACÍ | M4: v --- níže se nacházejí doplnkové a pomocné údaje k sestavám --- v | AT4: False
D6: Stavba:
E7: ='Rekapitulace stavby'!K6 -> Oprava propustků v km 24,666, 25,142, 25,589 a 25,786 na trati Vsetín - Velké Karlovice
D8: Objekt:
E9: SO 04 - Propustek v km 25,786
D10: Soupis:
E11: SO 04.1 - Oprava propustku - km 25,786
D13: KSO: | I13: CC-CZ:
D14: Místo: | I14: Datum: | J14: ='Rekapitulace stavby'!AN8 -> 0
D16: Zadavatel: | I16: IČ:
I17: DIČ:
D19: Zhotovitel: | I19: IČ: | J19: ='Rekapitulace stavby'!AN13
E20: ='Rekapitulace stavby'!E14 | I20: DIČ: | J20: ='Rekapitulace stavby'!AN14
D22: Projektant: | I22: IČ:
I23: DIČ:
D25: Zpracovatel: | I25: IČ:
I26: DIČ:
D28: Poznámka:
D32: Cena bez DPH | J32: =ROUND(J135, 2) -> 0
F34: Základ daně | I34: Sazba daně | J34: Výše daně
D35: DPH | E35: základní | F35: =ROUND((SUM(BE135:BE210)), 2) -> 0 | I35: 0.21 | J35: =ROUND(((SUM(BE135:BE210))*I35), 2) -> 0
E36: snížená | F36: =ROUND((SUM(BF135:BF210)), 2) -> 0 | I36: 0.15 | J36: =ROUND(((SUM(BF135:BF210))*I36), 2) -> 0
E37: zákl. přenesená | F37: =ROUND((SUM(BG135:BG210)), 2) -> 0 | I37: 0.21 | J37: =0 -> 0
E38: sníž. přenesená | F38: =ROUND((SUM(BH135:BH210)), 2) -> 0 | I38: 0.15 | J38: =0 -> 0
E39: nulová | F39: =ROUND((SUM(BI135:BI210)), 2) -> 0 | I39: 0 | J39: =0 -> 0
D41: Cena s DPH | G41: v | H41: CZK | J41: =SUM(J32:J39) -> 0
D50: Projektant | G50: Zpracovatel
D61: Datum a podpis: | F61: Razítko | G61: Datum a podpis: | J61: Razítko
D65: Objednavatel | G65: Zhotovitel
D76: Datum a podpis: | F76: Razítko | G76: Datum a podpis: | J76: Razítko
C82: REKAPITULACE ČLENĚNÍ SOUPISU PRACÍ
C84: Stavba:
E85: =E7 -> Oprava propustků v km 24,666, 25,142, 25,589 a 25,786 na trati Vsetín - Velké Karlovice
C86: Objekt:
E87: SO 04 - Propustek v km 25,786
C88: Soupis:
E89: =E11 -> SO 04.1 - Oprava propustku - km 25,786
C91: Místo: | F91: =F14 | I91: Datum: | J91: =IF(J14="","",J14) -> 0
C93: Zadavatel: | F93: =E17 | I93: Projektant: | J93: =E23
C94: Zhotovitel: | F94: =IF(E20="","",E20) | I94: Zpracovatel: | J94: =E26
C96: Kód dílu - Popis | J96: Cena celkem [CZK]
C98: Náklady ze soupisu prací | J98: =J135 -> 0 | AU98: -1
D99: HSV - Práce a dodávky HSV | J99: =J136 -> 0
D100: 1 - Zemní práce | J100: =J137 -> 0
D101: 2 - Zakládání | J101: =J159 -> 0
D102: 4 - Vodorovné konstrukce | J102: =J165 -> 0
D103: 8 - Trubní vedení | J103: =J173 -> 0
D104: 9 - Ostatní konstrukce a práce-bourání | J104: =J175 -> 0
D105: 997 - Přesun sutě | J105: =J182 -> 0
D106: 998 - Přesun hmot | J106: =J189 -> 0
D107: PSV - Práce a dodávky PSV | J107: =J192 -> 0
D108: 711 - Izolace proti vodě, vlhkosti a plynům | J108: =J193 -> 0
D109: VRN - Vedlejší rozpočtové náklady | J109: =J199 -> 0
D110: VRN1 - Průzkumné, geodetické a projektové práce | J110: =J200 -> 0
D111: VRN3 - Zařízení staveniště | J111: =J203 -> 0
D112: VRN6 - Územní vlivy | J112: =J207 -> 0
D113: VRN9 - Ostatní náklady | J113: =J209 -> 0
C120: SOUPIS PRACÍ
C122: Stavba:
E123: =E7 -> Oprava propustků v km 24,666, 25,142, 25,589 a 25,786 na trati Vsetín - Velké Karlovice
C124: Objekt:
E125: SO 04 - Propustek v km 25,786
C126: Soupis:
E127: =E11 -> SO 04.1 - Oprava propustku - km 25,786
C129: Místo: | F129: =F14 | I129: Datum: | J129: =IF(J14="","",J14) -> 0
C131: Zadavatel: | F131: =E17 | I131: Projektant: | J131: =E23
C132: Zhotovitel: | F132: =IF(E20="","",E20) | I132: Zpracovatel: | J132: =E26
C134: PČ | D134: Typ | E134: Kód | F134: Popis | G134: MJ | H134: Množství | I134: J.cena [CZK] | J134: Cena celkem [CZK] | K134: Cenová soustava | N134: DPH | O134: J. Nh [h] | P134: Nh celkem [h] | Q134: J. hmotnost [t] | R134: Hmotnost celkem [t] | S134: J. suť [t] | T134: Suť Celkem [t]
C135: Náklady soupisu celkem | J135: =BK135 -> 0 | P135: =P136+P192+P199 -> 535.87442 | R135: =R136+R192+R199 -> 82.520995 | T135: =T136+T192+T199 -> 41.131 | AT135: D | AU135: -1 | BK135: =BK136+BK192+BK199 -> 0
D136: D | E136: HSV | F136: Práce a dodávky HSV | J136: =BK136 -> 0 | P136: =P137+P159+P165+P173+P175+P182+P189 -> 527.49773 | R136: =R137+R159+R165+R173+R175+R182+R189 -> 81.918787 | T136: =T137+T159+T165+T173+T175+T182+T189 -> 41.131 | AR136: 1 | AT136: D | AU136: 0 | AY136: ROZPOCET | BK136: =BK137+BK159+BK165+BK173+BK175+BK182+BK189 -> 0
D137: D | E137: 1 | F137: Zemní práce | J137: =BK137 -> 0 | P137: =SUM(P138:P158) -> 140.73259 | R137: =SUM(R138:R158) -> 0.000783 | T137: =SUM(T138:T158) -> 7.032 | AR137: 1 | AT137: D | AU137: 1 | AY137: ROZPOCET | BK137: =SUM(BK138:BK158) -> 0
C138: 1 | D138: K | E138: 113105113 | F138: Rozebrání dlažeb z lomového kamene kladených na MC vyspárované MC | G138: m2 | H138: 12 | J138: =ROUND(I138*H138,2) -> 0 | N138: základní | O138: 0.811 | P138: =O138*H138 -> 9.732 | Q138: 0 | R138: =Q138*H138 -> 0 | S138: 0.586 | T138: =S138*H138 -> 7.032 | AR138: 4 | AT138: K | AU138: 2 | AY138: ROZPOCET | BE138: =IF(N138="základní",J138,0) -> 0 | BF138: =IF(N138="snížená",J138,0) -> 0 | BG138: =IF(N138="zákl. přenesená",J138,0) -> 0 | BH138: =IF(N138="sníž. přenesená",J138,0) -> 0 | BI138: =IF(N138="nulová",J138,0) -> 0 | BJ138: 1 | BK138: =ROUND(I138*H138,2) -> 0 | BL138: 4 | BM138: -629127421
C139: 2 | D139: K | E139: 115101202 | F139: Čerpání vody na dopravní výšku do 10 m průměrný přítok do 1000 l/min | G139: hod | H139: 24 | J139: =ROUND(I139*H139,2) -> 0 | N139: základní | O139: 0.3 | P139: =O139*H139 -> 7.2 | Q139: 0 | R139: =Q139*H139 -> 0 | S139: 0 | T139: =S139*H139 -> 0 | AR139: 4 | AT139: K | AU139: 2 | AY139: ROZPOCET | BE139: =IF(N139="základní",J139,0) -> 0 | BF139: =IF(N139="snížená",J139,0) -> 0 | BG139: =IF(N139="zákl. přenesená",J139,0) -> 0 | BH139: =IF(N139="sníž. přenesená",J139,0) -> 0 | BI139: =IF(N139="nulová",J139,0) -> 0 | BJ139: 1 | BK139: =ROUND(I139*H139,2) -> 0 | BL139: 4 | BM139: 1631982678
C140: 3 | D140: K | E140: 121101101 | F140: Sejmutí ornice s přemístěním na vzdálenost do 50 m | G140: m3 | H140: 24.45 | J140: =ROUND(I140*H140,2) -> 0 | N140: základní | O140: 0.097 | P140: =O140*H140 -> 2.37165 | Q140: 0 | R140: =Q140*H140 -> 0 | S140: 0 | T140: =S140*H140 -> 0 | AR140: 4 | AT140: K | AU140: 2 | AY140: ROZPOCET | BE140: =IF(N140="základní",J140,0) -> 0 | BF140: =IF(N140="snížená",J140,0) -> 0 | BG140: =IF(N140="zákl. přenesená",J140,0) -> 0 | BH140: =IF(N140="sníž. přenesená",J140,0) -> 0 | BI140: =IF(N140="nulová",J140,0) -> 0 | BJ140: 1 | BK140: =ROUND(I140*H140,2) -> 0 | BL140: 4 | BM140: -1574293686
C141: 4 | D141: K | E141: 131201102 | F141: Hloubení jam nezapažených v hornině tř. 3 objemu do 1000 m3 | G141: m3 | H141: 56.6 | J141: =ROUND(I141*H141,2) -> 0 | N141: základní | O141: 0.467 | P141: =O141*H141 -> 26.4322 | Q141: 0 | R141: =Q141*H141 -> 0 | S141: 0 | T141: =S141*H141 -> 0 | AR141: 4 | AT141: K | AU141: 2 | AY141: ROZPOCET | BE141: =IF(N141="základní",J141,0) -> 0 | BF141: =IF(N141="snížená",J141,0) -> 0 | BG141: =IF(N141="zákl. přenesená",J141,0) -> 0 | BH141: =IF(N141="sníž. přenesená",J141,0) -> 0 | BI141: =IF(N141="nulová",J141,0) -> 0 | BJ141: 1 | BK141: =ROUND(I141*H141,2) -> 0 | BL141: 4 | BM141: -853679982
C142: 5 | D142: K | E142: 131201109 | F142: Příplatek za lepivost u hloubení jam nezapažených v hornině tř. 3 | G142: m3 | H142: 56.6 | J142: =ROUND(I142*H142,2) -> 0 | N142: základní | O142: 0.04 | P142: =O142*H142 -> 2.264 | Q142: 0 | R142: =Q142*H142 -> 0 | S142: 0 | T142: =S142*H142 -> 0 | AR142: 4 | AT142: K | AU142: 2 | AY142: ROZPOCET | BE142: =IF(N142="základní",J142,0) -> 0 | BF142: =IF(N142="snížená",J142,0) -> 0 | BG142: =IF(N142="zákl. přenesená",J142,0) -> 0 | BH142: =IF(N142="sníž. přenesená",J142,0) -> 0 | BI142: =IF(N142="nulová",J142,0) -> 0 | BJ142: 1 | BK142: =ROUND(I142*H142,2) -> 0 | BL142: 4 | BM142: 1391536793
C143: 6 | D143: K | E143: 132201101 | F143: Hloubení rýh š do 600 mm v hornině tř. 3 objemu do 100 m3 | G143: m3 | H143: 16.85 | J143: =ROUND(I143*H143,2) -> 0 | N143: základní | O143: 2.32 | P143: =O143*H143 -> 39.092 | Q143: 0 | R143: =Q143*H143 -> 0 | S143: 0 | T143: =S143*H143 -> 0 | AR143: 4 | AT143: K | AU143: 2 | AY143: ROZPOCET | BE143: =IF(N143="základní",J143,0) -> 0 | BF143: =IF(N143="snížená",J143,0) -> 0 | BG143: =IF(N143="zákl. přenesená",J143,0) -> 0 | BH143: =IF(N143="sníž. přenesená",J143,0) -> 0 | BI143: =IF(N143="nulová",J143,0) -> 0 | BJ143: 1 | BK143: =ROUND(I143*H143,2) -> 0 | BL143: 4 | BM143: 1393055635
C144: 7 | D144: K | E144: 132201109 | F144: Příplatek za lepivost k hloubení rýh š do 600 mm v hornině tř. 3 | G144: m3 | H144: 16.85 | J144: =ROUND(I144*H144,2) -> 0 | N144: základní | O144: 0.654 | P144: =O144*H144 -> 11.0199 | Q144: 0 | R144: =Q144*H144 -> 0 | S144: 0 | T144: =S144*H144 -> 0 | AR144: 4 | AT144: K | AU144: 2 | AY144: ROZPOCET | BE144: =IF(N144="základní",J144,0) -> 0 | BF144: =IF(N144="snížená",J144,0) -> 0 | BG144: =IF(N144="zákl. přenesená",J144,0) -> 0 | BH144: =IF(N144="sníž. přenesená",J144,0) -> 0 | BI144: =IF(N144="nulová",J144,0) -> 0 | BJ144: 1 | BK144: =ROUND(I144*H144,2) -> 0 | BL144: 4 | BM144: -2138270384
C145: 8 | D145: K | E145: 162201101 | F145: Vodorovné přemístění do 20 m výkopku/sypaniny z horniny tř. 1 až 4 | G145: m3 | H145: 124.52 | J145: =ROUND(I145*H145,2) -> 0 | K145: CS ÚRS 2019 01 | N145: základní | O145: 0.087 | P145: =O145*H145 -> 10.83324 | Q145: 0 | R145: =Q145*H145 -> 0 | S145: 0 | T145: =S145*H145 -> 0 | AR145: 4 | AT145: K | AU145: 2 | AY145: ROZPOCET | BE145: =IF(N145="základní",J145,0) -> 0 | BF145: =IF(N145="snížená",J145,0) -> 0 | BG145: =IF(N145="zákl. přenesená",J145,0) -> 0 | BH145: =IF(N145="sníž. přenesená",J145,0) -> 0 | BI145: =IF(N145="nulová",J145,0) -> 0 | BJ145: 1 | BK145: =ROUND(I145*H145,2) -> 0 | BL145: 4 | BM145: 2065396057
D146: VV | F146: 2 * 62,260 | H146: 124.52 | AT146: VV | AU146: 2 | AV146: 2 | AW146: True | AX146: 1 | AY146: ROZPOCET
C147: 9 | D147: K | E147: 162701105 | F147: Vodorovné přemístění do 10000 m výkopku/sypaniny z horniny tř. 1 až 4 | G147: m3 | H147: 11.19 | J147: =ROUND(I147*H147,2) -> 0 | N147: základní | O147: 0.083 | P147: =O147*H147 -> 0.92877 | Q147: 0 | R147: =Q147*H147 -> 0 | S147: 0 | T147: =S147*H147 -> 0 | AR147: 4 | AT147: K | AU147: 2 | AY147: ROZPOCET | BE147: =IF(N147="základní",J147,0) -> 0 | BF147: =IF(N147="snížená",J147,0) -> 0 | BG147: =IF(N147="zákl. přenesená",J147,0) -> 0 | BH147: =IF(N147="sníž. přenesená",J147,0) -> 0 | BI147: =IF(N147="nulová",J147,0) -> 0 | BJ147: 1 | BK147: =ROUND(I147*H147,2) -> 0 | BL147: 4 | BM147: 2034302665
C148: 10 | D148: K | E148: 162701109 | F148: Příplatek k vodorovnému přemístění výkopku/sypaniny z horniny tř. 1 až 4 ZKD 1000 m přes 10000 m | G148: m3 | H148: 391.65 | J148: =ROUND(I148*H148,2) -> 0 | N148: základní | O148: 0.004 | P148: =O148*H148 -> 1.5666 | Q148: 0 | R148: =Q148*H148 -> 0 | S148: 0 | T148: =S148*H148 -> 0 | AR148: 4 | AT148: K | AU148: 2 | AY148: ROZPOCET | BE148: =IF(N148="základní",J148,0) -> 0 | BF148: =IF(N148="snížená",J148,0) -> 0 | BG148: =IF(N148="zákl. přenesená",J148,0) -> 0 | BH148: =IF(N148="sníž. přenesená",J148,0) -> 0 | BI148: =IF(N148="nulová",J148,0) -> 0 | BJ148: 1 | BK148: =ROUND(I148*H148,2) -> 0 | BL148: 4 | BM148: 869893419
D149: VV | F149: 11,19*35 'Přepočtené koeficientem množství | H149: 391.65 | AT149: VV | AU149: 2 | AV149: 2 | AW149: False | AX149: 1 | AY149: ROZPOCET
C150: 11 | D150: K | E150: 167101102 | F150: Nakládání výkopku z hornin tř. 1 až 4 přes 100 m3 | G150: m3 | H150: 73.45 | J150: =ROUND(I150*H150,2) -> 0 | N150: základní | O150: 0.097 | P150: =O150*H150 -> 7.12465 | Q150: 0 | R150: =Q150*H150 -> 0 | S150: 0 | T150: =S150*H150 -> 0 | AR150: 4 | AT150: K | AU150: 2 | AY150: ROZPOCET | BE150: =IF(N150="základní",J150,0) -> 0 | BF150: =IF(N150="snížená",J150,0) -> 0 | BG150: =IF(N150="zákl. přenesená",J150,0) -> 0 | BH150: =IF(N150="sníž. přenesená",J150,0) -> 0 | BI150: =IF(N150="nulová",J150,0) -> 0 | BJ150: 1 | BK150: =ROUND(I150*H150,2) -> 0 | BL150: 4 | BM150: -1690382878
D151: VV | F151: "stávající pol. 10" 11,190 | H151: 11.19 | AT151: VV | AU151: 2 | AV151: 2 | AW151: True | AX151: 0 | AY151: ROZPOCET
D152: VV | F152: "k přesunu pol. č. 11" 62,260 | H152: 62.26 | AT152: VV | AU152: 2 | AV152: 2 | AW152: True | AX152: 0 | AY152: ROZPOCET
D153: VV | F153: Součet | H153: 73.45 | AT153: VV | AU153: 2 | AV153: 4 | AW153: True | AX153: 1 | AY153: ROZPOCET
C154: 12 | D154: K | E154: 171201201 | F154: Uložení sypaniny na skládky | G154: m3 | H154: 11.19 | J154: =ROUND(I154*H154,2) -> 0 | N154: základní | O154: 0.009 | P154: =O154*H154 -> 0.10071 | Q154: 0 | R154: =Q154*H154 -> 0 | S154: 0 | T154: =S154*H154 -> 0 | AR154: 4 | AT154: K | AU154: 2 | AY154: ROZPOCET | BE154: =IF(N154="základní",J154,0) -> 0 | BF154: =IF(N154="snížená",J154,0) -> 0 | BG154: =IF(N154="zákl. přenesená",J154,0) -> 0 | BH154: =IF(N154="sníž. přenesená",J154,0) -> 0 | BI154: =IF(N154="nulová",J154,0) -> 0 | BJ154: 1 | BK154: =ROUND(I154*H154,2) -> 0 | BL154: 4 | BM154: 1368916891
C155: 13 | D155: K | E155: 171201211 | F155: Poplatek za uložení odpadu ze sypaniny na skládce (skládkovné) | G155: t | H155: 21.261 | J155: =ROUND(I155*H155,2) -> 0 | N155: základní | O155: 0 | P155: =O155*H155 -> 0 | Q155: 0 | R155: =Q155*H155 -> 0 | S155: 0 | T155: =S155*H155 -> 0 | AR155: 4 | AT155: K | AU155: 2 | AY155: ROZPOCET | BE155: =IF(N155="základní",J155,0) -> 0 | BF155: =IF(N155="snížená",J155,0) -> 0 | BG155: =IF(N155="zákl. přenesená",J155,0) -> 0 | BH155: =IF(N155="sníž. přenesená",J155,0) -> 0 | BI155: =IF(N155="nulová",J155,0) -> 0 | BJ155: 1 | BK155: =ROUND(I155*H155,2) -> 0 | BL155: 4 | BM155: 785296949
C156: 14 | D156: K | E156: 181301105 | F156: Rozprostření ornice tl vrstvy do 300 mm pl do 500 m2 v rovině nebo ve svahu do 1:5 | G156: m2 | H156: 52.167 | J156: =ROUND(I156*H156,2) -> 0 | N156: základní | O156: 0.416 | P156: =O156*H156 -> 21.701472 | Q156: 0 | R156: =Q156*H156 -> 0 | S156: 0 | T156: =S156*H156 -> 0 | AR156: 4 | AT156: K | AU156: 2 | AY156: ROZPOCET | BE156: =IF(N156="základní",J156,0) -> 0 | BF156: =IF(N156="snížená",J156,0) -> 0 | BG156: =IF(N156="zákl. přenesená",J156,0) -> 0 | BH156: =IF(N156="sníž. přenesená",J156,0) -> 0 | BI156: =IF(N156="nulová",J156,0) -> 0 | BJ156: 1 | BK156: =ROUND(I156*H156,2) -> 0 | BL156: 4 | BM156: -827058869
C157: 15 | D157: K | E157: 181411121 | F157: Založení lučního trávníku výsevem plochy do 1000 m2 v rovině a ve svahu do 1:5 | G157: m2 | H157: 52.2 | J157: =ROUND(I157*H157,2) -> 0 | N157: základní | O157: 0.007 | P157: =O157*H157 -> 0.3654 | Q157: 0 | R157: =Q157*H157 -> 0 | S157: 0 | T157: =S157*H157 -> 0 | AR157: 4 | AT157: K | AU157: 2 | AY157: ROZPOCET | BE157: =IF(N157="základní",J157,0) -> 0 | BF157: =IF(N157="snížená",J157,0) -> 0 | BG157: =IF(N157="zákl. přenesená",J157,0) -> 0 | BH157: =IF(N157="sníž. přenesená",J157,0) -> 0 | BI157: =IF(N157="nulová",J157,0) -> 0 | BJ157: 1 | BK157: =ROUND(I157*H157,2) -> 0 | BL157: 4 | BM157: -218913187
C158: 16 | D158: M | E158: 005724740 | F158: osivo směs travní krajinná - svahová | G158: kg | H158: 0.783 | J158: =ROUND(I158*H158,2) -> 0 | N158: základní | O158: 0 | P158: =O158*H158 -> 0 | Q158: 0.001 | R158: =Q158*H158 -> 0.000783 | S158: 0 | T158: =S158*H158 -> 0 | AR158: 8 | AT158: M | AU158: 2 | AY158: ROZPOCET | BE158: =IF(N158="základní",J158,0) -> 0 | BF158: =IF(N158="snížená",J158,0) -> 0 | BG158: =IF(N158="zákl. přenesená",J158,0) -> 0 | BH158: =IF(N158="sníž. přenesená",J158,0) -> 0 | BI158: =IF(N158="nulová",J158,0) -> 0 | BJ158: 1 | BK158: =ROUND(I158*H158,2) -> 0 | BL158: 4 | BM158: 291211379
D159: D | E159: 2 | F159: Zakládání | J159: =BK159 -> 0 | P159: =SUM(P160:P164) -> 4.758495 | R159: =SUM(R160:R164) -> 15.537197 | T159: =SUM(T160:T164) -> 0 | AR159: 1 | AT159: D | AU159: 1 | AY159: ROZPOCET | BK159: =SUM(BK160:BK164) -> 0
C160: 17 | D160: K | E160: 273321118 | F160: Základové desky ze ŽB C 30/37 | G160: m3 | H160: 6.136 | J160: =ROUND(I160*H160,2) -> 0 | N160: základní | O160: 0 | P160: =O160*H160 -> 0 | Q160: 2.526248 | R160: =Q160*H160 -> 15.501058 | S160: 0 | T160: =S160*H160 -> 0 | AR160: 4 | AT160: K | AU160: 2 | AY160: ROZPOCET | BE160: =IF(N160="základní",J160,0) -> 0 | BF160: =IF(N160="snížená",J160,0) -> 0 | BG160: =IF(N160="zákl. přenesená",J160,0) -> 0 | BH160: =IF(N160="sníž. přenesená",J160,0) -> 0 | BI160: =IF(N160="nulová",J160,0) -> 0 | BJ160: 1 | BK160: =ROUND(I160*H160,2) -> 0 | BL160: 4 | BM160: 946058083
C161: 18 | D161: K | E161: 273354111 | F161: Bednění základových desek - zřízení | G161: m2 | H161: 6.92 | J161: =ROUND(I161*H161,2) -> 0 | N161: základní | O161: 0.397 | P161: =O161*H161 -> 2.74724 | Q161: 0.0014357 | R161: =Q161*H161 -> 0.009935044 | S161: 0 | T161: =S161*H161 -> 0 | AR161: 4 | AT161: K | AU161: 2 | AY161: ROZPOCET | BE161: =IF(N161="základní",J161,0) -> 0 | BF161: =IF(N161="snížená",J161,0) -> 0 | BG161: =IF(N161="zákl. přenesená",J161,0) -> 0 | BH161: =IF(N161="sníž. přenesená",J161,0) -> 0 | BI161: =IF(N161="nulová",J161,0) -> 0 | BJ161: 1 | BK161: =ROUND(I161*H161,2) -> 0 | BL161: 4 | BM161: 824885907
C162: 19 | D162: K | E162: 273354211 | F162: Bednění základových desek - odstranění | G162: m2 | H162: 6.92 | J162: =ROUND(I162*H162,2) -> 0 | N162: základní | O162: 0.144 | P162: =O162*H162 -> 0.99648 | Q162: 3.6e-05 | R162: =Q162*H162 -> 0.00024912 | S162: 0 | T162: =S162*H162 -> 0 | AR162: 4 | AT162: K | AU162: 2 | AY162: ROZPOCET | BE162: =IF(N162="základní",J162,0) -> 0 | BF162: =IF(N162="snížená",J162,0) -> 0 | BG162: =IF(N162="zákl. přenesená",J162,0) -> 0 | BH162: =IF(N162="sníž. přenesená",J162,0) -> 0 | BI162: =IF(N162="nulová",J162,0) -> 0 | BJ162: 1 | BK162: =ROUND(I162*H162,2) -> 0 | BL162: 4 | BM162: 101157000
C163: 20 | D163: K | E163: 273361116 | F163: Výztuž základových desek z betonářské oceli 10 505 | G163: t | H163: 0.025 | J163: =ROUND(I163*H163,2) -> 0 | N163: základní | O163: 40.591 | P163: =O163*H163 -> 1.014775 | Q163: 1.038217 | R163: =Q163*H163 -> 0.025955425 | S163: 0 | T163: =S163*H163 -> 0 | AR163: 4 | AT163: K | AU163: 2 | AY163: ROZPOCET | BE163: =IF(N163="základní",J163,0) -> 0 | BF163: =IF(N163="snížená",J163,0) -> 0 | BG163: =IF(N163="zákl. přenesená",J163,0) -> 0 | BH163: =IF(N163="sníž. přenesená",J163,0) -> 0 | BI163: =IF(N163="nulová",J163,0) -> 0 | BJ163: 1 | BK163: =ROUND(I163*H163,2) -> 0 | BL163: 4 | BM163: 970732169
C164: 21 | D164: K | E164: 273361413-R | F164: Výztuž základových desek ze svařovaných sítí do 8 kg/m2 | G164: t | H164: 0.298 | J164: =ROUND(I164*H164,2) -> 0 | N164: základní | O164: 0 | P164: =O164*H164 -> 0 | Q164: 0 | R164: =Q164*H164 -> 0 | S164: 0 | T164: =S164*H164 -> 0 | AR164: 4 | AT164: K | AU164: 2 | AY164: ROZPOCET | BE164: =IF(N164="základní",J164,0) -> 0 | BF164: =IF(N164="snížená",J164,0) -> 0 | BG164: =IF(N164="zákl. přenesená",J164,0) -> 0 | BH164: =IF(N164="sníž. přenesená",J164,0) -> 0 | BI164: =IF(N164="nulová",J164,0) -> 0 | BJ164: 1 | BK164: =ROUND(I164*H164,2) -> 0 | BL164: 4 | BM164: -1347972925
...

Sheet SO 04.2 - Železniční svrš...
L2: >> skryté sloupce << | AT2: {de64a492-e812-4762-a573-46df0a0cc36b}
AT3: 2
D4: KRYCÍ LIST SOUPISU PRACÍ | M4: v --- níže se nacházejí doplnkové a pomocné údaje k sestavám --- v | AT4: False
D6: Stavba:
E7: ='Rekapitulace stavby'!K6 -> Oprava propustků v km 24,666, 25,142, 25,589 a 25,786 na trati Vsetín - Velké Karlovice
D8: Objekt:
E9: SO 04 - Propustek v km 25,786
D10: Soupis:
E11: SO 04.2 - Železniční svršek - km 25,786
D13: KSO: | I13: CC-CZ:
D14: Místo: | I14: Datum: | J14: ='Rekapitulace stavby'!AN8 -> 0
D16: Zadavatel: | I16: IČ:
I17: DIČ:
D19: Zhotovitel: | I19: IČ: | J19: ='Rekapitulace stavby'!AN13
E20: ='Rekapitulace stavby'!E14 | I20: DIČ: | J20: ='Rekapitulace stavby'!AN14
D22: Projektant: | I22: IČ:
I23: DIČ:
D25: Zpracovatel: | I25: IČ:
I26: DIČ:
D28: Poznámka:
D32: Cena bez DPH | J32: =ROUND(J122, 2) -> 0
F34: Základ daně | I34: Sazba daně | J34: Výše daně
D35: DPH | E35: základní | F35: =ROUND((SUM(BE122:BE146)), 2) -> 0 | I35: 0.21 | J35: =ROUND(((SUM(BE122:BE146))*I35), 2) -> 0
E36: snížená | F36: =ROUND((SUM(BF122:BF146)), 2) -> 0 | I36: 0.15 | J36: =ROUND(((SUM(BF122:BF146))*I36), 2) -> 0
E37: zákl. přenesená | F37: =ROUND((SUM(BG122:BG146)), 2) -> 0 | I37: 0.21 | J37: =0 -> 0
E38: sníž. přenesená | F38: =ROUND((SUM(BH122:BH146)), 2) -> 0 | I38: 0.15 | J38: =0 -> 0
E39: nulová | F39: =ROUND((SUM(BI122:BI146)), 2) -> 0 | I39: 0 | J39: =0 -> 0
D41: Cena s DPH | G41: v | H41: CZK | J41: =SUM(J32:J39) -> 0
D50: Projektant | G50: Zpracovatel
D61: Datum a podpis: | F61: Razítko | G61: Datum a podpis: | J61: Razítko
D65: Objednavatel | G65: Zhotovitel
D76: Datum a podpis: | F76: Razítko | G76: Datum a podpis: | J76: Razítko
C82: REKAPITULACE ČLENĚNÍ SOUPISU PRACÍ
C84: Stavba:
E85: =E7 -> Oprava propustků v km 24,666, 25,142, 25,589 a 25,786 na trati Vsetín - Velké Karlovice
C86: Objekt:
E87: SO 04 - Propustek v km 25,786
C88: Soupis:
E89: =E11 -> SO 04.2 - Železniční svršek - km 25,786
C91: Místo: | F91: =F14 | I91: Datum: | J91: =IF(J14="","",J14) -> 0
C93: Zadavatel: | F93: =E17 | I93: Projektant: | J93: =E23
C94: Zhotovitel: | F94: =IF(E20="","",E20) | I94: Zpracovatel: | J94: =E26
C96: Kód dílu - Popis | J96: Cena celkem [CZK]
C98: Náklady ze soupisu prací | J98: =J122 -> 0 | AU98: -1
D99: 5 - Komunikace | J99: =J123 -> 0
D100: OST - Ostatní | J100: =J141 -> 0
C107: SOUPIS PRACÍ
C109: Stavba:
E110: =E7 -> Oprava propustků v km 24,666, 25,142, 25,589 a 25,786 na trati Vsetín - Velké Karlovice
C111: Objekt:
E112: SO 04 - Propustek v km 25,786
C113: Soupis:
E114: =E11 -> SO 04.2 - Železniční svršek - km 25,786
C116: Místo: | F116: =F14 | I116: Datum: | J116: =IF(J14="","",J14) -> 0
C118: Zadavatel: | F118: =E17 | I118: Projektant: | J118: =E23
C119: Zhotovitel: | F119: =IF(E20="","",E20) | I119: Zpracovatel: | J119: =E26
C121: PČ | D121: Typ | E121: Kód | F121: Popis | G121: MJ | H121: Množství | I121: J.cena [CZK] | J121: Cena celkem [CZK] | K121: Cenová soustava | N121: DPH | O121: J. Nh [h] | P121: Nh celkem [h] | Q121: J. hmotnost [t] | R121: Hmotnost celkem [t] | S121: J. suť [t] | T121: Suť Celkem [t]
C122: Náklady soupisu celkem | J122: =BK122 -> 0 | P122: =P123+P141 -> 0 | R122: =R123+R141 -> 80.556 | T122: =T123+T141 -> 0 | AT122: D | AU122: -1 | BK122: =BK123+BK141 -> 0
D123: D | E123: 5 | F123: Komunikace | J123: =BK123 -> 0 | P123: =SUM(P124:P140) -> 0 | R123: =SUM(R124:R140) -> 80.556 | T123: =SUM(T124:T140) -> 0 | AR123: 1 | AT123: D | AU123: 0 | AY123: ROZPOCET | BK123: =SUM(BK124:BK140) -> 0
C124: 1 | D124: K | E124: 5905055010 | F124: Odstranění stávajícího kolejového lože odtěžením v koleji | G124: m3 | H124: 20.36 | J124: =ROUND(I124*H124,2) -> 0 | K124: ÚOŽI 2019 01 | N124: základní | O124: 0 | P124: =O124*H124 -> 0 | Q124: 0 | R124: =Q124*H124 -> 0 | S124: 0 | T124: =S124*H124 -> 0 | AR124: 4 | AT124: K | AU124: 1 | AY124: ROZPOCET | BE124: =IF(N124="základní",J124,0) -> 0 | BF124: =IF(N124="snížená",J124,0) -> 0 | BG124: =IF(N124="zákl. přenesená",J124,0) -> 0 | BH124: =IF(N124="sníž. přenesená",J124,0) -> 0 | BI124: =IF(N124="nulová",J124,0) -> 0 | BJ124: 1 | BK124: =ROUND(I124*H124,2) -> 0 | BL124: 4 | BM124: -1863783721
C125: 2 | D125: K | E125: 5905060010 | F125: Zřízení nového kolejového lože v koleji | G125: m3 | H125: 18 | J125: =ROUND(I125*H125,2) -> 0 | K125: ÚOŽI 2019 01 | N125: základní | O125: 0 | P125: =O125*H125 -> 0 | Q125: 0 | R125: =Q125*H125 -> 0 | S125: 0 | T125: =S125*H125 -> 0 | AR125: 4 | AT125: K | AU125: 1 | AY125: ROZPOCET | BE125: =IF(N125="základní",J125,0) -> 0 | BF125: =IF(N125="snížená",J125,0) -> 0 | BG125: =IF(N125="zákl. přenesená",J125,0) -> 0 | BH125: =IF(N125="sníž. přenesená",J125,0) -> 0 | BI125: =IF(N125="nulová",J125,0) -> 0 | BJ125: 1 | BK125: =ROUND(I125*H125,2) -> 0 | BL125: 4 | BM125: -415446948
C126: 3 | D126: M | E126: 5955101000 | F126: Kamenivo drcené štěrk frakce 31,5/63 třídy BI | G126: t | H126: 80.556 | J126: =ROUND(I126*H126,2) -> 0 | K126: ÚOŽI 2019 01 | N126: základní | O126: 0 | P126: =O126*H126 -> 0 | Q126: 1 | R126: =Q126*H126 -> 80.556 | S126: 0 | T126: =S126*H126 -> 0 | AR126: 8 | AT126: M | AU126: 1 | AY126: ROZPOCET | BE126: =IF(N126="základní",J126,0) -> 0 | BF126: =IF(N126="snížená",J126,0) -> 0 | BG126: =IF(N126="zákl. přenesená",J126,0) -> 0 | BH126: =IF(N126="sníž. přenesená",J126,0) -> 0 | BI126: =IF(N126="nulová",J126,0) -> 0 | BJ126: 1 | BK126: =ROUND(I126*H126,2) -> 0 | BL126: 4 | BM126: 738228903
C127: 4 | D127: K | E127: 5905065010 | F127: Samostatná úprava vrstvy kolejového lože pod ložnou plochou pražců v koleji | G127: m2 | H127: 40.31 | J127: =ROUND(I127*H127,2) -> 0 | K127: ÚOŽI 2019 01 | N127: základní | O127: 0 | P127: =O127*H127 -> 0 | Q127: 0 | R127: =Q127*H127 -> 0 | S127: 0 | T127: =S127*H127 -> 0 | AR127: 4 | AT127: K | AU127: 1 | AY127: ROZPOCET | BE127: =IF(N127="základní",J127,0) -> 0 | BF127: =IF(N127="snížená",J127,0) -> 0 | BG127: =IF(N127="zákl. přenesená",J127,0) -> 0 | BH127: =IF(N127="sníž. přenesená",J127,0) -> 0 | BI127: =IF(N127="nulová",J127,0) -> 0 | BJ127: 1 | BK127: =ROUND(I127*H127,2) -> 0 | BL127: 4 | BM127: 221702436
C128: 5 | D128: K | E128: 5905110010 | F128: Snížení KL pod patou kolejnice v koleji | G128: km | H128: 0.04 | J128: =ROUND(I128*H128,2) -> 0 | K128: ÚOŽI 2019 01 | N128: základní | O128: 0 | P128: =O128*H128 -> 0 | Q128: 0 | R128: =Q128*H128 -> 0 | S128: 0 | T128: =S128*H128 -> 0 | AR128: 4 | AT128: K | AU128: 1 | AY128: ROZPOCET | BE128: =IF(N128="základní",J128,0) -> 0 | BF128: =IF(N128="snížená",J128,0) -> 0 | BG128: =IF(N128="zákl. přenesená",J128,0) -> 0 | BH128: =IF(N128="sníž. přenesená",J128,0) -> 0 | BI128: =IF(N128="nulová",J128,0) -> 0 | BJ128: 1 | BK128: =ROUND(I128*H128,2) -> 0 | BL128: 4 | BM128: 1634481578
C129: 6 | D129: K | E129: 5906130170 | F129: Montáž kolejového roštu v ose koleje pražce dřevěné vystrojené tv. S49 rozdělení "c" | G129: km | H129: 0.01 | J129: =ROUND(I129*H129,2) -> 0 | K129: ÚOŽI 2019 01 | N129: základní | O129: 0 | P129: =O129*H129 -> 0 | Q129: 0 | R129: =Q129*H129 -> 0 | S129: 0 | T129: =S129*H129 -> 0 | AR129: 4 | AT129: K | AU129: 1 | AY129: ROZPOCET | BE129: =IF(N129="základní",J129,0) -> 0 | BF129: =IF(N129="snížená",J129,0) -> 0 | BG129: =IF(N129="zákl. přenesená",J129,0) -> 0 | BH129: =IF(N129="sníž. přenesená",J129,0) -> 0 | BI129: =IF(N129="nulová",J129,0) -> 0 | BJ129: 1 | BK129: =ROUND(I129*H129,2) -> 0 | BL129: 4 | BM129: -452453149
C130: 7 | D130: K | E130: 5906140235 | F130: Demontáž kolejového roštu koleje v ose koleje pražce betonové tv. T rozdělení "c" | G130: km | H130: 0.01 | J130: =ROUND(I130*H130,2) -> 0 | K130: ÚOŽI 2019 01 | N130: základní | O130: 0 | P130: =O130*H130 -> 0 | Q130: 0 | R130: =Q130*H130 -> 0 | S130: 0 | T130: =S130*H130 -> 0 | AR130: 4 | AT130: K | AU130: 1 | AY130: ROZPOCET | BE130: =IF(N130="základní",J130,0) -> 0 | BF130: =IF(N130="snížená",J130,0) -> 0 | BG130: =IF(N130="zákl. přenesená",J130,0) -> 0 | BH130: =IF(N130="sníž. přenesená",J130,0) -> 0 | BI130: =IF(N130="nulová",J130,0) -> 0 | BJ130: 1 | BK130: =ROUND(I130*H130,2) -> 0 | BL130: 4 | BM130: -1651480261
C131: 8 | D131: K | E131: 5907050020 | F131: Dělení kolejnic řezáním nebo rozbroušením tv. S49 | G131: kus | H131: 4 | J131: =ROUND(I131*H131,2) -> 0 | K131: ÚOŽI 2019 01 | N131: základní | O131: 0 | P131: =O131*H131 -> 0 | Q131: 0 | R131: =Q131*H131 -> 0 | S131: 0 | T131: =S131*H131 -> 0 | AR131: 4 | AT131: K | AU131: 1 | AY131: ROZPOCET | BE131: =IF(N131="základní",J131,0) -> 0 | BF131: =IF(N131="snížená",J131,0) -> 0 | BG131: =IF(N131="zákl. přenesená",J131,0) -> 0 | BH131: =IF(N131="sníž. přenesená",J131,0) -> 0 | BI131: =IF(N131="nulová",J131,0) -> 0 | BJ131: 1 | BK131: =ROUND(I131*H131,2) -> 0 | BL131: 4 | BM131: -1415926575
C132: 9 | D132: K | E132: 5909032020 | F132: Přesná úprava GPK koleje směrové a výškové uspořádání pražce betonové | G132: km | H132: 0.12 | J132: =ROUND(I132*H132,2) -> 0 | K132: ÚOŽI 2019 01 | N132: základní | O132: 0 | P132: =O132*H132 -> 0 | Q132: 0 | R132: =Q132*H132 -> 0 | S132: 0 | T132: =S132*H132 -> 0 | AR132: 4 | AT132: K | AU132: 1 | AY132: ROZPOCET | BE132: =IF(N132="základní",J132,0) -> 0 | BF132: =IF(N132="snížená",J132,0) -> 0 | BG132: =IF(N132="zákl. přenesená",J132,0) -> 0 | BH132: =IF(N132="sníž. přenesená",J132,0) -> 0 | BI132: =IF(N132="nulová",J132,0) -> 0 | BJ132: 1 | BK132: =ROUND(I132*H132,2) -> 0 | BL132: 4 | BM132: 1872517314
C133: 10 | D133: K | E133: 5910020130 | F133: Svařování kolejnic termitem plný předehřev standardní spára svar jednotlivý tv. S49 | G133: svar | H133: 4 | J133: =ROUND(I133*H133,2) -> 0 | K133: ÚOŽI 2019 01 | N133: základní | O133: 0 | P133: =O133*H133 -> 0 | Q133: 0 | R133: =Q133*H133 -> 0 | S133: 0 | T133: =S133*H133 -> 0 | AR133: 4 | AT133: K | AU133: 1 | AY133: ROZPOCET | BE133: =IF(N133="základní",J133,0) -> 0 | BF133: =IF(N133="snížená",J133,0) -> 0 | BG133: =IF(N133="zákl. přenesená",J133,0) -> 0 | BH133: =IF(N133="sníž. přenesená",J133,0) -> 0 | BI133: =IF(N133="nulová",J133,0) -> 0 | BJ133: 1 | BK133: =ROUND(I133*H133,2) -> 0 | BL133: 4 | BM133: -1323081679
C134: 11 | D134: K | E134: 5910035030 | F134: Dosažení dovolené upínací teploty v BK prodloužením kolejnicového pásu v koleji tv. S49 | G134: svar | H134: 2 | J134: =ROUND(I134*H134,2) -> 0 | K134: ÚOŽI 2019 01 | N134: základní | O134: 0 | P134: =O134*H134 -> 0 | Q134: 0 | R134: =Q134*H134 -> 0 | S134: 0 | T134: =S134*H134 -> 0 | AR134: 4 | AT134: K | AU134: 1 | AY134: ROZPOCET | BE134: =IF(N134="základní",J134,0) -> 0 | BF134: =IF(N134="snížená",J134,0) -> 0 | BG134: =IF(N134="zákl. přenesená",J134,0) -> 0 | BH134: =IF(N134="sníž. přenesená",J134,0) -> 0 | BI134: =IF(N134="nulová",J134,0) -> 0 | BJ134: 1 | BK134: =ROUND(I134*H134,2) -> 0 | BL134: 4 | BM134: -1150954584
C135: 12 | D135: K | E135: 5910040310 | F135: Umožnění volné dilatace kolejnice demontáž upevňovadel s osazením kluzných podložek rozdělení pražců "c" | G135: m | H135: 200 | J135: =ROUND(I135*H135,2) -> 0 | K135: ÚOŽI 2019 01 | N135: základní | O135: 0 | P135: =O135*H135 -> 0 | Q135: 0 | R135: =Q135*H135 -> 0 | S135: 0 | T135: =S135*H135 -> 0 | AR135: 4 | AT135: K | AU135: 1 | AY135: ROZPOCET | BE135: =IF(N135="základní",J135,0) -> 0 | BF135: =IF(N135="snížená",J135,0) -> 0 | BG135: =IF(N135="zákl. přenesená",J135,0) -> 0 | BH135: =IF(N135="sníž. přenesená",J135,0) -> 0 | BI135: =IF(N135="nulová",J135,0) -> 0 | BJ135: 1 | BK135: =ROUND(I135*H135,2) -> 0 | BL135: 4 | BM135: 428531032
... C140: 17 | D140: K | E140: 5999005030 | F140: Třídění kolejnic | G140: t | H140: 1 | J140: =ROUND(I140*H140,2) -> 0 | K140: ÚOŽI 2019 01 | N140: základní | O140: 0 | P140: =O140*H140 -> 0 | Q140: 0 | R140: =Q140*H140 -> 0 | S140: 0 | T140: =S140*H140 -> 0 | AR140: 4 | AT140: K | AU140: 1 | AY140: ROZPOCET | BE140: =IF(N140="základní",J140,0) -> 0 | BF140: =IF(N140="snížená",J140,0) -> 0 | BG140: =IF(N140="zákl. přenesená",J140,0) -> 0 | BH140: =IF(N140="sníž. přenesená",J140,0) -> 0 | BI140: =IF(N140="nulová",J140,0) -> 0 | BJ140: 1 | BK140: =ROUND(I140*H140,2) -> 0 | BL140: 4 | BM140: -859329435
D141: D | E141: OST | F141: Ostatní | J141: =BK141 -> 0 | P141: =SUM(P142:P146) -> 0 | R141: =SUM(R142:R146) -> 0 | T141: =SUM(T142:T146) -> 0 | AR141: 4 | AT141: D | AU141: 0 | AY141: ROZPOCET | BK141: =SUM(BK142:BK146) -> 0
C142: 18 | D142: K | E142: 9902100400 | F142: Doprava dodávek zhotovitele, dodávek objednatele nebo výzisku mechanizací přes 3,5 t sypanin do 40 km | G142: t | H142: 32.576 | J142: =ROUND(I142*H142,2) -> 0 | K142: ÚOŽI 2019 01 | N142: základní | O142: 0 | P142: =O142*H142 -> 0 | Q142: 0 | R142: =Q142*H142 -> 0 | S142: 0 | T142: =S142*H142 -> 0 | AR142: 512 | AT142: K | AU142: 1 | AY142: ROZPOCET | BE142: =IF(N142="základní",J142,0) -> 0 | BF142: =IF(N142="snížená",J142,0) -> 0 | BG142: =IF(N142="zákl. přenesená",J142,0) -> 0 | BH142: =IF(N142="sníž. přenesená",J142,0) -> 0 | BI142: =IF(N142="nulová",J142,0) -> 0 | BJ142: 1 | BK142: =ROUND(I142*H142,2) -> 0 | BL142: 512 | BM142: -1619727582
C143: 19 | D143: K | E143: 9902100600 | F143: Doprava dodávek zhotovitele, dodávek objednatele nebo výzisku mechanizací přes 3,5 t sypanin do 80 km | G143: t | H143: 80.556 | J143: =ROUND(I143*H143,2) -> 0 | K143: ÚOŽI 2019 01 | N143: základní | O143: 0 | P143: =O143*H143 -> 0 | Q143: 0 | R143: =Q143*H143 -> 0 | S143: 0 | T143: =S143*H143 -> 0 | AR143: 512 | AT143: K | AU143: 1 | AY143: ROZPOCET | BE143: =IF(N143="základní",J143,0) -> 0 | BF143: =IF(N143="snížená",J143,0) -> 0 | BG143: =IF(N143="zákl. přenesená",J143,0) -> 0 | BH143: =IF(N143="sníž. přenesená",J143,0) -> 0 | BI143: =IF(N143="nulová",J143,0) -> 0 | BJ143: 1 | BK143: =ROUND(I143*H143,2) -> 0 | BL143: 512 | BM143: -118339026
C144: 20 | D144: K | E144: 9902200400 | F144: Doprava dodávek zhotovitele, dodávek objednatele nebo výzisku mechanizací přes 3,5 t objemnějšího kusového materiálu do 40 km | G144: t | H144: 6.795 | J144: =ROUND(I144*H144,2) -> 0 | K144: ÚOŽI 2019 01 | N144: základní | O144: 0 | P144: =O144*H144 -> 0 | Q144: 0 | R144: =Q144*H144 -> 0 | S144: 0 | T144: =S144*H144 -> 0 | AR144: 512 | AT144: K | AU144: 1 | AY144: ROZPOCET | BE144: =IF(N144="základní",J144,0) -> 0 | BF144: =IF(N144="snížená",J144,0) -> 0 | BG144: =IF(N144="zákl. přenesená",J144,0) -> 0 | BH144: =IF(N144="sníž. přenesená",J144,0) -> 0 | BI144: =IF(N144="nulová",J144,0) -> 0 | BJ144: 1 | BK144: =ROUND(I144*H144,2) -> 0 | BL144: 512 | BM144: -1341879382
C145: 21 | D145: K | E145: 9902900100 | F145: Naložení sypanin, drobného kusového materiálu, suti | G145: t | H145: 32.576 | J145: =ROUND(I145*H145,2) -> 0 | K145: ÚOŽI 2019 01 | N145: základní | O145: 0 | P145: =O145*H145 -> 0 | Q145: 0 | R145: =Q145*H145 -> 0 | S145: 0 | T145: =S145*H145 -> 0 | AR145: 4 | AT145: K | AU145: 1 | AY145: ROZPOCET | BE145: =IF(N145="základní",J145,0) -> 0 | BF145: =IF(N145="snížená",J145,0) -> 0 | BG145: =IF(N145="zákl. přenesená",J145,0) -> 0 | BH145: =IF(N145="sníž. přenesená",J145,0) -> 0 | BI145: =IF(N145="nulová",J145,0) -> 0 | BJ145: 1 | BK145: =ROUND(I145*H145,2) -> 0 | BL145: 4 | BM145: -1903088583
C146: 22 | D146: K | E146: 9909000100 | F146: Poplatek za uložení suti nebo hmot na oficiální skládku | G146: t | H146: 32.576 | J146: =ROUND(I146*H146,2) -> 0 | K146: ÚOŽI 2019 01 | N146: základní | O146: 0 | P146: =O146*H146 -> 0 | Q146: 0 | R146: =Q146*H146 -> 0 | S146: 0 | T146: =S146*H146 -> 0 | AR146: 512 | AT146: K | AU146: 1 | AY146: ROZPOCET | BE146: =IF(N146="základní",J146,0) -> 0 | BF146: =IF(N146="snížená",J146,0) -> 0 | BG146: =IF(N146="zákl. přenesená",J146,0) -> 0 | BH146: =IF(N146="sníž. přenesená",J146,0) -> 0 | BI146: =IF(N146="nulová",J146,0) -> 0 | BJ146: 1 | BK146: =ROUND(I146*H146,2) -> 0 | BL146: 512 | BM146: 1700076764
