Workbook

Sheet Rekapitulace PS
A1: Export Komplet | AZ1: VZ | BA1: 2.0 | BT1: False | BU1: False | BV1: {89e13abf-1f95-45b8-b3fc-31eefc27e4c4}
AR2: >> skryté sloupce << | BS2: 0,01 | BT2: 21
BS3: 0,01 | BT3: 15
D4: REKAPITULACE STAVBY - PS 03-01-21 OPRAVA č.1 | AS4: v --- níže se nacházejí doplnkové a pomocné údaje k sestavám --- v | BS4: 0,001
D5: Kód: | K5: 2019-01 | BS5: 0,01
D6: Stavba: | K6: PD TSO úseku Blatno u Jesenice - Kaštice | BS6: 0,01
D7: KSO: | AK7: CC-CZ: | BS7: 0,01
D8: Místo: | AK8: Datum: | AN8: 43661 | BS8: 0,01
BS9: 0,01
D10: Zadavatel: | AK10: IČ: | BS10: 0,01
AK11: DIČ: | BS11: 0,01
BS12: 0,01
D13: Zhotovitel: | AK13: IČ: | BS13: 0,01
AK14: DIČ: | BS14: 0,01
BS15: False
D16: Projektant: | AK16: IČ: | BS16: False
AK17: DIČ: | BS17: True
BS18: 0,01
D19: Zpracovatel: | AK19: IČ: | BS19: 0,01
AK20: DIČ: | BS20: False
D22: Poznámka:
E23: Soupis prací je sestaven s využitím Cenové soustavy ÚRS a ÚOŽI. Položky, které pochází z této cenové soustavy, jsou ve sloupci 'Cenová soustava' označeny popisem 'CS ÚRS a ÚOŽI' a úrovní příslušného kalendářního pololetí. Veškeré další informace vymezující popis a podmínky použití těchto položek z Cenové soustavy, které nejsou uvedeny přímo v soupisu prací, jsou neomezeně dálkově k dispozici na www.cs-urs.cz a www.sfdi.cz/pravidla-metodiky-a-ceniky/cenove-databaze/ , sekce Cenové a technické podmínky.
D26: Cena bez DPH | AK26: =ROUND(AG54,2) -> 0
L28: Sazba daně | W28: Základ daně | AK28: Výše daně
D29: DPH | F29: základní | L29: 0.21 | W29: =ROUND(AZ54, 2) -> 0 | AK29: =ROUND(AV54, 2) -> 0
F30: snížená | L30: 0.15 | W30: =ROUND(BA54, 2) -> 0 | AK30: =ROUND(AW54, 2) -> 0
F31: zákl. přenesená | L31: 0.21 | W31: =ROUND(BB54, 2) -> 0 | AK31: 0
F32: sníž. přenesená | L32: 0.15 | W32: =ROUND(BC54, 2) -> 0 | AK32: 0
F33: nulová | L33: 0 | W33: =ROUND(BD54, 2) -> 0 | AK33: 0
D35: Cena s DPH | T35: v | X35: CZK | AK35: =SUM(AK26:AK33) -> 0
C42: REKAPITULACE OBJEKTŮ STAVBY A SOUPISŮ PRACÍ
C44: Kód: | L44: =K5 -> 2019-01
C45: Stavba: | L45: =K6 -> PD TSO úseku Blatno u Jesenice - Kaštice
C47: Místo: | L47: =IF(K8="","",K8) | AI47: Datum: | AM47: =IF(AN8= "","",AN8) -> 43661
C49: Zadavatel: | L49: =IF(E11= "","",E11) | AI49: Projektant: | AM49: =IF(E17="","",E17) | AS49: Informatívní údaje z listů zakázek
C50: Zhotovitel: | L50: =IF(E14="","",E14) | AI50: Zpracovatel: | AM50: =IF(E20="","",E20)
C52: Kód | I52: Popis | AG52: Cena bez DPH [CZK] | AN52: Cena s DPH [CZK] | AQ52: Typ | AS52: z toho Ostat._x000D_ náklady [CZK] | AT52: DPH [CZK] | AU52: Normohodiny [h] | AV52: DPH základní [CZK] | AW52: DPH snížená [CZK] | AX52: DPH základní přenesená_x000D_ [CZK] | AY52: DPH snížená přenesená_x000D_ [CZK] | AZ52: Základna_x000D_ DPH základní | BA52: Základna_x000D_ DPH snížená | BB52: Základna_x000D_ DPH zákl. přenesená | BC52: Základna_x000D_ DPH sníž. přenesená | BD52: Základna_x000D_ DPH nulová
C54: Náklady stavby celkem | AG54: =ROUND(SUM(AG55:AG57),2) -> 0 | AN54: =SUM(AG54,AT54) -> 0 | AS54: =ROUND(SUM(AS55:AS57),2) -> 0 | AT54: =ROUND(SUM(AV54:AW54),2) -> 0 | AU54: =ROUND(SUM(AU55:AU57),5) -> 1316.976 | AV54: =ROUND(AZ54*L29,2) -> 0 | AW54: =ROUND(BA54*L30,2) -> 0 | AX54: =ROUND(BB54*L29,2) -> 0 | AY54: =ROUND(BC54*L30,2) -> 0 | AZ54: =ROUND(SUM(AZ55:AZ57),2) -> 0 | BA54: =ROUND(SUM(BA55:BA57),2) -> 0 | BB54: =ROUND(SUM(BB55:BB57),2) -> 0 | BC54: =ROUND(SUM(BC55:BC57),2) -> 0 | BD54: =ROUND(SUM(BD55:BD57),2) -> 0 | BS54: D | BT54: 0 | BU54: ###NOIMPORT### | BV54: IMPORT | BW54: {89e13abf-1f95-45b8-b3fc-31eefc27e4c4} | BX54: {00000000-0000-0000-0000-000000000000}
A55: / | D55: PS 03-01-21.1 | J55: Petrohrad (včetně) - Kryry (včetně), TZZ - ÚOŽI | AG55: ='PS 03-01-21.1 - Petrohrad...'!J30 -> 0 | AN55: =SUM(AG55,AT55) -> 0 | AQ55: STA | AS55: 0 | AT55: =ROUND(SUM(AV55:AW55),2) -> 0 | AU55: ='PS 03-01-21.1 - Petrohrad...'!P80 -> 0 | AV55: ='PS 03-01-21.1 - Petrohrad...'!J33 -> 0 | AW55: ='PS 03-01-21.1 - Petrohrad...'!J34 -> 0 | AX55: ='PS 03-01-21.1 - Petrohrad...'!J35 -> 0 | AY55: ='PS 03-01-21.1 - Petrohrad...'!J36 -> 0 | AZ55: ='PS 03-01-21.1 - Petrohrad...'!F33 -> 0 | BA55: ='PS 03-01-21.1 - Petrohrad...'!F34 -> 0 | BB55: ='PS 03-01-21.1 - Petrohrad...'!F35 -> 0 | BC55: ='PS 03-01-21.1 - Petrohrad...'!F36 -> 0 | BD55: ='PS 03-01-21.1 - Petrohrad...'!F37 -> 0 | BT55: 1 | BV55: IMPORT | BW55: {3f0a42f2-c4a1-4cd6-b481-80a40637514a} | BX55: {89e13abf-1f95-45b8-b3fc-31eefc27e4c4} | CM55: 2
A56: / | D56: PS 03-01-21.2 | J56: Petrohrad (včetně) - Kryry (včetně), TZZ - URS | AG56: ='PS 03-01-21.2 - Petrohrad...'!J30 -> 0 | AN56: =SUM(AG56,AT56) -> 0 | AQ56: STA | AS56: 0 | AT56: =ROUND(SUM(AV56:AW56),2) -> 0 | AU56: ='PS 03-01-21.2 - Petrohrad...'!P81 -> 1316.976 | AV56: ='PS 03-01-21.2 - Petrohrad...'!J33 -> 0 | AW56: ='PS 03-01-21.2 - Petrohrad...'!J34 -> 0 | AX56: ='PS 03-01-21.2 - Petrohrad...'!J35 -> 0 | AY56: ='PS 03-01-21.2 - Petrohrad...'!J36 -> 0 | AZ56: ='PS 03-01-21.2 - Petrohrad...'!F33 -> 0 | BA56: ='PS 03-01-21.2 - Petrohrad...'!F34 -> 0 | BB56: ='PS 03-01-21.2 - Petrohrad...'!F35 -> 0 | BC56: ='PS 03-01-21.2 - Petrohrad...'!F36 -> 0 | BD56: ='PS 03-01-21.2 - Petrohrad...'!F37 -> 0 | BT56: 1 | BV56: IMPORT | BW56: {4ddc0d76-23ae-4a73-b946-8dec721a4725} | BX56: {89e13abf-1f95-45b8-b3fc-31eefc27e4c4} | CM56: 2
...

Sheet PS 03-01-21.1 - Petrohrad...
L2: >> skryté sloupce << | AT2: {3f0a42f2-c4a1-4cd6-b481-80a40637514a}
AT3: 2
D4: KRYCÍ LIST SOUPISU PRACÍ | M4: v --- níže se nacházejí doplnkové a pomocné údaje k sestavám --- v | AT4: False
D6: Stavba:
E7: ='Rekapitulace PS'!K6 -> PD TSO úseku Blatno u Jesenice - Kaštice
D8: Objekt:
E9: PS 03-01-21.1 - Petrohrad (včetně) - Kryry (včetně), TZZ - ÚOŽI
D11: KSO: | I11: CC-CZ:
D12: Místo: | I12: Datum: | J12: ='Rekapitulace PS'!AN8 -> 43661
D14: Zadavatel: | I14: IČ: | J14: =IF('Rekapitulace PS'!AN10="","",'Rekapitulace PS'!AN10)
E15: =IF('Rekapitulace PS'!E11="","",'Rekapitulace PS'!E11) | I15: DIČ: | J15: =IF('Rekapitulace PS'!AN11="","",'Rekapitulace PS'!AN11)
D17: Zhotovitel: | I17: IČ: | J17: ='Rekapitulace PS'!AN13
E18: ='Rekapitulace PS'!E14 | I18: DIČ: | J18: ='Rekapitulace PS'!AN14
D20: Projektant: | I20: IČ: | J20: =IF('Rekapitulace PS'!AN16="","",'Rekapitulace PS'!AN16)
E21: =IF('Rekapitulace PS'!E17="","",'Rekapitulace PS'!E17) | I21: DIČ: | J21: =IF('Rekapitulace PS'!AN17="","",'Rekapitulace PS'!AN17)
D23: Zpracovatel: | I23: IČ: | J23: =IF('Rekapitulace PS'!AN19="","",'Rekapitulace PS'!AN19)
E24: =IF('Rekapitulace PS'!E20="","",'Rekapitulace PS'!E20) | I24: DIČ: | J24: =IF('Rekapitulace PS'!AN20="","",'Rekapitulace PS'!AN20)
D26: Poznámka:
D30: Cena bez DPH | J30: =ROUND(J80, 2) -> 0
F32: Základ daně | I32: Sazba daně | J32: Výše daně
D33: DPH | E33: základní | F33: =ROUND((SUM(BE80:BE110)), 2) -> 0 | I33: 0.21 | J33: =ROUND(((SUM(BE80:BE110))*I33), 2) -> 0
E34: snížená | F34: =ROUND((SUM(BF80:BF110)), 2) -> 0 | I34: 0.15 | J34: =ROUND(((SUM(BF80:BF110))*I34), 2) -> 0
E35: zákl. přenesená | F35: =ROUND((SUM(BG80:BG110)), 2) -> 0 | I35: 0.21 | J35: =0 -> 0
E36: sníž. přenesená | F36: =ROUND((SUM(BH80:BH110)), 2) -> 0 | I36: 0.15 | J36: =0 -> 0
E37: nulová | F37: =ROUND((SUM(BI80:BI110)), 2) -> 0 | I37: 0 | J37: =0 -> 0
D39: Cena s DPH | G39: v | H39: CZK | J39: =SUM(J30:J37) -> 0
C45: REKAPITULACE ČLENĚNÍ SOUPISU PRACÍ
C47: Stavba:
E48: =E7 -> PD TSO úseku Blatno u Jesenice - Kaštice
C49: Objekt:
E50: =E9 -> PS 03-01-21.1 - Petrohrad (včetně) - Kryry (včetně), TZZ - ÚOŽI
C52: Místo: | F52: =F12 | I52: Datum: | J52: =IF(J12="","",J12) -> 43661
C54: Zadavatel: | F54: =E15 | I54: Projektant: | J54: =E21
C55: Zhotovitel: | F55: =IF(E18="","",E18) | I55: Zpracovatel: | J55: =E24
C57: Kód dílu - Popis | J57: Cena celkem [CZK]
C59: Náklady stavby celkem | J59: =J80 -> 0 | AU59: -1
D60: OST - Ostatní | J60: =J81 -> 0
C67: SOUPIS PRACÍ
C69: Stavba:
E70: =E7 -> PD TSO úseku Blatno u Jesenice - Kaštice
...

Sheet PS 03-01-21.2 - Petrohrad...
L2: >> skryté sloupce << | AT2: {4ddc0d76-23ae-4a73-b946-8dec721a4725}
AT3: 2
D4: KRYCÍ LIST SOUPISU PRACÍ | M4: v --- níže se nacházejí doplnkové a pomocné údaje k sestavám --- v | AT4: False
D6: Stavba:
E7: ='Rekapitulace PS'!K6 -> PD TSO úseku Blatno u Jesenice - Kaštice
D8: Objekt:
E9: PS 03-01-21.2 - Petrohrad (včetně) - Kryry (včetně), TZZ - URS
D11: KSO: | I11: CC-CZ:
D12: Místo: | I12: Datum: | J12: ='Rekapitulace PS'!AN8 -> 43661
D14: Zadavatel: | I14: IČ: | J14: =IF('Rekapitulace PS'!AN10="","",'Rekapitulace PS'!AN10)
E15: =IF('Rekapitulace PS'!E11="","",'Rekapitulace PS'!E11) | I15: DIČ: | J15: =IF('Rekapitulace PS'!AN11="","",'Rekapitulace PS'!AN11)
D17: Zhotovitel: | I17: IČ: | J17: ='Rekapitulace PS'!AN13
E18: ='Rekapitulace PS'!E14 | I18: DIČ: | J18: ='Rekapitulace PS'!AN14
D20: Projektant: | I20: IČ: | J20: =IF('Rekapitulace PS'!AN16="","",'Rekapitulace PS'!AN16)
E21: =IF('Rekapitulace PS'!E17="","",'Rekapitulace PS'!E17) | I21: DIČ: | J21: =IF('Rekapitulace PS'!AN17="","",'Rekapitulace PS'!AN17)
D23: Zpracovatel: | I23: IČ: | J23: =IF('Rekapitulace PS'!AN19="","",'Rekapitulace PS'!AN19)
E24: =IF('Rekapitulace PS'!E20="","",'Rekapitulace PS'!E20) | I24: DIČ: | J24: =IF('Rekapitulace PS'!AN20="","",'Rekapitulace PS'!AN20)
D26: Poznámka:
D30: Cena bez DPH | J30: =ROUND(J81, 2) -> 0
F32: Základ daně | I32: Sazba daně | J32: Výše daně
D33: DPH | E33: základní | F33: =ROUND((SUM(BE81:BE108)), 2) -> 0 | I33: 0.21 | J33: =ROUND(((SUM(BE81:BE108))*I33), 2) -> 0
E34: snížená | F34: =ROUND((SUM(BF81:BF108)), 2) -> 0 | I34: 0.15 | J34: =ROUND(((SUM(BF81:BF108))*I34), 2) -> 0
E35: zákl. přenesená | F35: =ROUND((SUM(BG81:BG108)), 2) -> 0 | I35: 0.21 | J35: =0 -> 0
E36: sníž. přenesená | F36: =ROUND((SUM(BH81:BH108)), 2) -> 0 | I36: 0.15 | J36: =0 -> 0
E37: nulová | F37: =ROUND((SUM(BI81:BI108)), 2) -> 0 | I37: 0 | J37: =0 -> 0
D39: Cena s DPH | G39: v | H39: CZK | J39: =SUM(J30:J37) -> 0
C45: REKAPITULACE ČLENĚNÍ SOUPISU PRACÍ
C47: Stavba:
E48: =E7 -> PD TSO úseku Blatno u Jesenice - Kaštice
C49: Objekt:
E50: =E9 -> PS 03-01-21.2 - Petrohrad (včetně) - Kryry (včetně), TZZ - URS
C52: Místo: | F52: =F12 | I52: Datum: | J52: =IF(J12="","",J12) -> 43661
C54: Zadavatel: | F54: =E15 | I54: Projektant: | J54: =E21
C55: Zhotovitel: | F55: =IF(E18="","",E18) | I55: Zpracovatel: | J55: =E24
C57: Kód dílu - Popis | J57: Cena celkem [CZK]
C59: Náklady stavby celkem | J59: =J81 -> 0 | AU59: -1
D60: M - Práce a dodávky M | J60: =J82 -> 0
D61: 46-M - Zemní práce při extr.mont.pracích | J61: =J83 -> 0
C68: SOUPIS PRACÍ
C70: Stavba:
...

Sheet PS 03-01-21.3 - VON + VRN
L2: >> skryté sloupce << | AT2: {d04610a2-fa27-474a-ab61-a20ac857c7ad}
AT3: 2
D4: KRYCÍ LIST SOUPISU PRACÍ | M4: v --- níže se nacházejí doplnkové a pomocné údaje k sestavám --- v | AT4: False
D6: Stavba:
E7: ='Rekapitulace PS'!K6 -> PD TSO úseku Blatno u Jesenice - Kaštice
D8: Objekt:
E9: PS 03-01-21.3 - VON + VRN
D11: KSO: | I11: CC-CZ:
D12: Místo: | I12: Datum: | J12: ='Rekapitulace PS'!AN8 -> 43661
D14: Zadavatel: | I14: IČ: | J14: =IF('Rekapitulace PS'!AN10="","",'Rekapitulace PS'!AN10)
E15: =IF('Rekapitulace PS'!E11="","",'Rekapitulace PS'!E11) | I15: DIČ: | J15: =IF('Rekapitulace PS'!AN11="","",'Rekapitulace PS'!AN11)
D17: Zhotovitel: | I17: IČ: | J17: ='Rekapitulace PS'!AN13
E18: ='Rekapitulace PS'!E14 | I18: DIČ: | J18: ='Rekapitulace PS'!AN14
D20: Projektant: | I20: IČ: | J20: =IF('Rekapitulace PS'!AN16="","",'Rekapitulace PS'!AN16)
E21: =IF('Rekapitulace PS'!E17="","",'Rekapitulace PS'!E17) | I21: DIČ: | J21: =IF('Rekapitulace PS'!AN17="","",'Rekapitulace PS'!AN17)
D23: Zpracovatel: | I23: IČ: | J23: =IF('Rekapitulace PS'!AN19="","",'Rekapitulace PS'!AN19)
E24: =IF('Rekapitulace PS'!E20="","",'Rekapitulace PS'!E20) | I24: DIČ: | J24: =IF('Rekapitulace PS'!AN20="","",'Rekapitulace PS'!AN20)
D26: Poznámka:
D30: Cena bez DPH | J30: =ROUND(J84, 2) -> 0
F32: Základ daně | I32: Sazba daně | J32: Výše daně
D33: DPH | E33: základní | F33: =ROUND((SUM(BE84:BE98)), 2) -> 0 | I33: 0.21 | J33: =ROUND(((SUM(BE84:BE98))*I33), 2) -> 0
E34: snížená | F34: =ROUND((SUM(BF84:BF98)), 2) -> 0 | I34: 0.15 | J34: =ROUND(((SUM(BF84:BF98))*I34), 2) -> 0
E35: zákl. přenesená | F35: =ROUND((SUM(BG84:BG98)), 2) -> 0 | I35: 0.21 | J35: =0 -> 0
E36: sníž. přenesená | F36: =ROUND((SUM(BH84:BH98)), 2) -> 0 | I36: 0.15 | J36: =0 -> 0
E37: nulová | F37: =ROUND((SUM(BI84:BI98)), 2) -> 0 | I37: 0 | J37: =0 -> 0
D39: Cena s DPH | G39: v | H39: CZK | J39: =SUM(J30:J37) -> 0
C45: REKAPITULACE ČLENĚNÍ SOUPISU PRACÍ
C47: Stavba:
E48: =E7 -> PD TSO úseku Blatno u Jesenice - Kaštice
C49: Objekt:
E50: =E9 -> PS 03-01-21.3 - VON + VRN
C52: Místo: | F52: =F12 | I52: Datum: | J52: =IF(J12="","",J12) -> 43661
C54: Zadavatel: | F54: =E15 | I54: Projektant: | J54: =E21
C55: Zhotovitel: | F55: =IF(E18="","",E18) | I55: Zpracovatel: | J55: =E24
C57: Kód dílu - Popis | J57: Cena celkem [CZK]
C59: Náklady stavby celkem | J59: =J84 -> 0 | AU59: -1
D60: VRN - Vedlejší rozpočtové náklady | J60: =J85 -> 0
D61: VRN1 - Průzkumné, geodetické a projektové práce | J61: =J90 -> 0
D62: VRN4 - Inženýrská činnost | J62: =J93 -> 0
D63: VRN6 - Územní vlivy | J63: =J95 -> 0
...

Sheet Pokyny pro vyplnění
C3: Struktura údajů, formát souboru a metodika pro zpracování
C4: Struktura
C6: Soubor je složen ze záložky Rekapitulace stavby a záložek s názvem soupisu prací pro jednotlivé objekty ve formátu XLSX. Každá ze záložek přitom obsahuje
C7: ještě samostatné sestavy vymezené orámovaním a nadpisem sestavy.
C9: Rekapitulace stavby obsahuje sestavu Rekapitulace stavby a Rekapitulace objektů stavby a soupisů prací.
D10: V sestavě Rekapitulace stavby jsou uvedeny informace identifikující předmět veřejné zakázky na stavební práce, KSO, CC-CZ, CZ-CPV, CZ-CPA a rekapitulaci
D11: celkové nabídkové ceny uchazeče.
D13: Termínem "uchazeč" (resp. zhotovitel) se myslí "účastník zadávacího řízení" ve smyslu zákona o zadávání veřejných zakázek.
D15: V sestavě Rekapitulace objektů stavby a soupisů prací je uvedena rekapitulace stavebních objektů, inženýrských objektů, provozních souborů,
D16: vedlejších a ostatních nákladů a ostatních nákladů s rekapitulací nabídkové ceny za jednotlivé soupisy prací. Na základě údaje Typ je možné
D17: identifikovat, zda se jedná o objekt nebo soupis prací pro daný objekt:
E18: STA | F18: Stavební objekt pozemní
E19: ING | F19: Stavební objekt inženýrský
E20: PRO | F20: Provozní soubor
E21: VON | F21: Vedlejší a ostatní náklady
E22: OST | F22: Ostatní
E23: Soupis | F23: Soupis prací pro daný typ objektu
C25: Soupis prací pro jednotlivé objekty obsahuje sestavy Krycí list soupisu prací, Rekapitulace členění soupisu prací, Soupis prací. Za soupis prací může být považován
C26: i objekt stavby v případě, že neobsahuje podřízenou zakázku.
D27: Krycí list soupisu obsahuje rekapitulaci informací o předmětu veřejné zakázky ze sestavy Rekapitulace stavby, informaci o zařazení objektu do KSO,
D28: CC-CZ, CZ-CPV, CZ-CPA a rekapitulaci celkové nabídkové ceny uchazeče za aktuální soupis prací.
D30: Rekapitulace členění soupisu prací obsahuje rekapitulaci soupisu prací ve všech úrovních členění soupisu tak, jak byla tato členění použita (např.
D31: stavební díly, funkční díly, případně jiné členění) s rekapitulací nabídkové ceny.
D33: Soupis prací obsahuje položky veškerých stavebních nebo montážních prací, dodávek materiálů a služeb nezbytných pro zhotovení stavebního objektu,
D34: inženýrského objektu, provozního souboru, vedlejších a ostatních nákladů.
D35: Pro položky soupisu prací se zobrazují následující informace:
E36: PČ | G36: Pořadové číslo položky v aktuálním soupisu
E37: TYP | G37: Typ položky: K - konstrukce, M - materiál, PP - plný popis, PSC - poznámka k souboru cen, P - poznámka k položce, VV - výkaz výměr
E38: Kód | G38: Kód položky
E39: Popis | G39: Zkrácený popis položky
E40: MJ | G40: Měrná jednotka položky
E41: Množství | G41: Množství v měrné jednotce
E42: J.cena | G42: Jednotková cena položky. Zadaní může obsahovat namísto J.ceny sloupce J.materiál a J.montáž, jejichž součet definuje
G43: J.cenu položky.
E44: Cena celkem | G44: Celková cena položky daná jako součin množství a j.ceny
E45: Cenová soustava | G45: Příslušnost položky do cenové soustavy
D47: Ke každé položce soupisu prací se na samostatných řádcích může zobrazovat:
E48: Plný popis položky
E49: Poznámka k souboru cen a poznámka zadavatele
E50: Výkaz výměr
...
