Workbook

Sheet Rekapitulace PS
A1: Export Komplet | AZ1: VZ | BA1: 2.0 | BT1: False | BU1: False | BV1: {89e13abf-1f95-45b8-b3fc-31eefc27e4c4}
AR2: >> skryté sloupce << | BS2: 0,01 | BT2: 21
BS3: 0,01 | BT3: 15
D4: REKAPITULACE STAVBY - PS 03-01-21 OPRAVA č.1 | AS4: v --- níže se nacházejí doplnkové a pomocné údaje k sestavám --- v | BS4: 0,001
D5: Kód: | K5: 2019-01 | BS5: 0,01
D6: Stavba: | K6: PD TSO úseku Blatno u Jesenice - Kaštice | BS6: 0,01
D7: KSO: | AK7: CC-CZ: | BS7: 0,01
D8: Místo: | AK8: Datum: | AN8: 43661 | BS8: 0,01
BS9: 0,01
D10: Zadavatel: | AK10: IČ: | BS10: 0,01
AK11: DIČ: | BS11: 0,01
BS12: 0,01
D13: Zhotovitel: | AK13: IČ: | BS13: 0,01
AK14: DIČ: | BS14: 0,01
BS15: False
D16: Projektant: | AK16: IČ: | BS16: False
AK17: DIČ: | BS17: True
BS18: 0,01
D19: Zpracovatel: | AK19: IČ: | BS19: 0,01
AK20: DIČ: | BS20: False
D22: Poznámka:
E23: Soupis prací je sestaven s využitím Cenové soustavy ÚRS a ÚOŽI. Položky, které pochází z této cenové soustavy, jsou ve sloupci 'Cenová soustava' označeny popisem 'CS ÚRS a ÚOŽI' a úrovní příslušného kalendářního pololetí. Veškeré další informace vymezující popis a podmínky použití těchto položek z Cenové soustavy, které nejsou uvedeny přímo v soupisu prací, jsou neomezeně dálkově k dispozici na www.cs-urs.cz a www.sfdi.cz/pravidla-metodiky-a-ceniky/cenove-databaze/ , sekce Cenové a technické podmínky.
D26: Cena bez DPH | AK26: =ROUND(AG54,2) -> 0
L28: Sazba daně | W28: Základ daně | AK28: Výše daně
D29: DPH | F29: základní | L29: 0.21 | W29: =ROUND(AZ54, 2) -> 0 | AK29: =ROUND(AV54, 2) -> 0
F30: snížená | L30: 0.15 | W30: =ROUND(BA54, 2) -> 0 | AK30: =ROUND(AW54, 2) -> 0
F31: zákl. přenesená | L31: 0.21 | W31: =ROUND(BB54, 2) -> 0 | AK31: 0
F32: sníž. přenesená | L32: 0.15 | W32: =ROUND(BC54, 2) -> 0 | AK32: 0
F33: nulová | L33: 0 | W33: =ROUND(BD54, 2) -> 0 | AK33: 0
D35: Cena s DPH | T35: v | X35: CZK | AK35: =SUM(AK26:AK33) -> 0
C42: REKAPITULACE OBJEKTŮ STAVBY A SOUPISŮ PRACÍ
C44: Kód: | L44: =K5 -> 2019-01
C45: Stavba: | L45: =K6 -> PD TSO úseku Blatno u Jesenice - Kaštice
C47: Místo: | L47: =IF(K8="","",K8) | AI47: Datum: | AM47: =IF(AN8= "","",AN8) -> 43661
C49: Zadavatel: | L49: =IF(E11= "","",E11) | AI49: Projektant: | AM49: =IF(E17="","",E17) | AS49: Informatívní údaje z listů zakázek
C50: Zhotovitel: | L50: =IF(E14="","",E14) | AI50: Zpracovatel: | AM50: =IF(E20="","",E20)
C52: Kód | I52: Popis | AG52: Cena bez DPH [CZK] | AN52: Cena s DPH [CZK] | AQ52: Typ | AS52: z toho Ostat._x000D_ náklady [CZK] | AT52: DPH [CZK] | AU52: Normohodiny [h] | AV52: DPH základní [CZK] | AW52: DPH snížená [CZK] | AX52: DPH základní přenesená_x000D_ [CZK] | AY52: DPH snížená přenesená_x000D_ [CZK] | AZ52: Základna_x000D_ DPH základní | BA52: Základna_x000D_ DPH snížená | BB52: Základna_x000D_ DPH zákl. přenesená | BC52: Základna_x000D_ DPH sníž. přenesená | BD52: Základna_x000D_ DPH nulová
C54: Náklady stavby celkem | AG54: =ROUND(SUM(AG55:AG57),2) -> 0 | AN54: =SUM(AG54,AT54) -> 0 | AS54: =ROUND(SUM(AS55:AS57),2) -> 0 | AT54: =ROUND(SUM(AV54:AW54),2) -> 0 | AU54: =ROUND(SUM(AU55:AU57),5) -> 1316.976 | AV54: =ROUND(AZ54*L29,2) -> 0 | AW54: =ROUND(BA54*L30,2) -> 0 | AX54: =ROUND(BB54*L29,2) -> 0 | AY54: =ROUND(BC54*L30,2) -> 0 | AZ54: =ROUND(SUM(AZ55:AZ57),2) -> 0 | BA54: =ROUND(SUM(BA55:BA57),2) -> 0 | BB54: =ROUND(SUM(BB55:BB57),2) -> 0 | BC54: =ROUND(SUM(BC55:BC57),2) -> 0 | BD54: =ROUND(SUM(BD55:BD57),2) -> 0 | BS54: D | BT54: 0 | BU54: ###NOIMPORT### | BV54: IMPORT | BW54: {89e13abf-1f95-45b8-b3fc-31eefc27e4c4} | BX54: {00000000-0000-0000-0000-000000000000}
A55: / | D55: PS 03-01-21.1 | J55: Petrohrad (včetně) - Kryry (včetně), TZZ - ÚOŽI | AG55: ='PS 03-01-21.1 - Petrohrad...'!J30 -> 0 | AN55: =SUM(AG55,AT55) -> 0 | AQ55: STA | AS55: 0 | AT55: =ROUND(SUM(AV55:AW55),2) -> 0 | AU55: ='PS 03-01-21.1 - Petrohrad...'!P80 -> 0 | AV55: ='PS 03-01-21.1 - Petrohrad...'!J33 -> 0 | AW55: ='PS 03-01-21.1 - Petrohrad...'!J34 -> 0 | AX55: ='PS 03-01-21.1 - Petrohrad...'!J35 -> 0 | AY55: ='PS 03-01-21.1 - Petrohrad...'!J36 -> 0 | AZ55: ='PS 03-01-21.1 - Petrohrad...'!F33 -> 0 | BA55: ='PS 03-01-21.1 - Petrohrad...'!F34 -> 0 | BB55: ='PS 03-01-21.1 - Petrohrad...'!F35 -> 0 | BC55: ='PS 03-01-21.1 - Petrohrad...'!F36 -> 0 | BD55: ='PS 03-01-21.1 - Petrohrad...'!F37 -> 0 | BT55: 1 | BV55: IMPORT | BW55: {3f0a42f2-c4a1-4cd6-b481-80a40637514a} | BX55: {89e13abf-1f95-45b8-b3fc-31eefc27e4c4} | CM55: 2
A56: / | D56: PS 03-01-21.2 | J56: Petrohrad (včetně) - Kryry (včetně), TZZ - URS | AG56: ='PS 03-01-21.2 - Petrohrad...'!J30 -> 0 | AN56: =SUM(AG56,AT56) -> 0 | AQ56: STA | AS56: 0 | AT56: =ROUND(SUM(AV56:AW56),2) -> 0 | AU56: ='PS 03-01-21.2 - Petrohrad...'!P81 -> 1316.976 | AV56: ='PS 03-01-21.2 - Petrohrad...'!J33 -> 0 | AW56: ='PS 03-01-21.2 - Petrohrad...'!J34 -> 0 | AX56: ='PS 03-01-21.2 - Petrohrad...'!J35 -> 0 | AY56: ='PS 03-01-21.2 - Petrohrad...'!J36 -> 0 | AZ56: ='PS 03-01-21.2 - Petrohrad...'!F33 -> 0 | BA56: ='PS 03-01-21.2 - Petrohrad...'!F34 -> 0 | BB56: ='PS 03-01-21.2 - Petrohrad...'!F35 -> 0 | BC56: ='PS 03-01-21.2 - Petrohrad...'!F36 -> 0 | BD56: ='PS 03-01-21.2 - Petrohrad...'!F37 -> 0 | BT56: 1 | BV56: IMPORT | BW56: {4ddc0d76-23ae-4a73-b946-8dec721a4725} | BX56: {89e13abf-1f95-45b8-b3fc-31eefc27e4c4} | CM56: 2
A57: / | D57: PS 03-01-21.3 | J57: VON + VRN | AG57: ='PS 03-01-21.3 - VON + VRN'!J30 -> 0 | AN57: =SUM(AG57,AT57) -> 0 | AQ57: STA | AS57: 0 | AT57: =ROUND(SUM(AV57:AW57),2) -> 0 | AU57: ='PS 03-01-21.3 - VON + VRN'!P84 -> 0 | AV57: ='PS 03-01-21.3 - VON + VRN'!J33 -> 0 | AW57: ='PS 03-01-21.3 - VON + VRN'!J34 -> 0 | AX57: ='PS 03-01-21.3 - VON + VRN'!J35 -> 0 | AY57: ='PS 03-01-21.3 - VON + VRN'!J36 -> 0 | AZ57: ='PS 03-01-21.3 - VON + VRN'!F33 -> 0 | BA57: ='PS 03-01-21.3 - VON + VRN'!F34 -> 0 | BB57: ='PS 03-01-21.3 - VON + VRN'!F35 -> 0 | BC57: ='PS 03-01-21.3 - VON + VRN'!F36 -> 0 | BD57: ='PS 03-01-21.3 - VON + VRN'!F37 -> 0 | BT57: 1 | BV57: IMPORT | BW57: {d04610a2-fa27-474a-ab61-a20ac857c7ad} | BX57: {89e13abf-1f95-45b8-b3fc-31eefc27e4c4} | CM57: 2

Sheet PS 03-01-21.1 - Petrohrad...
L2: >> skryté sloupce << | AT2: {3f0a42f2-c4a1-4cd6-b481-80a40637514a}
AT3: 2
D4: KRYCÍ LIST SOUPISU PRACÍ | M4: v --- níže se nacházejí doplnkové a pomocné údaje k sestavám --- v | AT4: False
D6: Stavba:
E7: ='Rekapitulace PS'!K6 -> PD TSO úseku Blatno u Jesenice - Kaštice
D8: Objekt:
E9: PS 03-01-21.1 - Petrohrad (včetně) - Kryry (včetně), TZZ - ÚOŽI
D11: KSO: | I11: CC-CZ:
D12: Místo: | I12: Datum: | J12: ='Rekapitulace PS'!AN8 -> 43661
D14: Zadavatel: | I14: IČ: | J14: =IF('Rekapitulace PS'!AN10="","",'Rekapitulace PS'!AN10)
E15: =IF('Rekapitulace PS'!E11="","",'Rekapitulace PS'!E11) | I15: DIČ: | J15: =IF('Rekapitulace PS'!AN11="","",'Rekapitulace PS'!AN11)
D17: Zhotovitel: | I17: IČ: | J17: ='Rekapitulace PS'!AN13
E18: ='Rekapitulace PS'!E14 | I18: DIČ: | J18: ='Rekapitulace PS'!AN14
D20: Projektant: | I20: IČ: | J20: =IF('Rekapitulace PS'!AN16="","",'Rekapitulace PS'!AN16)
E21: =IF('Rekapitulace PS'!E17="","",'Rekapitulace PS'!E17) | I21: DIČ: | J21: =IF('Rekapitulace PS'!AN17="","",'Rekapitulace PS'!AN17)
D23: Zpracovatel: | I23: IČ: | J23: =IF('Rekapitulace PS'!AN19="","",'Rekapitulace PS'!AN19)
E24: =IF('Rekapitulace PS'!E20="","",'Rekapitulace PS'!E20) | I24: DIČ: | J24: =IF('Rekapitulace PS'!AN20="","",'Rekapitulace PS'!AN20)
D26: Poznámka:
D30: Cena bez DPH | J30: =ROUND(J80, 2) -> 0
F32: Základ daně | I32: Sazba daně | J32: Výše daně
D33: DPH | E33: základní | F33: =ROUND((SUM(BE80:BE110)), 2) -> 0 | I33: 0.21 | J33: =ROUND(((SUM(BE80:BE110))*I33), 2) -> 0
E34: snížená | F34: =ROUND((SUM(BF80:BF110)), 2) -> 0 | I34: 0.15 | J34: =ROUND(((SUM(BF80:BF110))*I34), 2) -> 0
E35: zákl. přenesená | F35: =ROUND((SUM(BG80:BG110)), 2) -> 0 | I35: 0.21 | J35: =0 -> 0
E36: sníž. přenesená | F36: =ROUND((SUM(BH80:BH110)), 2) -> 0 | I36: 0.15 | J36: =0 -> 0
E37: nulová | F37: =ROUND((SUM(BI80:BI110)), 2) -> 0 | I37: 0 | J37: =0 -> 0
D39: Cena s DPH | G39: v | H39: CZK | J39: =SUM(J30:J37) -> 0
C45: REKAPITULACE ČLENĚNÍ SOUPISU PRACÍ
C47: Stavba:
E48: =E7 -> PD TSO úseku Blatno u Jesenice - Kaštice
C49: Objekt:
E50: =E9 -> PS 03-01-21.1 - Petrohrad (včetně) - Kryry (včetně), TZZ - ÚOŽI
C52: Místo: | F52: =F12 | I52: Datum: | J52: =IF(J12="","",J12) -> 43661
C54: Zadavatel: | F54: =E15 | I54: Projektant: | J54: =E21
C55: Zhotovitel: | F55: =IF(E18="","",E18) | I55: Zpracovatel: | J55: =E24
C57: Kód dílu - Popis | J57: Cena celkem [CZK]
C59: Náklady stavby celkem | J59: =J80 -> 0 | AU59: -1
D60: OST - Ostatní | J60: =J81 -> 0
C67: SOUPIS PRACÍ
C69: Stavba:
E70: =E7 -> PD TSO úseku Blatno u Jesenice - Kaštice
C71: Objekt:
E72: =E9 -> PS 03-01-21.1 - Petrohrad (včetně) - Kryry (včetně), TZZ - ÚOŽI
C74: Místo: | F74: =F12 | I74: Datum: | J74: =IF(J12="","",J12) -> 43661
C76: Zadavatel: | F76: =E15 | I76: Projektant: | J76: =E21
C77: Zhotovitel: | F77: =IF(E18="","",E18) | I77: Zpracovatel: | J77: =E24
C79: PČ | D79: Typ | E79: Kód | F79: Popis | G79: MJ | H79: Množství | I79: J.cena [CZK] | J79: Cena celkem [CZK] | K79: Cenová soustava | N79: DPH | O79: J. Nh [h] | P79: Nh celkem [h] | Q79: J. hmotnost [t] | R79: Hmotnost celkem [t] | S79: J. suť [t] | T79: Suť Celkem [t]
C80: Náklady soupisu celkem | J80: =BK80 -> 0 | P80: =P81 -> 0 | R80: =R81 -> 0 | T80: =T81 -> 0 | AT80: D | AU80: -1 | BK80: =BK81 -> 0
D81: D | E81: OST | F81: Ostatní | J81: =BK81 -> 0 | P81: =SUM(P82:P110) -> 0 | R81: =SUM(R82:R110) -> 0 | T81: =SUM(T82:T110) -> 0 | AR81: 4 | AT81: D | AU81: 0 | AY81: ROZPOCET | BK81: =SUM(BK82:BK110) -> 0
C82: 1 | D82: K | E82: 7590155028 | F82: Montáž uzemnění nulovacího vodiče | G82: kus | H82: 2 | J82: =ROUND(I82*H82,2) -> 0 | K82: Sborník UOŽI 01 2019 | N82: základní | O82: 0 | P82: =O82*H82 -> 0 | Q82: 0 | R82: =Q82*H82 -> 0 | S82: 0 | T82: =S82*H82 -> 0 | AR82: 512 | AT82: K | AU82: 1 | AY82: ROZPOCET | BE82: =IF(N82="základní",J82,0) -> 0 | BF82: =IF(N82="snížená",J82,0) -> 0 | BG82: =IF(N82="zákl. přenesená",J82,0) -> 0 | BH82: =IF(N82="sníž. přenesená",J82,0) -> 0 | BI82: =IF(N82="nulová",J82,0) -> 0 | BJ82: 1 | BK82: =ROUND(I82*H82,2) -> 0 | BL82: 512 | BM82: 2095716159
C83: 2 | D83: K | E83: 7590157028 | F83: Demontáž uzemnění nulovacího vodiče | G83: kus | H83: 2 | J83: =ROUND(I83*H83,2) -> 0 | K83: Sborník UOŽI 01 2019 | N83: základní | O83: 0 | P83: =O83*H83 -> 0 | Q83: 0 | R83: =Q83*H83 -> 0 | S83: 0 | T83: =S83*H83 -> 0 | AR83: 512 | AT83: K | AU83: 1 | AY83: ROZPOCET | BE83: =IF(N83="základní",J83,0) -> 0 | BF83: =IF(N83="snížená",J83,0) -> 0 | BG83: =IF(N83="zákl. přenesená",J83,0) -> 0 | BH83: =IF(N83="sníž. přenesená",J83,0) -> 0 | BI83: =IF(N83="nulová",J83,0) -> 0 | BJ83: 1 | BK83: =ROUND(I83*H83,2) -> 0 | BL83: 512 | BM83: -1057599211
C84: 3 | D84: K | E84: 7590525711 | F84: Montáž ukončení celoplastového kabelu v závěru nebo rozvaděči se svorkovnicemi Sv12 bez pancíře 4p - odstranění pláště kabelu, odizolování konců vodičů, vyformování, přišroubování vodičů na svorkovnici, přezkoušení izolačního stavu kabelových žil | G84: kus | H84: 1 | J84: =ROUND(I84*H84,2) -> 0 | K84: Sborník UOŽI 01 2019 OPRAVA č.1-doplněno | N84: základní | O84: 0 | P84: =O84*H84 -> 0 | Q84: 0 | R84: =Q84*H84 -> 0 | S84: 0 | T84: =S84*H84 -> 0 | AR84: 512 | AT84: K | AU84: 1 | AY84: ROZPOCET | BE84: =IF(N84="základní",J84,0) -> 0 | BF84: =IF(N84="snížená",J84,0) -> 0 | BG84: =IF(N84="zákl. přenesená",J84,0) -> 0 | BH84: =IF(N84="sníž. přenesená",J84,0) -> 0 | BI84: =IF(N84="nulová",J84,0) -> 0 | BJ84: 1 | BK84: =ROUND(I84*H84,2) -> 0 | BL84: 512 | BM84: -1676827895
C85: 4 | D85: K | E85: 7590555134 | F85: Montáž forma pro kabely TCEKPFLE, TCEKPFLEY, TCEKPFLEZE, TCEKPFLEZY do 4 P 1,0 - odstranění pláště na jednom konci kabelu, odstranění izolace z konců žil na svorkovnici, zhotovení vodní zábrany, zformování a konečná úprava kabelu, kontrolní a závěrečné měření na kabelu, zapojení po měření, montáž příchytky a štítku kabelové formy | G85: kus | H85: 1 | J85: =ROUND(I85*H85,2) -> 0 | K85: Sborník UOŽI 01 2019 OPRAVA č.1-doplněno | N85: základní | O85: 0 | P85: =O85*H85 -> 0 | Q85: 0 | R85: =Q85*H85 -> 0 | S85: 0 | T85: =S85*H85 -> 0 | AR85: 512 | AT85: K | AU85: 1 | AY85: ROZPOCET | BE85: =IF(N85="základní",J85,0) -> 0 | BF85: =IF(N85="snížená",J85,0) -> 0 | BG85: =IF(N85="zákl. přenesená",J85,0) -> 0 | BH85: =IF(N85="sníž. přenesená",J85,0) -> 0 | BI85: =IF(N85="nulová",J85,0) -> 0 | BJ85: 1 | BK85: =ROUND(I85*H85,2) -> 0 | BL85: 512 | BM85: -1350538091
C86: 5 | D86: K | E86: 7590525230 | F86: Montáž kabelu návěstního volně uloženého s jádrem 1 mm Cu TCEKEZE, TCEKFE, TCEKPFLEY, TCEKPFLEZE do 7 P - příprava kabelového bubnu a přistavení na místo tažení, odvinutí, naměření, odřezání a uložení kabelu do kabelového lože nebo žlabu, protažení překážkami, včetně přípravných a závěrečných prací, přeměření izolačního stavu kabelu, uzavření konců kabelu, přemístění kabelového bubnu | G86: m | H86: 113 | J86: =ROUND(I86*H86,2) -> 0 | K86: Sborník UOŽI 01 2019 OPRAVA č.1-doplněno | N86: základní | O86: 0 | P86: =O86*H86 -> 0 | Q86: 0 | R86: =Q86*H86 -> 0 | S86: 0 | T86: =S86*H86 -> 0 | AR86: 512 | AT86: K | AU86: 1 | AY86: ROZPOCET | BE86: =IF(N86="základní",J86,0) -> 0 | BF86: =IF(N86="snížená",J86,0) -> 0 | BG86: =IF(N86="zákl. přenesená",J86,0) -> 0 | BH86: =IF(N86="sníž. přenesená",J86,0) -> 0 | BI86: =IF(N86="nulová",J86,0) -> 0 | BJ86: 1 | BK86: =ROUND(I86*H86,2) -> 0 | BL86: 512 | BM86: 2118353493
C87: 6 | D87: M | E87: 7590521519 | F87: Venkovní vedení kabelová - metalické sítě Plněné, párované s ochr. vodičem TCEKPFLEY 4 P 1,0 D | G87: m | H87: 113 | J87: =ROUND(I87*H87,2) -> 0 | K87: Sborník UOŽI 01 2019 OPRAVA č.1-doplněno | N87: základní | O87: 0 | P87: =O87*H87 -> 0 | Q87: 0 | R87: =Q87*H87 -> 0 | S87: 0 | T87: =S87*H87 -> 0 | AR87: 128 | AT87: M | AU87: 1 | AY87: ROZPOCET | BE87: =IF(N87="základní",J87,0) -> 0 | BF87: =IF(N87="snížená",J87,0) -> 0 | BG87: =IF(N87="zákl. přenesená",J87,0) -> 0 | BH87: =IF(N87="sníž. přenesená",J87,0) -> 0 | BI87: =IF(N87="nulová",J87,0) -> 0 | BJ87: 1 | BK87: =ROUND(I87*H87,2) -> 0 | BL87: 128 | BM87: -895164087
C88: 7 | D88: M | E88: 7590541429 | F88: Slaboproudé rozvody, kabely pro přívod a vnitřní instalaci Spojky metalických kabelů a příslušenství Teplem smrštitelná zesílená spojka pro netlakované kabely XAGA 500-43/8-150/EY | G88: kus | H88: 1 | J88: =ROUND(I88*H88,2) -> 0 | K88: Sborník UOŽI 01 2019 OPRAVA č.1-doplněno | N88: základní | O88: 0 | P88: =O88*H88 -> 0 | Q88: 0 | R88: =Q88*H88 -> 0 | S88: 0 | T88: =S88*H88 -> 0 | AR88: 512 | AT88: M | AU88: 1 | AY88: ROZPOCET | BE88: =IF(N88="základní",J88,0) -> 0 | BF88: =IF(N88="snížená",J88,0) -> 0 | BG88: =IF(N88="zákl. přenesená",J88,0) -> 0 | BH88: =IF(N88="sníž. přenesená",J88,0) -> 0 | BI88: =IF(N88="nulová",J88,0) -> 0 | BJ88: 1 | BK88: =ROUND(I88*H88,2) -> 0 | BL88: 512 | BM88: -752056011
C89: 8 | D89: K | E89: 7590525463 | F89: Montáž spojky rovné pro plastové kabely párové Raychem XAGA s konektory UDW2 2 plášť bez pancíře do 10 žil - nasazení manžety, spojení žil, převlečení manžety, nahřátí pro její tepelné smrštění, uložení spojky v jámě | G89: kus | H89: 1 | J89: =ROUND(I89*H89,2) -> 0 | K89: Sborník UOŽI 01 2019 OPRAVA č.1-doplněno | N89: základní | O89: 0 | P89: =O89*H89 -> 0 | Q89: 0 | R89: =Q89*H89 -> 0 | S89: 0 | T89: =S89*H89 -> 0 | AR89: 512 | AT89: K | AU89: 1 | AY89: ROZPOCET | BE89: =IF(N89="základní",J89,0) -> 0 | BF89: =IF(N89="snížená",J89,0) -> 0 | BG89: =IF(N89="zákl. přenesená",J89,0) -> 0 | BH89: =IF(N89="sníž. přenesená",J89,0) -> 0 | BI89: =IF(N89="nulová",J89,0) -> 0 | BJ89: 1 | BK89: =ROUND(I89*H89,2) -> 0 | BL89: 512 | BM89: -1032003419
C90: 9 | D90: K | E90: 7591015038 | F90: Montáž elektromotorického přestavníku na výhybce s kontrolou jazyků s upevněním přírubou - připevnění přestavníku k přírubě a zatažení kabelu s kabelovou formou do kabelového závěru, mechanické přezkoušení chodu | G90: kus | H90: 1 | J90: =ROUND(I90*H90,2) -> 0 | K90: Sborník UOŽI 01 2019 | N90: základní | O90: 0 | P90: =O90*H90 -> 0 | Q90: 0 | R90: =Q90*H90 -> 0 | S90: 0 | T90: =S90*H90 -> 0 | AR90: 512 | AT90: K | AU90: 1 | AY90: ROZPOCET | BE90: =IF(N90="základní",J90,0) -> 0 | BF90: =IF(N90="snížená",J90,0) -> 0 | BG90: =IF(N90="zákl. přenesená",J90,0) -> 0 | BH90: =IF(N90="sníž. přenesená",J90,0) -> 0 | BI90: =IF(N90="nulová",J90,0) -> 0 | BJ90: 1 | BK90: =ROUND(I90*H90,2) -> 0 | BL90: 512 | BM90: 1330560313
C91: 10 | D91: M | E91: 7591010130 | F91: Přestavníky Přestavník elektromotorický EP 661.1/P (CV200619001) | G91: kus | H91: 1 | J91: =ROUND(I91*H91,2) -> 0 | K91: Sborník UOŽI 01 2019 | N91: základní | O91: 0 | P91: =O91*H91 -> 0 | Q91: 0 | R91: =Q91*H91 -> 0 | S91: 0 | T91: =S91*H91 -> 0 | AR91: 128 | AT91: M | AU91: 1 | AY91: ROZPOCET | BE91: =IF(N91="základní",J91,0) -> 0 | BF91: =IF(N91="snížená",J91,0) -> 0 | BG91: =IF(N91="zákl. přenesená",J91,0) -> 0 | BH91: =IF(N91="sníž. přenesená",J91,0) -> 0 | BI91: =IF(N91="nulová",J91,0) -> 0 | BJ91: 1 | BK91: =ROUND(I91*H91,2) -> 0 | BL91: 128 | BM91: -1790146275
C92: 11 | D92: K | E92: 7591015062 | F92: Připojení elektromotorického přestavníku na výhybku s kontrolou jazyků - připojení a seřízení přestavníkové spojnice, montáž a seřízení kontrolního ústrojí | G92: kus | H92: 1 | J92: =ROUND(I92*H92,2) -> 0 | K92: Sborník UOŽI 01 2019 | N92: základní | O92: 0 | P92: =O92*H92 -> 0 | Q92: 0 | R92: =Q92*H92 -> 0 | S92: 0 | T92: =S92*H92 -> 0 | AR92: 512 | AT92: K | AU92: 1 | AY92: ROZPOCET | BE92: =IF(N92="základní",J92,0) -> 0 | BF92: =IF(N92="snížená",J92,0) -> 0 | BG92: =IF(N92="zákl. přenesená",J92,0) -> 0 | BH92: =IF(N92="sníž. přenesená",J92,0) -> 0 | BI92: =IF(N92="nulová",J92,0) -> 0 | BJ92: 1 | BK92: =ROUND(I92*H92,2) -> 0 | BL92: 512 | BM92: 970904059
C93: 12 | D93: K | E93: 7591017030 | F93: Demontáž elektromotorického přestavníku z výhybky s kontrolou jazyků | G93: kus | H93: 1 | J93: =ROUND(I93*H93,2) -> 0 | K93: Sborník UOŽI 01 2019 | N93: základní | O93: 0 | P93: =O93*H93 -> 0 | Q93: 0 | R93: =Q93*H93 -> 0 | S93: 0 | T93: =S93*H93 -> 0 | AR93: 512 | AT93: K | AU93: 1 | AY93: ROZPOCET | BE93: =IF(N93="základní",J93,0) -> 0 | BF93: =IF(N93="snížená",J93,0) -> 0 | BG93: =IF(N93="zákl. přenesená",J93,0) -> 0 | BH93: =IF(N93="sníž. přenesená",J93,0) -> 0 | BI93: =IF(N93="nulová",J93,0) -> 0 | BJ93: 1 | BK93: =ROUND(I93*H93,2) -> 0 | BL93: 512 | BM93: -411702249
... C110: 29 | D110: K | E110: 7598095615 | F110: Vyhotovení revizní správy SZZ elektromechanické do 10 přestavníků - vykonání prohlídky a zkoušky pro napájení elektrického zařízení včetně vyhotovení revizní zprávy podle vyhl. 100/1995 Sb. a norem ČSN | G110: kus | H110: 1 | J110: =ROUND(I110*H110,2) -> 0 | K110: Sborník UOŽI 01 2019 | N110: základní | O110: 0 | P110: =O110*H110 -> 0 | Q110: 0 | R110: =Q110*H110 -> 0 | S110: 0 | T110: =S110*H110 -> 0 | AR110: 512 | AT110: K | AU110: 1 | AY110: ROZPOCET | BE110: =IF(N110="základní",J110,0) -> 0 | BF110: =IF(N110="snížená",J110,0) -> 0 | BG110: =IF(N110="zákl. přenesená",J110,0) -> 0 | BH110: =IF(N110="sníž. přenesená",J110,0) -> 0 | BI110: =IF(N110="nulová",J110,0) -> 0 | BJ110: 1 | BK110: =ROUND(I110*H110,2) -> 0 | BL110: 512 | BM110: 1490292089

Sheet PS 03-01-21.2 - Petrohrad...
L2: >> skryté sloupce << | AT2: {4ddc0d76-23ae-4a73-b946-8dec721a4725}
AT3: 2
D4: KRYCÍ LIST SOUPISU PRACÍ | M4: v --- níže se nacházejí doplnkové a pomocné údaje k sestavám --- v | AT4: False
D6: Stavba:
E7: ='Rekapitulace PS'!K6 -> PD TSO úseku Blatno u Jesenice - Kaštice
D8: Objekt:
E9: PS 03-01-21.2 - Petrohrad (včetně) - Kryry (včetně), TZZ - URS
D11: KSO: | I11: CC-CZ:
D12: Místo: | I12: Datum: | J12: ='Rekapitulace PS'!AN8 -> 43661
D14: Zadavatel: | I14: IČ: | J14: =IF('Rekapitulace PS'!AN10="","",'Rekapitulace PS'!AN10)
E15: =IF('Rekapitulace PS'!E11="","",'Rekapitulace PS'!E11) | I15: DIČ: | J15: =IF('Rekapitulace PS'!AN11="","",'Rekapitulace PS'!AN11)
D17: Zhotovitel: | I17: IČ: | J17: ='Rekapitulace PS'!AN13
E18: ='Rekapitulace PS'!E14 | I18: DIČ: | J18: ='Rekapitulace PS'!AN14
D20: Projektant: | I20: IČ: | J20: =IF('Rekapitulace PS'!AN16="","",'Rekapitulace PS'!AN16)
E21: =IF('Rekapitulace PS'!E17="","",'Rekapitulace PS'!E17) | I21: DIČ: | J21: =IF('Rekapitulace PS'!AN17="","",'Rekapitulace PS'!AN17)
D23: Zpracovatel: | I23: IČ: | J23: =IF('Rekapitulace PS'!AN19="","",'Rekapitulace PS'!AN19)
E24: =IF('Rekapitulace PS'!E20="","",'Rekapitulace PS'!E20) | I24: DIČ: | J24: =IF('Rekapitulace PS'!AN20="","",'Rekapitulace PS'!AN20)
D26: Poznámka:
D30: Cena bez DPH | J30: =ROUND(J81, 2) -> 0
F32: Základ daně | I32: Sazba daně | J32: Výše daně
D33: DPH | E33: základní | F33: =ROUND((SUM(BE81:BE108)), 2) -> 0 | I33: 0.21 | J33: =ROUND(((SUM(BE81:BE108))*I33), 2) -> 0
E34: snížená | F34: =ROUND((SUM(BF81:BF108)), 2) -> 0 | I34: 0.15 | J34: =ROUND(((SUM(BF81:BF108))*I34), 2) -> 0
E35: zákl. přenesená | F35: =ROUND((SUM(BG81:BG108)), 2) -> 0 | I35: 0.21 | J35: =0 -> 0
E36: sníž. přenesená | F36: =ROUND((SUM(BH81:BH108)), 2) -> 0 | I36: 0.15 | J36: =0 -> 0
E37: nulová | F37: =ROUND((SUM(BI81:BI108)), 2) -> 0 | I37: 0 | J37: =0 -> 0
D39: Cena s DPH | G39: v | H39: CZK | J39: =SUM(J30:J37) -> 0
C45: REKAPITULACE ČLENĚNÍ SOUPISU PRACÍ
C47: Stavba:
E48: =E7 -> PD TSO úseku Blatno u Jesenice - Kaštice
C49: Objekt:
E50: =E9 -> PS 03-01-21.2 - Petrohrad (včetně) - Kryry (včetně), TZZ - URS
C52: Místo: | F52: =F12 | I52: Datum: | J52: =IF(J12="","",J12) -> 43661
C54: Zadavatel: | F54: =E15 | I54: Projektant: | J54: =E21
C55: Zhotovitel: | F55: =IF(E18="","",E18) | I55: Zpracovatel: | J55: =E24
C57: Kód dílu - Popis | J57: Cena celkem [CZK]
C59: Náklady stavby celkem | J59: =J81 -> 0 | AU59: -1
D60: M - Práce a dodávky M | J60: =J82 -> 0
D61: 46-M - Zemní práce při extr.mont.pracích | J61: =J83 -> 0
C68: SOUPIS PRACÍ
C70: Stavba:
E71: =E7 -> PD TSO úseku Blatno u Jesenice - Kaštice
C72: Objekt:
E73: =E9 -> PS 03-01-21.2 - Petrohrad (včetně) - Kryry (včetně), TZZ - URS
C75: Místo: | F75: =F12 | I75: Datum: | J75: =IF(J12="","",J12) -> 43661
C77: Zadavatel: | F77: =E15 | I77: Projektant: | J77: =E21
C78: Zhotovitel: | F78: =IF(E18="","",E18) | I78: Zpracovatel: | J78: =E24
C80: PČ | D80: Typ | E80: Kód | F80: Popis | G80: MJ | H80: Množství | I80: J.cena [CZK] | J80: Cena celkem [CZK] | K80: Cenová soustava | N80: DPH | O80: J. Nh [h] | P80: Nh celkem [h] | Q80: J. hmotnost [t] | R80: Hmotnost celkem [t] | S80: J. suť [t] | T80: Suť Celkem [t]
C81: Náklady soupisu celkem | J81: =BK81 -> 0 | P81: =P82 -> 1316.976 | R81: =R82 -> 0.28398 | T81: =T82 -> 0 | AT81: D | AU81: -1 | BK81: =BK82 -> 0
D82: D | E82: M | F82: Práce a dodávky M | J82: =BK82 -> 0 | P82: =P83 -> 1316.976 | R82: =R83 -> 0.28398 | T82: =T83 -> 0 | AR82: 3 | AT82: D | AU82: 0 | AY82: ROZPOCET | BK82: =BK83 -> 0
D83: D | E83: 46-M | F83: Zemní práce při extr.mont.pracích | J83: =BK83 -> 0 | P83: =SUM(P84:P108) -> 1316.976 | R83: =SUM(R84:R108) -> 0.28398 | T83: =SUM(T84:T108) -> 0 | AR83: 3 | AT83: D | AU83: 1 | AY83: ROZPOCET | BK83: =SUM(BK84:BK108) -> 0
C84: 1 | D84: K | E84: 460150263 | F84: Hloubení zapažených i nezapažených kabelových rýh ručně včetně urovnání dna s přemístěním výkopku do vzdálenosti 3 m od okraje jámy nebo naložením na dopravní prostředek šířky 50 cm, hloubky 80 cm, v hornině třídy 3 | G84: m | H84: 732 | J84: =ROUND(I84*H84,2) -> 0 | K84: CS ÚRS 2019 01 | N84: základní | O84: 1.233 | P84: =O84*H84 -> 902.556 | Q84: 0 | R84: =Q84*H84 -> 0 | S84: 0 | T84: =S84*H84 -> 0 | AR84: 64 | AT84: K | AU84: 2 | AY84: ROZPOCET | BE84: =IF(N84="základní",J84,0) -> 0 | BF84: =IF(N84="snížená",J84,0) -> 0 | BG84: =IF(N84="zákl. přenesená",J84,0) -> 0 | BH84: =IF(N84="sníž. přenesená",J84,0) -> 0 | BI84: =IF(N84="nulová",J84,0) -> 0 | BJ84: 1 | BK84: =ROUND(I84*H84,2) -> 0 | BL84: 64 | BM84: -385125464
D85: PSC | F85: Poznámka k souboru cen:_x000D_ 1. Ceny hloubení rýh v hornině třídy 6 a 7 se oceňují cenami souboru cen 460 20- . Hloubení nezapažených kabelových rýh strojně._x000D_ | AT85: PSC | AU85: 2
D86: VV | F86: "km 163,217 - 163,250" | AT86: VV | AU86: 2 | AV86: 1 | AW86: True | AX86: 0 | AY86: ROZPOCET
D87: VV | F87: 33 | H87: 33 | AT87: VV | AU87: 2 | AV87: 2 | AW87: True | AX87: 0 | AY87: ROZPOCET
D88: VV | F88: "km 163,447 - 163,490" | AT88: VV | AU88: 2 | AV88: 1 | AW88: True | AX88: 0 | AY88: ROZPOCET
D89: VV | F89: 33 | H89: 33 | AT89: VV | AU89: 2 | AV89: 2 | AW89: True | AX89: 0 | AY89: ROZPOCET
D90: VV | F90: "km 163,705 - 163,897" | AT90: VV | AU90: 2 | AV90: 1 | AW90: True | AX90: 0 | AY90: ROZPOCET
D91: VV | F91: 192 | H91: 192 | AT91: VV | AU91: 2 | AV91: 2 | AW91: True | AX91: 0 | AY91: ROZPOCET
D92: VV | F92: "km 164,056 - 164,070" | AT92: VV | AU92: 2 | AV92: 1 | AW92: True | AX92: 0 | AY92: ROZPOCET
D93: VV | F93: 34 | H93: 34 | AT93: VV | AU93: 2 | AV93: 2 | AW93: True | AX93: 0 | AY93: ROZPOCET
D94: VV | F94: "km 164,407 - 164,537" | AT94: VV | AU94: 2 | AV94: 1 | AW94: True | AX94: 0 | AY94: ROZPOCET
D95: VV | F95: 170 | H95: 170 | AT95: VV | AU95: 2 | AV95: 2 | AW95: True | AX95: 0 | AY95: ROZPOCET
D96: VV | F96: "km 165,715 - 165,832" | AT96: VV | AU96: 2 | AV96: 1 | AW96: True | AX96: 0 | AY96: ROZPOCET
D97: VV | F97: 157 | H97: 157 | AT97: VV | AU97: 2 | AV97: 2 | AW97: True | AX97: 0 | AY97: ROZPOCET
D98: VV | F98: "km 164,287 - 164,653" | AT98: VV | AU98: 2 | AV98: 1 | AW98: True | AX98: 0 | AY98: ROZPOCET
D99: VV | F99: 113 | H99: 113 | K99: OPRAVA č.1 - doplněno | AT99: VV | AU99: 2 | AV99: 2 | AW99: True | AX99: 0 | AY99: ROZPOCET
D100: VV | F100: Součet | H100: 732 | AT100: VV | AU100: 2 | AV100: 4 | AW100: True | AX100: 1 | AY100: ROZPOCET
C101: 3 | D101: K | E101: 460421282 | F101: Kabelové lože včetně podsypu, zhutnění a urovnání povrchu z prohozeného výkopku tloušťky 5 cm nad kabel zakryté plastovou fólií, šířky lože přes 25 do 50 cm | G101: m | H101: 732 | J101: =ROUND(I101*H101,2) -> 0 | K101: CS ÚRS 2019 01 | N101: základní | O101: 0.124 | P101: =O101*H101 -> 90.768 | Q101: 0.00014 | R101: =Q101*H101 -> 0.10248 | S101: 0 | T101: =S101*H101 -> 0 | AR101: 64 | AT101: K | AU101: 2 | AY101: ROZPOCET | BE101: =IF(N101="základní",J101,0) -> 0 | BF101: =IF(N101="snížená",J101,0) -> 0 | BG101: =IF(N101="zákl. přenesená",J101,0) -> 0 | BH101: =IF(N101="sníž. přenesená",J101,0) -> 0 | BI101: =IF(N101="nulová",J101,0) -> 0 | BJ101: 1 | BK101: =ROUND(I101*H101,2) -> 0 | BL101: 64 | BM101: -563592948
D102: PSC | F102: Poznámka k souboru cen:_x000D_ 1. V cenách -1021 až -1072, -1121 až -1172 a -1221 až -1272 nejsou započteny náklady na dodávku betonových a plastových desek. Tato dodávka se oceňuje ve specifikaci._x000D_ | AT102: PSC | AU102: 2
C103: 6 | D103: K | E103: 460510274 | F103: Kabelové prostupy, kanály a multikanály kanály ze žlabů plastových včetně utěsnění, vyspárování a zakrytí víkem do rýhy, bez výkopových prací, vnější šířky přes 10 do 20 cm | G103: m | H103: 33 | J103: =ROUND(I103*H103,2) -> 0 | K103: CS ÚRS 2019 01 | N103: základní | O103: 0.092 | P103: =O103*H103 -> 3.036 | Q103: 0 | R103: =Q103*H103 -> 0 | S103: 0 | T103: =S103*H103 -> 0 | AR103: 64 | AT103: K | AU103: 2 | AY103: ROZPOCET | BE103: =IF(N103="základní",J103,0) -> 0 | BF103: =IF(N103="snížená",J103,0) -> 0 | BG103: =IF(N103="zákl. přenesená",J103,0) -> 0 | BH103: =IF(N103="sníž. přenesená",J103,0) -> 0 | BI103: =IF(N103="nulová",J103,0) -> 0 | BJ103: 1 | BK103: =ROUND(I103*H103,2) -> 0 | BL103: 64 | BM103: -1406286738
D104: PSC | F104: Poznámka k souboru cen:_x000D_ 1. V cenách -0004 až -0156 nejsou obsaženy náklady na dodávku trub. Tato dodávka se oceňuje ve specifikaci._x000D_ 2. V cenách -0258 až -0274 nejsou obsaženy náklady na dodávku žlabů. Tato dodávka se oceňuje ve specifikaci._x000D_ 3. V cenách -0301 až -0353 nejsou obsaženy náklady na dodávku multikanálů. Tato dodávka se oceňuje ve specifikaci._x000D_ | AT104: PSC | AU104: 2
C105: 2 | D105: K | E105: 460560263 | F105: Zásyp kabelových rýh ručně s uložením výkopku ve vrstvách včetně zhutnění a urovnání povrchu šířky 50 cm hloubky 80 cm, v hornině třídy 3 | G105: m | H105: 732 | J105: =ROUND(I105*H105,2) -> 0 | K105: CS ÚRS 2019 01 | N105: základní | O105: 0.337 | P105: =O105*H105 -> 246.684 | Q105: 0 | R105: =Q105*H105 -> 0 | S105: 0 | T105: =S105*H105 -> 0 | AR105: 64 | AT105: K | AU105: 2 | AY105: ROZPOCET | BE105: =IF(N105="základní",J105,0) -> 0 | BF105: =IF(N105="snížená",J105,0) -> 0 | BG105: =IF(N105="zákl. přenesená",J105,0) -> 0 | BH105: =IF(N105="sníž. přenesená",J105,0) -> 0 | BI105: =IF(N105="nulová",J105,0) -> 0 | BJ105: 1 | BK105: =ROUND(I105*H105,2) -> 0 | BL105: 64 | BM105: -1456800102
C106: 5 | D106: M | E106: 34575152 | F106: žlab kabelový s víkem PVC (200x126) | G106: m | H106: 33 | J106: =ROUND(I106*H106,2) -> 0 | K106: CS ÚRS 2019 01 | N106: základní | O106: 0 | P106: =O106*H106 -> 0 | Q106: 0.0055 | R106: =Q106*H106 -> 0.1815 | S106: 0 | T106: =S106*H106 -> 0 | AR106: 256 | AT106: M | AU106: 2 | AY106: ROZPOCET | BE106: =IF(N106="základní",J106,0) -> 0 | BF106: =IF(N106="snížená",J106,0) -> 0 | BG106: =IF(N106="zákl. přenesená",J106,0) -> 0 | BH106: =IF(N106="sníž. přenesená",J106,0) -> 0 | BI106: =IF(N106="nulová",J106,0) -> 0 | BJ106: 1 | BK106: =ROUND(I106*H106,2) -> 0 | BL106: 64 | BM106: -336287801
C107: 4 | D107: K | E107: 460620013 | F107: Úprava terénu provizorní úprava terénu včetně odkopání drobných nerovností a zásypu prohlubní se zhutněním, v hornině třídy 3 | G107: m2 | H107: 732 | J107: =ROUND(I107*H107,2) -> 0 | K107: CS ÚRS 2019 01 | N107: základní | O107: 0.101 | P107: =O107*H107 -> 73.932 | Q107: 0 | R107: =Q107*H107 -> 0 | S107: 0 | T107: =S107*H107 -> 0 | AR107: 64 | AT107: K | AU107: 2 | AY107: ROZPOCET | BE107: =IF(N107="základní",J107,0) -> 0 | BF107: =IF(N107="snížená",J107,0) -> 0 | BG107: =IF(N107="zákl. přenesená",J107,0) -> 0 | BH107: =IF(N107="sníž. přenesená",J107,0) -> 0 | BI107: =IF(N107="nulová",J107,0) -> 0 | BJ107: 1 | BK107: =ROUND(I107*H107,2) -> 0 | BL107: 64 | BM107: 1650801368
D108: PSC | F108: Poznámka k souboru cen:_x000D_ 1. V cenách -0002 až -0003 nejsou zahrnuty dodávku drnů. Tato se oceňuje ve specifikaci._x000D_ 2. V cenách -0022 až -0028 nejsou zahrnuty náklady na dodávku obrubníků. Tato dodávka se oceňuje ve specifikaci._x000D_ | AT108: PSC | AU108: 2

Sheet PS 03-01-21.3 - VON + VRN
L2: >> skryté sloupce << | AT2: {d04610a2-fa27-474a-ab61-a20ac857c7ad}
AT3: 2
D4: KRYCÍ LIST SOUPISU PRACÍ | M4: v --- níže se nacházejí doplnkové a pomocné údaje k sestavám --- v | AT4: False
D6: Stavba:
E7: ='Rekapitulace PS'!K6 -> PD TSO úseku Blatno u Jesenice - Kaštice
D8: Objekt:
E9: PS 03-01-21.3 - VON + VRN
D11: KSO: | I11: CC-CZ:
D12: Místo: | I12: Datum: | J12: ='Rekapitulace PS'!AN8 -> 43661
D14: Zadavatel: | I14: IČ: | J14: =IF('Rekapitulace PS'!AN10="","",'Rekapitulace PS'!AN10)
E15: =IF('Rekapitulace PS'!E11="","",'Rekapitulace PS'!E11) | I15: DIČ: | J15: =IF('Rekapitulace PS'!AN11="","",'Rekapitulace PS'!AN11)
D17: Zhotovitel: | I17: IČ: | J17: ='Rekapitulace PS'!AN13
E18: ='Rekapitulace PS'!E14 | I18: DIČ: | J18: ='Rekapitulace PS'!AN14
D20: Projektant: | I20: IČ: | J20: =IF('Rekapitulace PS'!AN16="","",'Rekapitulace PS'!AN16)
E21: =IF('Rekapitulace PS'!E17="","",'Rekapitulace PS'!E17) | I21: DIČ: | J21: =IF('Rekapitulace PS'!AN17="","",'Rekapitulace PS'!AN17)
D23: Zpracovatel: | I23: IČ: | J23: =IF('Rekapitulace PS'!AN19="","",'Rekapitulace PS'!AN19)
E24: =IF('Rekapitulace PS'!E20="","",'Rekapitulace PS'!E20) | I24: DIČ: | J24: =IF('Rekapitulace PS'!AN20="","",'Rekapitulace PS'!AN20)
D26: Poznámka:
D30: Cena bez DPH | J30: =ROUND(J84, 2) -> 0
F32: Základ daně | I32: Sazba daně | J32: Výše daně
D33: DPH | E33: základní | F33: =ROUND((SUM(BE84:BE98)), 2) -> 0 | I33: 0.21 | J33: =ROUND(((SUM(BE84:BE98))*I33), 2) -> 0
E34: snížená | F34: =ROUND((SUM(BF84:BF98)), 2) -> 0 | I34: 0.15 | J34: =ROUND(((SUM(BF84:BF98))*I34), 2) -> 0
E35: zákl. přenesená | F35: =ROUND((SUM(BG84:BG98)), 2) -> 0 | I35: 0.21 | J35: =0 -> 0
E36: sníž. přenesená | F36: =ROUND((SUM(BH84:BH98)), 2) -> 0 | I36: 0.15 | J36: =0 -> 0
E37: nulová | F37: =ROUND((SUM(BI84:BI98)), 2) -> 0 | I37: 0 | J37: =0 -> 0
D39: Cena s DPH | G39: v | H39: CZK | J39: =SUM(J30:J37) -> 0
C45: REKAPITULACE ČLENĚNÍ SOUPISU PRACÍ
C47: Stavba:
E48: =E7 -> PD TSO úseku Blatno u Jesenice - Kaštice
C49: Objekt:
E50: =E9 -> PS 03-01-21.3 - VON + VRN
C52: Místo: | F52: =F12 | I52: Datum: | J52: =IF(J12="","",J12) -> 43661
C54: Zadavatel: | F54: =E15 | I54: Projektant: | J54: =E21
C55: Zhotovitel: | F55: =IF(E18="","",E18) | I55: Zpracovatel: | J55: =E24
C57: Kód dílu - Popis | J57: Cena celkem [CZK]
C59: Náklady stavby celkem | J59: =J84 -> 0 | AU59: -1
D60: VRN - Vedlejší rozpočtové náklady | J60: =J85 -> 0
D61: VRN1 - Průzkumné, geodetické a projektové práce | J61: =J90 -> 0
D62: VRN4 - Inženýrská činnost | J62: =J93 -> 0
D63: VRN6 - Územní vlivy | J63: =J95 -> 0
D64: VRN8 - Přesun stavebních kapacit | J64: =J97 -> 0
C71: SOUPIS PRACÍ
C73: Stavba:
E74: =E7 -> PD TSO úseku Blatno u Jesenice - Kaštice
C75: Objekt:
E76: =E9 -> PS 03-01-21.3 - VON + VRN
C78: Místo: | F78: =F12 | I78: Datum: | J78: =IF(J12="","",J12) -> 43661
C80: Zadavatel: | F80: =E15 | I80: Projektant: | J80: =E21
C81: Zhotovitel: | F81: =IF(E18="","",E18) | I81: Zpracovatel: | J81: =E24
C83: PČ | D83: Typ | E83: Kód | F83: Popis | G83: MJ | H83: Množství | I83: J.cena [CZK] | J83: Cena celkem [CZK] | K83: Cenová soustava | N83: DPH | O83: J. Nh [h] | P83: Nh celkem [h] | Q83: J. hmotnost [t] | R83: Hmotnost celkem [t] | S83: J. suť [t] | T83: Suť Celkem [t]
C84: Náklady soupisu celkem | J84: =BK84 -> 0 | P84: =P85 -> 0 | R84: =R85 -> 0 | T84: =T85 -> 0 | AT84: D | AU84: -1 | BK84: =BK85 -> 0
D85: D | E85: VRN | F85: Vedlejší rozpočtové náklady | J85: =BK85 -> 0 | P85: =P86+SUM(P87:P90)+P93+P95+P97 -> 0 | R85: =R86+SUM(R87:R90)+R93+R95+R97 -> 0 | T85: =T86+SUM(T87:T90)+T93+T95+T97 -> 0 | AR85: 5 | AT85: D | AU85: 0 | AY85: ROZPOCET | BK85: =BK86+SUM(BK87:BK90)+BK93+BK95+BK97 -> 0
C86: 1 | D86: K | E86: 023101001 | F86: Projektové práce Projektové práce v rozsahu ZRN (vyjma dále jmenované práce) do 1 mil. Kč | G86: % | H86: 8.6 | J86: =ROUND(I86*H86,2) -> 0 | K86: Sborník UOŽI 01 2019 | N86: základní | O86: 0 | P86: =O86*H86 -> 0 | Q86: 0 | R86: =Q86*H86 -> 0 | S86: 0 | T86: =S86*H86 -> 0 | AR86: 4 | AT86: K | AU86: 1 | AY86: ROZPOCET | BE86: =IF(N86="základní",J86,0) -> 0 | BF86: =IF(N86="snížená",J86,0) -> 0 | BG86: =IF(N86="zákl. přenesená",J86,0) -> 0 | BH86: =IF(N86="sníž. přenesená",J86,0) -> 0 | BI86: =IF(N86="nulová",J86,0) -> 0 | BJ86: 1 | BK86: =ROUND(I86*H86,2) -> 0 | BL86: 4 | BM86: -1988941740
C87: 2 | D87: K | E87: 032101001 | F87: Územní vlivy klimatické vlivy (vyjma mrazu pod -10°C) | G87: % | H87: 1 | J87: =ROUND(I87*H87,2) -> 0 | K87: Sborník UOŽI 01 2019 | N87: základní | O87: 0 | P87: =O87*H87 -> 0 | Q87: 0 | R87: =Q87*H87 -> 0 | S87: 0 | T87: =S87*H87 -> 0 | AR87: 4 | AT87: K | AU87: 1 | AY87: ROZPOCET | BE87: =IF(N87="základní",J87,0) -> 0 | BF87: =IF(N87="snížená",J87,0) -> 0 | BG87: =IF(N87="zákl. přenesená",J87,0) -> 0 | BH87: =IF(N87="sníž. přenesená",J87,0) -> 0 | BI87: =IF(N87="nulová",J87,0) -> 0 | BJ87: 1 | BK87: =ROUND(I87*H87,2) -> 0 | BL87: 4 | BM87: -2031181629
C88: 3 | D88: K | E88: 032105001 | F88: Územní vlivy mimostaveništní doprava | G88: Kč | H88: 1 | J88: =ROUND(I88*H88,2) -> 0 | K88: Sborník UOŽI 01 2019 | N88: základní | O88: 0 | P88: =O88*H88 -> 0 | Q88: 0 | R88: =Q88*H88 -> 0 | S88: 0 | T88: =S88*H88 -> 0 | AR88: 4 | AT88: K | AU88: 1 | AY88: ROZPOCET | BE88: =IF(N88="základní",J88,0) -> 0 | BF88: =IF(N88="snížená",J88,0) -> 0 | BG88: =IF(N88="zákl. přenesená",J88,0) -> 0 | BH88: =IF(N88="sníž. přenesená",J88,0) -> 0 | BI88: =IF(N88="nulová",J88,0) -> 0 | BJ88: 1 | BK88: =ROUND(I88*H88,2) -> 0 | BL88: 4 | BM88: -504407544
C89: 4 | D89: K | E89: 033121001 | F89: Provozní vlivy Rušení prací železničním provozem širá trať nebo dopravny s kolejovým rozvětvením s počtem vlaků za směnu 8,5 hod. do 25 | G89: % | H89: 5 | J89: =ROUND(I89*H89,2) -> 0 | K89: Sborník UOŽI 01 2019 | N89: základní | O89: 0 | P89: =O89*H89 -> 0 | Q89: 0 | R89: =Q89*H89 -> 0 | S89: 0 | T89: =S89*H89 -> 0 | AR89: 4 | AT89: K | AU89: 1 | AY89: ROZPOCET | BE89: =IF(N89="základní",J89,0) -> 0 | BF89: =IF(N89="snížená",J89,0) -> 0 | BG89: =IF(N89="zákl. přenesená",J89,0) -> 0 | BH89: =IF(N89="sníž. přenesená",J89,0) -> 0 | BI89: =IF(N89="nulová",J89,0) -> 0 | BJ89: 1 | BK89: =ROUND(I89*H89,2) -> 0 | BL89: 4 | BM89: 745988451
D90: D | E90: VRN1 | F90: Průzkumné, geodetické a projektové práce | J90: =BK90 -> 0 | P90: =SUM(P91:P92) -> 0 | R90: =SUM(R91:R92) -> 0 | T90: =SUM(T91:T92) -> 0 | AR90: 5 | AT90: D | AU90: 1 | AY90: ROZPOCET | BK90: =SUM(BK91:BK92) -> 0
C91: 5 | D91: K | E91: 012002000 | F91: Geodetické práce | G91: soubor | H91: 1 | J91: =ROUND(I91*H91,2) -> 0 | K91: CS ÚRS 2019 01 | N91: základní | O91: 0 | P91: =O91*H91 -> 0 | Q91: 0 | R91: =Q91*H91 -> 0 | S91: 0 | T91: =S91*H91 -> 0 | AR91: 1024 | AT91: K | AU91: 2 | AY91: ROZPOCET | BE91: =IF(N91="základní",J91,0) -> 0 | BF91: =IF(N91="snížená",J91,0) -> 0 | BG91: =IF(N91="zákl. přenesená",J91,0) -> 0 | BH91: =IF(N91="sníž. přenesená",J91,0) -> 0 | BI91: =IF(N91="nulová",J91,0) -> 0 | BJ91: 1 | BK91: =ROUND(I91*H91,2) -> 0 | BL91: 1024 | BM91: 1435682793
C92: 10 | D92: K | E92: 013002000 | F92: Projektové práce | G92: soubor | H92: 1 | J92: =ROUND(I92*H92,2) -> 0 | K92: CS ÚRS 2019 01 | N92: základní | O92: 0 | P92: =O92*H92 -> 0 | Q92: 0 | R92: =Q92*H92 -> 0 | S92: 0 | T92: =S92*H92 -> 0 | AR92: 1024 | AT92: K | AU92: 2 | AY92: ROZPOCET | BE92: =IF(N92="základní",J92,0) -> 0 | BF92: =IF(N92="snížená",J92,0) -> 0 | BG92: =IF(N92="zákl. přenesená",J92,0) -> 0 | BH92: =IF(N92="sníž. přenesená",J92,0) -> 0 | BI92: =IF(N92="nulová",J92,0) -> 0 | BJ92: 1 | BK92: =ROUND(I92*H92,2) -> 0 | BL92: 1024 | BM92: 255599354
D93: D | E93: VRN4 | F93: Inženýrská činnost | J93: =BK93 -> 0 | P93: =P94 -> 0 | R93: =R94 -> 0 | T93: =T94 -> 0 | AR93: 5 | AT93: D | AU93: 1 | AY93: ROZPOCET | BK93: =BK94 -> 0
C94: 7 | D94: K | E94: 045002000 | F94: Kompletační a koordinační činnost | G94: soubor | H94: 1 | J94: =ROUND(I94*H94,2) -> 0 | K94: CS ÚRS 2019 01 | N94: základní | O94: 0 | P94: =O94*H94 -> 0 | Q94: 0 | R94: =Q94*H94 -> 0 | S94: 0 | T94: =S94*H94 -> 0 | AR94: 1024 | AT94: K | AU94: 2 | AY94: ROZPOCET | BE94: =IF(N94="základní",J94,0) -> 0 | BF94: =IF(N94="snížená",J94,0) -> 0 | BG94: =IF(N94="zákl. přenesená",J94,0) -> 0 | BH94: =IF(N94="sníž. přenesená",J94,0) -> 0 | BI94: =IF(N94="nulová",J94,0) -> 0 | BJ94: 1 | BK94: =ROUND(I94*H94,2) -> 0 | BL94: 1024 | BM94: 48093198
D95: D | E95: VRN6 | F95: Územní vlivy | J95: =BK95 -> 0 | P95: =P96 -> 0 | R95: =R96 -> 0 | T95: =T96 -> 0 | AR95: 5 | AT95: D | AU95: 1 | AY95: ROZPOCET | BK95: =BK96 -> 0
C96: 8 | D96: K | E96: 065002000 | F96: Mimostaveništní doprava materiálů | G96: soubor | H96: 1 | J96: =ROUND(I96*H96,2) -> 0 | K96: CS ÚRS 2019 01 | N96: základní | O96: 0 | P96: =O96*H96 -> 0 | Q96: 0 | R96: =Q96*H96 -> 0 | S96: 0 | T96: =S96*H96 -> 0 | AR96: 1024 | AT96: K | AU96: 2 | AY96: ROZPOCET | BE96: =IF(N96="základní",J96,0) -> 0 | BF96: =IF(N96="snížená",J96,0) -> 0 | BG96: =IF(N96="zákl. přenesená",J96,0) -> 0 | BH96: =IF(N96="sníž. přenesená",J96,0) -> 0 | BI96: =IF(N96="nulová",J96,0) -> 0 | BJ96: 1 | BK96: =ROUND(I96*H96,2) -> 0 | BL96: 1024 | BM96: 997553315
D97: D | E97: VRN8 | F97: Přesun stavebních kapacit | J97: =BK97 -> 0 | P97: =P98 -> 0 | R97: =R98 -> 0 | T97: =T98 -> 0 | AR97: 5 | AT97: D | AU97: 1 | AY97: ROZPOCET | BK97: =BK98 -> 0
C98: 9 | D98: K | E98: 081002000 | F98: Doprava zaměstnanců | G98: soubor | H98: 1 | J98: =ROUND(I98*H98,2) -> 0 | K98: CS ÚRS 2019 01 | N98: základní | O98: 0 | P98: =O98*H98 -> 0 | Q98: 0 | R98: =Q98*H98 -> 0 | S98: 0 | T98: =S98*H98 -> 0 | AR98: 1024 | AT98: K | AU98: 2 | AY98: ROZPOCET | BE98: =IF(N98="základní",J98,0) -> 0 | BF98: =IF(N98="snížená",J98,0) -> 0 | BG98: =IF(N98="zákl. přenesená",J98,0) -> 0 | BH98: =IF(N98="sníž. přenesená",J98,0) -> 0 | BI98: =IF(N98="nulová",J98,0) -> 0 | BJ98: 1 | BK98: =ROUND(I98*H98,2) -> 0 | BL98: 1024 | BM98: 1474284570

Sheet Pokyny pro vyplnění
C3: Struktura údajů, formát souboru a metodika pro zpracování
C4: Struktura
C6: Soubor je složen ze záložky Rekapitulace stavby a záložek s názvem soupisu prací pro jednotlivé objekty ve formátu XLSX. Každá ze záložek přitom obsahuje
C7: ještě samostatné sestavy vymezené orámovaním a nadpisem sestavy.
C9: Rekapitulace stavby obsahuje sestavu Rekapitulace stavby a Rekapitulace objektů stavby a soupisů prací.
D10: V sestavě Rekapitulace stavby jsou uvedeny informace identifikující předmět veřejné zakázky na stavební práce, KSO, CC-CZ, CZ-CPV, CZ-CPA a rekapitulaci
D11: celkové nabídkové ceny uchazeče.
D13: Termínem "uchazeč" (resp. zhotovitel) se myslí "účastník zadávacího řízení" ve smyslu zákona o zadávání veřejných zakázek.
D15: V sestavě Rekapitulace objektů stavby a soupisů prací je uvedena rekapitulace stavebních objektů, inženýrských objektů, provozních souborů,
D16: vedlejších a ostatních nákladů a ostatních nákladů s rekapitulací nabídkové ceny za jednotlivé soupisy prací. Na základě údaje Typ je možné
D17: identifikovat, zda se jedná o objekt nebo soupis prací pro daný objekt:
E18: STA | F18: Stavební objekt pozemní
E19: ING | F19: Stavební objekt inženýrský
E20: PRO | F20: Provozní soubor
E21: VON | F21: Vedlejší a ostatní náklady
E22: OST | F22: Ostatní
E23: Soupis | F23: Soupis prací pro daný typ objektu
C25: Soupis prací pro jednotlivé objekty obsahuje sestavy Krycí list soupisu prací, Rekapitulace členění soupisu prací, Soupis prací. Za soupis prací může být považován
C26: i objekt stavby v případě, že neobsahuje podřízenou zakázku.
D27: Krycí list soupisu obsahuje rekapitulaci informací o předmětu veřejné zakázky ze sestavy Rekapitulace stavby, informaci o zařazení objektu do KSO,
D28: CC-CZ, CZ-CPV, CZ-CPA a rekapitulaci celkové nabídkové ceny uchazeče za aktuální soupis prací.
D30: Rekapitulace členění soupisu prací obsahuje rekapitulaci soupisu prací ve všech úrovních členění soupisu tak, jak byla tato členění použita (např.
D31: stavební díly, funkční díly, případně jiné členění) s rekapitulací nabídkové ceny.
D33: Soupis prací obsahuje položky veškerých stavebních nebo montážních prací, dodávek materiálů a služeb nezbytných pro zhotovení stavebního objektu,
D34: inženýrského objektu, provozního souboru, vedlejších a ostatních nákladů.
D35: Pro položky soupisu prací se zobrazují následující informace:
E36: PČ | G36: Pořadové číslo položky v aktuálním soupisu
E37: TYP | G37: Typ položky: K - konstrukce, M - materiál, PP - plný popis, PSC - poznámka k souboru cen, P - poznámka k položce, VV - výkaz výměr
E38: Kód | G38: Kód položky
E39: Popis | G39: Zkrácený popis položky
E40: MJ | G40: Měrná jednotka položky
E41: Množství | G41: Množství v měrné jednotce
E42: J.cena | G42: Jednotková cena položky. Zadaní může obsahovat namísto J.ceny sloupce J.materiál a J.montáž, jejichž součet definuje
G43: J.cenu položky.
E44: Cena celkem | G44: Celková cena položky daná jako součin množství a j.ceny
E45: Cenová soustava | G45: Příslušnost položky do cenové soustavy
D47: Ke každé položce soupisu prací se na samostatných řádcích může zobrazovat:
E48: Plný popis položky
E49: Poznámka k souboru cen a poznámka zadavatele
E50: Výkaz výměr
D51: Pokud je k řádku výkazu výměr evidovaný údaj ve sloupci Kód, jedná se o definovaný odkaz, na který se může odvolávat výkaz výměr z jiné položky.
C52: Metodika pro zpracování
C54: Jednotlivé sestavy jsou v souboru provázány. Editovatelné pole jsou zvýrazněny žlutým podbarvením, ostatní pole neslouží k editaci a nesmí být jakkoliv
C55: modifikovány.
C57: Uchazeč je pro podání nabídky povinen vyplnit žlutě podbarvená pole:
D58: Pole Uchazeč v sestavě Rekapitulace stavby - zde uchazeč vyplní svůj název (název subjektu)
D59: Pole IČ a DIČ v sestavě Rekapitulace stavby - zde uchazeč vyplní svoje IČ a DIČ
D60: Datum v sestavě Rekapitulace stavby - zde uchazeč vyplní datum vytvoření nabídky
D61: J.cena = jednotková cena v sestavě Soupis prací o maximálním počtu desetinných míst uvedených v poli
D62: - pokud sestavy soupisů prací obsahují pole J.cena, měla by být všechna tato pole vyplněna nenulovými
D63: Poznámka - nepovinný údaj pro položku soupisu
D65: V případě, že sestavy soupisů prací neobsahují pole J.cena, potom ve všech soupisech prací obsahují pole:
D66: - J.materiál - jednotková cena materiálu
D67: - J.montáž - jednotková cena montáže
D68: Uchazeč v tomto případě by měl vyplnit všechna pole J.materiál a pole J.montáž nenulovými kladnými číslicemi. V případech, kdy položka
D69: neobsahuje žádný materiál je přípustné, aby pole J.materiál bylo vyplněno nulou. V případech, kdy položka neobsahuje žádnou montáž je přípustné,
D70: aby pole J.montáž bylo vyplněno nulou. Obě pole - J.materiál, J.Montáž u jedné položky by však neměly být vyplněny nulou.
C75: Rekapitulace stavby
C76: Název | F76: Povinný | H76: Popis | I76: Typ | J76: Max. počet
C77: atributu | F77: (A/N) | J77: znaků
C79: Kód | F79: A | H79: Kód stavby | I79: String | J79: 20
C80: Stavba | F80: A | H80: Název stavby | I80: String | J80: 120
C81: Místo | F81: N | H81: Místo stavby | I81: String | J81: 50
C82: Datum | F82: A | H82: Datum vykonaného exportu | I82: Date
C83: KSO | F83: N | H83: Klasifikace stavebního objektu | I83: String | J83: 15
C84: CC-CZ | F84: N | H84: Klasifikace stavbeních děl | I84: String | J84: 15
C85: CZ-CPV | F85: N | H85: Společný slovník pro veřejné zakázky | I85: String | J85: 20
C86: CZ-CPA | F86: N | H86: Klasifikace produkce podle činností | I86: String | J86: 20
C87: Zadavatel | F87: N | H87: Zadavatel zadaní | I87: String | J87: 50
C88: IČ | F88: N | H88: IČ zadavatele zadaní | I88: String | J88: 20
C89: DIČ | F89: N | H89: DIČ zadavatele zadaní | I89: String | J89: 20
C90: Uchazeč | F90: N | H90: Uchazeč veřejné zakázky | I90: String | J90: 50
C91: Projektant | F91: N | H91: Projektant | I91: String | J91: 50
C92: Poznámka | F92: N | H92: Poznámka k zadání | I92: String | J92: 255
C93: Sazba DPH | F93: A | H93: Rekapitulace sazeb DPH u položek soupisů | I93: eGSazbaDph
C94: Základna DPH | F94: A | H94: Základna DPH určena součtem celkové ceny z položek soupisů | I94: Double
C95: Hodnota DPH | F95: A | H95: Hodnota DPH | I95: Double
C96: Cena bez DPH | F96: A | H96: Celková cena bez DPH za celou stavbu. Sčítává se ze všech listů. | I96: Double
C97: Cena s DPH | F97: A | H97: Celková cena s DPH za celou stavbu | I97: Double
C102: Rekapitulace objektů stavby a soupisů prací
C103: Název | F103: Povinný | H103: Popis | I103: Typ | J103: Max. počet
C104: atributu | F104: (A/N) | J104: znaků
C106: Kód | F106: A | H106: Přebírá se z Rekapitulace stavby | I106: String | J106: 20
C107: Stavba | F107: A | H107: Přebírá se z Rekapitulace stavby | I107: String | J107: 120
C108: Místo | F108: N | H108: Přebírá se z Rekapitulace stavby | I108: String | J108: 50
C109: Datum | F109: A | H109: Přebírá se z Rekapitulace stavby | I109: Date
C110: Zadavatel | F110: N | H110: Přebírá se z Rekapitulace stavby | I110: String | J110: 50
C111: Projektant | F111: N | H111: Přebírá se z Rekapitulace stavby | I111: String | J111: 50
C112: Uchazeč | F112: N | H112: Přebírá se z Rekapitulace stavby | I112: String | J112: 50
C113: Kód | F113: A | H113: Kód objektu | I113: String | J113: 20
C114: Objektu, Soupis prací | F114: A | H114: Název objektu | I114: String | J114: 120
C115: Cena bez DPH | F115: A | H115: Cena bez DPH za daný objekt | I115: Double
C116: Cena s DPH | F116: A | H116: Cena spolu s DPH za daný objekt | I116: Double
C117: Typ | F117: A | H117: Typ zakázky | I117: eGTypZakazky
C122: Krycí list soupisu
C123: Název | F123: Povinný | H123: Popis | I123: Typ | J123: Max. počet
C124: atributu | F124: (A/N) | J124: znaků
C126: Stavba | F126: A | H126: Přebírá se z Rekapitulace stavby | I126: String | J126: 120
C127: Objekt | F127: A | H127: Kód a název objektu | I127: String | J127: 20 + 120
C128: Soupis | F128: A | H128: Kód a název soupisu | I128: String | J128: 20 + 120
...
