Workbook

Sheet Rekapitulace stavby
A1: Export Komplet | BA1: 2.0 | BT1: False | BU1: False | BV1: {bfdacc35-1c3a-4b3a-963a-74ed18961b7f}
AR2: >> skryté sloupce << | BS2: 0,01 | BT2: 21
BS3: 0,01 | BT3: 15
D4: REKAPITULACE STAVBY | AS4: v --- níže se nacházejí doplnkové a pomocné údaje k sestavám --- v | BE4: Návod na vyplnění | BS4: 0,001
D5: Kód: | K5: 2019_I3 | BE5: Měnit lze pouze buňky se žlutým podbarvením!_x000D_ _x000D_ 1) na prvním listu Rekapitulace stavby vyplňte v sestavě_x000D_ _x000D_ a) Souhrnný list_x000D_ - údaje o Zhotoviteli_x000D_ (přenesou se do ostatních sestav i v jiných listech)_x000D_ _x000D_ b) Rekapitulace objektů_x000D_ - potřebné Ostatní náklady_x000D_ _x000D_ 2) na vybraných listech vyplňte v sestavě_x000D_ _x000D_ a) Krycí list_x000D_ - údaje o Zhotoviteli, pokud se liší od údajů o Zhotoviteli na Souhrnném listu_x000D_ (údaje se přenesou do ostatních sestav v daném listu)_x000D_ _x000D_ b) Rekapitulace rozpočtu_x000D_ - potřebné Ostatní náklady_x000D_ _x000D_ c) Celkové náklady za stavbu_x000D_ - ceny u položek_x000D_ - množství, pokud má žluté podbarvení_x000D_ - a v případě potřeby poznámku (ta je ve skrytém sloupci) | BS5: 0,01
D6: Stavba: | K6: Oprava propustků v km 24,666, 25,142, 25,589 a 25,786 na trati Vsetín - Velké Karlovice | BS6: 0,01
D7: KSO: | AK7: CC-CZ: | BS7: 0,01
D8: Místo: | AK8: Datum: | AN8: 3. 4. 2019 | BS8: 0,01
BS9: 0,01
D10: Zadavatel: | AK10: IČ: | BS10: 0,01
AK11: DIČ: | BS11: 0,01
BS12: 0,01
D13: Uchazeč: | AK13: IČ: | AN13: Vyplň údaj | BS13: 0,01
E14: Vyplň údaj | AK14: DIČ: | AN14: Vyplň údaj | BS14: 0,01
BS15: False
D16: Projektant: | AK16: IČ: | BS16: False
AK17: DIČ: | BS17: True
BS18: 0,01
D19: Zpracovatel: | AK19: IČ: | BS19: 0,01
AK20: DIČ: | BS20: True
D22: Poznámka:
D26: Cena bez DPH | AK26: =ROUND(AG54,2) -> 0
L28: Sazba daně | W28: Základ daně | AK28: Výše daně
D29: DPH | F29: základní | L29: 0.21 | W29: =ROUND(AZ54, 2) -> 0 | AK29: =ROUND(AV54, 2) -> 0
F30: snížená | L30: 0.15 | W30: =ROUND(BA54, 2) -> 0 | AK30: =ROUND(AW54, 2) -> 0
F31: zákl. přenesená | L31: 0.21 | W31: =ROUND(BB54, 2) -> 0 | AK31: 0
F32: sníž. přenesená | L32: 0.15 | W32: =ROUND(BC54, 2) -> 0 | AK32: 0
F33: nulová | L33: 0 | W33: =ROUND(BD54, 2) -> 0 | AK33: 0
D35: Cena s DPH | T35: v | X35: CZK | AK35: =SUM(AK26:AK33) -> 0
C42: REKAPITULACE OBJEKTŮ STAVBY A SOUPISŮ PRACÍ
C44: Kód: | L44: =K5 -> 2019_I3
C45: Stavba: | L45: =K6 -> Oprava propustků v km 24,666, 25,142, 25,589 a 25,786 na trati Vsetín - Velké Karlovice
C47: Místo: | L47: =IF(K8="","",K8) | AI47: Datum: | AM47: =IF(AN8= "","",AN8) -> 3. 4. 2019
C49: Zadavatel: | L49: =IF(E11= "","",E11) | AI49: Projektant: | AM49: =IF(E17="","",E17) | AS49: Informatívní údaje z listů zakázek
C50: Uchazeč: | L50: =IF(E14= "Vyplň údaj","",E14) | AI50: Zpracovatel: | AM50: =IF(E20="","",E20)
C52: Kód | I52: Popis | AG52: Cena bez DPH [CZK] | AN52: Cena s DPH [CZK] | AQ52: Typ | AS52: z toho Ostat._x000D_ náklady [CZK] | AT52: DPH [CZK] | AU52: Normohodiny [h] | AV52: DPH základní [CZK] | AW52: DPH snížená [CZK] | AX52: DPH základní přenesená_x000D_ [CZK] | AY52: DPH snížená přenesená_x000D_ [CZK] | AZ52: Základna_x000D_ DPH základní | BA52: Základna_x000D_ DPH snížená | BB52: Základna_x000D_ DPH zákl. přenesená | BC52: Základna_x000D_ DPH sníž. přenesená | BD52: Základna_x000D_ DPH nulová
C54: Náklady z rozpočtů | AG54: =ROUND(AG55+AG58+AG61+AG64,2) -> 0 | AN54: =SUM(AG54,AT54) -> 0 | AS54: =ROUND(AS55+AS58+AS61+AS64,2) -> 0 | AT54: =ROUND(SUM(AV54:AW54),2) -> 0 | AU54: =ROUND(AU55+AU58+AU61+AU64,5) -> 0 | AV54: =ROUND(AZ54*L29,2) -> 0 | AW54: =ROUND(BA54*L30,2) -> 0 | AX54: =ROUND(BB54*L29,2) -> 0 | AY54: =ROUND(BC54*L30,2) -> 0 | AZ54: =ROUND(AZ55+AZ58+AZ61+AZ64,2) -> 0 | BA54: =ROUND(BA55+BA58+BA61+BA64,2) -> 0 | BB54: =ROUND(BB55+BB58+BB61+BB64,2) -> 0 | BC54: =ROUND(BC55+BC58+BC61+BC64,2) -> 0 | BD54: =ROUND(BD55+BD58+BD61+BD64,2) -> 0 | BS54: D | BT54: 0 | BU54: ###NOIMPORT### | BV54: IMPORT | BW54: {bfdacc35-1c3a-4b3a-963a-74ed18961b7f} | BX54: {00000000-0000-0000-0000-000000000000}
D55: SO 01 | J55: Propustek v km 24,666 | AG55: =ROUND(SUM(AG56:AG57),2) -> 0 | AN55: =SUM(AG55,AT55) -> 0 | AQ55: ING | AS55: =ROUND(SUM(AS56:AS57),2) -> 0 | AT55: =ROUND(SUM(AV55:AW55),2) -> 0 | AU55: =ROUND(SUM(AU56:AU57),5) -> 0 | AV55: =ROUND(AZ55*L29,2) -> 0 | AW55: =ROUND(BA55*L30,2) -> 0 | AX55: =ROUND(BB55*L29,2) -> 0 | AY55: =ROUND(BC55*L30,2) -> 0 | AZ55: =ROUND(SUM(AZ56:AZ57),2) -> 0 | BA55: =ROUND(SUM(BA56:BA57),2) -> 0 | BB55: =ROUND(SUM(BB56:BB57),2) -> 0 | BC55: =ROUND(SUM(BC56:BC57),2) -> 0 | BD55: =ROUND(SUM(BD56:BD57),2) -> 0 | BS55: D | BT55: 1 | BU55: ###NOIMPORT### | BV55: IMPORT | BW55: {bd01eb42-08c0-4db0-939c-0b41f0118166} | BX55: {bfdacc35-1c3a-4b3a-963a-74ed18961b7f} | CM55: 2
A56: / | E56: SO 01.1 | K56: Oprava propustku - km 24,666 | AG56: ='SO 01.1 - Oprava propustk...'!J32 -> 0 | AN56: =SUM(AG56,AT56) -> 0 | AQ56: Soupis | AS56: 0 | AT56: =ROUND(SUM(AV56:AW56),2) -> 0 | AU56: ='SO 01.1 - Oprava propustk...'!P99 -> 0 | AV56: ='SO 01.1 - Oprava propustk...'!J35 -> 0 | AW56: ='SO 01.1 - Oprava propustk...'!J36 -> 0 | AX56: ='SO 01.1 - Oprava propustk...'!J37 -> 0 | AY56: ='SO 01.1 - Oprava propustk...'!J38 -> 0 | AZ56: ='SO 01.1 - Oprava propustk...'!F35 -> 0 | BA56: ='SO 01.1 - Oprava propustk...'!F36 -> 0 | BB56: ='SO 01.1 - Oprava propustk...'!F37 -> 0 | BC56: ='SO 01.1 - Oprava propustk...'!F38 -> 0 | BD56: ='SO 01.1 - Oprava propustk...'!F39 -> 0 | BT56: 2 | BV56: IMPORT | BW56: {b2203765-45e8-44e8-aad3-8488aecb4f7e} | BX56: {bd01eb42-08c0-4db0-939c-0b41f0118166}
A57: / | E57: SO 01.2 | K57: Železniční svršek - km 24,666 | AG57: ='SO 01.2 - Železniční svrš...'!J32 -> 0 | AN57: =SUM(AG57,AT57) -> 0 | AQ57: Soupis | AS57: 0 | AT57: =ROUND(SUM(AV57:AW57),2) -> 0 | AU57: ='SO 01.2 - Železniční svrš...'!P89 -> 0 | AV57: ='SO 01.2 - Železniční svrš...'!J35 -> 0 | AW57: ='SO 01.2 - Železniční svrš...'!J36 -> 0 | AX57: ='SO 01.2 - Železniční svrš...'!J37 -> 0 | AY57: ='SO 01.2 - Železniční svrš...'!J38 -> 0 | AZ57: ='SO 01.2 - Železniční svrš...'!F35 -> 0 | BA57: ='SO 01.2 - Železniční svrš...'!F36 -> 0 | BB57: ='SO 01.2 - Železniční svrš...'!F37 -> 0 | BC57: ='SO 01.2 - Železniční svrš...'!F38 -> 0 | BD57: ='SO 01.2 - Železniční svrš...'!F39 -> 0 | BT57: 2 | BV57: IMPORT | BW57: {284f8085-8b09-475b-a92b-7c6dfe53a080} | BX57: {bd01eb42-08c0-4db0-939c-0b41f0118166}
...

Sheet SO 01.1 - Oprava propustk...
L2: >> skryté sloupce << | AT2: {b2203765-45e8-44e8-aad3-8488aecb4f7e}
AT3: 2
D4: KRYCÍ LIST SOUPISU PRACÍ | M4: v --- níže se nacházejí doplnkové a pomocné údaje k sestavám --- v | AT4: False
D6: Stavba:
E7: ='Rekapitulace stavby'!K6 -> Oprava propustků v km 24,666, 25,142, 25,589 a 25,786 na trati Vsetín - Velké Karlovice
D8: Objekt:
E9: SO 01 - Propustek v km 24,666
D10: Soupis:
E11: SO 01.1 - Oprava propustku - km 24,666
D13: KSO: | I13: CC-CZ:
D14: Místo: | I14: Datum: | J14: ='Rekapitulace stavby'!AN8 -> 3. 4. 2019
D16: Zadavatel: | I16: IČ: | J16: =IF('Rekapitulace stavby'!AN10="","",'Rekapitulace stavby'!AN10)
E17: =IF('Rekapitulace stavby'!E11="","",'Rekapitulace stavby'!E11) | I17: DIČ: | J17: =IF('Rekapitulace stavby'!AN11="","",'Rekapitulace stavby'!AN11)
D19: Uchazeč: | I19: IČ: | J19: ='Rekapitulace stavby'!AN13 -> Vyplň údaj
E20: ='Rekapitulace stavby'!E14 -> Vyplň údaj | I20: DIČ: | J20: ='Rekapitulace stavby'!AN14 -> Vyplň údaj
D22: Projektant: | I22: IČ: | J22: =IF('Rekapitulace stavby'!AN16="","",'Rekapitulace stavby'!AN16)
E23: =IF('Rekapitulace stavby'!E17="","",'Rekapitulace stavby'!E17) | I23: DIČ: | J23: =IF('Rekapitulace stavby'!AN17="","",'Rekapitulace stavby'!AN17)
D25: Zpracovatel: | I25: IČ: | J25: =IF('Rekapitulace stavby'!AN19="","",'Rekapitulace stavby'!AN19)
E26: =IF('Rekapitulace stavby'!E20="","",'Rekapitulace stavby'!E20) | I26: DIČ: | J26: =IF('Rekapitulace stavby'!AN20="","",'Rekapitulace stavby'!AN20)
D28: Poznámka:
D32: Cena bez DPH | J32: =ROUND(J99, 2) -> 0
F34: Základ daně | I34: Sazba daně | J34: Výše daně
D35: DPH | E35: základní | F35: =ROUND((SUM(BE99:BE164)), 2) -> 0 | I35: 0.21 | J35: =ROUND(((SUM(BE99:BE164))*I35), 2) -> 0
E36: snížená | F36: =ROUND((SUM(BF99:BF164)), 2) -> 0 | I36: 0.15 | J36: =ROUND(((SUM(BF99:BF164))*I36), 2) -> 0
E37: zákl. přenesená | F37: =ROUND((SUM(BG99:BG164)), 2) -> 0 | I37: 0.21 | J37: =0 -> 0
E38: sníž. přenesená | F38: =ROUND((SUM(BH99:BH164)), 2) -> 0 | I38: 0.15 | J38: =0 -> 0
E39: nulová | F39: =ROUND((SUM(BI99:BI164)), 2) -> 0 | I39: 0 | J39: =0 -> 0
D41: Cena s DPH | G41: v | H41: CZK | J41: =SUM(J32:J39) -> 0
C47: REKAPITULACE ČLENĚNÍ SOUPISU PRACÍ
C49: Stavba:
E50: =E7 -> Oprava propustků v km 24,666, 25,142, 25,589 a 25,786 na trati Vsetín - Velké Karlovice
C51: Objekt:
E52: SO 01 - Propustek v km 24,666
C53: Soupis:
E54: =E11 -> SO 01.1 - Oprava propustku - km 24,666
C56: Místo: | F56: =F14 | I56: Datum: | J56: =IF(J14="","",J14) -> 3. 4. 2019
C58: Zadavatel: | F58: =E17 | I58: Projektant: | J58: =E23
C59: Uchazeč: | F59: =IF(E20="","",E20) -> Vyplň údaj | I59: Zpracovatel: | J59: =E26
C61: Kód dílu - Popis | J61: Cena celkem [CZK]
C63: Náklady ze soupisu prací | J63: =J99 -> 0 | AU63: -1
...

Sheet SO 01.2 - Železniční svrš...
L2: >> skryté sloupce << | AT2: {284f8085-8b09-475b-a92b-7c6dfe53a080}
AT3: 2
D4: KRYCÍ LIST SOUPISU PRACÍ | M4: v --- níže se nacházejí doplnkové a pomocné údaje k sestavám --- v | AT4: False
D6: Stavba:
E7: ='Rekapitulace stavby'!K6 -> Oprava propustků v km 24,666, 25,142, 25,589 a 25,786 na trati Vsetín - Velké Karlovice
D8: Objekt:
E9: SO 01 - Propustek v km 24,666
D10: Soupis:
E11: SO 01.2 - Železniční svršek - km 24,666
D13: KSO: | I13: CC-CZ:
D14: Místo: | I14: Datum: | J14: ='Rekapitulace stavby'!AN8 -> 3. 4. 2019
D16: Zadavatel: | I16: IČ: | J16: =IF('Rekapitulace stavby'!AN10="","",'Rekapitulace stavby'!AN10)
E17: =IF('Rekapitulace stavby'!E11="","",'Rekapitulace stavby'!E11) | I17: DIČ: | J17: =IF('Rekapitulace stavby'!AN11="","",'Rekapitulace stavby'!AN11)
D19: Uchazeč: | I19: IČ: | J19: ='Rekapitulace stavby'!AN13 -> Vyplň údaj
E20: ='Rekapitulace stavby'!E14 -> Vyplň údaj | I20: DIČ: | J20: ='Rekapitulace stavby'!AN14 -> Vyplň údaj
D22: Projektant: | I22: IČ: | J22: =IF('Rekapitulace stavby'!AN16="","",'Rekapitulace stavby'!AN16)
E23: =IF('Rekapitulace stavby'!E17="","",'Rekapitulace stavby'!E17) | I23: DIČ: | J23: =IF('Rekapitulace stavby'!AN17="","",'Rekapitulace stavby'!AN17)
D25: Zpracovatel: | I25: IČ: | J25: =IF('Rekapitulace stavby'!AN19="","",'Rekapitulace stavby'!AN19)
E26: =IF('Rekapitulace stavby'!E20="","",'Rekapitulace stavby'!E20) | I26: DIČ: | J26: =IF('Rekapitulace stavby'!AN20="","",'Rekapitulace stavby'!AN20)
D28: Poznámka:
D32: Cena bez DPH | J32: =ROUND(J89, 2) -> 0
F34: Základ daně | I34: Sazba daně | J34: Výše daně
D35: DPH | E35: základní | F35: =ROUND((SUM(BE89:BE112)), 2) -> 0 | I35: 0.21 | J35: =ROUND(((SUM(BE89:BE112))*I35), 2) -> 0
E36: snížená | F36: =ROUND((SUM(BF89:BF112)), 2) -> 0 | I36: 0.15 | J36: =ROUND(((SUM(BF89:BF112))*I36), 2) -> 0
E37: zákl. přenesená | F37: =ROUND((SUM(BG89:BG112)), 2) -> 0 | I37: 0.21 | J37: =0 -> 0
E38: sníž. přenesená | F38: =ROUND((SUM(BH89:BH112)), 2) -> 0 | I38: 0.15 | J38: =0 -> 0
E39: nulová | F39: =ROUND((SUM(BI89:BI112)), 2) -> 0 | I39: 0 | J39: =0 -> 0
D41: Cena s DPH | G41: v | H41: CZK | J41: =SUM(J32:J39) -> 0
C47: REKAPITULACE ČLENĚNÍ SOUPISU PRACÍ
C49: Stavba:
E50: =E7 -> Oprava propustků v km 24,666, 25,142, 25,589 a 25,786 na trati Vsetín - Velké Karlovice
C51: Objekt:
E52: SO 01 - Propustek v km 24,666
C53: Soupis:
E54: =E11 -> SO 01.2 - Železniční svršek - km 24,666
C56: Místo: | F56: =F14 | I56: Datum: | J56: =IF(J14="","",J14) -> 3. 4. 2019
C58: Zadavatel: | F58: =E17 | I58: Projektant: | J58: =E23
C59: Uchazeč: | F59: =IF(E20="","",E20) -> Vyplň údaj | I59: Zpracovatel: | J59: =E26
C61: Kód dílu - Popis | J61: Cena celkem [CZK]
C63: Náklady ze soupisu prací | J63: =J89 -> 0 | AU63: -1
...

Sheet SO 02.1 - Oprava propustk...
L2: >> skryté sloupce << | AT2: {5b66d2bc-cc60-4d28-b5cb-d9703ef7334e}
AT3: 2
D4: KRYCÍ LIST SOUPISU PRACÍ | M4: v --- níže se nacházejí doplnkové a pomocné údaje k sestavám --- v | AT4: False
D6: Stavba:
E7: ='Rekapitulace stavby'!K6 -> Oprava propustků v km 24,666, 25,142, 25,589 a 25,786 na trati Vsetín - Velké Karlovice
D8: Objekt:
E9: SO 02 - Propustek v km 25,142
D10: Soupis:
E11: SO 02.1 - Oprava propustku - km 25,142
D13: KSO: | I13: CC-CZ:
D14: Místo: | I14: Datum: | J14: ='Rekapitulace stavby'!AN8 -> 3. 4. 2019
D16: Zadavatel: | I16: IČ: | J16: =IF('Rekapitulace stavby'!AN10="","",'Rekapitulace stavby'!AN10)
E17: =IF('Rekapitulace stavby'!E11="","",'Rekapitulace stavby'!E11) | I17: DIČ: | J17: =IF('Rekapitulace stavby'!AN11="","",'Rekapitulace stavby'!AN11)
D19: Uchazeč: | I19: IČ: | J19: ='Rekapitulace stavby'!AN13 -> Vyplň údaj
E20: ='Rekapitulace stavby'!E14 -> Vyplň údaj | I20: DIČ: | J20: ='Rekapitulace stavby'!AN14 -> Vyplň údaj
D22: Projektant: | I22: IČ: | J22: =IF('Rekapitulace stavby'!AN16="","",'Rekapitulace stavby'!AN16)
E23: =IF('Rekapitulace stavby'!E17="","",'Rekapitulace stavby'!E17) | I23: DIČ: | J23: =IF('Rekapitulace stavby'!AN17="","",'Rekapitulace stavby'!AN17)
D25: Zpracovatel: | I25: IČ: | J25: =IF('Rekapitulace stavby'!AN19="","",'Rekapitulace stavby'!AN19)
E26: =IF('Rekapitulace stavby'!E20="","",'Rekapitulace stavby'!E20) | I26: DIČ: | J26: =IF('Rekapitulace stavby'!AN20="","",'Rekapitulace stavby'!AN20)
D28: Poznámka:
D32: Cena bez DPH | J32: =ROUND(J99, 2) -> 0
F34: Základ daně | I34: Sazba daně | J34: Výše daně
D35: DPH | E35: základní | F35: =ROUND((SUM(BE99:BE176)), 2) -> 0 | I35: 0.21 | J35: =ROUND(((SUM(BE99:BE176))*I35), 2) -> 0
E36: snížená | F36: =ROUND((SUM(BF99:BF176)), 2) -> 0 | I36: 0.15 | J36: =ROUND(((SUM(BF99:BF176))*I36), 2) -> 0
E37: zákl. přenesená | F37: =ROUND((SUM(BG99:BG176)), 2) -> 0 | I37: 0.21 | J37: =0 -> 0
E38: sníž. přenesená | F38: =ROUND((SUM(BH99:BH176)), 2) -> 0 | I38: 0.15 | J38: =0 -> 0
E39: nulová | F39: =ROUND((SUM(BI99:BI176)), 2) -> 0 | I39: 0 | J39: =0 -> 0
D41: Cena s DPH | G41: v | H41: CZK | J41: =SUM(J32:J39) -> 0
C47: REKAPITULACE ČLENĚNÍ SOUPISU PRACÍ
C49: Stavba:
E50: =E7 -> Oprava propustků v km 24,666, 25,142, 25,589 a 25,786 na trati Vsetín - Velké Karlovice
C51: Objekt:
E52: SO 02 - Propustek v km 25,142
C53: Soupis:
E54: =E11 -> SO 02.1 - Oprava propustku - km 25,142
C56: Místo: | F56: =F14 | I56: Datum: | J56: =IF(J14="","",J14) -> 3. 4. 2019
C58: Zadavatel: | F58: =E17 | I58: Projektant: | J58: =E23
C59: Uchazeč: | F59: =IF(E20="","",E20) -> Vyplň údaj | I59: Zpracovatel: | J59: =E26
C61: Kód dílu - Popis | J61: Cena celkem [CZK]
C63: Náklady ze soupisu prací | J63: =J99 -> 0 | AU63: -1
...

Sheet SO 02.2 - Železniční svrš...
L2: >> skryté sloupce << | AT2: {0bfba506-54f3-4c50-b1f4-f8bf2450ca96}
AT3: 2
D4: KRYCÍ LIST SOUPISU PRACÍ | M4: v --- níže se nacházejí doplnkové a pomocné údaje k sestavám --- v | AT4: False
D6: Stavba:
E7: ='Rekapitulace stavby'!K6 -> Oprava propustků v km 24,666, 25,142, 25,589 a 25,786 na trati Vsetín - Velké Karlovice
D8: Objekt:
E9: SO 02 - Propustek v km 25,142
D10: Soupis:
E11: SO 02.2 - Železniční svršek - km 25,142
D13: KSO: | I13: CC-CZ:
D14: Místo: | I14: Datum: | J14: ='Rekapitulace stavby'!AN8 -> 3. 4. 2019
D16: Zadavatel: | I16: IČ: | J16: =IF('Rekapitulace stavby'!AN10="","",'Rekapitulace stavby'!AN10)
E17: =IF('Rekapitulace stavby'!E11="","",'Rekapitulace stavby'!E11) | I17: DIČ: | J17: =IF('Rekapitulace stavby'!AN11="","",'Rekapitulace stavby'!AN11)
D19: Uchazeč: | I19: IČ: | J19: ='Rekapitulace stavby'!AN13 -> Vyplň údaj
E20: ='Rekapitulace stavby'!E14 -> Vyplň údaj | I20: DIČ: | J20: ='Rekapitulace stavby'!AN14 -> Vyplň údaj
D22: Projektant: | I22: IČ: | J22: =IF('Rekapitulace stavby'!AN16="","",'Rekapitulace stavby'!AN16)
E23: =IF('Rekapitulace stavby'!E17="","",'Rekapitulace stavby'!E17) | I23: DIČ: | J23: =IF('Rekapitulace stavby'!AN17="","",'Rekapitulace stavby'!AN17)
D25: Zpracovatel: | I25: IČ: | J25: =IF('Rekapitulace stavby'!AN19="","",'Rekapitulace stavby'!AN19)
E26: =IF('Rekapitulace stavby'!E20="","",'Rekapitulace stavby'!E20) | I26: DIČ: | J26: =IF('Rekapitulace stavby'!AN20="","",'Rekapitulace stavby'!AN20)
D28: Poznámka:
D32: Cena bez DPH | J32: =ROUND(J93, 2) -> 0
F34: Základ daně | I34: Sazba daně | J34: Výše daně
D35: DPH | E35: základní | F35: =ROUND((SUM(BE93:BE137)), 2) -> 0 | I35: 0.21 | J35: =ROUND(((SUM(BE93:BE137))*I35), 2) -> 0
E36: snížená | F36: =ROUND((SUM(BF93:BF137)), 2) -> 0 | I36: 0.15 | J36: =ROUND(((SUM(BF93:BF137))*I36), 2) -> 0
E37: zákl. přenesená | F37: =ROUND((SUM(BG93:BG137)), 2) -> 0 | I37: 0.21 | J37: =0 -> 0
E38: sníž. přenesená | F38: =ROUND((SUM(BH93:BH137)), 2) -> 0 | I38: 0.15 | J38: =0 -> 0
E39: nulová | F39: =ROUND((SUM(BI93:BI137)), 2) -> 0 | I39: 0 | J39: =0 -> 0
D41: Cena s DPH | G41: v | H41: CZK | J41: =SUM(J32:J39) -> 0
C47: REKAPITULACE ČLENĚNÍ SOUPISU PRACÍ
C49: Stavba:
E50: =E7 -> Oprava propustků v km 24,666, 25,142, 25,589 a 25,786 na trati Vsetín - Velké Karlovice
C51: Objekt:
E52: SO 02 - Propustek v km 25,142
C53: Soupis:
E54: =E11 -> SO 02.2 - Železniční svršek - km 25,142
C56: Místo: | F56: =F14 | I56: Datum: | J56: =IF(J14="","",J14) -> 3. 4. 2019
C58: Zadavatel: | F58: =E17 | I58: Projektant: | J58: =E23
C59: Uchazeč: | F59: =IF(E20="","",E20) -> Vyplň údaj | I59: Zpracovatel: | J59: =E26
C61: Kód dílu - Popis | J61: Cena celkem [CZK]
C63: Náklady ze soupisu prací | J63: =J93 -> 0 | AU63: -1
...

Sheet SO 03.1 - Oprava propustk...
L2: >> skryté sloupce << | AT2: {21aa6e05-871f-4fb4-9dc7-1295e9e55ffd}
AT3: 2
D4: KRYCÍ LIST SOUPISU PRACÍ | M4: v --- níže se nacházejí doplnkové a pomocné údaje k sestavám --- v | AT4: False
D6: Stavba:
E7: ='Rekapitulace stavby'!K6 -> Oprava propustků v km 24,666, 25,142, 25,589 a 25,786 na trati Vsetín - Velké Karlovice
D8: Objekt:
E9: SO 03 - Propustek v km 25,589
D10: Soupis:
E11: SO 03.1 - Oprava propustku - km 25,589
D13: KSO: | I13: CC-CZ:
D14: Místo: | I14: Datum: | J14: ='Rekapitulace stavby'!AN8 -> 3. 4. 2019
D16: Zadavatel: | I16: IČ: | J16: =IF('Rekapitulace stavby'!AN10="","",'Rekapitulace stavby'!AN10)
E17: =IF('Rekapitulace stavby'!E11="","",'Rekapitulace stavby'!E11) | I17: DIČ: | J17: =IF('Rekapitulace stavby'!AN11="","",'Rekapitulace stavby'!AN11)
D19: Uchazeč: | I19: IČ: | J19: ='Rekapitulace stavby'!AN13 -> Vyplň údaj
E20: ='Rekapitulace stavby'!E14 -> Vyplň údaj | I20: DIČ: | J20: ='Rekapitulace stavby'!AN14 -> Vyplň údaj
D22: Projektant: | I22: IČ: | J22: =IF('Rekapitulace stavby'!AN16="","",'Rekapitulace stavby'!AN16)
E23: =IF('Rekapitulace stavby'!E17="","",'Rekapitulace stavby'!E17) | I23: DIČ: | J23: =IF('Rekapitulace stavby'!AN17="","",'Rekapitulace stavby'!AN17)
D25: Zpracovatel: | I25: IČ: | J25: =IF('Rekapitulace stavby'!AN19="","",'Rekapitulace stavby'!AN19)
E26: =IF('Rekapitulace stavby'!E20="","",'Rekapitulace stavby'!E20) | I26: DIČ: | J26: =IF('Rekapitulace stavby'!AN20="","",'Rekapitulace stavby'!AN20)
D28: Poznámka:
D32: Cena bez DPH | J32: =ROUND(J99, 2) -> 0
F34: Základ daně | I34: Sazba daně | J34: Výše daně
D35: DPH | E35: základní | F35: =ROUND((SUM(BE99:BE158)), 2) -> 0 | I35: 0.21 | J35: =ROUND(((SUM(BE99:BE158))*I35), 2) -> 0
E36: snížená | F36: =ROUND((SUM(BF99:BF158)), 2) -> 0 | I36: 0.15 | J36: =ROUND(((SUM(BF99:BF158))*I36), 2) -> 0
E37: zákl. přenesená | F37: =ROUND((SUM(BG99:BG158)), 2) -> 0 | I37: 0.21 | J37: =0 -> 0
E38: sníž. přenesená | F38: =ROUND((SUM(BH99:BH158)), 2) -> 0 | I38: 0.15 | J38: =0 -> 0
E39: nulová | F39: =ROUND((SUM(BI99:BI158)), 2) -> 0 | I39: 0 | J39: =0 -> 0
D41: Cena s DPH | G41: v | H41: CZK | J41: =SUM(J32:J39) -> 0
C47: REKAPITULACE ČLENĚNÍ SOUPISU PRACÍ
C49: Stavba:
E50: =E7 -> Oprava propustků v km 24,666, 25,142, 25,589 a 25,786 na trati Vsetín - Velké Karlovice
C51: Objekt:
E52: SO 03 - Propustek v km 25,589
C53: Soupis:
E54: =E11 -> SO 03.1 - Oprava propustku - km 25,589
C56: Místo: | F56: =F14 | I56: Datum: | J56: =IF(J14="","",J14) -> 3. 4. 2019
C58: Zadavatel: | F58: =E17 | I58: Projektant: | J58: =E23
C59: Uchazeč: | F59: =IF(E20="","",E20) -> Vyplň údaj | I59: Zpracovatel: | J59: =E26
C61: Kód dílu - Popis | J61: Cena celkem [CZK]
C63: Náklady ze soupisu prací | J63: =J99 -> 0 | AU63: -1
...

Sheet SO 03.2 - Železniční svrš...
L2: >> skryté sloupce << | AT2: {fd9a17fc-df73-48a2-a86f-2d856b45fc19}
AT3: 2
D4: KRYCÍ LIST SOUPISU PRACÍ | M4: v --- níže se nacházejí doplnkové a pomocné údaje k sestavám --- v | AT4: False
D6: Stavba:
E7: ='Rekapitulace stavby'!K6 -> Oprava propustků v km 24,666, 25,142, 25,589 a 25,786 na trati Vsetín - Velké Karlovice
D8: Objekt:
E9: SO 03 - Propustek v km 25,589
D10: Soupis:
E11: SO 03.2 - Železniční svršek - km 25,589
D13: KSO: | I13: CC-CZ:
D14: Místo: | I14: Datum: | J14: ='Rekapitulace stavby'!AN8 -> 3. 4. 2019
D16: Zadavatel: | I16: IČ: | J16: =IF('Rekapitulace stavby'!AN10="","",'Rekapitulace stavby'!AN10)
E17: =IF('Rekapitulace stavby'!E11="","",'Rekapitulace stavby'!E11) | I17: DIČ: | J17: =IF('Rekapitulace stavby'!AN11="","",'Rekapitulace stavby'!AN11)
D19: Uchazeč: | I19: IČ: | J19: ='Rekapitulace stavby'!AN13 -> Vyplň údaj
E20: ='Rekapitulace stavby'!E14 -> Vyplň údaj | I20: DIČ: | J20: ='Rekapitulace stavby'!AN14 -> Vyplň údaj
D22: Projektant: | I22: IČ: | J22: =IF('Rekapitulace stavby'!AN16="","",'Rekapitulace stavby'!AN16)
E23: =IF('Rekapitulace stavby'!E17="","",'Rekapitulace stavby'!E17) | I23: DIČ: | J23: =IF('Rekapitulace stavby'!AN17="","",'Rekapitulace stavby'!AN17)
D25: Zpracovatel: | I25: IČ: | J25: =IF('Rekapitulace stavby'!AN19="","",'Rekapitulace stavby'!AN19)
E26: =IF('Rekapitulace stavby'!E20="","",'Rekapitulace stavby'!E20) | I26: DIČ: | J26: =IF('Rekapitulace stavby'!AN20="","",'Rekapitulace stavby'!AN20)
D28: Poznámka:
D32: Cena bez DPH | J32: =ROUND(J89, 2) -> 0
F34: Základ daně | I34: Sazba daně | J34: Výše daně
D35: DPH | E35: základní | F35: =ROUND((SUM(BE89:BE113)), 2) -> 0 | I35: 0.21 | J35: =ROUND(((SUM(BE89:BE113))*I35), 2) -> 0
E36: snížená | F36: =ROUND((SUM(BF89:BF113)), 2) -> 0 | I36: 0.15 | J36: =ROUND(((SUM(BF89:BF113))*I36), 2) -> 0
E37: zákl. přenesená | F37: =ROUND((SUM(BG89:BG113)), 2) -> 0 | I37: 0.21 | J37: =0 -> 0
E38: sníž. přenesená | F38: =ROUND((SUM(BH89:BH113)), 2) -> 0 | I38: 0.15 | J38: =0 -> 0
E39: nulová | F39: =ROUND((SUM(BI89:BI113)), 2) -> 0 | I39: 0 | J39: =0 -> 0
D41: Cena s DPH | G41: v | H41: CZK | J41: =SUM(J32:J39) -> 0
C47: REKAPITULACE ČLENĚNÍ SOUPISU PRACÍ
C49: Stavba:
E50: =E7 -> Oprava propustků v km 24,666, 25,142, 25,589 a 25,786 na trati Vsetín - Velké Karlovice
C51: Objekt:
E52: SO 03 - Propustek v km 25,589
C53: Soupis:
E54: =E11 -> SO 03.2 - Železniční svršek - km 25,589
C56: Místo: | F56: =F14 | I56: Datum: | J56: =IF(J14="","",J14) -> 3. 4. 2019
C58: Zadavatel: | F58: =E17 | I58: Projektant: | J58: =E23
C59: Uchazeč: | F59: =IF(E20="","",E20) -> Vyplň údaj | I59: Zpracovatel: | J59: =E26
C61: Kód dílu - Popis | J61: Cena celkem [CZK]
C63: Náklady ze soupisu prací | J63: =J89 -> 0 | AU63: -1
...

Sheet SO 04.1 - Oprava propustk...
L2: >> skryté sloupce << | AT2: {f3aca2a1-d40d-4b55-b152-7b0fe2b51f50}
AT3: 2
D4: KRYCÍ LIST SOUPISU PRACÍ | M4: v --- níže se nacházejí doplnkové a pomocné údaje k sestavám --- v | AT4: False
D6: Stavba:
E7: ='Rekapitulace stavby'!K6 -> Oprava propustků v km 24,666, 25,142, 25,589 a 25,786 na trati Vsetín - Velké Karlovice
D8: Objekt:
E9: SO 04 - Propustek v km 25,786
D10: Soupis:
E11: SO 04.1 - Oprava propustku - km 25,786
D13: KSO: | I13: CC-CZ:
D14: Místo: | I14: Datum: | J14: ='Rekapitulace stavby'!AN8 -> 3. 4. 2019
D16: Zadavatel: | I16: IČ: | J16: =IF('Rekapitulace stavby'!AN10="","",'Rekapitulace stavby'!AN10)
E17: =IF('Rekapitulace stavby'!E11="","",'Rekapitulace stavby'!E11) | I17: DIČ: | J17: =IF('Rekapitulace stavby'!AN11="","",'Rekapitulace stavby'!AN11)
D19: Uchazeč: | I19: IČ: | J19: ='Rekapitulace stavby'!AN13 -> Vyplň údaj
E20: ='Rekapitulace stavby'!E14 -> Vyplň údaj | I20: DIČ: | J20: ='Rekapitulace stavby'!AN14 -> Vyplň údaj
D22: Projektant: | I22: IČ: | J22: =IF('Rekapitulace stavby'!AN16="","",'Rekapitulace stavby'!AN16)
E23: =IF('Rekapitulace stavby'!E17="","",'Rekapitulace stavby'!E17) | I23: DIČ: | J23: =IF('Rekapitulace stavby'!AN17="","",'Rekapitulace stavby'!AN17)
D25: Zpracovatel: | I25: IČ: | J25: =IF('Rekapitulace stavby'!AN19="","",'Rekapitulace stavby'!AN19)
E26: =IF('Rekapitulace stavby'!E20="","",'Rekapitulace stavby'!E20) | I26: DIČ: | J26: =IF('Rekapitulace stavby'!AN20="","",'Rekapitulace stavby'!AN20)
D28: Poznámka:
D32: Cena bez DPH | J32: =ROUND(J99, 2) -> 0
F34: Základ daně | I34: Sazba daně | J34: Výše daně
D35: DPH | E35: základní | F35: =ROUND((SUM(BE99:BE162)), 2) -> 0 | I35: 0.21 | J35: =ROUND(((SUM(BE99:BE162))*I35), 2) -> 0
E36: snížená | F36: =ROUND((SUM(BF99:BF162)), 2) -> 0 | I36: 0.15 | J36: =ROUND(((SUM(BF99:BF162))*I36), 2) -> 0
E37: zákl. přenesená | F37: =ROUND((SUM(BG99:BG162)), 2) -> 0 | I37: 0.21 | J37: =0 -> 0
E38: sníž. přenesená | F38: =ROUND((SUM(BH99:BH162)), 2) -> 0 | I38: 0.15 | J38: =0 -> 0
E39: nulová | F39: =ROUND((SUM(BI99:BI162)), 2) -> 0 | I39: 0 | J39: =0 -> 0
D41: Cena s DPH | G41: v | H41: CZK | J41: =SUM(J32:J39) -> 0
C47: REKAPITULACE ČLENĚNÍ SOUPISU PRACÍ
C49: Stavba:
E50: =E7 -> Oprava propustků v km 24,666, 25,142, 25,589 a 25,786 na trati Vsetín - Velké Karlovice
C51: Objekt:
E52: SO 04 - Propustek v km 25,786
C53: Soupis:
E54: =E11 -> SO 04.1 - Oprava propustku - km 25,786
C56: Místo: | F56: =F14 | I56: Datum: | J56: =IF(J14="","",J14) -> 3. 4. 2019
C58: Zadavatel: | F58: =E17 | I58: Projektant: | J58: =E23
C59: Uchazeč: | F59: =IF(E20="","",E20) -> Vyplň údaj | I59: Zpracovatel: | J59: =E26
C61: Kód dílu - Popis | J61: Cena celkem [CZK]
C63: Náklady ze soupisu prací | J63: =J99 -> 0 | AU63: -1
...

Sheet SO 04.2 - Železniční svrš...
L2: >> skryté sloupce << | AT2: {0886fe5c-84c1-4732-9303-fa099ab41688}
AT3: 2
D4: KRYCÍ LIST SOUPISU PRACÍ | M4: v --- níže se nacházejí doplnkové a pomocné údaje k sestavám --- v | AT4: False
D6: Stavba:
E7: ='Rekapitulace stavby'!K6 -> Oprava propustků v km 24,666, 25,142, 25,589 a 25,786 na trati Vsetín - Velké Karlovice
D8: Objekt:
E9: SO 04 - Propustek v km 25,786
D10: Soupis:
E11: SO 04.2 - Železniční svršek - km 25,786
D13: KSO: | I13: CC-CZ:
D14: Místo: | I14: Datum: | J14: ='Rekapitulace stavby'!AN8 -> 3. 4. 2019
D16: Zadavatel: | I16: IČ: | J16: =IF('Rekapitulace stavby'!AN10="","",'Rekapitulace stavby'!AN10)
E17: =IF('Rekapitulace stavby'!E11="","",'Rekapitulace stavby'!E11) | I17: DIČ: | J17: =IF('Rekapitulace stavby'!AN11="","",'Rekapitulace stavby'!AN11)
D19: Uchazeč: | I19: IČ: | J19: ='Rekapitulace stavby'!AN13 -> Vyplň údaj
E20: ='Rekapitulace stavby'!E14 -> Vyplň údaj | I20: DIČ: | J20: ='Rekapitulace stavby'!AN14 -> Vyplň údaj
D22: Projektant: | I22: IČ: | J22: =IF('Rekapitulace stavby'!AN16="","",'Rekapitulace stavby'!AN16)
E23: =IF('Rekapitulace stavby'!E17="","",'Rekapitulace stavby'!E17) | I23: DIČ: | J23: =IF('Rekapitulace stavby'!AN17="","",'Rekapitulace stavby'!AN17)
D25: Zpracovatel: | I25: IČ: | J25: =IF('Rekapitulace stavby'!AN19="","",'Rekapitulace stavby'!AN19)
E26: =IF('Rekapitulace stavby'!E20="","",'Rekapitulace stavby'!E20) | I26: DIČ: | J26: =IF('Rekapitulace stavby'!AN20="","",'Rekapitulace stavby'!AN20)
D28: Poznámka:
D32: Cena bez DPH | J32: =ROUND(J89, 2) -> 0
F34: Základ daně | I34: Sazba daně | J34: Výše daně
D35: DPH | E35: základní | F35: =ROUND((SUM(BE89:BE112)), 2) -> 0 | I35: 0.21 | J35: =ROUND(((SUM(BE89:BE112))*I35), 2) -> 0
E36: snížená | F36: =ROUND((SUM(BF89:BF112)), 2) -> 0 | I36: 0.15 | J36: =ROUND(((SUM(BF89:BF112))*I36), 2) -> 0
E37: zákl. přenesená | F37: =ROUND((SUM(BG89:BG112)), 2) -> 0 | I37: 0.21 | J37: =0 -> 0
E38: sníž. přenesená | F38: =ROUND((SUM(BH89:BH112)), 2) -> 0 | I38: 0.15 | J38: =0 -> 0
E39: nulová | F39: =ROUND((SUM(BI89:BI112)), 2) -> 0 | I39: 0 | J39: =0 -> 0
D41: Cena s DPH | G41: v | H41: CZK | J41: =SUM(J32:J39) -> 0
C47: REKAPITULACE ČLENĚNÍ SOUPISU PRACÍ
C49: Stavba:
E50: =E7 -> Oprava propustků v km 24,666, 25,142, 25,589 a 25,786 na trati Vsetín - Velké Karlovice
C51: Objekt:
E52: SO 04 - Propustek v km 25,786
C53: Soupis:
E54: =E11 -> SO 04.2 - Železniční svršek - km 25,786
C56: Místo: | F56: =F14 | I56: Datum: | J56: =IF(J14="","",J14) -> 3. 4. 2019
C58: Zadavatel: | F58: =E17 | I58: Projektant: | J58: =E23
C59: Uchazeč: | F59: =IF(E20="","",E20) -> Vyplň údaj | I59: Zpracovatel: | J59: =E26
C61: Kód dílu - Popis | J61: Cena celkem [CZK]
C63: Náklady ze soupisu prací | J63: =J89 -> 0 | AU63: -1
...
