Workbook

Sheet Rekapitulace stavby
A1: Export Komplet | BA1: 2.0 | BT1: False | BU1: False | BV1: {bfdacc35-1c3a-4b3a-963a-74ed18961b7f}
AR2: >> skryté sloupce << | BS2: 0,01 | BT2: 21
BS3: 0,01 | BT3: 15
D4: REKAPITULACE STAVBY | AS4: v --- níže se nacházejí doplnkové a pomocné údaje k sestavám --- v | BE4: Návod na vyplnění | BS4: 0,001
D5: Kód: | K5: 2019_I3 | BE5: Měnit lze pouze buňky se žlutým podbarvením!_x000D_ _x000D_ 1) na prvním listu Rekapitulace stavby vyplňte v sestavě_x000D_ _x000D_ a) Souhrnný list_x000D_ - údaje o Zhotoviteli_x000D_ (přenesou se do ostatních sestav i v jiných listech)_x000D_ _x000D_ b) Rekapitulace objektů_x000D_ - potřebné Ostatní náklady_x000D_ _x000D_ 2) na vybraných listech vyplňte v sestavě_x000D_ _x000D_ a) Krycí list_x000D_ - údaje o Zhotoviteli, pokud se liší od údajů o Zhotoviteli na Souhrnném listu_x000D_ (údaje se přenesou do ostatních sestav v daném listu)_x000D_ _x000D_ b) Rekapitulace rozpočtu_x000D_ - potřebné Ostatní náklady_x000D_ _x000D_ c) Celkové náklady za stavbu_x000D_ - ceny u položek_x000D_ - množství, pokud má žluté podbarvení_x000D_ - a v případě potřeby poznámku (ta je ve skrytém sloupci) | BS5: 0,01
D6: Stavba: | K6: Oprava propustků v km 24,666, 25,142, 25,589 a 25,786 na trati Vsetín - Velké Karlovice | BS6: 0,01
D7: KSO: | AK7: CC-CZ: | BS7: 0,01
D8: Místo: | AK8: Datum: | AN8: 3. 4. 2019 | BS8: 0,01
BS9: 0,01
D10: Zadavatel: | AK10: IČ: | BS10: 0,01
AK11: DIČ: | BS11: 0,01
BS12: 0,01
D13: Uchazeč: | AK13: IČ: | AN13: Vyplň údaj | BS13: 0,01
E14: Vyplň údaj | AK14: DIČ: | AN14: Vyplň údaj | BS14: 0,01
BS15: False
D16: Projektant: | AK16: IČ: | BS16: False
AK17: DIČ: | BS17: True
BS18: 0,01
D19: Zpracovatel: | AK19: IČ: | BS19: 0,01
AK20: DIČ: | BS20: True
D22: Poznámka:
D26: Cena bez DPH | AK26: =ROUND(AG54,2) -> 0
L28: Sazba daně | W28: Základ daně | AK28: Výše daně
D29: DPH | F29: základní | L29: 0.21 | W29: =ROUND(AZ54, 2) -> 0 | AK29: =ROUND(AV54, 2) -> 0
F30: snížená | L30: 0.15 | W30: =ROUND(BA54, 2) -> 0 | AK30: =ROUND(AW54, 2) -> 0
F31: zákl. přenesená | L31: 0.21 | W31: =ROUND(BB54, 2) -> 0 | AK31: 0
F32: sníž. přenesená | L32: 0.15 | W32: =ROUND(BC54, 2) -> 0 | AK32: 0
F33: nulová | L33: 0 | W33: =ROUND(BD54, 2) -> 0 | AK33: 0
D35: Cena s DPH | T35: v | X35: CZK | AK35: =SUM(AK26:AK33) -> 0
C42: REKAPITULACE OBJEKTŮ STAVBY A SOUPISŮ PRACÍ
C44: Kód: | L44: =K5 -> 2019_I3
C45: Stavba: | L45: =K6 -> Oprava propustků v km 24,666, 25,142, 25,589 a 25,786 na trati Vsetín - Velké Karlovice
C47: Místo: | L47: =IF(K8="","",K8) | AI47: Datum: | AM47: =IF(AN8= "","",AN8) -> 3. 4. 2019
C49: Zadavatel: | L49: =IF(E11= "","",E11) | AI49: Projektant: | AM49: =IF(E17="","",E17) | AS49: Informatívní údaje z listů zakázek
C50: Uchazeč: | L50: =IF(E14= "Vyplň údaj","",E14) | AI50: Zpracovatel: | AM50: =IF(E20="","",E20)
C52: Kód | I52: Popis | AG52: Cena bez DPH [CZK] | AN52: Cena s DPH [CZK] | AQ52: Typ | AS52: z toho Ostat._x000D_ náklady [CZK] | AT52: DPH [CZK] | AU52: Normohodiny [h] | AV52: DPH základní [CZK] | AW52: DPH snížená [CZK] | AX52: DPH základní přenesená_x000D_ [CZK] | AY52: DPH snížená přenesená_x000D_ [CZK] | AZ52: Základna_x000D_ DPH základní | BA52: Základna_x000D_ DPH snížená | BB52: Základna_x000D_ DPH zákl. přenesená | BC52: Základna_x000D_ DPH sníž. přenesená | BD52: Základna_x000D_ DPH nulová
C54: Náklady z rozpočtů | AG54: =ROUND(AG55+AG58+AG61+AG64,2) -> 0 | AN54: =SUM(AG54,AT54) -> 0 | AS54: =ROUND(AS55+AS58+AS61+AS64,2) -> 0 | AT54: =ROUND(SUM(AV54:AW54),2) -> 0 | AU54: =ROUND(AU55+AU58+AU61+AU64,5) -> 0 | AV54: =ROUND(AZ54*L29,2) -> 0 | AW54: =ROUND(BA54*L30,2) -> 0 | AX54: =ROUND(BB54*L29,2) -> 0 | AY54: =ROUND(BC54*L30,2) -> 0 | AZ54: =ROUND(AZ55+AZ58+AZ61+AZ64,2) -> 0 | BA54: =ROUND(BA55+BA58+BA61+BA64,2) -> 0 | BB54: =ROUND(BB55+BB58+BB61+BB64,2) -> 0 | BC54: =ROUND(BC55+BC58+BC61+BC64,2) -> 0 | BD54: =ROUND(BD55+BD58+BD61+BD64,2) -> 0 | BS54: D | BT54: 0 | BU54: ###NOIMPORT### | BV54: IMPORT | BW54: {bfdacc35-1c3a-4b3a-963a-74ed18961b7f} | BX54: {00000000-0000-0000-0000-000000000000}
D55: SO 01 | J55: Propustek v km 24,666 | AG55: =ROUND(SUM(AG56:AG57),2) -> 0 | AN55: =SUM(AG55,AT55) -> 0 | AQ55: ING | AS55: =ROUND(SUM(AS56:AS57),2) -> 0 | AT55: =ROUND(SUM(AV55:AW55),2) -> 0 | AU55: =ROUND(SUM(AU56:AU57),5) -> 0 | AV55: =ROUND(AZ55*L29,2) -> 0 | AW55: =ROUND(BA55*L30,2) -> 0 | AX55: =ROUND(BB55*L29,2) -> 0 | AY55: =ROUND(BC55*L30,2) -> 0 | AZ55: =ROUND(SUM(AZ56:AZ57),2) -> 0 | BA55: =ROUND(SUM(BA56:BA57),2) -> 0 | BB55: =ROUND(SUM(BB56:BB57),2) -> 0 | BC55: =ROUND(SUM(BC56:BC57),2) -> 0 | BD55: =ROUND(SUM(BD56:BD57),2) -> 0 | BS55: D | BT55: 1 | BU55: ###NOIMPORT### | BV55: IMPORT | BW55: {bd01eb42-08c0-4db0-939c-0b41f0118166} | BX55: {bfdacc35-1c3a-4b3a-963a-74ed18961b7f} | CM55: 2
A56: / | E56: SO 01.1 | K56: Oprava propustku - km 24,666 | AG56: ='SO 01.1 - Oprava propustk...'!J32 -> 0 | AN56: =SUM(AG56,AT56) -> 0 | AQ56: Soupis | AS56: 0 | AT56: =ROUND(SUM(AV56:AW56),2) -> 0 | AU56: ='SO 01.1 - Oprava propustk...'!P99 -> 0 | AV56: ='SO 01.1 - Oprava propustk...'!J35 -> 0 | AW56: ='SO 01.1 - Oprava propustk...'!J36 -> 0 | AX56: ='SO 01.1 - Oprava propustk...'!J37 -> 0 | AY56: ='SO 01.1 - Oprava propustk...'!J38 -> 0 | AZ56: ='SO 01.1 - Oprava propustk...'!F35 -> 0 | BA56: ='SO 01.1 - Oprava propustk...'!F36 -> 0 | BB56: ='SO 01.1 - Oprava propustk...'!F37 -> 0 | BC56: ='SO 01.1 - Oprava propustk...'!F38 -> 0 | BD56: ='SO 01.1 - Oprava propustk...'!F39 -> 0 | BT56: 2 | BV56: IMPORT | BW56: {b2203765-45e8-44e8-aad3-8488aecb4f7e} | BX56: {bd01eb42-08c0-4db0-939c-0b41f0118166}
A57: / | E57: SO 01.2 | K57: Železniční svršek - km 24,666 | AG57: ='SO 01.2 - Železniční svrš...'!J32 -> 0 | AN57: =SUM(AG57,AT57) -> 0 | AQ57: Soupis | AS57: 0 | AT57: =ROUND(SUM(AV57:AW57),2) -> 0 | AU57: ='SO 01.2 - Železniční svrš...'!P89 -> 0 | AV57: ='SO 01.2 - Železniční svrš...'!J35 -> 0 | AW57: ='SO 01.2 - Železniční svrš...'!J36 -> 0 | AX57: ='SO 01.2 - Železniční svrš...'!J37 -> 0 | AY57: ='SO 01.2 - Železniční svrš...'!J38 -> 0 | AZ57: ='SO 01.2 - Železniční svrš...'!F35 -> 0 | BA57: ='SO 01.2 - Železniční svrš...'!F36 -> 0 | BB57: ='SO 01.2 - Železniční svrš...'!F37 -> 0 | BC57: ='SO 01.2 - Železniční svrš...'!F38 -> 0 | BD57: ='SO 01.2 - Železniční svrš...'!F39 -> 0 | BT57: 2 | BV57: IMPORT | BW57: {284f8085-8b09-475b-a92b-7c6dfe53a080} | BX57: {bd01eb42-08c0-4db0-939c-0b41f0118166}
D58: SO 02 | J58: Propustek v km 25,142 | AG58: =ROUND(SUM(AG59:AG60),2) -> 0 | AN58: =SUM(AG58,AT58) -> 0 | AQ58: STA | AS58: =ROUND(SUM(AS59:AS60),2) -> 0 | AT58: =ROUND(SUM(AV58:AW58),2) -> 0 | AU58: =ROUND(SUM(AU59:AU60),5) -> 0 | AV58: =ROUND(AZ58*L29,2) -> 0 | AW58: =ROUND(BA58*L30,2) -> 0 | AX58: =ROUND(BB58*L29,2) -> 0 | AY58: =ROUND(BC58*L30,2) -> 0 | AZ58: =ROUND(SUM(AZ59:AZ60),2) -> 0 | BA58: =ROUND(SUM(BA59:BA60),2) -> 0 | BB58: =ROUND(SUM(BB59:BB60),2) -> 0 | BC58: =ROUND(SUM(BC59:BC60),2) -> 0 | BD58: =ROUND(SUM(BD59:BD60),2) -> 0 | BS58: D | BT58: 1 | BU58: ###NOIMPORT### | BV58: IMPORT | BW58: {b870d365-f5cf-4870-b20e-b6cdb2872fd6} | BX58: {bfdacc35-1c3a-4b3a-963a-74ed18961b7f} | CM58: 2
A59: / | E59: SO 02.1 | K59: Oprava propustku - km 25,142 | AG59: ='SO 02.1 - Oprava propustk...'!J32 -> 0 | AN59: =SUM(AG59,AT59) -> 0 | AQ59: Soupis | AS59: 0 | AT59: =ROUND(SUM(AV59:AW59),2) -> 0 | AU59: ='SO 02.1 - Oprava propustk...'!P99 -> 0 | AV59: ='SO 02.1 - Oprava propustk...'!J35 -> 0 | AW59: ='SO 02.1 - Oprava propustk...'!J36 -> 0 | AX59: ='SO 02.1 - Oprava propustk...'!J37 -> 0 | AY59: ='SO 02.1 - Oprava propustk...'!J38 -> 0 | AZ59: ='SO 02.1 - Oprava propustk...'!F35 -> 0 | BA59: ='SO 02.1 - Oprava propustk...'!F36 -> 0 | BB59: ='SO 02.1 - Oprava propustk...'!F37 -> 0 | BC59: ='SO 02.1 - Oprava propustk...'!F38 -> 0 | BD59: ='SO 02.1 - Oprava propustk...'!F39 -> 0 | BT59: 2 | BV59: IMPORT | BW59: {5b66d2bc-cc60-4d28-b5cb-d9703ef7334e} | BX59: {b870d365-f5cf-4870-b20e-b6cdb2872fd6}
A60: / | E60: SO 02.2 | K60: Železniční svršek - km 25,142 | AG60: ='SO 02.2 - Železniční svrš...'!J32 -> 0 | AN60: =SUM(AG60,AT60) -> 0 | AQ60: Soupis | AS60: 0 | AT60: =ROUND(SUM(AV60:AW60),2) -> 0 | AU60: ='SO 02.2 - Železniční svrš...'!P93 -> 0 | AV60: ='SO 02.2 - Železniční svrš...'!J35 -> 0 | AW60: ='SO 02.2 - Železniční svrš...'!J36 -> 0 | AX60: ='SO 02.2 - Železniční svrš...'!J37 -> 0 | AY60: ='SO 02.2 - Železniční svrš...'!J38 -> 0 | AZ60: ='SO 02.2 - Železniční svrš...'!F35 -> 0 | BA60: ='SO 02.2 - Železniční svrš...'!F36 -> 0 | BB60: ='SO 02.2 - Železniční svrš...'!F37 -> 0 | BC60: ='SO 02.2 - Železniční svrš...'!F38 -> 0 | BD60: ='SO 02.2 - Železniční svrš...'!F39 -> 0 | BT60: 2 | BV60: IMPORT | BW60: {0bfba506-54f3-4c50-b1f4-f8bf2450ca96} | BX60: {b870d365-f5cf-4870-b20e-b6cdb2872fd6}
D61: SO 03 | J61: Propustek v km 25,589 | AG61: =ROUND(SUM(AG62:AG63),2) -> 0 | AN61: =SUM(AG61,AT61) -> 0 | AQ61: STA | AS61: =ROUND(SUM(AS62:AS63),2) -> 0 | AT61: =ROUND(SUM(AV61:AW61),2) -> 0 | AU61: =ROUND(SUM(AU62:AU63),5) -> 0 | AV61: =ROUND(AZ61*L29,2) -> 0 | AW61: =ROUND(BA61*L30,2) -> 0 | AX61: =ROUND(BB61*L29,2) -> 0 | AY61: =ROUND(BC61*L30,2) -> 0 | AZ61: =ROUND(SUM(AZ62:AZ63),2) -> 0 | BA61: =ROUND(SUM(BA62:BA63),2) -> 0 | BB61: =ROUND(SUM(BB62:BB63),2) -> 0 | BC61: =ROUND(SUM(BC62:BC63),2) -> 0 | BD61: =ROUND(SUM(BD62:BD63),2) -> 0 | BS61: D | BT61: 1 | BU61: ###NOIMPORT### | BV61: IMPORT | BW61: {4048e4b8-f8f5-4032-9c1e-eefce15029c3} | BX61: {bfdacc35-1c3a-4b3a-963a-74ed18961b7f} | CM61: 2
A62: / | E62: SO 03.1 | K62: Oprava propustku - km 25,589 | AG62: ='SO 03.1 - Oprava propustk...'!J32 -> 0 | AN62: =SUM(AG62,AT62) -> 0 | AQ62: Soupis | AS62: 0 | AT62: =ROUND(SUM(AV62:AW62),2) -> 0 | AU62: ='SO 03.1 - Oprava propustk...'!P99 -> 0 | AV62: ='SO 03.1 - Oprava propustk...'!J35 -> 0 | AW62: ='SO 03.1 - Oprava propustk...'!J36 -> 0 | AX62: ='SO 03.1 - Oprava propustk...'!J37 -> 0 | AY62: ='SO 03.1 - Oprava propustk...'!J38 -> 0 | AZ62: ='SO 03.1 - Oprava propustk...'!F35 -> 0 | BA62: ='SO 03.1 - Oprava propustk...'!F36 -> 0 | BB62: ='SO 03.1 - Oprava propustk...'!F37 -> 0 | BC62: ='SO 03.1 - Oprava propustk...'!F38 -> 0 | BD62: ='SO 03.1 - Oprava propustk...'!F39 -> 0 | BT62: 2 | BV62: IMPORT | BW62: {21aa6e05-871f-4fb4-9dc7-1295e9e55ffd} | BX62: {4048e4b8-f8f5-4032-9c1e-eefce15029c3}
A63: / | E63: SO 03.2 | K63: Železniční svršek - km 25,589 | AG63: ='SO 03.2 - Železniční svrš...'!J32 -> 0 | AN63: =SUM(AG63,AT63) -> 0 | AQ63: Soupis | AS63: 0 | AT63: =ROUND(SUM(AV63:AW63),2) -> 0 | AU63: ='SO 03.2 - Železniční svrš...'!P89 -> 0 | AV63: ='SO 03.2 - Železniční svrš...'!J35 -> 0 | AW63: ='SO 03.2 - Železniční svrš...'!J36 -> 0 | AX63: ='SO 03.2 - Železniční svrš...'!J37 -> 0 | AY63: ='SO 03.2 - Železniční svrš...'!J38 -> 0 | AZ63: ='SO 03.2 - Železniční svrš...'!F35 -> 0 | BA63: ='SO 03.2 - Železniční svrš...'!F36 -> 0 | BB63: ='SO 03.2 - Železniční svrš...'!F37 -> 0 | BC63: ='SO 03.2 - Železniční svrš...'!F38 -> 0 | BD63: ='SO 03.2 - Železniční svrš...'!F39 -> 0 | BT63: 2 | BV63: IMPORT | BW63: {fd9a17fc-df73-48a2-a86f-2d856b45fc19} | BX63: {4048e4b8-f8f5-4032-9c1e-eefce15029c3}
D64: SO 04 | J64: Propustek v km 25,786 | AG64: =ROUND(SUM(AG65:AG66),2) -> 0 | AN64: =SUM(AG64,AT64) -> 0 | AQ64: STA | AS64: =ROUND(SUM(AS65:AS66),2) -> 0 | AT64: =ROUND(SUM(AV64:AW64),2) -> 0 | AU64: =ROUND(SUM(AU65:AU66),5) -> 0 | AV64: =ROUND(AZ64*L29,2) -> 0 | AW64: =ROUND(BA64*L30,2) -> 0 | AX64: =ROUND(BB64*L29,2) -> 0 | AY64: =ROUND(BC64*L30,2) -> 0 | AZ64: =ROUND(SUM(AZ65:AZ66),2) -> 0 | BA64: =ROUND(SUM(BA65:BA66),2) -> 0 | BB64: =ROUND(SUM(BB65:BB66),2) -> 0 | BC64: =ROUND(SUM(BC65:BC66),2) -> 0 | BD64: =ROUND(SUM(BD65:BD66),2) -> 0 | BS64: D | BT64: 1 | BU64: ###NOIMPORT### | BV64: IMPORT | BW64: {8071f663-201a-43b1-a653-d8ffc4885e2b} | BX64: {bfdacc35-1c3a-4b3a-963a-74ed18961b7f} | CM64: 2
A65: / | E65: SO 04.1 | K65: Oprava propustku - km 25,786 | AG65: ='SO 04.1 - Oprava propustk...'!J32 -> 0 | AN65: =SUM(AG65,AT65) -> 0 | AQ65: Soupis | AS65: 0 | AT65: =ROUND(SUM(AV65:AW65),2) -> 0 | AU65: ='SO 04.1 - Oprava propustk...'!P99 -> 0 | AV65: ='SO 04.1 - Oprava propustk...'!J35 -> 0 | AW65: ='SO 04.1 - Oprava propustk...'!J36 -> 0 | AX65: ='SO 04.1 - Oprava propustk...'!J37 -> 0 | AY65: ='SO 04.1 - Oprava propustk...'!J38 -> 0 | AZ65: ='SO 04.1 - Oprava propustk...'!F35 -> 0 | BA65: ='SO 04.1 - Oprava propustk...'!F36 -> 0 | BB65: ='SO 04.1 - Oprava propustk...'!F37 -> 0 | BC65: ='SO 04.1 - Oprava propustk...'!F38 -> 0 | BD65: ='SO 04.1 - Oprava propustk...'!F39 -> 0 | BT65: 2 | BV65: IMPORT | BW65: {f3aca2a1-d40d-4b55-b152-7b0fe2b51f50} | BX65: {8071f663-201a-43b1-a653-d8ffc4885e2b}
A66: / | E66: SO 04.2 | K66: Železniční svršek - km 25,786 | AG66: ='SO 04.2 - Železniční svrš...'!J32 -> 0 | AN66: =SUM(AG66,AT66) -> 0 | AQ66: Soupis | AS66: 0 | AT66: =ROUND(SUM(AV66:AW66),2) -> 0 | AU66: ='SO 04.2 - Železniční svrš...'!P89 -> 0 | AV66: ='SO 04.2 - Železniční svrš...'!J35 -> 0 | AW66: ='SO 04.2 - Železniční svrš...'!J36 -> 0 | AX66: ='SO 04.2 - Železniční svrš...'!J37 -> 0 | AY66: ='SO 04.2 - Železniční svrš...'!J38 -> 0 | AZ66: ='SO 04.2 - Železniční svrš...'!F35 -> 0 | BA66: ='SO 04.2 - Železniční svrš...'!F36 -> 0 | BB66: ='SO 04.2 - Železniční svrš...'!F37 -> 0 | BC66: ='SO 04.2 - Železniční svrš...'!F38 -> 0 | BD66: ='SO 04.2 - Železniční svrš...'!F39 -> 0 | BT66: 2 | BV66: IMPORT | BW66: {0886fe5c-84c1-4732-9303-fa099ab41688} | BX66: {8071f663-201a-43b1-a653-d8ffc4885e2b}

Sheet SO 01.1 - Oprava propustk...
L2: >> skryté sloupce << | AT2: {b2203765-45e8-44e8-aad3-8488aecb4f7e}
AT3: 2
D4: KRYCÍ LIST SOUPISU PRACÍ | M4: v --- níže se nacházejí doplnkové a pomocné údaje k sestavám --- v | AT4: False
D6: Stavba:
E7: ='Rekapitulace stavby'!K6 -> Oprava propustků v km 24,666, 25,142, 25,589 a 25,786 na trati Vsetín - Velké Karlovice
D8: Objekt:
E9: SO 01 - Propustek v km 24,666
D10: Soupis:
E11: SO 01.1 - Oprava propustku - km 24,666
D13: KSO: | I13: CC-CZ:
D14: Místo: | I14: Datum: | J14: ='Rekapitulace stavby'!AN8 -> 3. 4. 2019
D16: Zadavatel: | I16: IČ: | J16: =IF('Rekapitulace stavby'!AN10="","",'Rekapitulace stavby'!AN10)
E17: =IF('Rekapitulace stavby'!E11="","",'Rekapitulace stavby'!E11) | I17: DIČ: | J17: =IF('Rekapitulace stavby'!AN11="","",'Rekapitulace stavby'!AN11)
D19: Uchazeč: | I19: IČ: | J19: ='Rekapitulace stavby'!AN13 -> Vyplň údaj
E20: ='Rekapitulace stavby'!E14 -> Vyplň údaj | I20: DIČ: | J20: ='Rekapitulace stavby'!AN14 -> Vyplň údaj
D22: Projektant: | I22: IČ: | J22: =IF('Rekapitulace stavby'!AN16="","",'Rekapitulace stavby'!AN16)
E23: =IF('Rekapitulace stavby'!E17="","",'Rekapitulace stavby'!E17) | I23: DIČ: | J23: =IF('Rekapitulace stavby'!AN17="","",'Rekapitulace stavby'!AN17)
D25: Zpracovatel: | I25: IČ: | J25: =IF('Rekapitulace stavby'!AN19="","",'Rekapitulace stavby'!AN19)
E26: =IF('Rekapitulace stavby'!E20="","",'Rekapitulace stavby'!E20) | I26: DIČ: | J26: =IF('Rekapitulace stavby'!AN20="","",'Rekapitulace stavby'!AN20)
D28: Poznámka:
D32: Cena bez DPH | J32: =ROUND(J99, 2) -> 0
F34: Základ daně | I34: Sazba daně | J34: Výše daně
D35: DPH | E35: základní | F35: =ROUND((SUM(BE99:BE164)), 2) -> 0 | I35: 0.21 | J35: =ROUND(((SUM(BE99:BE164))*I35), 2) -> 0
E36: snížená | F36: =ROUND((SUM(BF99:BF164)), 2) -> 0 | I36: 0.15 | J36: =ROUND(((SUM(BF99:BF164))*I36), 2) -> 0
E37: zákl. přenesená | F37: =ROUND((SUM(BG99:BG164)), 2) -> 0 | I37: 0.21 | J37: =0 -> 0
E38: sníž. přenesená | F38: =ROUND((SUM(BH99:BH164)), 2) -> 0 | I38: 0.15 | J38: =0 -> 0
E39: nulová | F39: =ROUND((SUM(BI99:BI164)), 2) -> 0 | I39: 0 | J39: =0 -> 0
D41: Cena s DPH | G41: v | H41: CZK | J41: =SUM(J32:J39) -> 0
C47: REKAPITULACE ČLENĚNÍ SOUPISU PRACÍ
C49: Stavba:
E50: =E7 -> Oprava propustků v km 24,666, 25,142, 25,589 a 25,786 na trati Vsetín - Velké Karlovice
C51: Objekt:
E52: SO 01 - Propustek v km 24,666
C53: Soupis:
E54: =E11 -> SO 01.1 - Oprava propustku - km 24,666
C56: Místo: | F56: =F14 | I56: Datum: | J56: =IF(J14="","",J14) -> 3. 4. 2019
C58: Zadavatel: | F58: =E17 | I58: Projektant: | J58: =E23
C59: Uchazeč: | F59: =IF(E20="","",E20) -> Vyplň údaj | I59: Zpracovatel: | J59: =E26
C61: Kód dílu - Popis | J61: Cena celkem [CZK]
C63: Náklady ze soupisu prací | J63: =J99 -> 0 | AU63: -1
D64: HSV - Práce a dodávky HSV | J64: =J100 -> 0
D65: 1 - Zemní práce | J65: =J101 -> 0
D66: 2 - Zakládání | J66: =J119 -> 0
D67: 4 - Vodorovné konstrukce | J67: =J125 -> 0
D68: 8 - Trubní vedení | J68: =J129 -> 0
D69: 9 - Ostatní konstrukce a práce-bourání | J69: =J131 -> 0
D70: 997 - Přesun sutě | J70: =J138 -> 0
D71: 998 - Přesun hmot | J71: =J144 -> 0
D72: PSV - Práce a dodávky PSV | J72: =J146 -> 0
D73: 711 - Izolace proti vodě, vlhkosti a plynům | J73: =J147 -> 0
D74: VRN - Vedlejší rozpočtové náklady | J74: =J153 -> 0
D75: VRN1 - Průzkumné, geodetické a projektové práce | J75: =J154 -> 0
D76: VRN3 - Zařízení staveniště | J76: =J157 -> 0
D77: VRN9 - Ostatní náklady | J77: =J161 -> 0
C84: SOUPIS PRACÍ
C86: Stavba:
E87: =E7 -> Oprava propustků v km 24,666, 25,142, 25,589 a 25,786 na trati Vsetín - Velké Karlovice
C88: Objekt:
E89: SO 01 - Propustek v km 24,666
C90: Soupis:
E91: =E11 -> SO 01.1 - Oprava propustku - km 24,666
C93: Místo: | F93: =F14 | I93: Datum: | J93: =IF(J14="","",J14) -> 3. 4. 2019
C95: Zadavatel: | F95: =E17 | I95: Projektant: | J95: =E23
C96: Uchazeč: | F96: =IF(E20="","",E20) -> Vyplň údaj | I96: Zpracovatel: | J96: =E26
C98: PČ | D98: Typ | E98: Kód | F98: Popis | G98: MJ | H98: Množství | I98: J.cena [CZK] | J98: Cena celkem [CZK] | K98: Cenová soustava | N98: DPH | O98: J. Nh [h] | P98: Nh celkem [h] | Q98: J. hmotnost [t] | R98: Hmotnost celkem [t] | S98: J. suť [t] | T98: Suť Celkem [t]
C99: Náklady soupisu celkem | J99: =BK99 -> 0 | P99: =P100+P146+P153 -> 0 | R99: =R100+R146+R153 -> 59.925766 | T99: =T100+T146+T153 -> 37.641 | AT99: D | AU99: -1 | BK99: =BK100+BK146+BK153 -> 0
D100: D | E100: HSV | F100: Práce a dodávky HSV | J100: =BK100 -> 0 | P100: =P101+P119+P125+P129+P131+P138+P144 -> 0 | R100: =R101+R119+R125+R129+R131+R138+R144 -> 59.323558 | T100: =T101+T119+T125+T129+T131+T138+T144 -> 37.641 | AR100: 1 | AT100: D | AU100: 0 | AY100: ROZPOCET | BK100: =BK101+BK119+BK125+BK129+BK131+BK138+BK144 -> 0
D101: D | E101: 1 | F101: Zemní práce | J101: =BK101 -> 0 | P101: =SUM(P102:P118) -> 0 | R101: =SUM(R102:R118) -> 0.00132 | T101: =SUM(T102:T118) -> 7.032 | AR101: 1 | AT101: D | AU101: 1 | AY101: ROZPOCET | BK101: =SUM(BK102:BK118) -> 0
C102: 1 | D102: K | E102: 113105113 | F102: Rozebrání dlažeb z lomového kamene kladených na MC vyspárované MC | G102: m2 | H102: 12 | J102: =ROUND(I102*H102,2) -> 0 | N102: základní | P102: =O102*H102 -> 0 | Q102: 0 | R102: =Q102*H102 -> 0 | S102: 0.586 | T102: =S102*H102 -> 7.032 | AR102: 4 | AT102: K | AU102: 2 | AY102: ROZPOCET | BE102: =IF(N102="základní",J102,0) -> 0 | BF102: =IF(N102="snížená",J102,0) -> 0 | BG102: =IF(N102="zákl. přenesená",J102,0) -> 0 | BH102: =IF(N102="sníž. přenesená",J102,0) -> 0 | BI102: =IF(N102="nulová",J102,0) -> 0 | BJ102: 1 | BK102: =ROUND(I102*H102,2) -> 0 | BL102: 4 | BM102: 2
C103: 2 | D103: K | E103: 115101202 | F103: Čerpání vody na dopravní výšku do 10 m průměrný přítok do 1000 l/min | G103: hod | H103: 24 | J103: =ROUND(I103*H103,2) -> 0 | N103: základní | P103: =O103*H103 -> 0 | Q103: 0 | R103: =Q103*H103 -> 0 | S103: 0 | T103: =S103*H103 -> 0 | AR103: 4 | AT103: K | AU103: 2 | AY103: ROZPOCET | BE103: =IF(N103="základní",J103,0) -> 0 | BF103: =IF(N103="snížená",J103,0) -> 0 | BG103: =IF(N103="zákl. přenesená",J103,0) -> 0 | BH103: =IF(N103="sníž. přenesená",J103,0) -> 0 | BI103: =IF(N103="nulová",J103,0) -> 0 | BJ103: 1 | BK103: =ROUND(I103*H103,2) -> 0 | BL103: 4 | BM103: 4
C104: 3 | D104: K | E104: 121101101 | F104: Sejmutí ornice s přemístěním na vzdálenost do 50 m | G104: m3 | H104: 33.6 | J104: =ROUND(I104*H104,2) -> 0 | N104: základní | P104: =O104*H104 -> 0 | Q104: 0 | R104: =Q104*H104 -> 0 | S104: 0 | T104: =S104*H104 -> 0 | AR104: 4 | AT104: K | AU104: 2 | AY104: ROZPOCET | BE104: =IF(N104="základní",J104,0) -> 0 | BF104: =IF(N104="snížená",J104,0) -> 0 | BG104: =IF(N104="zákl. přenesená",J104,0) -> 0 | BH104: =IF(N104="sníž. přenesená",J104,0) -> 0 | BI104: =IF(N104="nulová",J104,0) -> 0 | BJ104: 1 | BK104: =ROUND(I104*H104,2) -> 0 | BL104: 4 | BM104: 6
C105: 4 | D105: K | E105: 131201102 | F105: Hloubení jam nezapažených v hornině tř. 3 objemu do 1000 m3 | G105: m3 | H105: 110.6 | J105: =ROUND(I105*H105,2) -> 0 | N105: základní | P105: =O105*H105 -> 0 | Q105: 0 | R105: =Q105*H105 -> 0 | S105: 0 | T105: =S105*H105 -> 0 | AR105: 4 | AT105: K | AU105: 2 | AY105: ROZPOCET | BE105: =IF(N105="základní",J105,0) -> 0 | BF105: =IF(N105="snížená",J105,0) -> 0 | BG105: =IF(N105="zákl. přenesená",J105,0) -> 0 | BH105: =IF(N105="sníž. přenesená",J105,0) -> 0 | BI105: =IF(N105="nulová",J105,0) -> 0 | BJ105: 1 | BK105: =ROUND(I105*H105,2) -> 0 | BL105: 4 | BM105: 8
C106: 5 | D106: K | E106: 131201109 | F106: Příplatek za lepivost u hloubení jam nezapažených v hornině tř. 3 | G106: m3 | H106: 110.6 | J106: =ROUND(I106*H106,2) -> 0 | N106: základní | P106: =O106*H106 -> 0 | Q106: 0 | R106: =Q106*H106 -> 0 | S106: 0 | T106: =S106*H106 -> 0 | AR106: 4 | AT106: K | AU106: 2 | AY106: ROZPOCET | BE106: =IF(N106="základní",J106,0) -> 0 | BF106: =IF(N106="snížená",J106,0) -> 0 | BG106: =IF(N106="zákl. přenesená",J106,0) -> 0 | BH106: =IF(N106="sníž. přenesená",J106,0) -> 0 | BI106: =IF(N106="nulová",J106,0) -> 0 | BJ106: 1 | BK106: =ROUND(I106*H106,2) -> 0 | BL106: 4 | BM106: 10
C107: 6 | D107: K | E107: 132201101 | F107: Hloubení rýh š do 600 mm v hornině tř. 3 objemu do 100 m3 | G107: m3 | H107: 7.5 | J107: =ROUND(I107*H107,2) -> 0 | N107: základní | P107: =O107*H107 -> 0 | Q107: 0 | R107: =Q107*H107 -> 0 | S107: 0 | T107: =S107*H107 -> 0 | AR107: 4 | AT107: K | AU107: 2 | AY107: ROZPOCET | BE107: =IF(N107="základní",J107,0) -> 0 | BF107: =IF(N107="snížená",J107,0) -> 0 | BG107: =IF(N107="zákl. přenesená",J107,0) -> 0 | BH107: =IF(N107="sníž. přenesená",J107,0) -> 0 | BI107: =IF(N107="nulová",J107,0) -> 0 | BJ107: 1 | BK107: =ROUND(I107*H107,2) -> 0 | BL107: 4 | BM107: 12
C108: 7 | D108: K | E108: 132201109 | F108: Příplatek za lepivost k hloubení rýh š do 600 mm v hornině tř. 3 | G108: m3 | H108: 7.5 | J108: =ROUND(I108*H108,2) -> 0 | N108: základní | P108: =O108*H108 -> 0 | Q108: 0 | R108: =Q108*H108 -> 0 | S108: 0 | T108: =S108*H108 -> 0 | AR108: 4 | AT108: K | AU108: 2 | AY108: ROZPOCET | BE108: =IF(N108="základní",J108,0) -> 0 | BF108: =IF(N108="snížená",J108,0) -> 0 | BG108: =IF(N108="zákl. přenesená",J108,0) -> 0 | BH108: =IF(N108="sníž. přenesená",J108,0) -> 0 | BI108: =IF(N108="nulová",J108,0) -> 0 | BJ108: 1 | BK108: =ROUND(I108*H108,2) -> 0 | BL108: 4 | BM108: 14
C109: 8 | D109: K | E109: 162701105 | F109: Vodorovné přemístění do 10000 m výkopku/sypaniny z horniny tř. 1 až 4 | G109: m3 | H109: 8.1 | J109: =ROUND(I109*H109,2) -> 0 | N109: základní | P109: =O109*H109 -> 0 | Q109: 0 | R109: =Q109*H109 -> 0 | S109: 0 | T109: =S109*H109 -> 0 | AR109: 4 | AT109: K | AU109: 2 | AY109: ROZPOCET | BE109: =IF(N109="základní",J109,0) -> 0 | BF109: =IF(N109="snížená",J109,0) -> 0 | BG109: =IF(N109="zákl. přenesená",J109,0) -> 0 | BH109: =IF(N109="sníž. přenesená",J109,0) -> 0 | BI109: =IF(N109="nulová",J109,0) -> 0 | BJ109: 1 | BK109: =ROUND(I109*H109,2) -> 0 | BL109: 4 | BM109: 16
C110: 9 | D110: K | E110: 162701109 | F110: Příplatek k vodorovnému přemístění výkopku/sypaniny z horniny tř. 1 až 4 ZKD 1000 m přes 10000 m | G110: m3 | H110: 81 | J110: =ROUND(I110*H110,2) -> 0 | N110: základní | P110: =O110*H110 -> 0 | Q110: 0 | R110: =Q110*H110 -> 0 | S110: 0 | T110: =S110*H110 -> 0 | AR110: 4 | AT110: K | AU110: 2 | AY110: ROZPOCET | BE110: =IF(N110="základní",J110,0) -> 0 | BF110: =IF(N110="snížená",J110,0) -> 0 | BG110: =IF(N110="zákl. přenesená",J110,0) -> 0 | BH110: =IF(N110="sníž. přenesená",J110,0) -> 0 | BI110: =IF(N110="nulová",J110,0) -> 0 | BJ110: 1 | BK110: =ROUND(I110*H110,2) -> 0 | BL110: 4 | BM110: 18
C111: 10 | D111: K | E111: 167101102 | F111: Nakládání výkopku z hornin tř. 1 až 4 přes 100 m3 | G111: m3 | H111: 8.1 | J111: =ROUND(I111*H111,2) -> 0 | N111: základní | P111: =O111*H111 -> 0 | Q111: 0 | R111: =Q111*H111 -> 0 | S111: 0 | T111: =S111*H111 -> 0 | AR111: 4 | AT111: K | AU111: 2 | AY111: ROZPOCET | BE111: =IF(N111="základní",J111,0) -> 0 | BF111: =IF(N111="snížená",J111,0) -> 0 | BG111: =IF(N111="zákl. přenesená",J111,0) -> 0 | BH111: =IF(N111="sníž. přenesená",J111,0) -> 0 | BI111: =IF(N111="nulová",J111,0) -> 0 | BJ111: 1 | BK111: =ROUND(I111*H111,2) -> 0 | BL111: 4 | BM111: 20
C112: 11 | D112: K | E112: 171101101 | F112: Uložení sypaniny z hornin soudržných do násypů zhutněných na 95 % PS | G112: m3 | H112: 33 | J112: =ROUND(I112*H112,2) -> 0 | N112: základní | P112: =O112*H112 -> 0 | Q112: 0 | R112: =Q112*H112 -> 0 | S112: 0 | T112: =S112*H112 -> 0 | AR112: 4 | AT112: K | AU112: 2 | AY112: ROZPOCET | BE112: =IF(N112="základní",J112,0) -> 0 | BF112: =IF(N112="snížená",J112,0) -> 0 | BG112: =IF(N112="zákl. přenesená",J112,0) -> 0 | BH112: =IF(N112="sníž. přenesená",J112,0) -> 0 | BI112: =IF(N112="nulová",J112,0) -> 0 | BJ112: 1 | BK112: =ROUND(I112*H112,2) -> 0 | BL112: 4 | BM112: 22
C113: 12 | D113: K | E113: 171201201 | F113: Uložení sypaniny na skládky | G113: m3 | H113: 8.1 | J113: =ROUND(I113*H113,2) -> 0 | N113: základní | P113: =O113*H113 -> 0 | Q113: 0 | R113: =Q113*H113 -> 0 | S113: 0 | T113: =S113*H113 -> 0 | AR113: 4 | AT113: K | AU113: 2 | AY113: ROZPOCET | BE113: =IF(N113="základní",J113,0) -> 0 | BF113: =IF(N113="snížená",J113,0) -> 0 | BG113: =IF(N113="zákl. přenesená",J113,0) -> 0 | BH113: =IF(N113="sníž. přenesená",J113,0) -> 0 | BI113: =IF(N113="nulová",J113,0) -> 0 | BJ113: 1 | BK113: =ROUND(I113*H113,2) -> 0 | BL113: 4 | BM113: 24
... C118: 17 | D118: M | E118: 005724740 | F118: osivo směs travní krajinná - svahová | G118: kg | H118: 1.32 | J118: =ROUND(I118*H118,2) -> 0 | N118: základní | P118: =O118*H118 -> 0 | Q118: 0.001 | R118: =Q118*H118 -> 0.00132 | S118: 0 | T118: =S118*H118 -> 0 | AR118: 8 | AT118: M | AU118: 2 | AY118: ROZPOCET | BE118: =IF(N118="základní",J118,0) -> 0 | BF118: =IF(N118="snížená",J118,0) -> 0 | BG118: =IF(N118="zákl. přenesená",J118,0) -> 0 | BH118: =IF(N118="sníž. přenesená",J118,0) -> 0 | BI118: =IF(N118="nulová",J118,0) -> 0 | BJ118: 1 | BK118: =ROUND(I118*H118,2) -> 0 | BL118: 4 | BM118: 34
D119: D | E119: 2 | F119: Zakládání | J119: =BK119 -> 0 | P119: =SUM(P120:P124) -> 0 | R119: =SUM(R120:R124) -> 12.420725 | T119: =SUM(T120:T124) -> 0 | AR119: 1 | AT119: D | AU119: 1 | AY119: ROZPOCET | BK119: =SUM(BK120:BK124) -> 0
C120: 18 | D120: K | E120: 273321118 | F120: Základové desky ze ŽB C 30/37 | G120: m3 | H120: 4.898 | J120: =ROUND(I120*H120,2) -> 0 | N120: základní | P120: =O120*H120 -> 0 | Q120: 2.526248 | R120: =Q120*H120 -> 12.373563 | S120: 0 | T120: =S120*H120 -> 0 | AR120: 4 | AT120: K | AU120: 2 | AY120: ROZPOCET | BE120: =IF(N120="základní",J120,0) -> 0 | BF120: =IF(N120="snížená",J120,0) -> 0 | BG120: =IF(N120="zákl. přenesená",J120,0) -> 0 | BH120: =IF(N120="sníž. přenesená",J120,0) -> 0 | BI120: =IF(N120="nulová",J120,0) -> 0 | BJ120: 1 | BK120: =ROUND(I120*H120,2) -> 0 | BL120: 4 | BM120: 36
C121: 19 | D121: K | E121: 273354111 | F121: Bednění základových desek - zřízení | G121: m2 | H121: 6.65 | J121: =ROUND(I121*H121,2) -> 0 | N121: základní | P121: =O121*H121 -> 0 | Q121: 0.0014357 | R121: =Q121*H121 -> 0.009547405 | S121: 0 | T121: =S121*H121 -> 0 | AR121: 4 | AT121: K | AU121: 2 | AY121: ROZPOCET | BE121: =IF(N121="základní",J121,0) -> 0 | BF121: =IF(N121="snížená",J121,0) -> 0 | BG121: =IF(N121="zákl. přenesená",J121,0) -> 0 | BH121: =IF(N121="sníž. přenesená",J121,0) -> 0 | BI121: =IF(N121="nulová",J121,0) -> 0 | BJ121: 1 | BK121: =ROUND(I121*H121,2) -> 0 | BL121: 4 | BM121: 38
C122: 20 | D122: K | E122: 273354211 | F122: Bednění základových desek - odstranění | G122: m2 | H122: 6.65 | J122: =ROUND(I122*H122,2) -> 0 | N122: základní | P122: =O122*H122 -> 0 | Q122: 3.6e-05 | R122: =Q122*H122 -> 0.0002394 | S122: 0 | T122: =S122*H122 -> 0 | AR122: 4 | AT122: K | AU122: 2 | AY122: ROZPOCET | BE122: =IF(N122="základní",J122,0) -> 0 | BF122: =IF(N122="snížená",J122,0) -> 0 | BG122: =IF(N122="zákl. přenesená",J122,0) -> 0 | BH122: =IF(N122="sníž. přenesená",J122,0) -> 0 | BI122: =IF(N122="nulová",J122,0) -> 0 | BJ122: 1 | BK122: =ROUND(I122*H122,2) -> 0 | BL122: 4 | BM122: 40
C123: 21 | D123: K | E123: 273361116 | F123: Výztuž základových desek z betonářské oceli 10 505 | G123: t | H123: 0.036 | J123: =ROUND(I123*H123,2) -> 0 | N123: základní | P123: =O123*H123 -> 0 | Q123: 1.038217 | R123: =Q123*H123 -> 0.037375812 | S123: 0 | T123: =S123*H123 -> 0 | AR123: 4 | AT123: K | AU123: 2 | AY123: ROZPOCET | BE123: =IF(N123="základní",J123,0) -> 0 | BF123: =IF(N123="snížená",J123,0) -> 0 | BG123: =IF(N123="zákl. přenesená",J123,0) -> 0 | BH123: =IF(N123="sníž. přenesená",J123,0) -> 0 | BI123: =IF(N123="nulová",J123,0) -> 0 | BJ123: 1 | BK123: =ROUND(I123*H123,2) -> 0 | BL123: 4 | BM123: 42
C124: 22 | D124: K | E124: 273361413-R | F124: Výztuž základových desek ze svařovaných sítí do 8 kg/m2 | G124: t | H124: 0.455 | J124: =ROUND(I124*H124,2) -> 0 | N124: základní | P124: =O124*H124 -> 0 | Q124: 0 | R124: =Q124*H124 -> 0 | S124: 0 | T124: =S124*H124 -> 0 | AR124: 4 | AT124: K | AU124: 2 | AY124: ROZPOCET | BE124: =IF(N124="základní",J124,0) -> 0 | BF124: =IF(N124="snížená",J124,0) -> 0 | BG124: =IF(N124="zákl. přenesená",J124,0) -> 0 | BH124: =IF(N124="sníž. přenesená",J124,0) -> 0 | BI124: =IF(N124="nulová",J124,0) -> 0 | BJ124: 1 | BK124: =ROUND(I124*H124,2) -> 0 | BL124: 4 | BM124: 44
D125: D | E125: 4 | F125: Vodorovné konstrukce | J125: =BK125 -> 0 | P125: =SUM(P126:P128) -> 0 | R125: =SUM(R126:R128) -> 29.780259 | T125: =SUM(T126:T128) -> 0 | AR125: 1 | AT125: D | AU125: 1 | AY125: ROZPOCET | BK125: =SUM(BK126:BK128) -> 0
C126: 23 | D126: K | E126: 451315110-R | F126: Podkladní nebo vyrovnávací vrstva z betonu C25/30 tl 150 mm | G126: m2 | H126: 22.578 | J126: =ROUND(I126*H126,2) -> 0 | N126: základní | P126: =O126*H126 -> 0 | Q126: 0 | R126: =Q126*H126 -> 0 | S126: 0 | T126: =S126*H126 -> 0 | AR126: 4 | AT126: K | AU126: 2 | AY126: ROZPOCET | BE126: =IF(N126="základní",J126,0) -> 0 | BF126: =IF(N126="snížená",J126,0) -> 0 | BG126: =IF(N126="zákl. přenesená",J126,0) -> 0 | BH126: =IF(N126="sníž. přenesená",J126,0) -> 0 | BI126: =IF(N126="nulová",J126,0) -> 0 | BJ126: 1 | BK126: =ROUND(I126*H126,2) -> 0 | BL126: 4 | BM126: 46
C127: 24 | D127: K | E127: 452318510 | F127: Zajišťovací práh z betonu prostého | G127: m3 | H127: 3 | J127: =ROUND(I127*H127,2) -> 0 | N127: základní | P127: =O127*H127 -> 0 | Q127: 2.492545 | R127: =Q127*H127 -> 7.477635 | S127: 0 | T127: =S127*H127 -> 0 | AR127: 4 | AT127: K | AU127: 2 | AY127: ROZPOCET | BE127: =IF(N127="základní",J127,0) -> 0 | BF127: =IF(N127="snížená",J127,0) -> 0 | BG127: =IF(N127="zákl. přenesená",J127,0) -> 0 | BH127: =IF(N127="sníž. přenesená",J127,0) -> 0 | BI127: =IF(N127="nulová",J127,0) -> 0 | BJ127: 1 | BK127: =ROUND(I127*H127,2) -> 0 | BL127: 4 | BM127: 48
C128: 25 | D128: K | E128: 465511523 | F128: Dlažba z lomového kamene do malty s vyplněním spár maltou a vyspárováním plocha nad 20 m2 tl 300 mm | G128: m2 | H128: 24 | J128: =ROUND(I128*H128,2) -> 0 | N128: základní | P128: =O128*H128 -> 0 | Q128: 0.929276 | R128: =Q128*H128 -> 22.302624 | S128: 0 | T128: =S128*H128 -> 0 | AR128: 4 | AT128: K | AU128: 2 | AY128: ROZPOCET | BE128: =IF(N128="základní",J128,0) -> 0 | BF128: =IF(N128="snížená",J128,0) -> 0 | BG128: =IF(N128="zákl. přenesená",J128,0) -> 0 | BH128: =IF(N128="sníž. přenesená",J128,0) -> 0 | BI128: =IF(N128="nulová",J128,0) -> 0 | BJ128: 1 | BK128: =ROUND(I128*H128,2) -> 0 | BL128: 4 | BM128: 50
D129: D | E129: 8 | F129: Trubní vedení | J129: =BK129 -> 0 | P129: =P130 -> 0 | R129: =R130 -> 0 | T129: =T130 -> 0 | AR129: 1 | AT129: D | AU129: 1 | AY129: ROZPOCET | BK129: =BK130 -> 0
C130: 26 | D130: K | E130: 894812438 | F130: Revizní a čistící šachta z PP DN 1000 šachtová skruž světlé hloubky 1000 mm | G130: kus | H130: 1 | J130: =ROUND(I130*H130,2) -> 0 | N130: základní | P130: =O130*H130 -> 0 | Q130: 0 | R130: =Q130*H130 -> 0 | S130: 0 | T130: =S130*H130 -> 0 | AR130: 4 | AT130: K | AU130: 2 | AY130: ROZPOCET | BE130: =IF(N130="základní",J130,0) -> 0 | BF130: =IF(N130="snížená",J130,0) -> 0 | BG130: =IF(N130="zákl. přenesená",J130,0) -> 0 | BH130: =IF(N130="sníž. přenesená",J130,0) -> 0 | BI130: =IF(N130="nulová",J130,0) -> 0 | BJ130: 1 | BK130: =ROUND(I130*H130,2) -> 0 | BL130: 4 | BM130: 52
D131: D | E131: 9 | F131: Ostatní konstrukce a práce-bourání | J131: =BK131 -> 0 | P131: =SUM(P132:P137) -> 0 | R131: =SUM(R132:R137) -> 17.121254 | T131: =SUM(T132:T137) -> 30.609 | AR131: 1 | AT131: D | AU131: 1 | AY131: ROZPOCET | BK131: =SUM(BK132:BK137) -> 0
C132: 27 | D132: K | E132: 919521017 | F132: Zřízení propustků z trub betonových DN 800 | G132: m | H132: 11.9 | J132: =ROUND(I132*H132,2) -> 0 | N132: základní | P132: =O132*H132 -> 0 | Q132: 1.4387608 | R132: =Q132*H132 -> 17.121254 | S132: 0 | T132: =S132*H132 -> 0 | AR132: 4 | AT132: K | AU132: 2 | AY132: ROZPOCET | BE132: =IF(N132="základní",J132,0) -> 0 | BF132: =IF(N132="snížená",J132,0) -> 0 | BG132: =IF(N132="zákl. přenesená",J132,0) -> 0 | BH132: =IF(N132="sníž. přenesená",J132,0) -> 0 | BI132: =IF(N132="nulová",J132,0) -> 0 | BJ132: 1 | BK132: =ROUND(I132*H132,2) -> 0 | BL132: 4 | BM132: 54
C133: 28 | D133: M | E133: 592211460-R | F133: trouba železobetonová patková DN 800 | G133: kus | H133: 9 | J133: =ROUND(I133*H133,2) -> 0 | N133: základní | P133: =O133*H133 -> 0 | Q133: 0 | R133: =Q133*H133 -> 0 | S133: 0 | T133: =S133*H133 -> 0 | AR133: 8 | AT133: M | AU133: 2 | AY133: ROZPOCET | BE133: =IF(N133="základní",J133,0) -> 0 | BF133: =IF(N133="snížená",J133,0) -> 0 | BG133: =IF(N133="zákl. přenesená",J133,0) -> 0 | BH133: =IF(N133="sníž. přenesená",J133,0) -> 0 | BI133: =IF(N133="nulová",J133,0) -> 0 | BJ133: 1 | BK133: =ROUND(I133*H133,2) -> 0 | BL133: 4 | BM133: 56
C134: 29 | D134: M | E134: 592211461-R | F134: trouba šikmá vtoková/výtoková železobetonová patková DN 800 | G134: kus | H134: 2 | J134: =ROUND(I134*H134,2) -> 0 | N134: základní | P134: =O134*H134 -> 0 | Q134: 0 | R134: =Q134*H134 -> 0 | S134: 0 | T134: =S134*H134 -> 0 | AR134: 8 | AT134: M | AU134: 2 | AY134: ROZPOCET | BE134: =IF(N134="základní",J134,0) -> 0 | BF134: =IF(N134="snížená",J134,0) -> 0 | BG134: =IF(N134="zákl. přenesená",J134,0) -> 0 | BH134: =IF(N134="sníž. přenesená",J134,0) -> 0 | BI134: =IF(N134="nulová",J134,0) -> 0 | BJ134: 1 | BK134: =ROUND(I134*H134,2) -> 0 | BL134: 4 | BM134: 58
C135: 30 | D135: K | E135: 961044111 | F135: Bourání základů z betonu prostého | G135: m3 | H135: 13.2 | J135: =ROUND(I135*H135,2) -> 0 | N135: základní | P135: =O135*H135 -> 0 | Q135: 0 | R135: =Q135*H135 -> 0 | S135: 2 | T135: =S135*H135 -> 26.4 | AR135: 4 | AT135: K | AU135: 2 | AY135: ROZPOCET | BE135: =IF(N135="základní",J135,0) -> 0 | BF135: =IF(N135="snížená",J135,0) -> 0 | BG135: =IF(N135="zákl. přenesená",J135,0) -> 0 | BH135: =IF(N135="sníž. přenesená",J135,0) -> 0 | BI135: =IF(N135="nulová",J135,0) -> 0 | BJ135: 1 | BK135: =ROUND(I135*H135,2) -> 0 | BL135: 4 | BM135: 60
C136: 31 | D136: K | E136: 966008113 | F136: Bourání trubního propustku do DN 800 | G136: m | H136: 2 | J136: =ROUND(I136*H136,2) -> 0 | N136: základní | P136: =O136*H136 -> 0 | Q136: 0 | R136: =Q136*H136 -> 0 | S136: 2.055 | T136: =S136*H136 -> 4.11 | AR136: 4 | AT136: K | AU136: 2 | AY136: ROZPOCET | BE136: =IF(N136="základní",J136,0) -> 0 | BF136: =IF(N136="snížená",J136,0) -> 0 | BG136: =IF(N136="zákl. přenesená",J136,0) -> 0 | BH136: =IF(N136="sníž. přenesená",J136,0) -> 0 | BI136: =IF(N136="nulová",J136,0) -> 0 | BJ136: 1 | BK136: =ROUND(I136*H136,2) -> 0 | BL136: 4 | BM136: 62
C137: 32 | D137: K | E137: 976044311 | F137: Vybourání betonových nebo ŽB obrub šachet průřezu přes 0,03 m2 | G137: m | H137: 1 | J137: =ROUND(I137*H137,2) -> 0 | N137: základní | P137: =O137*H137 -> 0 | Q137: 0 | R137: =Q137*H137 -> 0 | S137: 0.099 | T137: =S137*H137 -> 0.099 | AR137: 4 | AT137: K | AU137: 2 | AY137: ROZPOCET | BE137: =IF(N137="základní",J137,0) -> 0 | BF137: =IF(N137="snížená",J137,0) -> 0 | BG137: =IF(N137="zákl. přenesená",J137,0) -> 0 | BH137: =IF(N137="sníž. přenesená",J137,0) -> 0 | BI137: =IF(N137="nulová",J137,0) -> 0 | BJ137: 1 | BK137: =ROUND(I137*H137,2) -> 0 | BL137: 4 | BM137: 64
...

Sheet SO 01.2 - Železniční svrš...
L2: >> skryté sloupce << | AT2: {284f8085-8b09-475b-a92b-7c6dfe53a080}
AT3: 2
D4: KRYCÍ LIST SOUPISU PRACÍ | M4: v --- níže se nacházejí doplnkové a pomocné údaje k sestavám --- v | AT4: False
D6: Stavba:
E7: ='Rekapitulace stavby'!K6 -> Oprava propustků v km 24,666, 25,142, 25,589 a 25,786 na trati Vsetín - Velké Karlovice
D8: Objekt:
E9: SO 01 - Propustek v km 24,666
D10: Soupis:
E11: SO 01.2 - Železniční svršek - km 24,666
D13: KSO: | I13: CC-CZ:
D14: Místo: | I14: Datum: | J14: ='Rekapitulace stavby'!AN8 -> 3. 4. 2019
D16: Zadavatel: | I16: IČ: | J16: =IF('Rekapitulace stavby'!AN10="","",'Rekapitulace stavby'!AN10)
E17: =IF('Rekapitulace stavby'!E11="","",'Rekapitulace stavby'!E11) | I17: DIČ: | J17: =IF('Rekapitulace stavby'!AN11="","",'Rekapitulace stavby'!AN11)
D19: Uchazeč: | I19: IČ: | J19: ='Rekapitulace stavby'!AN13 -> Vyplň údaj
E20: ='Rekapitulace stavby'!E14 -> Vyplň údaj | I20: DIČ: | J20: ='Rekapitulace stavby'!AN14 -> Vyplň údaj
D22: Projektant: | I22: IČ: | J22: =IF('Rekapitulace stavby'!AN16="","",'Rekapitulace stavby'!AN16)
E23: =IF('Rekapitulace stavby'!E17="","",'Rekapitulace stavby'!E17) | I23: DIČ: | J23: =IF('Rekapitulace stavby'!AN17="","",'Rekapitulace stavby'!AN17)
D25: Zpracovatel: | I25: IČ: | J25: =IF('Rekapitulace stavby'!AN19="","",'Rekapitulace stavby'!AN19)
E26: =IF('Rekapitulace stavby'!E20="","",'Rekapitulace stavby'!E20) | I26: DIČ: | J26: =IF('Rekapitulace stavby'!AN20="","",'Rekapitulace stavby'!AN20)
D28: Poznámka:
D32: Cena bez DPH | J32: =ROUND(J89, 2) -> 0
F34: Základ daně | I34: Sazba daně | J34: Výše daně
D35: DPH | E35: základní | F35: =ROUND((SUM(BE89:BE112)), 2) -> 0 | I35: 0.21 | J35: =ROUND(((SUM(BE89:BE112))*I35), 2) -> 0
E36: snížená | F36: =ROUND((SUM(BF89:BF112)), 2) -> 0 | I36: 0.15 | J36: =ROUND(((SUM(BF89:BF112))*I36), 2) -> 0
E37: zákl. přenesená | F37: =ROUND((SUM(BG89:BG112)), 2) -> 0 | I37: 0.21 | J37: =0 -> 0
E38: sníž. přenesená | F38: =ROUND((SUM(BH89:BH112)), 2) -> 0 | I38: 0.15 | J38: =0 -> 0
E39: nulová | F39: =ROUND((SUM(BI89:BI112)), 2) -> 0 | I39: 0 | J39: =0 -> 0
D41: Cena s DPH | G41: v | H41: CZK | J41: =SUM(J32:J39) -> 0
C47: REKAPITULACE ČLENĚNÍ SOUPISU PRACÍ
C49: Stavba:
E50: =E7 -> Oprava propustků v km 24,666, 25,142, 25,589 a 25,786 na trati Vsetín - Velké Karlovice
C51: Objekt:
E52: SO 01 - Propustek v km 24,666
C53: Soupis:
E54: =E11 -> SO 01.2 - Železniční svršek - km 24,666
C56: Místo: | F56: =F14 | I56: Datum: | J56: =IF(J14="","",J14) -> 3. 4. 2019
C58: Zadavatel: | F58: =E17 | I58: Projektant: | J58: =E23
C59: Uchazeč: | F59: =IF(E20="","",E20) -> Vyplň údaj | I59: Zpracovatel: | J59: =E26
C61: Kód dílu - Popis | J61: Cena celkem [CZK]
C63: Náklady ze soupisu prací | J63: =J89 -> 0 | AU63: -1
D64: HSV - Práce a dodávky HSV | J64: =J90 -> 0
D65: 5 - Komunikace | J65: =J91 -> 0
D66: 997 - Přesun sutě | J66: =J107 -> 0
D67: 998 - Přesun hmot | J67: =J111 -> 0
C74: SOUPIS PRACÍ
C76: Stavba:
E77: =E7 -> Oprava propustků v km 24,666, 25,142, 25,589 a 25,786 na trati Vsetín - Velké Karlovice
C78: Objekt:
E79: SO 01 - Propustek v km 24,666
C80: Soupis:
E81: =E11 -> SO 01.2 - Železniční svršek - km 24,666
C83: Místo: | F83: =F14 | I83: Datum: | J83: =IF(J14="","",J14) -> 3. 4. 2019
C85: Zadavatel: | F85: =E17 | I85: Projektant: | J85: =E23
C86: Uchazeč: | F86: =IF(E20="","",E20) -> Vyplň údaj | I86: Zpracovatel: | J86: =E26
C88: PČ | D88: Typ | E88: Kód | F88: Popis | G88: MJ | H88: Množství | I88: J.cena [CZK] | J88: Cena celkem [CZK] | K88: Cenová soustava | N88: DPH | O88: J. Nh [h] | P88: Nh celkem [h] | Q88: J. hmotnost [t] | R88: Hmotnost celkem [t] | S88: J. suť [t] | T88: Suť Celkem [t]
C89: Náklady soupisu celkem | J89: =BK89 -> 0 | P89: =P90 -> 0 | R89: =R90 -> 135.458 | T89: =T90 -> 0 | AT89: D | AU89: -1 | BK89: =BK90 -> 0
D90: D | E90: HSV | F90: Práce a dodávky HSV | J90: =BK90 -> 0 | P90: =P91+P107+P111 -> 0 | R90: =R91+R107+R111 -> 135.458 | T90: =T91+T107+T111 -> 0 | AR90: 1 | AT90: D | AU90: 0 | AY90: ROZPOCET | BK90: =BK91+BK107+BK111 -> 0
D91: D | E91: 5 | F91: Komunikace | J91: =BK91 -> 0 | P91: =SUM(P92:P106) -> 0 | R91: =SUM(R92:R106) -> 135.458 | T91: =SUM(T92:T106) -> 0 | AR91: 1 | AT91: D | AU91: 1 | AY91: ROZPOCET | BK91: =SUM(BK92:BK106) -> 0
C92: 1 | D92: K | E92: 5905035120 | F92: Výměna KL malou těžící mechanizací včetně lavičky (pod ložnou plochou pražce) zapuštěného | G92: m3 | H92: 28.504 | J92: =ROUND(I92*H92,2) -> 0 | N92: základní | P92: =O92*H92 -> 0 | Q92: 0 | R92: =Q92*H92 -> 0 | S92: 0 | T92: =S92*H92 -> 0 | AR92: 4 | AT92: K | AU92: 2 | AY92: ROZPOCET | BE92: =IF(N92="základní",J92,0) -> 0 | BF92: =IF(N92="snížená",J92,0) -> 0 | BG92: =IF(N92="zákl. přenesená",J92,0) -> 0 | BH92: =IF(N92="sníž. přenesená",J92,0) -> 0 | BI92: =IF(N92="nulová",J92,0) -> 0 | BJ92: 1 | BK92: =ROUND(I92*H92,2) -> 0 | BL92: 4 | BM92: 2
C93: 2 | D93: M | E93: 5955101000 | F93: Kamenivo nové frakce 31,5/63 třídy BI | G93: t | H93: 135.458 | J93: =ROUND(I93*H93,2) -> 0 | N93: základní | P93: =O93*H93 -> 0 | Q93: 1 | R93: =Q93*H93 -> 135.458 | S93: 0 | T93: =S93*H93 -> 0 | AR93: 8 | AT93: M | AU93: 2 | AY93: ROZPOCET | BE93: =IF(N93="základní",J93,0) -> 0 | BF93: =IF(N93="snížená",J93,0) -> 0 | BG93: =IF(N93="zákl. přenesená",J93,0) -> 0 | BH93: =IF(N93="sníž. přenesená",J93,0) -> 0 | BI93: =IF(N93="nulová",J93,0) -> 0 | BJ93: 1 | BK93: =ROUND(I93*H93,2) -> 0 | BL93: 4 | BM93: 4
C94: 3 | D94: K | E94: 5905105030 | F94: Doplnění KL kamenivem souvisle v koleji | G94: m3 | H94: 36 | J94: =ROUND(I94*H94,2) -> 0 | N94: základní | P94: =O94*H94 -> 0 | Q94: 0 | R94: =Q94*H94 -> 0 | S94: 0 | T94: =S94*H94 -> 0 | AR94: 4 | AT94: K | AU94: 2 | AY94: ROZPOCET | BE94: =IF(N94="základní",J94,0) -> 0 | BF94: =IF(N94="snížená",J94,0) -> 0 | BG94: =IF(N94="zákl. přenesená",J94,0) -> 0 | BH94: =IF(N94="sníž. přenesená",J94,0) -> 0 | BI94: =IF(N94="nulová",J94,0) -> 0 | BJ94: 1 | BK94: =ROUND(I94*H94,2) -> 0 | BL94: 4 | BM94: 6
C95: 4 | D95: K | E95: 5906130380 | F95: Montáž kolejového roštu v ose koleje pražce betonové vystrojené tv. S49 rozdělení "c" | G95: km | H95: 0.014 | J95: =ROUND(I95*H95,2) -> 0 | N95: základní | P95: =O95*H95 -> 0 | Q95: 0 | R95: =Q95*H95 -> 0 | S95: 0 | T95: =S95*H95 -> 0 | AR95: 4 | AT95: K | AU95: 2 | AY95: ROZPOCET | BE95: =IF(N95="základní",J95,0) -> 0 | BF95: =IF(N95="snížená",J95,0) -> 0 | BG95: =IF(N95="zákl. přenesená",J95,0) -> 0 | BH95: =IF(N95="sníž. přenesená",J95,0) -> 0 | BI95: =IF(N95="nulová",J95,0) -> 0 | BJ95: 1 | BK95: =ROUND(I95*H95,2) -> 0 | BL95: 4 | BM95: 8
C96: 5 | D96: K | E96: 5906140235 | F96: Demontáž kolejového roštu koleje v ose koleje pražce betonové tv. T rozdělení "c" | G96: km | H96: 0.014 | J96: =ROUND(I96*H96,2) -> 0 | K96: Sborník UOŽI 01 2019 | N96: základní | P96: =O96*H96 -> 0 | Q96: 0 | R96: =Q96*H96 -> 0 | S96: 0 | T96: =S96*H96 -> 0 | AR96: 4 | AT96: K | AU96: 2 | AY96: ROZPOCET | BE96: =IF(N96="základní",J96,0) -> 0 | BF96: =IF(N96="snížená",J96,0) -> 0 | BG96: =IF(N96="zákl. přenesená",J96,0) -> 0 | BH96: =IF(N96="sníž. přenesená",J96,0) -> 0 | BI96: =IF(N96="nulová",J96,0) -> 0 | BJ96: 1 | BK96: =ROUND(I96*H96,2) -> 0 | BL96: 4 | BM96: -769200953
C97: 6 | D97: K | E97: 5907050020 | F97: Dělení kolejnic řezáním nebo rozbroušením tv. S49 | G97: kus | H97: 4 | J97: =ROUND(I97*H97,2) -> 0 | N97: základní | P97: =O97*H97 -> 0 | Q97: 0 | R97: =Q97*H97 -> 0 | S97: 0 | T97: =S97*H97 -> 0 | AR97: 4 | AT97: K | AU97: 2 | AY97: ROZPOCET | BE97: =IF(N97="základní",J97,0) -> 0 | BF97: =IF(N97="snížená",J97,0) -> 0 | BG97: =IF(N97="zákl. přenesená",J97,0) -> 0 | BH97: =IF(N97="sníž. přenesená",J97,0) -> 0 | BI97: =IF(N97="nulová",J97,0) -> 0 | BJ97: 1 | BK97: =ROUND(I97*H97,2) -> 0 | BL97: 4 | BM97: 12
C98: 7 | D98: K | E98: 5909025020 | F98: Úprava směrového a výškového uspořádání koleje na krátkých úsecích pražce betonové | G98: km | H98: 0.24 | J98: =ROUND(I98*H98,2) -> 0 | N98: základní | P98: =O98*H98 -> 0 | Q98: 0 | R98: =Q98*H98 -> 0 | S98: 0 | T98: =S98*H98 -> 0 | AR98: 4 | AT98: K | AU98: 2 | AY98: ROZPOCET | BE98: =IF(N98="základní",J98,0) -> 0 | BF98: =IF(N98="snížená",J98,0) -> 0 | BG98: =IF(N98="zákl. přenesená",J98,0) -> 0 | BH98: =IF(N98="sníž. přenesená",J98,0) -> 0 | BI98: =IF(N98="nulová",J98,0) -> 0 | BJ98: 1 | BK98: =ROUND(I98*H98,2) -> 0 | BL98: 4 | BM98: 14
C99: 8 | D99: K | E99: 5910020130 | F99: Svařování kolejnic termitem standardní spára, plný předehřev svar jednotlivý tv. S49 | G99: svar | H99: 4 | J99: =ROUND(I99*H99,2) -> 0 | N99: základní | P99: =O99*H99 -> 0 | Q99: 0 | R99: =Q99*H99 -> 0 | S99: 0 | T99: =S99*H99 -> 0 | AR99: 4 | AT99: K | AU99: 2 | AY99: ROZPOCET | BE99: =IF(N99="základní",J99,0) -> 0 | BF99: =IF(N99="snížená",J99,0) -> 0 | BG99: =IF(N99="zákl. přenesená",J99,0) -> 0 | BH99: =IF(N99="sníž. přenesená",J99,0) -> 0 | BI99: =IF(N99="nulová",J99,0) -> 0 | BJ99: 1 | BK99: =ROUND(I99*H99,2) -> 0 | BL99: 4 | BM99: 16
C100: 9 | D100: K | E100: 5910035030 | F100: Dosažení dovolené upínací teploty v BK prodloužením kolejnicového pásu v koleji tv. S49 | G100: svar | H100: 4 | J100: =ROUND(I100*H100,2) -> 0 | N100: základní | P100: =O100*H100 -> 0 | Q100: 0 | R100: =Q100*H100 -> 0 | S100: 0 | T100: =S100*H100 -> 0 | AR100: 4 | AT100: K | AU100: 2 | AY100: ROZPOCET | BE100: =IF(N100="základní",J100,0) -> 0 | BF100: =IF(N100="snížená",J100,0) -> 0 | BG100: =IF(N100="zákl. přenesená",J100,0) -> 0 | BH100: =IF(N100="sníž. přenesená",J100,0) -> 0 | BI100: =IF(N100="nulová",J100,0) -> 0 | BJ100: 1 | BK100: =ROUND(I100*H100,2) -> 0 | BL100: 4 | BM100: 18
C101: 10 | D101: K | E101: 5910040310 | F101: Umožnění volné dilatace kolejnic demontáž upevňovadel s osazením kluzných podložek rozdělení pražců "c" | G101: m | H101: 80 | J101: =ROUND(I101*H101,2) -> 0 | N101: základní | P101: =O101*H101 -> 0 | Q101: 0 | R101: =Q101*H101 -> 0 | S101: 0 | T101: =S101*H101 -> 0 | AR101: 4 | AT101: K | AU101: 2 | AY101: ROZPOCET | BE101: =IF(N101="základní",J101,0) -> 0 | BF101: =IF(N101="snížená",J101,0) -> 0 | BG101: =IF(N101="zákl. přenesená",J101,0) -> 0 | BH101: =IF(N101="sníž. přenesená",J101,0) -> 0 | BI101: =IF(N101="nulová",J101,0) -> 0 | BJ101: 1 | BK101: =ROUND(I101*H101,2) -> 0 | BL101: 4 | BM101: 20
C102: 11 | D102: K | E102: 5910040410 | F102: Umožnění volné dilatace kolejnic montáž upevňovadel s odstraněním kluzných podložek rozdělení pražců "c" | G102: m | H102: 80 | J102: =ROUND(I102*H102,2) -> 0 | N102: základní | P102: =O102*H102 -> 0 | Q102: 0 | R102: =Q102*H102 -> 0 | S102: 0 | T102: =S102*H102 -> 0 | AR102: 4 | AT102: K | AU102: 2 | AY102: ROZPOCET | BE102: =IF(N102="základní",J102,0) -> 0 | BF102: =IF(N102="snížená",J102,0) -> 0 | BG102: =IF(N102="zákl. přenesená",J102,0) -> 0 | BH102: =IF(N102="sníž. přenesená",J102,0) -> 0 | BI102: =IF(N102="nulová",J102,0) -> 0 | BJ102: 1 | BK102: =ROUND(I102*H102,2) -> 0 | BL102: 4 | BM102: 22
C103: 12 | D103: K | E103: 5910055110 | F103: Oprava profilu hlavy kolejnice broušením souvisle ručně do 2 mm | G103: m | H103: 80 | J103: =ROUND(I103*H103,2) -> 0 | N103: základní | P103: =O103*H103 -> 0 | Q103: 0 | R103: =Q103*H103 -> 0 | S103: 0 | T103: =S103*H103 -> 0 | AR103: 4 | AT103: K | AU103: 2 | AY103: ROZPOCET | BE103: =IF(N103="základní",J103,0) -> 0 | BF103: =IF(N103="snížená",J103,0) -> 0 | BG103: =IF(N103="zákl. přenesená",J103,0) -> 0 | BH103: =IF(N103="sníž. přenesená",J103,0) -> 0 | BI103: =IF(N103="nulová",J103,0) -> 0 | BJ103: 1 | BK103: =ROUND(I103*H103,2) -> 0 | BL103: 4 | BM103: 24
C104: 13 | D104: K | E104: 5999005010 | F104: Třídění vyzískaných hmot spojovacích a upevňovacích součástí | G104: t | H104: 0.805 | J104: =ROUND(I104*H104,2) -> 0 | N104: základní | P104: =O104*H104 -> 0 | Q104: 0 | R104: =Q104*H104 -> 0 | S104: 0 | T104: =S104*H104 -> 0 | AR104: 4 | AT104: K | AU104: 2 | AY104: ROZPOCET | BE104: =IF(N104="základní",J104,0) -> 0 | BF104: =IF(N104="snížená",J104,0) -> 0 | BG104: =IF(N104="zákl. přenesená",J104,0) -> 0 | BH104: =IF(N104="sníž. přenesená",J104,0) -> 0 | BI104: =IF(N104="nulová",J104,0) -> 0 | BJ104: 1 | BK104: =ROUND(I104*H104,2) -> 0 | BL104: 4 | BM104: 26
C105: 14 | D105: K | E105: 5999005020 | F105: Třídění vyzískaných hmot pražců a kolejnicových podpor | G105: t | H105: 6.21 | J105: =ROUND(I105*H105,2) -> 0 | N105: základní | P105: =O105*H105 -> 0 | Q105: 0 | R105: =Q105*H105 -> 0 | S105: 0 | T105: =S105*H105 -> 0 | AR105: 4 | AT105: K | AU105: 2 | AY105: ROZPOCET | BE105: =IF(N105="základní",J105,0) -> 0 | BF105: =IF(N105="snížená",J105,0) -> 0 | BG105: =IF(N105="zákl. přenesená",J105,0) -> 0 | BH105: =IF(N105="sníž. přenesená",J105,0) -> 0 | BI105: =IF(N105="nulová",J105,0) -> 0 | BJ105: 1 | BK105: =ROUND(I105*H105,2) -> 0 | BL105: 4 | BM105: 28
C106: 15 | D106: K | E106: 5999005030 | F106: Třídění vyzískaných hmot kolejnic | G106: t | H106: 1.4 | J106: =ROUND(I106*H106,2) -> 0 | N106: základní | P106: =O106*H106 -> 0 | Q106: 0 | R106: =Q106*H106 -> 0 | S106: 0 | T106: =S106*H106 -> 0 | AR106: 4 | AT106: K | AU106: 2 | AY106: ROZPOCET | BE106: =IF(N106="základní",J106,0) -> 0 | BF106: =IF(N106="snížená",J106,0) -> 0 | BG106: =IF(N106="zákl. přenesená",J106,0) -> 0 | BH106: =IF(N106="sníž. přenesená",J106,0) -> 0 | BI106: =IF(N106="nulová",J106,0) -> 0 | BJ106: 1 | BK106: =ROUND(I106*H106,2) -> 0 | BL106: 4 | BM106: 30
D107: D | E107: 997 | F107: Přesun sutě | J107: =BK107 -> 0 | P107: =SUM(P108:P110) -> 0 | R107: =SUM(R108:R110) -> 0 | T107: =SUM(T108:T110) -> 0 | AR107: 1 | AT107: D | AU107: 1 | AY107: ROZPOCET | BK107: =SUM(BK108:BK110) -> 0
C108: 16 | D108: K | E108: 997221855 | F108: Poplatek za uložení odpadu z kameniva na skládce (skládkovné) | G108: t | H108: 59.858 | J108: =ROUND(I108*H108,2) -> 0 | N108: základní | P108: =O108*H108 -> 0 | Q108: 0 | R108: =Q108*H108 -> 0 | S108: 0 | T108: =S108*H108 -> 0 | AR108: 4 | AT108: K | AU108: 2 | AY108: ROZPOCET | BE108: =IF(N108="základní",J108,0) -> 0 | BF108: =IF(N108="snížená",J108,0) -> 0 | BG108: =IF(N108="zákl. přenesená",J108,0) -> 0 | BH108: =IF(N108="sníž. přenesená",J108,0) -> 0 | BI108: =IF(N108="nulová",J108,0) -> 0 | BJ108: 1 | BK108: =ROUND(I108*H108,2) -> 0 | BL108: 4 | BM108: 32
C109: 17 | D109: K | E109: 997241531 | F109: Vodorovné přemístění suti do 7 km | G109: t | H109: 59.858 | J109: =ROUND(I109*H109,2) -> 0 | N109: základní | P109: =O109*H109 -> 0 | Q109: 0 | R109: =Q109*H109 -> 0 | S109: 0 | T109: =S109*H109 -> 0 | AR109: 4 | AT109: K | AU109: 2 | AY109: ROZPOCET | BE109: =IF(N109="základní",J109,0) -> 0 | BF109: =IF(N109="snížená",J109,0) -> 0 | BG109: =IF(N109="zákl. přenesená",J109,0) -> 0 | BH109: =IF(N109="sníž. přenesená",J109,0) -> 0 | BI109: =IF(N109="nulová",J109,0) -> 0 | BJ109: 1 | BK109: =ROUND(I109*H109,2) -> 0 | BL109: 4 | BM109: 34
C110: 18 | D110: K | E110: 997241539 | F110: Vodorovné přemístění suti ZKD 1 km | G110: t | H110: 778.154 | J110: =ROUND(I110*H110,2) -> 0 | N110: základní | P110: =O110*H110 -> 0 | Q110: 0 | R110: =Q110*H110 -> 0 | S110: 0 | T110: =S110*H110 -> 0 | AR110: 4 | AT110: K | AU110: 2 | AY110: ROZPOCET | BE110: =IF(N110="základní",J110,0) -> 0 | BF110: =IF(N110="snížená",J110,0) -> 0 | BG110: =IF(N110="zákl. přenesená",J110,0) -> 0 | BH110: =IF(N110="sníž. přenesená",J110,0) -> 0 | BI110: =IF(N110="nulová",J110,0) -> 0 | BJ110: 1 | BK110: =ROUND(I110*H110,2) -> 0 | BL110: 4 | BM110: 36
D111: D | E111: 998 | F111: Přesun hmot | J111: =BK111 -> 0 | P111: =P112 -> 0 | R111: =R112 -> 0 | T111: =T112 -> 0 | AR111: 1 | AT111: D | AU111: 1 | AY111: ROZPOCET | BK111: =BK112 -> 0
C112: 19 | D112: K | E112: 998242011 | F112: Přesun hmot pro železniční svršek drah kolejových o sklonu 0,8 % | G112: t | H112: 135.458 | J112: =ROUND(I112*H112,2) -> 0 | N112: základní | P112: =O112*H112 -> 0 | Q112: 0 | R112: =Q112*H112 -> 0 | S112: 0 | T112: =S112*H112 -> 0 | AR112: 4 | AT112: K | AU112: 2 | AY112: ROZPOCET | BE112: =IF(N112="základní",J112,0) -> 0 | BF112: =IF(N112="snížená",J112,0) -> 0 | BG112: =IF(N112="zákl. přenesená",J112,0) -> 0 | BH112: =IF(N112="sníž. přenesená",J112,0) -> 0 | BI112: =IF(N112="nulová",J112,0) -> 0 | BJ112: 1 | BK112: =ROUND(I112*H112,2) -> 0 | BL112: 4 | BM112: 38

Sheet SO 02.1 - Oprava propustk...
L2: >> skryté sloupce << | AT2: {5b66d2bc-cc60-4d28-b5cb-d9703ef7334e}
AT3: 2
D4: KRYCÍ LIST SOUPISU PRACÍ | M4: v --- níže se nacházejí doplnkové a pomocné údaje k sestavám --- v | AT4: False
D6: Stavba:
E7: ='Rekapitulace stavby'!K6 -> Oprava propustků v km 24,666, 25,142, 25,589 a 25,786 na trati Vsetín - Velké Karlovice
D8: Objekt:
E9: SO 02 - Propustek v km 25,142
D10: Soupis:
E11: SO 02.1 - Oprava propustku - km 25,142
D13: KSO: | I13: CC-CZ:
D14: Místo: | I14: Datum: | J14: ='Rekapitulace stavby'!AN8 -> 3. 4. 2019
D16: Zadavatel: | I16: IČ: | J16: =IF('Rekapitulace stavby'!AN10="","",'Rekapitulace stavby'!AN10)
E17: =IF('Rekapitulace stavby'!E11="","",'Rekapitulace stavby'!E11) | I17: DIČ: | J17: =IF('Rekapitulace stavby'!AN11="","",'Rekapitulace stavby'!AN11)
D19: Uchazeč: | I19: IČ: | J19: ='Rekapitulace stavby'!AN13 -> Vyplň údaj
E20: ='Rekapitulace stavby'!E14 -> Vyplň údaj | I20: DIČ: | J20: ='Rekapitulace stavby'!AN14 -> Vyplň údaj
D22: Projektant: | I22: IČ: | J22: =IF('Rekapitulace stavby'!AN16="","",'Rekapitulace stavby'!AN16)
E23: =IF('Rekapitulace stavby'!E17="","",'Rekapitulace stavby'!E17) | I23: DIČ: | J23: =IF('Rekapitulace stavby'!AN17="","",'Rekapitulace stavby'!AN17)
D25: Zpracovatel: | I25: IČ: | J25: =IF('Rekapitulace stavby'!AN19="","",'Rekapitulace stavby'!AN19)
E26: =IF('Rekapitulace stavby'!E20="","",'Rekapitulace stavby'!E20) | I26: DIČ: | J26: =IF('Rekapitulace stavby'!AN20="","",'Rekapitulace stavby'!AN20)
D28: Poznámka:
D32: Cena bez DPH | J32: =ROUND(J99, 2) -> 0
F34: Základ daně | I34: Sazba daně | J34: Výše daně
D35: DPH | E35: základní | F35: =ROUND((SUM(BE99:BE176)), 2) -> 0 | I35: 0.21 | J35: =ROUND(((SUM(BE99:BE176))*I35), 2) -> 0
E36: snížená | F36: =ROUND((SUM(BF99:BF176)), 2) -> 0 | I36: 0.15 | J36: =ROUND(((SUM(BF99:BF176))*I36), 2) -> 0
E37: zákl. přenesená | F37: =ROUND((SUM(BG99:BG176)), 2) -> 0 | I37: 0.21 | J37: =0 -> 0
E38: sníž. přenesená | F38: =ROUND((SUM(BH99:BH176)), 2) -> 0 | I38: 0.15 | J38: =0 -> 0
E39: nulová | F39: =ROUND((SUM(BI99:BI176)), 2) -> 0 | I39: 0 | J39: =0 -> 0
D41: Cena s DPH | G41: v | H41: CZK | J41: =SUM(J32:J39) -> 0
C47: REKAPITULACE ČLENĚNÍ SOUPISU PRACÍ
C49: Stavba:
E50: =E7 -> Oprava propustků v km 24,666, 25,142, 25,589 a 25,786 na trati Vsetín - Velké Karlovice
C51: Objekt:
E52: SO 02 - Propustek v km 25,142
C53: Soupis:
E54: =E11 -> SO 02.1 - Oprava propustku - km 25,142
C56: Místo: | F56: =F14 | I56: Datum: | J56: =IF(J14="","",J14) -> 3. 4. 2019
C58: Zadavatel: | F58: =E17 | I58: Projektant: | J58: =E23
C59: Uchazeč: | F59: =IF(E20="","",E20) -> Vyplň údaj | I59: Zpracovatel: | J59: =E26
C61: Kód dílu - Popis | J61: Cena celkem [CZK]
C63: Náklady ze soupisu prací | J63: =J99 -> 0 | AU63: -1
D64: HSV - Práce a dodávky HSV | J64: =J100 -> 0
D65: 1 - Zemní práce | J65: =J101 -> 0
D66: 2 - Zakládání | J66: =J120 -> 0
D67: 3 - Svislé a kompletní konstrukce | J67: =J128 -> 0
D68: 4 - Vodorovné konstrukce | J68: =J137 -> 0
D69: 9 - Ostatní konstrukce a práce-bourání | J69: =J144 -> 0
D70: 997 - Přesun sutě | J70: =J150 -> 0
D71: 998 - Přesun hmot | J71: =J156 -> 0
D72: PSV - Práce a dodávky PSV | J72: =J158 -> 0
D73: 711 - Izolace proti vodě, vlhkosti a plynům | J73: =J159 -> 0
D74: VRN - Vedlejší rozpočtové náklady | J74: =J165 -> 0
D75: VRN1 - Průzkumné, geodetické a projektové práce | J75: =J166 -> 0
D76: VRN3 - Zařízení staveniště | J76: =J169 -> 0
D77: VRN9 - Ostatní náklady | J77: =J173 -> 0
C84: SOUPIS PRACÍ
C86: Stavba:
E87: =E7 -> Oprava propustků v km 24,666, 25,142, 25,589 a 25,786 na trati Vsetín - Velké Karlovice
C88: Objekt:
E89: SO 02 - Propustek v km 25,142
C90: Soupis:
E91: =E11 -> SO 02.1 - Oprava propustku - km 25,142
C93: Místo: | F93: =F14 | I93: Datum: | J93: =IF(J14="","",J14) -> 3. 4. 2019
C95: Zadavatel: | F95: =E17 | I95: Projektant: | J95: =E23
C96: Uchazeč: | F96: =IF(E20="","",E20) -> Vyplň údaj | I96: Zpracovatel: | J96: =E26
C98: PČ | D98: Typ | E98: Kód | F98: Popis | G98: MJ | H98: Množství | I98: J.cena [CZK] | J98: Cena celkem [CZK] | K98: Cenová soustava | N98: DPH | O98: J. Nh [h] | P98: Nh celkem [h] | Q98: J. hmotnost [t] | R98: Hmotnost celkem [t] | S98: J. suť [t] | T98: Suť Celkem [t]
C99: Náklady soupisu celkem | J99: =BK99 -> 0 | P99: =P100+P158+P165 -> 0 | R99: =R100+R158+R165 -> 102.03915 | T99: =T100+T158+T165 -> 69.50844 | AT99: D | AU99: -1 | BK99: =BK100+BK158+BK165 -> 0
D100: D | E100: HSV | F100: Práce a dodávky HSV | J100: =BK100 -> 0 | P100: =P101+P120+P128+P137+P144+P150+P156 -> 0 | R100: =R101+R120+R128+R137+R144+R150+R156 -> 101.1361 | T100: =T101+T120+T128+T137+T144+T150+T156 -> 69.50844 | AR100: 1 | AT100: D | AU100: 0 | AY100: ROZPOCET | BK100: =BK101+BK120+BK128+BK137+BK144+BK150+BK156 -> 0
D101: D | E101: 1 | F101: Zemní práce | J101: =BK101 -> 0 | P101: =SUM(P102:P119) -> 0 | R101: =SUM(R102:R119) -> 0.27081722 | T101: =SUM(T102:T119) -> 0 | AR101: 1 | AT101: D | AU101: 1 | AY101: ROZPOCET | BK101: =SUM(BK102:BK119) -> 0
C102: 1 | D102: K | E102: 115001105 | F102: Převedení vody potrubím DN do 600 | G102: m | H102: 15 | J102: =ROUND(I102*H102,2) -> 0 | N102: základní | P102: =O102*H102 -> 0 | Q102: 0.017971748 | R102: =Q102*H102 -> 0.26957622 | S102: 0 | T102: =S102*H102 -> 0 | AR102: 4 | AT102: K | AU102: 2 | AY102: ROZPOCET | BE102: =IF(N102="základní",J102,0) -> 0 | BF102: =IF(N102="snížená",J102,0) -> 0 | BG102: =IF(N102="zákl. přenesená",J102,0) -> 0 | BH102: =IF(N102="sníž. přenesená",J102,0) -> 0 | BI102: =IF(N102="nulová",J102,0) -> 0 | BJ102: 1 | BK102: =ROUND(I102*H102,2) -> 0 | BL102: 4 | BM102: 2
C103: 2 | D103: K | E103: 115101202 | F103: Čerpání vody na dopravní výšku do 10 m průměrný přítok do 1000 l/min | G103: hod | H103: 32 | J103: =ROUND(I103*H103,2) -> 0 | N103: základní | P103: =O103*H103 -> 0 | Q103: 0 | R103: =Q103*H103 -> 0 | S103: 0 | T103: =S103*H103 -> 0 | AR103: 4 | AT103: K | AU103: 2 | AY103: ROZPOCET | BE103: =IF(N103="základní",J103,0) -> 0 | BF103: =IF(N103="snížená",J103,0) -> 0 | BG103: =IF(N103="zákl. přenesená",J103,0) -> 0 | BH103: =IF(N103="sníž. přenesená",J103,0) -> 0 | BI103: =IF(N103="nulová",J103,0) -> 0 | BJ103: 1 | BK103: =ROUND(I103*H103,2) -> 0 | BL103: 4 | BM103: 4
C104: 3 | D104: K | E104: 121101101 | F104: Sejmutí ornice s přemístěním na vzdálenost do 50 m | G104: m3 | H104: 28.14 | J104: =ROUND(I104*H104,2) -> 0 | N104: základní | P104: =O104*H104 -> 0 | Q104: 0 | R104: =Q104*H104 -> 0 | S104: 0 | T104: =S104*H104 -> 0 | AR104: 4 | AT104: K | AU104: 2 | AY104: ROZPOCET | BE104: =IF(N104="základní",J104,0) -> 0 | BF104: =IF(N104="snížená",J104,0) -> 0 | BG104: =IF(N104="zákl. přenesená",J104,0) -> 0 | BH104: =IF(N104="sníž. přenesená",J104,0) -> 0 | BI104: =IF(N104="nulová",J104,0) -> 0 | BJ104: 1 | BK104: =ROUND(I104*H104,2) -> 0 | BL104: 4 | BM104: 6
C105: 4 | D105: K | E105: 122201101 | F105: Odkopávky a prokopávky nezapažené v hornině tř. 3 objem do 100 m3 | G105: m3 | H105: 2 | J105: =ROUND(I105*H105,2) -> 0 | N105: základní | P105: =O105*H105 -> 0 | Q105: 0 | R105: =Q105*H105 -> 0 | S105: 0 | T105: =S105*H105 -> 0 | AR105: 4 | AT105: K | AU105: 2 | AY105: ROZPOCET | BE105: =IF(N105="základní",J105,0) -> 0 | BF105: =IF(N105="snížená",J105,0) -> 0 | BG105: =IF(N105="zákl. přenesená",J105,0) -> 0 | BH105: =IF(N105="sníž. přenesená",J105,0) -> 0 | BI105: =IF(N105="nulová",J105,0) -> 0 | BJ105: 1 | BK105: =ROUND(I105*H105,2) -> 0 | BL105: 4 | BM105: 8
C106: 5 | D106: K | E106: 122201109 | F106: Příplatek za lepivost u odkopávek v hornině tř. 1 až 3 | G106: m3 | H106: 2 | J106: =ROUND(I106*H106,2) -> 0 | N106: základní | P106: =O106*H106 -> 0 | Q106: 0 | R106: =Q106*H106 -> 0 | S106: 0 | T106: =S106*H106 -> 0 | AR106: 4 | AT106: K | AU106: 2 | AY106: ROZPOCET | BE106: =IF(N106="základní",J106,0) -> 0 | BF106: =IF(N106="snížená",J106,0) -> 0 | BG106: =IF(N106="zákl. přenesená",J106,0) -> 0 | BH106: =IF(N106="sníž. přenesená",J106,0) -> 0 | BI106: =IF(N106="nulová",J106,0) -> 0 | BJ106: 1 | BK106: =ROUND(I106*H106,2) -> 0 | BL106: 4 | BM106: 10
C107: 6 | D107: K | E107: 131201102 | F107: Hloubení jam nezapažených v hornině tř. 3 objemu do 1000 m3 | G107: m3 | H107: 96.3 | J107: =ROUND(I107*H107,2) -> 0 | N107: základní | P107: =O107*H107 -> 0 | Q107: 0 | R107: =Q107*H107 -> 0 | S107: 0 | T107: =S107*H107 -> 0 | AR107: 4 | AT107: K | AU107: 2 | AY107: ROZPOCET | BE107: =IF(N107="základní",J107,0) -> 0 | BF107: =IF(N107="snížená",J107,0) -> 0 | BG107: =IF(N107="zákl. přenesená",J107,0) -> 0 | BH107: =IF(N107="sníž. přenesená",J107,0) -> 0 | BI107: =IF(N107="nulová",J107,0) -> 0 | BJ107: 1 | BK107: =ROUND(I107*H107,2) -> 0 | BL107: 4 | BM107: 12
C108: 7 | D108: K | E108: 131201109 | F108: Příplatek za lepivost u hloubení jam nezapažených v hornině tř. 3 | G108: m3 | H108: 96.3 | J108: =ROUND(I108*H108,2) -> 0 | N108: základní | P108: =O108*H108 -> 0 | Q108: 0 | R108: =Q108*H108 -> 0 | S108: 0 | T108: =S108*H108 -> 0 | AR108: 4 | AT108: K | AU108: 2 | AY108: ROZPOCET | BE108: =IF(N108="základní",J108,0) -> 0 | BF108: =IF(N108="snížená",J108,0) -> 0 | BG108: =IF(N108="zákl. přenesená",J108,0) -> 0 | BH108: =IF(N108="sníž. přenesená",J108,0) -> 0 | BI108: =IF(N108="nulová",J108,0) -> 0 | BJ108: 1 | BK108: =ROUND(I108*H108,2) -> 0 | BL108: 4 | BM108: 14
C109: 8 | D109: K | E109: 162701105 | F109: Vodorovné přemístění do 10000 m výkopku/sypaniny z horniny tř. 1 až 4 | G109: m3 | H109: 10.53 | J109: =ROUND(I109*H109,2) -> 0 | N109: základní | P109: =O109*H109 -> 0 | Q109: 0 | R109: =Q109*H109 -> 0 | S109: 0 | T109: =S109*H109 -> 0 | AR109: 4 | AT109: K | AU109: 2 | AY109: ROZPOCET | BE109: =IF(N109="základní",J109,0) -> 0 | BF109: =IF(N109="snížená",J109,0) -> 0 | BG109: =IF(N109="zákl. přenesená",J109,0) -> 0 | BH109: =IF(N109="sníž. přenesená",J109,0) -> 0 | BI109: =IF(N109="nulová",J109,0) -> 0 | BJ109: 1 | BK109: =ROUND(I109*H109,2) -> 0 | BL109: 4 | BM109: 16
C110: 9 | D110: K | E110: 162701109 | F110: Příplatek k vodorovnému přemístění výkopku/sypaniny z horniny tř. 1 až 4 ZKD 1000 m přes 10000 m | G110: m3 | H110: 105.3 | J110: =ROUND(I110*H110,2) -> 0 | N110: základní | P110: =O110*H110 -> 0 | Q110: 0 | R110: =Q110*H110 -> 0 | S110: 0 | T110: =S110*H110 -> 0 | AR110: 4 | AT110: K | AU110: 2 | AY110: ROZPOCET | BE110: =IF(N110="základní",J110,0) -> 0 | BF110: =IF(N110="snížená",J110,0) -> 0 | BG110: =IF(N110="zákl. přenesená",J110,0) -> 0 | BH110: =IF(N110="sníž. přenesená",J110,0) -> 0 | BI110: =IF(N110="nulová",J110,0) -> 0 | BJ110: 1 | BK110: =ROUND(I110*H110,2) -> 0 | BL110: 4 | BM110: 18
C111: 10 | D111: K | E111: 167101102 | F111: Nakládání výkopku z hornin tř. 1 až 4 přes 100 m3 | G111: m3 | H111: 10.53 | J111: =ROUND(I111*H111,2) -> 0 | N111: základní | P111: =O111*H111 -> 0 | Q111: 0 | R111: =Q111*H111 -> 0 | S111: 0 | T111: =S111*H111 -> 0 | AR111: 4 | AT111: K | AU111: 2 | AY111: ROZPOCET | BE111: =IF(N111="základní",J111,0) -> 0 | BF111: =IF(N111="snížená",J111,0) -> 0 | BG111: =IF(N111="zákl. přenesená",J111,0) -> 0 | BH111: =IF(N111="sníž. přenesená",J111,0) -> 0 | BI111: =IF(N111="nulová",J111,0) -> 0 | BJ111: 1 | BK111: =ROUND(I111*H111,2) -> 0 | BL111: 4 | BM111: 20
C112: 11 | D112: K | E112: 171101101 | F112: Uložení sypaniny z hornin soudržných do násypů zhutněných na 95 % PS | G112: m3 | H112: 20 | J112: =ROUND(I112*H112,2) -> 0 | N112: základní | P112: =O112*H112 -> 0 | Q112: 0 | R112: =Q112*H112 -> 0 | S112: 0 | T112: =S112*H112 -> 0 | AR112: 4 | AT112: K | AU112: 2 | AY112: ROZPOCET | BE112: =IF(N112="základní",J112,0) -> 0 | BF112: =IF(N112="snížená",J112,0) -> 0 | BG112: =IF(N112="zákl. přenesená",J112,0) -> 0 | BH112: =IF(N112="sníž. přenesená",J112,0) -> 0 | BI112: =IF(N112="nulová",J112,0) -> 0 | BJ112: 1 | BK112: =ROUND(I112*H112,2) -> 0 | BL112: 4 | BM112: 22
C113: 12 | D113: K | E113: 171103101 | F113: Zemní hrázky melioračních kanálů z horniny tř. 1 až 4 | G113: m3 | H113: 2 | J113: =ROUND(I113*H113,2) -> 0 | N113: základní | P113: =O113*H113 -> 0 | Q113: 0 | R113: =Q113*H113 -> 0 | S113: 0 | T113: =S113*H113 -> 0 | AR113: 4 | AT113: K | AU113: 2 | AY113: ROZPOCET | BE113: =IF(N113="základní",J113,0) -> 0 | BF113: =IF(N113="snížená",J113,0) -> 0 | BG113: =IF(N113="zákl. přenesená",J113,0) -> 0 | BH113: =IF(N113="sníž. přenesená",J113,0) -> 0 | BI113: =IF(N113="nulová",J113,0) -> 0 | BJ113: 1 | BK113: =ROUND(I113*H113,2) -> 0 | BL113: 4 | BM113: 24
... C119: 18 | D119: M | E119: 005724740 | F119: osivo směs travní krajinná - svahová | G119: kg | H119: 1.241 | J119: =ROUND(I119*H119,2) -> 0 | N119: základní | P119: =O119*H119 -> 0 | Q119: 0.001 | R119: =Q119*H119 -> 0.001241 | S119: 0 | T119: =S119*H119 -> 0 | AR119: 8 | AT119: M | AU119: 2 | AY119: ROZPOCET | BE119: =IF(N119="základní",J119,0) -> 0 | BF119: =IF(N119="snížená",J119,0) -> 0 | BG119: =IF(N119="zákl. přenesená",J119,0) -> 0 | BH119: =IF(N119="sníž. přenesená",J119,0) -> 0 | BI119: =IF(N119="nulová",J119,0) -> 0 | BJ119: 1 | BK119: =ROUND(I119*H119,2) -> 0 | BL119: 4 | BM119: 36
D120: D | E120: 2 | F120: Zakládání | J120: =BK120 -> 0 | P120: =SUM(P121:P127) -> 0 | R120: =SUM(R121:R127) -> 28.749215 | T120: =SUM(T121:T127) -> 0 | AR120: 1 | AT120: D | AU120: 1 | AY120: ROZPOCET | BK120: =SUM(BK121:BK127) -> 0
C121: 19 | D121: K | E121: 273321118 | F121: Základové desky ze ŽB C 30/37 | G121: m3 | H121: 1.62 | J121: =ROUND(I121*H121,2) -> 0 | N121: základní | P121: =O121*H121 -> 0 | Q121: 2.526248 | R121: =Q121*H121 -> 4.0925218 | S121: 0 | T121: =S121*H121 -> 0 | AR121: 4 | AT121: K | AU121: 2 | AY121: ROZPOCET | BE121: =IF(N121="základní",J121,0) -> 0 | BF121: =IF(N121="snížená",J121,0) -> 0 | BG121: =IF(N121="zákl. přenesená",J121,0) -> 0 | BH121: =IF(N121="sníž. přenesená",J121,0) -> 0 | BI121: =IF(N121="nulová",J121,0) -> 0 | BJ121: 1 | BK121: =ROUND(I121*H121,2) -> 0 | BL121: 4 | BM121: 38
C122: 20 | D122: K | E122: 273354111 | F122: Bednění základových desek - zřízení | G122: m2 | H122: 5.46 | J122: =ROUND(I122*H122,2) -> 0 | N122: základní | P122: =O122*H122 -> 0 | Q122: 0.0014357 | R122: =Q122*H122 -> 0.007838922 | S122: 0 | T122: =S122*H122 -> 0 | AR122: 4 | AT122: K | AU122: 2 | AY122: ROZPOCET | BE122: =IF(N122="základní",J122,0) -> 0 | BF122: =IF(N122="snížená",J122,0) -> 0 | BG122: =IF(N122="zákl. přenesená",J122,0) -> 0 | BH122: =IF(N122="sníž. přenesená",J122,0) -> 0 | BI122: =IF(N122="nulová",J122,0) -> 0 | BJ122: 1 | BK122: =ROUND(I122*H122,2) -> 0 | BL122: 4 | BM122: 40
C123: 21 | D123: K | E123: 273354211 | F123: Bednění základových desek - odstranění | G123: m2 | H123: 5.46 | J123: =ROUND(I123*H123,2) -> 0 | N123: základní | P123: =O123*H123 -> 0 | Q123: 3.6e-05 | R123: =Q123*H123 -> 0.00019656 | S123: 0 | T123: =S123*H123 -> 0 | AR123: 4 | AT123: K | AU123: 2 | AY123: ROZPOCET | BE123: =IF(N123="základní",J123,0) -> 0 | BF123: =IF(N123="snížená",J123,0) -> 0 | BG123: =IF(N123="zákl. přenesená",J123,0) -> 0 | BH123: =IF(N123="sníž. přenesená",J123,0) -> 0 | BI123: =IF(N123="nulová",J123,0) -> 0 | BJ123: 1 | BK123: =ROUND(I123*H123,2) -> 0 | BL123: 4 | BM123: 42
C124: 22 | D124: K | E124: 273361413-R | F124: Výztuž základových desek ze svařovaných sítí do 8 kg/m2 | G124: t | H124: 0.577 | J124: =ROUND(I124*H124,2) -> 0 | N124: základní | P124: =O124*H124 -> 0 | Q124: 0 | R124: =Q124*H124 -> 0 | S124: 0 | T124: =S124*H124 -> 0 | AR124: 4 | AT124: K | AU124: 2 | AY124: ROZPOCET | BE124: =IF(N124="základní",J124,0) -> 0 | BF124: =IF(N124="snížená",J124,0) -> 0 | BG124: =IF(N124="zákl. přenesená",J124,0) -> 0 | BH124: =IF(N124="sníž. přenesená",J124,0) -> 0 | BI124: =IF(N124="nulová",J124,0) -> 0 | BJ124: 1 | BK124: =ROUND(I124*H124,2) -> 0 | BL124: 4 | BM124: 44
C125: 23 | D125: K | E125: 274321118 | F125: Základové pasy, prahy, věnce a ostruhy ze ŽB C 30/37 | G125: m3 | H125: 9.746 | J125: =ROUND(I125*H125,2) -> 0 | N125: základní | P125: =O125*H125 -> 0 | Q125: 2.526248 | R125: =Q125*H125 -> 24.620813 | S125: 0 | T125: =S125*H125 -> 0 | AR125: 4 | AT125: K | AU125: 2 | AY125: ROZPOCET | BE125: =IF(N125="základní",J125,0) -> 0 | BF125: =IF(N125="snížená",J125,0) -> 0 | BG125: =IF(N125="zákl. přenesená",J125,0) -> 0 | BH125: =IF(N125="sníž. přenesená",J125,0) -> 0 | BI125: =IF(N125="nulová",J125,0) -> 0 | BJ125: 1 | BK125: =ROUND(I125*H125,2) -> 0 | BL125: 4 | BM125: 46
C126: 24 | D126: K | E126: 274354111 | F126: Bednění základových pasů - zřízení | G126: m2 | H126: 18.92 | J126: =ROUND(I126*H126,2) -> 0 | N126: základní | P126: =O126*H126 -> 0 | Q126: 0.0014357 | R126: =Q126*H126 -> 0.027163444 | S126: 0 | T126: =S126*H126 -> 0 | AR126: 4 | AT126: K | AU126: 2 | AY126: ROZPOCET | BE126: =IF(N126="základní",J126,0) -> 0 | BF126: =IF(N126="snížená",J126,0) -> 0 | BG126: =IF(N126="zákl. přenesená",J126,0) -> 0 | BH126: =IF(N126="sníž. přenesená",J126,0) -> 0 | BI126: =IF(N126="nulová",J126,0) -> 0 | BJ126: 1 | BK126: =ROUND(I126*H126,2) -> 0 | BL126: 4 | BM126: 48
C127: 25 | D127: K | E127: 274354211 | F127: Bednění základových pasů - odstranění | G127: m2 | H127: 18.92 | J127: =ROUND(I127*H127,2) -> 0 | N127: základní | P127: =O127*H127 -> 0 | Q127: 3.6e-05 | R127: =Q127*H127 -> 0.00068112 | S127: 0 | T127: =S127*H127 -> 0 | AR127: 4 | AT127: K | AU127: 2 | AY127: ROZPOCET | BE127: =IF(N127="základní",J127,0) -> 0 | BF127: =IF(N127="snížená",J127,0) -> 0 | BG127: =IF(N127="zákl. přenesená",J127,0) -> 0 | BH127: =IF(N127="sníž. přenesená",J127,0) -> 0 | BI127: =IF(N127="nulová",J127,0) -> 0 | BJ127: 1 | BK127: =ROUND(I127*H127,2) -> 0 | BL127: 4 | BM127: 50
D128: D | E128: 3 | F128: Svislé a kompletní konstrukce | J128: =BK128 -> 0 | P128: =SUM(P129:P136) -> 0 | R128: =SUM(R129:R136) -> 30.367428 | T128: =SUM(T129:T136) -> 0 | AR128: 1 | AT128: D | AU128: 1 | AY128: ROZPOCET | BK128: =SUM(BK129:BK136) -> 0
C129: 26 | D129: K | E129: 317321118 | F129: Mostní římsy ze ŽB C 30/37 | G129: m3 | H129: 1.007 | J129: =ROUND(I129*H129,2) -> 0 | N129: základní | P129: =O129*H129 -> 0 | Q129: 2.47786 | R129: =Q129*H129 -> 2.495205 | S129: 0 | T129: =S129*H129 -> 0 | AR129: 4 | AT129: K | AU129: 2 | AY129: ROZPOCET | BE129: =IF(N129="základní",J129,0) -> 0 | BF129: =IF(N129="snížená",J129,0) -> 0 | BG129: =IF(N129="zákl. přenesená",J129,0) -> 0 | BH129: =IF(N129="sníž. přenesená",J129,0) -> 0 | BI129: =IF(N129="nulová",J129,0) -> 0 | BJ129: 1 | BK129: =ROUND(I129*H129,2) -> 0 | BL129: 4 | BM129: 52
C130: 27 | D130: K | E130: 317353121 | F130: Bednění mostních říms všech tvarů - zřízení | G130: m2 | H130: 6.02 | J130: =ROUND(I130*H130,2) -> 0 | N130: základní | P130: =O130*H130 -> 0 | Q130: 0.0417442 | R130: =Q130*H130 -> 0.25130008 | S130: 0 | T130: =S130*H130 -> 0 | AR130: 4 | AT130: K | AU130: 2 | AY130: ROZPOCET | BE130: =IF(N130="základní",J130,0) -> 0 | BF130: =IF(N130="snížená",J130,0) -> 0 | BG130: =IF(N130="zákl. přenesená",J130,0) -> 0 | BH130: =IF(N130="sníž. přenesená",J130,0) -> 0 | BI130: =IF(N130="nulová",J130,0) -> 0 | BJ130: 1 | BK130: =ROUND(I130*H130,2) -> 0 | BL130: 4 | BM130: 54
C131: 28 | D131: K | E131: 317353221 | F131: Bednění mostních říms všech tvarů - odstranění | G131: m2 | H131: 6.02 | J131: =ROUND(I131*H131,2) -> 0 | N131: základní | P131: =O131*H131 -> 0 | Q131: 1.5e-05 | R131: =Q131*H131 -> 9.03e-05 | S131: 0 | T131: =S131*H131 -> 0 | AR131: 4 | AT131: K | AU131: 2 | AY131: ROZPOCET | BE131: =IF(N131="základní",J131,0) -> 0 | BF131: =IF(N131="snížená",J131,0) -> 0 | BG131: =IF(N131="zákl. přenesená",J131,0) -> 0 | BH131: =IF(N131="sníž. přenesená",J131,0) -> 0 | BI131: =IF(N131="nulová",J131,0) -> 0 | BJ131: 1 | BK131: =ROUND(I131*H131,2) -> 0 | BL131: 4 | BM131: 56
C132: 29 | D132: K | E132: 317361116 | F132: Výztuž mostních říms z betonářské oceli 10 505 | G132: t | H132: 0.133 | J132: =ROUND(I132*H132,2) -> 0 | N132: základní | P132: =O132*H132 -> 0 | Q132: 1.0487652 | R132: =Q132*H132 -> 0.13948577 | S132: 0 | T132: =S132*H132 -> 0 | AR132: 4 | AT132: K | AU132: 2 | AY132: ROZPOCET | BE132: =IF(N132="základní",J132,0) -> 0 | BF132: =IF(N132="snížená",J132,0) -> 0 | BG132: =IF(N132="zákl. přenesená",J132,0) -> 0 | BH132: =IF(N132="sníž. přenesená",J132,0) -> 0 | BI132: =IF(N132="nulová",J132,0) -> 0 | BJ132: 1 | BK132: =ROUND(I132*H132,2) -> 0 | BL132: 4 | BM132: 58
C133: 30 | D133: K | E133: 334213000-R | F133: Přezdění zdi nadzákladové pilířů, opěr, křídel z lomového kamene | G133: m3 | H133: 4 | J133: =ROUND(I133*H133,2) -> 0 | N133: základní | P133: =O133*H133 -> 0 | Q133: 0 | R133: =Q133*H133 -> 0 | S133: 0 | T133: =S133*H133 -> 0 | AR133: 4 | AT133: K | AU133: 2 | AY133: ROZPOCET | BE133: =IF(N133="základní",J133,0) -> 0 | BF133: =IF(N133="snížená",J133,0) -> 0 | BG133: =IF(N133="zákl. přenesená",J133,0) -> 0 | BH133: =IF(N133="sníž. přenesená",J133,0) -> 0 | BI133: =IF(N133="nulová",J133,0) -> 0 | BJ133: 1 | BK133: =ROUND(I133*H133,2) -> 0 | BL133: 4 | BM133: 60
C134: 31 | D134: K | E134: 334323118 | F134: Mostní opěry a úložné prahy ze ŽB C 30/37 | G134: m3 | H134: 11.176 | J134: =ROUND(I134*H134,2) -> 0 | N134: základní | P134: =O134*H134 -> 0 | Q134: 2.45351 | R134: =Q134*H134 -> 27.420428 | S134: 0 | T134: =S134*H134 -> 0 | AR134: 4 | AT134: K | AU134: 2 | AY134: ROZPOCET | BE134: =IF(N134="základní",J134,0) -> 0 | BF134: =IF(N134="snížená",J134,0) -> 0 | BG134: =IF(N134="zákl. přenesená",J134,0) -> 0 | BH134: =IF(N134="sníž. přenesená",J134,0) -> 0 | BI134: =IF(N134="nulová",J134,0) -> 0 | BJ134: 1 | BK134: =ROUND(I134*H134,2) -> 0 | BL134: 4 | BM134: 62
C135: 32 | D135: K | E135: 334351112 | F135: Bednění systémové mostních opěr a úložných prahů z překližek pro ŽB - zřízení | G135: m2 | H135: 32.74 | J135: =ROUND(I135*H135,2) -> 0 | N135: základní | P135: =O135*H135 -> 0 | Q135: 0.0018247 | R135: =Q135*H135 -> 0.059740678 | S135: 0 | T135: =S135*H135 -> 0 | AR135: 4 | AT135: K | AU135: 2 | AY135: ROZPOCET | BE135: =IF(N135="základní",J135,0) -> 0 | BF135: =IF(N135="snížená",J135,0) -> 0 | BG135: =IF(N135="zákl. přenesená",J135,0) -> 0 | BH135: =IF(N135="sníž. přenesená",J135,0) -> 0 | BI135: =IF(N135="nulová",J135,0) -> 0 | BJ135: 1 | BK135: =ROUND(I135*H135,2) -> 0 | BL135: 4 | BM135: 64
C136: 33 | D136: K | E136: 334351211 | F136: Bednění systémové mostních opěr a úložných prahů z překližek - odstranění | G136: m2 | H136: 32.74 | J136: =ROUND(I136*H136,2) -> 0 | N136: základní | P136: =O136*H136 -> 0 | Q136: 3.6e-05 | R136: =Q136*H136 -> 0.00117864 | S136: 0 | T136: =S136*H136 -> 0 | AR136: 4 | AT136: K | AU136: 2 | AY136: ROZPOCET | BE136: =IF(N136="základní",J136,0) -> 0 | BF136: =IF(N136="snížená",J136,0) -> 0 | BG136: =IF(N136="zákl. přenesená",J136,0) -> 0 | BH136: =IF(N136="sníž. přenesená",J136,0) -> 0 | BI136: =IF(N136="nulová",J136,0) -> 0 | BJ136: 1 | BK136: =ROUND(I136*H136,2) -> 0 | BL136: 4 | BM136: 66
D137: D | E137: 4 | F137: Vodorovné konstrukce | J137: =BK137 -> 0 | P137: =SUM(P138:P143) -> 0 | R137: =SUM(R138:R143) -> 27.823761 | T137: =SUM(T138:T143) -> 0 | AR137: 1 | AT137: D | AU137: 1 | AY137: ROZPOCET | BK137: =SUM(BK138:BK143) -> 0
C138: 34 | D138: K | E138: 417353300-R | F138: Vložení matrice do betonu kamenné dlažby | G138: kus | H138: 1 | J138: =ROUND(I138*H138,2) -> 0 | N138: základní | P138: =O138*H138 -> 0 | Q138: 0 | R138: =Q138*H138 -> 0 | S138: 0 | T138: =S138*H138 -> 0 | AR138: 4 | AT138: K | AU138: 2 | AY138: ROZPOCET | BE138: =IF(N138="základní",J138,0) -> 0 | BF138: =IF(N138="snížená",J138,0) -> 0 | BG138: =IF(N138="zákl. přenesená",J138,0) -> 0 | BH138: =IF(N138="sníž. přenesená",J138,0) -> 0 | BI138: =IF(N138="nulová",J138,0) -> 0 | BJ138: 1 | BK138: =ROUND(I138*H138,2) -> 0 | BL138: 4 | BM138: 68
...

Sheet SO 02.2 - Železniční svrš...
L2: >> skryté sloupce << | AT2: {0bfba506-54f3-4c50-b1f4-f8bf2450ca96}
AT3: 2
D4: KRYCÍ LIST SOUPISU PRACÍ | M4: v --- níže se nacházejí doplnkové a pomocné údaje k sestavám --- v | AT4: False
D6: Stavba:
E7: ='Rekapitulace stavby'!K6 -> Oprava propustků v km 24,666, 25,142, 25,589 a 25,786 na trati Vsetín - Velké Karlovice
D8: Objekt:
E9: SO 02 - Propustek v km 25,142
D10: Soupis:
E11: SO 02.2 - Železniční svršek - km 25,142
D13: KSO: | I13: CC-CZ:
D14: Místo: | I14: Datum: | J14: ='Rekapitulace stavby'!AN8 -> 3. 4. 2019
D16: Zadavatel: | I16: IČ: | J16: =IF('Rekapitulace stavby'!AN10="","",'Rekapitulace stavby'!AN10)
E17: =IF('Rekapitulace stavby'!E11="","",'Rekapitulace stavby'!E11) | I17: DIČ: | J17: =IF('Rekapitulace stavby'!AN11="","",'Rekapitulace stavby'!AN11)
D19: Uchazeč: | I19: IČ: | J19: ='Rekapitulace stavby'!AN13 -> Vyplň údaj
E20: ='Rekapitulace stavby'!E14 -> Vyplň údaj | I20: DIČ: | J20: ='Rekapitulace stavby'!AN14 -> Vyplň údaj
D22: Projektant: | I22: IČ: | J22: =IF('Rekapitulace stavby'!AN16="","",'Rekapitulace stavby'!AN16)
E23: =IF('Rekapitulace stavby'!E17="","",'Rekapitulace stavby'!E17) | I23: DIČ: | J23: =IF('Rekapitulace stavby'!AN17="","",'Rekapitulace stavby'!AN17)
D25: Zpracovatel: | I25: IČ: | J25: =IF('Rekapitulace stavby'!AN19="","",'Rekapitulace stavby'!AN19)
E26: =IF('Rekapitulace stavby'!E20="","",'Rekapitulace stavby'!E20) | I26: DIČ: | J26: =IF('Rekapitulace stavby'!AN20="","",'Rekapitulace stavby'!AN20)
D28: Poznámka:
D32: Cena bez DPH | J32: =ROUND(J93, 2) -> 0
F34: Základ daně | I34: Sazba daně | J34: Výše daně
D35: DPH | E35: základní | F35: =ROUND((SUM(BE93:BE137)), 2) -> 0 | I35: 0.21 | J35: =ROUND(((SUM(BE93:BE137))*I35), 2) -> 0
E36: snížená | F36: =ROUND((SUM(BF93:BF137)), 2) -> 0 | I36: 0.15 | J36: =ROUND(((SUM(BF93:BF137))*I36), 2) -> 0
E37: zákl. přenesená | F37: =ROUND((SUM(BG93:BG137)), 2) -> 0 | I37: 0.21 | J37: =0 -> 0
E38: sníž. přenesená | F38: =ROUND((SUM(BH93:BH137)), 2) -> 0 | I38: 0.15 | J38: =0 -> 0
E39: nulová | F39: =ROUND((SUM(BI93:BI137)), 2) -> 0 | I39: 0 | J39: =0 -> 0
D41: Cena s DPH | G41: v | H41: CZK | J41: =SUM(J32:J39) -> 0
C47: REKAPITULACE ČLENĚNÍ SOUPISU PRACÍ
C49: Stavba:
E50: =E7 -> Oprava propustků v km 24,666, 25,142, 25,589 a 25,786 na trati Vsetín - Velké Karlovice
C51: Objekt:
E52: SO 02 - Propustek v km 25,142
C53: Soupis:
E54: =E11 -> SO 02.2 - Železniční svršek - km 25,142
C56: Místo: | F56: =F14 | I56: Datum: | J56: =IF(J14="","",J14) -> 3. 4. 2019
C58: Zadavatel: | F58: =E17 | I58: Projektant: | J58: =E23
C59: Uchazeč: | F59: =IF(E20="","",E20) -> Vyplň údaj | I59: Zpracovatel: | J59: =E26
C61: Kód dílu - Popis | J61: Cena celkem [CZK]
C63: Náklady ze soupisu prací | J63: =J93 -> 0 | AU63: -1
D64: HSV - Práce a dodávky HSV | J64: =J94 -> 0
D65: 1 - Zemní práce | J65: =J95 -> 0
D66: 3 - Svislé a kompletní konstrukce | J66: =J97 -> 0
D67: 4 - Vodorovné konstrukce | J67: =J102 -> 0
D68: 5 - Komunikace | J68: =J104 -> 0
D69: 9 - Ostatní konstrukce a práce-bourání | J69: =J126 -> 0
D70: 997 - Přesun sutě | J70: =J129 -> 0
D71: 998 - Přesun hmot | J71: =J136 -> 0
C78: SOUPIS PRACÍ
C80: Stavba:
E81: =E7 -> Oprava propustků v km 24,666, 25,142, 25,589 a 25,786 na trati Vsetín - Velké Karlovice
C82: Objekt:
E83: SO 02 - Propustek v km 25,142
C84: Soupis:
E85: =E11 -> SO 02.2 - Železniční svršek - km 25,142
C87: Místo: | F87: =F14 | I87: Datum: | J87: =IF(J14="","",J14) -> 3. 4. 2019
C89: Zadavatel: | F89: =E17 | I89: Projektant: | J89: =E23
C90: Uchazeč: | F90: =IF(E20="","",E20) -> Vyplň údaj | I90: Zpracovatel: | J90: =E26
C92: PČ | D92: Typ | E92: Kód | F92: Popis | G92: MJ | H92: Množství | I92: J.cena [CZK] | J92: Cena celkem [CZK] | K92: Cenová soustava | N92: DPH | O92: J. Nh [h] | P92: Nh celkem [h] | Q92: J. hmotnost [t] | R92: Hmotnost celkem [t] | S92: J. suť [t] | T92: Suť Celkem [t]
C93: Náklady soupisu celkem | J93: =BK93 -> 0 | P93: =P94 -> 0 | R93: =R94 -> 146.33211 | T93: =T94 -> 0 | AT93: D | AU93: -1 | BK93: =BK94 -> 0
D94: D | E94: HSV | F94: Práce a dodávky HSV | J94: =BK94 -> 0 | P94: =P95+P97+P102+P104+P126+P129+P136 -> 0 | R94: =R95+R97+R102+R104+R126+R129+R136 -> 146.33211 | T94: =T95+T97+T102+T104+T126+T129+T136 -> 0 | AR94: 1 | AT94: D | AU94: 0 | AY94: ROZPOCET | BK94: =BK95+BK97+BK102+BK104+BK126+BK129+BK136 -> 0
D95: D | E95: 1 | F95: Zemní práce | J95: =BK95 -> 0 | P95: =P96 -> 0 | R95: =R96 -> 0 | T95: =T96 -> 0 | AR95: 1 | AT95: D | AU95: 1 | AY95: ROZPOCET | BK95: =BK96 -> 0
C96: 1 | D96: K | E96: 171101121 | F96: Uložení sypaniny z hornin nesoudržných kamenitých do násypů zhutněných | G96: m3 | H96: 25 | J96: =ROUND(I96*H96,2) -> 0 | N96: základní | P96: =O96*H96 -> 0 | Q96: 0 | R96: =Q96*H96 -> 0 | S96: 0 | T96: =S96*H96 -> 0 | AR96: 4 | AT96: K | AU96: 2 | AY96: ROZPOCET | BE96: =IF(N96="základní",J96,0) -> 0 | BF96: =IF(N96="snížená",J96,0) -> 0 | BG96: =IF(N96="zákl. přenesená",J96,0) -> 0 | BH96: =IF(N96="sníž. přenesená",J96,0) -> 0 | BI96: =IF(N96="nulová",J96,0) -> 0 | BJ96: 1 | BK96: =ROUND(I96*H96,2) -> 0 | BL96: 4 | BM96: 2
D97: D | E97: 3 | F97: Svislé a kompletní konstrukce | J97: =BK97 -> 0 | P97: =SUM(P98:P101) -> 0 | R97: =SUM(R98:R101) -> 5.4509428 | T97: =SUM(T98:T101) -> 0 | AR97: 1 | AT97: D | AU97: 1 | AY97: ROZPOCET | BK97: =SUM(BK98:BK101) -> 0
C98: 2 | D98: K | E98: 334323218 | F98: Mostní křídla a závěrné zídky ze ŽB C 30/37 | G98: m3 | H98: 2.2 | J98: =ROUND(I98*H98,2) -> 0 | N98: základní | P98: =O98*H98 -> 0 | Q98: 2.45351 | R98: =Q98*H98 -> 5.397722 | S98: 0 | T98: =S98*H98 -> 0 | AR98: 4 | AT98: K | AU98: 2 | AY98: ROZPOCET | BE98: =IF(N98="základní",J98,0) -> 0 | BF98: =IF(N98="snížená",J98,0) -> 0 | BG98: =IF(N98="zákl. přenesená",J98,0) -> 0 | BH98: =IF(N98="sníž. přenesená",J98,0) -> 0 | BI98: =IF(N98="nulová",J98,0) -> 0 | BJ98: 1 | BK98: =ROUND(I98*H98,2) -> 0 | BL98: 4 | BM98: 4
C99: 3 | D99: K | E99: 334352111 | F99: Bednění mostních křídel a závěrných zídek ze systémového bednění s výplní z překližek - zřízení | G99: m2 | H99: 13.04 | J99: =ROUND(I99*H99,2) -> 0 | N99: základní | P99: =O99*H99 -> 0 | Q99: 0.0013214 | R99: =Q99*H99 -> 0.017231056 | S99: 0 | T99: =S99*H99 -> 0 | AR99: 4 | AT99: K | AU99: 2 | AY99: ROZPOCET | BE99: =IF(N99="základní",J99,0) -> 0 | BF99: =IF(N99="snížená",J99,0) -> 0 | BG99: =IF(N99="zákl. přenesená",J99,0) -> 0 | BH99: =IF(N99="sníž. přenesená",J99,0) -> 0 | BI99: =IF(N99="nulová",J99,0) -> 0 | BJ99: 1 | BK99: =ROUND(I99*H99,2) -> 0 | BL99: 4 | BM99: 6
C100: 4 | D100: K | E100: 334352211 | F100: Bednění mostních křídel a závěrných zídek ze systémového bednění s výplní z překližek - odstranění | G100: m2 | H100: 13.04 | J100: =ROUND(I100*H100,2) -> 0 | N100: základní | P100: =O100*H100 -> 0 | Q100: 3.6e-05 | R100: =Q100*H100 -> 0.00046944 | S100: 0 | T100: =S100*H100 -> 0 | AR100: 4 | AT100: K | AU100: 2 | AY100: ROZPOCET | BE100: =IF(N100="základní",J100,0) -> 0 | BF100: =IF(N100="snížená",J100,0) -> 0 | BG100: =IF(N100="zákl. přenesená",J100,0) -> 0 | BH100: =IF(N100="sníž. přenesená",J100,0) -> 0 | BI100: =IF(N100="nulová",J100,0) -> 0 | BJ100: 1 | BK100: =ROUND(I100*H100,2) -> 0 | BL100: 4 | BM100: 8
C101: 5 | D101: K | E101: 334361226 | F101: Výztuž křídel, závěrných zdí z betonářské oceli 10 505 | G101: t | H101: 0.033 | J101: =ROUND(I101*H101,2) -> 0 | N101: základní | P101: =O101*H101 -> 0 | Q101: 1.076372 | R101: =Q101*H101 -> 0.035520276 | S101: 0 | T101: =S101*H101 -> 0 | AR101: 4 | AT101: K | AU101: 2 | AY101: ROZPOCET | BE101: =IF(N101="základní",J101,0) -> 0 | BF101: =IF(N101="snížená",J101,0) -> 0 | BG101: =IF(N101="zákl. přenesená",J101,0) -> 0 | BH101: =IF(N101="sníž. přenesená",J101,0) -> 0 | BI101: =IF(N101="nulová",J101,0) -> 0 | BJ101: 1 | BK101: =ROUND(I101*H101,2) -> 0 | BL101: 4 | BM101: 10
D102: D | E102: 4 | F102: Vodorovné konstrukce | J102: =BK102 -> 0 | P102: =P103 -> 0 | R102: =R103 -> 0.11809157 | T102: =T103 -> 0 | AR102: 1 | AT102: D | AU102: 1 | AY102: ROZPOCET | BK102: =BK103 -> 0
C103: 6 | D103: K | E103: 451315115 | F103: Podkladní nebo výplňová vrstva z betonu C 16/20 tl do 100 mm | G103: m2 | H103: 0.518 | J103: =ROUND(I103*H103,2) -> 0 | N103: základní | P103: =O103*H103 -> 0 | Q103: 0.227976 | R103: =Q103*H103 -> 0.11809157 | S103: 0 | T103: =S103*H103 -> 0 | AR103: 4 | AT103: K | AU103: 2 | AY103: ROZPOCET | BE103: =IF(N103="základní",J103,0) -> 0 | BF103: =IF(N103="snížená",J103,0) -> 0 | BG103: =IF(N103="zákl. přenesená",J103,0) -> 0 | BH103: =IF(N103="sníž. přenesená",J103,0) -> 0 | BI103: =IF(N103="nulová",J103,0) -> 0 | BJ103: 1 | BK103: =ROUND(I103*H103,2) -> 0 | BL103: 4 | BM103: 12
D104: D | E104: 5 | F104: Komunikace | J104: =BK104 -> 0 | P104: =SUM(P105:P125) -> 0 | R104: =SUM(R105:R125) -> 140.183 | T104: =SUM(T105:T125) -> 0 | AR104: 1 | AT104: D | AU104: 1 | AY104: ROZPOCET | BK104: =SUM(BK105:BK125) -> 0
C105: 7 | D105: K | E105: 5905035120 | F105: Výměna KL malou těžící mechanizací včetně lavičky (pod ložnou plochou pražce) zapuštěného | G105: m3 | H105: 28.504 | J105: =ROUND(I105*H105,2) -> 0 | N105: základní | P105: =O105*H105 -> 0 | Q105: 0 | R105: =Q105*H105 -> 0 | S105: 0 | T105: =S105*H105 -> 0 | AR105: 4 | AT105: K | AU105: 2 | AY105: ROZPOCET | BE105: =IF(N105="základní",J105,0) -> 0 | BF105: =IF(N105="snížená",J105,0) -> 0 | BG105: =IF(N105="zákl. přenesená",J105,0) -> 0 | BH105: =IF(N105="sníž. přenesená",J105,0) -> 0 | BI105: =IF(N105="nulová",J105,0) -> 0 | BJ105: 1 | BK105: =ROUND(I105*H105,2) -> 0 | BL105: 4 | BM105: 14
C106: 8 | D106: M | E106: 5955101000 | F106: Kamenivo nové frakce 31,5/63 třídy BI | G106: t | H106: 140.183 | J106: =ROUND(I106*H106,2) -> 0 | N106: základní | P106: =O106*H106 -> 0 | Q106: 1 | R106: =Q106*H106 -> 140.183 | S106: 0 | T106: =S106*H106 -> 0 | AR106: 8 | AT106: M | AU106: 2 | AY106: ROZPOCET | BE106: =IF(N106="základní",J106,0) -> 0 | BF106: =IF(N106="snížená",J106,0) -> 0 | BG106: =IF(N106="zákl. přenesená",J106,0) -> 0 | BH106: =IF(N106="sníž. přenesená",J106,0) -> 0 | BI106: =IF(N106="nulová",J106,0) -> 0 | BJ106: 1 | BK106: =ROUND(I106*H106,2) -> 0 | BL106: 4 | BM106: 16
C107: 9 | D107: K | E107: 5905105030 | F107: Doplnění KL kamenivem souvisle v koleji | G107: m3 | H107: 38.25 | J107: =ROUND(I107*H107,2) -> 0 | N107: základní | P107: =O107*H107 -> 0 | Q107: 0 | R107: =Q107*H107 -> 0 | S107: 0 | T107: =S107*H107 -> 0 | AR107: 4 | AT107: K | AU107: 2 | AY107: ROZPOCET | BE107: =IF(N107="základní",J107,0) -> 0 | BF107: =IF(N107="snížená",J107,0) -> 0 | BG107: =IF(N107="zákl. přenesená",J107,0) -> 0 | BH107: =IF(N107="sníž. přenesená",J107,0) -> 0 | BI107: =IF(N107="nulová",J107,0) -> 0 | BJ107: 1 | BK107: =ROUND(I107*H107,2) -> 0 | BL107: 4 | BM107: 18
C108: 10 | D108: K | E108: 5906130380 | F108: Montáž kolejového roštu v ose koleje pražce betonové vystrojené tv. S49 rozdělení "c" | G108: km | H108: 0.014 | J108: =ROUND(I108*H108,2) -> 0 | N108: základní | P108: =O108*H108 -> 0 | Q108: 0 | R108: =Q108*H108 -> 0 | S108: 0 | T108: =S108*H108 -> 0 | AR108: 4 | AT108: K | AU108: 2 | AY108: ROZPOCET | BE108: =IF(N108="základní",J108,0) -> 0 | BF108: =IF(N108="snížená",J108,0) -> 0 | BG108: =IF(N108="zákl. přenesená",J108,0) -> 0 | BH108: =IF(N108="sníž. přenesená",J108,0) -> 0 | BI108: =IF(N108="nulová",J108,0) -> 0 | BJ108: 1 | BK108: =ROUND(I108*H108,2) -> 0 | BL108: 4 | BM108: 20
C109: 11 | D109: K | E109: 5906140235 | F109: Demontáž kolejového roštu koleje v ose koleje pražce betonové tv. T rozdělení "c" | G109: km | H109: 0.014 | J109: =ROUND(I109*H109,2) -> 0 | K109: Sborník UOŽI 01 2019 | N109: základní | P109: =O109*H109 -> 0 | Q109: 0 | R109: =Q109*H109 -> 0 | S109: 0 | T109: =S109*H109 -> 0 | AR109: 4 | AT109: K | AU109: 2 | AY109: ROZPOCET | BE109: =IF(N109="základní",J109,0) -> 0 | BF109: =IF(N109="snížená",J109,0) -> 0 | BG109: =IF(N109="zákl. přenesená",J109,0) -> 0 | BH109: =IF(N109="sníž. přenesená",J109,0) -> 0 | BI109: =IF(N109="nulová",J109,0) -> 0 | BJ109: 1 | BK109: =ROUND(I109*H109,2) -> 0 | BL109: 4 | BM109: -1780561082
C110: 12 | D110: K | E110: 5907050020 | F110: Dělení kolejnic řezáním nebo rozbroušením tv. S49 | G110: kus | H110: 4 | J110: =ROUND(I110*H110,2) -> 0 | N110: základní | P110: =O110*H110 -> 0 | Q110: 0 | R110: =Q110*H110 -> 0 | S110: 0 | T110: =S110*H110 -> 0 | AR110: 4 | AT110: K | AU110: 2 | AY110: ROZPOCET | BE110: =IF(N110="základní",J110,0) -> 0 | BF110: =IF(N110="snížená",J110,0) -> 0 | BG110: =IF(N110="zákl. přenesená",J110,0) -> 0 | BH110: =IF(N110="sníž. přenesená",J110,0) -> 0 | BI110: =IF(N110="nulová",J110,0) -> 0 | BJ110: 1 | BK110: =ROUND(I110*H110,2) -> 0 | BL110: 4 | BM110: 24
C111: 13 | D111: K | E111: 5909025020 | F111: Úprava směrového a výškového uspořádání koleje na krátkých úsecích pražce betonové | G111: km | H111: 0.255 | J111: =ROUND(I111*H111,2) -> 0 | N111: základní | P111: =O111*H111 -> 0 | Q111: 0 | R111: =Q111*H111 -> 0 | S111: 0 | T111: =S111*H111 -> 0 | AR111: 4 | AT111: K | AU111: 2 | AY111: ROZPOCET | BE111: =IF(N111="základní",J111,0) -> 0 | BF111: =IF(N111="snížená",J111,0) -> 0 | BG111: =IF(N111="zákl. přenesená",J111,0) -> 0 | BH111: =IF(N111="sníž. přenesená",J111,0) -> 0 | BI111: =IF(N111="nulová",J111,0) -> 0 | BJ111: 1 | BK111: =ROUND(I111*H111,2) -> 0 | BL111: 4 | BM111: 26
C112: 14 | D112: K | E112: 5910020130 | F112: Svařování kolejnic termitem standardní spára, plný předehřev svar jednotlivý tv. S49 | G112: svar | H112: 4 | J112: =ROUND(I112*H112,2) -> 0 | N112: základní | P112: =O112*H112 -> 0 | Q112: 0 | R112: =Q112*H112 -> 0 | S112: 0 | T112: =S112*H112 -> 0 | AR112: 4 | AT112: K | AU112: 2 | AY112: ROZPOCET | BE112: =IF(N112="základní",J112,0) -> 0 | BF112: =IF(N112="snížená",J112,0) -> 0 | BG112: =IF(N112="zákl. přenesená",J112,0) -> 0 | BH112: =IF(N112="sníž. přenesená",J112,0) -> 0 | BI112: =IF(N112="nulová",J112,0) -> 0 | BJ112: 1 | BK112: =ROUND(I112*H112,2) -> 0 | BL112: 4 | BM112: 28
C113: 15 | D113: K | E113: 5910035030 | F113: Dosažení dovolené upínací teploty v BK prodloužením kolejnicového pásu v koleji tv. S49 | G113: svar | H113: 4 | J113: =ROUND(I113*H113,2) -> 0 | N113: základní | P113: =O113*H113 -> 0 | Q113: 0 | R113: =Q113*H113 -> 0 | S113: 0 | T113: =S113*H113 -> 0 | AR113: 4 | AT113: K | AU113: 2 | AY113: ROZPOCET | BE113: =IF(N113="základní",J113,0) -> 0 | BF113: =IF(N113="snížená",J113,0) -> 0 | BG113: =IF(N113="zákl. přenesená",J113,0) -> 0 | BH113: =IF(N113="sníž. přenesená",J113,0) -> 0 | BI113: =IF(N113="nulová",J113,0) -> 0 | BJ113: 1 | BK113: =ROUND(I113*H113,2) -> 0 | BL113: 4 | BM113: 30
C114: 16 | D114: K | E114: 5910040310 | F114: Umožnění volné dilatace kolejnic demontáž upevňovadel s osazením kluzných podložek rozdělení pražců "c" | G114: m | H114: 85 | J114: =ROUND(I114*H114,2) -> 0 | N114: základní | P114: =O114*H114 -> 0 | Q114: 0 | R114: =Q114*H114 -> 0 | S114: 0 | T114: =S114*H114 -> 0 | AR114: 4 | AT114: K | AU114: 2 | AY114: ROZPOCET | BE114: =IF(N114="základní",J114,0) -> 0 | BF114: =IF(N114="snížená",J114,0) -> 0 | BG114: =IF(N114="zákl. přenesená",J114,0) -> 0 | BH114: =IF(N114="sníž. přenesená",J114,0) -> 0 | BI114: =IF(N114="nulová",J114,0) -> 0 | BJ114: 1 | BK114: =ROUND(I114*H114,2) -> 0 | BL114: 4 | BM114: 32
C115: 17 | D115: K | E115: 5910040410 | F115: Umožnění volné dilatace kolejnic montáž upevňovadel s odstraněním kluzných podložek rozdělení pražců "c" | G115: m | H115: 85 | J115: =ROUND(I115*H115,2) -> 0 | N115: základní | P115: =O115*H115 -> 0 | Q115: 0 | R115: =Q115*H115 -> 0 | S115: 0 | T115: =S115*H115 -> 0 | AR115: 4 | AT115: K | AU115: 2 | AY115: ROZPOCET | BE115: =IF(N115="základní",J115,0) -> 0 | BF115: =IF(N115="snížená",J115,0) -> 0 | BG115: =IF(N115="zákl. přenesená",J115,0) -> 0 | BH115: =IF(N115="sníž. přenesená",J115,0) -> 0 | BI115: =IF(N115="nulová",J115,0) -> 0 | BJ115: 1 | BK115: =ROUND(I115*H115,2) -> 0 | BL115: 4 | BM115: 34
C116: 18 | D116: K | E116: 5910055110 | F116: Oprava profilu hlavy kolejnice broušením souvisle ručně do 2 mm | G116: m | H116: 85 | J116: =ROUND(I116*H116,2) -> 0 | N116: základní | P116: =O116*H116 -> 0 | Q116: 0 | R116: =Q116*H116 -> 0 | S116: 0 | T116: =S116*H116 -> 0 | AR116: 4 | AT116: K | AU116: 2 | AY116: ROZPOCET | BE116: =IF(N116="základní",J116,0) -> 0 | BF116: =IF(N116="snížená",J116,0) -> 0 | BG116: =IF(N116="zákl. přenesená",J116,0) -> 0 | BH116: =IF(N116="sníž. přenesená",J116,0) -> 0 | BI116: =IF(N116="nulová",J116,0) -> 0 | BJ116: 1 | BK116: =ROUND(I116*H116,2) -> 0 | BL116: 4 | BM116: 36
C117: 19 | D117: K | E117: 5913070010 | F117: Demontáž betonové přejezdové konstrukce v koleji v celé šíři | G117: m | H117: 3.7 | J117: =ROUND(I117*H117,2) -> 0 | N117: základní | P117: =O117*H117 -> 0 | Q117: 0 | R117: =Q117*H117 -> 0 | S117: 0 | T117: =S117*H117 -> 0 | AR117: 4 | AT117: K | AU117: 2 | AY117: ROZPOCET | BE117: =IF(N117="základní",J117,0) -> 0 | BF117: =IF(N117="snížená",J117,0) -> 0 | BG117: =IF(N117="zákl. přenesená",J117,0) -> 0 | BH117: =IF(N117="sníž. přenesená",J117,0) -> 0 | BI117: =IF(N117="nulová",J117,0) -> 0 | BJ117: 1 | BK117: =ROUND(I117*H117,2) -> 0 | BL117: 4 | BM117: 38
C118: 20 | D118: K | E118: 5913100000-R | F118: Doplňkové díly zádlažbové přejezdové konstrukce v koleji z opěrných hranolů D+M komplet | G118: m3 | H118: 0.28 | J118: =ROUND(I118*H118,2) -> 0 | N118: základní | P118: =O118*H118 -> 0 | Q118: 0 | R118: =Q118*H118 -> 0 | S118: 0 | T118: =S118*H118 -> 0 | AR118: 4 | AT118: K | AU118: 2 | AY118: ROZPOCET | BE118: =IF(N118="základní",J118,0) -> 0 | BF118: =IF(N118="snížená",J118,0) -> 0 | BG118: =IF(N118="zákl. přenesená",J118,0) -> 0 | BH118: =IF(N118="sníž. přenesená",J118,0) -> 0 | BI118: =IF(N118="nulová",J118,0) -> 0 | BJ118: 1 | BK118: =ROUND(I118*H118,2) -> 0 | BL118: 4 | BM118: 40
C119: 21 | D119: K | E119: 5913110010 | F119: Montáž zádlažbové přejezdové konstrukce v koleji v celé šíři | G119: m | H119: 3.69 | J119: =ROUND(I119*H119,2) -> 0 | N119: základní | P119: =O119*H119 -> 0 | Q119: 0 | R119: =Q119*H119 -> 0 | S119: 0 | T119: =S119*H119 -> 0 | AR119: 4 | AT119: K | AU119: 2 | AY119: ROZPOCET | BE119: =IF(N119="základní",J119,0) -> 0 | BF119: =IF(N119="snížená",J119,0) -> 0 | BG119: =IF(N119="zákl. přenesená",J119,0) -> 0 | BH119: =IF(N119="sníž. přenesená",J119,0) -> 0 | BI119: =IF(N119="nulová",J119,0) -> 0 | BJ119: 1 | BK119: =ROUND(I119*H119,2) -> 0 | BL119: 4 | BM119: 42
C120: 22 | D120: M | E120: 5963107015 | F120: Přejezd zádlažbový prefabrikát pro zádlažbu kolejí LP-A | G120: kus | H120: 3 | J120: =ROUND(I120*H120,2) -> 0 | N120: základní | P120: =O120*H120 -> 0 | Q120: 0 | R120: =Q120*H120 -> 0 | S120: 0 | T120: =S120*H120 -> 0 | AR120: 8 | AT120: M | AU120: 2 | AY120: ROZPOCET | BE120: =IF(N120="základní",J120,0) -> 0 | BF120: =IF(N120="snížená",J120,0) -> 0 | BG120: =IF(N120="zákl. přenesená",J120,0) -> 0 | BH120: =IF(N120="sníž. přenesená",J120,0) -> 0 | BI120: =IF(N120="nulová",J120,0) -> 0 | BJ120: 1 | BK120: =ROUND(I120*H120,2) -> 0 | BL120: 4 | BM120: 44
C121: 23 | D121: M | E121: 5963107020 | F121: Přejezd zádlažbový prefabrikát pro zádlažbu kolejí LP-B | G121: kus | H121: 6 | J121: =ROUND(I121*H121,2) -> 0 | N121: základní | P121: =O121*H121 -> 0 | Q121: 0 | R121: =Q121*H121 -> 0 | S121: 0 | T121: =S121*H121 -> 0 | AR121: 8 | AT121: M | AU121: 2 | AY121: ROZPOCET | BE121: =IF(N121="základní",J121,0) -> 0 | BF121: =IF(N121="snížená",J121,0) -> 0 | BG121: =IF(N121="zákl. přenesená",J121,0) -> 0 | BH121: =IF(N121="sníž. přenesená",J121,0) -> 0 | BI121: =IF(N121="nulová",J121,0) -> 0 | BJ121: 1 | BK121: =ROUND(I121*H121,2) -> 0 | BL121: 4 | BM121: 46
... C125: 27 | D125: K | E125: 5999005030 | F125: Třídění vyzískaných hmot kolejnic | G125: t | H125: 1.4 | J125: =ROUND(I125*H125,2) -> 0 | N125: základní | P125: =O125*H125 -> 0 | Q125: 0 | R125: =Q125*H125 -> 0 | S125: 0 | T125: =S125*H125 -> 0 | AR125: 4 | AT125: K | AU125: 2 | AY125: ROZPOCET | BE125: =IF(N125="základní",J125,0) -> 0 | BF125: =IF(N125="snížená",J125,0) -> 0 | BG125: =IF(N125="zákl. přenesená",J125,0) -> 0 | BH125: =IF(N125="sníž. přenesená",J125,0) -> 0 | BI125: =IF(N125="nulová",J125,0) -> 0 | BJ125: 1 | BK125: =ROUND(I125*H125,2) -> 0 | BL125: 4 | BM125: 54
D126: D | E126: 9 | F126: Ostatní konstrukce a práce-bourání | J126: =BK126 -> 0 | P126: =SUM(P127:P128) -> 0 | R126: =SUM(R127:R128) -> 0.58007388 | T126: =SUM(T127:T128) -> 0 | AR126: 1 | AT126: D | AU126: 1 | AY126: ROZPOCET | BK126: =SUM(BK127:BK128) -> 0
C127: 28 | D127: K | E127: 922111111 | F127: Pražcové podloží separační vrstva z geotextilie | G127: m2 | H127: 18.944 | J127: =ROUND(I127*H127,2) -> 0 | N127: základní | P127: =O127*H127 -> 0 | Q127: 0.000275 | R127: =Q127*H127 -> 0.0052096 | S127: 0 | T127: =S127*H127 -> 0 | AR127: 4 | AT127: K | AU127: 2 | AY127: ROZPOCET | BE127: =IF(N127="základní",J127,0) -> 0 | BF127: =IF(N127="snížená",J127,0) -> 0 | BG127: =IF(N127="zákl. přenesená",J127,0) -> 0 | BH127: =IF(N127="sníž. přenesená",J127,0) -> 0 | BI127: =IF(N127="nulová",J127,0) -> 0 | BJ127: 1 | BK127: =ROUND(I127*H127,2) -> 0 | BL127: 4 | BM127: 56
C128: 29 | D128: K | E128: 922111411 | F128: Pražcové podloží podkladní vrstva ze štěrkopísku | G128: m3 | H128: 0.284 | J128: =ROUND(I128*H128,2) -> 0 | N128: základní | P128: =O128*H128 -> 0 | Q128: 2.02417 | R128: =Q128*H128 -> 0.57486428 | S128: 0 | T128: =S128*H128 -> 0 | AR128: 4 | AT128: K | AU128: 2 | AY128: ROZPOCET | BE128: =IF(N128="základní",J128,0) -> 0 | BF128: =IF(N128="snížená",J128,0) -> 0 | BG128: =IF(N128="zákl. přenesená",J128,0) -> 0 | BH128: =IF(N128="sníž. přenesená",J128,0) -> 0 | BI128: =IF(N128="nulová",J128,0) -> 0 | BJ128: 1 | BK128: =ROUND(I128*H128,2) -> 0 | BL128: 4 | BM128: 58
D129: D | E129: 997 | F129: Přesun sutě | J129: =BK129 -> 0 | P129: =SUM(P130:P135) -> 0 | R129: =SUM(R130:R135) -> 0 | T129: =SUM(T130:T135) -> 0 | AR129: 1 | AT129: D | AU129: 1 | AY129: ROZPOCET | BK129: =SUM(BK130:BK135) -> 0
C130: 30 | D130: K | E130: 997221825 | F130: Poplatek za uložení železobetonového odpadu na skládce (skládkovné) | G130: t | H130: 1.488 | J130: =ROUND(I130*H130,2) -> 0 | N130: základní | P130: =O130*H130 -> 0 | Q130: 0 | R130: =Q130*H130 -> 0 | S130: 0 | T130: =S130*H130 -> 0 | AR130: 4 | AT130: K | AU130: 2 | AY130: ROZPOCET | BE130: =IF(N130="základní",J130,0) -> 0 | BF130: =IF(N130="snížená",J130,0) -> 0 | BG130: =IF(N130="zákl. přenesená",J130,0) -> 0 | BH130: =IF(N130="sníž. přenesená",J130,0) -> 0 | BI130: =IF(N130="nulová",J130,0) -> 0 | BJ130: 1 | BK130: =ROUND(I130*H130,2) -> 0 | BL130: 4 | BM130: 60
C131: 31 | D131: K | E131: 997221855 | F131: Poplatek za uložení odpadu z kameniva na skládce (skládkovné) | G131: t | H131: 59.858 | J131: =ROUND(I131*H131,2) -> 0 | N131: základní | P131: =O131*H131 -> 0 | Q131: 0 | R131: =Q131*H131 -> 0 | S131: 0 | T131: =S131*H131 -> 0 | AR131: 4 | AT131: K | AU131: 2 | AY131: ROZPOCET | BE131: =IF(N131="základní",J131,0) -> 0 | BF131: =IF(N131="snížená",J131,0) -> 0 | BG131: =IF(N131="zákl. přenesená",J131,0) -> 0 | BH131: =IF(N131="sníž. přenesená",J131,0) -> 0 | BI131: =IF(N131="nulová",J131,0) -> 0 | BJ131: 1 | BK131: =ROUND(I131*H131,2) -> 0 | BL131: 4 | BM131: 62
C132: 32 | D132: K | E132: 997241511 | F132: Vodorovné přemístění vybouraných hmot do 7 km | G132: t | H132: 1.488 | J132: =ROUND(I132*H132,2) -> 0 | N132: základní | P132: =O132*H132 -> 0 | Q132: 0 | R132: =Q132*H132 -> 0 | S132: 0 | T132: =S132*H132 -> 0 | AR132: 4 | AT132: K | AU132: 2 | AY132: ROZPOCET | BE132: =IF(N132="základní",J132,0) -> 0 | BF132: =IF(N132="snížená",J132,0) -> 0 | BG132: =IF(N132="zákl. přenesená",J132,0) -> 0 | BH132: =IF(N132="sníž. přenesená",J132,0) -> 0 | BI132: =IF(N132="nulová",J132,0) -> 0 | BJ132: 1 | BK132: =ROUND(I132*H132,2) -> 0 | BL132: 4 | BM132: 64
C133: 33 | D133: K | E133: 997241519 | F133: Příplatek ZKD 1 km u vodorovného přemístění vybouraných hmot | G133: t | H133: 19.344 | J133: =ROUND(I133*H133,2) -> 0 | N133: základní | P133: =O133*H133 -> 0 | Q133: 0 | R133: =Q133*H133 -> 0 | S133: 0 | T133: =S133*H133 -> 0 | AR133: 4 | AT133: K | AU133: 2 | AY133: ROZPOCET | BE133: =IF(N133="základní",J133,0) -> 0 | BF133: =IF(N133="snížená",J133,0) -> 0 | BG133: =IF(N133="zákl. přenesená",J133,0) -> 0 | BH133: =IF(N133="sníž. přenesená",J133,0) -> 0 | BI133: =IF(N133="nulová",J133,0) -> 0 | BJ133: 1 | BK133: =ROUND(I133*H133,2) -> 0 | BL133: 4 | BM133: 66
C134: 34 | D134: K | E134: 997241531 | F134: Vodorovné přemístění suti do 7 km | G134: t | H134: 59.858 | J134: =ROUND(I134*H134,2) -> 0 | N134: základní | P134: =O134*H134 -> 0 | Q134: 0 | R134: =Q134*H134 -> 0 | S134: 0 | T134: =S134*H134 -> 0 | AR134: 4 | AT134: K | AU134: 2 | AY134: ROZPOCET | BE134: =IF(N134="základní",J134,0) -> 0 | BF134: =IF(N134="snížená",J134,0) -> 0 | BG134: =IF(N134="zákl. přenesená",J134,0) -> 0 | BH134: =IF(N134="sníž. přenesená",J134,0) -> 0 | BI134: =IF(N134="nulová",J134,0) -> 0 | BJ134: 1 | BK134: =ROUND(I134*H134,2) -> 0 | BL134: 4 | BM134: 68
C135: 35 | D135: K | E135: 997241539 | F135: Vodorovné přemístění suti ZKD 1 km | G135: t | H135: 778.154 | J135: =ROUND(I135*H135,2) -> 0 | N135: základní | P135: =O135*H135 -> 0 | Q135: 0 | R135: =Q135*H135 -> 0 | S135: 0 | T135: =S135*H135 -> 0 | AR135: 4 | AT135: K | AU135: 2 | AY135: ROZPOCET | BE135: =IF(N135="základní",J135,0) -> 0 | BF135: =IF(N135="snížená",J135,0) -> 0 | BG135: =IF(N135="zákl. přenesená",J135,0) -> 0 | BH135: =IF(N135="sníž. přenesená",J135,0) -> 0 | BI135: =IF(N135="nulová",J135,0) -> 0 | BJ135: 1 | BK135: =ROUND(I135*H135,2) -> 0 | BL135: 4 | BM135: 70
D136: D | E136: 998 | F136: Přesun hmot | J136: =BK136 -> 0 | P136: =P137 -> 0 | R136: =R137 -> 0 | T136: =T137 -> 0 | AR136: 1 | AT136: D | AU136: 1 | AY136: ROZPOCET | BK136: =BK137 -> 0
...

Sheet SO 03.1 - Oprava propustk...
L2: >> skryté sloupce << | AT2: {21aa6e05-871f-4fb4-9dc7-1295e9e55ffd}
AT3: 2
D4: KRYCÍ LIST SOUPISU PRACÍ | M4: v --- níže se nacházejí doplnkové a pomocné údaje k sestavám --- v | AT4: False
D6: Stavba:
E7: ='Rekapitulace stavby'!K6 -> Oprava propustků v km 24,666, 25,142, 25,589 a 25,786 na trati Vsetín - Velké Karlovice
D8: Objekt:
E9: SO 03 - Propustek v km 25,589
D10: Soupis:
E11: SO 03.1 - Oprava propustku - km 25,589
D13: KSO: | I13: CC-CZ:
D14: Místo: | I14: Datum: | J14: ='Rekapitulace stavby'!AN8 -> 3. 4. 2019
D16: Zadavatel: | I16: IČ: | J16: =IF('Rekapitulace stavby'!AN10="","",'Rekapitulace stavby'!AN10)
E17: =IF('Rekapitulace stavby'!E11="","",'Rekapitulace stavby'!E11) | I17: DIČ: | J17: =IF('Rekapitulace stavby'!AN11="","",'Rekapitulace stavby'!AN11)
D19: Uchazeč: | I19: IČ: | J19: ='Rekapitulace stavby'!AN13 -> Vyplň údaj
E20: ='Rekapitulace stavby'!E14 -> Vyplň údaj | I20: DIČ: | J20: ='Rekapitulace stavby'!AN14 -> Vyplň údaj
D22: Projektant: | I22: IČ: | J22: =IF('Rekapitulace stavby'!AN16="","",'Rekapitulace stavby'!AN16)
E23: =IF('Rekapitulace stavby'!E17="","",'Rekapitulace stavby'!E17) | I23: DIČ: | J23: =IF('Rekapitulace stavby'!AN17="","",'Rekapitulace stavby'!AN17)
D25: Zpracovatel: | I25: IČ: | J25: =IF('Rekapitulace stavby'!AN19="","",'Rekapitulace stavby'!AN19)
E26: =IF('Rekapitulace stavby'!E20="","",'Rekapitulace stavby'!E20) | I26: DIČ: | J26: =IF('Rekapitulace stavby'!AN20="","",'Rekapitulace stavby'!AN20)
D28: Poznámka:
D32: Cena bez DPH | J32: =ROUND(J99, 2) -> 0
F34: Základ daně | I34: Sazba daně | J34: Výše daně
D35: DPH | E35: základní | F35: =ROUND((SUM(BE99:BE158)), 2) -> 0 | I35: 0.21 | J35: =ROUND(((SUM(BE99:BE158))*I35), 2) -> 0
E36: snížená | F36: =ROUND((SUM(BF99:BF158)), 2) -> 0 | I36: 0.15 | J36: =ROUND(((SUM(BF99:BF158))*I36), 2) -> 0
E37: zákl. přenesená | F37: =ROUND((SUM(BG99:BG158)), 2) -> 0 | I37: 0.21 | J37: =0 -> 0
E38: sníž. přenesená | F38: =ROUND((SUM(BH99:BH158)), 2) -> 0 | I38: 0.15 | J38: =0 -> 0
E39: nulová | F39: =ROUND((SUM(BI99:BI158)), 2) -> 0 | I39: 0 | J39: =0 -> 0
D41: Cena s DPH | G41: v | H41: CZK | J41: =SUM(J32:J39) -> 0
C47: REKAPITULACE ČLENĚNÍ SOUPISU PRACÍ
C49: Stavba:
E50: =E7 -> Oprava propustků v km 24,666, 25,142, 25,589 a 25,786 na trati Vsetín - Velké Karlovice
C51: Objekt:
E52: SO 03 - Propustek v km 25,589
C53: Soupis:
E54: =E11 -> SO 03.1 - Oprava propustku - km 25,589
C56: Místo: | F56: =F14 | I56: Datum: | J56: =IF(J14="","",J14) -> 3. 4. 2019
C58: Zadavatel: | F58: =E17 | I58: Projektant: | J58: =E23
C59: Uchazeč: | F59: =IF(E20="","",E20) -> Vyplň údaj | I59: Zpracovatel: | J59: =E26
C61: Kód dílu - Popis | J61: Cena celkem [CZK]
C63: Náklady ze soupisu prací | J63: =J99 -> 0 | AU63: -1
D64: HSV - Práce a dodávky HSV | J64: =J100 -> 0
D65: 1 - Zemní práce | J65: =J101 -> 0
D66: 2 - Zakládání | J66: =J114 -> 0
D67: 4 - Vodorovné konstrukce | J67: =J120 -> 0
D68: 8 - Trubní vedení | J68: =J124 -> 0
D69: 9 - Ostatní konstrukce a práce-bourání | J69: =J126 -> 0
D70: 997 - Přesun sutě | J70: =J133 -> 0
D71: 998 - Přesun hmot | J71: =J139 -> 0
D72: PSV - Práce a dodávky PSV | J72: =J141 -> 0
D73: 711 - Izolace proti vodě, vlhkosti a plynům | J73: =J142 -> 0
D74: VRN - Vedlejší rozpočtové náklady | J74: =J148 -> 0
D75: VRN1 - Průzkumné, geodetické a projektové práce | J75: =J149 -> 0
D76: VRN3 - Zařízení staveniště | J76: =J152 -> 0
D77: VRN9 - Ostatní náklady | J77: =J156 -> 0
C84: SOUPIS PRACÍ
C86: Stavba:
E87: =E7 -> Oprava propustků v km 24,666, 25,142, 25,589 a 25,786 na trati Vsetín - Velké Karlovice
C88: Objekt:
E89: SO 03 - Propustek v km 25,589
C90: Soupis:
E91: =E11 -> SO 03.1 - Oprava propustku - km 25,589
C93: Místo: | F93: =F14 | I93: Datum: | J93: =IF(J14="","",J14) -> 3. 4. 2019
C95: Zadavatel: | F95: =E17 | I95: Projektant: | J95: =E23
C96: Uchazeč: | F96: =IF(E20="","",E20) -> Vyplň údaj | I96: Zpracovatel: | J96: =E26
C98: PČ | D98: Typ | E98: Kód | F98: Popis | G98: MJ | H98: Množství | I98: J.cena [CZK] | J98: Cena celkem [CZK] | K98: Cenová soustava | N98: DPH | O98: J. Nh [h] | P98: Nh celkem [h] | Q98: J. hmotnost [t] | R98: Hmotnost celkem [t] | S98: J. suť [t] | T98: Suť Celkem [t]
C99: Náklady soupisu celkem | J99: =BK99 -> 0 | P99: =P100+P141+P148 -> 0 | R99: =R100+R141+R148 -> 63.741245 | T99: =T100+T141+T148 -> 63.003 | AT99: D | AU99: -1 | BK99: =BK100+BK141+BK148 -> 0
D100: D | E100: HSV | F100: Práce a dodávky HSV | J100: =BK100 -> 0 | P100: =P101+P114+P120+P124+P126+P133+P139 -> 0 | R100: =R101+R114+R120+R124+R126+R133+R139 -> 62.988479 | T100: =T101+T114+T120+T124+T126+T133+T139 -> 63.003 | AR100: 1 | AT100: D | AU100: 0 | AY100: ROZPOCET | BK100: =BK101+BK114+BK120+BK124+BK126+BK133+BK139 -> 0
D101: D | E101: 1 | F101: Zemní práce | J101: =BK101 -> 0 | P101: =SUM(P102:P113) -> 0 | R101: =SUM(R102:R113) -> 0.002516 | T101: =SUM(T102:T113) -> 6.739 | AR101: 1 | AT101: D | AU101: 1 | AY101: ROZPOCET | BK101: =SUM(BK102:BK113) -> 0
C102: 1 | D102: K | E102: 113105113 | F102: Rozebrání dlažeb z lomového kamene kladených na MC vyspárované MC | G102: m2 | H102: 11.5 | J102: =ROUND(I102*H102,2) -> 0 | N102: základní | P102: =O102*H102 -> 0 | Q102: 0 | R102: =Q102*H102 -> 0 | S102: 0.586 | T102: =S102*H102 -> 6.739 | AR102: 4 | AT102: K | AU102: 2 | AY102: ROZPOCET | BE102: =IF(N102="základní",J102,0) -> 0 | BF102: =IF(N102="snížená",J102,0) -> 0 | BG102: =IF(N102="zákl. přenesená",J102,0) -> 0 | BH102: =IF(N102="sníž. přenesená",J102,0) -> 0 | BI102: =IF(N102="nulová",J102,0) -> 0 | BJ102: 1 | BK102: =ROUND(I102*H102,2) -> 0 | BL102: 4 | BM102: 2
C103: 2 | D103: K | E103: 115101202 | F103: Čerpání vody na dopravní výšku do 10 m průměrný přítok do 1000 l/min | G103: hod | H103: 24 | J103: =ROUND(I103*H103,2) -> 0 | N103: základní | P103: =O103*H103 -> 0 | Q103: 0 | R103: =Q103*H103 -> 0 | S103: 0 | T103: =S103*H103 -> 0 | AR103: 4 | AT103: K | AU103: 2 | AY103: ROZPOCET | BE103: =IF(N103="základní",J103,0) -> 0 | BF103: =IF(N103="snížená",J103,0) -> 0 | BG103: =IF(N103="zákl. přenesená",J103,0) -> 0 | BH103: =IF(N103="sníž. přenesená",J103,0) -> 0 | BI103: =IF(N103="nulová",J103,0) -> 0 | BJ103: 1 | BK103: =ROUND(I103*H103,2) -> 0 | BL103: 4 | BM103: 4
C104: 3 | D104: K | E104: 121101101 | F104: Sejmutí ornice s přemístěním na vzdálenost do 50 m | G104: m3 | H104: 56.7 | J104: =ROUND(I104*H104,2) -> 0 | N104: základní | P104: =O104*H104 -> 0 | Q104: 0 | R104: =Q104*H104 -> 0 | S104: 0 | T104: =S104*H104 -> 0 | AR104: 4 | AT104: K | AU104: 2 | AY104: ROZPOCET | BE104: =IF(N104="základní",J104,0) -> 0 | BF104: =IF(N104="snížená",J104,0) -> 0 | BG104: =IF(N104="zákl. přenesená",J104,0) -> 0 | BH104: =IF(N104="sníž. přenesená",J104,0) -> 0 | BI104: =IF(N104="nulová",J104,0) -> 0 | BJ104: 1 | BK104: =ROUND(I104*H104,2) -> 0 | BL104: 4 | BM104: 6
C105: 4 | D105: K | E105: 131201102 | F105: Hloubení jam nezapažených v hornině tř. 3 objemu do 1000 m3 | G105: m3 | H105: 168.1 | J105: =ROUND(I105*H105,2) -> 0 | N105: základní | P105: =O105*H105 -> 0 | Q105: 0 | R105: =Q105*H105 -> 0 | S105: 0 | T105: =S105*H105 -> 0 | AR105: 4 | AT105: K | AU105: 2 | AY105: ROZPOCET | BE105: =IF(N105="základní",J105,0) -> 0 | BF105: =IF(N105="snížená",J105,0) -> 0 | BG105: =IF(N105="zákl. přenesená",J105,0) -> 0 | BH105: =IF(N105="sníž. přenesená",J105,0) -> 0 | BI105: =IF(N105="nulová",J105,0) -> 0 | BJ105: 1 | BK105: =ROUND(I105*H105,2) -> 0 | BL105: 4 | BM105: 8
C106: 5 | D106: K | E106: 131201109 | F106: Příplatek za lepivost u hloubení jam nezapažených v hornině tř. 3 | G106: m3 | H106: 168.1 | J106: =ROUND(I106*H106,2) -> 0 | N106: základní | P106: =O106*H106 -> 0 | Q106: 0 | R106: =Q106*H106 -> 0 | S106: 0 | T106: =S106*H106 -> 0 | AR106: 4 | AT106: K | AU106: 2 | AY106: ROZPOCET | BE106: =IF(N106="základní",J106,0) -> 0 | BF106: =IF(N106="snížená",J106,0) -> 0 | BG106: =IF(N106="zákl. přenesená",J106,0) -> 0 | BH106: =IF(N106="sníž. přenesená",J106,0) -> 0 | BI106: =IF(N106="nulová",J106,0) -> 0 | BJ106: 1 | BK106: =ROUND(I106*H106,2) -> 0 | BL106: 4 | BM106: 10
C107: 6 | D107: K | E107: 132201101 | F107: Hloubení rýh š do 600 mm v hornině tř. 3 objemu do 100 m3 | G107: m3 | H107: 7.5 | J107: =ROUND(I107*H107,2) -> 0 | N107: základní | P107: =O107*H107 -> 0 | Q107: 0 | R107: =Q107*H107 -> 0 | S107: 0 | T107: =S107*H107 -> 0 | AR107: 4 | AT107: K | AU107: 2 | AY107: ROZPOCET | BE107: =IF(N107="základní",J107,0) -> 0 | BF107: =IF(N107="snížená",J107,0) -> 0 | BG107: =IF(N107="zákl. přenesená",J107,0) -> 0 | BH107: =IF(N107="sníž. přenesená",J107,0) -> 0 | BI107: =IF(N107="nulová",J107,0) -> 0 | BJ107: 1 | BK107: =ROUND(I107*H107,2) -> 0 | BL107: 4 | BM107: 12
C108: 7 | D108: K | E108: 132201109 | F108: Příplatek za lepivost k hloubení rýh š do 600 mm v hornině tř. 3 | G108: m3 | H108: 7.5 | J108: =ROUND(I108*H108,2) -> 0 | N108: základní | P108: =O108*H108 -> 0 | Q108: 0 | R108: =Q108*H108 -> 0 | S108: 0 | T108: =S108*H108 -> 0 | AR108: 4 | AT108: K | AU108: 2 | AY108: ROZPOCET | BE108: =IF(N108="základní",J108,0) -> 0 | BF108: =IF(N108="snížená",J108,0) -> 0 | BG108: =IF(N108="zákl. přenesená",J108,0) -> 0 | BH108: =IF(N108="sníž. přenesená",J108,0) -> 0 | BI108: =IF(N108="nulová",J108,0) -> 0 | BJ108: 1 | BK108: =ROUND(I108*H108,2) -> 0 | BL108: 4 | BM108: 14
C109: 8 | D109: K | E109: 171101101 | F109: Uložení sypaniny z hornin soudržných do násypů zhutněných na 95 % PS | G109: m3 | H109: 68 | J109: =ROUND(I109*H109,2) -> 0 | N109: základní | P109: =O109*H109 -> 0 | Q109: 0 | R109: =Q109*H109 -> 0 | S109: 0 | T109: =S109*H109 -> 0 | AR109: 4 | AT109: K | AU109: 2 | AY109: ROZPOCET | BE109: =IF(N109="základní",J109,0) -> 0 | BF109: =IF(N109="snížená",J109,0) -> 0 | BG109: =IF(N109="zákl. přenesená",J109,0) -> 0 | BH109: =IF(N109="sníž. přenesená",J109,0) -> 0 | BI109: =IF(N109="nulová",J109,0) -> 0 | BJ109: 1 | BK109: =ROUND(I109*H109,2) -> 0 | BL109: 4 | BM109: 16
C110: 9 | D110: K | E110: 174101101 | F110: Zásyp jam, šachet rýh nebo kolem objektů sypaninou se zhutněním | G110: m3 | H110: 136 | J110: =ROUND(I110*H110,2) -> 0 | N110: základní | P110: =O110*H110 -> 0 | Q110: 0 | R110: =Q110*H110 -> 0 | S110: 0 | T110: =S110*H110 -> 0 | AR110: 4 | AT110: K | AU110: 2 | AY110: ROZPOCET | BE110: =IF(N110="základní",J110,0) -> 0 | BF110: =IF(N110="snížená",J110,0) -> 0 | BG110: =IF(N110="zákl. přenesená",J110,0) -> 0 | BH110: =IF(N110="sníž. přenesená",J110,0) -> 0 | BI110: =IF(N110="nulová",J110,0) -> 0 | BJ110: 1 | BK110: =ROUND(I110*H110,2) -> 0 | BL110: 4 | BM110: 18
C111: 10 | D111: K | E111: 181301105 | F111: Rozprostření ornice tl vrstvy do 300 mm pl do 500 m2 v rovině nebo ve svahu do 1:5 | G111: m2 | H111: 167.7 | J111: =ROUND(I111*H111,2) -> 0 | N111: základní | P111: =O111*H111 -> 0 | Q111: 0 | R111: =Q111*H111 -> 0 | S111: 0 | T111: =S111*H111 -> 0 | AR111: 4 | AT111: K | AU111: 2 | AY111: ROZPOCET | BE111: =IF(N111="základní",J111,0) -> 0 | BF111: =IF(N111="snížená",J111,0) -> 0 | BG111: =IF(N111="zákl. přenesená",J111,0) -> 0 | BH111: =IF(N111="sníž. přenesená",J111,0) -> 0 | BI111: =IF(N111="nulová",J111,0) -> 0 | BJ111: 1 | BK111: =ROUND(I111*H111,2) -> 0 | BL111: 4 | BM111: 20
C112: 11 | D112: K | E112: 181411121 | F112: Založení lučního trávníku výsevem plochy do 1000 m2 v rovině a ve svahu do 1:5 | G112: m2 | H112: 167.7 | J112: =ROUND(I112*H112,2) -> 0 | N112: základní | P112: =O112*H112 -> 0 | Q112: 0 | R112: =Q112*H112 -> 0 | S112: 0 | T112: =S112*H112 -> 0 | AR112: 4 | AT112: K | AU112: 2 | AY112: ROZPOCET | BE112: =IF(N112="základní",J112,0) -> 0 | BF112: =IF(N112="snížená",J112,0) -> 0 | BG112: =IF(N112="zákl. přenesená",J112,0) -> 0 | BH112: =IF(N112="sníž. přenesená",J112,0) -> 0 | BI112: =IF(N112="nulová",J112,0) -> 0 | BJ112: 1 | BK112: =ROUND(I112*H112,2) -> 0 | BL112: 4 | BM112: 22
C113: 12 | D113: M | E113: 005724740 | F113: osivo směs travní krajinná - svahová | G113: kg | H113: 2.516 | J113: =ROUND(I113*H113,2) -> 0 | N113: základní | P113: =O113*H113 -> 0 | Q113: 0.001 | R113: =Q113*H113 -> 0.002516 | S113: 0 | T113: =S113*H113 -> 0 | AR113: 8 | AT113: M | AU113: 2 | AY113: ROZPOCET | BE113: =IF(N113="základní",J113,0) -> 0 | BF113: =IF(N113="snížená",J113,0) -> 0 | BG113: =IF(N113="zákl. přenesená",J113,0) -> 0 | BH113: =IF(N113="sníž. přenesená",J113,0) -> 0 | BI113: =IF(N113="nulová",J113,0) -> 0 | BJ113: 1 | BK113: =ROUND(I113*H113,2) -> 0 | BL113: 4 | BM113: 24
D114: D | E114: 2 | F114: Zakládání | J114: =BK114 -> 0 | P114: =SUM(P115:P119) -> 0 | R114: =SUM(R115:R119) -> 14.277214 | T114: =SUM(T115:T119) -> 0 | AR114: 1 | AT114: D | AU114: 1 | AY114: ROZPOCET | BK114: =SUM(BK115:BK119) -> 0
C115: 13 | D115: K | E115: 273321118 | F115: Základové desky ze ŽB C 30/37 | G115: m3 | H115: 5.632 | J115: =ROUND(I115*H115,2) -> 0 | N115: základní | P115: =O115*H115 -> 0 | Q115: 2.526248 | R115: =Q115*H115 -> 14.227829 | S115: 0 | T115: =S115*H115 -> 0 | AR115: 4 | AT115: K | AU115: 2 | AY115: ROZPOCET | BE115: =IF(N115="základní",J115,0) -> 0 | BF115: =IF(N115="snížená",J115,0) -> 0 | BG115: =IF(N115="zákl. přenesená",J115,0) -> 0 | BH115: =IF(N115="sníž. přenesená",J115,0) -> 0 | BI115: =IF(N115="nulová",J115,0) -> 0 | BJ115: 1 | BK115: =ROUND(I115*H115,2) -> 0 | BL115: 4 | BM115: 26
C116: 14 | D116: K | E116: 273354111 | F116: Bednění základových desek - zřízení | G116: m2 | H116: 8.16 | J116: =ROUND(I116*H116,2) -> 0 | N116: základní | P116: =O116*H116 -> 0 | Q116: 0.0014357 | R116: =Q116*H116 -> 0.011715312 | S116: 0 | T116: =S116*H116 -> 0 | AR116: 4 | AT116: K | AU116: 2 | AY116: ROZPOCET | BE116: =IF(N116="základní",J116,0) -> 0 | BF116: =IF(N116="snížená",J116,0) -> 0 | BG116: =IF(N116="zákl. přenesená",J116,0) -> 0 | BH116: =IF(N116="sníž. přenesená",J116,0) -> 0 | BI116: =IF(N116="nulová",J116,0) -> 0 | BJ116: 1 | BK116: =ROUND(I116*H116,2) -> 0 | BL116: 4 | BM116: 28
C117: 15 | D117: K | E117: 273354211 | F117: Bednění základových desek - odstranění | G117: m2 | H117: 8.16 | J117: =ROUND(I117*H117,2) -> 0 | N117: základní | P117: =O117*H117 -> 0 | Q117: 3.6e-05 | R117: =Q117*H117 -> 0.00029376 | S117: 0 | T117: =S117*H117 -> 0 | AR117: 4 | AT117: K | AU117: 2 | AY117: ROZPOCET | BE117: =IF(N117="základní",J117,0) -> 0 | BF117: =IF(N117="snížená",J117,0) -> 0 | BG117: =IF(N117="zákl. přenesená",J117,0) -> 0 | BH117: =IF(N117="sníž. přenesená",J117,0) -> 0 | BI117: =IF(N117="nulová",J117,0) -> 0 | BJ117: 1 | BK117: =ROUND(I117*H117,2) -> 0 | BL117: 4 | BM117: 30
C118: 16 | D118: K | E118: 273361116 | F118: Výztuž základových desek z betonářské oceli 10 505 | G118: t | H118: 0.036 | J118: =ROUND(I118*H118,2) -> 0 | N118: základní | P118: =O118*H118 -> 0 | Q118: 1.038217 | R118: =Q118*H118 -> 0.037375812 | S118: 0 | T118: =S118*H118 -> 0 | AR118: 4 | AT118: K | AU118: 2 | AY118: ROZPOCET | BE118: =IF(N118="základní",J118,0) -> 0 | BF118: =IF(N118="snížená",J118,0) -> 0 | BG118: =IF(N118="zákl. přenesená",J118,0) -> 0 | BH118: =IF(N118="sníž. přenesená",J118,0) -> 0 | BI118: =IF(N118="nulová",J118,0) -> 0 | BJ118: 1 | BK118: =ROUND(I118*H118,2) -> 0 | BL118: 4 | BM118: 32
C119: 17 | D119: K | E119: 273361413-R | F119: Výztuž základových desek ze svařovaných sítí do 8 kg/m2 | G119: t | H119: 0.569 | J119: =ROUND(I119*H119,2) -> 0 | N119: základní | P119: =O119*H119 -> 0 | Q119: 0 | R119: =Q119*H119 -> 0 | S119: 0 | T119: =S119*H119 -> 0 | AR119: 4 | AT119: K | AU119: 2 | AY119: ROZPOCET | BE119: =IF(N119="základní",J119,0) -> 0 | BF119: =IF(N119="snížená",J119,0) -> 0 | BG119: =IF(N119="zákl. přenesená",J119,0) -> 0 | BH119: =IF(N119="sníž. přenesená",J119,0) -> 0 | BI119: =IF(N119="nulová",J119,0) -> 0 | BJ119: 1 | BK119: =ROUND(I119*H119,2) -> 0 | BL119: 4 | BM119: 34
D120: D | E120: 4 | F120: Vodorovné konstrukce | J120: =BK120 -> 0 | P120: =SUM(P121:P123) -> 0 | R120: =SUM(R121:R123) -> 27.271214 | T120: =SUM(T121:T123) -> 0 | AR120: 1 | AT120: D | AU120: 1 | AY120: ROZPOCET | BK120: =SUM(BK121:BK123) -> 0
C121: 18 | D121: K | E121: 451315190-R | F121: Podkladní nebo vyrovnávací vrstva z betonu C25/30 | G121: m3 | H121: 15.31 | J121: =ROUND(I121*H121,2) -> 0 | N121: základní | P121: =O121*H121 -> 0 | Q121: 0 | R121: =Q121*H121 -> 0 | S121: 0 | T121: =S121*H121 -> 0 | AR121: 4 | AT121: K | AU121: 2 | AY121: ROZPOCET | BE121: =IF(N121="základní",J121,0) -> 0 | BF121: =IF(N121="snížená",J121,0) -> 0 | BG121: =IF(N121="zákl. přenesená",J121,0) -> 0 | BH121: =IF(N121="sníž. přenesená",J121,0) -> 0 | BI121: =IF(N121="nulová",J121,0) -> 0 | BJ121: 1 | BK121: =ROUND(I121*H121,2) -> 0 | BL121: 4 | BM121: 36
C122: 19 | D122: K | E122: 452318510 | F122: Zajišťovací práh z betonu prostého | G122: m3 | H122: 3 | J122: =ROUND(I122*H122,2) -> 0 | N122: základní | P122: =O122*H122 -> 0 | Q122: 2.492545 | R122: =Q122*H122 -> 7.477635 | S122: 0 | T122: =S122*H122 -> 0 | AR122: 4 | AT122: K | AU122: 2 | AY122: ROZPOCET | BE122: =IF(N122="základní",J122,0) -> 0 | BF122: =IF(N122="snížená",J122,0) -> 0 | BG122: =IF(N122="zákl. přenesená",J122,0) -> 0 | BH122: =IF(N122="sníž. přenesená",J122,0) -> 0 | BI122: =IF(N122="nulová",J122,0) -> 0 | BJ122: 1 | BK122: =ROUND(I122*H122,2) -> 0 | BL122: 4 | BM122: 38
C123: 20 | D123: K | E123: 465511523 | F123: Dlažba z lomového kamene do malty s vyplněním spár maltou a vyspárováním plocha nad 20 m2 tl 300 mm | G123: m2 | H123: 21.3 | J123: =ROUND(I123*H123,2) -> 0 | N123: základní | P123: =O123*H123 -> 0 | Q123: 0.929276 | R123: =Q123*H123 -> 19.793579 | S123: 0 | T123: =S123*H123 -> 0 | AR123: 4 | AT123: K | AU123: 2 | AY123: ROZPOCET | BE123: =IF(N123="základní",J123,0) -> 0 | BF123: =IF(N123="snížená",J123,0) -> 0 | BG123: =IF(N123="zákl. přenesená",J123,0) -> 0 | BH123: =IF(N123="sníž. přenesená",J123,0) -> 0 | BI123: =IF(N123="nulová",J123,0) -> 0 | BJ123: 1 | BK123: =ROUND(I123*H123,2) -> 0 | BL123: 4 | BM123: 40
D124: D | E124: 8 | F124: Trubní vedení | J124: =BK124 -> 0 | P124: =P125 -> 0 | R124: =R125 -> 0 | T124: =T125 -> 0 | AR124: 1 | AT124: D | AU124: 1 | AY124: ROZPOCET | BK124: =BK125 -> 0
C125: 21 | D125: K | E125: 894812438 | F125: Revizní a čistící šachta z PP DN 1000 šachtová skruž světlé hloubky 1000 mm | G125: kus | H125: 1 | J125: =ROUND(I125*H125,2) -> 0 | N125: základní | P125: =O125*H125 -> 0 | Q125: 0 | R125: =Q125*H125 -> 0 | S125: 0 | T125: =S125*H125 -> 0 | AR125: 4 | AT125: K | AU125: 2 | AY125: ROZPOCET | BE125: =IF(N125="základní",J125,0) -> 0 | BF125: =IF(N125="snížená",J125,0) -> 0 | BG125: =IF(N125="zákl. přenesená",J125,0) -> 0 | BH125: =IF(N125="sníž. přenesená",J125,0) -> 0 | BI125: =IF(N125="nulová",J125,0) -> 0 | BJ125: 1 | BK125: =ROUND(I125*H125,2) -> 0 | BL125: 4 | BM125: 42
D126: D | E126: 9 | F126: Ostatní konstrukce a práce-bourání | J126: =BK126 -> 0 | P126: =SUM(P127:P132) -> 0 | R126: =SUM(R127:R132) -> 21.437536 | T126: =SUM(T127:T132) -> 56.264 | AR126: 1 | AT126: D | AU126: 1 | AY126: ROZPOCET | BK126: =SUM(BK127:BK132) -> 0
C127: 22 | D127: K | E127: 919521017 | F127: Zřízení propustků z trub betonových DN 800 | G127: m | H127: 14.9 | J127: =ROUND(I127*H127,2) -> 0 | N127: základní | P127: =O127*H127 -> 0 | Q127: 1.4387608 | R127: =Q127*H127 -> 21.437536 | S127: 0 | T127: =S127*H127 -> 0 | AR127: 4 | AT127: K | AU127: 2 | AY127: ROZPOCET | BE127: =IF(N127="základní",J127,0) -> 0 | BF127: =IF(N127="snížená",J127,0) -> 0 | BG127: =IF(N127="zákl. přenesená",J127,0) -> 0 | BH127: =IF(N127="sníž. přenesená",J127,0) -> 0 | BI127: =IF(N127="nulová",J127,0) -> 0 | BJ127: 1 | BK127: =ROUND(I127*H127,2) -> 0 | BL127: 4 | BM127: 44
C128: 23 | D128: M | E128: 592211460-R | F128: trouba železobetonová patková DN 800 | G128: kus | H128: 12 | J128: =ROUND(I128*H128,2) -> 0 | N128: základní | P128: =O128*H128 -> 0 | Q128: 0 | R128: =Q128*H128 -> 0 | S128: 0 | T128: =S128*H128 -> 0 | AR128: 8 | AT128: M | AU128: 2 | AY128: ROZPOCET | BE128: =IF(N128="základní",J128,0) -> 0 | BF128: =IF(N128="snížená",J128,0) -> 0 | BG128: =IF(N128="zákl. přenesená",J128,0) -> 0 | BH128: =IF(N128="sníž. přenesená",J128,0) -> 0 | BI128: =IF(N128="nulová",J128,0) -> 0 | BJ128: 1 | BK128: =ROUND(I128*H128,2) -> 0 | BL128: 4 | BM128: 46
C129: 24 | D129: M | E129: 592211461-R | F129: trouba šikmá vtoková/výtoková železobetonová patková DN 800 | G129: kus | H129: 2 | J129: =ROUND(I129*H129,2) -> 0 | N129: základní | P129: =O129*H129 -> 0 | Q129: 0 | R129: =Q129*H129 -> 0 | S129: 0 | T129: =S129*H129 -> 0 | AR129: 8 | AT129: M | AU129: 2 | AY129: ROZPOCET | BE129: =IF(N129="základní",J129,0) -> 0 | BF129: =IF(N129="snížená",J129,0) -> 0 | BG129: =IF(N129="zákl. přenesená",J129,0) -> 0 | BH129: =IF(N129="sníž. přenesená",J129,0) -> 0 | BI129: =IF(N129="nulová",J129,0) -> 0 | BJ129: 1 | BK129: =ROUND(I129*H129,2) -> 0 | BL129: 4 | BM129: 48
C130: 25 | D130: K | E130: 961044111 | F130: Bourání základů z betonu prostého | G130: m3 | H130: 25 | J130: =ROUND(I130*H130,2) -> 0 | N130: základní | P130: =O130*H130 -> 0 | Q130: 0 | R130: =Q130*H130 -> 0 | S130: 2 | T130: =S130*H130 -> 50 | AR130: 4 | AT130: K | AU130: 2 | AY130: ROZPOCET | BE130: =IF(N130="základní",J130,0) -> 0 | BF130: =IF(N130="snížená",J130,0) -> 0 | BG130: =IF(N130="zákl. přenesená",J130,0) -> 0 | BH130: =IF(N130="sníž. přenesená",J130,0) -> 0 | BI130: =IF(N130="nulová",J130,0) -> 0 | BJ130: 1 | BK130: =ROUND(I130*H130,2) -> 0 | BL130: 4 | BM130: 50
C131: 26 | D131: K | E131: 966008113 | F131: Bourání trubního propustku do DN 800 | G131: m | H131: 3 | J131: =ROUND(I131*H131,2) -> 0 | N131: základní | P131: =O131*H131 -> 0 | Q131: 0 | R131: =Q131*H131 -> 0 | S131: 2.055 | T131: =S131*H131 -> 6.165 | AR131: 4 | AT131: K | AU131: 2 | AY131: ROZPOCET | BE131: =IF(N131="základní",J131,0) -> 0 | BF131: =IF(N131="snížená",J131,0) -> 0 | BG131: =IF(N131="zákl. přenesená",J131,0) -> 0 | BH131: =IF(N131="sníž. přenesená",J131,0) -> 0 | BI131: =IF(N131="nulová",J131,0) -> 0 | BJ131: 1 | BK131: =ROUND(I131*H131,2) -> 0 | BL131: 4 | BM131: 52
C132: 27 | D132: K | E132: 976044311 | F132: Vybourání betonových nebo ŽB obrub šachet průřezu přes 0,03 m2 | G132: m | H132: 1 | J132: =ROUND(I132*H132,2) -> 0 | N132: základní | P132: =O132*H132 -> 0 | Q132: 0 | R132: =Q132*H132 -> 0 | S132: 0.099 | T132: =S132*H132 -> 0.099 | AR132: 4 | AT132: K | AU132: 2 | AY132: ROZPOCET | BE132: =IF(N132="základní",J132,0) -> 0 | BF132: =IF(N132="snížená",J132,0) -> 0 | BG132: =IF(N132="zákl. přenesená",J132,0) -> 0 | BH132: =IF(N132="sníž. přenesená",J132,0) -> 0 | BI132: =IF(N132="nulová",J132,0) -> 0 | BJ132: 1 | BK132: =ROUND(I132*H132,2) -> 0 | BL132: 4 | BM132: 54
D133: D | E133: 997 | F133: Přesun sutě | J133: =BK133 -> 0 | P133: =SUM(P134:P138) -> 0 | R133: =SUM(R134:R138) -> 0 | T133: =SUM(T134:T138) -> 0 | AR133: 1 | AT133: D | AU133: 1 | AY133: ROZPOCET | BK133: =SUM(BK134:BK138) -> 0
...

Sheet SO 03.2 - Železniční svrš...
L2: >> skryté sloupce << | AT2: {fd9a17fc-df73-48a2-a86f-2d856b45fc19}
AT3: 2
D4: KRYCÍ LIST SOUPISU PRACÍ | M4: v --- níže se nacházejí doplnkové a pomocné údaje k sestavám --- v | AT4: False
D6: Stavba:
E7: ='Rekapitulace stavby'!K6 -> Oprava propustků v km 24,666, 25,142, 25,589 a 25,786 na trati Vsetín - Velké Karlovice
D8: Objekt:
E9: SO 03 - Propustek v km 25,589
D10: Soupis:
E11: SO 03.2 - Železniční svršek - km 25,589
D13: KSO: | I13: CC-CZ:
D14: Místo: | I14: Datum: | J14: ='Rekapitulace stavby'!AN8 -> 3. 4. 2019
D16: Zadavatel: | I16: IČ: | J16: =IF('Rekapitulace stavby'!AN10="","",'Rekapitulace stavby'!AN10)
E17: =IF('Rekapitulace stavby'!E11="","",'Rekapitulace stavby'!E11) | I17: DIČ: | J17: =IF('Rekapitulace stavby'!AN11="","",'Rekapitulace stavby'!AN11)
D19: Uchazeč: | I19: IČ: | J19: ='Rekapitulace stavby'!AN13 -> Vyplň údaj
E20: ='Rekapitulace stavby'!E14 -> Vyplň údaj | I20: DIČ: | J20: ='Rekapitulace stavby'!AN14 -> Vyplň údaj
D22: Projektant: | I22: IČ: | J22: =IF('Rekapitulace stavby'!AN16="","",'Rekapitulace stavby'!AN16)
E23: =IF('Rekapitulace stavby'!E17="","",'Rekapitulace stavby'!E17) | I23: DIČ: | J23: =IF('Rekapitulace stavby'!AN17="","",'Rekapitulace stavby'!AN17)
D25: Zpracovatel: | I25: IČ: | J25: =IF('Rekapitulace stavby'!AN19="","",'Rekapitulace stavby'!AN19)
E26: =IF('Rekapitulace stavby'!E20="","",'Rekapitulace stavby'!E20) | I26: DIČ: | J26: =IF('Rekapitulace stavby'!AN20="","",'Rekapitulace stavby'!AN20)
D28: Poznámka:
D32: Cena bez DPH | J32: =ROUND(J89, 2) -> 0
F34: Základ daně | I34: Sazba daně | J34: Výše daně
D35: DPH | E35: základní | F35: =ROUND((SUM(BE89:BE113)), 2) -> 0 | I35: 0.21 | J35: =ROUND(((SUM(BE89:BE113))*I35), 2) -> 0
E36: snížená | F36: =ROUND((SUM(BF89:BF113)), 2) -> 0 | I36: 0.15 | J36: =ROUND(((SUM(BF89:BF113))*I36), 2) -> 0
E37: zákl. přenesená | F37: =ROUND((SUM(BG89:BG113)), 2) -> 0 | I37: 0.21 | J37: =0 -> 0
E38: sníž. přenesená | F38: =ROUND((SUM(BH89:BH113)), 2) -> 0 | I38: 0.15 | J38: =0 -> 0
E39: nulová | F39: =ROUND((SUM(BI89:BI113)), 2) -> 0 | I39: 0 | J39: =0 -> 0
D41: Cena s DPH | G41: v | H41: CZK | J41: =SUM(J32:J39) -> 0
C47: REKAPITULACE ČLENĚNÍ SOUPISU PRACÍ
C49: Stavba:
E50: =E7 -> Oprava propustků v km 24,666, 25,142, 25,589 a 25,786 na trati Vsetín - Velké Karlovice
C51: Objekt:
E52: SO 03 - Propustek v km 25,589
C53: Soupis:
E54: =E11 -> SO 03.2 - Železniční svršek - km 25,589
C56: Místo: | F56: =F14 | I56: Datum: | J56: =IF(J14="","",J14) -> 3. 4. 2019
C58: Zadavatel: | F58: =E17 | I58: Projektant: | J58: =E23
C59: Uchazeč: | F59: =IF(E20="","",E20) -> Vyplň údaj | I59: Zpracovatel: | J59: =E26
C61: Kód dílu - Popis | J61: Cena celkem [CZK]
C63: Náklady ze soupisu prací | J63: =J89 -> 0 | AU63: -1
D64: HSV - Práce a dodávky HSV | J64: =J90 -> 0
D65: 5 - Komunikace | J65: =J91 -> 0
D66: 997 - Přesun sutě | J66: =J108 -> 0
D67: 998 - Přesun hmot | J67: =J112 -> 0
C74: SOUPIS PRACÍ
C76: Stavba:
E77: =E7 -> Oprava propustků v km 24,666, 25,142, 25,589 a 25,786 na trati Vsetín - Velké Karlovice
C78: Objekt:
E79: SO 03 - Propustek v km 25,589
C80: Soupis:
E81: =E11 -> SO 03.2 - Železniční svršek - km 25,589
C83: Místo: | F83: =F14 | I83: Datum: | J83: =IF(J14="","",J14) -> 3. 4. 2019
C85: Zadavatel: | F85: =E17 | I85: Projektant: | J85: =E23
C86: Uchazeč: | F86: =IF(E20="","",E20) -> Vyplň údaj | I86: Zpracovatel: | J86: =E26
C88: PČ | D88: Typ | E88: Kód | F88: Popis | G88: MJ | H88: Množství | I88: J.cena [CZK] | J88: Cena celkem [CZK] | K88: Cenová soustava | N88: DPH | O88: J. Nh [h] | P88: Nh celkem [h] | Q88: J. hmotnost [t] | R88: Hmotnost celkem [t] | S88: J. suť [t] | T88: Suť Celkem [t]
C89: Náklady soupisu celkem | J89: =BK89 -> 0 | P89: =P90 -> 0 | R89: =R90 -> 120.338 | T89: =T90 -> 0 | AT89: D | AU89: -1 | BK89: =BK90 -> 0
D90: D | E90: HSV | F90: Práce a dodávky HSV | J90: =BK90 -> 0 | P90: =P91+P108+P112 -> 0 | R90: =R91+R108+R112 -> 120.338 | T90: =T91+T108+T112 -> 0 | AR90: 1 | AT90: D | AU90: 0 | AY90: ROZPOCET | BK90: =BK91+BK108+BK112 -> 0
D91: D | E91: 5 | F91: Komunikace | J91: =BK91 -> 0 | P91: =SUM(P92:P107) -> 0 | R91: =SUM(R92:R107) -> 120.338 | T91: =SUM(T92:T107) -> 0 | AR91: 1 | AT91: D | AU91: 1 | AY91: ROZPOCET | BK91: =SUM(BK92:BK107) -> 0
C92: 1 | D92: K | E92: 5905035120 | F92: Výměna KL malou těžící mechanizací včetně lavičky (pod ložnou plochou pražce) zapuštěného | G92: m3 | H92: 28.504 | J92: =ROUND(I92*H92,2) -> 0 | N92: základní | P92: =O92*H92 -> 0 | Q92: 0 | R92: =Q92*H92 -> 0 | S92: 0 | T92: =S92*H92 -> 0 | AR92: 4 | AT92: K | AU92: 2 | AY92: ROZPOCET | BE92: =IF(N92="základní",J92,0) -> 0 | BF92: =IF(N92="snížená",J92,0) -> 0 | BG92: =IF(N92="zákl. přenesená",J92,0) -> 0 | BH92: =IF(N92="sníž. přenesená",J92,0) -> 0 | BI92: =IF(N92="nulová",J92,0) -> 0 | BJ92: 1 | BK92: =ROUND(I92*H92,2) -> 0 | BL92: 4 | BM92: 2
C93: 2 | D93: M | E93: 5955101000 | F93: Kamenivo nové frakce 31,5/63 třídy BI | G93: t | H93: 120.338 | J93: =ROUND(I93*H93,2) -> 0 | N93: základní | P93: =O93*H93 -> 0 | Q93: 1 | R93: =Q93*H93 -> 120.338 | S93: 0 | T93: =S93*H93 -> 0 | AR93: 8 | AT93: M | AU93: 2 | AY93: ROZPOCET | BE93: =IF(N93="základní",J93,0) -> 0 | BF93: =IF(N93="snížená",J93,0) -> 0 | BG93: =IF(N93="zákl. přenesená",J93,0) -> 0 | BH93: =IF(N93="sníž. přenesená",J93,0) -> 0 | BI93: =IF(N93="nulová",J93,0) -> 0 | BJ93: 1 | BK93: =ROUND(I93*H93,2) -> 0 | BL93: 4 | BM93: 4
C94: 3 | D94: K | E94: 5905085040 | F94: Souvislé čištění KL koleje pražce betonové rozdělení "c" | G94: km | H94: 0.035 | J94: =ROUND(I94*H94,2) -> 0 | N94: základní | P94: =O94*H94 -> 0 | Q94: 0 | R94: =Q94*H94 -> 0 | S94: 0 | T94: =S94*H94 -> 0 | AR94: 4 | AT94: K | AU94: 2 | AY94: ROZPOCET | BE94: =IF(N94="základní",J94,0) -> 0 | BF94: =IF(N94="snížená",J94,0) -> 0 | BG94: =IF(N94="zákl. přenesená",J94,0) -> 0 | BH94: =IF(N94="sníž. přenesená",J94,0) -> 0 | BI94: =IF(N94="nulová",J94,0) -> 0 | BJ94: 1 | BK94: =ROUND(I94*H94,2) -> 0 | BL94: 4 | BM94: 6
C95: 4 | D95: K | E95: 5905105030 | F95: Doplnění KL kamenivem souvisle v koleji | G95: m3 | H95: 104.05 | J95: =ROUND(I95*H95,2) -> 0 | N95: základní | P95: =O95*H95 -> 0 | Q95: 0 | R95: =Q95*H95 -> 0 | S95: 0 | T95: =S95*H95 -> 0 | AR95: 4 | AT95: K | AU95: 2 | AY95: ROZPOCET | BE95: =IF(N95="základní",J95,0) -> 0 | BF95: =IF(N95="snížená",J95,0) -> 0 | BG95: =IF(N95="zákl. přenesená",J95,0) -> 0 | BH95: =IF(N95="sníž. přenesená",J95,0) -> 0 | BI95: =IF(N95="nulová",J95,0) -> 0 | BJ95: 1 | BK95: =ROUND(I95*H95,2) -> 0 | BL95: 4 | BM95: 8
C96: 5 | D96: K | E96: 5906130380 | F96: Montáž kolejového roštu v ose koleje pražce betonové vystrojené tv. S49 rozdělení "c" | G96: km | H96: 0.014 | J96: =ROUND(I96*H96,2) -> 0 | N96: základní | P96: =O96*H96 -> 0 | Q96: 0 | R96: =Q96*H96 -> 0 | S96: 0 | T96: =S96*H96 -> 0 | AR96: 4 | AT96: K | AU96: 2 | AY96: ROZPOCET | BE96: =IF(N96="základní",J96,0) -> 0 | BF96: =IF(N96="snížená",J96,0) -> 0 | BG96: =IF(N96="zákl. přenesená",J96,0) -> 0 | BH96: =IF(N96="sníž. přenesená",J96,0) -> 0 | BI96: =IF(N96="nulová",J96,0) -> 0 | BJ96: 1 | BK96: =ROUND(I96*H96,2) -> 0 | BL96: 4 | BM96: 10
C97: 6 | D97: K | E97: 5906140250 | F97: Demontáž kolejového roštu koleje v ose koleje pražce ocelové válcované tv. T nebo A válcované rozdělení "c" | G97: km | H97: 0.014 | J97: =ROUND(I97*H97,2) -> 0 | K97: Sborník UOŽI 01 2019 | N97: základní | P97: =O97*H97 -> 0 | Q97: 0 | R97: =Q97*H97 -> 0 | S97: 0 | T97: =S97*H97 -> 0 | AR97: 4 | AT97: K | AU97: 2 | AY97: ROZPOCET | BE97: =IF(N97="základní",J97,0) -> 0 | BF97: =IF(N97="snížená",J97,0) -> 0 | BG97: =IF(N97="zákl. přenesená",J97,0) -> 0 | BH97: =IF(N97="sníž. přenesená",J97,0) -> 0 | BI97: =IF(N97="nulová",J97,0) -> 0 | BJ97: 1 | BK97: =ROUND(I97*H97,2) -> 0 | BL97: 4 | BM97: 1049406634
C98: 7 | D98: K | E98: 5907050020 | F98: Dělení kolejnic řezáním nebo rozbroušením tv. S49 | G98: kus | H98: 4 | J98: =ROUND(I98*H98,2) -> 0 | N98: základní | P98: =O98*H98 -> 0 | Q98: 0 | R98: =Q98*H98 -> 0 | S98: 0 | T98: =S98*H98 -> 0 | AR98: 4 | AT98: K | AU98: 2 | AY98: ROZPOCET | BE98: =IF(N98="základní",J98,0) -> 0 | BF98: =IF(N98="snížená",J98,0) -> 0 | BG98: =IF(N98="zákl. přenesená",J98,0) -> 0 | BH98: =IF(N98="sníž. přenesená",J98,0) -> 0 | BI98: =IF(N98="nulová",J98,0) -> 0 | BJ98: 1 | BK98: =ROUND(I98*H98,2) -> 0 | BL98: 4 | BM98: 14
C99: 8 | D99: K | E99: 5909025020 | F99: Úprava směrového a výškového uspořádání koleje na krátkých úsecích pražce betonové | G99: km | H99: 0.192 | J99: =ROUND(I99*H99,2) -> 0 | N99: základní | P99: =O99*H99 -> 0 | Q99: 0 | R99: =Q99*H99 -> 0 | S99: 0 | T99: =S99*H99 -> 0 | AR99: 4 | AT99: K | AU99: 2 | AY99: ROZPOCET | BE99: =IF(N99="základní",J99,0) -> 0 | BF99: =IF(N99="snížená",J99,0) -> 0 | BG99: =IF(N99="zákl. přenesená",J99,0) -> 0 | BH99: =IF(N99="sníž. přenesená",J99,0) -> 0 | BI99: =IF(N99="nulová",J99,0) -> 0 | BJ99: 1 | BK99: =ROUND(I99*H99,2) -> 0 | BL99: 4 | BM99: 16
C100: 9 | D100: K | E100: 5910020130 | F100: Svařování kolejnic termitem standardní spára, plný předehřev svar jednotlivý tv. S49 | G100: svar | H100: 4 | J100: =ROUND(I100*H100,2) -> 0 | N100: základní | P100: =O100*H100 -> 0 | Q100: 0 | R100: =Q100*H100 -> 0 | S100: 0 | T100: =S100*H100 -> 0 | AR100: 4 | AT100: K | AU100: 2 | AY100: ROZPOCET | BE100: =IF(N100="základní",J100,0) -> 0 | BF100: =IF(N100="snížená",J100,0) -> 0 | BG100: =IF(N100="zákl. přenesená",J100,0) -> 0 | BH100: =IF(N100="sníž. přenesená",J100,0) -> 0 | BI100: =IF(N100="nulová",J100,0) -> 0 | BJ100: 1 | BK100: =ROUND(I100*H100,2) -> 0 | BL100: 4 | BM100: 18
C101: 10 | D101: K | E101: 5910035030 | F101: Dosažení dovolené upínací teploty v BK prodloužením kolejnicového pásu v koleji tv. S49 | G101: svar | H101: 4 | J101: =ROUND(I101*H101,2) -> 0 | N101: základní | P101: =O101*H101 -> 0 | Q101: 0 | R101: =Q101*H101 -> 0 | S101: 0 | T101: =S101*H101 -> 0 | AR101: 4 | AT101: K | AU101: 2 | AY101: ROZPOCET | BE101: =IF(N101="základní",J101,0) -> 0 | BF101: =IF(N101="snížená",J101,0) -> 0 | BG101: =IF(N101="zákl. přenesená",J101,0) -> 0 | BH101: =IF(N101="sníž. přenesená",J101,0) -> 0 | BI101: =IF(N101="nulová",J101,0) -> 0 | BJ101: 1 | BK101: =ROUND(I101*H101,2) -> 0 | BL101: 4 | BM101: 20
C102: 11 | D102: K | E102: 5910040310 | F102: Umožnění volné dilatace kolejnic demontáž upevňovadel s osazením kluzných podložek rozdělení pražců "c" | G102: m | H102: 64 | J102: =ROUND(I102*H102,2) -> 0 | N102: základní | P102: =O102*H102 -> 0 | Q102: 0 | R102: =Q102*H102 -> 0 | S102: 0 | T102: =S102*H102 -> 0 | AR102: 4 | AT102: K | AU102: 2 | AY102: ROZPOCET | BE102: =IF(N102="základní",J102,0) -> 0 | BF102: =IF(N102="snížená",J102,0) -> 0 | BG102: =IF(N102="zákl. přenesená",J102,0) -> 0 | BH102: =IF(N102="sníž. přenesená",J102,0) -> 0 | BI102: =IF(N102="nulová",J102,0) -> 0 | BJ102: 1 | BK102: =ROUND(I102*H102,2) -> 0 | BL102: 4 | BM102: 22
C103: 12 | D103: K | E103: 5910040410 | F103: Umožnění volné dilatace kolejnic montáž upevňovadel s odstraněním kluzných podložek rozdělení pražců "c" | G103: m | H103: 64 | J103: =ROUND(I103*H103,2) -> 0 | N103: základní | P103: =O103*H103 -> 0 | Q103: 0 | R103: =Q103*H103 -> 0 | S103: 0 | T103: =S103*H103 -> 0 | AR103: 4 | AT103: K | AU103: 2 | AY103: ROZPOCET | BE103: =IF(N103="základní",J103,0) -> 0 | BF103: =IF(N103="snížená",J103,0) -> 0 | BG103: =IF(N103="zákl. přenesená",J103,0) -> 0 | BH103: =IF(N103="sníž. přenesená",J103,0) -> 0 | BI103: =IF(N103="nulová",J103,0) -> 0 | BJ103: 1 | BK103: =ROUND(I103*H103,2) -> 0 | BL103: 4 | BM103: 24
C104: 13 | D104: K | E104: 5910055110 | F104: Oprava profilu hlavy kolejnice broušením souvisle ručně do 2 mm | G104: m | H104: 64 | J104: =ROUND(I104*H104,2) -> 0 | N104: základní | P104: =O104*H104 -> 0 | Q104: 0 | R104: =Q104*H104 -> 0 | S104: 0 | T104: =S104*H104 -> 0 | AR104: 4 | AT104: K | AU104: 2 | AY104: ROZPOCET | BE104: =IF(N104="základní",J104,0) -> 0 | BF104: =IF(N104="snížená",J104,0) -> 0 | BG104: =IF(N104="zákl. přenesená",J104,0) -> 0 | BH104: =IF(N104="sníž. přenesená",J104,0) -> 0 | BI104: =IF(N104="nulová",J104,0) -> 0 | BJ104: 1 | BK104: =ROUND(I104*H104,2) -> 0 | BL104: 4 | BM104: 26
C105: 14 | D105: K | E105: 5999005010 | F105: Třídění vyzískaných hmot spojovacích a upevňovacích součástí | G105: t | H105: 0.805 | J105: =ROUND(I105*H105,2) -> 0 | N105: základní | P105: =O105*H105 -> 0 | Q105: 0 | R105: =Q105*H105 -> 0 | S105: 0 | T105: =S105*H105 -> 0 | AR105: 4 | AT105: K | AU105: 2 | AY105: ROZPOCET | BE105: =IF(N105="základní",J105,0) -> 0 | BF105: =IF(N105="snížená",J105,0) -> 0 | BG105: =IF(N105="zákl. přenesená",J105,0) -> 0 | BH105: =IF(N105="sníž. přenesená",J105,0) -> 0 | BI105: =IF(N105="nulová",J105,0) -> 0 | BJ105: 1 | BK105: =ROUND(I105*H105,2) -> 0 | BL105: 4 | BM105: 28
C106: 15 | D106: K | E106: 5999005020 | F106: Třídění vyzískaných hmot pražců a kolejnicových podpor | G106: t | H106: 6.21 | J106: =ROUND(I106*H106,2) -> 0 | N106: základní | P106: =O106*H106 -> 0 | Q106: 0 | R106: =Q106*H106 -> 0 | S106: 0 | T106: =S106*H106 -> 0 | AR106: 4 | AT106: K | AU106: 2 | AY106: ROZPOCET | BE106: =IF(N106="základní",J106,0) -> 0 | BF106: =IF(N106="snížená",J106,0) -> 0 | BG106: =IF(N106="zákl. přenesená",J106,0) -> 0 | BH106: =IF(N106="sníž. přenesená",J106,0) -> 0 | BI106: =IF(N106="nulová",J106,0) -> 0 | BJ106: 1 | BK106: =ROUND(I106*H106,2) -> 0 | BL106: 4 | BM106: 30
C107: 16 | D107: K | E107: 5999005030 | F107: Třídění vyzískaných hmot kolejnic | G107: t | H107: 1.4 | J107: =ROUND(I107*H107,2) -> 0 | N107: základní | P107: =O107*H107 -> 0 | Q107: 0 | R107: =Q107*H107 -> 0 | S107: 0 | T107: =S107*H107 -> 0 | AR107: 4 | AT107: K | AU107: 2 | AY107: ROZPOCET | BE107: =IF(N107="základní",J107,0) -> 0 | BF107: =IF(N107="snížená",J107,0) -> 0 | BG107: =IF(N107="zákl. přenesená",J107,0) -> 0 | BH107: =IF(N107="sníž. přenesená",J107,0) -> 0 | BI107: =IF(N107="nulová",J107,0) -> 0 | BJ107: 1 | BK107: =ROUND(I107*H107,2) -> 0 | BL107: 4 | BM107: 32
D108: D | E108: 997 | F108: Přesun sutě | J108: =BK108 -> 0 | P108: =SUM(P109:P111) -> 0 | R108: =SUM(R109:R111) -> 0 | T108: =SUM(T109:T111) -> 0 | AR108: 1 | AT108: D | AU108: 1 | AY108: ROZPOCET | BK108: =SUM(BK109:BK111) -> 0
C109: 17 | D109: K | E109: 997221855 | F109: Poplatek za uložení odpadu z kameniva na skládce (skládkovné) | G109: t | H109: 59.858 | J109: =ROUND(I109*H109,2) -> 0 | N109: základní | P109: =O109*H109 -> 0 | Q109: 0 | R109: =Q109*H109 -> 0 | S109: 0 | T109: =S109*H109 -> 0 | AR109: 4 | AT109: K | AU109: 2 | AY109: ROZPOCET | BE109: =IF(N109="základní",J109,0) -> 0 | BF109: =IF(N109="snížená",J109,0) -> 0 | BG109: =IF(N109="zákl. přenesená",J109,0) -> 0 | BH109: =IF(N109="sníž. přenesená",J109,0) -> 0 | BI109: =IF(N109="nulová",J109,0) -> 0 | BJ109: 1 | BK109: =ROUND(I109*H109,2) -> 0 | BL109: 4 | BM109: 34
C110: 18 | D110: K | E110: 997241531 | F110: Vodorovné přemístění suti do 7 km | G110: t | H110: 59.858 | J110: =ROUND(I110*H110,2) -> 0 | N110: základní | P110: =O110*H110 -> 0 | Q110: 0 | R110: =Q110*H110 -> 0 | S110: 0 | T110: =S110*H110 -> 0 | AR110: 4 | AT110: K | AU110: 2 | AY110: ROZPOCET | BE110: =IF(N110="základní",J110,0) -> 0 | BF110: =IF(N110="snížená",J110,0) -> 0 | BG110: =IF(N110="zákl. přenesená",J110,0) -> 0 | BH110: =IF(N110="sníž. přenesená",J110,0) -> 0 | BI110: =IF(N110="nulová",J110,0) -> 0 | BJ110: 1 | BK110: =ROUND(I110*H110,2) -> 0 | BL110: 4 | BM110: 36
C111: 19 | D111: K | E111: 997241539 | F111: Vodorovné přemístění suti ZKD 1 km | G111: t | H111: 778.154 | J111: =ROUND(I111*H111,2) -> 0 | N111: základní | P111: =O111*H111 -> 0 | Q111: 0 | R111: =Q111*H111 -> 0 | S111: 0 | T111: =S111*H111 -> 0 | AR111: 4 | AT111: K | AU111: 2 | AY111: ROZPOCET | BE111: =IF(N111="základní",J111,0) -> 0 | BF111: =IF(N111="snížená",J111,0) -> 0 | BG111: =IF(N111="zákl. přenesená",J111,0) -> 0 | BH111: =IF(N111="sníž. přenesená",J111,0) -> 0 | BI111: =IF(N111="nulová",J111,0) -> 0 | BJ111: 1 | BK111: =ROUND(I111*H111,2) -> 0 | BL111: 4 | BM111: 38
D112: D | E112: 998 | F112: Přesun hmot | J112: =BK112 -> 0 | P112: =P113 -> 0 | R112: =R113 -> 0 | T112: =T113 -> 0 | AR112: 1 | AT112: D | AU112: 1 | AY112: ROZPOCET | BK112: =BK113 -> 0
C113: 20 | D113: K | E113: 998242011 | F113: Přesun hmot pro železniční svršek drah kolejových o sklonu 0,8 % | G113: t | H113: 120.338 | J113: =ROUND(I113*H113,2) -> 0 | N113: základní | P113: =O113*H113 -> 0 | Q113: 0 | R113: =Q113*H113 -> 0 | S113: 0 | T113: =S113*H113 -> 0 | AR113: 4 | AT113: K | AU113: 2 | AY113: ROZPOCET | BE113: =IF(N113="základní",J113,0) -> 0 | BF113: =IF(N113="snížená",J113,0) -> 0 | BG113: =IF(N113="zákl. přenesená",J113,0) -> 0 | BH113: =IF(N113="sníž. přenesená",J113,0) -> 0 | BI113: =IF(N113="nulová",J113,0) -> 0 | BJ113: 1 | BK113: =ROUND(I113*H113,2) -> 0 | BL113: 4 | BM113: 40

Sheet SO 04.1 - Oprava propustk...
L2: >> skryté sloupce << | AT2: {f3aca2a1-d40d-4b55-b152-7b0fe2b51f50}
AT3: 2
D4: KRYCÍ LIST SOUPISU PRACÍ | M4: v --- níže se nacházejí doplnkové a pomocné údaje k sestavám --- v | AT4: False
D6: Stavba:
E7: ='Rekapitulace stavby'!K6 -> Oprava propustků v km 24,666, 25,142, 25,589 a 25,786 na trati Vsetín - Velké Karlovice
D8: Objekt:
E9: SO 04 - Propustek v km 25,786
D10: Soupis:
E11: SO 04.1 - Oprava propustku - km 25,786
D13: KSO: | I13: CC-CZ:
D14: Místo: | I14: Datum: | J14: ='Rekapitulace stavby'!AN8 -> 3. 4. 2019
D16: Zadavatel: | I16: IČ: | J16: =IF('Rekapitulace stavby'!AN10="","",'Rekapitulace stavby'!AN10)
E17: =IF('Rekapitulace stavby'!E11="","",'Rekapitulace stavby'!E11) | I17: DIČ: | J17: =IF('Rekapitulace stavby'!AN11="","",'Rekapitulace stavby'!AN11)
D19: Uchazeč: | I19: IČ: | J19: ='Rekapitulace stavby'!AN13 -> Vyplň údaj
E20: ='Rekapitulace stavby'!E14 -> Vyplň údaj | I20: DIČ: | J20: ='Rekapitulace stavby'!AN14 -> Vyplň údaj
D22: Projektant: | I22: IČ: | J22: =IF('Rekapitulace stavby'!AN16="","",'Rekapitulace stavby'!AN16)
E23: =IF('Rekapitulace stavby'!E17="","",'Rekapitulace stavby'!E17) | I23: DIČ: | J23: =IF('Rekapitulace stavby'!AN17="","",'Rekapitulace stavby'!AN17)
D25: Zpracovatel: | I25: IČ: | J25: =IF('Rekapitulace stavby'!AN19="","",'Rekapitulace stavby'!AN19)
E26: =IF('Rekapitulace stavby'!E20="","",'Rekapitulace stavby'!E20) | I26: DIČ: | J26: =IF('Rekapitulace stavby'!AN20="","",'Rekapitulace stavby'!AN20)
D28: Poznámka:
D32: Cena bez DPH | J32: =ROUND(J99, 2) -> 0
F34: Základ daně | I34: Sazba daně | J34: Výše daně
D35: DPH | E35: základní | F35: =ROUND((SUM(BE99:BE162)), 2) -> 0 | I35: 0.21 | J35: =ROUND(((SUM(BE99:BE162))*I35), 2) -> 0
E36: snížená | F36: =ROUND((SUM(BF99:BF162)), 2) -> 0 | I36: 0.15 | J36: =ROUND(((SUM(BF99:BF162))*I36), 2) -> 0
E37: zákl. přenesená | F37: =ROUND((SUM(BG99:BG162)), 2) -> 0 | I37: 0.21 | J37: =0 -> 0
E38: sníž. přenesená | F38: =ROUND((SUM(BH99:BH162)), 2) -> 0 | I38: 0.15 | J38: =0 -> 0
E39: nulová | F39: =ROUND((SUM(BI99:BI162)), 2) -> 0 | I39: 0 | J39: =0 -> 0
D41: Cena s DPH | G41: v | H41: CZK | J41: =SUM(J32:J39) -> 0
C47: REKAPITULACE ČLENĚNÍ SOUPISU PRACÍ
C49: Stavba:
E50: =E7 -> Oprava propustků v km 24,666, 25,142, 25,589 a 25,786 na trati Vsetín - Velké Karlovice
C51: Objekt:
E52: SO 04 - Propustek v km 25,786
C53: Soupis:
E54: =E11 -> SO 04.1 - Oprava propustku - km 25,786
C56: Místo: | F56: =F14 | I56: Datum: | J56: =IF(J14="","",J14) -> 3. 4. 2019
C58: Zadavatel: | F58: =E17 | I58: Projektant: | J58: =E23
C59: Uchazeč: | F59: =IF(E20="","",E20) -> Vyplň údaj | I59: Zpracovatel: | J59: =E26
C61: Kód dílu - Popis | J61: Cena celkem [CZK]
C63: Náklady ze soupisu prací | J63: =J99 -> 0 | AU63: -1
D64: HSV - Práce a dodávky HSV | J64: =J100 -> 0
D65: 1 - Zemní práce | J65: =J101 -> 0
D66: 2 - Zakládání | J66: =J119 -> 0
D67: 4 - Vodorovné konstrukce | J67: =J125 -> 0
D68: 8 - Trubní vedení | J68: =J129 -> 0
D69: 9 - Ostatní konstrukce a práce-bourání | J69: =J131 -> 0
D70: 997 - Přesun sutě | J70: =J137 -> 0
D71: 998 - Přesun hmot | J71: =J143 -> 0
D72: PSV - Práce a dodávky PSV | J72: =J145 -> 0
D73: 711 - Izolace proti vodě, vlhkosti a plynům | J73: =J146 -> 0
D74: VRN - Vedlejší rozpočtové náklady | J74: =J152 -> 0
D75: VRN1 - Průzkumné, geodetické a projektové práce | J75: =J153 -> 0
D76: VRN3 - Zařízení staveniště | J76: =J156 -> 0
D77: VRN9 - Ostatní náklady | J77: =J160 -> 0
C84: SOUPIS PRACÍ
C86: Stavba:
E87: =E7 -> Oprava propustků v km 24,666, 25,142, 25,589 a 25,786 na trati Vsetín - Velké Karlovice
C88: Objekt:
E89: SO 04 - Propustek v km 25,786
C90: Soupis:
E91: =E11 -> SO 04.1 - Oprava propustku - km 25,786
C93: Místo: | F93: =F14 | I93: Datum: | J93: =IF(J14="","",J14) -> 3. 4. 2019
C95: Zadavatel: | F95: =E17 | I95: Projektant: | J95: =E23
C96: Uchazeč: | F96: =IF(E20="","",E20) -> Vyplň údaj | I96: Zpracovatel: | J96: =E26
C98: PČ | D98: Typ | E98: Kód | F98: Popis | G98: MJ | H98: Množství | I98: J.cena [CZK] | J98: Cena celkem [CZK] | K98: Cenová soustava | N98: DPH | O98: J. Nh [h] | P98: Nh celkem [h] | Q98: J. hmotnost [t] | R98: Hmotnost celkem [t] | S98: J. suť [t] | T98: Suť Celkem [t]
C99: Náklady soupisu celkem | J99: =BK99 -> 0 | P99: =P100+P145+P152 -> 0 | R99: =R100+R145+R152 -> 77.211473 | T99: =T100+T145+T152 -> 41.131 | AT99: D | AU99: -1 | BK99: =BK100+BK145+BK152 -> 0
D100: D | E100: HSV | F100: Práce a dodávky HSV | J100: =BK100 -> 0 | P100: =P101+P119+P125+P129+P131+P137+P143 -> 0 | R100: =R101+R119+R125+R129+R131+R137+R143 -> 76.609265 | T100: =T101+T119+T125+T129+T131+T137+T143 -> 41.131 | AR100: 1 | AT100: D | AU100: 0 | AY100: ROZPOCET | BK100: =BK101+BK119+BK125+BK129+BK131+BK137+BK143 -> 0
D101: D | E101: 1 | F101: Zemní práce | J101: =BK101 -> 0 | P101: =SUM(P102:P118) -> 0 | R101: =SUM(R102:R118) -> 0.000783 | T101: =SUM(T102:T118) -> 7.032 | AR101: 1 | AT101: D | AU101: 1 | AY101: ROZPOCET | BK101: =SUM(BK102:BK118) -> 0
C102: 1 | D102: K | E102: 113105113 | F102: Rozebrání dlažeb z lomového kamene kladených na MC vyspárované MC | G102: m2 | H102: 12 | J102: =ROUND(I102*H102,2) -> 0 | N102: základní | P102: =O102*H102 -> 0 | Q102: 0 | R102: =Q102*H102 -> 0 | S102: 0.586 | T102: =S102*H102 -> 7.032 | AR102: 4 | AT102: K | AU102: 2 | AY102: ROZPOCET | BE102: =IF(N102="základní",J102,0) -> 0 | BF102: =IF(N102="snížená",J102,0) -> 0 | BG102: =IF(N102="zákl. přenesená",J102,0) -> 0 | BH102: =IF(N102="sníž. přenesená",J102,0) -> 0 | BI102: =IF(N102="nulová",J102,0) -> 0 | BJ102: 1 | BK102: =ROUND(I102*H102,2) -> 0 | BL102: 4 | BM102: 2
C103: 2 | D103: K | E103: 115101202 | F103: Čerpání vody na dopravní výšku do 10 m průměrný přítok do 1000 l/min | G103: hod | H103: 24 | J103: =ROUND(I103*H103,2) -> 0 | N103: základní | P103: =O103*H103 -> 0 | Q103: 0 | R103: =Q103*H103 -> 0 | S103: 0 | T103: =S103*H103 -> 0 | AR103: 4 | AT103: K | AU103: 2 | AY103: ROZPOCET | BE103: =IF(N103="základní",J103,0) -> 0 | BF103: =IF(N103="snížená",J103,0) -> 0 | BG103: =IF(N103="zákl. přenesená",J103,0) -> 0 | BH103: =IF(N103="sníž. přenesená",J103,0) -> 0 | BI103: =IF(N103="nulová",J103,0) -> 0 | BJ103: 1 | BK103: =ROUND(I103*H103,2) -> 0 | BL103: 4 | BM103: 4
C104: 3 | D104: K | E104: 121101101 | F104: Sejmutí ornice s přemístěním na vzdálenost do 50 m | G104: m3 | H104: 24.45 | J104: =ROUND(I104*H104,2) -> 0 | N104: základní | P104: =O104*H104 -> 0 | Q104: 0 | R104: =Q104*H104 -> 0 | S104: 0 | T104: =S104*H104 -> 0 | AR104: 4 | AT104: K | AU104: 2 | AY104: ROZPOCET | BE104: =IF(N104="základní",J104,0) -> 0 | BF104: =IF(N104="snížená",J104,0) -> 0 | BG104: =IF(N104="zákl. přenesená",J104,0) -> 0 | BH104: =IF(N104="sníž. přenesená",J104,0) -> 0 | BI104: =IF(N104="nulová",J104,0) -> 0 | BJ104: 1 | BK104: =ROUND(I104*H104,2) -> 0 | BL104: 4 | BM104: 6
C105: 4 | D105: K | E105: 131201102 | F105: Hloubení jam nezapažených v hornině tř. 3 objemu do 1000 m3 | G105: m3 | H105: 56.6 | J105: =ROUND(I105*H105,2) -> 0 | N105: základní | P105: =O105*H105 -> 0 | Q105: 0 | R105: =Q105*H105 -> 0 | S105: 0 | T105: =S105*H105 -> 0 | AR105: 4 | AT105: K | AU105: 2 | AY105: ROZPOCET | BE105: =IF(N105="základní",J105,0) -> 0 | BF105: =IF(N105="snížená",J105,0) -> 0 | BG105: =IF(N105="zákl. přenesená",J105,0) -> 0 | BH105: =IF(N105="sníž. přenesená",J105,0) -> 0 | BI105: =IF(N105="nulová",J105,0) -> 0 | BJ105: 1 | BK105: =ROUND(I105*H105,2) -> 0 | BL105: 4 | BM105: 8
C106: 5 | D106: K | E106: 131201109 | F106: Příplatek za lepivost u hloubení jam nezapažených v hornině tř. 3 | G106: m3 | H106: 56.6 | J106: =ROUND(I106*H106,2) -> 0 | N106: základní | P106: =O106*H106 -> 0 | Q106: 0 | R106: =Q106*H106 -> 0 | S106: 0 | T106: =S106*H106 -> 0 | AR106: 4 | AT106: K | AU106: 2 | AY106: ROZPOCET | BE106: =IF(N106="základní",J106,0) -> 0 | BF106: =IF(N106="snížená",J106,0) -> 0 | BG106: =IF(N106="zákl. přenesená",J106,0) -> 0 | BH106: =IF(N106="sníž. přenesená",J106,0) -> 0 | BI106: =IF(N106="nulová",J106,0) -> 0 | BJ106: 1 | BK106: =ROUND(I106*H106,2) -> 0 | BL106: 4 | BM106: 10
C107: 6 | D107: K | E107: 132201101 | F107: Hloubení rýh š do 600 mm v hornině tř. 3 objemu do 100 m3 | G107: m3 | H107: 16.85 | J107: =ROUND(I107*H107,2) -> 0 | N107: základní | P107: =O107*H107 -> 0 | Q107: 0 | R107: =Q107*H107 -> 0 | S107: 0 | T107: =S107*H107 -> 0 | AR107: 4 | AT107: K | AU107: 2 | AY107: ROZPOCET | BE107: =IF(N107="základní",J107,0) -> 0 | BF107: =IF(N107="snížená",J107,0) -> 0 | BG107: =IF(N107="zákl. přenesená",J107,0) -> 0 | BH107: =IF(N107="sníž. přenesená",J107,0) -> 0 | BI107: =IF(N107="nulová",J107,0) -> 0 | BJ107: 1 | BK107: =ROUND(I107*H107,2) -> 0 | BL107: 4 | BM107: 12
C108: 7 | D108: K | E108: 132201109 | F108: Příplatek za lepivost k hloubení rýh š do 600 mm v hornině tř. 3 | G108: m3 | H108: 16.85 | J108: =ROUND(I108*H108,2) -> 0 | N108: základní | P108: =O108*H108 -> 0 | Q108: 0 | R108: =Q108*H108 -> 0 | S108: 0 | T108: =S108*H108 -> 0 | AR108: 4 | AT108: K | AU108: 2 | AY108: ROZPOCET | BE108: =IF(N108="základní",J108,0) -> 0 | BF108: =IF(N108="snížená",J108,0) -> 0 | BG108: =IF(N108="zákl. přenesená",J108,0) -> 0 | BH108: =IF(N108="sníž. přenesená",J108,0) -> 0 | BI108: =IF(N108="nulová",J108,0) -> 0 | BJ108: 1 | BK108: =ROUND(I108*H108,2) -> 0 | BL108: 4 | BM108: 14
C109: 8 | D109: K | E109: 162701105 | F109: Vodorovné přemístění do 10000 m výkopku/sypaniny z horniny tř. 1 až 4 | G109: m3 | H109: 11.19 | J109: =ROUND(I109*H109,2) -> 0 | N109: základní | P109: =O109*H109 -> 0 | Q109: 0 | R109: =Q109*H109 -> 0 | S109: 0 | T109: =S109*H109 -> 0 | AR109: 4 | AT109: K | AU109: 2 | AY109: ROZPOCET | BE109: =IF(N109="základní",J109,0) -> 0 | BF109: =IF(N109="snížená",J109,0) -> 0 | BG109: =IF(N109="zákl. přenesená",J109,0) -> 0 | BH109: =IF(N109="sníž. přenesená",J109,0) -> 0 | BI109: =IF(N109="nulová",J109,0) -> 0 | BJ109: 1 | BK109: =ROUND(I109*H109,2) -> 0 | BL109: 4 | BM109: 16
C110: 9 | D110: K | E110: 162701109 | F110: Příplatek k vodorovnému přemístění výkopku/sypaniny z horniny tř. 1 až 4 ZKD 1000 m přes 10000 m | G110: m3 | H110: 111.9 | J110: =ROUND(I110*H110,2) -> 0 | N110: základní | P110: =O110*H110 -> 0 | Q110: 0 | R110: =Q110*H110 -> 0 | S110: 0 | T110: =S110*H110 -> 0 | AR110: 4 | AT110: K | AU110: 2 | AY110: ROZPOCET | BE110: =IF(N110="základní",J110,0) -> 0 | BF110: =IF(N110="snížená",J110,0) -> 0 | BG110: =IF(N110="zákl. přenesená",J110,0) -> 0 | BH110: =IF(N110="sníž. přenesená",J110,0) -> 0 | BI110: =IF(N110="nulová",J110,0) -> 0 | BJ110: 1 | BK110: =ROUND(I110*H110,2) -> 0 | BL110: 4 | BM110: 18
C111: 10 | D111: K | E111: 167101102 | F111: Nakládání výkopku z hornin tř. 1 až 4 přes 100 m3 | G111: m3 | H111: 11.19 | J111: =ROUND(I111*H111,2) -> 0 | N111: základní | P111: =O111*H111 -> 0 | Q111: 0 | R111: =Q111*H111 -> 0 | S111: 0 | T111: =S111*H111 -> 0 | AR111: 4 | AT111: K | AU111: 2 | AY111: ROZPOCET | BE111: =IF(N111="základní",J111,0) -> 0 | BF111: =IF(N111="snížená",J111,0) -> 0 | BG111: =IF(N111="zákl. přenesená",J111,0) -> 0 | BH111: =IF(N111="sníž. přenesená",J111,0) -> 0 | BI111: =IF(N111="nulová",J111,0) -> 0 | BJ111: 1 | BK111: =ROUND(I111*H111,2) -> 0 | BL111: 4 | BM111: 20
C112: 11 | D112: K | E112: 171101101 | F112: Uložení sypaniny z hornin soudržných do násypů zhutněných na 95 % PS | G112: m3 | H112: 16.98 | J112: =ROUND(I112*H112,2) -> 0 | N112: základní | P112: =O112*H112 -> 0 | Q112: 0 | R112: =Q112*H112 -> 0 | S112: 0 | T112: =S112*H112 -> 0 | AR112: 4 | AT112: K | AU112: 2 | AY112: ROZPOCET | BE112: =IF(N112="základní",J112,0) -> 0 | BF112: =IF(N112="snížená",J112,0) -> 0 | BG112: =IF(N112="zákl. přenesená",J112,0) -> 0 | BH112: =IF(N112="sníž. přenesená",J112,0) -> 0 | BI112: =IF(N112="nulová",J112,0) -> 0 | BJ112: 1 | BK112: =ROUND(I112*H112,2) -> 0 | BL112: 4 | BM112: 22
C113: 12 | D113: K | E113: 171201201 | F113: Uložení sypaniny na skládky | G113: m3 | H113: 11.19 | J113: =ROUND(I113*H113,2) -> 0 | N113: základní | P113: =O113*H113 -> 0 | Q113: 0 | R113: =Q113*H113 -> 0 | S113: 0 | T113: =S113*H113 -> 0 | AR113: 4 | AT113: K | AU113: 2 | AY113: ROZPOCET | BE113: =IF(N113="základní",J113,0) -> 0 | BF113: =IF(N113="snížená",J113,0) -> 0 | BG113: =IF(N113="zákl. přenesená",J113,0) -> 0 | BH113: =IF(N113="sníž. přenesená",J113,0) -> 0 | BI113: =IF(N113="nulová",J113,0) -> 0 | BJ113: 1 | BK113: =ROUND(I113*H113,2) -> 0 | BL113: 4 | BM113: 24
... C118: 17 | D118: M | E118: 005724740 | F118: osivo směs travní krajinná - svahová | G118: kg | H118: 0.783 | J118: =ROUND(I118*H118,2) -> 0 | N118: základní | P118: =O118*H118 -> 0 | Q118: 0.001 | R118: =Q118*H118 -> 0.000783 | S118: 0 | T118: =S118*H118 -> 0 | AR118: 8 | AT118: M | AU118: 2 | AY118: ROZPOCET | BE118: =IF(N118="základní",J118,0) -> 0 | BF118: =IF(N118="snížená",J118,0) -> 0 | BG118: =IF(N118="zákl. přenesená",J118,0) -> 0 | BH118: =IF(N118="sníž. přenesená",J118,0) -> 0 | BI118: =IF(N118="nulová",J118,0) -> 0 | BJ118: 1 | BK118: =ROUND(I118*H118,2) -> 0 | BL118: 4 | BM118: 34
D119: D | E119: 2 | F119: Zakládání | J119: =BK119 -> 0 | P119: =SUM(P120:P124) -> 0 | R119: =SUM(R120:R124) -> 15.537197 | T119: =SUM(T120:T124) -> 0 | AR119: 1 | AT119: D | AU119: 1 | AY119: ROZPOCET | BK119: =SUM(BK120:BK124) -> 0
C120: 18 | D120: K | E120: 273321118 | F120: Základové desky ze ŽB C 30/37 | G120: m3 | H120: 6.136 | J120: =ROUND(I120*H120,2) -> 0 | N120: základní | P120: =O120*H120 -> 0 | Q120: 2.526248 | R120: =Q120*H120 -> 15.501058 | S120: 0 | T120: =S120*H120 -> 0 | AR120: 4 | AT120: K | AU120: 2 | AY120: ROZPOCET | BE120: =IF(N120="základní",J120,0) -> 0 | BF120: =IF(N120="snížená",J120,0) -> 0 | BG120: =IF(N120="zákl. přenesená",J120,0) -> 0 | BH120: =IF(N120="sníž. přenesená",J120,0) -> 0 | BI120: =IF(N120="nulová",J120,0) -> 0 | BJ120: 1 | BK120: =ROUND(I120*H120,2) -> 0 | BL120: 4 | BM120: 36
C121: 19 | D121: K | E121: 273354111 | F121: Bednění základových desek - zřízení | G121: m2 | H121: 6.92 | J121: =ROUND(I121*H121,2) -> 0 | N121: základní | P121: =O121*H121 -> 0 | Q121: 0.0014357 | R121: =Q121*H121 -> 0.009935044 | S121: 0 | T121: =S121*H121 -> 0 | AR121: 4 | AT121: K | AU121: 2 | AY121: ROZPOCET | BE121: =IF(N121="základní",J121,0) -> 0 | BF121: =IF(N121="snížená",J121,0) -> 0 | BG121: =IF(N121="zákl. přenesená",J121,0) -> 0 | BH121: =IF(N121="sníž. přenesená",J121,0) -> 0 | BI121: =IF(N121="nulová",J121,0) -> 0 | BJ121: 1 | BK121: =ROUND(I121*H121,2) -> 0 | BL121: 4 | BM121: 38
C122: 20 | D122: K | E122: 273354211 | F122: Bednění základových desek - odstranění | G122: m2 | H122: 6.92 | J122: =ROUND(I122*H122,2) -> 0 | N122: základní | P122: =O122*H122 -> 0 | Q122: 3.6e-05 | R122: =Q122*H122 -> 0.00024912 | S122: 0 | T122: =S122*H122 -> 0 | AR122: 4 | AT122: K | AU122: 2 | AY122: ROZPOCET | BE122: =IF(N122="základní",J122,0) -> 0 | BF122: =IF(N122="snížená",J122,0) -> 0 | BG122: =IF(N122="zákl. přenesená",J122,0) -> 0 | BH122: =IF(N122="sníž. přenesená",J122,0) -> 0 | BI122: =IF(N122="nulová",J122,0) -> 0 | BJ122: 1 | BK122: =ROUND(I122*H122,2) -> 0 | BL122: 4 | BM122: 40
C123: 21 | D123: K | E123: 273361116 | F123: Výztuž základových desek z betonářské oceli 10 505 | G123: t | H123: 0.025 | J123: =ROUND(I123*H123,2) -> 0 | N123: základní | P123: =O123*H123 -> 0 | Q123: 1.038217 | R123: =Q123*H123 -> 0.025955425 | S123: 0 | T123: =S123*H123 -> 0 | AR123: 4 | AT123: K | AU123: 2 | AY123: ROZPOCET | BE123: =IF(N123="základní",J123,0) -> 0 | BF123: =IF(N123="snížená",J123,0) -> 0 | BG123: =IF(N123="zákl. přenesená",J123,0) -> 0 | BH123: =IF(N123="sníž. přenesená",J123,0) -> 0 | BI123: =IF(N123="nulová",J123,0) -> 0 | BJ123: 1 | BK123: =ROUND(I123*H123,2) -> 0 | BL123: 4 | BM123: 42
C124: 22 | D124: K | E124: 273361413-R | F124: Výztuž základových desek ze svařovaných sítí do 8 kg/m2 | G124: t | H124: 0.298 | J124: =ROUND(I124*H124,2) -> 0 | N124: základní | P124: =O124*H124 -> 0 | Q124: 0 | R124: =Q124*H124 -> 0 | S124: 0 | T124: =S124*H124 -> 0 | AR124: 4 | AT124: K | AU124: 2 | AY124: ROZPOCET | BE124: =IF(N124="základní",J124,0) -> 0 | BF124: =IF(N124="snížená",J124,0) -> 0 | BG124: =IF(N124="zákl. přenesená",J124,0) -> 0 | BH124: =IF(N124="sníž. přenesená",J124,0) -> 0 | BI124: =IF(N124="nulová",J124,0) -> 0 | BJ124: 1 | BK124: =ROUND(I124*H124,2) -> 0 | BL124: 4 | BM124: 44
D125: D | E125: 4 | F125: Vodorovné konstrukce | J125: =BK125 -> 0 | P125: =SUM(P126:P128) -> 0 | R125: =SUM(R126:R128) -> 44.525536 | T125: =SUM(T126:T128) -> 0 | AR125: 1 | AT125: D | AU125: 1 | AY125: ROZPOCET | BK125: =SUM(BK126:BK128) -> 0
C126: 23 | D126: K | E126: 451315114 | F126: Podkladní nebo výplňová vrstva z betonu C 12/15 tl do 100 mm | G126: m2 | H126: 19.55 | J126: =ROUND(I126*H126,2) -> 0 | N126: základní | P126: =O126*H126 -> 0 | Q126: 0.227976 | R126: =Q126*H126 -> 4.4569308 | S126: 0 | T126: =S126*H126 -> 0 | AR126: 4 | AT126: K | AU126: 2 | AY126: ROZPOCET | BE126: =IF(N126="základní",J126,0) -> 0 | BF126: =IF(N126="snížená",J126,0) -> 0 | BG126: =IF(N126="zákl. přenesená",J126,0) -> 0 | BH126: =IF(N126="sníž. přenesená",J126,0) -> 0 | BI126: =IF(N126="nulová",J126,0) -> 0 | BJ126: 1 | BK126: =ROUND(I126*H126,2) -> 0 | BL126: 4 | BM126: 46
C127: 24 | D127: K | E127: 452318510 | F127: Zajišťovací práh z betonu prostého | G127: m3 | H127: 4.371 | J127: =ROUND(I127*H127,2) -> 0 | N127: základní | P127: =O127*H127 -> 0 | Q127: 2.492545 | R127: =Q127*H127 -> 10.894914 | S127: 0 | T127: =S127*H127 -> 0 | AR127: 4 | AT127: K | AU127: 2 | AY127: ROZPOCET | BE127: =IF(N127="základní",J127,0) -> 0 | BF127: =IF(N127="snížená",J127,0) -> 0 | BG127: =IF(N127="zákl. přenesená",J127,0) -> 0 | BH127: =IF(N127="sníž. přenesená",J127,0) -> 0 | BI127: =IF(N127="nulová",J127,0) -> 0 | BJ127: 1 | BK127: =ROUND(I127*H127,2) -> 0 | BL127: 4 | BM127: 48
C128: 25 | D128: K | E128: 465511523 | F128: Dlažba z lomového kamene do malty s vyplněním spár maltou a vyspárováním plocha nad 20 m2 tl 300 mm | G128: m2 | H128: 31.394 | J128: =ROUND(I128*H128,2) -> 0 | N128: základní | P128: =O128*H128 -> 0 | Q128: 0.929276 | R128: =Q128*H128 -> 29.173691 | S128: 0 | T128: =S128*H128 -> 0 | AR128: 4 | AT128: K | AU128: 2 | AY128: ROZPOCET | BE128: =IF(N128="základní",J128,0) -> 0 | BF128: =IF(N128="snížená",J128,0) -> 0 | BG128: =IF(N128="zákl. přenesená",J128,0) -> 0 | BH128: =IF(N128="sníž. přenesená",J128,0) -> 0 | BI128: =IF(N128="nulová",J128,0) -> 0 | BJ128: 1 | BK128: =ROUND(I128*H128,2) -> 0 | BL128: 4 | BM128: 50
D129: D | E129: 8 | F129: Trubní vedení | J129: =BK129 -> 0 | P129: =P130 -> 0 | R129: =R130 -> 0 | T129: =T130 -> 0 | AR129: 1 | AT129: D | AU129: 1 | AY129: ROZPOCET | BK129: =BK130 -> 0
C130: 26 | D130: K | E130: 894812438 | F130: Revizní a čistící šachta z PP DN 1000 šachtová skruž světlé hloubky 1000 mm | G130: kus | H130: 1 | J130: =ROUND(I130*H130,2) -> 0 | N130: základní | P130: =O130*H130 -> 0 | Q130: 0 | R130: =Q130*H130 -> 0 | S130: 0 | T130: =S130*H130 -> 0 | AR130: 4 | AT130: K | AU130: 2 | AY130: ROZPOCET | BE130: =IF(N130="základní",J130,0) -> 0 | BF130: =IF(N130="snížená",J130,0) -> 0 | BG130: =IF(N130="zákl. přenesená",J130,0) -> 0 | BH130: =IF(N130="sníž. přenesená",J130,0) -> 0 | BI130: =IF(N130="nulová",J130,0) -> 0 | BJ130: 1 | BK130: =ROUND(I130*H130,2) -> 0 | BL130: 4 | BM130: 52
D131: D | E131: 9 | F131: Ostatní konstrukce a práce-bourání | J131: =BK131 -> 0 | P131: =SUM(P132:P136) -> 0 | R131: =SUM(R132:R136) -> 16.545749 | T131: =SUM(T132:T136) -> 34.099 | AR131: 1 | AT131: D | AU131: 1 | AY131: ROZPOCET | BK131: =SUM(BK132:BK136) -> 0
C132: 27 | D132: K | E132: 919521017 | F132: Zřízení propustků z trub betonových DN 800 | G132: m | H132: 11.5 | J132: =ROUND(I132*H132,2) -> 0 | N132: základní | P132: =O132*H132 -> 0 | Q132: 1.4387608 | R132: =Q132*H132 -> 16.545749 | S132: 0 | T132: =S132*H132 -> 0 | AR132: 4 | AT132: K | AU132: 2 | AY132: ROZPOCET | BE132: =IF(N132="základní",J132,0) -> 0 | BF132: =IF(N132="snížená",J132,0) -> 0 | BG132: =IF(N132="zákl. přenesená",J132,0) -> 0 | BH132: =IF(N132="sníž. přenesená",J132,0) -> 0 | BI132: =IF(N132="nulová",J132,0) -> 0 | BJ132: 1 | BK132: =ROUND(I132*H132,2) -> 0 | BL132: 4 | BM132: 54
C133: 28 | D133: M | E133: 592211460-R | F133: trouba železobetonová patková DN 800 | G133: kus | H133: 9 | J133: =ROUND(I133*H133,2) -> 0 | N133: základní | P133: =O133*H133 -> 0 | Q133: 0 | R133: =Q133*H133 -> 0 | S133: 0 | T133: =S133*H133 -> 0 | AR133: 8 | AT133: M | AU133: 2 | AY133: ROZPOCET | BE133: =IF(N133="základní",J133,0) -> 0 | BF133: =IF(N133="snížená",J133,0) -> 0 | BG133: =IF(N133="zákl. přenesená",J133,0) -> 0 | BH133: =IF(N133="sníž. přenesená",J133,0) -> 0 | BI133: =IF(N133="nulová",J133,0) -> 0 | BJ133: 1 | BK133: =ROUND(I133*H133,2) -> 0 | BL133: 4 | BM133: 56
C134: 29 | D134: M | E134: 592211461-R | F134: trouba šikmá vtoková/výtoková železobetonová patková DN 800 | G134: kus | H134: 2 | J134: =ROUND(I134*H134,2) -> 0 | N134: základní | P134: =O134*H134 -> 0 | Q134: 0 | R134: =Q134*H134 -> 0 | S134: 0 | T134: =S134*H134 -> 0 | AR134: 8 | AT134: M | AU134: 2 | AY134: ROZPOCET | BE134: =IF(N134="základní",J134,0) -> 0 | BF134: =IF(N134="snížená",J134,0) -> 0 | BG134: =IF(N134="zákl. přenesená",J134,0) -> 0 | BH134: =IF(N134="sníž. přenesená",J134,0) -> 0 | BI134: =IF(N134="nulová",J134,0) -> 0 | BJ134: 1 | BK134: =ROUND(I134*H134,2) -> 0 | BL134: 4 | BM134: 58
C135: 30 | D135: K | E135: 961044111 | F135: Bourání základů z betonu prostého | G135: m3 | H135: 17 | J135: =ROUND(I135*H135,2) -> 0 | N135: základní | P135: =O135*H135 -> 0 | Q135: 0 | R135: =Q135*H135 -> 0 | S135: 2 | T135: =S135*H135 -> 34 | AR135: 4 | AT135: K | AU135: 2 | AY135: ROZPOCET | BE135: =IF(N135="základní",J135,0) -> 0 | BF135: =IF(N135="snížená",J135,0) -> 0 | BG135: =IF(N135="zákl. přenesená",J135,0) -> 0 | BH135: =IF(N135="sníž. přenesená",J135,0) -> 0 | BI135: =IF(N135="nulová",J135,0) -> 0 | BJ135: 1 | BK135: =ROUND(I135*H135,2) -> 0 | BL135: 4 | BM135: 60
C136: 31 | D136: K | E136: 976044311 | F136: Vybourání betonových nebo ŽB obrub šachet průřezu přes 0,03 m2 | G136: m | H136: 1 | J136: =ROUND(I136*H136,2) -> 0 | N136: základní | P136: =O136*H136 -> 0 | Q136: 0 | R136: =Q136*H136 -> 0 | S136: 0.099 | T136: =S136*H136 -> 0.099 | AR136: 4 | AT136: K | AU136: 2 | AY136: ROZPOCET | BE136: =IF(N136="základní",J136,0) -> 0 | BF136: =IF(N136="snížená",J136,0) -> 0 | BG136: =IF(N136="zákl. přenesená",J136,0) -> 0 | BH136: =IF(N136="sníž. přenesená",J136,0) -> 0 | BI136: =IF(N136="nulová",J136,0) -> 0 | BJ136: 1 | BK136: =ROUND(I136*H136,2) -> 0 | BL136: 4 | BM136: 62
D137: D | E137: 997 | F137: Přesun sutě | J137: =BK137 -> 0 | P137: =SUM(P138:P142) -> 0 | R137: =SUM(R138:R142) -> 0 | T137: =SUM(T138:T142) -> 0 | AR137: 1 | AT137: D | AU137: 1 | AY137: ROZPOCET | BK137: =SUM(BK138:BK142) -> 0
...

Sheet SO 04.2 - Železniční svrš...
L2: >> skryté sloupce << | AT2: {0886fe5c-84c1-4732-9303-fa099ab41688}
AT3: 2
D4: KRYCÍ LIST SOUPISU PRACÍ | M4: v --- níže se nacházejí doplnkové a pomocné údaje k sestavám --- v | AT4: False
D6: Stavba:
E7: ='Rekapitulace stavby'!K6 -> Oprava propustků v km 24,666, 25,142, 25,589 a 25,786 na trati Vsetín - Velké Karlovice
D8: Objekt:
E9: SO 04 - Propustek v km 25,786
D10: Soupis:
E11: SO 04.2 - Železniční svršek - km 25,786
D13: KSO: | I13: CC-CZ:
D14: Místo: | I14: Datum: | J14: ='Rekapitulace stavby'!AN8 -> 3. 4. 2019
D16: Zadavatel: | I16: IČ: | J16: =IF('Rekapitulace stavby'!AN10="","",'Rekapitulace stavby'!AN10)
E17: =IF('Rekapitulace stavby'!E11="","",'Rekapitulace stavby'!E11) | I17: DIČ: | J17: =IF('Rekapitulace stavby'!AN11="","",'Rekapitulace stavby'!AN11)
D19: Uchazeč: | I19: IČ: | J19: ='Rekapitulace stavby'!AN13 -> Vyplň údaj
E20: ='Rekapitulace stavby'!E14 -> Vyplň údaj | I20: DIČ: | J20: ='Rekapitulace stavby'!AN14 -> Vyplň údaj
D22: Projektant: | I22: IČ: | J22: =IF('Rekapitulace stavby'!AN16="","",'Rekapitulace stavby'!AN16)
E23: =IF('Rekapitulace stavby'!E17="","",'Rekapitulace stavby'!E17) | I23: DIČ: | J23: =IF('Rekapitulace stavby'!AN17="","",'Rekapitulace stavby'!AN17)
D25: Zpracovatel: | I25: IČ: | J25: =IF('Rekapitulace stavby'!AN19="","",'Rekapitulace stavby'!AN19)
E26: =IF('Rekapitulace stavby'!E20="","",'Rekapitulace stavby'!E20) | I26: DIČ: | J26: =IF('Rekapitulace stavby'!AN20="","",'Rekapitulace stavby'!AN20)
D28: Poznámka:
D32: Cena bez DPH | J32: =ROUND(J89, 2) -> 0
F34: Základ daně | I34: Sazba daně | J34: Výše daně
D35: DPH | E35: základní | F35: =ROUND((SUM(BE89:BE112)), 2) -> 0 | I35: 0.21 | J35: =ROUND(((SUM(BE89:BE112))*I35), 2) -> 0
E36: snížená | F36: =ROUND((SUM(BF89:BF112)), 2) -> 0 | I36: 0.15 | J36: =ROUND(((SUM(BF89:BF112))*I36), 2) -> 0
E37: zákl. přenesená | F37: =ROUND((SUM(BG89:BG112)), 2) -> 0 | I37: 0.21 | J37: =0 -> 0
E38: sníž. přenesená | F38: =ROUND((SUM(BH89:BH112)), 2) -> 0 | I38: 0.15 | J38: =0 -> 0
E39: nulová | F39: =ROUND((SUM(BI89:BI112)), 2) -> 0 | I39: 0 | J39: =0 -> 0
D41: Cena s DPH | G41: v | H41: CZK | J41: =SUM(J32:J39) -> 0
C47: REKAPITULACE ČLENĚNÍ SOUPISU PRACÍ
C49: Stavba:
E50: =E7 -> Oprava propustků v km 24,666, 25,142, 25,589 a 25,786 na trati Vsetín - Velké Karlovice
C51: Objekt:
E52: SO 04 - Propustek v km 25,786
C53: Soupis:
E54: =E11 -> SO 04.2 - Železniční svršek - km 25,786
C56: Místo: | F56: =F14 | I56: Datum: | J56: =IF(J14="","",J14) -> 3. 4. 2019
C58: Zadavatel: | F58: =E17 | I58: Projektant: | J58: =E23
C59: Uchazeč: | F59: =IF(E20="","",E20) -> Vyplň údaj | I59: Zpracovatel: | J59: =E26
C61: Kód dílu - Popis | J61: Cena celkem [CZK]
C63: Náklady ze soupisu prací | J63: =J89 -> 0 | AU63: -1
D64: HSV - Práce a dodávky HSV | J64: =J90 -> 0
D65: 5 - Komunikace | J65: =J91 -> 0
D66: 997 - Přesun sutě | J66: =J107 -> 0
D67: 998 - Přesun hmot | J67: =J111 -> 0
C74: SOUPIS PRACÍ
C76: Stavba:
E77: =E7 -> Oprava propustků v km 24,666, 25,142, 25,589 a 25,786 na trati Vsetín - Velké Karlovice
C78: Objekt:
E79: SO 04 - Propustek v km 25,786
C80: Soupis:
E81: =E11 -> SO 04.2 - Železniční svršek - km 25,786
C83: Místo: | F83: =F14 | I83: Datum: | J83: =IF(J14="","",J14) -> 3. 4. 2019
C85: Zadavatel: | F85: =E17 | I85: Projektant: | J85: =E23
C86: Uchazeč: | F86: =IF(E20="","",E20) -> Vyplň údaj | I86: Zpracovatel: | J86: =E26
C88: PČ | D88: Typ | E88: Kód | F88: Popis | G88: MJ | H88: Množství | I88: J.cena [CZK] | J88: Cena celkem [CZK] | K88: Cenová soustava | N88: DPH | O88: J. Nh [h] | P88: Nh celkem [h] | Q88: J. hmotnost [t] | R88: Hmotnost celkem [t] | S88: J. suť [t] | T88: Suť Celkem [t]
C89: Náklady soupisu celkem | J89: =BK89 -> 0 | P89: =P90 -> 0 | R89: =R90 -> 80.556 | T89: =T90 -> 0 | AT89: D | AU89: -1 | BK89: =BK90 -> 0
D90: D | E90: HSV | F90: Práce a dodávky HSV | J90: =BK90 -> 0 | P90: =P91+P107+P111 -> 0 | R90: =R91+R107+R111 -> 80.556 | T90: =T91+T107+T111 -> 0 | AR90: 1 | AT90: D | AU90: 0 | AY90: ROZPOCET | BK90: =BK91+BK107+BK111 -> 0
D91: D | E91: 5 | F91: Komunikace | J91: =BK91 -> 0 | P91: =SUM(P92:P106) -> 0 | R91: =SUM(R92:R106) -> 80.556 | T91: =SUM(T92:T106) -> 0 | AR91: 1 | AT91: D | AU91: 1 | AY91: ROZPOCET | BK91: =SUM(BK92:BK106) -> 0
C92: 1 | D92: K | E92: 5905035120 | F92: Výměna KL malou těžící mechanizací včetně lavičky (pod ložnou plochou pražce) zapuštěného | G92: m3 | H92: 20.36 | J92: =ROUND(I92*H92,2) -> 0 | N92: základní | P92: =O92*H92 -> 0 | Q92: 0 | R92: =Q92*H92 -> 0 | S92: 0 | T92: =S92*H92 -> 0 | AR92: 4 | AT92: K | AU92: 2 | AY92: ROZPOCET | BE92: =IF(N92="základní",J92,0) -> 0 | BF92: =IF(N92="snížená",J92,0) -> 0 | BG92: =IF(N92="zákl. přenesená",J92,0) -> 0 | BH92: =IF(N92="sníž. přenesená",J92,0) -> 0 | BI92: =IF(N92="nulová",J92,0) -> 0 | BJ92: 1 | BK92: =ROUND(I92*H92,2) -> 0 | BL92: 4 | BM92: 2
C93: 2 | D93: M | E93: 5955101000 | F93: Kamenivo nové frakce 31,5/63 třídy BI | G93: t | H93: 80.556 | J93: =ROUND(I93*H93,2) -> 0 | N93: základní | P93: =O93*H93 -> 0 | Q93: 1 | R93: =Q93*H93 -> 80.556 | S93: 0 | T93: =S93*H93 -> 0 | AR93: 8 | AT93: M | AU93: 2 | AY93: ROZPOCET | BE93: =IF(N93="základní",J93,0) -> 0 | BF93: =IF(N93="snížená",J93,0) -> 0 | BG93: =IF(N93="zákl. přenesená",J93,0) -> 0 | BH93: =IF(N93="sníž. přenesená",J93,0) -> 0 | BI93: =IF(N93="nulová",J93,0) -> 0 | BJ93: 1 | BK93: =ROUND(I93*H93,2) -> 0 | BL93: 4 | BM93: 4
C94: 3 | D94: K | E94: 5905105030 | F94: Doplnění KL kamenivem souvisle v koleji | G94: m3 | H94: 18 | J94: =ROUND(I94*H94,2) -> 0 | N94: základní | P94: =O94*H94 -> 0 | Q94: 0 | R94: =Q94*H94 -> 0 | S94: 0 | T94: =S94*H94 -> 0 | AR94: 4 | AT94: K | AU94: 2 | AY94: ROZPOCET | BE94: =IF(N94="základní",J94,0) -> 0 | BF94: =IF(N94="snížená",J94,0) -> 0 | BG94: =IF(N94="zákl. přenesená",J94,0) -> 0 | BH94: =IF(N94="sníž. přenesená",J94,0) -> 0 | BI94: =IF(N94="nulová",J94,0) -> 0 | BJ94: 1 | BK94: =ROUND(I94*H94,2) -> 0 | BL94: 4 | BM94: 6
C95: 4 | D95: K | E95: 5906130380 | F95: Montáž kolejového roštu v ose koleje pražce betonové vystrojené tv. S49 rozdělení "c" | G95: km | H95: 0.01 | J95: =ROUND(I95*H95,2) -> 0 | N95: základní | P95: =O95*H95 -> 0 | Q95: 0 | R95: =Q95*H95 -> 0 | S95: 0 | T95: =S95*H95 -> 0 | AR95: 4 | AT95: K | AU95: 2 | AY95: ROZPOCET | BE95: =IF(N95="základní",J95,0) -> 0 | BF95: =IF(N95="snížená",J95,0) -> 0 | BG95: =IF(N95="zákl. přenesená",J95,0) -> 0 | BH95: =IF(N95="sníž. přenesená",J95,0) -> 0 | BI95: =IF(N95="nulová",J95,0) -> 0 | BJ95: 1 | BK95: =ROUND(I95*H95,2) -> 0 | BL95: 4 | BM95: 8
C96: 5 | D96: K | E96: 5906140250 | F96: Demontáž kolejového roštu koleje v ose koleje pražce ocelové válcované tv. T nebo A válcované rozdělení "c" | G96: km | H96: 0.01 | J96: =ROUND(I96*H96,2) -> 0 | K96: Sborník UOŽI 01 2019 | N96: základní | P96: =O96*H96 -> 0 | Q96: 0 | R96: =Q96*H96 -> 0 | S96: 0 | T96: =S96*H96 -> 0 | AR96: 4 | AT96: K | AU96: 2 | AY96: ROZPOCET | BE96: =IF(N96="základní",J96,0) -> 0 | BF96: =IF(N96="snížená",J96,0) -> 0 | BG96: =IF(N96="zákl. přenesená",J96,0) -> 0 | BH96: =IF(N96="sníž. přenesená",J96,0) -> 0 | BI96: =IF(N96="nulová",J96,0) -> 0 | BJ96: 1 | BK96: =ROUND(I96*H96,2) -> 0 | BL96: 4 | BM96: -1533098108
C97: 6 | D97: K | E97: 5907050020 | F97: Dělení kolejnic řezáním nebo rozbroušením tv. S49 | G97: kus | H97: 4 | J97: =ROUND(I97*H97,2) -> 0 | N97: základní | P97: =O97*H97 -> 0 | Q97: 0 | R97: =Q97*H97 -> 0 | S97: 0 | T97: =S97*H97 -> 0 | AR97: 4 | AT97: K | AU97: 2 | AY97: ROZPOCET | BE97: =IF(N97="základní",J97,0) -> 0 | BF97: =IF(N97="snížená",J97,0) -> 0 | BG97: =IF(N97="zákl. přenesená",J97,0) -> 0 | BH97: =IF(N97="sníž. přenesená",J97,0) -> 0 | BI97: =IF(N97="nulová",J97,0) -> 0 | BJ97: 1 | BK97: =ROUND(I97*H97,2) -> 0 | BL97: 4 | BM97: 12
C98: 7 | D98: K | E98: 5909025020 | F98: Úprava směrového a výškového uspořádání koleje na krátkých úsecích pražce betonové | G98: km | H98: 0.12 | J98: =ROUND(I98*H98,2) -> 0 | N98: základní | P98: =O98*H98 -> 0 | Q98: 0 | R98: =Q98*H98 -> 0 | S98: 0 | T98: =S98*H98 -> 0 | AR98: 4 | AT98: K | AU98: 2 | AY98: ROZPOCET | BE98: =IF(N98="základní",J98,0) -> 0 | BF98: =IF(N98="snížená",J98,0) -> 0 | BG98: =IF(N98="zákl. přenesená",J98,0) -> 0 | BH98: =IF(N98="sníž. přenesená",J98,0) -> 0 | BI98: =IF(N98="nulová",J98,0) -> 0 | BJ98: 1 | BK98: =ROUND(I98*H98,2) -> 0 | BL98: 4 | BM98: 14
C99: 8 | D99: K | E99: 5910020130 | F99: Svařování kolejnic termitem standardní spára, plný předehřev svar jednotlivý tv. S49 | G99: svar | H99: 4 | J99: =ROUND(I99*H99,2) -> 0 | N99: základní | P99: =O99*H99 -> 0 | Q99: 0 | R99: =Q99*H99 -> 0 | S99: 0 | T99: =S99*H99 -> 0 | AR99: 4 | AT99: K | AU99: 2 | AY99: ROZPOCET | BE99: =IF(N99="základní",J99,0) -> 0 | BF99: =IF(N99="snížená",J99,0) -> 0 | BG99: =IF(N99="zákl. přenesená",J99,0) -> 0 | BH99: =IF(N99="sníž. přenesená",J99,0) -> 0 | BI99: =IF(N99="nulová",J99,0) -> 0 | BJ99: 1 | BK99: =ROUND(I99*H99,2) -> 0 | BL99: 4 | BM99: 16
C100: 9 | D100: K | E100: 5910035030 | F100: Dosažení dovolené upínací teploty v BK prodloužením kolejnicového pásu v koleji tv. S49 | G100: svar | H100: 4 | J100: =ROUND(I100*H100,2) -> 0 | N100: základní | P100: =O100*H100 -> 0 | Q100: 0 | R100: =Q100*H100 -> 0 | S100: 0 | T100: =S100*H100 -> 0 | AR100: 4 | AT100: K | AU100: 2 | AY100: ROZPOCET | BE100: =IF(N100="základní",J100,0) -> 0 | BF100: =IF(N100="snížená",J100,0) -> 0 | BG100: =IF(N100="zákl. přenesená",J100,0) -> 0 | BH100: =IF(N100="sníž. přenesená",J100,0) -> 0 | BI100: =IF(N100="nulová",J100,0) -> 0 | BJ100: 1 | BK100: =ROUND(I100*H100,2) -> 0 | BL100: 4 | BM100: 18
C101: 10 | D101: K | E101: 5910040310 | F101: Umožnění volné dilatace kolejnic demontáž upevňovadel s osazením kluzných podložek rozdělení pražců "c" | G101: m | H101: 40 | J101: =ROUND(I101*H101,2) -> 0 | N101: základní | P101: =O101*H101 -> 0 | Q101: 0 | R101: =Q101*H101 -> 0 | S101: 0 | T101: =S101*H101 -> 0 | AR101: 4 | AT101: K | AU101: 2 | AY101: ROZPOCET | BE101: =IF(N101="základní",J101,0) -> 0 | BF101: =IF(N101="snížená",J101,0) -> 0 | BG101: =IF(N101="zákl. přenesená",J101,0) -> 0 | BH101: =IF(N101="sníž. přenesená",J101,0) -> 0 | BI101: =IF(N101="nulová",J101,0) -> 0 | BJ101: 1 | BK101: =ROUND(I101*H101,2) -> 0 | BL101: 4 | BM101: 20
C102: 11 | D102: K | E102: 5910040410 | F102: Umožnění volné dilatace kolejnic montáž upevňovadel s odstraněním kluzných podložek rozdělení pražců "c" | G102: m | H102: 40 | J102: =ROUND(I102*H102,2) -> 0 | N102: základní | P102: =O102*H102 -> 0 | Q102: 0 | R102: =Q102*H102 -> 0 | S102: 0 | T102: =S102*H102 -> 0 | AR102: 4 | AT102: K | AU102: 2 | AY102: ROZPOCET | BE102: =IF(N102="základní",J102,0) -> 0 | BF102: =IF(N102="snížená",J102,0) -> 0 | BG102: =IF(N102="zákl. přenesená",J102,0) -> 0 | BH102: =IF(N102="sníž. přenesená",J102,0) -> 0 | BI102: =IF(N102="nulová",J102,0) -> 0 | BJ102: 1 | BK102: =ROUND(I102*H102,2) -> 0 | BL102: 4 | BM102: 22
C103: 12 | D103: K | E103: 5910055110 | F103: Oprava profilu hlavy kolejnice broušením souvisle ručně do 2 mm | G103: m | H103: 40 | J103: =ROUND(I103*H103,2) -> 0 | N103: základní | P103: =O103*H103 -> 0 | Q103: 0 | R103: =Q103*H103 -> 0 | S103: 0 | T103: =S103*H103 -> 0 | AR103: 4 | AT103: K | AU103: 2 | AY103: ROZPOCET | BE103: =IF(N103="základní",J103,0) -> 0 | BF103: =IF(N103="snížená",J103,0) -> 0 | BG103: =IF(N103="zákl. přenesená",J103,0) -> 0 | BH103: =IF(N103="sníž. přenesená",J103,0) -> 0 | BI103: =IF(N103="nulová",J103,0) -> 0 | BJ103: 1 | BK103: =ROUND(I103*H103,2) -> 0 | BL103: 4 | BM103: 24
C104: 13 | D104: K | E104: 5999005010 | F104: Třídění vyzískaných hmot spojovacích a upevňovacích součástí | G104: t | H104: 0.665 | J104: =ROUND(I104*H104,2) -> 0 | N104: základní | P104: =O104*H104 -> 0 | Q104: 0 | R104: =Q104*H104 -> 0 | S104: 0 | T104: =S104*H104 -> 0 | AR104: 4 | AT104: K | AU104: 2 | AY104: ROZPOCET | BE104: =IF(N104="základní",J104,0) -> 0 | BF104: =IF(N104="snížená",J104,0) -> 0 | BG104: =IF(N104="zákl. přenesená",J104,0) -> 0 | BH104: =IF(N104="sníž. přenesená",J104,0) -> 0 | BI104: =IF(N104="nulová",J104,0) -> 0 | BJ104: 1 | BK104: =ROUND(I104*H104,2) -> 0 | BL104: 4 | BM104: 26
C105: 14 | D105: K | E105: 5999005020 | F105: Třídění vyzískaných hmot pražců a kolejnicových podpor | G105: t | H105: 5.13 | J105: =ROUND(I105*H105,2) -> 0 | N105: základní | P105: =O105*H105 -> 0 | Q105: 0 | R105: =Q105*H105 -> 0 | S105: 0 | T105: =S105*H105 -> 0 | AR105: 4 | AT105: K | AU105: 2 | AY105: ROZPOCET | BE105: =IF(N105="základní",J105,0) -> 0 | BF105: =IF(N105="snížená",J105,0) -> 0 | BG105: =IF(N105="zákl. přenesená",J105,0) -> 0 | BH105: =IF(N105="sníž. přenesená",J105,0) -> 0 | BI105: =IF(N105="nulová",J105,0) -> 0 | BJ105: 1 | BK105: =ROUND(I105*H105,2) -> 0 | BL105: 4 | BM105: 28
C106: 15 | D106: K | E106: 5999005030 | F106: Třídění vyzískaných hmot kolejnic | G106: t | H106: 1 | J106: =ROUND(I106*H106,2) -> 0 | N106: základní | P106: =O106*H106 -> 0 | Q106: 0 | R106: =Q106*H106 -> 0 | S106: 0 | T106: =S106*H106 -> 0 | AR106: 4 | AT106: K | AU106: 2 | AY106: ROZPOCET | BE106: =IF(N106="základní",J106,0) -> 0 | BF106: =IF(N106="snížená",J106,0) -> 0 | BG106: =IF(N106="zákl. přenesená",J106,0) -> 0 | BH106: =IF(N106="sníž. přenesená",J106,0) -> 0 | BI106: =IF(N106="nulová",J106,0) -> 0 | BJ106: 1 | BK106: =ROUND(I106*H106,2) -> 0 | BL106: 4 | BM106: 30
D107: D | E107: 997 | F107: Přesun sutě | J107: =BK107 -> 0 | P107: =SUM(P108:P110) -> 0 | R107: =SUM(R108:R110) -> 0 | T107: =SUM(T108:T110) -> 0 | AR107: 1 | AT107: D | AU107: 1 | AY107: ROZPOCET | BK107: =SUM(BK108:BK110) -> 0
C108: 16 | D108: K | E108: 997221855 | F108: Poplatek za uložení odpadu z kameniva na skládce (skládkovné) | G108: t | H108: 42.756 | J108: =ROUND(I108*H108,2) -> 0 | N108: základní | P108: =O108*H108 -> 0 | Q108: 0 | R108: =Q108*H108 -> 0 | S108: 0 | T108: =S108*H108 -> 0 | AR108: 4 | AT108: K | AU108: 2 | AY108: ROZPOCET | BE108: =IF(N108="základní",J108,0) -> 0 | BF108: =IF(N108="snížená",J108,0) -> 0 | BG108: =IF(N108="zákl. přenesená",J108,0) -> 0 | BH108: =IF(N108="sníž. přenesená",J108,0) -> 0 | BI108: =IF(N108="nulová",J108,0) -> 0 | BJ108: 1 | BK108: =ROUND(I108*H108,2) -> 0 | BL108: 4 | BM108: 32
C109: 17 | D109: K | E109: 997241531 | F109: Vodorovné přemístění suti do 7 km | G109: t | H109: 42.756 | J109: =ROUND(I109*H109,2) -> 0 | N109: základní | P109: =O109*H109 -> 0 | Q109: 0 | R109: =Q109*H109 -> 0 | S109: 0 | T109: =S109*H109 -> 0 | AR109: 4 | AT109: K | AU109: 2 | AY109: ROZPOCET | BE109: =IF(N109="základní",J109,0) -> 0 | BF109: =IF(N109="snížená",J109,0) -> 0 | BG109: =IF(N109="zákl. přenesená",J109,0) -> 0 | BH109: =IF(N109="sníž. přenesená",J109,0) -> 0 | BI109: =IF(N109="nulová",J109,0) -> 0 | BJ109: 1 | BK109: =ROUND(I109*H109,2) -> 0 | BL109: 4 | BM109: 34
C110: 18 | D110: K | E110: 997241539 | F110: Vodorovné přemístění suti ZKD 1 km | G110: t | H110: 264.68 | J110: =ROUND(I110*H110,2) -> 0 | N110: základní | P110: =O110*H110 -> 0 | Q110: 0 | R110: =Q110*H110 -> 0 | S110: 0 | T110: =S110*H110 -> 0 | AR110: 4 | AT110: K | AU110: 2 | AY110: ROZPOCET | BE110: =IF(N110="základní",J110,0) -> 0 | BF110: =IF(N110="snížená",J110,0) -> 0 | BG110: =IF(N110="zákl. přenesená",J110,0) -> 0 | BH110: =IF(N110="sníž. přenesená",J110,0) -> 0 | BI110: =IF(N110="nulová",J110,0) -> 0 | BJ110: 1 | BK110: =ROUND(I110*H110,2) -> 0 | BL110: 4 | BM110: 36
D111: D | E111: 998 | F111: Přesun hmot | J111: =BK111 -> 0 | P111: =P112 -> 0 | R111: =R112 -> 0 | T111: =T112 -> 0 | AR111: 1 | AT111: D | AU111: 1 | AY111: ROZPOCET | BK111: =BK112 -> 0
C112: 19 | D112: K | E112: 998242011 | F112: Přesun hmot pro železniční svršek drah kolejových o sklonu 0,8 % | G112: t | H112: 80.556 | J112: =ROUND(I112*H112,2) -> 0 | N112: základní | P112: =O112*H112 -> 0 | Q112: 0 | R112: =Q112*H112 -> 0 | S112: 0 | T112: =S112*H112 -> 0 | AR112: 4 | AT112: K | AU112: 2 | AY112: ROZPOCET | BE112: =IF(N112="základní",J112,0) -> 0 | BF112: =IF(N112="snížená",J112,0) -> 0 | BG112: =IF(N112="zákl. přenesená",J112,0) -> 0 | BH112: =IF(N112="sníž. přenesená",J112,0) -> 0 | BI112: =IF(N112="nulová",J112,0) -> 0 | BJ112: 1 | BK112: =ROUND(I112*H112,2) -> 0 | BL112: 4 | BM112: 38
