Workbook

Sheet Rekapitulace stavby
A1: Export Komplet | BA1: 2.0 | BB1: ZAMOK | BT1: False | BU1: False | BV1: {1b1a9a79-adbc-43ca-b18b-86fcf20b624f}
BS2: 0,01 | BT2: 21
BS3: 0,01 | BT3: 15
D4: REKAPITULACE STAVBY | AS4: v --- níže se nacházejí doplnkové a pomocné údaje k sestavám --- v | BE4: Návod na vyplnění | BS4: 0,001
D5: Kód: | K5: 2019_01 | BE5: Měnit lze pouze buňky se žlutým podbarvením!_x000D_ _x000D_ 1) na prvním listu Rekapitulace stavby vyplňte v sestavě_x000D_ _x000D_ a) Souhrnný list_x000D_ - údaje o Zhotoviteli_x000D_ (přenesou se do ostatních sestav i v jiných listech)_x000D_ _x000D_ b) Rekapitulace objektů_x000D_ - potřebné Ostatní náklady_x000D_ _x000D_ 2) na vybraných listech vyplňte v sestavě_x000D_ _x000D_ a) Krycí list_x000D_ - údaje o Zhotoviteli, pokud se liší od údajů o Zhotoviteli na Souhrnném listu_x000D_ (údaje se přenesou do ostatních sestav v daném listu)_x000D_ _x000D_ b) Rekapitulace rozpočtu_x000D_ - potřebné Ostatní náklady_x000D_ _x000D_ c) Celkové náklady za stavbu_x000D_ - ceny u položek_x000D_ - množství, pokud má žluté podbarvení_x000D_ - a v případě potřeby poznámku (ta je ve skrytém sloupci) | BS5: 0,01
D6: Stavba: | K6: Oprava mostu v km 70,905 na trati Olomouc – Nezamyslice | BS6: 0,01
D7: KSO: | K7: 824 21 | AK7: CC-CZ: | BS7: 0,01
D8: Místo: | AK8: Datum: | BS8: 0,01
BS9: 0,01
D10: Zadavatel: | AK10: IČ: | BS10: 0,01
E11: SŽDC s.o., OŘ Olomouc | AK11: DIČ: | BS11: 0,01
BS12: 0,01
D13: Uchazeč: | AK13: IČ: | AN13: Vyplň údaj | BS13: 0,01
E14: Vyplň údaj | AK14: DIČ: | AN14: Vyplň údaj | BS14: 0,01
BS15: False
D16: Projektant: | AK16: IČ: | BS16: False
AK17: DIČ: | BS17: True
BS18: 0,01
D19: Zpracovatel: | AK19: IČ: | BS19: 0,01
E20: Ing. Renata Jandová | AK20: DIČ: | BS20: True
D22: Poznámka:
D26: Cena bez DPH | AK26: =ROUND(AG54,2) -> 0
L28: Sazba daně | W28: Základ daně | AK28: Výše daně
D29: DPH | F29: základní | L29: 0.21 | W29: =ROUND(AZ54, 2) -> 0 | AK29: =ROUND(AV54, 2) -> 0
F30: snížená | L30: 0.15 | W30: =ROUND(BA54, 2) -> 0 | AK30: =ROUND(AW54, 2) -> 0
F31: zákl. přenesená | L31: 0.21 | W31: =ROUND(BB54, 2) -> 0 | AK31: 0
F32: sníž. přenesená | L32: 0.15 | W32: =ROUND(BC54, 2) -> 0 | AK32: 0
F33: nulová | L33: 0 | W33: =ROUND(BD54, 2) -> 0 | AK33: 0
D35: Cena s DPH | T35: v | X35: CZK | AK35: =SUM(AK26:AK33) -> 0
C42: REKAPITULACE OBJEKTŮ STAVBY A SOUPISŮ PRACÍ
C44: Kód: | L44: =K5 -> 2019_01
C45: Stavba: | L45: =K6 -> Oprava mostu v km 70,905 na trati Olomouc – Nezamyslice
C47: Místo: | L47: =IF(K8="","",K8) | AI47: Datum: | AM47: =IF(AN8= "","",AN8)
C49: Zadavatel: | L49: =IF(E11= "","",E11) -> SŽDC s.o., OŘ Olomouc | AI49: Projektant: | AM49: =IF(E17="","",E17) | AS49: Informatívní údaje z listů zakázek
C50: Uchazeč: | L50: =IF(E14= "Vyplň údaj","",E14) | AI50: Zpracovatel: | AM50: =IF(E20="","",E20) -> Ing. Renata Jandová
C52: Kód | I52: Popis | AG52: Cena bez DPH [CZK] | AN52: Cena s DPH [CZK] | AQ52: Typ | AS52: z toho Ostat._x000D_ náklady [CZK] | AT52: DPH [CZK] | AU52: Normohodiny [h] | AV52: DPH základní [CZK] | AW52: DPH snížená [CZK] | AX52: DPH základní přenesená_x000D_ [CZK] | AY52: DPH snížená přenesená_x000D_ [CZK] | AZ52: Základna_x000D_ DPH základní | BA52: Základna_x000D_ DPH snížená | BB52: Základna_x000D_ DPH zákl. přenesená | BC52: Základna_x000D_ DPH sníž. přenesená | BD52: Základna_x000D_ DPH nulová
C54: Náklady z rozpočtů | AG54: =ROUND(SUM(AG55:AG56),2) -> 0 | AN54: =SUM(AG54,AT54) -> 0 | AS54: =ROUND(SUM(AS55:AS56),2) -> 0 | AT54: =ROUND(SUM(AV54:AW54),2) -> 0 | AU54: =ROUND(SUM(AU55:AU56),5) -> 0 | AV54: =ROUND(AZ54*L29,2) -> 0 | AW54: =ROUND(BA54*L30,2) -> 0 | AX54: =ROUND(BB54*L29,2) -> 0 | AY54: =ROUND(BC54*L30,2) -> 0 | AZ54: =ROUND(SUM(AZ55:AZ56),2) -> 0 | BA54: =ROUND(SUM(BA55:BA56),2) -> 0 | BB54: =ROUND(SUM(BB55:BB56),2) -> 0 | BC54: =ROUND(SUM(BC55:BC56),2) -> 0 | BD54: =ROUND(SUM(BD55:BD56),2) -> 0 | BS54: D | BT54: 0 | BU54: ###NOIMPORT### | BV54: IMPORT | BW54: {1b1a9a79-adbc-43ca-b18b-86fcf20b624f} | BX54: {00000000-0000-0000-0000-000000000000} | CL54: 824 21
A55: / | D55: SO 01 | J55: Žel. svršek v okolí mostu v km 70,905 | AG55: ='SO 01 - Žel. svršek v oko...'!J30 -> 0 | AN55: =SUM(AG55,AT55) -> 0 | AQ55: STA | AS55: 0 | AT55: =ROUND(SUM(AV55:AW55),2) -> 0 | AU55: ='SO 01 - Žel. svršek v oko...'!P84 -> 0 | AV55: ='SO 01 - Žel. svršek v oko...'!J33 -> 0 | AW55: ='SO 01 - Žel. svršek v oko...'!J34 -> 0 | AX55: ='SO 01 - Žel. svršek v oko...'!J35 -> 0 | AY55: ='SO 01 - Žel. svršek v oko...'!J36 -> 0 | AZ55: ='SO 01 - Žel. svršek v oko...'!F33 -> 0 | BA55: ='SO 01 - Žel. svršek v oko...'!F34 -> 0 | BB55: ='SO 01 - Žel. svršek v oko...'!F35 -> 0 | BC55: ='SO 01 - Žel. svršek v oko...'!F36 -> 0 | BD55: ='SO 01 - Žel. svršek v oko...'!F37 -> 0 | BT55: 1 | BV55: IMPORT | BW55: {cf9659f5-c4b3-43fe-8d1f-c545ece5e8d8} | BX55: {1b1a9a79-adbc-43ca-b18b-86fcf20b624f} | CL55: 824 21 | CM55: 2
A56: / | D56: SO 02 | J56: Oprava mostu v km 70,905 | AG56: ='SO 02 - Oprava mostu v km...'!J30 -> 0 | AN56: =SUM(AG56,AT56) -> 0 | AQ56: ING | AS56: 0 | AT56: =ROUND(SUM(AV56:AW56),2) -> 0 | AU56: ='SO 02 - Oprava mostu v km...'!P101 -> 0 | AV56: ='SO 02 - Oprava mostu v km...'!J33 -> 0 | AW56: ='SO 02 - Oprava mostu v km...'!J34 -> 0 | AX56: ='SO 02 - Oprava mostu v km...'!J35 -> 0 | AY56: ='SO 02 - Oprava mostu v km...'!J36 -> 0 | AZ56: ='SO 02 - Oprava mostu v km...'!F33 -> 0 | BA56: ='SO 02 - Oprava mostu v km...'!F34 -> 0 | BB56: ='SO 02 - Oprava mostu v km...'!F35 -> 0 | BC56: ='SO 02 - Oprava mostu v km...'!F36 -> 0 | BD56: ='SO 02 - Oprava mostu v km...'!F37 -> 0 | BT56: 1 | BV56: IMPORT | BW56: {95fd36bc-951d-4dad-a44a-99914b223e31} | BX56: {1b1a9a79-adbc-43ca-b18b-86fcf20b624f} | CM56: 2

Sheet SO 01 - Žel. svršek v oko...
AT2: {cf9659f5-c4b3-43fe-8d1f-c545ece5e8d8}
AT3: 2
D4: KRYCÍ LIST SOUPISU PRACÍ | M4: v --- níže se nacházejí doplnkové a pomocné údaje k sestavám --- v | AT4: False
D6: Stavba:
E7: ='Rekapitulace stavby'!K6 -> Oprava mostu v km 70,905 na trati Olomouc – Nezamyslice
D8: Objekt:
E9: SO 01 - Žel. svršek v okolí mostu v km 70,905
D11: KSO: | F11: 824 21 | I11: CC-CZ:
D12: Místo: | I12: Datum: | J12: ='Rekapitulace stavby'!AN8 -> 0
D14: Zadavatel: | I14: IČ:
I15: DIČ:
D17: Uchazeč: | I17: IČ: | J17: ='Rekapitulace stavby'!AN13 -> Vyplň údaj
E18: ='Rekapitulace stavby'!E14 -> Vyplň údaj | I18: DIČ: | J18: ='Rekapitulace stavby'!AN14 -> Vyplň údaj
D20: Projektant: | I20: IČ:
I21: DIČ:
D23: Zpracovatel: | I23: IČ:
E24: Ing. Renata Jandová | I24: DIČ:
D26: Poznámka:
D30: Cena bez DPH | J30: =ROUND(J84, 2) -> 0
F32: Základ daně | I32: Sazba daně | J32: Výše daně
D33: DPH | E33: základní | F33: =ROUND((SUM(BE84:BE114)), 2) -> 0 | I33: 0.21 | J33: =ROUND(((SUM(BE84:BE114))*I33), 2) -> 0
E34: snížená | F34: =ROUND((SUM(BF84:BF114)), 2) -> 0 | I34: 0.15 | J34: =ROUND(((SUM(BF84:BF114))*I34), 2) -> 0
E35: zákl. přenesená | F35: =ROUND((SUM(BG84:BG114)), 2) -> 0 | I35: 0.21 | J35: =0 -> 0
E36: sníž. přenesená | F36: =ROUND((SUM(BH84:BH114)), 2) -> 0 | I36: 0.15 | J36: =0 -> 0
E37: nulová | F37: =ROUND((SUM(BI84:BI114)), 2) -> 0 | I37: 0 | J37: =0 -> 0
D39: Cena s DPH | G39: v | H39: CZK | J39: =SUM(J30:J37) -> 0
C45: REKAPITULACE ČLENĚNÍ SOUPISU PRACÍ
C47: Stavba:
E48: =E7 -> Oprava mostu v km 70,905 na trati Olomouc – Nezamyslice
C49: Objekt:
E50: =E9 -> SO 01 - Žel. svršek v okolí mostu v km 70,905
C52: Místo: | F52: =F12 | I52: Datum: | J52: =IF(J12="","",J12) -> 0
C54: Zadavatel: | F54: =E15 | I54: Projektant: | J54: =E21
C55: Uchazeč: | F55: =IF(E18="","",E18) -> Vyplň údaj | I55: Zpracovatel: | J55: =E24 -> Ing. Renata Jandová
C57: Kód dílu - Popis | J57: Cena celkem [CZK]
C59: Náklady ze soupisu prací | J59: =J84 -> 0 | AU59: -1
D60: HSV - Práce a dodávky HSV | J60: =J85 -> 0
D61: 5 - Komunikace | J61: =J86 -> 0
D62: 997 - Přesun sutě | J62: =J108 -> 0
D63: 998 - Přesun hmot | J63: =J111 -> 0
D64: VRN - Vedlejší rozpočtové náklady | J64: =J113 -> 0
C71: SOUPIS PRACÍ
C73: Stavba:
E74: =E7 -> Oprava mostu v km 70,905 na trati Olomouc – Nezamyslice
C75: Objekt:
E76: =E9 -> SO 01 - Žel. svršek v okolí mostu v km 70,905
C78: Místo: | F78: =F12 | I78: Datum: | J78: =IF(J12="","",J12) -> 0
C80: Zadavatel: | F80: =E15 | I80: Projektant: | J80: =E21
C81: Uchazeč: | F81: =IF(E18="","",E18) -> Vyplň údaj | I81: Zpracovatel: | J81: =E24 -> Ing. Renata Jandová
C83: PČ | D83: Typ | E83: Kód | F83: Popis | G83: MJ | H83: Množství | I83: J.cena [CZK] | J83: Cena celkem [CZK] | K83: Cenová soustava | N83: DPH | O83: J. Nh [h] | P83: Nh celkem [h] | Q83: J. hmotnost [t] | R83: Hmotnost celkem [t] | S83: J. suť [t] | T83: Suť Celkem [t]
C84: Náklady soupisu celkem | J84: =BK84 -> 0 | P84: =P85+P113 -> 0 | R84: =R85+R113 -> 903.321 | T84: =T85+T113 -> 0 | AT84: D | AU84: -1 | BK84: =BK85+BK113 -> 0
D85: D | E85: HSV | F85: Práce a dodávky HSV | J85: =BK85 -> 0 | P85: =P86+P108+P111 -> 0 | R85: =R86+R108+R111 -> 903.321 | T85: =T86+T108+T111 -> 0 | AR85: 1 | AT85: D | AU85: 0 | AY85: ROZPOCET | BK85: =BK86+BK108+BK111 -> 0
D86: D | E86: 5 | F86: Komunikace | J86: =BK86 -> 0 | P86: =SUM(P87:P107) -> 0 | R86: =SUM(R87:R107) -> 903.321 | T86: =SUM(T87:T107) -> 0 | AR86: 1 | AT86: D | AU86: 1 | AY86: ROZPOCET | BK86: =SUM(BK87:BK107) -> 0
C87: 1 | D87: K | E87: 5905050060 | F87: Souvislá výměna KL se snesením KR koleje pražce betonové rozdělení "d" | G87: km | H87: 0.075 | J87: =ROUND(I87*H87,2) -> 0 | N87: základní | P87: =O87*H87 -> 0 | Q87: 0 | R87: =Q87*H87 -> 0 | S87: 0 | T87: =S87*H87 -> 0 | AR87: 4 | AT87: K | AU87: 2 | AY87: ROZPOCET | BE87: =IF(N87="základní",J87,0) -> 0 | BF87: =IF(N87="snížená",J87,0) -> 0 | BG87: =IF(N87="zákl. přenesená",J87,0) -> 0 | BH87: =IF(N87="sníž. přenesená",J87,0) -> 0 | BI87: =IF(N87="nulová",J87,0) -> 0 | BJ87: 1 | BK87: =ROUND(I87*H87,2) -> 0 | BL87: 4 | BM87: 496192194
C88: 2 | D88: K | E88: 5905105030 | F88: Doplnění KL kamenivem souvisle strojně v koleji | G88: m3 | H88: 60 | J88: =ROUND(I88*H88,2) -> 0 | N88: základní | P88: =O88*H88 -> 0 | Q88: 0 | R88: =Q88*H88 -> 0 | S88: 0 | T88: =S88*H88 -> 0 | AR88: 4 | AT88: K | AU88: 2 | AY88: ROZPOCET | BE88: =IF(N88="základní",J88,0) -> 0 | BF88: =IF(N88="snížená",J88,0) -> 0 | BG88: =IF(N88="zákl. přenesená",J88,0) -> 0 | BH88: =IF(N88="sníž. přenesená",J88,0) -> 0 | BI88: =IF(N88="nulová",J88,0) -> 0 | BJ88: 1 | BK88: =ROUND(I88*H88,2) -> 0 | BL88: 4 | BM88: -1259998529
C89: 3 | D89: M | E89: 5955101000 | F89: Železniční svršek-kolejové lože (KL) Kamenivo drcené štěrk frakce 31,5/63 třídy BI | G89: t | H89: 441 | J89: =ROUND(I89*H89,2) -> 0 | N89: základní | P89: =O89*H89 -> 0 | Q89: 1 | R89: =Q89*H89 -> 441 | S89: 0 | T89: =S89*H89 -> 0 | AR89: 8 | AT89: M | AU89: 2 | AY89: ROZPOCET | BE89: =IF(N89="základní",J89,0) -> 0 | BF89: =IF(N89="snížená",J89,0) -> 0 | BG89: =IF(N89="zákl. přenesená",J89,0) -> 0 | BH89: =IF(N89="sníž. přenesená",J89,0) -> 0 | BI89: =IF(N89="nulová",J89,0) -> 0 | BJ89: 1 | BK89: =ROUND(I89*H89,2) -> 0 | BL89: 4 | BM89: -1356424901
C90: 4 | D90: M | E90: 5955101075-R | F90: Železniční spodek - kamenivo drcené štěrkodrť frakce 0/32 | G90: t | H90: 422.1 | J90: =ROUND(I90*H90,2) -> 0 | N90: základní | P90: =O90*H90 -> 0 | Q90: 1 | R90: =Q90*H90 -> 422.1 | S90: 0 | T90: =S90*H90 -> 0 | AR90: 8 | AT90: M | AU90: 2 | AY90: ROZPOCET | BE90: =IF(N90="základní",J90,0) -> 0 | BF90: =IF(N90="snížená",J90,0) -> 0 | BG90: =IF(N90="zákl. přenesená",J90,0) -> 0 | BH90: =IF(N90="sníž. přenesená",J90,0) -> 0 | BI90: =IF(N90="nulová",J90,0) -> 0 | BJ90: 1 | BK90: =ROUND(I90*H90,2) -> 0 | BL90: 4 | BM90: 1003379099
C91: 5 | D91: K | E91: 5905110010 | F91: Snížení KL pod patou kolejnice v koleji | G91: km | H91: 0.2 | J91: =ROUND(I91*H91,2) -> 0 | N91: základní | P91: =O91*H91 -> 0 | Q91: 0 | R91: =Q91*H91 -> 0 | S91: 0 | T91: =S91*H91 -> 0 | AR91: 4 | AT91: K | AU91: 2 | AY91: ROZPOCET | BE91: =IF(N91="základní",J91,0) -> 0 | BF91: =IF(N91="snížená",J91,0) -> 0 | BG91: =IF(N91="zákl. přenesená",J91,0) -> 0 | BH91: =IF(N91="sníž. přenesená",J91,0) -> 0 | BI91: =IF(N91="nulová",J91,0) -> 0 | BJ91: 1 | BK91: =ROUND(I91*H91,2) -> 0 | BL91: 4 | BM91: 1400054158
C92: 6 | D92: K | E92: 5906125370 | F92: Montáž kolejového roštu na úložišti pražce betonové vystrojené tv. S49 rozdělení"d" | G92: km | H92: 0.075 | J92: =ROUND(I92*H92,2) -> 0 | N92: základní | P92: =O92*H92 -> 0 | Q92: 0 | R92: =Q92*H92 -> 0 | S92: 0 | T92: =S92*H92 -> 0 | AR92: 4 | AT92: K | AU92: 2 | AY92: ROZPOCET | BE92: =IF(N92="základní",J92,0) -> 0 | BF92: =IF(N92="snížená",J92,0) -> 0 | BG92: =IF(N92="zákl. přenesená",J92,0) -> 0 | BH92: =IF(N92="sníž. přenesená",J92,0) -> 0 | BI92: =IF(N92="nulová",J92,0) -> 0 | BJ92: 1 | BK92: =ROUND(I92*H92,2) -> 0 | BL92: 4 | BM92: 1837183827
C93: 7 | D93: K | E93: 5906140240 | F93: Demontáž kolejového roštu koleje v ose koleje pražce betonové tv. T rozdělení "d" | G93: km | H93: 0.075 | J93: =ROUND(I93*H93,2) -> 0 | N93: základní | P93: =O93*H93 -> 0 | Q93: 0 | R93: =Q93*H93 -> 0 | S93: 0 | T93: =S93*H93 -> 0 | AR93: 4 | AT93: K | AU93: 2 | AY93: ROZPOCET | BE93: =IF(N93="základní",J93,0) -> 0 | BF93: =IF(N93="snížená",J93,0) -> 0 | BG93: =IF(N93="zákl. přenesená",J93,0) -> 0 | BH93: =IF(N93="sníž. přenesená",J93,0) -> 0 | BI93: =IF(N93="nulová",J93,0) -> 0 | BJ93: 1 | BK93: =ROUND(I93*H93,2) -> 0 | BL93: 4 | BM93: -1898422159
C94: 8 | D94: M | E94: 5957104025 | F94: Železniční svršek-kolejnice Kolejnicové pásy třídy R260 tv. 49 E1 délky 75 metrů | G94: kus | H94: 2 | J94: =ROUND(I94*H94,2) -> 0 | N94: základní | P94: =O94*H94 -> 0 | Q94: 0 | R94: =Q94*H94 -> 0 | S94: 0 | T94: =S94*H94 -> 0 | AR94: 8 | AT94: M | AU94: 2 | AY94: ROZPOCET | BE94: =IF(N94="základní",J94,0) -> 0 | BF94: =IF(N94="snížená",J94,0) -> 0 | BG94: =IF(N94="zákl. přenesená",J94,0) -> 0 | BH94: =IF(N94="sníž. přenesená",J94,0) -> 0 | BI94: =IF(N94="nulová",J94,0) -> 0 | BJ94: 1 | BK94: =ROUND(I94*H94,2) -> 0 | BL94: 4 | BM94: 24983063
C95: 9 | D95: M | E95: 5958158005 | F95: Železniční svršek-upevňovadla Podložka pryžová pod patu kolejnice S49 183/126/6 | G95: kus | H95: 246 | J95: =ROUND(I95*H95,2) -> 0 | N95: základní | P95: =O95*H95 -> 0 | Q95: 0 | R95: =Q95*H95 -> 0 | S95: 0 | T95: =S95*H95 -> 0 | AR95: 8 | AT95: M | AU95: 2 | AY95: ROZPOCET | BE95: =IF(N95="základní",J95,0) -> 0 | BF95: =IF(N95="snížená",J95,0) -> 0 | BG95: =IF(N95="zákl. přenesená",J95,0) -> 0 | BH95: =IF(N95="sníž. přenesená",J95,0) -> 0 | BI95: =IF(N95="nulová",J95,0) -> 0 | BJ95: 1 | BK95: =ROUND(I95*H95,2) -> 0 | BL95: 4 | BM95: 863359272
C96: 10 | D96: K | E96: 5907050020 | F96: Dělení kolejnic řezáním nebo rozbroušením tv. S49 | G96: kus | H96: 4 | J96: =ROUND(I96*H96,2) -> 0 | N96: základní | P96: =O96*H96 -> 0 | Q96: 0 | R96: =Q96*H96 -> 0 | S96: 0 | T96: =S96*H96 -> 0 | AR96: 4 | AT96: K | AU96: 2 | AY96: ROZPOCET | BE96: =IF(N96="základní",J96,0) -> 0 | BF96: =IF(N96="snížená",J96,0) -> 0 | BG96: =IF(N96="zákl. přenesená",J96,0) -> 0 | BH96: =IF(N96="sníž. přenesená",J96,0) -> 0 | BI96: =IF(N96="nulová",J96,0) -> 0 | BJ96: 1 | BK96: =ROUND(I96*H96,2) -> 0 | BL96: 4 | BM96: -937962744
C97: 11 | D97: K | E97: 5909030020 | F97: Následná úprava GPK koleje směrové a výškové uspořádání pražce betonové | G97: km | H97: 0.4 | J97: =ROUND(I97*H97,2) -> 0 | N97: základní | P97: =O97*H97 -> 0 | Q97: 0 | R97: =Q97*H97 -> 0 | S97: 0 | T97: =S97*H97 -> 0 | AR97: 4 | AT97: K | AU97: 2 | AY97: ROZPOCET | BE97: =IF(N97="základní",J97,0) -> 0 | BF97: =IF(N97="snížená",J97,0) -> 0 | BG97: =IF(N97="zákl. přenesená",J97,0) -> 0 | BH97: =IF(N97="sníž. přenesená",J97,0) -> 0 | BI97: =IF(N97="nulová",J97,0) -> 0 | BJ97: 1 | BK97: =ROUND(I97*H97,2) -> 0 | BL97: 4 | BM97: 1900471595
C98: 12 | D98: M | E98: 5958125000 | F98: Železniční svršek-upevňovadla Komplety s antikorozní úpravou Skl 14 (svěrka Skl14, vrtule R1, podložka Uls7) | G98: kus | H98: 0 | J98: =ROUND(I98*H98,2) -> 0 | N98: základní | P98: =O98*H98 -> 0 | Q98: 0.00105 | R98: =Q98*H98 -> 0 | S98: 0 | T98: =S98*H98 -> 0 | AR98: 8 | AT98: M | AU98: 2 | AY98: ROZPOCET | BE98: =IF(N98="základní",J98,0) -> 0 | BF98: =IF(N98="snížená",J98,0) -> 0 | BG98: =IF(N98="zákl. přenesená",J98,0) -> 0 | BH98: =IF(N98="sníž. přenesená",J98,0) -> 0 | BI98: =IF(N98="nulová",J98,0) -> 0 | BJ98: 1 | BK98: =ROUND(I98*H98,2) -> 0 | BL98: 4 | BM98: 962673326
C99: 13 | D99: M | E99: 5956140030 | F99: Železniční svršek-kolejnicové podpory Pražec betonový příčný vystrojený včetně kompletů tv. B 91S/2 (S) | G99: kus | H99: 123 | J99: =ROUND(I99*H99,2) -> 0 | N99: základní | P99: =O99*H99 -> 0 | Q99: 0.327 | R99: =Q99*H99 -> 40.221 | S99: 0 | T99: =S99*H99 -> 0 | AR99: 8 | AT99: M | AU99: 2 | AY99: ROZPOCET | BE99: =IF(N99="základní",J99,0) -> 0 | BF99: =IF(N99="snížená",J99,0) -> 0 | BG99: =IF(N99="zákl. přenesená",J99,0) -> 0 | BH99: =IF(N99="sníž. přenesená",J99,0) -> 0 | BI99: =IF(N99="nulová",J99,0) -> 0 | BJ99: 1 | BK99: =ROUND(I99*H99,2) -> 0 | BL99: 4 | BM99: 1463063410
D100: VV | F100: "Železniční svršek - kolejnicové podpory Pražec betový příčný vystrojený včetně kompletů tv. B 91s/2 (S)" | AT100: VV | AU100: 2 | AV100: 1 | AW100: True | AX100: 0 | AY100: ROZPOCET
D101: VV | F101: "vč. svěrky Skl14, vrtule R1, podložky Uls7" | AT101: VV | AU101: 2 | AV101: 1 | AW101: True | AX101: 0 | AY101: ROZPOCET
D102: VV | F102: 123 | H102: 123 | AT102: VV | AU102: 2 | AV102: 2 | AW102: True | AX102: 1 | AY102: ROZPOCET
C103: 14 | D103: K | E103: 5910035030 | F103: Dosažení dovolené upínací teploty v BK prodloužením kolejnicového pásu v koleji tv. S49 | G103: svar | H103: 4 | J103: =ROUND(I103*H103,2) -> 0 | N103: základní | P103: =O103*H103 -> 0 | Q103: 0 | R103: =Q103*H103 -> 0 | S103: 0 | T103: =S103*H103 -> 0 | AR103: 4 | AT103: K | AU103: 2 | AY103: ROZPOCET | BE103: =IF(N103="základní",J103,0) -> 0 | BF103: =IF(N103="snížená",J103,0) -> 0 | BG103: =IF(N103="zákl. přenesená",J103,0) -> 0 | BH103: =IF(N103="sníž. přenesená",J103,0) -> 0 | BI103: =IF(N103="nulová",J103,0) -> 0 | BJ103: 1 | BK103: =ROUND(I103*H103,2) -> 0 | BL103: 4 | BM103: -30579357
C104: 15 | D104: K | E104: 5910040320 | F104: Umožnění volné dilatace kolejnice demontáž upevňovadel s osazením kluzných podložek rozdělení pražců "d" | G104: m | H104: 175 | J104: =ROUND(I104*H104,2) -> 0 | N104: základní | P104: =O104*H104 -> 0 | Q104: 0 | R104: =Q104*H104 -> 0 | S104: 0 | T104: =S104*H104 -> 0 | AR104: 4 | AT104: K | AU104: 2 | AY104: ROZPOCET | BE104: =IF(N104="základní",J104,0) -> 0 | BF104: =IF(N104="snížená",J104,0) -> 0 | BG104: =IF(N104="zákl. přenesená",J104,0) -> 0 | BH104: =IF(N104="sníž. přenesená",J104,0) -> 0 | BI104: =IF(N104="nulová",J104,0) -> 0 | BJ104: 1 | BK104: =ROUND(I104*H104,2) -> 0 | BL104: 4 | BM104: -1311971210
C105: 16 | D105: K | E105: 5910040420 | F105: Umožnění volné dilatace kolejnice montáž upevňovadel s odstraněním kluzných podložek rozdělení pražců "d" | G105: m | H105: 175 | J105: =ROUND(I105*H105,2) -> 0 | N105: základní | P105: =O105*H105 -> 0 | Q105: 0 | R105: =Q105*H105 -> 0 | S105: 0 | T105: =S105*H105 -> 0 | AR105: 4 | AT105: K | AU105: 2 | AY105: ROZPOCET | BE105: =IF(N105="základní",J105,0) -> 0 | BF105: =IF(N105="snížená",J105,0) -> 0 | BG105: =IF(N105="zákl. přenesená",J105,0) -> 0 | BH105: =IF(N105="sníž. přenesená",J105,0) -> 0 | BI105: =IF(N105="nulová",J105,0) -> 0 | BJ105: 1 | BK105: =ROUND(I105*H105,2) -> 0 | BL105: 4 | BM105: -1546482447
C106: 17 | D106: K | E106: 5914075420 | F106: Zřízení konstrukční vrstvy pražcového podloží podle konstrukce typ 5 | G106: m2 | H106: 114 | J106: =ROUND(I106*H106,2) -> 0 | N106: základní | P106: =O106*H106 -> 0 | Q106: 0 | R106: =Q106*H106 -> 0 | S106: 0 | T106: =S106*H106 -> 0 | AR106: 4 | AT106: K | AU106: 2 | AY106: ROZPOCET | BE106: =IF(N106="základní",J106,0) -> 0 | BF106: =IF(N106="snížená",J106,0) -> 0 | BG106: =IF(N106="zákl. přenesená",J106,0) -> 0 | BH106: =IF(N106="sníž. přenesená",J106,0) -> 0 | BI106: =IF(N106="nulová",J106,0) -> 0 | BJ106: 1 | BK106: =ROUND(I106*H106,2) -> 0 | BL106: 4 | BM106: -1008512011
C107: 18 | D107: K | E107: 5915010010 | F107: Těžení zeminy nebo horniny železničního spodku I. třídy | G107: m3 | H107: 112.5 | J107: =ROUND(I107*H107,2) -> 0 | N107: základní | P107: =O107*H107 -> 0 | Q107: 0 | R107: =Q107*H107 -> 0 | S107: 0 | T107: =S107*H107 -> 0 | AR107: 4 | AT107: K | AU107: 2 | AY107: ROZPOCET | BE107: =IF(N107="základní",J107,0) -> 0 | BF107: =IF(N107="snížená",J107,0) -> 0 | BG107: =IF(N107="zákl. přenesená",J107,0) -> 0 | BH107: =IF(N107="sníž. přenesená",J107,0) -> 0 | BI107: =IF(N107="nulová",J107,0) -> 0 | BJ107: 1 | BK107: =ROUND(I107*H107,2) -> 0 | BL107: 4 | BM107: -910956327
D108: D | E108: 997 | F108: Přesun sutě | J108: =BK108 -> 0 | P108: =SUM(P109:P110) -> 0 | R108: =SUM(R109:R110) -> 0 | T108: =SUM(T109:T110) -> 0 | AR108: 1 | AT108: D | AU108: 1 | AY108: ROZPOCET | BK108: =SUM(BK109:BK110) -> 0
C109: 19 | D109: K | E109: 997241511 | F109: Vodorovné přemístění vybouraných hmot do 7 km | G109: t | H109: 277.5 | J109: =ROUND(I109*H109,2) -> 0 | N109: základní | P109: =O109*H109 -> 0 | Q109: 0 | R109: =Q109*H109 -> 0 | S109: 0 | T109: =S109*H109 -> 0 | AR109: 4 | AT109: K | AU109: 2 | AY109: ROZPOCET | BE109: =IF(N109="základní",J109,0) -> 0 | BF109: =IF(N109="snížená",J109,0) -> 0 | BG109: =IF(N109="zákl. přenesená",J109,0) -> 0 | BH109: =IF(N109="sníž. přenesená",J109,0) -> 0 | BI109: =IF(N109="nulová",J109,0) -> 0 | BJ109: 1 | BK109: =ROUND(I109*H109,2) -> 0 | BL109: 4 | BM109: 952485077
C110: 20 | D110: K | E110: 997241519 | F110: Příplatek ZKD 1 km u vodorovného přemístění vybouraných hmot | G110: t | H110: 3607.5 | J110: =ROUND(I110*H110,2) -> 0 | N110: základní | P110: =O110*H110 -> 0 | Q110: 0 | R110: =Q110*H110 -> 0 | S110: 0 | T110: =S110*H110 -> 0 | AR110: 4 | AT110: K | AU110: 2 | AY110: ROZPOCET | BE110: =IF(N110="základní",J110,0) -> 0 | BF110: =IF(N110="snížená",J110,0) -> 0 | BG110: =IF(N110="zákl. přenesená",J110,0) -> 0 | BH110: =IF(N110="sníž. přenesená",J110,0) -> 0 | BI110: =IF(N110="nulová",J110,0) -> 0 | BJ110: 1 | BK110: =ROUND(I110*H110,2) -> 0 | BL110: 4 | BM110: 404061808
D111: D | E111: 998 | F111: Přesun hmot | J111: =BK111 -> 0 | P111: =P112 -> 0 | R111: =R112 -> 0 | T111: =T112 -> 0 | AR111: 1 | AT111: D | AU111: 1 | AY111: ROZPOCET | BK111: =BK112 -> 0
C112: 21 | D112: K | E112: 998242011 | F112: Přesun hmot pro železniční svršek drah kolejových o sklonu 0,8 % | G112: t | H112: 903.579 | J112: =ROUND(I112*H112,2) -> 0 | N112: základní | P112: =O112*H112 -> 0 | Q112: 0 | R112: =Q112*H112 -> 0 | S112: 0 | T112: =S112*H112 -> 0 | AR112: 4 | AT112: K | AU112: 2 | AY112: ROZPOCET | BE112: =IF(N112="základní",J112,0) -> 0 | BF112: =IF(N112="snížená",J112,0) -> 0 | BG112: =IF(N112="zákl. přenesená",J112,0) -> 0 | BH112: =IF(N112="sníž. přenesená",J112,0) -> 0 | BI112: =IF(N112="nulová",J112,0) -> 0 | BJ112: 1 | BK112: =ROUND(I112*H112,2) -> 0 | BL112: 4 | BM112: 272871542
D113: D | E113: VRN | F113: Vedlejší rozpočtové náklady | J113: =BK113 -> 0 | P113: =P114 -> 0 | R113: =R114 -> 0 | T113: =T114 -> 0 | AR113: 5 | AT113: D | AU113: 0 | AY113: ROZPOCET | BK113: =BK114 -> 0
C114: 22 | D114: K | E114: 9909000100 | F114: Poplatek za uložení suti nebo hmot na oficiální skládku | G114: t | H114: 277.5 | J114: =ROUND(I114*H114,2) -> 0 | N114: základní | P114: =O114*H114 -> 0 | Q114: 0 | R114: =Q114*H114 -> 0 | S114: 0 | T114: =S114*H114 -> 0 | AR114: 4 | AT114: K | AU114: 1 | AY114: ROZPOCET | BE114: =IF(N114="základní",J114,0) -> 0 | BF114: =IF(N114="snížená",J114,0) -> 0 | BG114: =IF(N114="zákl. přenesená",J114,0) -> 0 | BH114: =IF(N114="sníž. přenesená",J114,0) -> 0 | BI114: =IF(N114="nulová",J114,0) -> 0 | BJ114: 1 | BK114: =ROUND(I114*H114,2) -> 0 | BL114: 4 | BM114: 2068818603

Sheet SO 02 - Oprava mostu v km...
AT2: {95fd36bc-951d-4dad-a44a-99914b223e31}
AT3: 2
D4: KRYCÍ LIST SOUPISU PRACÍ | M4: v --- níže se nacházejí doplnkové a pomocné údaje k sestavám --- v | AT4: False
D6: Stavba:
E7: ='Rekapitulace stavby'!K6 -> Oprava mostu v km 70,905 na trati Olomouc – Nezamyslice
D8: Objekt:
E9: SO 02 - Oprava mostu v km 70,905
D11: KSO: | I11: CC-CZ:
D12: Místo: | I12: Datum: | J12: ='Rekapitulace stavby'!AN8 -> 0
D14: Zadavatel: | I14: IČ: | J14: =IF('Rekapitulace stavby'!AN10="","",'Rekapitulace stavby'!AN10)
E15: =IF('Rekapitulace stavby'!E11="","",'Rekapitulace stavby'!E11) -> SŽDC s.o., OŘ Olomouc | I15: DIČ: | J15: =IF('Rekapitulace stavby'!AN11="","",'Rekapitulace stavby'!AN11)
D17: Uchazeč: | I17: IČ: | J17: ='Rekapitulace stavby'!AN13 -> Vyplň údaj
E18: ='Rekapitulace stavby'!E14 -> Vyplň údaj | I18: DIČ: | J18: ='Rekapitulace stavby'!AN14 -> Vyplň údaj
D20: Projektant: | I20: IČ: | J20: =IF('Rekapitulace stavby'!AN16="","",'Rekapitulace stavby'!AN16)
E21: =IF('Rekapitulace stavby'!E17="","",'Rekapitulace stavby'!E17) | I21: DIČ: | J21: =IF('Rekapitulace stavby'!AN17="","",'Rekapitulace stavby'!AN17)
D23: Zpracovatel: | I23: IČ: | J23: =IF('Rekapitulace stavby'!AN19="","",'Rekapitulace stavby'!AN19)
E24: =IF('Rekapitulace stavby'!E20="","",'Rekapitulace stavby'!E20) -> Ing. Renata Jandová | I24: DIČ: | J24: =IF('Rekapitulace stavby'!AN20="","",'Rekapitulace stavby'!AN20)
D26: Poznámka:
D30: Cena bez DPH | J30: =ROUND(J101, 2) -> 0
F32: Základ daně | I32: Sazba daně | J32: Výše daně
D33: DPH | E33: základní | F33: =ROUND((SUM(BE101:BE316)), 2) -> 0 | I33: 0.21 | J33: =ROUND(((SUM(BE101:BE316))*I33), 2) -> 0
E34: snížená | F34: =ROUND((SUM(BF101:BF316)), 2) -> 0 | I34: 0.15 | J34: =ROUND(((SUM(BF101:BF316))*I34), 2) -> 0
E35: zákl. přenesená | F35: =ROUND((SUM(BG101:BG316)), 2) -> 0 | I35: 0.21 | J35: =0 -> 0
E36: sníž. přenesená | F36: =ROUND((SUM(BH101:BH316)), 2) -> 0 | I36: 0.15 | J36: =0 -> 0
E37: nulová | F37: =ROUND((SUM(BI101:BI316)), 2) -> 0 | I37: 0 | J37: =0 -> 0
D39: Cena s DPH | G39: v | H39: CZK | J39: =SUM(J30:J37) -> 0
C45: REKAPITULACE ČLENĚNÍ SOUPISU PRACÍ
C47: Stavba:
E48: =E7 -> Oprava mostu v km 70,905 na trati Olomouc – Nezamyslice
C49: Objekt:
E50: =E9 -> SO 02 - Oprava mostu v km 70,905
C52: Místo: | F52: =F12 | I52: Datum: | J52: =IF(J12="","",J12) -> 0
C54: Zadavatel: | F54: =E15 -> SŽDC s.o., OŘ Olomouc | I54: Projektant: | J54: =E21
C55: Uchazeč: | F55: =IF(E18="","",E18) -> Vyplň údaj | I55: Zpracovatel: | J55: =E24 -> Ing. Renata Jandová
C57: Kód dílu - Popis | J57: Cena celkem [CZK]
C59: Náklady ze soupisu prací | J59: =J101 -> 0 | AU59: -1
D60: HSV - Práce a dodávky HSV | J60: =J102 -> 0
D61: 1 - Zemní práce | J61: =J103 -> 0
D62: 2 - Zakládání | J62: =J139 -> 0
D63: 3 - Svislé a kompletní konstrukce | J63: =J159 -> 0
D64: 4 - Vodorovné konstrukce | J64: =J167 -> 0
D65: 5 - Komunikace pozemní | J65: =J185 -> 0
D66: 9 - Ostatní konstrukce a práce, bourání | J66: =J190 -> 0
D67: 99 - Přesun hmot | J67: =J263 -> 0
D68: 997 - Přesun sutě | J68: =J265 -> 0
D69: PSV - Práce a dodávky PSV | J69: =J273 -> 0
D70: 711 - Izolace proti vodě, vlhkosti a plynům | J70: =J274 -> 0
D71: 767 - Konstrukce zámečnické | J71: =J292 -> 0
D72: 783 - Dokončovací práce | J72: =J294 -> 0
D73: M - Práce a dodávky M | J73: =J296 -> 0
D74: 46-M - Zemní práce při extr.mont.pracích | J74: =J297 -> 0
D75: Ostatní - Ostatní | J75: =J299 -> 0
D76: 000 - Všeobecné konstrukce a práce | J76: =J300 -> 0
D77: VRN - Ostatní náklady | J77: =J302 -> 0
D78: VRN1 - Průzkumné, geodetické a projektové práce | J78: =J303 -> 0
D79: VRN3 - Zařízení staveniště | J79: =J308 -> 0
D80: VRN4 - Inženýrská činnost | J80: =J312 -> 0
D81: VRN9 - Ostatní náklady | J81: =J315 -> 0
C88: SOUPIS PRACÍ
C90: Stavba:
E91: =E7 -> Oprava mostu v km 70,905 na trati Olomouc – Nezamyslice
C92: Objekt:
E93: =E9 -> SO 02 - Oprava mostu v km 70,905
C95: Místo: | F95: =F12 | I95: Datum: | J95: =IF(J12="","",J12) -> 0
C97: Zadavatel: | F97: =E15 -> SŽDC s.o., OŘ Olomouc | I97: Projektant: | J97: =E21
C98: Uchazeč: | F98: =IF(E18="","",E18) -> Vyplň údaj | I98: Zpracovatel: | J98: =E24 -> Ing. Renata Jandová
C100: PČ | D100: Typ | E100: Kód | F100: Popis | G100: MJ | H100: Množství | I100: J.cena [CZK] | J100: Cena celkem [CZK] | K100: Cenová soustava | N100: DPH | O100: J. Nh [h] | P100: Nh celkem [h] | Q100: J. hmotnost [t] | R100: Hmotnost celkem [t] | S100: J. suť [t] | T100: Suť Celkem [t]
C101: Náklady soupisu celkem | J101: =BK101 -> 0 | P101: =P102+P273+P296+P299+P302 -> 0 | R101: =R102+R273+R296+R299+R302 -> 229.0463 | T101: =T102+T273+T296+T299+T302 -> 48.318784 | AT101: D | AU101: -1 | BK101: =BK102+BK273+BK296+BK299+BK302 -> 0
D102: D | E102: HSV | F102: Práce a dodávky HSV | J102: =BK102 -> 0 | P102: =P103+P139+P159+P167+P185+P190+P263+P265 -> 0 | R102: =R103+R139+R159+R167+R185+R190+R263+R265 -> 226.62783 | T102: =T103+T139+T159+T167+T185+T190+T263+T265 -> 47.752534 | AR102: 1 | AT102: D | AU102: 0 | AY102: ROZPOCET | BK102: =BK103+BK139+BK159+BK167+BK185+BK190+BK263+BK265 -> 0
D103: D | E103: 1 | F103: Zemní práce | J103: =BK103 -> 0 | P103: =SUM(P104:P138) -> 0 | R103: =SUM(R104:R138) -> 1.2899605 | T103: =SUM(T104:T138) -> 17.784 | AR103: 1 | AT103: D | AU103: 1 | AY103: ROZPOCET | BK103: =SUM(BK104:BK138) -> 0
C104: 1 | D104: K | E104: 111101101 | F104: Odstranění travin z celkové plochy do 0,1 ha | G104: ha | H104: 0.015 | J104: =ROUND(I104*H104,2) -> 0 | N104: základní | P104: =O104*H104 -> 0 | Q104: 0 | R104: =Q104*H104 -> 0 | S104: 0 | T104: =S104*H104 -> 0 | AR104: 4 | AT104: K | AU104: 2 | AY104: ROZPOCET | BE104: =IF(N104="základní",J104,0) -> 0 | BF104: =IF(N104="snížená",J104,0) -> 0 | BG104: =IF(N104="zákl. přenesená",J104,0) -> 0 | BH104: =IF(N104="sníž. přenesená",J104,0) -> 0 | BI104: =IF(N104="nulová",J104,0) -> 0 | BJ104: 1 | BK104: =ROUND(I104*H104,2) -> 0 | BL104: 4 | BM104: 1882897837
C105: 2 | D105: K | E105: 111201101 | F105: Odstranění křovin a stromů průměru kmene do 100 mm i s kořeny z celkové plochy do 1000 m2 | G105: m2 | H105: 100 | J105: =ROUND(I105*H105,2) -> 0 | N105: základní | P105: =O105*H105 -> 0 | Q105: 0 | R105: =Q105*H105 -> 0 | S105: 0 | T105: =S105*H105 -> 0 | AR105: 4 | AT105: K | AU105: 2 | AY105: ROZPOCET | BE105: =IF(N105="základní",J105,0) -> 0 | BF105: =IF(N105="snížená",J105,0) -> 0 | BG105: =IF(N105="zákl. přenesená",J105,0) -> 0 | BH105: =IF(N105="sníž. přenesená",J105,0) -> 0 | BI105: =IF(N105="nulová",J105,0) -> 0 | BJ105: 1 | BK105: =ROUND(I105*H105,2) -> 0 | BL105: 4 | BM105: 960769121
C106: 3 | D106: K | E106: 111201401 | F106: Spálení křovin a stromů průměru kmene do 100 mm | G106: m2 | H106: 100 | J106: =ROUND(I106*H106,2) -> 0 | N106: základní | P106: =O106*H106 -> 0 | Q106: 0.00018 | R106: =Q106*H106 -> 0.018 | S106: 0 | T106: =S106*H106 -> 0 | AR106: 4 | AT106: K | AU106: 2 | AY106: ROZPOCET | BE106: =IF(N106="základní",J106,0) -> 0 | BF106: =IF(N106="snížená",J106,0) -> 0 | BG106: =IF(N106="zákl. přenesená",J106,0) -> 0 | BH106: =IF(N106="sníž. přenesená",J106,0) -> 0 | BI106: =IF(N106="nulová",J106,0) -> 0 | BJ106: 1 | BK106: =ROUND(I106*H106,2) -> 0 | BL106: 4 | BM106: -345553493
C107: 4 | D107: K | E107: 111301111 | F107: Sejmutí drnu tl do 100 mm s přemístěním do 50 m nebo naložením na dopravní prostředek | G107: m2 | H107: 116.24 | J107: =ROUND(I107*H107,2) -> 0 | N107: základní | P107: =O107*H107 -> 0 | Q107: 0 | R107: =Q107*H107 -> 0 | S107: 0 | T107: =S107*H107 -> 0 | AR107: 4 | AT107: K | AU107: 2 | AY107: ROZPOCET | BE107: =IF(N107="základní",J107,0) -> 0 | BF107: =IF(N107="snížená",J107,0) -> 0 | BG107: =IF(N107="zákl. přenesená",J107,0) -> 0 | BH107: =IF(N107="sníž. přenesená",J107,0) -> 0 | BI107: =IF(N107="nulová",J107,0) -> 0 | BJ107: 1 | BK107: =ROUND(I107*H107,2) -> 0 | BL107: 4 | BM107: -1375944845
C108: 5 | D108: K | E108: 112101101 | F108: Kácení stromů s odřezáním kmene a s odvětvením listnatých, průměru kmene přes 100 do 300 mm | G108: kus | H108: 7 | J108: =ROUND(I108*H108,2) -> 0 | N108: základní | P108: =O108*H108 -> 0 | Q108: 0 | R108: =Q108*H108 -> 0 | S108: 0 | T108: =S108*H108 -> 0 | AR108: 4 | AT108: K | AU108: 2 | AY108: ROZPOCET | BE108: =IF(N108="základní",J108,0) -> 0 | BF108: =IF(N108="snížená",J108,0) -> 0 | BG108: =IF(N108="zákl. přenesená",J108,0) -> 0 | BH108: =IF(N108="sníž. přenesená",J108,0) -> 0 | BI108: =IF(N108="nulová",J108,0) -> 0 | BJ108: 1 | BK108: =ROUND(I108*H108,2) -> 0 | BL108: 4 | BM108: 2061359953
C109: 6 | D109: K | E109: 112201101 | F109: Odstranění pařezů D do 300 mm | G109: kus | H109: 7 | J109: =ROUND(I109*H109,2) -> 0 | N109: základní | P109: =O109*H109 -> 0 | Q109: 5e-05 | R109: =Q109*H109 -> 0.00035 | S109: 0 | T109: =S109*H109 -> 0 | AR109: 4 | AT109: K | AU109: 2 | AY109: ROZPOCET | BE109: =IF(N109="základní",J109,0) -> 0 | BF109: =IF(N109="snížená",J109,0) -> 0 | BG109: =IF(N109="zákl. přenesená",J109,0) -> 0 | BH109: =IF(N109="sníž. přenesená",J109,0) -> 0 | BI109: =IF(N109="nulová",J109,0) -> 0 | BJ109: 1 | BK109: =ROUND(I109*H109,2) -> 0 | BL109: 4 | BM109: 467170393
C110: 7 | D110: K | E110: 113106192 | F110: Rozebrání vozovek ze silničních dílců pl do 50 m2 se spárami zalitými cementovou maltou | G110: m2 | H110: 24 | J110: =ROUND(I110*H110,2) -> 0 | N110: základní | P110: =O110*H110 -> 0 | Q110: 0 | R110: =Q110*H110 -> 0 | S110: 0.425 | T110: =S110*H110 -> 10.2 | AR110: 4 | AT110: K | AU110: 2 | AY110: ROZPOCET | BE110: =IF(N110="základní",J110,0) -> 0 | BF110: =IF(N110="snížená",J110,0) -> 0 | BG110: =IF(N110="zákl. přenesená",J110,0) -> 0 | BH110: =IF(N110="sníž. přenesená",J110,0) -> 0 | BI110: =IF(N110="nulová",J110,0) -> 0 | BJ110: 1 | BK110: =ROUND(I110*H110,2) -> 0 | BL110: 4 | BM110: -745752028
C111: 8 | D111: K | E111: 113107143 | F111: Odstranění podkladu pl do 50 m2 živičných tl 150 mm | G111: m2 | H111: 24 | J111: =ROUND(I111*H111,2) -> 0 | N111: základní | P111: =O111*H111 -> 0 | Q111: 0 | R111: =Q111*H111 -> 0 | S111: 0.316 | T111: =S111*H111 -> 7.584 | AR111: 4 | AT111: K | AU111: 2 | AY111: ROZPOCET | BE111: =IF(N111="základní",J111,0) -> 0 | BF111: =IF(N111="snížená",J111,0) -> 0 | BG111: =IF(N111="zákl. přenesená",J111,0) -> 0 | BH111: =IF(N111="sníž. přenesená",J111,0) -> 0 | BI111: =IF(N111="nulová",J111,0) -> 0 | BJ111: 1 | BK111: =ROUND(I111*H111,2) -> 0 | BL111: 4 | BM111: -852000674
C112: 9 | D112: K | E112: 114203202 | F112: Očištění lomového kamene nebo betonových tvárnic od malty | G112: m3 | H112: 2.4 | J112: =ROUND(I112*H112,2) -> 0 | N112: základní | P112: =O112*H112 -> 0 | Q112: 0 | R112: =Q112*H112 -> 0 | S112: 0 | T112: =S112*H112 -> 0 | AR112: 16 | AT112: K | AU112: 2 | AY112: ROZPOCET | BE112: =IF(N112="základní",J112,0) -> 0 | BF112: =IF(N112="snížená",J112,0) -> 0 | BG112: =IF(N112="zákl. přenesená",J112,0) -> 0 | BH112: =IF(N112="sníž. přenesená",J112,0) -> 0 | BI112: =IF(N112="nulová",J112,0) -> 0 | BJ112: 1 | BK112: =ROUND(I112*H112,2) -> 0 | BL112: 16 | BM112: 1884690797
C113: 10 | D113: K | E113: 122201101 | F113: Odkopávky a prokopávky nezapažené v hornině tř. 3 objem do 100 m3 | G113: m3 | H113: 70.1 | J113: =ROUND(I113*H113,2) -> 0 | N113: základní | P113: =O113*H113 -> 0 | Q113: 0 | R113: =Q113*H113 -> 0 | S113: 0 | T113: =S113*H113 -> 0 | AR113: 4 | AT113: K | AU113: 2 | AY113: ROZPOCET | BE113: =IF(N113="základní",J113,0) -> 0 | BF113: =IF(N113="snížená",J113,0) -> 0 | BG113: =IF(N113="zákl. přenesená",J113,0) -> 0 | BH113: =IF(N113="sníž. přenesená",J113,0) -> 0 | BI113: =IF(N113="nulová",J113,0) -> 0 | BJ113: 1 | BK113: =ROUND(I113*H113,2) -> 0 | BL113: 4 | BM113: -2121566907
C114: 11 | D114: K | E114: 122201109 | F114: Příplatek za lepivost u odkopávek v hornině tř. 1 až 3 | G114: m3 | H114: 35.05 | J114: =ROUND(I114*H114,2) -> 0 | N114: základní | P114: =O114*H114 -> 0 | Q114: 0 | R114: =Q114*H114 -> 0 | S114: 0 | T114: =S114*H114 -> 0 | AR114: 4 | AT114: K | AU114: 2 | AY114: ROZPOCET | BE114: =IF(N114="základní",J114,0) -> 0 | BF114: =IF(N114="snížená",J114,0) -> 0 | BG114: =IF(N114="zákl. přenesená",J114,0) -> 0 | BH114: =IF(N114="sníž. přenesená",J114,0) -> 0 | BI114: =IF(N114="nulová",J114,0) -> 0 | BJ114: 1 | BK114: =ROUND(I114*H114,2) -> 0 | BL114: 4 | BM114: -1936115101
C115: 12 | D115: K | E115: 151711111 | F115: Osazení zápor ocelových dl do 8 m | G115: m | H115: 15 | J115: =ROUND(I115*H115,2) -> 0 | N115: základní | P115: =O115*H115 -> 0 | Q115: 0.00133 | R115: =Q115*H115 -> 0.01995 | S115: 0 | T115: =S115*H115 -> 0 | AR115: 4 | AT115: K | AU115: 2 | AY115: ROZPOCET | BE115: =IF(N115="základní",J115,0) -> 0 | BF115: =IF(N115="snížená",J115,0) -> 0 | BG115: =IF(N115="zákl. přenesená",J115,0) -> 0 | BH115: =IF(N115="sníž. přenesená",J115,0) -> 0 | BI115: =IF(N115="nulová",J115,0) -> 0 | BJ115: 1 | BK115: =ROUND(I115*H115,2) -> 0 | BL115: 4 | BM115: -1743131404
... C128: 25 | D128: K | E128: 162701105 | F128: Vodorovné přemístění do 10000 m výkopku/sypaniny z horniny tř. 1 až 4 | G128: m3 | H128: 140.2 | J128: =ROUND(I128*H128,2) -> 0 | N128: základní | P128: =O128*H128 -> 0 | Q128: 0 | R128: =Q128*H128 -> 0 | S128: 0 | T128: =S128*H128 -> 0 | AR128: 4 | AT128: K | AU128: 2 | AY128: ROZPOCET | BE128: =IF(N128="základní",J128,0) -> 0 | BF128: =IF(N128="snížená",J128,0) -> 0 | BG128: =IF(N128="zákl. přenesená",J128,0) -> 0 | BH128: =IF(N128="sníž. přenesená",J128,0) -> 0 | BI128: =IF(N128="nulová",J128,0) -> 0 | BJ128: 1 | BK128: =ROUND(I128*H128,2) -> 0 | BL128: 4 | BM128: -506834437
D129: VV | F129: "Položka záměrně zvětšena z důvodu nevhodných stavebních podmínek" 2*70,1 | H129: 140.2 | AT129: VV | AU129: 2 | AV129: 2 | AW129: True | AX129: 1 | AY129: ROZPOCET
C130: 26 | D130: K | E130: 162702111 | F130: Vodorovné přemístění drnu bez naložení se složením do 6000 m | G130: m2 | H130: 116.24 | J130: =ROUND(I130*H130,2) -> 0 | N130: základní | P130: =O130*H130 -> 0 | Q130: 0 | R130: =Q130*H130 -> 0 | S130: 0 | T130: =S130*H130 -> 0 | AR130: 4 | AT130: K | AU130: 2 | AY130: ROZPOCET | BE130: =IF(N130="základní",J130,0) -> 0 | BF130: =IF(N130="snížená",J130,0) -> 0 | BG130: =IF(N130="zákl. přenesená",J130,0) -> 0 | BH130: =IF(N130="sníž. přenesená",J130,0) -> 0 | BI130: =IF(N130="nulová",J130,0) -> 0 | BJ130: 1 | BK130: =ROUND(I130*H130,2) -> 0 | BL130: 4 | BM130: -837081663
C131: 27 | D131: K | E131: 171201201 | F131: Uložení sypaniny na skládky | G131: m3 | H131: 70.1 | J131: =ROUND(I131*H131,2) -> 0 | N131: základní | P131: =O131*H131 -> 0 | Q131: 0 | R131: =Q131*H131 -> 0 | S131: 0 | T131: =S131*H131 -> 0 | AR131: 4 | AT131: K | AU131: 2 | AY131: ROZPOCET | BE131: =IF(N131="základní",J131,0) -> 0 | BF131: =IF(N131="snížená",J131,0) -> 0 | BG131: =IF(N131="zákl. přenesená",J131,0) -> 0 | BH131: =IF(N131="sníž. přenesená",J131,0) -> 0 | BI131: =IF(N131="nulová",J131,0) -> 0 | BJ131: 1 | BK131: =ROUND(I131*H131,2) -> 0 | BL131: 4 | BM131: 1126473613
C132: 28 | D132: K | E132: 171201211 | F132: Poplatek za uložení odpadu ze sypaniny na skládce (skládkovné) | G132: t | H132: 133.19 | J132: =ROUND(I132*H132,2) -> 0 | N132: základní | P132: =O132*H132 -> 0 | Q132: 0 | R132: =Q132*H132 -> 0 | S132: 0 | T132: =S132*H132 -> 0 | AR132: 4 | AT132: K | AU132: 2 | AY132: ROZPOCET | BE132: =IF(N132="základní",J132,0) -> 0 | BF132: =IF(N132="snížená",J132,0) -> 0 | BG132: =IF(N132="zákl. přenesená",J132,0) -> 0 | BH132: =IF(N132="sníž. přenesená",J132,0) -> 0 | BI132: =IF(N132="nulová",J132,0) -> 0 | BJ132: 1 | BK132: =ROUND(I132*H132,2) -> 0 | BL132: 4 | BM132: -1794216987
C133: 29 | D133: K | E133: 181411132 | F133: Založení parkového trávníku výsevem plochy do 1000 m2 ve svahu do 1:2 | G133: m2 | H133: 170 | J133: =ROUND(I133*H133,2) -> 0 | N133: základní | P133: =O133*H133 -> 0 | Q133: 0 | R133: =Q133*H133 -> 0 | S133: 0 | T133: =S133*H133 -> 0 | AR133: 4 | AT133: K | AU133: 2 | AY133: ROZPOCET | BE133: =IF(N133="základní",J133,0) -> 0 | BF133: =IF(N133="snížená",J133,0) -> 0 | BG133: =IF(N133="zákl. přenesená",J133,0) -> 0 | BH133: =IF(N133="sníž. přenesená",J133,0) -> 0 | BI133: =IF(N133="nulová",J133,0) -> 0 | BJ133: 1 | BK133: =ROUND(I133*H133,2) -> 0 | BL133: 4 | BM133: 1957240019
C134: 30 | D134: M | E134: 005724100 | F134: osivo směs travní parková | G134: kg | H134: 2.55 | J134: =ROUND(I134*H134,2) -> 0 | N134: základní | P134: =O134*H134 -> 0 | Q134: 0.001 | R134: =Q134*H134 -> 0.00255 | S134: 0 | T134: =S134*H134 -> 0 | AR134: 8 | AT134: M | AU134: 2 | AY134: ROZPOCET | BE134: =IF(N134="základní",J134,0) -> 0 | BF134: =IF(N134="snížená",J134,0) -> 0 | BG134: =IF(N134="zákl. přenesená",J134,0) -> 0 | BH134: =IF(N134="sníž. přenesená",J134,0) -> 0 | BI134: =IF(N134="nulová",J134,0) -> 0 | BJ134: 1 | BK134: =ROUND(I134*H134,2) -> 0 | BL134: 4 | BM134: -1902396799
C135: 31 | D135: K | E135: 182301123 | F135: Rozprostření ornice pl do 500 m2 ve svahu přes 1:5 tl vrstvy do 200 mm | G135: m2 | H135: 170 | J135: =ROUND(I135*H135,2) -> 0 | N135: základní | P135: =O135*H135 -> 0 | Q135: 0 | R135: =Q135*H135 -> 0 | S135: 0 | T135: =S135*H135 -> 0 | AR135: 4 | AT135: K | AU135: 2 | AY135: ROZPOCET | BE135: =IF(N135="základní",J135,0) -> 0 | BF135: =IF(N135="snížená",J135,0) -> 0 | BG135: =IF(N135="zákl. přenesená",J135,0) -> 0 | BH135: =IF(N135="sníž. přenesená",J135,0) -> 0 | BI135: =IF(N135="nulová",J135,0) -> 0 | BJ135: 1 | BK135: =ROUND(I135*H135,2) -> 0 | BL135: 4 | BM135: -893243027
C136: 32 | D136: K | E136: 185803112 | F136: Ošetření trávníku shrabáním ve svahu do 1:2 | G136: m2 | H136: 170 | J136: =ROUND(I136*H136,2) -> 0 | N136: základní | P136: =O136*H136 -> 0 | Q136: 0 | R136: =Q136*H136 -> 0 | S136: 0 | T136: =S136*H136 -> 0 | AR136: 4 | AT136: K | AU136: 2 | AY136: ROZPOCET | BE136: =IF(N136="základní",J136,0) -> 0 | BF136: =IF(N136="snížená",J136,0) -> 0 | BG136: =IF(N136="zákl. přenesená",J136,0) -> 0 | BH136: =IF(N136="sníž. přenesená",J136,0) -> 0 | BI136: =IF(N136="nulová",J136,0) -> 0 | BJ136: 1 | BK136: =ROUND(I136*H136,2) -> 0 | BL136: 4 | BM136: 262550891
C137: 33 | D137: K | E137: 185851121 | F137: Dovoz vody pro zálivku rostlin za vzdálenost do 1000 m | G137: m3 | H137: 0.51 | J137: =ROUND(I137*H137,2) -> 0 | N137: základní | P137: =O137*H137 -> 0 | Q137: 0 | R137: =Q137*H137 -> 0 | S137: 0 | T137: =S137*H137 -> 0 | AR137: 4 | AT137: K | AU137: 2 | AY137: ROZPOCET | BE137: =IF(N137="základní",J137,0) -> 0 | BF137: =IF(N137="snížená",J137,0) -> 0 | BG137: =IF(N137="zákl. přenesená",J137,0) -> 0 | BH137: =IF(N137="sníž. přenesená",J137,0) -> 0 | BI137: =IF(N137="nulová",J137,0) -> 0 | BJ137: 1 | BK137: =ROUND(I137*H137,2) -> 0 | BL137: 4 | BM137: -1323874469
C138: 34 | D138: K | E138: 185851129 | F138: Příplatek k dovozu vody pro zálivku rostlin do 1000 m ZKD 1000 m | G138: m3 | H138: 4.59 | J138: =ROUND(I138*H138,2) -> 0 | N138: základní | P138: =O138*H138 -> 0 | Q138: 0 | R138: =Q138*H138 -> 0 | S138: 0 | T138: =S138*H138 -> 0 | AR138: 4 | AT138: K | AU138: 2 | AY138: ROZPOCET | BE138: =IF(N138="základní",J138,0) -> 0 | BF138: =IF(N138="snížená",J138,0) -> 0 | BG138: =IF(N138="zákl. přenesená",J138,0) -> 0 | BH138: =IF(N138="sníž. přenesená",J138,0) -> 0 | BI138: =IF(N138="nulová",J138,0) -> 0 | BJ138: 1 | BK138: =ROUND(I138*H138,2) -> 0 | BL138: 4 | BM138: 1464903006
D139: D | E139: 2 | F139: Zakládání | J139: =BK139 -> 0 | P139: =SUM(P140:P158) -> 0 | R139: =SUM(R140:R158) -> 0.1516747 | T139: =SUM(T140:T158) -> 0 | AR139: 1 | AT139: D | AU139: 1 | AY139: ROZPOCET | BK139: =SUM(BK140:BK158) -> 0
C140: 35 | D140: K | E140: 212341111 | F140: Obetonování drenážních trub mezerovitým betonem | G140: m3 | H140: 2.624 | J140: =ROUND(I140*H140,2) -> 0 | N140: základní | P140: =O140*H140 -> 0 | Q140: 0 | R140: =Q140*H140 -> 0 | S140: 0 | T140: =S140*H140 -> 0 | AR140: 4 | AT140: K | AU140: 2 | AY140: ROZPOCET | BE140: =IF(N140="základní",J140,0) -> 0 | BF140: =IF(N140="snížená",J140,0) -> 0 | BG140: =IF(N140="zákl. přenesená",J140,0) -> 0 | BH140: =IF(N140="sníž. přenesená",J140,0) -> 0 | BI140: =IF(N140="nulová",J140,0) -> 0 | BJ140: 1 | BK140: =ROUND(I140*H140,2) -> 0 | BL140: 4 | BM140: 1415969939
C141: 36 | D141: K | E141: 212755216 | F141: Trativody z drenážních trubek plastových flexibilních D 160 mm bez lože | G141: m | H141: 17 | J141: =ROUND(I141*H141,2) -> 0 | N141: základní | P141: =O141*H141 -> 0 | Q141: 0.00116 | R141: =Q141*H141 -> 0.01972 | S141: 0 | T141: =S141*H141 -> 0 | AR141: 4 | AT141: K | AU141: 2 | AY141: ROZPOCET | BE141: =IF(N141="základní",J141,0) -> 0 | BF141: =IF(N141="snížená",J141,0) -> 0 | BG141: =IF(N141="zákl. přenesená",J141,0) -> 0 | BH141: =IF(N141="sníž. přenesená",J141,0) -> 0 | BI141: =IF(N141="nulová",J141,0) -> 0 | BJ141: 1 | BK141: =ROUND(I141*H141,2) -> 0 | BL141: 4 | BM141: -1786906900
C142: 37 | D142: K | E142: 213141131 | F142: Zřízení vrstvy z geotextilie ve sklonu do 1:1 š do 3 m | G142: m2 | H142: 5.247 | J142: =ROUND(I142*H142,2) -> 0 | N142: základní | P142: =O142*H142 -> 0 | Q142: 0.0001 | R142: =Q142*H142 -> 0.0005247 | S142: 0 | T142: =S142*H142 -> 0 | AR142: 4 | AT142: K | AU142: 2 | AY142: ROZPOCET | BE142: =IF(N142="základní",J142,0) -> 0 | BF142: =IF(N142="snížená",J142,0) -> 0 | BG142: =IF(N142="zákl. přenesená",J142,0) -> 0 | BH142: =IF(N142="sníž. přenesená",J142,0) -> 0 | BI142: =IF(N142="nulová",J142,0) -> 0 | BJ142: 1 | BK142: =ROUND(I142*H142,2) -> 0 | BL142: 4 | BM142: -78037364
C143: 38 | D143: K | E143: 221211115 | F143: Vrty přenosnými kladivy D do 56 mm úklon do 90° hl do 10 m hor. V | G143: m | H143: 245 | J143: =ROUND(I143*H143,2) -> 0 | N143: základní | P143: =O143*H143 -> 0 | Q143: 0.00014 | R143: =Q143*H143 -> 0.0343 | S143: 0 | T143: =S143*H143 -> 0 | AR143: 4 | AT143: K | AU143: 2 | AY143: ROZPOCET | BE143: =IF(N143="základní",J143,0) -> 0 | BF143: =IF(N143="snížená",J143,0) -> 0 | BG143: =IF(N143="zákl. přenesená",J143,0) -> 0 | BH143: =IF(N143="sníž. přenesená",J143,0) -> 0 | BI143: =IF(N143="nulová",J143,0) -> 0 | BJ143: 1 | BK143: =ROUND(I143*H143,2) -> 0 | BL143: 4 | BM143: -1654867703
C144: 39 | D144: K | E144: 221211116 | F144: Vrty přenosnými kladivy D do 56 mm úklon do 90° hl do 10 m hor. VI | G144: m | H144: 25.8 | J144: =ROUND(I144*H144,2) -> 0 | N144: základní | P144: =O144*H144 -> 0 | Q144: 0.0002 | R144: =Q144*H144 -> 0.00516 | S144: 0 | T144: =S144*H144 -> 0 | AR144: 4 | AT144: K | AU144: 2 | AY144: ROZPOCET | BE144: =IF(N144="základní",J144,0) -> 0 | BF144: =IF(N144="snížená",J144,0) -> 0 | BG144: =IF(N144="zákl. přenesená",J144,0) -> 0 | BH144: =IF(N144="sníž. přenesená",J144,0) -> 0 | BI144: =IF(N144="nulová",J144,0) -> 0 | BJ144: 1 | BK144: =ROUND(I144*H144,2) -> 0 | BL144: 4 | BM144: -931873397
C145: 40 | D145: K | E145: 226111111 | F145: Vrty velkoprofilové svislé nezapažené D do 450 mm hl do 5 m hor. I | G145: m | H145: 9 | J145: =ROUND(I145*H145,2) -> 0 | N145: základní | P145: =O145*H145 -> 0 | Q145: 3e-05 | R145: =Q145*H145 -> 0.00027 | S145: 0 | T145: =S145*H145 -> 0 | AR145: 4 | AT145: K | AU145: 2 | AY145: ROZPOCET | BE145: =IF(N145="základní",J145,0) -> 0 | BF145: =IF(N145="snížená",J145,0) -> 0 | BG145: =IF(N145="zákl. přenesená",J145,0) -> 0 | BH145: =IF(N145="sníž. přenesená",J145,0) -> 0 | BI145: =IF(N145="nulová",J145,0) -> 0 | BJ145: 1 | BK145: =ROUND(I145*H145,2) -> 0 | BL145: 4 | BM145: 637001923
...
