Workbook

Sheet Rekapitulace stavby
A1: Export Komplet | BA1: 2.0 | BB1: ZAMOK | BT1: False | BU1: False | BV1: {1b1a9a79-adbc-43ca-b18b-86fcf20b624f}
BS2: 0,01 | BT2: 21
BS3: 0,01 | BT3: 15
D4: REKAPITULACE STAVBY | AS4: v --- níže se nacházejí doplnkové a pomocné údaje k sestavám --- v | BE4: Návod na vyplnění | BS4: 0,001
D5: Kód: | K5: 2019_01 | BE5: Měnit lze pouze buňky se žlutým podbarvením!_x000D_ _x000D_ 1) na prvním listu Rekapitulace stavby vyplňte v sestavě_x000D_ _x000D_ a) Souhrnný list_x000D_ - údaje o Zhotoviteli_x000D_ (přenesou se do ostatních sestav i v jiných listech)_x000D_ _x000D_ b) Rekapitulace objektů_x000D_ - potřebné Ostatní náklady_x000D_ _x000D_ 2) na vybraných listech vyplňte v sestavě_x000D_ _x000D_ a) Krycí list_x000D_ - údaje o Zhotoviteli, pokud se liší od údajů o Zhotoviteli na Souhrnném listu_x000D_ (údaje se přenesou do ostatních sestav v daném listu)_x000D_ _x000D_ b) Rekapitulace rozpočtu_x000D_ - potřebné Ostatní náklady_x000D_ _x000D_ c) Celkové náklady za stavbu_x000D_ - ceny u položek_x000D_ - množství, pokud má žluté podbarvení_x000D_ - a v případě potřeby poznámku (ta je ve skrytém sloupci) | BS5: 0,01
D6: Stavba: | K6: Oprava mostu v km 70,905 na trati Olomouc – Nezamyslice | BS6: 0,01
D7: KSO: | K7: 824 21 | AK7: CC-CZ: | BS7: 0,01
D8: Místo: | AK8: Datum: | BS8: 0,01
BS9: 0,01
D10: Zadavatel: | AK10: IČ: | BS10: 0,01
E11: SŽDC s.o., OŘ Olomouc | AK11: DIČ: | BS11: 0,01
BS12: 0,01
D13: Uchazeč: | AK13: IČ: | AN13: Vyplň údaj | BS13: 0,01
E14: Vyplň údaj | AK14: DIČ: | AN14: Vyplň údaj | BS14: 0,01
BS15: False
D16: Projektant: | AK16: IČ: | BS16: False
AK17: DIČ: | BS17: True
BS18: 0,01
D19: Zpracovatel: | AK19: IČ: | BS19: 0,01
E20: Ing. Renata Jandová | AK20: DIČ: | BS20: True
D22: Poznámka:
D26: Cena bez DPH | AK26: =ROUND(AG54,2) -> 0
L28: Sazba daně | W28: Základ daně | AK28: Výše daně
D29: DPH | F29: základní | L29: 0.21 | W29: =ROUND(AZ54, 2) -> 0 | AK29: =ROUND(AV54, 2) -> 0
F30: snížená | L30: 0.15 | W30: =ROUND(BA54, 2) -> 0 | AK30: =ROUND(AW54, 2) -> 0
F31: zákl. přenesená | L31: 0.21 | W31: =ROUND(BB54, 2) -> 0 | AK31: 0
F32: sníž. přenesená | L32: 0.15 | W32: =ROUND(BC54, 2) -> 0 | AK32: 0
F33: nulová | L33: 0 | W33: =ROUND(BD54, 2) -> 0 | AK33: 0
D35: Cena s DPH | T35: v | X35: CZK | AK35: =SUM(AK26:AK33) -> 0
C42: REKAPITULACE OBJEKTŮ STAVBY A SOUPISŮ PRACÍ
C44: Kód: | L44: =K5 -> 2019_01
C45: Stavba: | L45: =K6 -> Oprava mostu v km 70,905 na trati Olomouc – Nezamyslice
C47: Místo: | L47: =IF(K8="","",K8) | AI47: Datum: | AM47: =IF(AN8= "","",AN8)
C49: Zadavatel: | L49: =IF(E11= "","",E11) -> SŽDC s.o., OŘ Olomouc | AI49: Projektant: | AM49: =IF(E17="","",E17) | AS49: Informatívní údaje z listů zakázek
C50: Uchazeč: | L50: =IF(E14= "Vyplň údaj","",E14) | AI50: Zpracovatel: | AM50: =IF(E20="","",E20) -> Ing. Renata Jandová
C52: Kód | I52: Popis | AG52: Cena bez DPH [CZK] | AN52: Cena s DPH [CZK] | AQ52: Typ | AS52: z toho Ostat._x000D_ náklady [CZK] | AT52: DPH [CZK] | AU52: Normohodiny [h] | AV52: DPH základní [CZK] | AW52: DPH snížená [CZK] | AX52: DPH základní přenesená_x000D_ [CZK] | AY52: DPH snížená přenesená_x000D_ [CZK] | AZ52: Základna_x000D_ DPH základní | BA52: Základna_x000D_ DPH snížená | BB52: Základna_x000D_ DPH zákl. přenesená | BC52: Základna_x000D_ DPH sníž. přenesená | BD52: Základna_x000D_ DPH nulová
C54: Náklady z rozpočtů | AG54: =ROUND(SUM(AG55:AG56),2) -> 0 | AN54: =SUM(AG54,AT54) -> 0 | AS54: =ROUND(SUM(AS55:AS56),2) -> 0 | AT54: =ROUND(SUM(AV54:AW54),2) -> 0 | AU54: =ROUND(SUM(AU55:AU56),5) -> 0 | AV54: =ROUND(AZ54*L29,2) -> 0 | AW54: =ROUND(BA54*L30,2) -> 0 | AX54: =ROUND(BB54*L29,2) -> 0 | AY54: =ROUND(BC54*L30,2) -> 0 | AZ54: =ROUND(SUM(AZ55:AZ56),2) -> 0 | BA54: =ROUND(SUM(BA55:BA56),2) -> 0 | BB54: =ROUND(SUM(BB55:BB56),2) -> 0 | BC54: =ROUND(SUM(BC55:BC56),2) -> 0 | BD54: =ROUND(SUM(BD55:BD56),2) -> 0 | BS54: D | BT54: 0 | BU54: ###NOIMPORT### | BV54: IMPORT | BW54: {1b1a9a79-adbc-43ca-b18b-86fcf20b624f} | BX54: {00000000-0000-0000-0000-000000000000} | CL54: 824 21
A55: / | D55: SO 01 | J55: Žel. svršek v okolí mostu v km 70,905 | AG55: ='SO 01 - Žel. svršek v oko...'!J30 -> 0 | AN55: =SUM(AG55,AT55) -> 0 | AQ55: STA | AS55: 0 | AT55: =ROUND(SUM(AV55:AW55),2) -> 0 | AU55: ='SO 01 - Žel. svršek v oko...'!P84 -> 0 | AV55: ='SO 01 - Žel. svršek v oko...'!J33 -> 0 | AW55: ='SO 01 - Žel. svršek v oko...'!J34 -> 0 | AX55: ='SO 01 - Žel. svršek v oko...'!J35 -> 0 | AY55: ='SO 01 - Žel. svršek v oko...'!J36 -> 0 | AZ55: ='SO 01 - Žel. svršek v oko...'!F33 -> 0 | BA55: ='SO 01 - Žel. svršek v oko...'!F34 -> 0 | BB55: ='SO 01 - Žel. svršek v oko...'!F35 -> 0 | BC55: ='SO 01 - Žel. svršek v oko...'!F36 -> 0 | BD55: ='SO 01 - Žel. svršek v oko...'!F37 -> 0 | BT55: 1 | BV55: IMPORT | BW55: {cf9659f5-c4b3-43fe-8d1f-c545ece5e8d8} | BX55: {1b1a9a79-adbc-43ca-b18b-86fcf20b624f} | CL55: 824 21 | CM55: 2
A56: / | D56: SO 02 | J56: Oprava mostu v km 70,905 | AG56: ='SO 02 - Oprava mostu v km...'!J30 -> 0 | AN56: =SUM(AG56,AT56) -> 0 | AQ56: ING | AS56: 0 | AT56: =ROUND(SUM(AV56:AW56),2) -> 0 | AU56: ='SO 02 - Oprava mostu v km...'!P101 -> 0 | AV56: ='SO 02 - Oprava mostu v km...'!J33 -> 0 | AW56: ='SO 02 - Oprava mostu v km...'!J34 -> 0 | AX56: ='SO 02 - Oprava mostu v km...'!J35 -> 0 | AY56: ='SO 02 - Oprava mostu v km...'!J36 -> 0 | AZ56: ='SO 02 - Oprava mostu v km...'!F33 -> 0 | BA56: ='SO 02 - Oprava mostu v km...'!F34 -> 0 | BB56: ='SO 02 - Oprava mostu v km...'!F35 -> 0 | BC56: ='SO 02 - Oprava mostu v km...'!F36 -> 0 | BD56: ='SO 02 - Oprava mostu v km...'!F37 -> 0 | BT56: 1 | BV56: IMPORT | BW56: {95fd36bc-951d-4dad-a44a-99914b223e31} | BX56: {1b1a9a79-adbc-43ca-b18b-86fcf20b624f} | CM56: 2

Sheet SO 01 - Žel. svršek v oko...
AT2: {cf9659f5-c4b3-43fe-8d1f-c545ece5e8d8}
AT3: 2
D4: KRYCÍ LIST SOUPISU PRACÍ | M4: v --- níže se nacházejí doplnkové a pomocné údaje k sestavám --- v | AT4: False
D6: Stavba:
E7: ='Rekapitulace stavby'!K6 -> Oprava mostu v km 70,905 na trati Olomouc – Nezamyslice
D8: Objekt:
E9: SO 01 - Žel. svršek v okolí mostu v km 70,905
D11: KSO: | F11: 824 21 | I11: CC-CZ:
D12: Místo: | I12: Datum: | J12: ='Rekapitulace stavby'!AN8 -> 0
D14: Zadavatel: | I14: IČ:
I15: DIČ:
D17: Uchazeč: | I17: IČ: | J17: ='Rekapitulace stavby'!AN13 -> Vyplň údaj
E18: ='Rekapitulace stavby'!E14 -> Vyplň údaj | I18: DIČ: | J18: ='Rekapitulace stavby'!AN14 -> Vyplň údaj
D20: Projektant: | I20: IČ:
I21: DIČ:
D23: Zpracovatel: | I23: IČ:
E24: Ing. Renata Jandová | I24: DIČ:
D26: Poznámka:
D30: Cena bez DPH | J30: =ROUND(J84, 2) -> 0
F32: Základ daně | I32: Sazba daně | J32: Výše daně
D33: DPH | E33: základní | F33: =ROUND((SUM(BE84:BE114)), 2) -> 0 | I33: 0.21 | J33: =ROUND(((SUM(BE84:BE114))*I33), 2) -> 0
E34: snížená | F34: =ROUND((SUM(BF84:BF114)), 2) -> 0 | I34: 0.15 | J34: =ROUND(((SUM(BF84:BF114))*I34), 2) -> 0
E35: zákl. přenesená | F35: =ROUND((SUM(BG84:BG114)), 2) -> 0 | I35: 0.21 | J35: =0 -> 0
E36: sníž. přenesená | F36: =ROUND((SUM(BH84:BH114)), 2) -> 0 | I36: 0.15 | J36: =0 -> 0
E37: nulová | F37: =ROUND((SUM(BI84:BI114)), 2) -> 0 | I37: 0 | J37: =0 -> 0
D39: Cena s DPH | G39: v | H39: CZK | J39: =SUM(J30:J37) -> 0
C45: REKAPITULACE ČLENĚNÍ SOUPISU PRACÍ
C47: Stavba:
E48: =E7 -> Oprava mostu v km 70,905 na trati Olomouc – Nezamyslice
C49: Objekt:
E50: =E9 -> SO 01 - Žel. svršek v okolí mostu v km 70,905
C52: Místo: | F52: =F12 | I52: Datum: | J52: =IF(J12="","",J12) -> 0
C54: Zadavatel: | F54: =E15 | I54: Projektant: | J54: =E21
C55: Uchazeč: | F55: =IF(E18="","",E18) -> Vyplň údaj | I55: Zpracovatel: | J55: =E24 -> Ing. Renata Jandová
C57: Kód dílu - Popis | J57: Cena celkem [CZK]
C59: Náklady ze soupisu prací | J59: =J84 -> 0 | AU59: -1
D60: HSV - Práce a dodávky HSV | J60: =J85 -> 0
D61: 5 - Komunikace | J61: =J86 -> 0
D62: 997 - Přesun sutě | J62: =J108 -> 0
D63: 998 - Přesun hmot | J63: =J111 -> 0
...

Sheet SO 02 - Oprava mostu v km...
AT2: {95fd36bc-951d-4dad-a44a-99914b223e31}
AT3: 2
D4: KRYCÍ LIST SOUPISU PRACÍ | M4: v --- níže se nacházejí doplnkové a pomocné údaje k sestavám --- v | AT4: False
D6: Stavba:
E7: ='Rekapitulace stavby'!K6 -> Oprava mostu v km 70,905 na trati Olomouc – Nezamyslice
D8: Objekt:
E9: SO 02 - Oprava mostu v km 70,905
D11: KSO: | I11: CC-CZ:
D12: Místo: | I12: Datum: | J12: ='Rekapitulace stavby'!AN8 -> 0
D14: Zadavatel: | I14: IČ: | J14: =IF('Rekapitulace stavby'!AN10="","",'Rekapitulace stavby'!AN10)
E15: =IF('Rekapitulace stavby'!E11="","",'Rekapitulace stavby'!E11) -> SŽDC s.o., OŘ Olomouc | I15: DIČ: | J15: =IF('Rekapitulace stavby'!AN11="","",'Rekapitulace stavby'!AN11)
D17: Uchazeč: | I17: IČ: | J17: ='Rekapitulace stavby'!AN13 -> Vyplň údaj
E18: ='Rekapitulace stavby'!E14 -> Vyplň údaj | I18: DIČ: | J18: ='Rekapitulace stavby'!AN14 -> Vyplň údaj
D20: Projektant: | I20: IČ: | J20: =IF('Rekapitulace stavby'!AN16="","",'Rekapitulace stavby'!AN16)
E21: =IF('Rekapitulace stavby'!E17="","",'Rekapitulace stavby'!E17) | I21: DIČ: | J21: =IF('Rekapitulace stavby'!AN17="","",'Rekapitulace stavby'!AN17)
D23: Zpracovatel: | I23: IČ: | J23: =IF('Rekapitulace stavby'!AN19="","",'Rekapitulace stavby'!AN19)
E24: =IF('Rekapitulace stavby'!E20="","",'Rekapitulace stavby'!E20) -> Ing. Renata Jandová | I24: DIČ: | J24: =IF('Rekapitulace stavby'!AN20="","",'Rekapitulace stavby'!AN20)
D26: Poznámka:
D30: Cena bez DPH | J30: =ROUND(J101, 2) -> 0
F32: Základ daně | I32: Sazba daně | J32: Výše daně
D33: DPH | E33: základní | F33: =ROUND((SUM(BE101:BE316)), 2) -> 0 | I33: 0.21 | J33: =ROUND(((SUM(BE101:BE316))*I33), 2) -> 0
E34: snížená | F34: =ROUND((SUM(BF101:BF316)), 2) -> 0 | I34: 0.15 | J34: =ROUND(((SUM(BF101:BF316))*I34), 2) -> 0
E35: zákl. přenesená | F35: =ROUND((SUM(BG101:BG316)), 2) -> 0 | I35: 0.21 | J35: =0 -> 0
E36: sníž. přenesená | F36: =ROUND((SUM(BH101:BH316)), 2) -> 0 | I36: 0.15 | J36: =0 -> 0
E37: nulová | F37: =ROUND((SUM(BI101:BI316)), 2) -> 0 | I37: 0 | J37: =0 -> 0
D39: Cena s DPH | G39: v | H39: CZK | J39: =SUM(J30:J37) -> 0
C45: REKAPITULACE ČLENĚNÍ SOUPISU PRACÍ
C47: Stavba:
E48: =E7 -> Oprava mostu v km 70,905 na trati Olomouc – Nezamyslice
C49: Objekt:
E50: =E9 -> SO 02 - Oprava mostu v km 70,905
C52: Místo: | F52: =F12 | I52: Datum: | J52: =IF(J12="","",J12) -> 0
C54: Zadavatel: | F54: =E15 -> SŽDC s.o., OŘ Olomouc | I54: Projektant: | J54: =E21
C55: Uchazeč: | F55: =IF(E18="","",E18) -> Vyplň údaj | I55: Zpracovatel: | J55: =E24 -> Ing. Renata Jandová
C57: Kód dílu - Popis | J57: Cena celkem [CZK]
C59: Náklady ze soupisu prací | J59: =J101 -> 0 | AU59: -1
D60: HSV - Práce a dodávky HSV | J60: =J102 -> 0
D61: 1 - Zemní práce | J61: =J103 -> 0
D62: 2 - Zakládání | J62: =J139 -> 0
D63: 3 - Svislé a kompletní konstrukce | J63: =J159 -> 0
...
