Workbook

Sheet Rekapitulace stavby
A1: Export Komplet | AZ1: VZ | BA1: 2.0 | BB1: ZAMOK | BT1: False | BU1: False | BV1: {752a2e65-7142-498e-88c1-bfafe67676fd}
BS2: 0,01 | BT2: 21
BS3: 0,01 | BT3: 15
D4: REKAPITULACE STAVBY | AS4: v --- níže se nacházejí doplnkové a pomocné údaje k sestavám --- v | BE4: Návod na vyplnění | BS4: 0,001
D5: Kód: | K5: 2020/119 | BE5: Měnit lze pouze buňky se žlutým podbarvením!_x000D_ _x000D_ 1) v Rekapitulaci stavby vyplňte údaje o Uchazeči (přenesou se do ostatních sestav i v jiných listech)_x000D_ _x000D_ 2) na vybraných listech vyplňte v sestavě Soupis prací ceny u položek | BS5: 0,01
D6: Stavba: | K6: Opravy bytových jednotek OŘ Brno - VB ŽST Rousínov č.p.788 | BS6: 0,01
D7: KSO: | AK7: CC-CZ: | BS7: 0,01
D8: Místo: | K8: Rousínov | AK8: Datum: | AN8: 24. 8. 2020 | BS8: 0,01
BS9: 0,01
D10: Zadavatel: | AK10: IČ: | AN10: 70994234 | BS10: 0,01
E11: Správa železniční dopravní cesty | AK11: DIČ: | AN11: CZ70994234 | BS11: 0,01
BS12: 0,01
D13: Uchazeč: | AK13: IČ: | AN13: Vyplň údaj | BS13: 0,01
E14: Vyplň údaj | AK14: DIČ: | AN14: Vyplň údaj | BS14: 0,01
BS15: False
D16: Projektant: | AK16: IČ: | AN16: 27245918 | BS16: False
E17: APREA s.r.o. | AK17: DIČ: | AN17: CZ27245918 | BS17: True
BS18: 0,01
D19: Zpracovatel: | AK19: IČ: | BS19: 0,01
AK20: DIČ: | BS20: False
D22: Poznámka:
E23: Soupis prací je sestaven s využitím Cenové soustavy ÚRS. Položky, které pochází z této cenové soustavy, jsou ve sloupci 'Cenová soustava' označeny popisem 'CS ÚRS' a úrovní příslušného kalendářního pololetí. Veškeré další informace vymezující popis a podmínky použití těchto položek z Cenové soustavy, které nejsou uvedeny přímo v soupisu prací, jsou neomezeně dálkově k dispozici na https://podminky.urs.cz.
D26: Cena bez DPH | AK26: =ROUND(AG54,2) -> 0
L28: Sazba daně | W28: Základ daně | AK28: Výše daně
D29: DPH | F29: základní | L29: 0.21 | W29: =ROUND(AZ54, 2) -> 0 | AK29: =ROUND(AV54, 2) -> 0
F30: snížená | L30: 0.15 | W30: =ROUND(BA54, 2) -> 0 | AK30: =ROUND(AW54, 2) -> 0
F31: zákl. přenesená | L31: 0.21 | W31: =ROUND(BB54, 2) -> 0 | AK31: 0
F32: sníž. přenesená | L32: 0.15 | W32: =ROUND(BC54, 2) -> 0 | AK32: 0
F33: nulová | L33: 0 | W33: =ROUND(BD54, 2) -> 0 | AK33: 0
D35: Cena s DPH | T35: v | X35: CZK | AK35: =SUM(AK26:AK33) -> 0
C42: REKAPITULACE OBJEKTŮ STAVBY A SOUPISŮ PRACÍ
C44: Kód: | L44: =K5 -> 2020/119
C45: Stavba: | L45: =K6 -> Opravy bytových jednotek OŘ Brno - VB ŽST Rousínov č.p.788
C47: Místo: | L47: =IF(K8="","",K8) -> Rousínov | AI47: Datum: | AM47: =IF(AN8= "","",AN8) -> 24. 8. 2020
C49: Zadavatel: | L49: =IF(E11= "","",E11) -> Správa železniční dopravní cesty | AI49: Projektant: | AM49: =IF(E17="","",E17) -> APREA s.r.o. | AS49: Informatívní údaje z listů zakázek
C50: Uchazeč: | L50: =IF(E14= "Vyplň údaj","",E14) | AI50: Zpracovatel: | AM50: =IF(E20="","",E20)
C52: Kód | I52: Popis | AG52: Cena bez DPH [CZK] | AN52: Cena s DPH [CZK] | AQ52: Typ | AS52: z toho Ostat._x000D_ náklady [CZK] | AT52: DPH [CZK] | AU52: Normohodiny [h] | AV52: DPH základní [CZK] | AW52: DPH snížená [CZK] | AX52: DPH základní přenesená_x000D_ [CZK] | AY52: DPH snížená přenesená_x000D_ [CZK] | AZ52: Základna_x000D_ DPH základní | BA52: Základna_x000D_ DPH snížená | BB52: Základna_x000D_ DPH zákl. přenesená | BC52: Základna_x000D_ DPH sníž. přenesená | BD52: Základna_x000D_ DPH nulová
C54: Náklady stavby celkem | AG54: =ROUND(AG55,2) -> 0 | AN54: =SUM(AG54,AT54) -> 0 | AS54: =ROUND(AS55,2) -> 0 | AT54: =ROUND(SUM(AV54:AW54),2) -> 0 | AU54: =ROUND(AU55,5) -> 0 | AV54: =ROUND(AZ54*L29,2) -> 0 | AW54: =ROUND(BA54*L30,2) -> 0 | AX54: =ROUND(BB54*L29,2) -> 0 | AY54: =ROUND(BC54*L30,2) -> 0 | AZ54: =ROUND(AZ55,2) -> 0 | BA54: =ROUND(BA55,2) -> 0 | BB54: =ROUND(BB55,2) -> 0 | BC54: =ROUND(BC55,2) -> 0 | BD54: =ROUND(BD55,2) -> 0 | BS54: D | BT54: 0 | BU54: ###NOIMPORT### | BV54: IMPORT | BW54: {752a2e65-7142-498e-88c1-bfafe67676fd} | BX54: {00000000-0000-0000-0000-000000000000}
D55: E.2 | J55: Pozemní a stavební objekty | AG55: =ROUND(SUM(AG56:AG61),2) -> 0 | AN55: =SUM(AG55,AT55) -> 0 | AQ55: STA | AS55: =ROUND(SUM(AS56:AS61),2) -> 0 | AT55: =ROUND(SUM(AV55:AW55),2) -> 0 | AU55: =ROUND(SUM(AU56:AU61),5) -> 0 | AV55: =ROUND(AZ55*L29,2) -> 0 | AW55: =ROUND(BA55*L30,2) -> 0 | AX55: =ROUND(BB55*L29,2) -> 0 | AY55: =ROUND(BC55*L30,2) -> 0 | AZ55: =ROUND(SUM(AZ56:AZ61),2) -> 0 | BA55: =ROUND(SUM(BA56:BA61),2) -> 0 | BB55: =ROUND(SUM(BB56:BB61),2) -> 0 | BC55: =ROUND(SUM(BC56:BC61),2) -> 0 | BD55: =ROUND(SUM(BD56:BD61),2) -> 0 | BS55: D | BT55: 1 | BU55: ###NOIMPORT### | BV55: IMPORT | BW55: {92774054-bef4-42b4-9cc3-cfed849f7ae4} | BX55: {752a2e65-7142-498e-88c1-bfafe67676fd} | CM55: 1
A56: / | E56: SO 01 | K56: Stavební část | AG56: ='SO 01 - Stavební část'!J32 -> 0 | AN56: =SUM(AG56,AT56) -> 0 | AQ56: Soupis | AS56: 0 | AT56: =ROUND(SUM(AV56:AW56),2) -> 0 | AU56: ='SO 01 - Stavební část'!P106 -> 0 | AV56: ='SO 01 - Stavební část'!J35 -> 0 | AW56: ='SO 01 - Stavební část'!J36 -> 0 | AX56: ='SO 01 - Stavební část'!J37 -> 0 | AY56: ='SO 01 - Stavební část'!J38 -> 0 | AZ56: ='SO 01 - Stavební část'!F35 -> 0 | BA56: ='SO 01 - Stavební část'!F36 -> 0 | BB56: ='SO 01 - Stavební část'!F37 -> 0 | BC56: ='SO 01 - Stavební část'!F38 -> 0 | BD56: ='SO 01 - Stavební část'!F39 -> 0 | BT56: 2 | BV56: IMPORT | BW56: {baf353a4-0bad-47f4-8095-937fbfc3d72c} | BX56: {92774054-bef4-42b4-9cc3-cfed849f7ae4}
A57: / | E57: SO 02 | K57: Zdravotechnika | AG57: ='SO 02 - Zdravotechnika'!J32 -> 0 | AN57: =SUM(AG57,AT57) -> 0 | AQ57: Soupis | AS57: 0 | AT57: =ROUND(SUM(AV57:AW57),2) -> 0 | AU57: ='SO 02 - Zdravotechnika'!P99 -> 0 | AV57: ='SO 02 - Zdravotechnika'!J35 -> 0 | AW57: ='SO 02 - Zdravotechnika'!J36 -> 0 | AX57: ='SO 02 - Zdravotechnika'!J37 -> 0 | AY57: ='SO 02 - Zdravotechnika'!J38 -> 0 | AZ57: ='SO 02 - Zdravotechnika'!F35 -> 0 | BA57: ='SO 02 - Zdravotechnika'!F36 -> 0 | BB57: ='SO 02 - Zdravotechnika'!F37 -> 0 | BC57: ='SO 02 - Zdravotechnika'!F38 -> 0 | BD57: ='SO 02 - Zdravotechnika'!F39 -> 0 | BT57: 2 | BV57: IMPORT | BW57: {cb4c193c-83f1-4a64-8978-ccd2a30e9919} | BX57: {92774054-bef4-42b4-9cc3-cfed849f7ae4}
A58: / | E58: SO 03 | K58: Ústřední vytápění | AG58: ='SO 03 - Ústřední vytápění'!J32 -> 0 | AN58: =SUM(AG58,AT58) -> 0 | AQ58: Soupis | AS58: 0 | AT58: =ROUND(SUM(AV58:AW58),2) -> 0 | AU58: ='SO 03 - Ústřední vytápění'!P91 -> 0 | AV58: ='SO 03 - Ústřední vytápění'!J35 -> 0 | AW58: ='SO 03 - Ústřední vytápění'!J36 -> 0 | AX58: ='SO 03 - Ústřední vytápění'!J37 -> 0 | AY58: ='SO 03 - Ústřední vytápění'!J38 -> 0 | AZ58: ='SO 03 - Ústřední vytápění'!F35 -> 0 | BA58: ='SO 03 - Ústřední vytápění'!F36 -> 0 | BB58: ='SO 03 - Ústřední vytápění'!F37 -> 0 | BC58: ='SO 03 - Ústřední vytápění'!F38 -> 0 | BD58: ='SO 03 - Ústřední vytápění'!F39 -> 0 | BT58: 2 | BV58: IMPORT | BW58: {0e845053-8896-4e14-b0c5-77f6d39cf1d8} | BX58: {92774054-bef4-42b4-9cc3-cfed849f7ae4}
A59: / | E59: SO 04 | K59: Vzduchotechnika | AG59: ='SO 04 - Vzduchotechnika'!J32 -> 0 | AN59: =SUM(AG59,AT59) -> 0 | AQ59: Soupis | AS59: 0 | AT59: =ROUND(SUM(AV59:AW59),2) -> 0 | AU59: ='SO 04 - Vzduchotechnika'!P88 -> 0 | AV59: ='SO 04 - Vzduchotechnika'!J35 -> 0 | AW59: ='SO 04 - Vzduchotechnika'!J36 -> 0 | AX59: ='SO 04 - Vzduchotechnika'!J37 -> 0 | AY59: ='SO 04 - Vzduchotechnika'!J38 -> 0 | AZ59: ='SO 04 - Vzduchotechnika'!F35 -> 0 | BA59: ='SO 04 - Vzduchotechnika'!F36 -> 0 | BB59: ='SO 04 - Vzduchotechnika'!F37 -> 0 | BC59: ='SO 04 - Vzduchotechnika'!F38 -> 0 | BD59: ='SO 04 - Vzduchotechnika'!F39 -> 0 | BT59: 2 | BV59: IMPORT | BW59: {4984aa92-ebd5-4ab1-a410-d1e1901a8559} | BX59: {92774054-bef4-42b4-9cc3-cfed849f7ae4}
A60: / | E60: SO 05 | K60: Elektroinstalace | AG60: ='SO 05 - Elektroinstalace'!J32 -> 0 | AN60: =SUM(AG60,AT60) -> 0 | AQ60: Soupis | AS60: 0 | AT60: =ROUND(SUM(AV60:AW60),2) -> 0 | AU60: ='SO 05 - Elektroinstalace'!P92 -> 0 | AV60: ='SO 05 - Elektroinstalace'!J35 -> 0 | AW60: ='SO 05 - Elektroinstalace'!J36 -> 0 | AX60: ='SO 05 - Elektroinstalace'!J37 -> 0 | AY60: ='SO 05 - Elektroinstalace'!J38 -> 0 | AZ60: ='SO 05 - Elektroinstalace'!F35 -> 0 | BA60: ='SO 05 - Elektroinstalace'!F36 -> 0 | BB60: ='SO 05 - Elektroinstalace'!F37 -> 0 | BC60: ='SO 05 - Elektroinstalace'!F38 -> 0 | BD60: ='SO 05 - Elektroinstalace'!F39 -> 0 | BT60: 2 | BV60: IMPORT | BW60: {04c77b53-8d6e-415d-ada3-7f209adaa493} | BX60: {92774054-bef4-42b4-9cc3-cfed849f7ae4}
A61: / | E61: SO 98-98 | K61: Všeobecný objekt | AG61: ='SO 98-98 - Všeobecný objekt'!J32 -> 0 | AN61: =SUM(AG61,AT61) -> 0 | AQ61: Soupis | AS61: 0 | AT61: =ROUND(SUM(AV61:AW61),2) -> 0 | AU61: ='SO 98-98 - Všeobecný objekt'!P87 -> 0 | AV61: ='SO 98-98 - Všeobecný objekt'!J35 -> 0 | AW61: ='SO 98-98 - Všeobecný objekt'!J36 -> 0 | AX61: ='SO 98-98 - Všeobecný objekt'!J37 -> 0 | AY61: ='SO 98-98 - Všeobecný objekt'!J38 -> 0 | AZ61: ='SO 98-98 - Všeobecný objekt'!F35 -> 0 | BA61: ='SO 98-98 - Všeobecný objekt'!F36 -> 0 | BB61: ='SO 98-98 - Všeobecný objekt'!F37 -> 0 | BC61: ='SO 98-98 - Všeobecný objekt'!F38 -> 0 | BD61: ='SO 98-98 - Všeobecný objekt'!F39 -> 0 | BT61: 2 | BV61: IMPORT | BW61: {043aeea0-9950-4c1c-9bdc-9232304c262c} | BX61: {92774054-bef4-42b4-9cc3-cfed849f7ae4}

Sheet SO 01 - Stavební část
AT2: {baf353a4-0bad-47f4-8095-937fbfc3d72c}
AT3: 1
D4: KRYCÍ LIST SOUPISU PRACÍ | M4: v --- níže se nacházejí doplnkové a pomocné údaje k sestavám --- v | AT4: False
D6: Stavba:
E7: ='Rekapitulace stavby'!K6 -> Opravy bytových jednotek OŘ Brno - VB ŽST Rousínov č.p.788
D8: Objekt:
E9: E.2 - Pozemní a stavební objekty
D10: Soupis:
E11: SO 01 - Stavební část
D13: KSO: | I13: CC-CZ:
D14: Místo: | F14: Rousínov | I14: Datum: | J14: ='Rekapitulace stavby'!AN8 -> 24. 8. 2020
D16: Zadavatel: | I16: IČ: | J16: 70994234
E17: Správa železniční dopravní cesty | I17: DIČ: | J17: CZ70994234
D19: Uchazeč: | I19: IČ: | J19: ='Rekapitulace stavby'!AN13 -> Vyplň údaj
E20: ='Rekapitulace stavby'!E14 -> Vyplň údaj | I20: DIČ: | J20: ='Rekapitulace stavby'!AN14 -> Vyplň údaj
D22: Projektant: | I22: IČ: | J22: 27245918
E23: APREA s.r.o. | I23: DIČ: | J23: CZ27245918
D25: Zpracovatel: | I25: IČ:
I26: DIČ:
D28: Poznámka:
D32: Cena bez DPH | J32: =ROUND(J106, 2) -> 0
F34: Základ daně | I34: Sazba daně | J34: Výše daně
D35: DPH | E35: základní | F35: =ROUND((SUM(BE106:BE670)), 2) -> 0 | I35: 0.21 | J35: =ROUND(((SUM(BE106:BE670))*I35), 2) -> 0
E36: snížená | F36: =ROUND((SUM(BF106:BF670)), 2) -> 0 | I36: 0.15 | J36: =ROUND(((SUM(BF106:BF670))*I36), 2) -> 0
E37: zákl. přenesená | F37: =ROUND((SUM(BG106:BG670)), 2) -> 0 | I37: 0.21 | J37: =0 -> 0
E38: sníž. přenesená | F38: =ROUND((SUM(BH106:BH670)), 2) -> 0 | I38: 0.15 | J38: =0 -> 0
E39: nulová | F39: =ROUND((SUM(BI106:BI670)), 2) -> 0 | I39: 0 | J39: =0 -> 0
D41: Cena s DPH | G41: v | H41: CZK | J41: =SUM(J32:J39) -> 0
C47: REKAPITULACE ČLENĚNÍ SOUPISU PRACÍ
C49: Stavba:
E50: =E7 -> Opravy bytových jednotek OŘ Brno - VB ŽST Rousínov č.p.788
C51: Objekt:
E52: E.2 - Pozemní a stavební objekty
C53: Soupis:
E54: =E11 -> SO 01 - Stavební část
C56: Místo: | F56: =F14 -> Rousínov | I56: Datum: | J56: =IF(J14="","",J14) -> 24. 8. 2020
C58: Zadavatel: | F58: =E17 -> Správa železniční dopravní cesty | I58: Projektant: | J58: =E23 -> APREA s.r.o.
C59: Uchazeč: | F59: =IF(E20="","",E20) -> Vyplň údaj | I59: Zpracovatel: | J59: =E26
C61: Kód dílu - Popis | J61: Cena celkem [CZK]
C63: Náklady stavby celkem | J63: =J106 -> 0 | AU63: -1
D64: HSV - Práce a dodávky HSV | J64: =J107 -> 0
D65: 61 - Úprava povrchů vnitřních | J65: =J108 -> 0
D66: 64 - Osazování výplní otvorů | J66: =J153 -> 0
D67: 94 - Lešení a stavební výtahy | J67: =J166 -> 0
D68: 95 - Různé dokončovací konstrukce a práce pozemních staveb | J68: =J170 -> 0
D69: 96 - Bourání konstrukcí | J69: =J174 -> 0
D70: 997 - Přesun sutě | J70: =J234 -> 0
D71: 998 - Přesun hmot | J71: =J244 -> 0
D72: PSV - Práce a dodávky PSV | J72: =J247 -> 0
D73: 713 - Izolace tepelné | J73: =J248 -> 0
D74: 762 - Konstrukce tesařské | J74: =J332 -> 0
D75: 763 - Konstrukce suché výstavby | J75: =J361 -> 0
D76: 764 - Konstrukce klempířské | J76: =J435 -> 0
D77: 766 - Konstrukce truhlářské | J77: =J445 -> 0
D78: 767 - Konstrukce zámečnické | J78: =J500 -> 0
D79: 771 - Podlahy z dlaždic | J79: =J508 -> 0
D80: 776 - Podlahy povlakové | J80: =J577 -> 0
D81: 781 - Dokončovací práce - obklady | J81: =J606 -> 0
D82: 783 - Dokončovací práce - nátěry | J82: =J639 -> 0
D83: 784 - Dokončovací práce - malby a tapety | J83: =J651 -> 0
D84: 790 - Ostatní | J84: =J667 -> 0
C91: SOUPIS PRACÍ
C93: Stavba:
E94: =E7 -> Opravy bytových jednotek OŘ Brno - VB ŽST Rousínov č.p.788
C95: Objekt:
E96: E.2 - Pozemní a stavební objekty
C97: Soupis:
E98: =E11 -> SO 01 - Stavební část
C100: Místo: | F100: =F14 -> Rousínov | I100: Datum: | J100: =IF(J14="","",J14) -> 24. 8. 2020
C102: Zadavatel: | F102: =E17 -> Správa železniční dopravní cesty | I102: Projektant: | J102: =E23 -> APREA s.r.o.
C103: Uchazeč: | F103: =IF(E20="","",E20) -> Vyplň údaj | I103: Zpracovatel: | J103: =E26
C105: PČ | D105: Typ | E105: Kód | F105: Popis | G105: MJ | H105: Množství | I105: J.cena [CZK] | J105: Cena celkem [CZK] | K105: Cenová soustava | N105: DPH | O105: J. Nh [h] | P105: Nh celkem [h] | Q105: J. hmotnost [t] | R105: Hmotnost celkem [t] | S105: J. suť [t] | T105: Suť Celkem [t]
C106: Náklady soupisu celkem | J106: =BK106 -> 0 | P106: =P107+P247 -> 0 | R106: =R107+R247 -> 20.167874 | T106: =T107+T247 -> 43.556158 | AT106: D | AU106: -1 | BK106: =BK107+BK247 -> 0
D107: D | E107: HSV | F107: Práce a dodávky HSV | J107: =BK107 -> 0 | P107: =P108+P153+P166+P170+P174+P234+P244 -> 0 | R107: =R108+R153+R166+R170+R174+R234+R244 -> 7.2031233 | T107: =T108+T153+T166+T170+T174+T234+T244 -> 39.759718 | AR107: 1 | AT107: D | AU107: 0 | AY107: ROZPOCET | BK107: =BK108+BK153+BK166+BK170+BK174+BK234+BK244 -> 0
D108: D | E108: 61 | F108: Úprava povrchů vnitřních | J108: =BK108 -> 0 | P108: =SUM(P109:P152) -> 0 | R108: =SUM(R109:R152) -> 6.6126207 | T108: =SUM(T109:T152) -> 0 | AR108: 1 | AT108: D | AU108: 1 | AY108: ROZPOCET | BK108: =SUM(BK109:BK152) -> 0
C109: 1 | D109: K | E109: 612131101 | F109: Podkladní a spojovací vrstva vnitřních omítaných ploch cementový postřik nanášený ručně celoplošně stěn | G109: m2 | H109: 268.818 | J109: =ROUND(I109*H109,2) -> 0 | K109: CS ÚRS 2023 01 | N109: snížená | P109: =O109*H109 -> 0 | Q109: 0.00735 | R109: =Q109*H109 -> 1.9758123 | S109: 0 | T109: =S109*H109 -> 0 | AR109: 4 | AT109: K | AU109: 2 | AY109: ROZPOCET | BE109: =IF(N109="základní",J109,0) -> 0 | BF109: =IF(N109="snížená",J109,0) -> 0 | BG109: =IF(N109="zákl. přenesená",J109,0) -> 0 | BH109: =IF(N109="sníž. přenesená",J109,0) -> 0 | BI109: =IF(N109="nulová",J109,0) -> 0 | BJ109: 2 | BK109: =ROUND(I109*H109,2) -> 0 | BL109: 4 | BM109: 174987410
D110: Online PSC | F110: https://podminky.urs.cz/item/CS_URS_2023_01/612131101 | AT110: Online PSC | AU110: 2
D111: VV | F111: 14,885+253,933 | H111: 268.818 | AT111: VV | AU111: 2 | AV111: 2 | AW111: True | AX111: 1 | AY111: ROZPOCET
C112: 2 | D112: K | E112: 612311111 | F112: Omítka vápenná vnitřních ploch nanášená ručně jednovrstvá hrubá, tloušťky do 10 mm zatřená svislých konstrukcí stěn | G112: m2 | H112: 14.885 | J112: =ROUND(I112*H112,2) -> 0 | K112: CS ÚRS 2023 01 | N112: snížená | P112: =O112*H112 -> 0 | Q112: 0.0147 | R112: =Q112*H112 -> 0.2188095 | S112: 0 | T112: =S112*H112 -> 0 | AR112: 4 | AT112: K | AU112: 2 | AY112: ROZPOCET | BE112: =IF(N112="základní",J112,0) -> 0 | BF112: =IF(N112="snížená",J112,0) -> 0 | BG112: =IF(N112="zákl. přenesená",J112,0) -> 0 | BH112: =IF(N112="sníž. přenesená",J112,0) -> 0 | BI112: =IF(N112="nulová",J112,0) -> 0 | BJ112: 2 | BK112: =ROUND(I112*H112,2) -> 0 | BL112: 4 | BM112: -954079158
D113: Online PSC | F113: https://podminky.urs.cz/item/CS_URS_2023_01/612311111 | AT113: Online PSC | AU113: 2
D114: VV | F114: pod obklad | AT114: VV | AU114: 2 | AV114: 1 | AW114: True | AX114: 0 | AY114: ROZPOCET
D115: VV | F115: "1P12"(8,05-1,445-0,395-0,355)*2,00 | H115: 11.71 | AT115: VV | AU115: 2 | AV115: 2 | AW115: True | AX115: 0 | AY115: ROZPOCET
D116: VV | F116: "1P16" (0,67+1,68)*0,50 | H116: 1.175 | AT116: VV | AU116: 2 | AV116: 2 | AW116: True | AX116: 0 | AY116: ROZPOCET
D117: VV | F117: "1P10" (2,00+2,00)*0,50 | H117: 2 | AT117: VV | AU117: 2 | AV117: 2 | AW117: True | AX117: 0 | AY117: ROZPOCET
D118: VV | F118: Součet | H118: 14.885 | AT118: VV | AU118: 2 | AV118: 4 | AW118: True | AX118: 1 | AY118: ROZPOCET
C119: 3 | D119: K | E119: 612311141 | F119: Omítka vápenná vnitřních ploch nanášená ručně dvouvrstvá štuková, tloušťky jádrové omítky do 10 mm a tloušťky štuku do 3 mm svislých konstrukcí stěn | G119: m2 | H119: 253.933 | J119: =ROUND(I119*H119,2) -> 0 | K119: CS ÚRS 2023 01 | N119: snížená | P119: =O119*H119 -> 0 | Q119: 0.01733 | R119: =Q119*H119 -> 4.4006589 | S119: 0 | T119: =S119*H119 -> 0 | AR119: 4 | AT119: K | AU119: 2 | AY119: ROZPOCET | BE119: =IF(N119="základní",J119,0) -> 0 | BF119: =IF(N119="snížená",J119,0) -> 0 | BG119: =IF(N119="zákl. přenesená",J119,0) -> 0 | BH119: =IF(N119="sníž. přenesená",J119,0) -> 0 | BI119: =IF(N119="nulová",J119,0) -> 0 | BJ119: 2 | BK119: =ROUND(I119*H119,2) -> 0 | BL119: 4 | BM119: 620494458
D120: Online PSC | F120: https://podminky.urs.cz/item/CS_URS_2023_01/612311141 | AT120: Online PSC | AU120: 2
D121: VV | F121: "1P10" 25,08*3,20 | H121: 80.256 | AT121: VV | AU121: 2 | AV121: 2 | AW121: True | AX121: 0 | AY121: ROZPOCET
D122: VV | F122: -1,20*2,07*2 | H122: -4.968 | AT122: VV | AU122: 2 | AV122: 2 | AW122: True | AX122: 0 | AY122: ROZPOCET
D123: VV | F123: "ostění" 2*(1,20+(2,07+0,92))*0,15 | H123: 1.257 | AT123: VV | AU123: 2 | AV123: 2 | AW123: True | AX123: 0 | AY123: ROZPOCET
D124: VV | F124: -2*0,90*2,05 | H124: -3.69 | AT124: VV | AU124: 2 | AV124: 2 | AW124: True | AX124: 0 | AY124: ROZPOCET
D125: VV | F125: "ostění" (0,90+2*2,05)*0,50 | H125: 2.5 | AT125: VV | AU125: 2 | AV125: 2 | AW125: True | AX125: 0 | AY125: ROZPOCET
D126: VV | F126: "obklad" -(2,00+2,00)*0,50 | H126: -2 | AT126: VV | AU126: 2 | AV126: 2 | AW126: True | AX126: 0 | AY126: ROZPOCET
D127: VV | F127: "1P11" 22,42*3,20 | H127: 71.744 | AT127: VV | AU127: 2 | AV127: 2 | AW127: True | AX127: 0 | AY127: ROZPOCET
D128: VV | F128: -0,90*2,05 | H128: -1.845 | AT128: VV | AU128: 2 | AV128: 2 | AW128: True | AX128: 0 | AY128: ROZPOCET
D129: VV | F129: -2*1,20*2,065 | H129: -4.956 | AT129: VV | AU129: 2 | AV129: 2 | AW129: True | AX129: 0 | AY129: ROZPOCET
D130: VV | F130: "ostění" 2*(1,20+2*2,065)*0,15 | H130: 1.599 | AT130: VV | AU130: 2 | AV130: 2 | AW130: True | AX130: 0 | AY130: ROZPOCET
D131: VV | F131: -1,39*1,735 | H131: -2.412 | AT131: VV | AU131: 2 | AV131: 2 | AW131: True | AX131: 0 | AY131: ROZPOCET
D132: VV | F132: "ostění" (1,39+2*(1,735+0,82))*0,20 | H132: 1.3 | AT132: VV | AU132: 2 | AV132: 2 | AW132: True | AX132: 0 | AY132: ROZPOCET
... D147: VV | F147: Součet | H147: 253.933 | AT147: VV | AU147: 2 | AV147: 4 | AW147: True | AX147: 1 | AY147: ROZPOCET
...

Sheet SO 02 - Zdravotechnika
AT2: {cb4c193c-83f1-4a64-8978-ccd2a30e9919}
AT3: 1
D4: KRYCÍ LIST SOUPISU PRACÍ | M4: v --- níže se nacházejí doplnkové a pomocné údaje k sestavám --- v | AT4: False
D6: Stavba:
E7: ='Rekapitulace stavby'!K6 -> Opravy bytových jednotek OŘ Brno - VB ŽST Rousínov č.p.788
D8: Objekt:
E9: E.2 - Pozemní a stavební objekty
D10: Soupis:
E11: SO 02 - Zdravotechnika
D13: KSO: | I13: CC-CZ:
D14: Místo: | F14: Rousínov | I14: Datum: | J14: ='Rekapitulace stavby'!AN8 -> 24. 8. 2020
D16: Zadavatel: | I16: IČ: | J16: 70994234
E17: Správa železniční dopravní cesty | I17: DIČ: | J17: CZ70994234
D19: Uchazeč: | I19: IČ: | J19: ='Rekapitulace stavby'!AN13 -> Vyplň údaj
E20: ='Rekapitulace stavby'!E14 -> Vyplň údaj | I20: DIČ: | J20: ='Rekapitulace stavby'!AN14 -> Vyplň údaj
D22: Projektant: | I22: IČ: | J22: 27245918
E23: APREA s.r.o. | I23: DIČ: | J23: CZ27245918
D25: Zpracovatel: | I25: IČ:
I26: DIČ:
D28: Poznámka:
D32: Cena bez DPH | J32: =ROUND(J99, 2) -> 0
F34: Základ daně | I34: Sazba daně | J34: Výše daně
D35: DPH | E35: základní | F35: =ROUND((SUM(BE99:BE284)), 2) -> 0 | I35: 0.21 | J35: =ROUND(((SUM(BE99:BE284))*I35), 2) -> 0
E36: snížená | F36: =ROUND((SUM(BF99:BF284)), 2) -> 0 | I36: 0.15 | J36: =ROUND(((SUM(BF99:BF284))*I36), 2) -> 0
E37: zákl. přenesená | F37: =ROUND((SUM(BG99:BG284)), 2) -> 0 | I37: 0.21 | J37: =0 -> 0
E38: sníž. přenesená | F38: =ROUND((SUM(BH99:BH284)), 2) -> 0 | I38: 0.15 | J38: =0 -> 0
E39: nulová | F39: =ROUND((SUM(BI99:BI284)), 2) -> 0 | I39: 0 | J39: =0 -> 0
D41: Cena s DPH | G41: v | H41: CZK | J41: =SUM(J32:J39) -> 0
C47: REKAPITULACE ČLENĚNÍ SOUPISU PRACÍ
C49: Stavba:
E50: =E7 -> Opravy bytových jednotek OŘ Brno - VB ŽST Rousínov č.p.788
C51: Objekt:
E52: E.2 - Pozemní a stavební objekty
C53: Soupis:
E54: =E11 -> SO 02 - Zdravotechnika
C56: Místo: | F56: =F14 -> Rousínov | I56: Datum: | J56: =IF(J14="","",J14) -> 24. 8. 2020
C58: Zadavatel: | F58: =E17 -> Správa železniční dopravní cesty | I58: Projektant: | J58: =E23 -> APREA s.r.o.
C59: Uchazeč: | F59: =IF(E20="","",E20) -> Vyplň údaj | I59: Zpracovatel: | J59: =E26
C61: Kód dílu - Popis | J61: Cena celkem [CZK]
C63: Náklady stavby celkem | J63: =J99 -> 0 | AU63: -1
D64: HSV - Práce a dodávky HSV | J64: =J100 -> 0
D65: 61 - Úprava povrchů vnitřních | J65: =J101 -> 0
D66: 97 - Prorážení otvorů a ostatní bourací práce | J66: =J104 -> 0
D67: 997 - Přesun sutě | J67: =J107 -> 0
D68: 998 - Přesun hmot | J68: =J117 -> 0
D69: PSV - Práce a dodávky PSV | J69: =J120 -> 0
D70: 721 - Zdravotechnika - vnitřní kanalizace | J70: =J121 -> 0
D71: 722 - Zdravotechnika - vnitřní vodovod | J71: =J150 -> 0
D72: 723 - Zdravotechnika - vnitřní plynovod | J72: =J192 -> 0
D73: 725 - Zdravotechnika - zařizovací předměty | J73: =J217 -> 0
D74: 726 - Zdravotechnika - předstěnové instalace | J74: =J268 -> 0
D75: M - Práce a dodávky M | J75: =J275 -> 0
D76: 23-M - Montáže potrubí | J76: =J276 -> 0
D77: HZS - Hodinové zúčtovací sazby | J77: =J280 -> 0
C84: SOUPIS PRACÍ
C86: Stavba:
E87: =E7 -> Opravy bytových jednotek OŘ Brno - VB ŽST Rousínov č.p.788
C88: Objekt:
E89: E.2 - Pozemní a stavební objekty
C90: Soupis:
E91: =E11 -> SO 02 - Zdravotechnika
C93: Místo: | F93: =F14 -> Rousínov | I93: Datum: | J93: =IF(J14="","",J14) -> 24. 8. 2020
C95: Zadavatel: | F95: =E17 -> Správa železniční dopravní cesty | I95: Projektant: | J95: =E23 -> APREA s.r.o.
C96: Uchazeč: | F96: =IF(E20="","",E20) -> Vyplň údaj | I96: Zpracovatel: | J96: =E26
C98: PČ | D98: Typ | E98: Kód | F98: Popis | G98: MJ | H98: Množství | I98: J.cena [CZK] | J98: Cena celkem [CZK] | K98: Cenová soustava | N98: DPH | O98: J. Nh [h] | P98: Nh celkem [h] | Q98: J. hmotnost [t] | R98: Hmotnost celkem [t] | S98: J. suť [t] | T98: Suť Celkem [t]
C99: Náklady soupisu celkem | J99: =BK99 -> 0 | P99: =P100+P120+P275+P280 -> 0 | R99: =R100+R120+R275+R280 -> 0.72157 | T99: =T100+T120+T275+T280 -> 1.69523 | AT99: D | AU99: -1 | BK99: =BK100+BK120+BK275+BK280 -> 0
D100: D | E100: HSV | F100: Práce a dodávky HSV | J100: =BK100 -> 0 | P100: =P101+P104+P107+P117 -> 0 | R100: =R101+R104+R107+R117 -> 0.448 | T100: =T101+T104+T107+T117 -> 1.224 | AR100: 1 | AT100: D | AU100: 0 | AY100: ROZPOCET | BK100: =BK101+BK104+BK107+BK117 -> 0
D101: D | E101: 61 | F101: Úprava povrchů vnitřních | J101: =BK101 -> 0 | P101: =SUM(P102:P103) -> 0 | R101: =SUM(R102:R103) -> 0.448 | T101: =SUM(T102:T103) -> 0 | AR101: 1 | AT101: D | AU101: 1 | AY101: ROZPOCET | BK101: =SUM(BK102:BK103) -> 0
C102: 1 | D102: K | E102: 612135101 | F102: Hrubá výplň rýh maltou jakékoli šířky rýhy ve stěnách | G102: m2 | H102: 8 | J102: =ROUND(I102*H102,2) -> 0 | K102: CS ÚRS 2023 01 | N102: snížená | P102: =O102*H102 -> 0 | Q102: 0.056 | R102: =Q102*H102 -> 0.448 | S102: 0 | T102: =S102*H102 -> 0 | AR102: 4 | AT102: K | AU102: 2 | AY102: ROZPOCET | BE102: =IF(N102="základní",J102,0) -> 0 | BF102: =IF(N102="snížená",J102,0) -> 0 | BG102: =IF(N102="zákl. přenesená",J102,0) -> 0 | BH102: =IF(N102="sníž. přenesená",J102,0) -> 0 | BI102: =IF(N102="nulová",J102,0) -> 0 | BJ102: 2 | BK102: =ROUND(I102*H102,2) -> 0 | BL102: 4 | BM102: 257572374
D103: Online PSC | F103: https://podminky.urs.cz/item/CS_URS_2023_01/612135101 | AT103: Online PSC | AU103: 2
D104: D | E104: 97 | F104: Prorážení otvorů a ostatní bourací práce | J104: =BK104 -> 0 | P104: =SUM(P105:P106) -> 0 | R104: =SUM(R105:R106) -> 0 | T104: =SUM(T105:T106) -> 1.224 | AR104: 1 | AT104: D | AU104: 1 | AY104: ROZPOCET | BK104: =SUM(BK105:BK106) -> 0
C105: 2 | D105: K | E105: 974031153 | F105: Vysekání rýh ve zdivu cihelném na maltu vápennou nebo vápenocementovou do hl. 100 mm a šířky do 100 mm | G105: m | H105: 68 | J105: =ROUND(I105*H105,2) -> 0 | K105: CS ÚRS 2023 01 | N105: snížená | P105: =O105*H105 -> 0 | Q105: 0 | R105: =Q105*H105 -> 0 | S105: 0.018 | T105: =S105*H105 -> 1.224 | AR105: 4 | AT105: K | AU105: 2 | AY105: ROZPOCET | BE105: =IF(N105="základní",J105,0) -> 0 | BF105: =IF(N105="snížená",J105,0) -> 0 | BG105: =IF(N105="zákl. přenesená",J105,0) -> 0 | BH105: =IF(N105="sníž. přenesená",J105,0) -> 0 | BI105: =IF(N105="nulová",J105,0) -> 0 | BJ105: 2 | BK105: =ROUND(I105*H105,2) -> 0 | BL105: 4 | BM105: 1348713431
D106: Online PSC | F106: https://podminky.urs.cz/item/CS_URS_2023_01/974031153 | AT106: Online PSC | AU106: 2
D107: D | E107: 997 | F107: Přesun sutě | J107: =BK107 -> 0 | P107: =SUM(P108:P116) -> 0 | R107: =SUM(R108:R116) -> 0 | T107: =SUM(T108:T116) -> 0 | AR107: 1 | AT107: D | AU107: 1 | AY107: ROZPOCET | BK107: =SUM(BK108:BK116) -> 0
C108: 3 | D108: K | E108: 997013213 | F108: Vnitrostaveništní doprava suti a vybouraných hmot vodorovně do 50 m svisle ručně pro budovy a haly výšky přes 9 do 12 m | G108: t | H108: 1.695 | J108: =ROUND(I108*H108,2) -> 0 | K108: CS ÚRS 2023 01 | N108: snížená | P108: =O108*H108 -> 0 | Q108: 0 | R108: =Q108*H108 -> 0 | S108: 0 | T108: =S108*H108 -> 0 | AR108: 4 | AT108: K | AU108: 2 | AY108: ROZPOCET | BE108: =IF(N108="základní",J108,0) -> 0 | BF108: =IF(N108="snížená",J108,0) -> 0 | BG108: =IF(N108="zákl. přenesená",J108,0) -> 0 | BH108: =IF(N108="sníž. přenesená",J108,0) -> 0 | BI108: =IF(N108="nulová",J108,0) -> 0 | BJ108: 2 | BK108: =ROUND(I108*H108,2) -> 0 | BL108: 4 | BM108: -557727344
D109: Online PSC | F109: https://podminky.urs.cz/item/CS_URS_2023_01/997013213 | AT109: Online PSC | AU109: 2
C110: 4 | D110: K | E110: 997013501 | F110: Odvoz suti a vybouraných hmot na skládku nebo meziskládku se složením, na vzdálenost do 1 km | G110: t | H110: 1.695 | J110: =ROUND(I110*H110,2) -> 0 | K110: CS ÚRS 2023 01 | N110: snížená | P110: =O110*H110 -> 0 | Q110: 0 | R110: =Q110*H110 -> 0 | S110: 0 | T110: =S110*H110 -> 0 | AR110: 4 | AT110: K | AU110: 2 | AY110: ROZPOCET | BE110: =IF(N110="základní",J110,0) -> 0 | BF110: =IF(N110="snížená",J110,0) -> 0 | BG110: =IF(N110="zákl. přenesená",J110,0) -> 0 | BH110: =IF(N110="sníž. přenesená",J110,0) -> 0 | BI110: =IF(N110="nulová",J110,0) -> 0 | BJ110: 2 | BK110: =ROUND(I110*H110,2) -> 0 | BL110: 4 | BM110: 676491032
D111: Online PSC | F111: https://podminky.urs.cz/item/CS_URS_2023_01/997013501 | AT111: Online PSC | AU111: 2
C112: 5 | D112: K | E112: 997013509 | F112: Odvoz suti a vybouraných hmot na skládku nebo meziskládku se složením, na vzdálenost Příplatek k ceně za každý další i započatý 1 km přes 1 km | G112: t | H112: 15.255 | J112: =ROUND(I112*H112,2) -> 0 | K112: CS ÚRS 2023 01 | N112: snížená | P112: =O112*H112 -> 0 | Q112: 0 | R112: =Q112*H112 -> 0 | S112: 0 | T112: =S112*H112 -> 0 | AR112: 4 | AT112: K | AU112: 2 | AY112: ROZPOCET | BE112: =IF(N112="základní",J112,0) -> 0 | BF112: =IF(N112="snížená",J112,0) -> 0 | BG112: =IF(N112="zákl. přenesená",J112,0) -> 0 | BH112: =IF(N112="sníž. přenesená",J112,0) -> 0 | BI112: =IF(N112="nulová",J112,0) -> 0 | BJ112: 2 | BK112: =ROUND(I112*H112,2) -> 0 | BL112: 4 | BM112: 857502528
D113: Online PSC | F113: https://podminky.urs.cz/item/CS_URS_2023_01/997013509 | AT113: Online PSC | AU113: 2
D114: VV | F114: 1,695*9 "Přepočtené koeficientem množství | H114: 15.255 | AT114: VV | AU114: 2 | AV114: 2 | AW114: True | AX114: 1 | AY114: ROZPOCET
C115: 6 | D115: K | E115: 997013631 | F115: Poplatek za uložení stavebního odpadu na skládce (skládkovné) směsného stavebního a demoličního zatříděného do Katalogu odpadů pod kódem 17 09 04 | G115: t | H115: 1.695 | J115: =ROUND(I115*H115,2) -> 0 | K115: CS ÚRS 2023 01 | N115: snížená | P115: =O115*H115 -> 0 | Q115: 0 | R115: =Q115*H115 -> 0 | S115: 0 | T115: =S115*H115 -> 0 | AR115: 4 | AT115: K | AU115: 2 | AY115: ROZPOCET | BE115: =IF(N115="základní",J115,0) -> 0 | BF115: =IF(N115="snížená",J115,0) -> 0 | BG115: =IF(N115="zákl. přenesená",J115,0) -> 0 | BH115: =IF(N115="sníž. přenesená",J115,0) -> 0 | BI115: =IF(N115="nulová",J115,0) -> 0 | BJ115: 2 | BK115: =ROUND(I115*H115,2) -> 0 | BL115: 4 | BM115: 980404104
D116: Online PSC | F116: https://podminky.urs.cz/item/CS_URS_2023_01/997013631 | AT116: Online PSC | AU116: 2
D117: D | E117: 998 | F117: Přesun hmot | J117: =BK117 -> 0 | P117: =SUM(P118:P119) -> 0 | R117: =SUM(R118:R119) -> 0 | T117: =SUM(T118:T119) -> 0 | AR117: 1 | AT117: D | AU117: 1 | AY117: ROZPOCET | BK117: =SUM(BK118:BK119) -> 0
C118: 7 | D118: K | E118: 998017002 | F118: Přesun hmot pro budovy občanské výstavby, bydlení, výrobu a služby s omezením mechanizace vodorovná dopravní vzdálenost do 100 m pro budovy s jakoukoliv nosnou konstrukcí výšky přes 6 do 12 m | G118: t | H118: 0.32 | J118: =ROUND(I118*H118,2) -> 0 | K118: CS ÚRS 2023 01 | N118: snížená | P118: =O118*H118 -> 0 | Q118: 0 | R118: =Q118*H118 -> 0 | S118: 0 | T118: =S118*H118 -> 0 | AR118: 4 | AT118: K | AU118: 2 | AY118: ROZPOCET | BE118: =IF(N118="základní",J118,0) -> 0 | BF118: =IF(N118="snížená",J118,0) -> 0 | BG118: =IF(N118="zákl. přenesená",J118,0) -> 0 | BH118: =IF(N118="sníž. přenesená",J118,0) -> 0 | BI118: =IF(N118="nulová",J118,0) -> 0 | BJ118: 2 | BK118: =ROUND(I118*H118,2) -> 0 | BL118: 4 | BM118: -2104858733
D119: Online PSC | F119: https://podminky.urs.cz/item/CS_URS_2023_01/998017002 | AT119: Online PSC | AU119: 2
D120: D | E120: PSV | F120: Práce a dodávky PSV | J120: =BK120 -> 0 | P120: =P121+P150+P192+P217+P268 -> 0 | R120: =R121+R150+R192+R217+R268 -> 0.27357 | T120: =T121+T150+T192+T217+T268 -> 0.47123 | AR120: 2 | AT120: D | AU120: 0 | AY120: ROZPOCET | BK120: =BK121+BK150+BK192+BK217+BK268 -> 0
D121: D | E121: 721 | F121: Zdravotechnika - vnitřní kanalizace | J121: =BK121 -> 0 | P121: =SUM(P122:P149) -> 0 | R121: =SUM(R122:R149) -> 0.01183 | T121: =SUM(T122:T149) -> 0.17904 | AR121: 2 | AT121: D | AU121: 1 | AY121: ROZPOCET | BK121: =SUM(BK122:BK149) -> 0
C122: 8 | D122: K | E122: 721140802 | F122: Demontáž potrubí z litinových trub odpadních nebo dešťových do DN 100 | G122: m | H122: 12 | J122: =ROUND(I122*H122,2) -> 0 | K122: CS ÚRS 2023 01 | N122: snížená | P122: =O122*H122 -> 0 | Q122: 0 | R122: =Q122*H122 -> 0 | S122: 0.01492 | T122: =S122*H122 -> 0.17904 | AR122: 16 | AT122: K | AU122: 2 | AY122: ROZPOCET | BE122: =IF(N122="základní",J122,0) -> 0 | BF122: =IF(N122="snížená",J122,0) -> 0 | BG122: =IF(N122="zákl. přenesená",J122,0) -> 0 | BH122: =IF(N122="sníž. přenesená",J122,0) -> 0 | BI122: =IF(N122="nulová",J122,0) -> 0 | BJ122: 2 | BK122: =ROUND(I122*H122,2) -> 0 | BL122: 16 | BM122: 2057857319
D123: Online PSC | F123: https://podminky.urs.cz/item/CS_URS_2023_01/721140802 | AT123: Online PSC | AU123: 2
C124: 9 | D124: K | E124: 721174042 | F124: Potrubí z trub polypropylenových připojovací DN 40 | G124: m | H124: 5 | J124: =ROUND(I124*H124,2) -> 0 | K124: CS ÚRS 2023 01 | N124: snížená | P124: =O124*H124 -> 0 | Q124: 0.00041 | R124: =Q124*H124 -> 0.00205 | S124: 0 | T124: =S124*H124 -> 0 | AR124: 16 | AT124: K | AU124: 2 | AY124: ROZPOCET | BE124: =IF(N124="základní",J124,0) -> 0 | BF124: =IF(N124="snížená",J124,0) -> 0 | BG124: =IF(N124="zákl. přenesená",J124,0) -> 0 | BH124: =IF(N124="sníž. přenesená",J124,0) -> 0 | BI124: =IF(N124="nulová",J124,0) -> 0 | BJ124: 2 | BK124: =ROUND(I124*H124,2) -> 0 | BL124: 16 | BM124: -866546976
D125: Online PSC | F125: https://podminky.urs.cz/item/CS_URS_2023_01/721174042 | AT125: Online PSC | AU125: 2
C126: 10 | D126: K | E126: 721174043 | F126: Potrubí z trub polypropylenových připojovací DN 50 | G126: m | H126: 3 | J126: =ROUND(I126*H126,2) -> 0 | K126: CS ÚRS 2023 01 | N126: snížená | P126: =O126*H126 -> 0 | Q126: 0.00048 | R126: =Q126*H126 -> 0.00144 | S126: 0 | T126: =S126*H126 -> 0 | AR126: 16 | AT126: K | AU126: 2 | AY126: ROZPOCET | BE126: =IF(N126="základní",J126,0) -> 0 | BF126: =IF(N126="snížená",J126,0) -> 0 | BG126: =IF(N126="zákl. přenesená",J126,0) -> 0 | BH126: =IF(N126="sníž. přenesená",J126,0) -> 0 | BI126: =IF(N126="nulová",J126,0) -> 0 | BJ126: 2 | BK126: =ROUND(I126*H126,2) -> 0 | BL126: 16 | BM126: -642244521
D127: Online PSC | F127: https://podminky.urs.cz/item/CS_URS_2023_01/721174043 | AT127: Online PSC | AU127: 2
C128: 11 | D128: K | E128: 721174044 | F128: Potrubí z trub polypropylenových připojovací DN 75 | G128: m | H128: 3 | J128: =ROUND(I128*H128,2) -> 0 | K128: CS ÚRS 2023 01 | N128: snížená | P128: =O128*H128 -> 0 | Q128: 0.00071 | R128: =Q128*H128 -> 0.00213 | S128: 0 | T128: =S128*H128 -> 0 | AR128: 16 | AT128: K | AU128: 2 | AY128: ROZPOCET | BE128: =IF(N128="základní",J128,0) -> 0 | BF128: =IF(N128="snížená",J128,0) -> 0 | BG128: =IF(N128="zákl. přenesená",J128,0) -> 0 | BH128: =IF(N128="sníž. přenesená",J128,0) -> 0 | BI128: =IF(N128="nulová",J128,0) -> 0 | BJ128: 2 | BK128: =ROUND(I128*H128,2) -> 0 | BL128: 16 | BM128: -1493760993
D129: Online PSC | F129: https://podminky.urs.cz/item/CS_URS_2023_01/721174044 | AT129: Online PSC | AU129: 2
C130: 12 | D130: K | E130: 721174045 | F130: Potrubí z trub polypropylenových připojovací DN 110 | G130: m | H130: 2 | J130: =ROUND(I130*H130,2) -> 0 | K130: CS ÚRS 2023 01 | N130: snížená | P130: =O130*H130 -> 0 | Q130: 0.00224 | R130: =Q130*H130 -> 0.00448 | S130: 0 | T130: =S130*H130 -> 0 | AR130: 16 | AT130: K | AU130: 2 | AY130: ROZPOCET | BE130: =IF(N130="základní",J130,0) -> 0 | BF130: =IF(N130="snížená",J130,0) -> 0 | BG130: =IF(N130="zákl. přenesená",J130,0) -> 0 | BH130: =IF(N130="sníž. přenesená",J130,0) -> 0 | BI130: =IF(N130="nulová",J130,0) -> 0 | BJ130: 2 | BK130: =ROUND(I130*H130,2) -> 0 | BL130: 16 | BM130: -1872039392
D131: Online PSC | F131: https://podminky.urs.cz/item/CS_URS_2023_01/721174045 | AT131: Online PSC | AU131: 2
C132: 13 | D132: K | E132: 721194104 | F132: Vyměření přípojek na potrubí vyvedení a upevnění odpadních výpustek DN 40 | G132: kus | H132: 4 | J132: =ROUND(I132*H132,2) -> 0 | K132: CS ÚRS 2023 01 | N132: snížená | P132: =O132*H132 -> 0 | Q132: 0 | R132: =Q132*H132 -> 0 | S132: 0 | T132: =S132*H132 -> 0 | AR132: 16 | AT132: K | AU132: 2 | AY132: ROZPOCET | BE132: =IF(N132="základní",J132,0) -> 0 | BF132: =IF(N132="snížená",J132,0) -> 0 | BG132: =IF(N132="zákl. přenesená",J132,0) -> 0 | BH132: =IF(N132="sníž. přenesená",J132,0) -> 0 | BI132: =IF(N132="nulová",J132,0) -> 0 | BJ132: 2 | BK132: =ROUND(I132*H132,2) -> 0 | BL132: 16 | BM132: -1180243488
D133: Online PSC | F133: https://podminky.urs.cz/item/CS_URS_2023_01/721194104 | AT133: Online PSC | AU133: 2
...

Sheet SO 03 - Ústřední vytápění
AT2: {0e845053-8896-4e14-b0c5-77f6d39cf1d8}
AT3: 1
D4: KRYCÍ LIST SOUPISU PRACÍ | M4: v --- níže se nacházejí doplnkové a pomocné údaje k sestavám --- v | AT4: False
D6: Stavba:
E7: ='Rekapitulace stavby'!K6 -> Opravy bytových jednotek OŘ Brno - VB ŽST Rousínov č.p.788
D8: Objekt:
E9: E.2 - Pozemní a stavební objekty
D10: Soupis:
E11: SO 03 - Ústřední vytápění
D13: KSO: | I13: CC-CZ:
D14: Místo: | F14: Rousínov | I14: Datum: | J14: ='Rekapitulace stavby'!AN8 -> 24. 8. 2020
D16: Zadavatel: | I16: IČ: | J16: 70994234
E17: Správa železniční dopravní cesty | I17: DIČ: | J17: CZ70994234
D19: Uchazeč: | I19: IČ: | J19: ='Rekapitulace stavby'!AN13 -> Vyplň údaj
E20: ='Rekapitulace stavby'!E14 -> Vyplň údaj | I20: DIČ: | J20: ='Rekapitulace stavby'!AN14 -> Vyplň údaj
D22: Projektant: | I22: IČ: | J22: 27245918
E23: APREA s.r.o. | I23: DIČ: | J23: CZ27245918
D25: Zpracovatel: | I25: IČ:
I26: DIČ:
D28: Poznámka:
D32: Cena bez DPH | J32: =ROUND(J91, 2) -> 0
F34: Základ daně | I34: Sazba daně | J34: Výše daně
D35: DPH | E35: základní | F35: =ROUND((SUM(BE91:BE181)), 2) -> 0 | I35: 0.21 | J35: =ROUND(((SUM(BE91:BE181))*I35), 2) -> 0
E36: snížená | F36: =ROUND((SUM(BF91:BF181)), 2) -> 0 | I36: 0.15 | J36: =ROUND(((SUM(BF91:BF181))*I36), 2) -> 0
E37: zákl. přenesená | F37: =ROUND((SUM(BG91:BG181)), 2) -> 0 | I37: 0.21 | J37: =0 -> 0
E38: sníž. přenesená | F38: =ROUND((SUM(BH91:BH181)), 2) -> 0 | I38: 0.15 | J38: =0 -> 0
E39: nulová | F39: =ROUND((SUM(BI91:BI181)), 2) -> 0 | I39: 0 | J39: =0 -> 0
D41: Cena s DPH | G41: v | H41: CZK | J41: =SUM(J32:J39) -> 0
C47: REKAPITULACE ČLENĚNÍ SOUPISU PRACÍ
C49: Stavba:
E50: =E7 -> Opravy bytových jednotek OŘ Brno - VB ŽST Rousínov č.p.788
C51: Objekt:
E52: E.2 - Pozemní a stavební objekty
C53: Soupis:
E54: =E11 -> SO 03 - Ústřední vytápění
C56: Místo: | F56: =F14 -> Rousínov | I56: Datum: | J56: =IF(J14="","",J14) -> 24. 8. 2020
C58: Zadavatel: | F58: =E17 -> Správa železniční dopravní cesty | I58: Projektant: | J58: =E23 -> APREA s.r.o.
C59: Uchazeč: | F59: =IF(E20="","",E20) -> Vyplň údaj | I59: Zpracovatel: | J59: =E26
C61: Kód dílu - Popis | J61: Cena celkem [CZK]
C63: Náklady stavby celkem | J63: =J91 -> 0 | AU63: -1
D64: PSV - Práce a dodávky PSV | J64: =J92 -> 0
D65: 731 - Ústřední vytápění - kotelny | J65: =J93 -> 0
D66: 733 - Ústřední vytápění - rozvodné potrubí | J66: =J106 -> 0
D67: 734 - Ústřední vytápění - armatury | J67: =J124 -> 0
D68: 735 - Ústřední vytápění - otopná tělesa | J68: =J147 -> 0
D69: HZS - Hodinové zúčtovací sazby | J69: =J177 -> 0
C76: SOUPIS PRACÍ
C78: Stavba:
E79: =E7 -> Opravy bytových jednotek OŘ Brno - VB ŽST Rousínov č.p.788
C80: Objekt:
E81: E.2 - Pozemní a stavební objekty
C82: Soupis:
E83: =E11 -> SO 03 - Ústřední vytápění
C85: Místo: | F85: =F14 -> Rousínov | I85: Datum: | J85: =IF(J14="","",J14) -> 24. 8. 2020
C87: Zadavatel: | F87: =E17 -> Správa železniční dopravní cesty | I87: Projektant: | J87: =E23 -> APREA s.r.o.
C88: Uchazeč: | F88: =IF(E20="","",E20) -> Vyplň údaj | I88: Zpracovatel: | J88: =E26
C90: PČ | D90: Typ | E90: Kód | F90: Popis | G90: MJ | H90: Množství | I90: J.cena [CZK] | J90: Cena celkem [CZK] | K90: Cenová soustava | N90: DPH | O90: J. Nh [h] | P90: Nh celkem [h] | Q90: J. hmotnost [t] | R90: Hmotnost celkem [t] | S90: J. suť [t] | T90: Suť Celkem [t]
C91: Náklady soupisu celkem | J91: =BK91 -> 0 | P91: =P92+P177 -> 0 | R91: =R92+R177 -> 0.62711 | T91: =T92+T177 -> 0 | AT91: D | AU91: -1 | BK91: =BK92+BK177 -> 0
D92: D | E92: PSV | F92: Práce a dodávky PSV | J92: =BK92 -> 0 | P92: =P93+P106+P124+P147 -> 0 | R92: =R93+R106+R124+R147 -> 0.62711 | T92: =T93+T106+T124+T147 -> 0 | AR92: 2 | AT92: D | AU92: 0 | AY92: ROZPOCET | BK92: =BK93+BK106+BK124+BK147 -> 0
D93: D | E93: 731 | F93: Ústřední vytápění - kotelny | J93: =BK93 -> 0 | P93: =SUM(P94:P105) -> 0 | R93: =SUM(R94:R105) -> 0.07003 | T93: =SUM(T94:T105) -> 0 | AR93: 2 | AT93: D | AU93: 1 | AY93: ROZPOCET | BK93: =SUM(BK94:BK105) -> 0
C94: 1 | D94: K | E94: 731244303 | F94: Kotle ocelové teplovodní plynové závěsné kondenzační s integrovaným zásobníkem TUV 8,0-28,0 kW | G94: soubor | H94: 1 | J94: =ROUND(I94*H94,2) -> 0 | K94: CS ÚRS 2023 01 | N94: snížená | P94: =O94*H94 -> 0 | Q94: 0.06781 | R94: =Q94*H94 -> 0.06781 | S94: 0 | T94: =S94*H94 -> 0 | AR94: 16 | AT94: K | AU94: 2 | AY94: ROZPOCET | BE94: =IF(N94="základní",J94,0) -> 0 | BF94: =IF(N94="snížená",J94,0) -> 0 | BG94: =IF(N94="zákl. přenesená",J94,0) -> 0 | BH94: =IF(N94="sníž. přenesená",J94,0) -> 0 | BI94: =IF(N94="nulová",J94,0) -> 0 | BJ94: 2 | BK94: =ROUND(I94*H94,2) -> 0 | BL94: 16 | BM94: -940505316
D95: Online PSC | F95: https://podminky.urs.cz/item/CS_URS_2023_01/731244303 | AT95: Online PSC | AU95: 2
C96: 2 | D96: K | E96: 735531045 | F96: Montáž elektrického podlahového vytápění instalace a napojení termostatu na zeď | G96: kus | H96: 1 | J96: =ROUND(I96*H96,2) -> 0 | K96: CS ÚRS 2023 01 | N96: snížená | P96: =O96*H96 -> 0 | Q96: 0 | R96: =Q96*H96 -> 0 | S96: 0 | T96: =S96*H96 -> 0 | AR96: 16 | AT96: K | AU96: 2 | AY96: ROZPOCET | BE96: =IF(N96="základní",J96,0) -> 0 | BF96: =IF(N96="snížená",J96,0) -> 0 | BG96: =IF(N96="zákl. přenesená",J96,0) -> 0 | BH96: =IF(N96="sníž. přenesená",J96,0) -> 0 | BI96: =IF(N96="nulová",J96,0) -> 0 | BJ96: 2 | BK96: =ROUND(I96*H96,2) -> 0 | BL96: 16 | BM96: 1124090225
D97: Online PSC | F97: https://podminky.urs.cz/item/CS_URS_2023_01/735531045 | AT97: Online PSC | AU97: 2
C98: 3 | D98: K | E98: 731810302 | F98: Nucené odtahy spalin od kondenzačních kotlů soustředným potrubím vedeným vodorovně ke komínové šachtě, průměru 80/125 mm | G98: soubor | H98: 1 | J98: =ROUND(I98*H98,2) -> 0 | K98: CS ÚRS 2023 01 | N98: snížená | P98: =O98*H98 -> 0 | Q98: 0.0009 | R98: =Q98*H98 -> 0.0009 | S98: 0 | T98: =S98*H98 -> 0 | AR98: 16 | AT98: K | AU98: 2 | AY98: ROZPOCET | BE98: =IF(N98="základní",J98,0) -> 0 | BF98: =IF(N98="snížená",J98,0) -> 0 | BG98: =IF(N98="zákl. přenesená",J98,0) -> 0 | BH98: =IF(N98="sníž. přenesená",J98,0) -> 0 | BI98: =IF(N98="nulová",J98,0) -> 0 | BJ98: 2 | BK98: =ROUND(I98*H98,2) -> 0 | BL98: 16 | BM98: 452729670
D99: Online PSC | F99: https://podminky.urs.cz/item/CS_URS_2023_01/731810302 | AT99: Online PSC | AU99: 2
C100: 4 | D100: K | E100: 731810342 | F100: Nucené odtahy spalin od kondenzačních kotlů prodloužení soustředného potrubí, průměru 80/125 mm | G100: m | H100: 3 | J100: =ROUND(I100*H100,2) -> 0 | K100: CS ÚRS 2023 01 | N100: snížená | P100: =O100*H100 -> 0 | Q100: 0.00044 | R100: =Q100*H100 -> 0.00132 | S100: 0 | T100: =S100*H100 -> 0 | AR100: 16 | AT100: K | AU100: 2 | AY100: ROZPOCET | BE100: =IF(N100="základní",J100,0) -> 0 | BF100: =IF(N100="snížená",J100,0) -> 0 | BG100: =IF(N100="zákl. přenesená",J100,0) -> 0 | BH100: =IF(N100="sníž. přenesená",J100,0) -> 0 | BI100: =IF(N100="nulová",J100,0) -> 0 | BJ100: 2 | BK100: =ROUND(I100*H100,2) -> 0 | BL100: 16 | BM100: -1930289465
D101: Online PSC | F101: https://podminky.urs.cz/item/CS_URS_2023_01/731810342 | AT101: Online PSC | AU101: 2
C102: 5 | D102: K | E102: 998731102 | F102: Přesun hmot pro kotelny stanovený z hmotnosti přesunovaného materiálu vodorovná dopravní vzdálenost do 50 m v objektech výšky přes 6 do 12 m | G102: t | H102: 0.07 | J102: =ROUND(I102*H102,2) -> 0 | K102: CS ÚRS 2023 01 | N102: snížená | P102: =O102*H102 -> 0 | Q102: 0 | R102: =Q102*H102 -> 0 | S102: 0 | T102: =S102*H102 -> 0 | AR102: 16 | AT102: K | AU102: 2 | AY102: ROZPOCET | BE102: =IF(N102="základní",J102,0) -> 0 | BF102: =IF(N102="snížená",J102,0) -> 0 | BG102: =IF(N102="zákl. přenesená",J102,0) -> 0 | BH102: =IF(N102="sníž. přenesená",J102,0) -> 0 | BI102: =IF(N102="nulová",J102,0) -> 0 | BJ102: 2 | BK102: =ROUND(I102*H102,2) -> 0 | BL102: 16 | BM102: -512467807
D103: Online PSC | F103: https://podminky.urs.cz/item/CS_URS_2023_01/998731102 | AT103: Online PSC | AU103: 2
C104: 6 | D104: K | E104: 998731181 | F104: Přesun hmot pro kotelny stanovený z hmotnosti přesunovaného materiálu Příplatek k cenám za přesun prováděný bez použití mechanizace pro jakoukoliv výšku objektu | G104: t | H104: 0.07 | J104: =ROUND(I104*H104,2) -> 0 | K104: CS ÚRS 2023 01 | N104: snížená | P104: =O104*H104 -> 0 | Q104: 0 | R104: =Q104*H104 -> 0 | S104: 0 | T104: =S104*H104 -> 0 | AR104: 16 | AT104: K | AU104: 2 | AY104: ROZPOCET | BE104: =IF(N104="základní",J104,0) -> 0 | BF104: =IF(N104="snížená",J104,0) -> 0 | BG104: =IF(N104="zákl. přenesená",J104,0) -> 0 | BH104: =IF(N104="sníž. přenesená",J104,0) -> 0 | BI104: =IF(N104="nulová",J104,0) -> 0 | BJ104: 2 | BK104: =ROUND(I104*H104,2) -> 0 | BL104: 16 | BM104: 1349659259
D105: Online PSC | F105: https://podminky.urs.cz/item/CS_URS_2023_01/998731181 | AT105: Online PSC | AU105: 2
D106: D | E106: 733 | F106: Ústřední vytápění - rozvodné potrubí | J106: =BK106 -> 0 | P106: =SUM(P107:P123) -> 0 | R106: =SUM(R107:R123) -> 0.06462 | T106: =SUM(T107:T123) -> 0 | AR106: 2 | AT106: D | AU106: 1 | AY106: ROZPOCET | BK106: =SUM(BK107:BK123) -> 0
C107: 7 | D107: K | E107: 733222102 | F107: Potrubí z trubek měděných polotvrdých spojovaných měkkým pájením Ø 15/1 | G107: m | H107: 66 | J107: =ROUND(I107*H107,2) -> 0 | K107: CS ÚRS 2023 01 | N107: snížená | P107: =O107*H107 -> 0 | Q107: 0.00047 | R107: =Q107*H107 -> 0.03102 | S107: 0 | T107: =S107*H107 -> 0 | AR107: 16 | AT107: K | AU107: 2 | AY107: ROZPOCET | BE107: =IF(N107="základní",J107,0) -> 0 | BF107: =IF(N107="snížená",J107,0) -> 0 | BG107: =IF(N107="zákl. přenesená",J107,0) -> 0 | BH107: =IF(N107="sníž. přenesená",J107,0) -> 0 | BI107: =IF(N107="nulová",J107,0) -> 0 | BJ107: 2 | BK107: =ROUND(I107*H107,2) -> 0 | BL107: 16 | BM107: 876248118
D108: Online PSC | F108: https://podminky.urs.cz/item/CS_URS_2023_01/733222102 | AT108: Online PSC | AU108: 2
C109: 8 | D109: K | E109: 733222103 | F109: Potrubí z trubek měděných polotvrdých spojovaných měkkým pájením Ø 18/1 | G109: m | H109: 28 | J109: =ROUND(I109*H109,2) -> 0 | K109: CS ÚRS 2023 01 | N109: snížená | P109: =O109*H109 -> 0 | Q109: 0.00058 | R109: =Q109*H109 -> 0.01624 | S109: 0 | T109: =S109*H109 -> 0 | AR109: 16 | AT109: K | AU109: 2 | AY109: ROZPOCET | BE109: =IF(N109="základní",J109,0) -> 0 | BF109: =IF(N109="snížená",J109,0) -> 0 | BG109: =IF(N109="zákl. přenesená",J109,0) -> 0 | BH109: =IF(N109="sníž. přenesená",J109,0) -> 0 | BI109: =IF(N109="nulová",J109,0) -> 0 | BJ109: 2 | BK109: =ROUND(I109*H109,2) -> 0 | BL109: 16 | BM109: -254131480
D110: Online PSC | F110: https://podminky.urs.cz/item/CS_URS_2023_01/733222103 | AT110: Online PSC | AU110: 2
C111: 9 | D111: K | E111: 733222104 | F111: Potrubí z trubek měděných polotvrdých spojovaných měkkým pájením Ø 22/1 | G111: m | H111: 8 | J111: =ROUND(I111*H111,2) -> 0 | K111: CS ÚRS 2023 01 | N111: snížená | P111: =O111*H111 -> 0 | Q111: 0.00073 | R111: =Q111*H111 -> 0.00584 | S111: 0 | T111: =S111*H111 -> 0 | AR111: 16 | AT111: K | AU111: 2 | AY111: ROZPOCET | BE111: =IF(N111="základní",J111,0) -> 0 | BF111: =IF(N111="snížená",J111,0) -> 0 | BG111: =IF(N111="zákl. přenesená",J111,0) -> 0 | BH111: =IF(N111="sníž. přenesená",J111,0) -> 0 | BI111: =IF(N111="nulová",J111,0) -> 0 | BJ111: 2 | BK111: =ROUND(I111*H111,2) -> 0 | BL111: 16 | BM111: 380448003
D112: Online PSC | F112: https://podminky.urs.cz/item/CS_URS_2023_01/733222104 | AT112: Online PSC | AU112: 2
C113: 10 | D113: K | E113: 733291101 | F113: Zkoušky těsnosti potrubí z trubek měděných Ø do 35/1,5 | G113: m | H113: 102 | J113: =ROUND(I113*H113,2) -> 0 | K113: CS ÚRS 2023 01 | N113: snížená | P113: =O113*H113 -> 0 | Q113: 0 | R113: =Q113*H113 -> 0 | S113: 0 | T113: =S113*H113 -> 0 | AR113: 16 | AT113: K | AU113: 2 | AY113: ROZPOCET | BE113: =IF(N113="základní",J113,0) -> 0 | BF113: =IF(N113="snížená",J113,0) -> 0 | BG113: =IF(N113="zákl. přenesená",J113,0) -> 0 | BH113: =IF(N113="sníž. přenesená",J113,0) -> 0 | BI113: =IF(N113="nulová",J113,0) -> 0 | BJ113: 2 | BK113: =ROUND(I113*H113,2) -> 0 | BL113: 16 | BM113: 617337619
D114: Online PSC | F114: https://podminky.urs.cz/item/CS_URS_2023_01/733291101 | AT114: Online PSC | AU114: 2
C115: 11 | D115: K | E115: 733811241 | F115: Ochrana potrubí termoizolačními trubicemi z pěnového polyetylenu PE přilepenými v příčných a podélných spojích, tloušťky izolace přes 13 do 20 mm, vnitřního průměru izolace DN do 22 mm | G115: m | H115: 96 | J115: =ROUND(I115*H115,2) -> 0 | K115: CS ÚRS 2023 01 | N115: snížená | P115: =O115*H115 -> 0 | Q115: 0.00012 | R115: =Q115*H115 -> 0.01152 | S115: 0 | T115: =S115*H115 -> 0 | AR115: 16 | AT115: K | AU115: 2 | AY115: ROZPOCET | BE115: =IF(N115="základní",J115,0) -> 0 | BF115: =IF(N115="snížená",J115,0) -> 0 | BG115: =IF(N115="zákl. přenesená",J115,0) -> 0 | BH115: =IF(N115="sníž. přenesená",J115,0) -> 0 | BI115: =IF(N115="nulová",J115,0) -> 0 | BJ115: 2 | BK115: =ROUND(I115*H115,2) -> 0 | BL115: 16 | BM115: -409613899
D116: Online PSC | F116: https://podminky.urs.cz/item/CS_URS_2023_01/733811241 | AT116: Online PSC | AU116: 2
D117: VV | F117: "DN 15" 68,00 | H117: 68 | AT117: VV | AU117: 2 | AV117: 2 | AW117: True | AX117: 0 | AY117: ROZPOCET
D118: VV | F118: "DN 18" 28,00 | H118: 28 | AT118: VV | AU118: 2 | AV118: 2 | AW118: True | AX118: 0 | AY118: ROZPOCET
D119: VV | F119: Součet | H119: 96 | AT119: VV | AU119: 2 | AV119: 4 | AW119: True | AX119: 1 | AY119: ROZPOCET
C120: 12 | D120: K | E120: 998733102 | F120: Přesun hmot pro rozvody potrubí stanovený z hmotnosti přesunovaného materiálu vodorovná dopravní vzdálenost do 50 m v objektech výšky přes 6 do 12 m | G120: t | H120: 0.063 | J120: =ROUND(I120*H120,2) -> 0 | K120: CS ÚRS 2023 01 | N120: snížená | P120: =O120*H120 -> 0 | Q120: 0 | R120: =Q120*H120 -> 0 | S120: 0 | T120: =S120*H120 -> 0 | AR120: 16 | AT120: K | AU120: 2 | AY120: ROZPOCET | BE120: =IF(N120="základní",J120,0) -> 0 | BF120: =IF(N120="snížená",J120,0) -> 0 | BG120: =IF(N120="zákl. přenesená",J120,0) -> 0 | BH120: =IF(N120="sníž. přenesená",J120,0) -> 0 | BI120: =IF(N120="nulová",J120,0) -> 0 | BJ120: 2 | BK120: =ROUND(I120*H120,2) -> 0 | BL120: 16 | BM120: -506310283
D121: Online PSC | F121: https://podminky.urs.cz/item/CS_URS_2023_01/998733102 | AT121: Online PSC | AU121: 2
C122: 13 | D122: K | E122: 998733181 | F122: Přesun hmot pro rozvody potrubí stanovený z hmotnosti přesunovaného materiálu Příplatek k cenám za přesun prováděný bez použití mechanizace pro jakoukoliv výšku objektu | G122: t | H122: 0.063 | J122: =ROUND(I122*H122,2) -> 0 | K122: CS ÚRS 2023 01 | N122: snížená | P122: =O122*H122 -> 0 | Q122: 0 | R122: =Q122*H122 -> 0 | S122: 0 | T122: =S122*H122 -> 0 | AR122: 16 | AT122: K | AU122: 2 | AY122: ROZPOCET | BE122: =IF(N122="základní",J122,0) -> 0 | BF122: =IF(N122="snížená",J122,0) -> 0 | BG122: =IF(N122="zákl. přenesená",J122,0) -> 0 | BH122: =IF(N122="sníž. přenesená",J122,0) -> 0 | BI122: =IF(N122="nulová",J122,0) -> 0 | BJ122: 2 | BK122: =ROUND(I122*H122,2) -> 0 | BL122: 16 | BM122: -1685827446
D123: Online PSC | F123: https://podminky.urs.cz/item/CS_URS_2023_01/998733181 | AT123: Online PSC | AU123: 2
D124: D | E124: 734 | F124: Ústřední vytápění - armatury | J124: =BK124 -> 0 | P124: =SUM(P125:P146) -> 0 | R124: =SUM(R125:R146) -> 0.0144 | T124: =SUM(T125:T146) -> 0 | AR124: 2 | AT124: D | AU124: 1 | AY124: ROZPOCET | BK124: =SUM(BK125:BK146) -> 0
C125: 14 | D125: K | E125: 734209103 | F125: Montáž závitových armatur s 1 závitem G 1/2 (DN 15) | G125: kus | H125: 18 | J125: =ROUND(I125*H125,2) -> 0 | K125: CS ÚRS 2023 01 | N125: snížená | P125: =O125*H125 -> 0 | Q125: 3e-05 | R125: =Q125*H125 -> 0.00054 | S125: 0 | T125: =S125*H125 -> 0 | AR125: 16 | AT125: K | AU125: 2 | AY125: ROZPOCET | BE125: =IF(N125="základní",J125,0) -> 0 | BF125: =IF(N125="snížená",J125,0) -> 0 | BG125: =IF(N125="zákl. přenesená",J125,0) -> 0 | BH125: =IF(N125="sníž. přenesená",J125,0) -> 0 | BI125: =IF(N125="nulová",J125,0) -> 0 | BJ125: 2 | BK125: =ROUND(I125*H125,2) -> 0 | BL125: 16 | BM125: -883566058
D126: Online PSC | F126: https://podminky.urs.cz/item/CS_URS_2023_01/734209103 | AT126: Online PSC | AU126: 2
C127: 15 | D127: K | E127: 734209114 | F127: Montáž závitových armatur se 2 závity G 3/4 (DN 20) | G127: kus | H127: 8 | J127: =ROUND(I127*H127,2) -> 0 | K127: CS ÚRS 2023 01 | N127: snížená | P127: =O127*H127 -> 0 | Q127: 0.0001 | R127: =Q127*H127 -> 0.0008 | S127: 0 | T127: =S127*H127 -> 0 | AR127: 16 | AT127: K | AU127: 2 | AY127: ROZPOCET | BE127: =IF(N127="základní",J127,0) -> 0 | BF127: =IF(N127="snížená",J127,0) -> 0 | BG127: =IF(N127="zákl. přenesená",J127,0) -> 0 | BH127: =IF(N127="sníž. přenesená",J127,0) -> 0 | BI127: =IF(N127="nulová",J127,0) -> 0 | BJ127: 2 | BK127: =ROUND(I127*H127,2) -> 0 | BL127: 16 | BM127: 624430555
D128: Online PSC | F128: https://podminky.urs.cz/item/CS_URS_2023_01/734209114 | AT128: Online PSC | AU128: 2
C129: 16 | D129: K | E129: 734221682 | F129: Ventily regulační závitové hlavice termostatické, pro ovládání ventilů PN 10 do 110°C kapalinové otopných těles VK | G129: kus | H129: 6 | J129: =ROUND(I129*H129,2) -> 0 | K129: CS ÚRS 2023 01 | N129: snížená | P129: =O129*H129 -> 0 | Q129: 0.00014 | R129: =Q129*H129 -> 0.00084 | S129: 0 | T129: =S129*H129 -> 0 | AR129: 16 | AT129: K | AU129: 2 | AY129: ROZPOCET | BE129: =IF(N129="základní",J129,0) -> 0 | BF129: =IF(N129="snížená",J129,0) -> 0 | BG129: =IF(N129="zákl. přenesená",J129,0) -> 0 | BH129: =IF(N129="sníž. přenesená",J129,0) -> 0 | BI129: =IF(N129="nulová",J129,0) -> 0 | BJ129: 2 | BK129: =ROUND(I129*H129,2) -> 0 | BL129: 16 | BM129: 743739194
D130: Online PSC | F130: https://podminky.urs.cz/item/CS_URS_2023_01/734221682 | AT130: Online PSC | AU130: 2
C131: 17 | D131: K | E131: 734222802 | F131: Ventily regulační závitové termostatické, s hlavicí ručního ovládání PN 16 do 110°C rohové chromované G 1/2 | G131: kus | H131: 1 | J131: =ROUND(I131*H131,2) -> 0 | K131: CS ÚRS 2023 01 | N131: snížená | P131: =O131*H131 -> 0 | Q131: 0.00028 | R131: =Q131*H131 -> 0.00028 | S131: 0 | T131: =S131*H131 -> 0 | AR131: 16 | AT131: K | AU131: 2 | AY131: ROZPOCET | BE131: =IF(N131="základní",J131,0) -> 0 | BF131: =IF(N131="snížená",J131,0) -> 0 | BG131: =IF(N131="zákl. přenesená",J131,0) -> 0 | BH131: =IF(N131="sníž. přenesená",J131,0) -> 0 | BI131: =IF(N131="nulová",J131,0) -> 0 | BJ131: 2 | BK131: =ROUND(I131*H131,2) -> 0 | BL131: 16 | BM131: -1723780722
D132: Online PSC | F132: https://podminky.urs.cz/item/CS_URS_2023_01/734222802 | AT132: Online PSC | AU132: 2
C133: 18 | D133: K | E133: 734261233 | F133: Šroubení topenářské PN 16 do 120°C přímé G 1/2 | G133: kus | H133: 18 | J133: =ROUND(I133*H133,2) -> 0 | K133: CS ÚRS 2023 01 | N133: snížená | P133: =O133*H133 -> 0 | Q133: 0.00025 | R133: =Q133*H133 -> 0.0045 | S133: 0 | T133: =S133*H133 -> 0 | AR133: 16 | AT133: K | AU133: 2 | AY133: ROZPOCET | BE133: =IF(N133="základní",J133,0) -> 0 | BF133: =IF(N133="snížená",J133,0) -> 0 | BG133: =IF(N133="zákl. přenesená",J133,0) -> 0 | BH133: =IF(N133="sníž. přenesená",J133,0) -> 0 | BI133: =IF(N133="nulová",J133,0) -> 0 | BJ133: 2 | BK133: =ROUND(I133*H133,2) -> 0 | BL133: 16 | BM133: 523207893
...

Sheet SO 04 - Vzduchotechnika
AT2: {4984aa92-ebd5-4ab1-a410-d1e1901a8559}
AT3: 1
D4: KRYCÍ LIST SOUPISU PRACÍ | M4: v --- níže se nacházejí doplnkové a pomocné údaje k sestavám --- v | AT4: False
D6: Stavba:
E7: ='Rekapitulace stavby'!K6 -> Opravy bytových jednotek OŘ Brno - VB ŽST Rousínov č.p.788
D8: Objekt:
E9: E.2 - Pozemní a stavební objekty
D10: Soupis:
E11: SO 04 - Vzduchotechnika
D13: KSO: | I13: CC-CZ:
D14: Místo: | F14: Rousínov | I14: Datum: | J14: ='Rekapitulace stavby'!AN8 -> 24. 8. 2020
D16: Zadavatel: | I16: IČ: | J16: 70994234
E17: Správa železniční dopravní cesty | I17: DIČ: | J17: CZ70994234
D19: Uchazeč: | I19: IČ: | J19: ='Rekapitulace stavby'!AN13 -> Vyplň údaj
E20: ='Rekapitulace stavby'!E14 -> Vyplň údaj | I20: DIČ: | J20: ='Rekapitulace stavby'!AN14 -> Vyplň údaj
D22: Projektant: | I22: IČ: | J22: 27245918
E23: APREA s.r.o. | I23: DIČ: | J23: CZ27245918
D25: Zpracovatel: | I25: IČ:
I26: DIČ:
D28: Poznámka:
D32: Cena bez DPH | J32: =ROUND(J88, 2) -> 0
F34: Základ daně | I34: Sazba daně | J34: Výše daně
D35: DPH | E35: základní | F35: =ROUND((SUM(BE88:BE114)), 2) -> 0 | I35: 0.21 | J35: =ROUND(((SUM(BE88:BE114))*I35), 2) -> 0
E36: snížená | F36: =ROUND((SUM(BF88:BF114)), 2) -> 0 | I36: 0.15 | J36: =ROUND(((SUM(BF88:BF114))*I36), 2) -> 0
E37: zákl. přenesená | F37: =ROUND((SUM(BG88:BG114)), 2) -> 0 | I37: 0.21 | J37: =0 -> 0
E38: sníž. přenesená | F38: =ROUND((SUM(BH88:BH114)), 2) -> 0 | I38: 0.15 | J38: =0 -> 0
E39: nulová | F39: =ROUND((SUM(BI88:BI114)), 2) -> 0 | I39: 0 | J39: =0 -> 0
D41: Cena s DPH | G41: v | H41: CZK | J41: =SUM(J32:J39) -> 0
C47: REKAPITULACE ČLENĚNÍ SOUPISU PRACÍ
C49: Stavba:
E50: =E7 -> Opravy bytových jednotek OŘ Brno - VB ŽST Rousínov č.p.788
C51: Objekt:
E52: E.2 - Pozemní a stavební objekty
C53: Soupis:
E54: =E11 -> SO 04 - Vzduchotechnika
C56: Místo: | F56: =F14 -> Rousínov | I56: Datum: | J56: =IF(J14="","",J14) -> 24. 8. 2020
C58: Zadavatel: | F58: =E17 -> Správa železniční dopravní cesty | I58: Projektant: | J58: =E23 -> APREA s.r.o.
C59: Uchazeč: | F59: =IF(E20="","",E20) -> Vyplň údaj | I59: Zpracovatel: | J59: =E26
C61: Kód dílu - Popis | J61: Cena celkem [CZK]
C63: Náklady stavby celkem | J63: =J88 -> 0 | AU63: -1
D64: PSV - Práce a dodávky PSV | J64: =J89 -> 0
D65: 751 - Vzduchotechnika | J65: =J90 -> 0
D66: HZS - Hodinové zúčtovací sazby | J66: =J110 -> 0
C73: SOUPIS PRACÍ
C75: Stavba:
E76: =E7 -> Opravy bytových jednotek OŘ Brno - VB ŽST Rousínov č.p.788
C77: Objekt:
E78: E.2 - Pozemní a stavební objekty
C79: Soupis:
E80: =E11 -> SO 04 - Vzduchotechnika
C82: Místo: | F82: =F14 -> Rousínov | I82: Datum: | J82: =IF(J14="","",J14) -> 24. 8. 2020
C84: Zadavatel: | F84: =E17 -> Správa železniční dopravní cesty | I84: Projektant: | J84: =E23 -> APREA s.r.o.
C85: Uchazeč: | F85: =IF(E20="","",E20) -> Vyplň údaj | I85: Zpracovatel: | J85: =E26
C87: PČ | D87: Typ | E87: Kód | F87: Popis | G87: MJ | H87: Množství | I87: J.cena [CZK] | J87: Cena celkem [CZK] | K87: Cenová soustava | N87: DPH | O87: J. Nh [h] | P87: Nh celkem [h] | Q87: J. hmotnost [t] | R87: Hmotnost celkem [t] | S87: J. suť [t] | T87: Suť Celkem [t]
C88: Náklady soupisu celkem | J88: =BK88 -> 0 | P88: =P89+P110 -> 0 | R88: =R89+R110 -> 0.0371 | T88: =T89+T110 -> 0 | AT88: D | AU88: -1 | BK88: =BK89+BK110 -> 0
D89: D | E89: PSV | F89: Práce a dodávky PSV | J89: =BK89 -> 0 | P89: =P90 -> 0 | R89: =R90 -> 0.0371 | T89: =T90 -> 0 | AR89: 2 | AT89: D | AU89: 0 | AY89: ROZPOCET | BK89: =BK90 -> 0
D90: D | E90: 751 | F90: Vzduchotechnika | J90: =BK90 -> 0 | P90: =SUM(P91:P109) -> 0 | R90: =SUM(R91:R109) -> 0.0371 | T90: =SUM(T91:T109) -> 0 | AR90: 2 | AT90: D | AU90: 1 | AY90: ROZPOCET | BK90: =SUM(BK91:BK109) -> 0
C91: 1 | D91: K | E91: 751122091 | F91: Montáž ventilátoru radiálního nízkotlakého potrubního základního do kruhového potrubí, průměru do 100 mm | G91: kus | H91: 2 | J91: =ROUND(I91*H91,2) -> 0 | K91: CS ÚRS 2023 01 | N91: snížená | P91: =O91*H91 -> 0 | Q91: 0 | R91: =Q91*H91 -> 0 | S91: 0 | T91: =S91*H91 -> 0 | AR91: 16 | AT91: K | AU91: 2 | AY91: ROZPOCET | BE91: =IF(N91="základní",J91,0) -> 0 | BF91: =IF(N91="snížená",J91,0) -> 0 | BG91: =IF(N91="zákl. přenesená",J91,0) -> 0 | BH91: =IF(N91="sníž. přenesená",J91,0) -> 0 | BI91: =IF(N91="nulová",J91,0) -> 0 | BJ91: 2 | BK91: =ROUND(I91*H91,2) -> 0 | BL91: 16 | BM91: 1795833991
D92: Online PSC | F92: https://podminky.urs.cz/item/CS_URS_2023_01/751122091 | AT92: Online PSC | AU92: 2
C93: 2 | D93: M | E93: 54233101 | F93: ventilátor radiální malý plastový CB 100 T spínač časový nastavitelný | G93: kus | H93: 2 | J93: =ROUND(I93*H93,2) -> 0 | K93: CS ÚRS 2023 01 | N93: snížená | P93: =O93*H93 -> 0 | Q93: 0.0015 | R93: =Q93*H93 -> 0.003 | S93: 0 | T93: =S93*H93 -> 0 | AR93: 32 | AT93: M | AU93: 2 | AY93: ROZPOCET | BE93: =IF(N93="základní",J93,0) -> 0 | BF93: =IF(N93="snížená",J93,0) -> 0 | BG93: =IF(N93="zákl. přenesená",J93,0) -> 0 | BH93: =IF(N93="sníž. přenesená",J93,0) -> 0 | BI93: =IF(N93="nulová",J93,0) -> 0 | BJ93: 2 | BK93: =ROUND(I93*H93,2) -> 0 | BL93: 16 | BM93: -2001266736
C94: 3 | D94: K | E94: 751510041 | F94: Vzduchotechnické potrubí z pozinkovaného plechu kruhové, trouba spirálně vinutá bez příruby, průměru do 100 mm | G94: m | H94: 3 | J94: =ROUND(I94*H94,2) -> 0 | K94: CS ÚRS 2023 01 | N94: snížená | P94: =O94*H94 -> 0 | Q94: 0.00167 | R94: =Q94*H94 -> 0.00501 | S94: 0 | T94: =S94*H94 -> 0 | AR94: 16 | AT94: K | AU94: 2 | AY94: ROZPOCET | BE94: =IF(N94="základní",J94,0) -> 0 | BF94: =IF(N94="snížená",J94,0) -> 0 | BG94: =IF(N94="zákl. přenesená",J94,0) -> 0 | BH94: =IF(N94="sníž. přenesená",J94,0) -> 0 | BI94: =IF(N94="nulová",J94,0) -> 0 | BJ94: 2 | BK94: =ROUND(I94*H94,2) -> 0 | BL94: 16 | BM94: 913725203
D95: Online PSC | F95: https://podminky.urs.cz/item/CS_URS_2023_01/751510041 | AT95: Online PSC | AU95: 2
D96: VV | F96: "DN 100" 3,00 | H96: 3 | AT96: VV | AU96: 2 | AV96: 2 | AW96: True | AX96: 1 | AY96: ROZPOCET
C97: 4 | D97: K | E97: 751510041 | F97: Vzduchotechnické potrubí z pozinkovaného plechu kruhové, trouba spirálně vinutá bez příruby, průměru do 100 mm | G97: m | H97: 3 | J97: =ROUND(I97*H97,2) -> 0 | K97: CS ÚRS 2023 01 | N97: snížená | P97: =O97*H97 -> 0 | Q97: 0.00167 | R97: =Q97*H97 -> 0.00501 | S97: 0 | T97: =S97*H97 -> 0 | AR97: 16 | AT97: K | AU97: 2 | AY97: ROZPOCET | BE97: =IF(N97="základní",J97,0) -> 0 | BF97: =IF(N97="snížená",J97,0) -> 0 | BG97: =IF(N97="zákl. přenesená",J97,0) -> 0 | BH97: =IF(N97="sníž. přenesená",J97,0) -> 0 | BI97: =IF(N97="nulová",J97,0) -> 0 | BJ97: 2 | BK97: =ROUND(I97*H97,2) -> 0 | BL97: 16 | BM97: -510490647
D98: Online PSC | F98: https://podminky.urs.cz/item/CS_URS_2023_01/751510041 | AT98: Online PSC | AU98: 2
D99: VV | F99: "DN 100 hlukově izolované potrubí flex" 3,00 | H99: 3 | AT99: VV | AU99: 2 | AV99: 2 | AW99: True | AX99: 1 | AY99: ROZPOCET
C100: 5 | D100: K | E100: 751510042 | F100: Vzduchotechnické potrubí z pozinkovaného plechu kruhové, trouba spirálně vinutá bez příruby, průměru přes 100 do 200 mm | G100: m | H100: 1 | J100: =ROUND(I100*H100,2) -> 0 | K100: CS ÚRS 2023 01 | N100: snížená | P100: =O100*H100 -> 0 | Q100: 0.00344 | R100: =Q100*H100 -> 0.00344 | S100: 0 | T100: =S100*H100 -> 0 | AR100: 16 | AT100: K | AU100: 2 | AY100: ROZPOCET | BE100: =IF(N100="základní",J100,0) -> 0 | BF100: =IF(N100="snížená",J100,0) -> 0 | BG100: =IF(N100="zákl. přenesená",J100,0) -> 0 | BH100: =IF(N100="sníž. přenesená",J100,0) -> 0 | BI100: =IF(N100="nulová",J100,0) -> 0 | BJ100: 2 | BK100: =ROUND(I100*H100,2) -> 0 | BL100: 16 | BM100: 491353314
D101: Online PSC | F101: https://podminky.urs.cz/item/CS_URS_2023_01/751510042 | AT101: Online PSC | AU101: 2
D102: VV | F102: "DN 125" 1,00 | H102: 1 | AT102: VV | AU102: 2 | AV102: 2 | AW102: True | AX102: 1 | AY102: ROZPOCET
C103: 6 | D103: K | E103: 751510042 | F103: Vzduchotechnické potrubí z pozinkovaného plechu kruhové, trouba spirálně vinutá bez příruby, průměru přes 100 do 200 mm | G103: m | H103: 6 | J103: =ROUND(I103*H103,2) -> 0 | K103: CS ÚRS 2023 01 | N103: snížená | P103: =O103*H103 -> 0 | Q103: 0.00344 | R103: =Q103*H103 -> 0.02064 | S103: 0 | T103: =S103*H103 -> 0 | AR103: 16 | AT103: K | AU103: 2 | AY103: ROZPOCET | BE103: =IF(N103="základní",J103,0) -> 0 | BF103: =IF(N103="snížená",J103,0) -> 0 | BG103: =IF(N103="zákl. přenesená",J103,0) -> 0 | BH103: =IF(N103="sníž. přenesená",J103,0) -> 0 | BI103: =IF(N103="nulová",J103,0) -> 0 | BJ103: 2 | BK103: =ROUND(I103*H103,2) -> 0 | BL103: 16 | BM103: 1973157690
D104: Online PSC | F104: https://podminky.urs.cz/item/CS_URS_2023_01/751510042 | AT104: Online PSC | AU104: 2
D105: VV | F105: "DN 150 - vodotěsné" 6,00 | H105: 6 | AT105: VV | AU105: 2 | AV105: 2 | AW105: True | AX105: 1 | AY105: ROZPOCET
C106: 7 | D106: K | E106: 998751101 | F106: Přesun hmot pro vzduchotechniku stanovený z hmotnosti přesunovaného materiálu vodorovná dopravní vzdálenost do 100 m v objektech výšky do 12 m | G106: t | H106: 0.035 | J106: =ROUND(I106*H106,2) -> 0 | K106: CS ÚRS 2023 01 | N106: snížená | P106: =O106*H106 -> 0 | Q106: 0 | R106: =Q106*H106 -> 0 | S106: 0 | T106: =S106*H106 -> 0 | AR106: 16 | AT106: K | AU106: 2 | AY106: ROZPOCET | BE106: =IF(N106="základní",J106,0) -> 0 | BF106: =IF(N106="snížená",J106,0) -> 0 | BG106: =IF(N106="zákl. přenesená",J106,0) -> 0 | BH106: =IF(N106="sníž. přenesená",J106,0) -> 0 | BI106: =IF(N106="nulová",J106,0) -> 0 | BJ106: 2 | BK106: =ROUND(I106*H106,2) -> 0 | BL106: 16 | BM106: 1208879381
D107: Online PSC | F107: https://podminky.urs.cz/item/CS_URS_2023_01/998751101 | AT107: Online PSC | AU107: 2
C108: 8 | D108: K | E108: 998751181 | F108: Přesun hmot pro vzduchotechniku stanovený z hmotnosti přesunovaného materiálu Příplatek k cenám za přesun prováděný bez použití mechanizace pro jakoukoliv výšku objektu | G108: t | H108: 0.035 | J108: =ROUND(I108*H108,2) -> 0 | K108: CS ÚRS 2023 01 | N108: snížená | P108: =O108*H108 -> 0 | Q108: 0 | R108: =Q108*H108 -> 0 | S108: 0 | T108: =S108*H108 -> 0 | AR108: 16 | AT108: K | AU108: 2 | AY108: ROZPOCET | BE108: =IF(N108="základní",J108,0) -> 0 | BF108: =IF(N108="snížená",J108,0) -> 0 | BG108: =IF(N108="zákl. přenesená",J108,0) -> 0 | BH108: =IF(N108="sníž. přenesená",J108,0) -> 0 | BI108: =IF(N108="nulová",J108,0) -> 0 | BJ108: 2 | BK108: =ROUND(I108*H108,2) -> 0 | BL108: 16 | BM108: -165851528
D109: Online PSC | F109: https://podminky.urs.cz/item/CS_URS_2023_01/998751181 | AT109: Online PSC | AU109: 2
D110: D | E110: HZS | F110: Hodinové zúčtovací sazby | J110: =BK110 -> 0 | P110: =SUM(P111:P114) -> 0 | R110: =SUM(R111:R114) -> 0 | T110: =SUM(T111:T114) -> 0 | AR110: 4 | AT110: D | AU110: 0 | AY110: ROZPOCET | BK110: =SUM(BK111:BK114) -> 0
C111: 9 | D111: K | E111: HZS2492 | F111: Hodinové zúčtovací sazby profesí PSV zednické výpomoci a pomocné práce PSV pomocný dělník PSV | G111: hod | H111: 3 | J111: =ROUND(I111*H111,2) -> 0 | K111: CS ÚRS 2023 01 | N111: snížená | P111: =O111*H111 -> 0 | Q111: 0 | R111: =Q111*H111 -> 0 | S111: 0 | T111: =S111*H111 -> 0 | AR111: 512 | AT111: K | AU111: 1 | AY111: ROZPOCET | BE111: =IF(N111="základní",J111,0) -> 0 | BF111: =IF(N111="snížená",J111,0) -> 0 | BG111: =IF(N111="zákl. přenesená",J111,0) -> 0 | BH111: =IF(N111="sníž. přenesená",J111,0) -> 0 | BI111: =IF(N111="nulová",J111,0) -> 0 | BJ111: 2 | BK111: =ROUND(I111*H111,2) -> 0 | BL111: 512 | BM111: 686659117
D112: Online PSC | F112: https://podminky.urs.cz/item/CS_URS_2023_01/HZS2492 | AT112: Online PSC | AU112: 1
C113: 10 | D113: K | E113: HZS3212 | F113: Hodinové zúčtovací sazby montáží technologických zařízení na stavebních objektech montér vzduchotechniky odborný | G113: hod | H113: 2 | J113: =ROUND(I113*H113,2) -> 0 | K113: CS ÚRS 2023 01 | N113: snížená | P113: =O113*H113 -> 0 | Q113: 0 | R113: =Q113*H113 -> 0 | S113: 0 | T113: =S113*H113 -> 0 | AR113: 512 | AT113: K | AU113: 1 | AY113: ROZPOCET | BE113: =IF(N113="základní",J113,0) -> 0 | BF113: =IF(N113="snížená",J113,0) -> 0 | BG113: =IF(N113="zákl. přenesená",J113,0) -> 0 | BH113: =IF(N113="sníž. přenesená",J113,0) -> 0 | BI113: =IF(N113="nulová",J113,0) -> 0 | BJ113: 2 | BK113: =ROUND(I113*H113,2) -> 0 | BL113: 512 | BM113: 2098430369
D114: Online PSC | F114: https://podminky.urs.cz/item/CS_URS_2023_01/HZS3212 | AT114: Online PSC | AU114: 1

Sheet SO 05 - Elektroinstalace
AT2: {04c77b53-8d6e-415d-ada3-7f209adaa493}
AT3: 1
D4: KRYCÍ LIST SOUPISU PRACÍ | M4: v --- níže se nacházejí doplnkové a pomocné údaje k sestavám --- v | AT4: False
D6: Stavba:
E7: ='Rekapitulace stavby'!K6 -> Opravy bytových jednotek OŘ Brno - VB ŽST Rousínov č.p.788
D8: Objekt:
E9: E.2 - Pozemní a stavební objekty
D10: Soupis:
E11: SO 05 - Elektroinstalace
D13: KSO: | I13: CC-CZ:
D14: Místo: | F14: Rousínov | I14: Datum: | J14: ='Rekapitulace stavby'!AN8 -> 24. 8. 2020
D16: Zadavatel: | I16: IČ: | J16: 70994234
E17: Správa železniční dopravní cesty | I17: DIČ: | J17: CZ70994234
D19: Uchazeč: | I19: IČ: | J19: ='Rekapitulace stavby'!AN13 -> Vyplň údaj
E20: ='Rekapitulace stavby'!E14 -> Vyplň údaj | I20: DIČ: | J20: ='Rekapitulace stavby'!AN14 -> Vyplň údaj
D22: Projektant: | I22: IČ: | J22: 27245918
E23: APREA s.r.o. | I23: DIČ: | J23: CZ27245918
D25: Zpracovatel: | I25: IČ:
I26: DIČ:
D28: Poznámka:
D32: Cena bez DPH | J32: =ROUND(J92, 2) -> 0
F34: Základ daně | I34: Sazba daně | J34: Výše daně
D35: DPH | E35: základní | F35: =ROUND((SUM(BE92:BE176)), 2) -> 0 | I35: 0.21 | J35: =ROUND(((SUM(BE92:BE176))*I35), 2) -> 0
E36: snížená | F36: =ROUND((SUM(BF92:BF176)), 2) -> 0 | I36: 0.15 | J36: =ROUND(((SUM(BF92:BF176))*I36), 2) -> 0
E37: zákl. přenesená | F37: =ROUND((SUM(BG92:BG176)), 2) -> 0 | I37: 0.21 | J37: =0 -> 0
E38: sníž. přenesená | F38: =ROUND((SUM(BH92:BH176)), 2) -> 0 | I38: 0.15 | J38: =0 -> 0
E39: nulová | F39: =ROUND((SUM(BI92:BI176)), 2) -> 0 | I39: 0 | J39: =0 -> 0
D41: Cena s DPH | G41: v | H41: CZK | J41: =SUM(J32:J39) -> 0
C47: REKAPITULACE ČLENĚNÍ SOUPISU PRACÍ
C49: Stavba:
E50: =E7 -> Opravy bytových jednotek OŘ Brno - VB ŽST Rousínov č.p.788
C51: Objekt:
E52: E.2 - Pozemní a stavební objekty
C53: Soupis:
E54: =E11 -> SO 05 - Elektroinstalace
C56: Místo: | F56: =F14 -> Rousínov | I56: Datum: | J56: =IF(J14="","",J14) -> 24. 8. 2020
C58: Zadavatel: | F58: =E17 -> Správa železniční dopravní cesty | I58: Projektant: | J58: =E23 -> APREA s.r.o.
C59: Uchazeč: | F59: =IF(E20="","",E20) -> Vyplň údaj | I59: Zpracovatel: | J59: =E26
C61: Kód dílu - Popis | J61: Cena celkem [CZK]
C63: Náklady stavby celkem | J63: =J92 -> 0 | AU63: -1
D64: PSV - Práce a dodávky PSV | J64: =J93 -> 0
D65: 741 - Elektroinstalace - silnoproud | J65: =J94 -> 0
D66: 742 - Elektroinstalace - slaboproud | J66: =J146 -> 0
D67: M - Práce a dodávky M | J67: =J157 -> 0
D68: 22-M - Montáže technologických zařízení pro dopravní stavby | J68: =J158 -> 0
D69: HZS - Hodinové zúčtovací sazby | J69: =J168 -> 0
D70: OST - Ostatní | J70: =J175 -> 0
C77: SOUPIS PRACÍ
C79: Stavba:
E80: =E7 -> Opravy bytových jednotek OŘ Brno - VB ŽST Rousínov č.p.788
C81: Objekt:
E82: E.2 - Pozemní a stavební objekty
C83: Soupis:
E84: =E11 -> SO 05 - Elektroinstalace
C86: Místo: | F86: =F14 -> Rousínov | I86: Datum: | J86: =IF(J14="","",J14) -> 24. 8. 2020
C88: Zadavatel: | F88: =E17 -> Správa železniční dopravní cesty | I88: Projektant: | J88: =E23 -> APREA s.r.o.
C89: Uchazeč: | F89: =IF(E20="","",E20) -> Vyplň údaj | I89: Zpracovatel: | J89: =E26
C91: PČ | D91: Typ | E91: Kód | F91: Popis | G91: MJ | H91: Množství | I91: J.cena [CZK] | J91: Cena celkem [CZK] | K91: Cenová soustava | N91: DPH | O91: J. Nh [h] | P91: Nh celkem [h] | Q91: J. hmotnost [t] | R91: Hmotnost celkem [t] | S91: J. suť [t] | T91: Suť Celkem [t]
C92: Náklady soupisu celkem | J92: =BK92 -> 0 | P92: =P93+P157+P168+P175 -> 0 | R92: =R93+R157+R168+R175 -> 0.14265 | T92: =T93+T157+T168+T175 -> 0 | AT92: D | AU92: -1 | BK92: =BK93+BK157+BK168+BK175 -> 0
D93: D | E93: PSV | F93: Práce a dodávky PSV | J93: =BK93 -> 0 | P93: =P94+P146 -> 0 | R93: =R94+R146 -> 0.14157 | T93: =T94+T146 -> 0 | AR93: 2 | AT93: D | AU93: 0 | AY93: ROZPOCET | BK93: =BK94+BK146 -> 0
D94: D | E94: 741 | F94: Elektroinstalace - silnoproud | J94: =BK94 -> 0 | P94: =SUM(P95:P145) -> 0 | R94: =SUM(R95:R145) -> 0.14157 | T94: =SUM(T95:T145) -> 0 | AR94: 2 | AT94: D | AU94: 1 | AY94: ROZPOCET | BK94: =SUM(BK95:BK145) -> 0
C95: 1 | D95: K | E95: 741-01-R.pol. | F95: Demontáž stávajících rozvodů, vč.likvidace | G95: kompl | H95: 1 | J95: =ROUND(I95*H95,2) -> 0 | K95: R-položka | N95: snížená | P95: =O95*H95 -> 0 | Q95: 0 | R95: =Q95*H95 -> 0 | S95: 0 | T95: =S95*H95 -> 0 | AR95: 16 | AT95: K | AU95: 2 | AY95: ROZPOCET | BE95: =IF(N95="základní",J95,0) -> 0 | BF95: =IF(N95="snížená",J95,0) -> 0 | BG95: =IF(N95="zákl. přenesená",J95,0) -> 0 | BH95: =IF(N95="sníž. přenesená",J95,0) -> 0 | BI95: =IF(N95="nulová",J95,0) -> 0 | BJ95: 2 | BK95: =ROUND(I95*H95,2) -> 0 | BL95: 16 | BM95: -2019267401
C96: 2 | D96: K | E96: 741-03-R.pol | F96: Bytový rozváděč RB (viz samostaná příloha č. 3) - D+M | G96: kus | H96: 1 | J96: =ROUND(I96*H96,2) -> 0 | K96: R-položka | N96: snížená | P96: =O96*H96 -> 0 | Q96: 0 | R96: =Q96*H96 -> 0 | S96: 0 | T96: =S96*H96 -> 0 | AR96: 16 | AT96: K | AU96: 2 | AY96: ROZPOCET | BE96: =IF(N96="základní",J96,0) -> 0 | BF96: =IF(N96="snížená",J96,0) -> 0 | BG96: =IF(N96="zákl. přenesená",J96,0) -> 0 | BH96: =IF(N96="sníž. přenesená",J96,0) -> 0 | BI96: =IF(N96="nulová",J96,0) -> 0 | BJ96: 2 | BK96: =ROUND(I96*H96,2) -> 0 | BL96: 16 | BM96: -1707659273
C97: 3 | D97: K | E97: 741-04-R.pol | F97: Hlavní ochranná přípojnice HOP, pomocná POP - D+M | G97: kus | H97: 1 | J97: =ROUND(I97*H97,2) -> 0 | K97: R-položka | N97: snížená | P97: =O97*H97 -> 0 | Q97: 0 | R97: =Q97*H97 -> 0 | S97: 0 | T97: =S97*H97 -> 0 | AR97: 16 | AT97: K | AU97: 2 | AY97: ROZPOCET | BE97: =IF(N97="základní",J97,0) -> 0 | BF97: =IF(N97="snížená",J97,0) -> 0 | BG97: =IF(N97="zákl. přenesená",J97,0) -> 0 | BH97: =IF(N97="sníž. přenesená",J97,0) -> 0 | BI97: =IF(N97="nulová",J97,0) -> 0 | BJ97: 2 | BK97: =ROUND(I97*H97,2) -> 0 | BL97: 16 | BM97: 1358298304
C98: 4 | D98: K | E98: 741-06-R.pol. | F98: Úprava elektoměrový rozvaděč ER (výměna jističe viz.příloha TZ) | G98: kus | H98: 1 | J98: =ROUND(I98*H98,2) -> 0 | K98: R-položka | N98: snížená | P98: =O98*H98 -> 0 | Q98: 0 | R98: =Q98*H98 -> 0 | S98: 0 | T98: =S98*H98 -> 0 | AR98: 16 | AT98: K | AU98: 2 | AY98: ROZPOCET | BE98: =IF(N98="základní",J98,0) -> 0 | BF98: =IF(N98="snížená",J98,0) -> 0 | BG98: =IF(N98="zákl. přenesená",J98,0) -> 0 | BH98: =IF(N98="sníž. přenesená",J98,0) -> 0 | BI98: =IF(N98="nulová",J98,0) -> 0 | BJ98: 2 | BK98: =ROUND(I98*H98,2) -> 0 | BL98: 16 | BM98: -804808898
C99: 5 | D99: K | E99: 741110063 | F99: Montáž trubek elektroinstalačních s nasunutím nebo našroubováním do krabic plastových ohebných, uložených pod omítku, vnější Ø přes 35 mm | G99: m | H99: 75 | J99: =ROUND(I99*H99,2) -> 0 | K99: CS ÚRS 2023 01 | N99: snížená | P99: =O99*H99 -> 0 | Q99: 0 | R99: =Q99*H99 -> 0 | S99: 0 | T99: =S99*H99 -> 0 | AR99: 16 | AT99: K | AU99: 2 | AY99: ROZPOCET | BE99: =IF(N99="základní",J99,0) -> 0 | BF99: =IF(N99="snížená",J99,0) -> 0 | BG99: =IF(N99="zákl. přenesená",J99,0) -> 0 | BH99: =IF(N99="sníž. přenesená",J99,0) -> 0 | BI99: =IF(N99="nulová",J99,0) -> 0 | BJ99: 2 | BK99: =ROUND(I99*H99,2) -> 0 | BL99: 16 | BM99: -2033664007
D100: Online PSC | F100: https://podminky.urs.cz/item/CS_URS_2023_01/741110063 | AT100: Online PSC | AU100: 2
C101: 6 | D101: M | E101: 34571064 | F101: trubka elektroinstalační ohebná z PVC (ČSN) 2329 | G101: m | H101: 75 | J101: =ROUND(I101*H101,2) -> 0 | K101: CS ÚRS 2023 01 | N101: snížená | P101: =O101*H101 -> 0 | Q101: 0.0001 | R101: =Q101*H101 -> 0.0075 | S101: 0 | T101: =S101*H101 -> 0 | AR101: 32 | AT101: M | AU101: 2 | AY101: ROZPOCET | BE101: =IF(N101="základní",J101,0) -> 0 | BF101: =IF(N101="snížená",J101,0) -> 0 | BG101: =IF(N101="zákl. přenesená",J101,0) -> 0 | BH101: =IF(N101="sníž. přenesená",J101,0) -> 0 | BI101: =IF(N101="nulová",J101,0) -> 0 | BJ101: 2 | BK101: =ROUND(I101*H101,2) -> 0 | BL101: 16 | BM101: -759541646
C102: 7 | D102: K | E102: 741112001 | F102: Montáž krabic elektroinstalačních bez napojení na trubky a lišty, demontáže a montáže víčka a přístroje protahovacích nebo odbočných zapuštěných plastových kruhových | G102: kus | H102: 48 | J102: =ROUND(I102*H102,2) -> 0 | K102: CS ÚRS 2023 01 | N102: snížená | P102: =O102*H102 -> 0 | Q102: 0 | R102: =Q102*H102 -> 0 | S102: 0 | T102: =S102*H102 -> 0 | AR102: 16 | AT102: K | AU102: 2 | AY102: ROZPOCET | BE102: =IF(N102="základní",J102,0) -> 0 | BF102: =IF(N102="snížená",J102,0) -> 0 | BG102: =IF(N102="zákl. přenesená",J102,0) -> 0 | BH102: =IF(N102="sníž. přenesená",J102,0) -> 0 | BI102: =IF(N102="nulová",J102,0) -> 0 | BJ102: 2 | BK102: =ROUND(I102*H102,2) -> 0 | BL102: 16 | BM102: -1967829727
D103: Online PSC | F103: https://podminky.urs.cz/item/CS_URS_2023_01/741112001 | AT103: Online PSC | AU103: 2
C104: 8 | D104: M | E104: 34571519-R.pol. | F104: krabice univerzální odbočná z PH s víčkem, D 73,5mmx43mm | G104: kus | H104: 12 | J104: =ROUND(I104*H104,2) -> 0 | K104: R-položka | N104: snížená | P104: =O104*H104 -> 0 | Q104: 5e-05 | R104: =Q104*H104 -> 0.0006 | S104: 0 | T104: =S104*H104 -> 0 | AR104: 32 | AT104: M | AU104: 2 | AY104: ROZPOCET | BE104: =IF(N104="základní",J104,0) -> 0 | BF104: =IF(N104="snížená",J104,0) -> 0 | BG104: =IF(N104="zákl. přenesená",J104,0) -> 0 | BH104: =IF(N104="sníž. přenesená",J104,0) -> 0 | BI104: =IF(N104="nulová",J104,0) -> 0 | BJ104: 2 | BK104: =ROUND(I104*H104,2) -> 0 | BL104: 16 | BM104: 570018010
C105: 9 | D105: M | E105: 34571512 | F105: krabice přístrojová horizontální do zdvojených a betonových podlah 24 modulů | G105: kus | H105: 36 | J105: =ROUND(I105*H105,2) -> 0 | K105: CS ÚRS 2023 01 | N105: snížená | P105: =O105*H105 -> 0 | Q105: 0.00181 | R105: =Q105*H105 -> 0.06516 | S105: 0 | T105: =S105*H105 -> 0 | AR105: 32 | AT105: M | AU105: 2 | AY105: ROZPOCET | BE105: =IF(N105="základní",J105,0) -> 0 | BF105: =IF(N105="snížená",J105,0) -> 0 | BG105: =IF(N105="zákl. přenesená",J105,0) -> 0 | BH105: =IF(N105="sníž. přenesená",J105,0) -> 0 | BI105: =IF(N105="nulová",J105,0) -> 0 | BJ105: 2 | BK105: =ROUND(I105*H105,2) -> 0 | BL105: 16 | BM105: 115578191
C106: 10 | D106: K | E106: 741-11-R.pol | F106: Kabel coax CB113-75ohm - D+M | G106: m | H106: 50 | J106: =ROUND(I106*H106,2) -> 0 | K106: R-položka | N106: snížená | P106: =O106*H106 -> 0 | Q106: 0 | R106: =Q106*H106 -> 0 | S106: 0 | T106: =S106*H106 -> 0 | AR106: 16 | AT106: K | AU106: 2 | AY106: ROZPOCET | BE106: =IF(N106="základní",J106,0) -> 0 | BF106: =IF(N106="snížená",J106,0) -> 0 | BG106: =IF(N106="zákl. přenesená",J106,0) -> 0 | BH106: =IF(N106="sníž. přenesená",J106,0) -> 0 | BI106: =IF(N106="nulová",J106,0) -> 0 | BJ106: 2 | BK106: =ROUND(I106*H106,2) -> 0 | BL106: 16 | BM106: 1713767360
C107: 11 | D107: K | E107: 741122611 | F107: Montáž kabelů měděných bez ukončení uložených pevně plných kulatých nebo bezhalogenových (např. CYKY) počtu a průřezu žil 3x1,5 až 6 mm2 | G107: m | H107: 400 | J107: =ROUND(I107*H107,2) -> 0 | K107: CS ÚRS 2023 01 | N107: snížená | P107: =O107*H107 -> 0 | Q107: 0 | R107: =Q107*H107 -> 0 | S107: 0 | T107: =S107*H107 -> 0 | AR107: 16 | AT107: K | AU107: 2 | AY107: ROZPOCET | BE107: =IF(N107="základní",J107,0) -> 0 | BF107: =IF(N107="snížená",J107,0) -> 0 | BG107: =IF(N107="zákl. přenesená",J107,0) -> 0 | BH107: =IF(N107="sníž. přenesená",J107,0) -> 0 | BI107: =IF(N107="nulová",J107,0) -> 0 | BJ107: 2 | BK107: =ROUND(I107*H107,2) -> 0 | BL107: 16 | BM107: 1990697009
D108: Online PSC | F108: https://podminky.urs.cz/item/CS_URS_2023_01/741122611 | AT108: Online PSC | AU108: 2
C109: 12 | D109: M | E109: 34111036 | F109: kabel instalační jádro Cu plné izolace PVC plášť PVC 450/750V (CYKY) 3x2,5mm2 | G109: m | H109: 210 | J109: =ROUND(I109*H109,2) -> 0 | K109: CS ÚRS 2023 01 | N109: snížená | P109: =O109*H109 -> 0 | Q109: 0.00017 | R109: =Q109*H109 -> 0.0357 | S109: 0 | T109: =S109*H109 -> 0 | AR109: 32 | AT109: M | AU109: 2 | AY109: ROZPOCET | BE109: =IF(N109="základní",J109,0) -> 0 | BF109: =IF(N109="snížená",J109,0) -> 0 | BG109: =IF(N109="zákl. přenesená",J109,0) -> 0 | BH109: =IF(N109="sníž. přenesená",J109,0) -> 0 | BI109: =IF(N109="nulová",J109,0) -> 0 | BJ109: 2 | BK109: =ROUND(I109*H109,2) -> 0 | BL109: 16 | BM109: -1331074058
C110: 13 | D110: M | E110: 34111030 | F110: kabel instalační jádro Cu plné izolace PVC plášť PVC 450/750V (CYKY) 3x1,5mm2 | G110: m | H110: 190 | J110: =ROUND(I110*H110,2) -> 0 | K110: CS ÚRS 2023 01 | N110: snížená | P110: =O110*H110 -> 0 | Q110: 0.00012 | R110: =Q110*H110 -> 0.0228 | S110: 0 | T110: =S110*H110 -> 0 | AR110: 32 | AT110: M | AU110: 2 | AY110: ROZPOCET | BE110: =IF(N110="základní",J110,0) -> 0 | BF110: =IF(N110="snížená",J110,0) -> 0 | BG110: =IF(N110="zákl. přenesená",J110,0) -> 0 | BH110: =IF(N110="sníž. přenesená",J110,0) -> 0 | BI110: =IF(N110="nulová",J110,0) -> 0 | BJ110: 2 | BK110: =ROUND(I110*H110,2) -> 0 | BL110: 16 | BM110: -1885742507
C111: 14 | D111: K | E111: 741122621 | F111: Montáž kabelů měděných bez ukončení uložených pevně plných kulatých nebo bezhalogenových (např. CYKY) počtu a průřezu žil 4x1,5 až 4 mm2 | G111: m | H111: 10 | J111: =ROUND(I111*H111,2) -> 0 | K111: CS ÚRS 2023 01 | N111: snížená | P111: =O111*H111 -> 0 | Q111: 0 | R111: =Q111*H111 -> 0 | S111: 0 | T111: =S111*H111 -> 0 | AR111: 16 | AT111: K | AU111: 2 | AY111: ROZPOCET | BE111: =IF(N111="základní",J111,0) -> 0 | BF111: =IF(N111="snížená",J111,0) -> 0 | BG111: =IF(N111="zákl. přenesená",J111,0) -> 0 | BH111: =IF(N111="sníž. přenesená",J111,0) -> 0 | BI111: =IF(N111="nulová",J111,0) -> 0 | BJ111: 2 | BK111: =ROUND(I111*H111,2) -> 0 | BL111: 16 | BM111: 1062323099
D112: Online PSC | F112: https://podminky.urs.cz/item/CS_URS_2023_01/741122621 | AT112: Online PSC | AU112: 2
C113: 15 | D113: M | E113: 34111060 | F113: kabel instalační jádro Cu plné izolace PVC plášť PVC 450/750V (CYKY) 4x1,5mm2 | G113: m | H113: 10 | J113: =ROUND(I113*H113,2) -> 0 | K113: CS ÚRS 2023 01 | N113: snížená | P113: =O113*H113 -> 0 | Q113: 0.00014 | R113: =Q113*H113 -> 0.0014 | S113: 0 | T113: =S113*H113 -> 0 | AR113: 32 | AT113: M | AU113: 2 | AY113: ROZPOCET | BE113: =IF(N113="základní",J113,0) -> 0 | BF113: =IF(N113="snížená",J113,0) -> 0 | BG113: =IF(N113="zákl. přenesená",J113,0) -> 0 | BH113: =IF(N113="sníž. přenesená",J113,0) -> 0 | BI113: =IF(N113="nulová",J113,0) -> 0 | BJ113: 2 | BK113: =ROUND(I113*H113,2) -> 0 | BL113: 16 | BM113: 1510166857
C114: 16 | D114: K | E114: 741122623 | F114: Montáž kabelů měděných bez ukončení uložených pevně plných kulatých nebo bezhalogenových (např. CYKY) počtu a průřezu žil 4x10 mm2 | G114: m | H114: 10 | J114: =ROUND(I114*H114,2) -> 0 | K114: CS ÚRS 2023 01 | N114: snížená | P114: =O114*H114 -> 0 | Q114: 0 | R114: =Q114*H114 -> 0 | S114: 0 | T114: =S114*H114 -> 0 | AR114: 16 | AT114: K | AU114: 2 | AY114: ROZPOCET | BE114: =IF(N114="základní",J114,0) -> 0 | BF114: =IF(N114="snížená",J114,0) -> 0 | BG114: =IF(N114="zákl. přenesená",J114,0) -> 0 | BH114: =IF(N114="sníž. přenesená",J114,0) -> 0 | BI114: =IF(N114="nulová",J114,0) -> 0 | BJ114: 2 | BK114: =ROUND(I114*H114,2) -> 0 | BL114: 16 | BM114: 425282824
D115: Online PSC | F115: https://podminky.urs.cz/item/CS_URS_2023_01/741122623 | AT115: Online PSC | AU115: 2
C116: 17 | D116: M | E116: 34111076 | F116: kabel instalační jádro Cu plné izolace PVC plášť PVC 450/750V (CYKY) 4x10mm2 | G116: m | H116: 10 | J116: =ROUND(I116*H116,2) -> 0 | K116: CS ÚRS 2023 01 | N116: snížená | P116: =O116*H116 -> 0 | Q116: 0.00064 | R116: =Q116*H116 -> 0.0064 | S116: 0 | T116: =S116*H116 -> 0 | AR116: 32 | AT116: M | AU116: 2 | AY116: ROZPOCET | BE116: =IF(N116="základní",J116,0) -> 0 | BF116: =IF(N116="snížená",J116,0) -> 0 | BG116: =IF(N116="zákl. přenesená",J116,0) -> 0 | BH116: =IF(N116="sníž. přenesená",J116,0) -> 0 | BI116: =IF(N116="nulová",J116,0) -> 0 | BJ116: 2 | BK116: =ROUND(I116*H116,2) -> 0 | BL116: 16 | BM116: -2009178417
C117: 18 | D117: K | E117: 741-12-R.pol | F117: Kabel UTP 4x2x0,8 - D+M | G117: m | H117: 25 | J117: =ROUND(I117*H117,2) -> 0 | K117: R-položka | N117: snížená | P117: =O117*H117 -> 0 | Q117: 0 | R117: =Q117*H117 -> 0 | S117: 0 | T117: =S117*H117 -> 0 | AR117: 16 | AT117: K | AU117: 2 | AY117: ROZPOCET | BE117: =IF(N117="základní",J117,0) -> 0 | BF117: =IF(N117="snížená",J117,0) -> 0 | BG117: =IF(N117="zákl. přenesená",J117,0) -> 0 | BH117: =IF(N117="sníž. přenesená",J117,0) -> 0 | BI117: =IF(N117="nulová",J117,0) -> 0 | BJ117: 2 | BK117: =ROUND(I117*H117,2) -> 0 | BL117: 16 | BM117: -173417401
C118: 19 | D118: K | E118: 741310001 | F118: Montáž spínačů jedno nebo dvoupólových nástěnných se zapojením vodičů, pro prostředí normální spínačů, řazení 1-jednopólových | G118: kus | H118: 8 | J118: =ROUND(I118*H118,2) -> 0 | K118: CS ÚRS 2023 01 | N118: snížená | P118: =O118*H118 -> 0 | Q118: 0 | R118: =Q118*H118 -> 0 | S118: 0 | T118: =S118*H118 -> 0 | AR118: 16 | AT118: K | AU118: 2 | AY118: ROZPOCET | BE118: =IF(N118="základní",J118,0) -> 0 | BF118: =IF(N118="snížená",J118,0) -> 0 | BG118: =IF(N118="zákl. přenesená",J118,0) -> 0 | BH118: =IF(N118="sníž. přenesená",J118,0) -> 0 | BI118: =IF(N118="nulová",J118,0) -> 0 | BJ118: 2 | BK118: =ROUND(I118*H118,2) -> 0 | BL118: 16 | BM118: -277288022
D119: Online PSC | F119: https://podminky.urs.cz/item/CS_URS_2023_01/741310001 | AT119: Online PSC | AU119: 2
C120: 20 | D120: M | E120: 34535512-R.pol | F120: spínač jednopólový 10A bílý | G120: kus | H120: 8 | J120: =ROUND(I120*H120,2) -> 0 | K120: R-položka | N120: snížená | P120: =O120*H120 -> 0 | Q120: 5e-05 | R120: =Q120*H120 -> 0.0004 | S120: 0 | T120: =S120*H120 -> 0 | AR120: 32 | AT120: M | AU120: 2 | AY120: ROZPOCET | BE120: =IF(N120="základní",J120,0) -> 0 | BF120: =IF(N120="snížená",J120,0) -> 0 | BG120: =IF(N120="zákl. přenesená",J120,0) -> 0 | BH120: =IF(N120="sníž. přenesená",J120,0) -> 0 | BI120: =IF(N120="nulová",J120,0) -> 0 | BJ120: 2 | BK120: =ROUND(I120*H120,2) -> 0 | BL120: 16 | BM120: -722408660
C121: 21 | D121: K | E121: 741310022 | F121: Montáž spínačů jedno nebo dvoupólových nástěnných se zapojením vodičů, pro prostředí normální přepínačů, řazení 6-střídavých | G121: kus | H121: 2 | J121: =ROUND(I121*H121,2) -> 0 | K121: CS ÚRS 2023 01 | N121: snížená | P121: =O121*H121 -> 0 | Q121: 0 | R121: =Q121*H121 -> 0 | S121: 0 | T121: =S121*H121 -> 0 | AR121: 16 | AT121: K | AU121: 2 | AY121: ROZPOCET | BE121: =IF(N121="základní",J121,0) -> 0 | BF121: =IF(N121="snížená",J121,0) -> 0 | BG121: =IF(N121="zákl. přenesená",J121,0) -> 0 | BH121: =IF(N121="sníž. přenesená",J121,0) -> 0 | BI121: =IF(N121="nulová",J121,0) -> 0 | BJ121: 2 | BK121: =ROUND(I121*H121,2) -> 0 | BL121: 16 | BM121: -1385676417
D122: Online PSC | F122: https://podminky.urs.cz/item/CS_URS_2023_01/741310022 | AT122: Online PSC | AU122: 2
C123: 22 | D123: M | E123: 34535552-R.pol | F123: přepínač střídavý řazení 6 10A 3553-01289 bílý | G123: kus | H123: 2 | J123: =ROUND(I123*H123,2) -> 0 | K123: R-položka | N123: snížená | P123: =O123*H123 -> 0 | Q123: 5e-05 | R123: =Q123*H123 -> 0.0001 | S123: 0 | T123: =S123*H123 -> 0 | AR123: 32 | AT123: M | AU123: 2 | AY123: ROZPOCET | BE123: =IF(N123="základní",J123,0) -> 0 | BF123: =IF(N123="snížená",J123,0) -> 0 | BG123: =IF(N123="zákl. přenesená",J123,0) -> 0 | BH123: =IF(N123="sníž. přenesená",J123,0) -> 0 | BI123: =IF(N123="nulová",J123,0) -> 0 | BJ123: 2 | BK123: =ROUND(I123*H123,2) -> 0 | BL123: 16 | BM123: 376717278
C124: 23 | D124: K | E124: 741310025 | F124: Montáž spínačů jedno nebo dvoupólových nástěnných se zapojením vodičů, pro prostředí normální přepínačů, řazení 7-křížových | G124: kus | H124: 3 | J124: =ROUND(I124*H124,2) -> 0 | K124: CS ÚRS 2023 01 | N124: snížená | P124: =O124*H124 -> 0 | Q124: 0 | R124: =Q124*H124 -> 0 | S124: 0 | T124: =S124*H124 -> 0 | AR124: 16 | AT124: K | AU124: 2 | AY124: ROZPOCET | BE124: =IF(N124="základní",J124,0) -> 0 | BF124: =IF(N124="snížená",J124,0) -> 0 | BG124: =IF(N124="zákl. přenesená",J124,0) -> 0 | BH124: =IF(N124="sníž. přenesená",J124,0) -> 0 | BI124: =IF(N124="nulová",J124,0) -> 0 | BJ124: 2 | BK124: =ROUND(I124*H124,2) -> 0 | BL124: 16 | BM124: -894717906
D125: Online PSC | F125: https://podminky.urs.cz/item/CS_URS_2023_01/741310025 | AT125: Online PSC | AU125: 2
C126: 24 | D126: M | E126: 3453649-R.pol | F126: kryt spínače jednopáčkový jednoduchý pro spínače řazení 1,2,6,7,1/0 3558A-A651 | G126: kus | H126: 3 | J126: =ROUND(I126*H126,2) -> 0 | K126: R-položka | N126: snížená | P126: =O126*H126 -> 0 | Q126: 5e-05 | R126: =Q126*H126 -> 0.00015 | S126: 0 | T126: =S126*H126 -> 0 | AR126: 32 | AT126: M | AU126: 2 | AY126: ROZPOCET | BE126: =IF(N126="základní",J126,0) -> 0 | BF126: =IF(N126="snížená",J126,0) -> 0 | BG126: =IF(N126="zákl. přenesená",J126,0) -> 0 | BH126: =IF(N126="sníž. přenesená",J126,0) -> 0 | BI126: =IF(N126="nulová",J126,0) -> 0 | BJ126: 2 | BK126: =ROUND(I126*H126,2) -> 0 | BL126: 16 | BM126: -618844720
C127: 25 | D127: K | E127: 741310112 | F127: Montáž spínačů jedno nebo dvoupólových polozapuštěných nebo zapuštěných se zapojením vodičů bezšroubové připojení ovladačů, řazení 1/0-tlačítkových zapínacích | G127: kus | H127: 2 | J127: =ROUND(I127*H127,2) -> 0 | K127: CS ÚRS 2023 01 | N127: snížená | P127: =O127*H127 -> 0 | Q127: 0 | R127: =Q127*H127 -> 0 | S127: 0 | T127: =S127*H127 -> 0 | AR127: 16 | AT127: K | AU127: 2 | AY127: ROZPOCET | BE127: =IF(N127="základní",J127,0) -> 0 | BF127: =IF(N127="snížená",J127,0) -> 0 | BG127: =IF(N127="zákl. přenesená",J127,0) -> 0 | BH127: =IF(N127="sníž. přenesená",J127,0) -> 0 | BI127: =IF(N127="nulová",J127,0) -> 0 | BJ127: 2 | BK127: =ROUND(I127*H127,2) -> 0 | BL127: 16 | BM127: 231774558
D128: Online PSC | F128: https://podminky.urs.cz/item/CS_URS_2023_01/741310112 | AT128: Online PSC | AU128: 2
C129: 26 | D129: M | E129: 34536490-R.pol. | F129: kryt spínače jednopáčkový jednoduchý pro spínače řazení 1,2,6,7,1/0 3558A-A651 | G129: kus | H129: 2 | J129: =ROUND(I129*H129,2) -> 0 | K129: R-položka | N129: snížená | P129: =O129*H129 -> 0 | Q129: 5e-05 | R129: =Q129*H129 -> 0.0001 | S129: 0 | T129: =S129*H129 -> 0 | AR129: 32 | AT129: M | AU129: 2 | AY129: ROZPOCET | BE129: =IF(N129="základní",J129,0) -> 0 | BF129: =IF(N129="snížená",J129,0) -> 0 | BG129: =IF(N129="zákl. přenesená",J129,0) -> 0 | BH129: =IF(N129="sníž. přenesená",J129,0) -> 0 | BI129: =IF(N129="nulová",J129,0) -> 0 | BJ129: 2 | BK129: =ROUND(I129*H129,2) -> 0 | BL129: 16 | BM129: 250888419
C130: 27 | D130: K | E130: 741313001 | F130: Montáž zásuvek domovních se zapojením vodičů bezšroubové připojení polozapuštěných nebo zapuštěných 10/16 A, provedení 2P + PE | G130: kus | H130: 15 | J130: =ROUND(I130*H130,2) -> 0 | K130: CS ÚRS 2023 01 | N130: snížená | P130: =O130*H130 -> 0 | Q130: 0 | R130: =Q130*H130 -> 0 | S130: 0 | T130: =S130*H130 -> 0 | AR130: 16 | AT130: K | AU130: 2 | AY130: ROZPOCET | BE130: =IF(N130="základní",J130,0) -> 0 | BF130: =IF(N130="snížená",J130,0) -> 0 | BG130: =IF(N130="zákl. přenesená",J130,0) -> 0 | BH130: =IF(N130="sníž. přenesená",J130,0) -> 0 | BI130: =IF(N130="nulová",J130,0) -> 0 | BJ130: 2 | BK130: =ROUND(I130*H130,2) -> 0 | BL130: 16 | BM130: 523957217
D131: Online PSC | F131: https://podminky.urs.cz/item/CS_URS_2023_01/741313001 | AT131: Online PSC | AU131: 2
C132: 28 | D132: M | E132: 34555121-R.pol. | F132: zásuvka 2násobná 16A bílá | G132: kus | H132: 15 | J132: =ROUND(I132*H132,2) -> 0 | K132: R-položka | N132: snížená | P132: =O132*H132 -> 0 | Q132: 6e-05 | R132: =Q132*H132 -> 0.0009 | S132: 0 | T132: =S132*H132 -> 0 | AR132: 32 | AT132: M | AU132: 2 | AY132: ROZPOCET | BE132: =IF(N132="základní",J132,0) -> 0 | BF132: =IF(N132="snížená",J132,0) -> 0 | BG132: =IF(N132="zákl. přenesená",J132,0) -> 0 | BH132: =IF(N132="sníž. přenesená",J132,0) -> 0 | BI132: =IF(N132="nulová",J132,0) -> 0 | BJ132: 2 | BK132: =ROUND(I132*H132,2) -> 0 | BL132: 16 | BM132: -1799984191
C133: 29 | D133: K | E133: 741313031 | F133: Montáž zásuvek domovních se zapojením vodičů šroubové připojení vestavných 10 popř. 16 A bez odvrtání profilovaného otvoru, provedení 1P zdířka | G133: kus | H133: 6 | J133: =ROUND(I133*H133,2) -> 0 | K133: CS ÚRS 2023 01 | N133: snížená | P133: =O133*H133 -> 0 | Q133: 0 | R133: =Q133*H133 -> 0 | S133: 0 | T133: =S133*H133 -> 0 | AR133: 16 | AT133: K | AU133: 2 | AY133: ROZPOCET | BE133: =IF(N133="základní",J133,0) -> 0 | BF133: =IF(N133="snížená",J133,0) -> 0 | BG133: =IF(N133="zákl. přenesená",J133,0) -> 0 | BH133: =IF(N133="sníž. přenesená",J133,0) -> 0 | BI133: =IF(N133="nulová",J133,0) -> 0 | BJ133: 2 | BK133: =ROUND(I133*H133,2) -> 0 | BL133: 16 | BM133: 1755490164
...

Sheet SO 98-98 - Všeobecný objekt
AT2: {043aeea0-9950-4c1c-9bdc-9232304c262c}
AT3: 1
D4: KRYCÍ LIST SOUPISU PRACÍ | M4: v --- níže se nacházejí doplnkové a pomocné údaje k sestavám --- v | AT4: False
D6: Stavba:
E7: ='Rekapitulace stavby'!K6 -> Opravy bytových jednotek OŘ Brno - VB ŽST Rousínov č.p.788
D8: Objekt:
E9: E.2 - Pozemní a stavební objekty
D10: Soupis:
E11: SO 98-98 - Všeobecný objekt
D13: KSO: | I13: CC-CZ:
D14: Místo: | F14: Rousínov | I14: Datum: | J14: ='Rekapitulace stavby'!AN8 -> 24. 8. 2020
D16: Zadavatel: | I16: IČ: | J16: 70994234
E17: Správa železniční dopravní cesty | I17: DIČ: | J17: CZ70994234
D19: Uchazeč: | I19: IČ: | J19: ='Rekapitulace stavby'!AN13 -> Vyplň údaj
E20: ='Rekapitulace stavby'!E14 -> Vyplň údaj | I20: DIČ: | J20: ='Rekapitulace stavby'!AN14 -> Vyplň údaj
D22: Projektant: | I22: IČ: | J22: 27245918
E23: APREA s.r.o. | I23: DIČ: | J23: CZ27245918
D25: Zpracovatel: | I25: IČ:
I26: DIČ:
D28: Poznámka:
D32: Cena bez DPH | J32: =ROUND(J87, 2) -> 0
F34: Základ daně | I34: Sazba daně | J34: Výše daně
D35: DPH | E35: základní | F35: =ROUND((SUM(BE87:BE99)), 2) -> 0 | I35: 0.21 | J35: =ROUND(((SUM(BE87:BE99))*I35), 2) -> 0
E36: snížená | F36: =ROUND((SUM(BF87:BF99)), 2) -> 0 | I36: 0.15 | J36: =ROUND(((SUM(BF87:BF99))*I36), 2) -> 0
E37: zákl. přenesená | F37: =ROUND((SUM(BG87:BG99)), 2) -> 0 | I37: 0.21 | J37: =0 -> 0
E38: sníž. přenesená | F38: =ROUND((SUM(BH87:BH99)), 2) -> 0 | I38: 0.15 | J38: =0 -> 0
E39: nulová | F39: =ROUND((SUM(BI87:BI99)), 2) -> 0 | I39: 0 | J39: =0 -> 0
D41: Cena s DPH | G41: v | H41: CZK | J41: =SUM(J32:J39) -> 0
C47: REKAPITULACE ČLENĚNÍ SOUPISU PRACÍ
C49: Stavba:
E50: =E7 -> Opravy bytových jednotek OŘ Brno - VB ŽST Rousínov č.p.788
C51: Objekt:
E52: E.2 - Pozemní a stavební objekty
C53: Soupis:
E54: =E11 -> SO 98-98 - Všeobecný objekt
C56: Místo: | F56: =F14 -> Rousínov | I56: Datum: | J56: =IF(J14="","",J14) -> 24. 8. 2020
C58: Zadavatel: | F58: =E17 -> Správa železniční dopravní cesty | I58: Projektant: | J58: =E23 -> APREA s.r.o.
C59: Uchazeč: | F59: =IF(E20="","",E20) -> Vyplň údaj | I59: Zpracovatel: | J59: =E26
C61: Kód dílu - Popis | J61: Cena celkem [CZK]
C63: Náklady stavby celkem | J63: =J87 -> 0 | AU63: -1
D64: VRN - Vedlejší rozpočtové náklady | J64: =J88 -> 0
D65: VRN4 - Inženýrská činnost | J65: =J97 -> 0
C72: SOUPIS PRACÍ
C74: Stavba:
E75: =E7 -> Opravy bytových jednotek OŘ Brno - VB ŽST Rousínov č.p.788
C76: Objekt:
E77: E.2 - Pozemní a stavební objekty
C78: Soupis:
E79: =E11 -> SO 98-98 - Všeobecný objekt
C81: Místo: | F81: =F14 -> Rousínov | I81: Datum: | J81: =IF(J14="","",J14) -> 24. 8. 2020
C83: Zadavatel: | F83: =E17 -> Správa železniční dopravní cesty | I83: Projektant: | J83: =E23 -> APREA s.r.o.
C84: Uchazeč: | F84: =IF(E20="","",E20) -> Vyplň údaj | I84: Zpracovatel: | J84: =E26
C86: PČ | D86: Typ | E86: Kód | F86: Popis | G86: MJ | H86: Množství | I86: J.cena [CZK] | J86: Cena celkem [CZK] | K86: Cenová soustava | N86: DPH | O86: J. Nh [h] | P86: Nh celkem [h] | Q86: J. hmotnost [t] | R86: Hmotnost celkem [t] | S86: J. suť [t] | T86: Suť Celkem [t]
C87: Náklady soupisu celkem | J87: =BK87 -> 0 | P87: =P88 -> 0 | R87: =R88 -> 0 | T87: =T88 -> 0 | AT87: D | AU87: -1 | BK87: =BK88 -> 0
D88: D | E88: VRN | F88: Vedlejší rozpočtové náklady | J88: =BK88 -> 0 | P88: =P89+SUM(P90:P97) -> 0 | R88: =R89+SUM(R90:R97) -> 0 | T88: =T89+SUM(T90:T97) -> 0 | AR88: 5 | AT88: D | AU88: 0 | AY88: ROZPOCET | BK88: =BK89+SUM(BK90:BK97) -> 0
C89: 1 | D89: K | E89: 013254000 | F89: Dokumentace skutečného provedení stavby | G89: kompl | H89: 1 | J89: =ROUND(I89*H89,2) -> 0 | K89: CS ÚRS 2022 02 | N89: snížená | P89: =O89*H89 -> 0 | Q89: 0 | R89: =Q89*H89 -> 0 | S89: 0 | T89: =S89*H89 -> 0 | AR89: 1024 | AT89: K | AU89: 1 | AY89: ROZPOCET | BE89: =IF(N89="základní",J89,0) -> 0 | BF89: =IF(N89="snížená",J89,0) -> 0 | BG89: =IF(N89="zákl. přenesená",J89,0) -> 0 | BH89: =IF(N89="sníž. přenesená",J89,0) -> 0 | BI89: =IF(N89="nulová",J89,0) -> 0 | BJ89: 2 | BK89: =ROUND(I89*H89,2) -> 0 | BL89: 1024 | BM89: 1065867606
D90: Online PSC | F90: https://podminky.urs.cz/item/CS_URS_2022_02/013254000 | AT90: Online PSC | AU90: 1
C91: 2 | D91: K | E91: 030001000 | F91: Zařízení staveniště | G91: kompl | H91: 1 | J91: =ROUND(I91*H91,2) -> 0 | K91: CS ÚRS 2022 02 | N91: snížená | P91: =O91*H91 -> 0 | Q91: 0 | R91: =Q91*H91 -> 0 | S91: 0 | T91: =S91*H91 -> 0 | AR91: 1024 | AT91: K | AU91: 1 | AY91: ROZPOCET | BE91: =IF(N91="základní",J91,0) -> 0 | BF91: =IF(N91="snížená",J91,0) -> 0 | BG91: =IF(N91="zákl. přenesená",J91,0) -> 0 | BH91: =IF(N91="sníž. přenesená",J91,0) -> 0 | BI91: =IF(N91="nulová",J91,0) -> 0 | BJ91: 2 | BK91: =ROUND(I91*H91,2) -> 0 | BL91: 1024 | BM91: -2010836314
D92: Online PSC | F92: https://podminky.urs.cz/item/CS_URS_2022_02/030001000 | AT92: Online PSC | AU92: 1
C93: 3 | D93: K | E93: 035002000 | F93: Pronájmy ploch, objektů | G93: soubor | H93: 1 | J93: =ROUND(I93*H93,2) -> 0 | K93: CS ÚRS 2022 02 | N93: snížená | P93: =O93*H93 -> 0 | Q93: 0 | R93: =Q93*H93 -> 0 | S93: 0 | T93: =S93*H93 -> 0 | AR93: 1024 | AT93: K | AU93: 1 | AY93: ROZPOCET | BE93: =IF(N93="základní",J93,0) -> 0 | BF93: =IF(N93="snížená",J93,0) -> 0 | BG93: =IF(N93="zákl. přenesená",J93,0) -> 0 | BH93: =IF(N93="sníž. přenesená",J93,0) -> 0 | BI93: =IF(N93="nulová",J93,0) -> 0 | BJ93: 2 | BK93: =ROUND(I93*H93,2) -> 0 | BL93: 1024 | BM93: -499308398
D94: Online PSC | F94: https://podminky.urs.cz/item/CS_URS_2022_02/035002000 | AT94: Online PSC | AU94: 1
C95: 4 | D95: K | E95: 045002000 | F95: Kompletační a koordinační činnost | G95: kompl | H95: 1 | J95: =ROUND(I95*H95,2) -> 0 | K95: CS ÚRS 2022 02 | N95: snížená | P95: =O95*H95 -> 0 | Q95: 0 | R95: =Q95*H95 -> 0 | S95: 0 | T95: =S95*H95 -> 0 | AR95: 1024 | AT95: K | AU95: 1 | AY95: ROZPOCET | BE95: =IF(N95="základní",J95,0) -> 0 | BF95: =IF(N95="snížená",J95,0) -> 0 | BG95: =IF(N95="zákl. přenesená",J95,0) -> 0 | BH95: =IF(N95="sníž. přenesená",J95,0) -> 0 | BI95: =IF(N95="nulová",J95,0) -> 0 | BJ95: 2 | BK95: =ROUND(I95*H95,2) -> 0 | BL95: 1024 | BM95: -813726077
D96: Online PSC | F96: https://podminky.urs.cz/item/CS_URS_2022_02/045002000 | AT96: Online PSC | AU96: 1
D97: D | E97: VRN4 | F97: Inženýrská činnost | J97: =BK97 -> 0 | P97: =SUM(P98:P99) -> 0 | R97: =SUM(R98:R99) -> 0 | T97: =SUM(T98:T99) -> 0 | AR97: 5 | AT97: D | AU97: 1 | AY97: ROZPOCET | BK97: =SUM(BK98:BK99) -> 0
C98: 5 | D98: K | E98: 044002000 | F98: Revize - Celková prohlídka právnickou osobou a vydání průkazu určeného zařízebí (průkaz UTZ) | G98: soub | H98: 1 | J98: =ROUND(I98*H98,2) -> 0 | K98: CS ÚRS 2022 02 | N98: snížená | P98: =O98*H98 -> 0 | Q98: 0 | R98: =Q98*H98 -> 0 | S98: 0 | T98: =S98*H98 -> 0 | AR98: 1024 | AT98: K | AU98: 2 | AY98: ROZPOCET | BE98: =IF(N98="základní",J98,0) -> 0 | BF98: =IF(N98="snížená",J98,0) -> 0 | BG98: =IF(N98="zákl. přenesená",J98,0) -> 0 | BH98: =IF(N98="sníž. přenesená",J98,0) -> 0 | BI98: =IF(N98="nulová",J98,0) -> 0 | BJ98: 2 | BK98: =ROUND(I98*H98,2) -> 0 | BL98: 1024 | BM98: -2082706046
D99: Online PSC | F99: https://podminky.urs.cz/item/CS_URS_2022_02/044002000 | AT99: Online PSC | AU99: 2

Sheet Pokyny pro vyplnění
C3: Struktura údajů, formát souboru a metodika pro zpracování
C4: Struktura
C6: Soubor je složen ze záložky Rekapitulace stavby a záložek s názvem soupisu prací pro jednotlivé objekty ve formátu XLSX. Každá ze záložek přitom obsahuje
C7: ještě samostatné sestavy vymezené orámovaním a nadpisem sestavy.
C9: Rekapitulace stavby obsahuje sestavu Rekapitulace stavby a Rekapitulace objektů stavby a soupisů prací.
D10: V sestavě Rekapitulace stavby jsou uvedeny informace identifikující předmět veřejné zakázky na stavební práce, KSO, CC-CZ, CZ-CPV, CZ-CPA a rekapitulaci
D11: celkové nabídkové ceny uchazeče.
D13: Termínem "uchazeč" (resp. zhotovitel) se myslí "účastník zadávacího řízení" ve smyslu zákona o zadávání veřejných zakázek.
D15: V sestavě Rekapitulace objektů stavby a soupisů prací je uvedena rekapitulace stavebních objektů, inženýrských objektů, provozních souborů,
D16: vedlejších a ostatních nákladů a ostatních nákladů s rekapitulací nabídkové ceny za jednotlivé soupisy prací. Na základě údaje Typ je možné
D17: identifikovat, zda se jedná o objekt nebo soupis prací pro daný objekt:
E18: STA | F18: Stavební objekt pozemní
E19: ING | F19: Stavební objekt inženýrský
E20: PRO | F20: Provozní soubor
E21: VON | F21: Vedlejší a ostatní náklady
E22: OST | F22: Ostatní
E23: Soupis | F23: Soupis prací pro daný typ objektu
C25: Soupis prací pro jednotlivé objekty obsahuje sestavy Krycí list soupisu prací, Rekapitulace členění soupisu prací, Soupis prací. Za soupis prací může být považován
C26: i objekt stavby v případě, že neobsahuje podřízenou zakázku.
D27: Krycí list soupisu obsahuje rekapitulaci informací o předmětu veřejné zakázky ze sestavy Rekapitulace stavby, informaci o zařazení objektu do KSO,
D28: CC-CZ, CZ-CPV, CZ-CPA a rekapitulaci celkové nabídkové ceny uchazeče za aktuální soupis prací.
D30: Rekapitulace členění soupisu prací obsahuje rekapitulaci soupisu prací ve všech úrovních členění soupisu tak, jak byla tato členění použita (např.
D31: stavební díly, funkční díly, případně jiné členění) s rekapitulací nabídkové ceny.
D33: Soupis prací obsahuje položky veškerých stavebních nebo montážních prací, dodávek materiálů a služeb nezbytných pro zhotovení stavebního objektu,
D34: inženýrského objektu, provozního souboru, vedlejších a ostatních nákladů.
D35: Pro položky soupisu prací se zobrazují následující informace:
E36: PČ | G36: Pořadové číslo položky v aktuálním soupisu
E37: TYP | G37: Typ položky: K - konstrukce, M - materiál, PP - plný popis, PSC - poznámka k souboru cen, P - poznámka k položce, VV - výkaz výměr
E38: Kód | G38: Kód položky
E39: Popis | G39: Zkrácený popis položky
E40: MJ | G40: Měrná jednotka položky
E41: Množství | G41: Množství v měrné jednotce
E42: J.cena | G42: Jednotková cena položky. Zadaní může obsahovat namísto J.ceny sloupce J.materiál a J.montáž, jejichž součet definuje
G43: J.cenu položky.
E44: Cena celkem | G44: Celková cena položky daná jako součin množství a j.ceny
E45: Cenová soustava | G45: Příslušnost položky do cenové soustavy
D47: Ke každé položce soupisu prací se na samostatných řádcích může zobrazovat:
E48: Plný popis položky
E49: Poznámka k souboru cen a poznámka zadavatele
E50: Výkaz výměr
D51: Pokud je k řádku výkazu výměr evidovaný údaj ve sloupci Kód, jedná se o definovaný odkaz, na který se může odvolávat výkaz výměr z jiné položky.
C52: Metodika pro zpracování
C54: Jednotlivé sestavy jsou v souboru provázány. Editovatelné pole jsou zvýrazněny žlutým podbarvením, ostatní pole neslouží k editaci a nesmí být jakkoliv
C55: modifikovány.
C57: Uchazeč je pro podání nabídky povinen vyplnit žlutě podbarvená pole:
D58: Pole Uchazeč v sestavě Rekapitulace stavby - zde uchazeč vyplní svůj název (název subjektu)
D59: Pole IČ a DIČ v sestavě Rekapitulace stavby - zde uchazeč vyplní svoje IČ a DIČ
D60: Datum v sestavě Rekapitulace stavby - zde uchazeč vyplní datum vytvoření nabídky
D61: J.cena = jednotková cena v sestavě Soupis prací o maximálním počtu desetinných míst uvedených v poli
D62: - pokud sestavy soupisů prací obsahují pole J.cena, měla by být všechna tato pole vyplněna nenulovými
D63: Poznámka - nepovinný údaj pro položku soupisu
D65: V případě, že sestavy soupisů prací neobsahují pole J.cena, potom ve všech soupisech prací obsahují pole:
D66: - J.materiál - jednotková cena materiálu
D67: - J.montáž - jednotková cena montáže
D68: Uchazeč v tomto případě by měl vyplnit všechna pole J.materiál a pole J.montáž nenulovými kladnými číslicemi. V případech, kdy položka
D69: neobsahuje žádný materiál je přípustné, aby pole J.materiál bylo vyplněno nulou. V případech, kdy položka neobsahuje žádnou montáž je přípustné,
D70: aby pole J.montáž bylo vyplněno nulou. Obě pole - J.materiál, J.Montáž u jedné položky by však neměly být vyplněny nulou.
C75: Rekapitulace stavby
C76: Název | F76: Povinný | H76: Popis | I76: Typ | J76: Max. počet
C77: atributu | F77: (A/N) | J77: znaků
C79: Kód | F79: A | H79: Kód stavby | I79: String | J79: 20
C80: Stavba | F80: A | H80: Název stavby | I80: String | J80: 120
C81: Místo | F81: N | H81: Místo stavby | I81: String | J81: 50
C82: Datum | F82: A | H82: Datum vykonaného exportu | I82: Date
C83: KSO | F83: N | H83: Klasifikace stavebního objektu | I83: String | J83: 15
C84: CC-CZ | F84: N | H84: Klasifikace stavbeních děl | I84: String | J84: 15
C85: CZ-CPV | F85: N | H85: Společný slovník pro veřejné zakázky | I85: String | J85: 20
C86: CZ-CPA | F86: N | H86: Klasifikace produkce podle činností | I86: String | J86: 20
C87: Zadavatel | F87: N | H87: Zadavatel zadaní | I87: String | J87: 50
C88: IČ | F88: N | H88: IČ zadavatele zadaní | I88: String | J88: 20
C89: DIČ | F89: N | H89: DIČ zadavatele zadaní | I89: String | J89: 20
C90: Uchazeč | F90: N | H90: Uchazeč veřejné zakázky | I90: String | J90: 50
C91: Projektant | F91: N | H91: Projektant | I91: String | J91: 50
C92: Poznámka | F92: N | H92: Poznámka k zadání | I92: String | J92: 255
C93: Sazba DPH | F93: A | H93: Rekapitulace sazeb DPH u položek soupisů | I93: eGSazbaDph
C94: Základna DPH | F94: A | H94: Základna DPH určena součtem celkové ceny z položek soupisů | I94: Double
C95: Hodnota DPH | F95: A | H95: Hodnota DPH | I95: Double
C96: Cena bez DPH | F96: A | H96: Celková cena bez DPH za celou stavbu. Sčítává se ze všech listů. | I96: Double
C97: Cena s DPH | F97: A | H97: Celková cena s DPH za celou stavbu | I97: Double
C102: Rekapitulace objektů stavby a soupisů prací
C103: Název | F103: Povinný | H103: Popis | I103: Typ | J103: Max. počet
C104: atributu | F104: (A/N) | J104: znaků
C106: Kód | F106: A | H106: Přebírá se z Rekapitulace stavby | I106: String | J106: 20
C107: Stavba | F107: A | H107: Přebírá se z Rekapitulace stavby | I107: String | J107: 120
C108: Místo | F108: N | H108: Přebírá se z Rekapitulace stavby | I108: String | J108: 50
C109: Datum | F109: A | H109: Přebírá se z Rekapitulace stavby | I109: Date
C110: Zadavatel | F110: N | H110: Přebírá se z Rekapitulace stavby | I110: String | J110: 50
C111: Projektant | F111: N | H111: Přebírá se z Rekapitulace stavby | I111: String | J111: 50
C112: Uchazeč | F112: N | H112: Přebírá se z Rekapitulace stavby | I112: String | J112: 50
C113: Kód | F113: A | H113: Kód objektu | I113: String | J113: 20
C114: Objektu, Soupis prací | F114: A | H114: Název objektu | I114: String | J114: 120
C115: Cena bez DPH | F115: A | H115: Cena bez DPH za daný objekt | I115: Double
C116: Cena s DPH | F116: A | H116: Cena spolu s DPH za daný objekt | I116: Double
C117: Typ | F117: A | H117: Typ zakázky | I117: eGTypZakazky
C122: Krycí list soupisu
C123: Název | F123: Povinný | H123: Popis | I123: Typ | J123: Max. počet
C124: atributu | F124: (A/N) | J124: znaků
C126: Stavba | F126: A | H126: Přebírá se z Rekapitulace stavby | I126: String | J126: 120
C127: Objekt | F127: A | H127: Kód a název objektu | I127: String | J127: 20 + 120
C128: Soupis | F128: A | H128: Kód a název soupisu | I128: String | J128: 20 + 120
...
