Workbook

Sheet Rekapitulace stavby
A1: Export Komplet | AZ1: VZ | BA1: 2.0 | BB1: ZAMOK | BT1: False | BU1: False | BV1: {752a2e65-7142-498e-88c1-bfafe67676fd}
BS2: 0,01 | BT2: 21
BS3: 0,01 | BT3: 15
D4: REKAPITULACE STAVBY | AS4: v --- níže se nacházejí doplnkové a pomocné údaje k sestavám --- v | BE4: Návod na vyplnění | BS4: 0,001
D5: Kód: | K5: 2020/119 | BE5: Měnit lze pouze buňky se žlutým podbarvením!_x000D_ _x000D_ 1) v Rekapitulaci stavby vyplňte údaje o Uchazeči (přenesou se do ostatních sestav i v jiných listech)_x000D_ _x000D_ 2) na vybraných listech vyplňte v sestavě Soupis prací ceny u položek | BS5: 0,01
D6: Stavba: | K6: Opravy bytových jednotek OŘ Brno - VB ŽST Rousínov č.p.788 | BS6: 0,01
D7: KSO: | AK7: CC-CZ: | BS7: 0,01
D8: Místo: | K8: Rousínov | AK8: Datum: | AN8: 24. 8. 2020 | BS8: 0,01
BS9: 0,01
D10: Zadavatel: | AK10: IČ: | AN10: 70994234 | BS10: 0,01
E11: Správa železniční dopravní cesty | AK11: DIČ: | AN11: CZ70994234 | BS11: 0,01
BS12: 0,01
D13: Uchazeč: | AK13: IČ: | AN13: Vyplň údaj | BS13: 0,01
E14: Vyplň údaj | AK14: DIČ: | AN14: Vyplň údaj | BS14: 0,01
BS15: False
D16: Projektant: | AK16: IČ: | AN16: 27245918 | BS16: False
E17: APREA s.r.o. | AK17: DIČ: | AN17: CZ27245918 | BS17: True
BS18: 0,01
D19: Zpracovatel: | AK19: IČ: | BS19: 0,01
AK20: DIČ: | BS20: False
D22: Poznámka:
E23: Soupis prací je sestaven s využitím Cenové soustavy ÚRS. Položky, které pochází z této cenové soustavy, jsou ve sloupci 'Cenová soustava' označeny popisem 'CS ÚRS' a úrovní příslušného kalendářního pololetí. Veškeré další informace vymezující popis a podmínky použití těchto položek z Cenové soustavy, které nejsou uvedeny přímo v soupisu prací, jsou neomezeně dálkově k dispozici na https://podminky.urs.cz.
D26: Cena bez DPH | AK26: =ROUND(AG54,2) -> 0
L28: Sazba daně | W28: Základ daně | AK28: Výše daně
D29: DPH | F29: základní | L29: 0.21 | W29: =ROUND(AZ54, 2) -> 0 | AK29: =ROUND(AV54, 2) -> 0
F30: snížená | L30: 0.15 | W30: =ROUND(BA54, 2) -> 0 | AK30: =ROUND(AW54, 2) -> 0
F31: zákl. přenesená | L31: 0.21 | W31: =ROUND(BB54, 2) -> 0 | AK31: 0
F32: sníž. přenesená | L32: 0.15 | W32: =ROUND(BC54, 2) -> 0 | AK32: 0
F33: nulová | L33: 0 | W33: =ROUND(BD54, 2) -> 0 | AK33: 0
D35: Cena s DPH | T35: v | X35: CZK | AK35: =SUM(AK26:AK33) -> 0
C42: REKAPITULACE OBJEKTŮ STAVBY A SOUPISŮ PRACÍ
C44: Kód: | L44: =K5 -> 2020/119
C45: Stavba: | L45: =K6 -> Opravy bytových jednotek OŘ Brno - VB ŽST Rousínov č.p.788
C47: Místo: | L47: =IF(K8="","",K8) -> Rousínov | AI47: Datum: | AM47: =IF(AN8= "","",AN8) -> 24. 8. 2020
C49: Zadavatel: | L49: =IF(E11= "","",E11) -> Správa železniční dopravní cesty | AI49: Projektant: | AM49: =IF(E17="","",E17) -> APREA s.r.o. | AS49: Informatívní údaje z listů zakázek
C50: Uchazeč: | L50: =IF(E14= "Vyplň údaj","",E14) | AI50: Zpracovatel: | AM50: =IF(E20="","",E20)
C52: Kód | I52: Popis | AG52: Cena bez DPH [CZK] | AN52: Cena s DPH [CZK] | AQ52: Typ | AS52: z toho Ostat._x000D_ náklady [CZK] | AT52: DPH [CZK] | AU52: Normohodiny [h] | AV52: DPH základní [CZK] | AW52: DPH snížená [CZK] | AX52: DPH základní přenesená_x000D_ [CZK] | AY52: DPH snížená přenesená_x000D_ [CZK] | AZ52: Základna_x000D_ DPH základní | BA52: Základna_x000D_ DPH snížená | BB52: Základna_x000D_ DPH zákl. přenesená | BC52: Základna_x000D_ DPH sníž. přenesená | BD52: Základna_x000D_ DPH nulová
C54: Náklady stavby celkem | AG54: =ROUND(AG55,2) -> 0 | AN54: =SUM(AG54,AT54) -> 0 | AS54: =ROUND(AS55,2) -> 0 | AT54: =ROUND(SUM(AV54:AW54),2) -> 0 | AU54: =ROUND(AU55,5) -> 0 | AV54: =ROUND(AZ54*L29,2) -> 0 | AW54: =ROUND(BA54*L30,2) -> 0 | AX54: =ROUND(BB54*L29,2) -> 0 | AY54: =ROUND(BC54*L30,2) -> 0 | AZ54: =ROUND(AZ55,2) -> 0 | BA54: =ROUND(BA55,2) -> 0 | BB54: =ROUND(BB55,2) -> 0 | BC54: =ROUND(BC55,2) -> 0 | BD54: =ROUND(BD55,2) -> 0 | BS54: D | BT54: 0 | BU54: ###NOIMPORT### | BV54: IMPORT | BW54: {752a2e65-7142-498e-88c1-bfafe67676fd} | BX54: {00000000-0000-0000-0000-000000000000}
D55: E.2 | J55: Pozemní a stavební objekty | AG55: =ROUND(SUM(AG56:AG61),2) -> 0 | AN55: =SUM(AG55,AT55) -> 0 | AQ55: STA | AS55: =ROUND(SUM(AS56:AS61),2) -> 0 | AT55: =ROUND(SUM(AV55:AW55),2) -> 0 | AU55: =ROUND(SUM(AU56:AU61),5) -> 0 | AV55: =ROUND(AZ55*L29,2) -> 0 | AW55: =ROUND(BA55*L30,2) -> 0 | AX55: =ROUND(BB55*L29,2) -> 0 | AY55: =ROUND(BC55*L30,2) -> 0 | AZ55: =ROUND(SUM(AZ56:AZ61),2) -> 0 | BA55: =ROUND(SUM(BA56:BA61),2) -> 0 | BB55: =ROUND(SUM(BB56:BB61),2) -> 0 | BC55: =ROUND(SUM(BC56:BC61),2) -> 0 | BD55: =ROUND(SUM(BD56:BD61),2) -> 0 | BS55: D | BT55: 1 | BU55: ###NOIMPORT### | BV55: IMPORT | BW55: {92774054-bef4-42b4-9cc3-cfed849f7ae4} | BX55: {752a2e65-7142-498e-88c1-bfafe67676fd} | CM55: 1
A56: / | E56: SO 01 | K56: Stavební část | AG56: ='SO 01 - Stavební část'!J32 -> 0 | AN56: =SUM(AG56,AT56) -> 0 | AQ56: Soupis | AS56: 0 | AT56: =ROUND(SUM(AV56:AW56),2) -> 0 | AU56: ='SO 01 - Stavební část'!P106 -> 0 | AV56: ='SO 01 - Stavební část'!J35 -> 0 | AW56: ='SO 01 - Stavební část'!J36 -> 0 | AX56: ='SO 01 - Stavební část'!J37 -> 0 | AY56: ='SO 01 - Stavební část'!J38 -> 0 | AZ56: ='SO 01 - Stavební část'!F35 -> 0 | BA56: ='SO 01 - Stavební část'!F36 -> 0 | BB56: ='SO 01 - Stavební část'!F37 -> 0 | BC56: ='SO 01 - Stavební část'!F38 -> 0 | BD56: ='SO 01 - Stavební část'!F39 -> 0 | BT56: 2 | BV56: IMPORT | BW56: {baf353a4-0bad-47f4-8095-937fbfc3d72c} | BX56: {92774054-bef4-42b4-9cc3-cfed849f7ae4}
...

Sheet SO 01 - Stavební část
AT2: {baf353a4-0bad-47f4-8095-937fbfc3d72c}
AT3: 1
D4: KRYCÍ LIST SOUPISU PRACÍ | M4: v --- níže se nacházejí doplnkové a pomocné údaje k sestavám --- v | AT4: False
D6: Stavba:
E7: ='Rekapitulace stavby'!K6 -> Opravy bytových jednotek OŘ Brno - VB ŽST Rousínov č.p.788
D8: Objekt:
E9: E.2 - Pozemní a stavební objekty
D10: Soupis:
E11: SO 01 - Stavební část
D13: KSO: | I13: CC-CZ:
D14: Místo: | F14: Rousínov | I14: Datum: | J14: ='Rekapitulace stavby'!AN8 -> 24. 8. 2020
D16: Zadavatel: | I16: IČ: | J16: 70994234
E17: Správa železniční dopravní cesty | I17: DIČ: | J17: CZ70994234
D19: Uchazeč: | I19: IČ: | J19: ='Rekapitulace stavby'!AN13 -> Vyplň údaj
E20: ='Rekapitulace stavby'!E14 -> Vyplň údaj | I20: DIČ: | J20: ='Rekapitulace stavby'!AN14 -> Vyplň údaj
D22: Projektant: | I22: IČ: | J22: 27245918
E23: APREA s.r.o. | I23: DIČ: | J23: CZ27245918
D25: Zpracovatel: | I25: IČ:
I26: DIČ:
D28: Poznámka:
D32: Cena bez DPH | J32: =ROUND(J106, 2) -> 0
F34: Základ daně | I34: Sazba daně | J34: Výše daně
D35: DPH | E35: základní | F35: =ROUND((SUM(BE106:BE670)), 2) -> 0 | I35: 0.21 | J35: =ROUND(((SUM(BE106:BE670))*I35), 2) -> 0
E36: snížená | F36: =ROUND((SUM(BF106:BF670)), 2) -> 0 | I36: 0.15 | J36: =ROUND(((SUM(BF106:BF670))*I36), 2) -> 0
E37: zákl. přenesená | F37: =ROUND((SUM(BG106:BG670)), 2) -> 0 | I37: 0.21 | J37: =0 -> 0
E38: sníž. přenesená | F38: =ROUND((SUM(BH106:BH670)), 2) -> 0 | I38: 0.15 | J38: =0 -> 0
E39: nulová | F39: =ROUND((SUM(BI106:BI670)), 2) -> 0 | I39: 0 | J39: =0 -> 0
D41: Cena s DPH | G41: v | H41: CZK | J41: =SUM(J32:J39) -> 0
C47: REKAPITULACE ČLENĚNÍ SOUPISU PRACÍ
C49: Stavba:
E50: =E7 -> Opravy bytových jednotek OŘ Brno - VB ŽST Rousínov č.p.788
C51: Objekt:
E52: E.2 - Pozemní a stavební objekty
C53: Soupis:
E54: =E11 -> SO 01 - Stavební část
C56: Místo: | F56: =F14 -> Rousínov | I56: Datum: | J56: =IF(J14="","",J14) -> 24. 8. 2020
C58: Zadavatel: | F58: =E17 -> Správa železniční dopravní cesty | I58: Projektant: | J58: =E23 -> APREA s.r.o.
C59: Uchazeč: | F59: =IF(E20="","",E20) -> Vyplň údaj | I59: Zpracovatel: | J59: =E26
C61: Kód dílu - Popis | J61: Cena celkem [CZK]
C63: Náklady stavby celkem | J63: =J106 -> 0 | AU63: -1
...

Sheet SO 02 - Zdravotechnika
AT2: {cb4c193c-83f1-4a64-8978-ccd2a30e9919}
AT3: 1
D4: KRYCÍ LIST SOUPISU PRACÍ | M4: v --- níže se nacházejí doplnkové a pomocné údaje k sestavám --- v | AT4: False
D6: Stavba:
E7: ='Rekapitulace stavby'!K6 -> Opravy bytových jednotek OŘ Brno - VB ŽST Rousínov č.p.788
D8: Objekt:
E9: E.2 - Pozemní a stavební objekty
D10: Soupis:
E11: SO 02 - Zdravotechnika
D13: KSO: | I13: CC-CZ:
D14: Místo: | F14: Rousínov | I14: Datum: | J14: ='Rekapitulace stavby'!AN8 -> 24. 8. 2020
D16: Zadavatel: | I16: IČ: | J16: 70994234
E17: Správa železniční dopravní cesty | I17: DIČ: | J17: CZ70994234
D19: Uchazeč: | I19: IČ: | J19: ='Rekapitulace stavby'!AN13 -> Vyplň údaj
E20: ='Rekapitulace stavby'!E14 -> Vyplň údaj | I20: DIČ: | J20: ='Rekapitulace stavby'!AN14 -> Vyplň údaj
D22: Projektant: | I22: IČ: | J22: 27245918
E23: APREA s.r.o. | I23: DIČ: | J23: CZ27245918
D25: Zpracovatel: | I25: IČ:
I26: DIČ:
D28: Poznámka:
D32: Cena bez DPH | J32: =ROUND(J99, 2) -> 0
F34: Základ daně | I34: Sazba daně | J34: Výše daně
D35: DPH | E35: základní | F35: =ROUND((SUM(BE99:BE284)), 2) -> 0 | I35: 0.21 | J35: =ROUND(((SUM(BE99:BE284))*I35), 2) -> 0
E36: snížená | F36: =ROUND((SUM(BF99:BF284)), 2) -> 0 | I36: 0.15 | J36: =ROUND(((SUM(BF99:BF284))*I36), 2) -> 0
E37: zákl. přenesená | F37: =ROUND((SUM(BG99:BG284)), 2) -> 0 | I37: 0.21 | J37: =0 -> 0
E38: sníž. přenesená | F38: =ROUND((SUM(BH99:BH284)), 2) -> 0 | I38: 0.15 | J38: =0 -> 0
E39: nulová | F39: =ROUND((SUM(BI99:BI284)), 2) -> 0 | I39: 0 | J39: =0 -> 0
D41: Cena s DPH | G41: v | H41: CZK | J41: =SUM(J32:J39) -> 0
C47: REKAPITULACE ČLENĚNÍ SOUPISU PRACÍ
C49: Stavba:
E50: =E7 -> Opravy bytových jednotek OŘ Brno - VB ŽST Rousínov č.p.788
C51: Objekt:
E52: E.2 - Pozemní a stavební objekty
C53: Soupis:
E54: =E11 -> SO 02 - Zdravotechnika
C56: Místo: | F56: =F14 -> Rousínov | I56: Datum: | J56: =IF(J14="","",J14) -> 24. 8. 2020
C58: Zadavatel: | F58: =E17 -> Správa železniční dopravní cesty | I58: Projektant: | J58: =E23 -> APREA s.r.o.
C59: Uchazeč: | F59: =IF(E20="","",E20) -> Vyplň údaj | I59: Zpracovatel: | J59: =E26
C61: Kód dílu - Popis | J61: Cena celkem [CZK]
C63: Náklady stavby celkem | J63: =J99 -> 0 | AU63: -1
...

Sheet SO 03 - Ústřední vytápění
AT2: {0e845053-8896-4e14-b0c5-77f6d39cf1d8}
AT3: 1
D4: KRYCÍ LIST SOUPISU PRACÍ | M4: v --- níže se nacházejí doplnkové a pomocné údaje k sestavám --- v | AT4: False
D6: Stavba:
E7: ='Rekapitulace stavby'!K6 -> Opravy bytových jednotek OŘ Brno - VB ŽST Rousínov č.p.788
D8: Objekt:
E9: E.2 - Pozemní a stavební objekty
D10: Soupis:
E11: SO 03 - Ústřední vytápění
D13: KSO: | I13: CC-CZ:
D14: Místo: | F14: Rousínov | I14: Datum: | J14: ='Rekapitulace stavby'!AN8 -> 24. 8. 2020
D16: Zadavatel: | I16: IČ: | J16: 70994234
E17: Správa železniční dopravní cesty | I17: DIČ: | J17: CZ70994234
D19: Uchazeč: | I19: IČ: | J19: ='Rekapitulace stavby'!AN13 -> Vyplň údaj
E20: ='Rekapitulace stavby'!E14 -> Vyplň údaj | I20: DIČ: | J20: ='Rekapitulace stavby'!AN14 -> Vyplň údaj
D22: Projektant: | I22: IČ: | J22: 27245918
E23: APREA s.r.o. | I23: DIČ: | J23: CZ27245918
D25: Zpracovatel: | I25: IČ:
I26: DIČ:
D28: Poznámka:
D32: Cena bez DPH | J32: =ROUND(J91, 2) -> 0
F34: Základ daně | I34: Sazba daně | J34: Výše daně
D35: DPH | E35: základní | F35: =ROUND((SUM(BE91:BE181)), 2) -> 0 | I35: 0.21 | J35: =ROUND(((SUM(BE91:BE181))*I35), 2) -> 0
E36: snížená | F36: =ROUND((SUM(BF91:BF181)), 2) -> 0 | I36: 0.15 | J36: =ROUND(((SUM(BF91:BF181))*I36), 2) -> 0
E37: zákl. přenesená | F37: =ROUND((SUM(BG91:BG181)), 2) -> 0 | I37: 0.21 | J37: =0 -> 0
E38: sníž. přenesená | F38: =ROUND((SUM(BH91:BH181)), 2) -> 0 | I38: 0.15 | J38: =0 -> 0
E39: nulová | F39: =ROUND((SUM(BI91:BI181)), 2) -> 0 | I39: 0 | J39: =0 -> 0
D41: Cena s DPH | G41: v | H41: CZK | J41: =SUM(J32:J39) -> 0
C47: REKAPITULACE ČLENĚNÍ SOUPISU PRACÍ
C49: Stavba:
E50: =E7 -> Opravy bytových jednotek OŘ Brno - VB ŽST Rousínov č.p.788
C51: Objekt:
E52: E.2 - Pozemní a stavební objekty
C53: Soupis:
E54: =E11 -> SO 03 - Ústřední vytápění
C56: Místo: | F56: =F14 -> Rousínov | I56: Datum: | J56: =IF(J14="","",J14) -> 24. 8. 2020
C58: Zadavatel: | F58: =E17 -> Správa železniční dopravní cesty | I58: Projektant: | J58: =E23 -> APREA s.r.o.
C59: Uchazeč: | F59: =IF(E20="","",E20) -> Vyplň údaj | I59: Zpracovatel: | J59: =E26
C61: Kód dílu - Popis | J61: Cena celkem [CZK]
C63: Náklady stavby celkem | J63: =J91 -> 0 | AU63: -1
...

Sheet SO 04 - Vzduchotechnika
AT2: {4984aa92-ebd5-4ab1-a410-d1e1901a8559}
AT3: 1
D4: KRYCÍ LIST SOUPISU PRACÍ | M4: v --- níže se nacházejí doplnkové a pomocné údaje k sestavám --- v | AT4: False
D6: Stavba:
E7: ='Rekapitulace stavby'!K6 -> Opravy bytových jednotek OŘ Brno - VB ŽST Rousínov č.p.788
D8: Objekt:
E9: E.2 - Pozemní a stavební objekty
D10: Soupis:
E11: SO 04 - Vzduchotechnika
D13: KSO: | I13: CC-CZ:
D14: Místo: | F14: Rousínov | I14: Datum: | J14: ='Rekapitulace stavby'!AN8 -> 24. 8. 2020
D16: Zadavatel: | I16: IČ: | J16: 70994234
E17: Správa železniční dopravní cesty | I17: DIČ: | J17: CZ70994234
D19: Uchazeč: | I19: IČ: | J19: ='Rekapitulace stavby'!AN13 -> Vyplň údaj
E20: ='Rekapitulace stavby'!E14 -> Vyplň údaj | I20: DIČ: | J20: ='Rekapitulace stavby'!AN14 -> Vyplň údaj
D22: Projektant: | I22: IČ: | J22: 27245918
E23: APREA s.r.o. | I23: DIČ: | J23: CZ27245918
D25: Zpracovatel: | I25: IČ:
I26: DIČ:
D28: Poznámka:
D32: Cena bez DPH | J32: =ROUND(J88, 2) -> 0
F34: Základ daně | I34: Sazba daně | J34: Výše daně
D35: DPH | E35: základní | F35: =ROUND((SUM(BE88:BE114)), 2) -> 0 | I35: 0.21 | J35: =ROUND(((SUM(BE88:BE114))*I35), 2) -> 0
E36: snížená | F36: =ROUND((SUM(BF88:BF114)), 2) -> 0 | I36: 0.15 | J36: =ROUND(((SUM(BF88:BF114))*I36), 2) -> 0
E37: zákl. přenesená | F37: =ROUND((SUM(BG88:BG114)), 2) -> 0 | I37: 0.21 | J37: =0 -> 0
E38: sníž. přenesená | F38: =ROUND((SUM(BH88:BH114)), 2) -> 0 | I38: 0.15 | J38: =0 -> 0
E39: nulová | F39: =ROUND((SUM(BI88:BI114)), 2) -> 0 | I39: 0 | J39: =0 -> 0
D41: Cena s DPH | G41: v | H41: CZK | J41: =SUM(J32:J39) -> 0
C47: REKAPITULACE ČLENĚNÍ SOUPISU PRACÍ
C49: Stavba:
E50: =E7 -> Opravy bytových jednotek OŘ Brno - VB ŽST Rousínov č.p.788
C51: Objekt:
E52: E.2 - Pozemní a stavební objekty
C53: Soupis:
E54: =E11 -> SO 04 - Vzduchotechnika
C56: Místo: | F56: =F14 -> Rousínov | I56: Datum: | J56: =IF(J14="","",J14) -> 24. 8. 2020
C58: Zadavatel: | F58: =E17 -> Správa železniční dopravní cesty | I58: Projektant: | J58: =E23 -> APREA s.r.o.
C59: Uchazeč: | F59: =IF(E20="","",E20) -> Vyplň údaj | I59: Zpracovatel: | J59: =E26
C61: Kód dílu - Popis | J61: Cena celkem [CZK]
C63: Náklady stavby celkem | J63: =J88 -> 0 | AU63: -1
...

Sheet SO 05 - Elektroinstalace
AT2: {04c77b53-8d6e-415d-ada3-7f209adaa493}
AT3: 1
D4: KRYCÍ LIST SOUPISU PRACÍ | M4: v --- níže se nacházejí doplnkové a pomocné údaje k sestavám --- v | AT4: False
D6: Stavba:
E7: ='Rekapitulace stavby'!K6 -> Opravy bytových jednotek OŘ Brno - VB ŽST Rousínov č.p.788
D8: Objekt:
E9: E.2 - Pozemní a stavební objekty
D10: Soupis:
E11: SO 05 - Elektroinstalace
D13: KSO: | I13: CC-CZ:
D14: Místo: | F14: Rousínov | I14: Datum: | J14: ='Rekapitulace stavby'!AN8 -> 24. 8. 2020
D16: Zadavatel: | I16: IČ: | J16: 70994234
E17: Správa železniční dopravní cesty | I17: DIČ: | J17: CZ70994234
D19: Uchazeč: | I19: IČ: | J19: ='Rekapitulace stavby'!AN13 -> Vyplň údaj
E20: ='Rekapitulace stavby'!E14 -> Vyplň údaj | I20: DIČ: | J20: ='Rekapitulace stavby'!AN14 -> Vyplň údaj
D22: Projektant: | I22: IČ: | J22: 27245918
E23: APREA s.r.o. | I23: DIČ: | J23: CZ27245918
D25: Zpracovatel: | I25: IČ:
I26: DIČ:
D28: Poznámka:
D32: Cena bez DPH | J32: =ROUND(J92, 2) -> 0
F34: Základ daně | I34: Sazba daně | J34: Výše daně
D35: DPH | E35: základní | F35: =ROUND((SUM(BE92:BE176)), 2) -> 0 | I35: 0.21 | J35: =ROUND(((SUM(BE92:BE176))*I35), 2) -> 0
E36: snížená | F36: =ROUND((SUM(BF92:BF176)), 2) -> 0 | I36: 0.15 | J36: =ROUND(((SUM(BF92:BF176))*I36), 2) -> 0
E37: zákl. přenesená | F37: =ROUND((SUM(BG92:BG176)), 2) -> 0 | I37: 0.21 | J37: =0 -> 0
E38: sníž. přenesená | F38: =ROUND((SUM(BH92:BH176)), 2) -> 0 | I38: 0.15 | J38: =0 -> 0
E39: nulová | F39: =ROUND((SUM(BI92:BI176)), 2) -> 0 | I39: 0 | J39: =0 -> 0
D41: Cena s DPH | G41: v | H41: CZK | J41: =SUM(J32:J39) -> 0
C47: REKAPITULACE ČLENĚNÍ SOUPISU PRACÍ
C49: Stavba:
E50: =E7 -> Opravy bytových jednotek OŘ Brno - VB ŽST Rousínov č.p.788
C51: Objekt:
E52: E.2 - Pozemní a stavební objekty
C53: Soupis:
E54: =E11 -> SO 05 - Elektroinstalace
C56: Místo: | F56: =F14 -> Rousínov | I56: Datum: | J56: =IF(J14="","",J14) -> 24. 8. 2020
C58: Zadavatel: | F58: =E17 -> Správa železniční dopravní cesty | I58: Projektant: | J58: =E23 -> APREA s.r.o.
C59: Uchazeč: | F59: =IF(E20="","",E20) -> Vyplň údaj | I59: Zpracovatel: | J59: =E26
C61: Kód dílu - Popis | J61: Cena celkem [CZK]
C63: Náklady stavby celkem | J63: =J92 -> 0 | AU63: -1
...

Sheet SO 98-98 - Všeobecný objekt
AT2: {043aeea0-9950-4c1c-9bdc-9232304c262c}
AT3: 1
D4: KRYCÍ LIST SOUPISU PRACÍ | M4: v --- níže se nacházejí doplnkové a pomocné údaje k sestavám --- v | AT4: False
D6: Stavba:
E7: ='Rekapitulace stavby'!K6 -> Opravy bytových jednotek OŘ Brno - VB ŽST Rousínov č.p.788
D8: Objekt:
E9: E.2 - Pozemní a stavební objekty
D10: Soupis:
E11: SO 98-98 - Všeobecný objekt
D13: KSO: | I13: CC-CZ:
D14: Místo: | F14: Rousínov | I14: Datum: | J14: ='Rekapitulace stavby'!AN8 -> 24. 8. 2020
D16: Zadavatel: | I16: IČ: | J16: 70994234
E17: Správa železniční dopravní cesty | I17: DIČ: | J17: CZ70994234
D19: Uchazeč: | I19: IČ: | J19: ='Rekapitulace stavby'!AN13 -> Vyplň údaj
E20: ='Rekapitulace stavby'!E14 -> Vyplň údaj | I20: DIČ: | J20: ='Rekapitulace stavby'!AN14 -> Vyplň údaj
D22: Projektant: | I22: IČ: | J22: 27245918
E23: APREA s.r.o. | I23: DIČ: | J23: CZ27245918
D25: Zpracovatel: | I25: IČ:
I26: DIČ:
D28: Poznámka:
D32: Cena bez DPH | J32: =ROUND(J87, 2) -> 0
F34: Základ daně | I34: Sazba daně | J34: Výše daně
D35: DPH | E35: základní | F35: =ROUND((SUM(BE87:BE99)), 2) -> 0 | I35: 0.21 | J35: =ROUND(((SUM(BE87:BE99))*I35), 2) -> 0
E36: snížená | F36: =ROUND((SUM(BF87:BF99)), 2) -> 0 | I36: 0.15 | J36: =ROUND(((SUM(BF87:BF99))*I36), 2) -> 0
E37: zákl. přenesená | F37: =ROUND((SUM(BG87:BG99)), 2) -> 0 | I37: 0.21 | J37: =0 -> 0
E38: sníž. přenesená | F38: =ROUND((SUM(BH87:BH99)), 2) -> 0 | I38: 0.15 | J38: =0 -> 0
E39: nulová | F39: =ROUND((SUM(BI87:BI99)), 2) -> 0 | I39: 0 | J39: =0 -> 0
D41: Cena s DPH | G41: v | H41: CZK | J41: =SUM(J32:J39) -> 0
C47: REKAPITULACE ČLENĚNÍ SOUPISU PRACÍ
C49: Stavba:
E50: =E7 -> Opravy bytových jednotek OŘ Brno - VB ŽST Rousínov č.p.788
C51: Objekt:
E52: E.2 - Pozemní a stavební objekty
C53: Soupis:
E54: =E11 -> SO 98-98 - Všeobecný objekt
C56: Místo: | F56: =F14 -> Rousínov | I56: Datum: | J56: =IF(J14="","",J14) -> 24. 8. 2020
C58: Zadavatel: | F58: =E17 -> Správa železniční dopravní cesty | I58: Projektant: | J58: =E23 -> APREA s.r.o.
C59: Uchazeč: | F59: =IF(E20="","",E20) -> Vyplň údaj | I59: Zpracovatel: | J59: =E26
C61: Kód dílu - Popis | J61: Cena celkem [CZK]
C63: Náklady stavby celkem | J63: =J87 -> 0 | AU63: -1
...

Sheet Pokyny pro vyplnění
C3: Struktura údajů, formát souboru a metodika pro zpracování
C4: Struktura
C6: Soubor je složen ze záložky Rekapitulace stavby a záložek s názvem soupisu prací pro jednotlivé objekty ve formátu XLSX. Každá ze záložek přitom obsahuje
C7: ještě samostatné sestavy vymezené orámovaním a nadpisem sestavy.
C9: Rekapitulace stavby obsahuje sestavu Rekapitulace stavby a Rekapitulace objektů stavby a soupisů prací.
D10: V sestavě Rekapitulace stavby jsou uvedeny informace identifikující předmět veřejné zakázky na stavební práce, KSO, CC-CZ, CZ-CPV, CZ-CPA a rekapitulaci
D11: celkové nabídkové ceny uchazeče.
D13: Termínem "uchazeč" (resp. zhotovitel) se myslí "účastník zadávacího řízení" ve smyslu zákona o zadávání veřejných zakázek.
D15: V sestavě Rekapitulace objektů stavby a soupisů prací je uvedena rekapitulace stavebních objektů, inženýrských objektů, provozních souborů,
D16: vedlejších a ostatních nákladů a ostatních nákladů s rekapitulací nabídkové ceny za jednotlivé soupisy prací. Na základě údaje Typ je možné
D17: identifikovat, zda se jedná o objekt nebo soupis prací pro daný objekt:
E18: STA | F18: Stavební objekt pozemní
E19: ING | F19: Stavební objekt inženýrský
E20: PRO | F20: Provozní soubor
E21: VON | F21: Vedlejší a ostatní náklady
E22: OST | F22: Ostatní
E23: Soupis | F23: Soupis prací pro daný typ objektu
C25: Soupis prací pro jednotlivé objekty obsahuje sestavy Krycí list soupisu prací, Rekapitulace členění soupisu prací, Soupis prací. Za soupis prací může být považován
C26: i objekt stavby v případě, že neobsahuje podřízenou zakázku.
D27: Krycí list soupisu obsahuje rekapitulaci informací o předmětu veřejné zakázky ze sestavy Rekapitulace stavby, informaci o zařazení objektu do KSO,
D28: CC-CZ, CZ-CPV, CZ-CPA a rekapitulaci celkové nabídkové ceny uchazeče za aktuální soupis prací.
D30: Rekapitulace členění soupisu prací obsahuje rekapitulaci soupisu prací ve všech úrovních členění soupisu tak, jak byla tato členění použita (např.
D31: stavební díly, funkční díly, případně jiné členění) s rekapitulací nabídkové ceny.
D33: Soupis prací obsahuje položky veškerých stavebních nebo montážních prací, dodávek materiálů a služeb nezbytných pro zhotovení stavebního objektu,
D34: inženýrského objektu, provozního souboru, vedlejších a ostatních nákladů.
D35: Pro položky soupisu prací se zobrazují následující informace:
E36: PČ | G36: Pořadové číslo položky v aktuálním soupisu
E37: TYP | G37: Typ položky: K - konstrukce, M - materiál, PP - plný popis, PSC - poznámka k souboru cen, P - poznámka k položce, VV - výkaz výměr
E38: Kód | G38: Kód položky
E39: Popis | G39: Zkrácený popis položky
E40: MJ | G40: Měrná jednotka položky
E41: Množství | G41: Množství v měrné jednotce
E42: J.cena | G42: Jednotková cena položky. Zadaní může obsahovat namísto J.ceny sloupce J.materiál a J.montáž, jejichž součet definuje
G43: J.cenu položky.
E44: Cena celkem | G44: Celková cena položky daná jako součin množství a j.ceny
E45: Cenová soustava | G45: Příslušnost položky do cenové soustavy
D47: Ke každé položce soupisu prací se na samostatných řádcích může zobrazovat:
E48: Plný popis položky
E49: Poznámka k souboru cen a poznámka zadavatele
E50: Výkaz výměr
...
